Workbook

Sheet Orçamento Inicial
A2: ESTADO DE MATO GROSSO DO SUL
A3: MUNICÍPIO DE CORUMBÁ
A4: .
A5: Orçamento Inicial - Analítico - Método Truncado
A7: Objeto: | B7: LOTE 08 - CARNAVAL
A8: Município: | B8: Corumbá/MS
A9: Local: | B9: Rua General Rondon, S/N
A10: BDI: | B10: BDI ONERADO 20,49% - SERVIÇOS - 1º QUARTIL ACÓRDÃO 2622/2013 (20,49%)
A11: Prazo exec.: | B11: 30 dias
A12: Sist./Ref.: | B12: CORUMBÁ CIVIL (fev/2026), SINAPI - Sist. Nac. de Pesq. de Custos e Índ. da Const. Civil (fev/2026)
A13: Item | B13: Descrição | C13: DMT | D13: Unid. | E13: Qtde. | F13: Custo Unitário | G13: Preço Unitário | H13: Preço Total | I13: Sistema | J13: BDI's | M13: Referência
A14: Cód. Oficial | J14: Material | K14: Mão de Obra | L14: Equipamento
A15: 01 | B15: INSTALAÇÕES ELÉTRICAS
A16: 01.01 C01 Ev | B16: FORNECIMENTO DE DUPLA DE ELETRICISTAS, PROVIDOS DE FERRAMENTAS, EPIS EM CONFORMIDADE COM A NR10 E TRANSPORTE (VIATURA PROVIDA DE DE ESCADAS E EPCS) - PLANTÃO DURANTE OS EVENTOS PARA ATENDER AS SOLICITAÇÕES DA CONTRATANTE | D16: h | E16: 168 | F16: 152.39 | G16: 183.61 | H16: 30846.48 | I16: CORUMBÁ CIVIL | J16: 108-BDI ONERADO 20,49% - SERVIÇOS - 1º QUARTIL ACÓRDÃO 2622/2013 ( 20,49% ) | K16: 108-BDI ONERADO 20,49% - SERVIÇOS - 1º QUARTIL ACÓRDÃO 2622/2013 ( 20,49% ) | L16: 108-BDI ONERADO 20,49% - SERVIÇOS - 1º QUARTIL ACÓRDÃO 2622/2013 ( 20,49% ) | M16: 01/02/2026
A17: 01.02 1004202601 | B17: CABO DE ALUMINIO NU SEM ALMA DE ACO, BITOLA 1/0AWG/50 MM2 (4 CONDUTORES MULTIPLEXADOS) -FORNECIMENTO E INSTALAÇÃO COM POSTERIOR RETIRADA. | D17: kg | E17: 400 | F17: 223.27 | G17: 269.01 | H17: 107604 | I17: CORUMBÁ CIVIL | J17: 108-BDI ONERADO 20,49% - SERVIÇOS - 1º QUARTIL ACÓRDÃO 2622/2013 ( 20,49% ) | K17: 108-BDI ONERADO 20,49% - SERVIÇOS - 1º QUARTIL ACÓRDÃO 2622/2013 ( 20,49% ) | L17: 108-BDI ONERADO 20,49% - SERVIÇOS - 1º QUARTIL ACÓRDÃO 2622/2013 ( 20,49% ) | M17: 01/02/2026
A18: 01.03 1004202602 | B18: INSTALAÇÕES ELÉTRICAS PROVISÓRIAS EM BARRACAS E/OU TENDAS E CAMAROTES. | D18: un | E18: 120 | F18: 221.66 | G18: 267.07 | H18: 32048.4 | I18: CORUMBÁ CIVIL | J18: 108-BDI ONERADO 20,49% - SERVIÇOS - 1º QUARTIL ACÓRDÃO 2622/2013 ( 20,49% ) | K18: 108-BDI ONERADO 20,49% - SERVIÇOS - 1º QUARTIL ACÓRDÃO 2622/2013 ( 20,49% ) | L18: 108-BDI ONERADO 20,49% - SERVIÇOS - 1º QUARTIL ACÓRDÃO 2622/2013 ( 20,49% ) | M18: 01/02/2026
A19: 01.04 1004202603 | B19: ENTRADA DE ENERGIA ELÉTRICA, AÉREA, TRIFÁSICA, COM CAIXA DE SOBREPOR, CABO DE 35 MM2 E DISJUNTOR NEMA DE 60 ATÉ 100A (NÃO INCLUSO O POSTE DE CONCRETO). AF_07/2020_PS COM POSTERIOR RETIRADA – RAMAL PROVISÓRIO | D19: un | E19: 15 | F19: 1837.84 | G19: 2214.41 | H19: 33216.15 | I19: CORUMBÁ CIVIL | J19: 108-BDI ONERADO 20,49% - SERVIÇOS - 1º QUARTIL ACÓRDÃO 2622/2013 ( 20,49% ) | K19: 108-BDI ONERADO 20,49% - SERVIÇOS - 1º QUARTIL ACÓRDÃO 2622/2013 ( 20,49% ) | L19: 108-BDI ONERADO 20,49% - SERVIÇOS - 1º QUARTIL ACÓRDÃO 2622/2013 ( 20,49% ) | M19: 01/02/2026
A20: 01.05 1004202604 | B20: INSTALAÇÃO COM POSTERIOR RETIRADA DE CONJUNTO DE LUMINÁRIAS LED DE REFORÇO DE ILUMINAÇÃO DA PASSARELA DO SAMBA, PORTO GERAL E DEMAIS EVENTOS (INCLUINDO POSTE) | D20: un | E20: 25 | F20: 6473.25 | G20: 7799.61 | H20: 194990.25 | I20: CORUMBÁ CIVIL | J20: 108-BDI ONERADO 20,49% - SERVIÇOS - 1º QUARTIL ACÓRDÃO 2622/2013 ( 20,49% ) | K20: 108-BDI ONERADO 20,49% - SERVIÇOS - 1º QUARTIL ACÓRDÃO 2622/2013 ( 20,49% ) | L20: 108-BDI ONERADO 20,49% - SERVIÇOS - 1º QUARTIL ACÓRDÃO 2622/2013 ( 20,49% ) | M20: 01/02/2026
A21: 01.06 1004202605 | B21: INSTALAÇÃO DE LUMINÁRIA LED 35 WATTS PARA REFORÇO DE ILUMINAÇÃO DA PASSARELA DO SAMBA, EM FRENTE AOS CAMAROTES, COM POSTERIOR RETIRADA | D21: un | E21: 32 | F21: 167.58 | G21: 201.91 | H21: 6461.12 | I21: CORUMBÁ CIVIL | J21: 108-BDI ONERADO 20,49% - SERVIÇOS - 1º QUARTIL ACÓRDÃO 2622/2013 ( 20,49% ) | K21: 108-BDI ONERADO 20,49% - SERVIÇOS - 1º QUARTIL ACÓRDÃO 2622/2013 ( 20,49% ) | L21: 108-BDI ONERADO 20,49% - SERVIÇOS - 1º QUARTIL ACÓRDÃO 2622/2013 ( 20,49% ) | M21: 01/02/2026
A22: 01.07 1004202606 | B22: INSTALAÇÃO, EM POSTE, (CONCRETO OU METÁLICO) DE PROJETOR LED PARA MELHORIA DE ILUMINAÇÃO – (NÃO INCLUI POSTE) | D22: un | E22: 25 | F22: 1002.69 | G22: 1208.14 | H22: 30203.5 | I22: CORUMBÁ CIVIL | J22: 108-BDI ONERADO 20,49% - SERVIÇOS - 1º QUARTIL ACÓRDÃO 2622/2013 ( 20,49% ) | K22: 108-BDI ONERADO 20,49% - SERVIÇOS - 1º QUARTIL ACÓRDÃO 2622/2013 ( 20,49% ) | L22: 108-BDI ONERADO 20,49% - SERVIÇOS - 1º QUARTIL ACÓRDÃO 2622/2013 ( 20,49% ) | M22: 01/02/2026
A23: 01.08 105955 | B23: Poste de aço cônico contínuo reto, engastamento simples com 1 m de solo, h=9m - fornecimento e instalação. Af_04/2025 | D23: un | E23: 25 | F23: 2558.24 | G23: 3082.42 | H23: 77060.5 | I23: SINAPI - Sist. Nac. de Pesq. de Custos e Índ. da Const. Civil | J23: 108-BDI ONERADO 20,49% - SERVIÇOS - 1º QUARTIL ACÓRDÃO 2622/2013 ( 20,49% ) | K23: 108-BDI ONERADO 20,49% - SERVIÇOS - 1º QUARTIL ACÓRDÃO 2622/2013 ( 20,49% ) | L23: 108-BDI ONERADO 20,49% - SERVIÇOS - 1º QUARTIL ACÓRDÃO 2622/2013 ( 20,49% ) | M23: 01/02/2026
A24: 01.09 1004202607 | B24: INSTALAÇÃO PROVISÓRIA, COM POSTERIOR RETIRADA, PARA ATENDIMENTO DE FOOD TRUCK | D24: un | E24: 10 | F24: 239.82 | G24: 288.95 | H24: 2889.5 | I24: CORUMBÁ CIVIL | J24: 108-BDI ONERADO 20,49% - SERVIÇOS - 1º QUARTIL ACÓRDÃO 2622/2013 ( 20,49% ) | K24: 108-BDI ONERADO 20,49% - SERVIÇOS - 1º QUARTIL ACÓRDÃO 2622/2013 ( 20,49% ) | L24: 108-BDI ONERADO 20,49% - SERVIÇOS - 1º QUARTIL ACÓRDÃO 2622/2013 ( 20,49% ) | M24: 01/02/2026
A25: 01.10 1004202608 | B25: DISPONIBILIZAÇÃO DE EQUIPE COM GUINDAUTO | D25: h | E25: 40 | F25: 332.28 | G25: 400.36 | H25: 16014.4 | I25: CORUMBÁ CIVIL | J25: 108-BDI ONERADO 20,49% - SERVIÇOS - 1º QUARTIL ACÓRDÃO 2622/2013 ( 20,49% ) | K25: 108-BDI ONERADO 20,49% - SERVIÇOS - 1º QUARTIL ACÓRDÃO 2622/2013 ( 20,49% ) | L25: 108-BDI ONERADO 20,49% - SERVIÇOS - 1º QUARTIL ACÓRDÃO 2622/2013 ( 20,49% ) | M25: 01/02/2026
A26: 01.11 1004202609 | B26: TRANSFORMADOR DE DISTRIBUIÇÃO, 150 KVA, TRIFÁSICO, 60 HZ, CLASSE 15 KV, IMERSO EM ÓLEO MINERAL, INSTALAÇÃO EM POSTE (NÃO INCLUSO SUPORTE) - FORNECIMENTO E INSTALAÇÃO. | D26: un | E26: 1 | F26: 37023.93 | G26: 44610.13 | H26: 44610.13 | I26: CORUMBÁ CIVIL | J26: 108-BDI ONERADO 20,49% - SERVIÇOS - 1º QUARTIL ACÓRDÃO 2622/2013 ( 20,49% ) | K26: 108-BDI ONERADO 20,49% - SERVIÇOS - 1º QUARTIL ACÓRDÃO 2622/2013 ( 20,49% ) | L26: 108-BDI ONERADO 20,49% - SERVIÇOS - 1º QUARTIL ACÓRDÃO 2622/2013 ( 20,49% ) | M26: 01/02/2026
A27: 01.12 1004202610 | B27: TRANSFORMADOR DE DISTRIBUIÇÃO, 112,5 KVA, TRIFÁSICO, 60 HZ, CLASSE 15 KV, IMERSO EM ÓLEO MINERAL, INSTALAÇÃO EM POSTE (NÃO INCLUSO SUPORTE) - FORNECIMENTO E INSTALAÇÃO. | D27: un | E27: 1 | F27: 29527.73 | G27: 35577.96 | H27: 35577.96 | I27: CORUMBÁ CIVIL | J27: 108-BDI ONERADO 20,49% - SERVIÇOS - 1º QUARTIL ACÓRDÃO 2622/2013 ( 20,49% ) | K27: 108-BDI ONERADO 20,49% - SERVIÇOS - 1º QUARTIL ACÓRDÃO 2622/2013 ( 20,49% ) | L27: 108-BDI ONERADO 20,49% - SERVIÇOS - 1º QUARTIL ACÓRDÃO 2622/2013 ( 20,49% ) | M27: 01/02/2026
B28: Total - INSTALAÇÕES ELÉTRICAS | H28: 611522.39
C29: Total Geral | H29: 611522.39

Sheet Composições Principais
A1: C01 Ev - FORNECIMENTO DE DUPLA DE ELETRICISTAS, PROVIDOS DE FERRAMENTAS, EPIS EM CONFORMIDADE COM A NR10 E TRANSPORTE (VIATURA PROVIDA DE DE ESCADAS E EPCS) - PLANTÃO DURANTE OS EVENTOS PARA ATENDER AS SOLICITAÇÕES DA CONTRATANTE ( h )
A2: Sistema: CORUMBÁ CIVIL - 01/02/2026
A3: Utilizado no(s) item(ns) 01.01
A4: Código | B4: Descrição | C4: Unidade | D4: Quantidade | E4: Utilização Operativa | F4: Utilização Improdutiva | G4: Valor Operativo | H4: Valor Improdutivo | I4: Valor Item
A5: 88247 | B5: Auxiliar de eletricista com encargos complementares | C5: h | D5: 1 | E5: 1 | F5: 0 | G5: 23.83 | H5: 0 | I5: 23.83
A6: 92138 | B6: Caminhonete com motor a diesel, potencia 180 cv, cabine dupla, 4x4 - chp diurno. Af_11/2015 | C6: chp | D6: 1 | E6: 1 | F6: 0 | G6: 97.42 | H6: 0 | I6: 97.42
A7: 88264 | B7: Eletricista com encargos complementares | C7: h | D7: 1 | E7: 1 | F7: 0 | G7: 31.14 | H7: 0 | I7: 31.14
H8: Custo Unitário | I8: 152.39
H9: BDI | I9: 20.49
H10: Preço Unitário | I10: 183.61
A13: 1004202601 - CABO DE ALUMINIO NU SEM ALMA DE ACO, BITOLA 1/0AWG/50 MM2 (4 CONDUTORES MULTIPLEXADOS) -FORNECIMENTO E INSTALAÇÃO COM POSTERIOR RETIRADA. ( kg )
A14: Sistema: CORUMBÁ CIVIL - 01/02/2026
A15: Utilizado no(s) item(ns) 01.02
A16: Código | B16: Descrição | C16: Unidade | D16: Quantidade | E16: Utilização Operativa | F16: Utilização Improdutiva | G16: Valor Operativo | H16: Valor Improdutivo | I16: Valor Item
A17: 25005 | B17: Cabo de alumínio nu sem alma de aço, bitola 1/0 awg | C17: kg | D17: 1.04 | E17: 1 | F17: 0 | G17: 64.83 | H17: 0 | I17: 67.42
A18: 1562 | B18: Conector metalico tipo parafuso fendido (split bolt), com separador de cabos bimetalicos, para cabos ate 50 mm2 | C18: un | D18: 3 | E18: 1 | F18: 0 | G18: 18.9 | H18: 0 | I18: 56.7
A19: 21127 | B19: Fita isolante adesiva antichama, uso até 750 v, em rolo de 19 mm x 5 m | C19: un | D19: 0.014 | E19: 1 | F19: 0 | G19: 6.44 | H19: 0 | I19: 0.09
A20: 88247 | B20: Auxiliar de eletricista com encargos complementares | C20: h | D20: 0.03 | E20: 1 | F20: 0 | G20: 23.83 | H20: 0 | I20: 0.71
A21: 92138 | B21: Caminhonete com motor a diesel, potencia 180 cv, cabine dupla, 4x4 - chp diurno. Af_11/2015 | C21: chp | D21: 1 | E21: 1 | F21: 0 | G21: 97.42 | H21: 0 | I21: 97.42
A22: 88264 | B22: Eletricista com encargos complementares | C22: h | D22: 0.03 | E22: 1 | F22: 0 | G22: 31.14 | H22: 0 | I22: 0.93
H23: Custo Unitário | I23: 223.27
H24: BDI | I24: 20.49
H25: Preço Unitário | I25: 269.01
A28: 1004202602 - INSTALAÇÕES ELÉTRICAS PROVISÓRIAS EM BARRACAS E/OU TENDAS E CAMAROTES. ( un )
A29: Sistema: CORUMBÁ CIVIL - 01/02/2026
A30: Utilizado no(s) item(ns) 01.03
A31: Código | B31: Descrição | C31: Unidade | D31: Quantidade | E31: Utilização Operativa | F31: Utilização Improdutiva | G31: Valor Operativo | H31: Valor Improdutivo | I31: Valor Item
A32: 1562 | B32: Conector metalico tipo parafuso fendido (split bolt), com separador de cabos bimetalicos, para cabos ate 50 mm2 | C32: un | D32: 3 | E32: 1 | F32: 0 | G32: 18.9 | H32: 0 | I32: 56.7
A33: 21127 | B33: Fita isolante adesiva antichama, uso até 750 v, em rolo de 19 mm x 5 m | C33: un | D33: 0.014 | E33: 1 | F33: 0 | G33: 6.44 | H33: 0 | I33: 0.09
A34: 91928 | B34: Cabo de cobre flexível isolado, 4 mm², anti-chama 450/750 v, para circuitos terminais - fornecimento e instalação. Af_03/2023 | C34: m | D34: 1 | E34: 1 | F34: 0 | G34: 7.78 | H34: 0 | I34: 7.78
A35: 91857 | B35: Eletroduto flexível corrugado reforçado, pvc, dn 32 mm (1"), para circuitos terminais, instalado em parede - fornecimento e instalação. Af_03/2023 | C35: m | D35: 1 | E35: 1 | F35: 0 | G35: 16.37 | H35: 0 | I35: 16.37
A36: 97610 | B36: Lâmpada compacta de led 10 w, base e27 - fornecimento e instalação. Af_09/2024 | C36: un | D36: 2 | E36: 1 | F36: 0 | G36: 14.5 | H36: 0 | I36: 29
A37: 92004 | B37: Tomada média de embutir (2 módulos), 2p+t 10 a, incluindo suporte e placa - fornecimento e instalação. Af_03/2023 | C37: un | D37: 2 | E37: 1 | F37: 0 | G37: 55.86 | H37: 0 | I37: 111.72
H38: Custo Unitário | I38: 221.66
H39: BDI | I39: 20.49
H40: Preço Unitário | I40: 267.07
A43: 1004202603 - ENTRADA DE ENERGIA ELÉTRICA, AÉREA, TRIFÁSICA, COM CAIXA DE SOBREPOR, CABO DE 35 MM2 E DISJUNTOR NEMA DE 60 ATÉ 100A (NÃO INCLUSO O POSTE DE CONCRETO). AF_07/2020_PS COM POSTERIOR RETIRADA – RAMAL PROVISÓRIO ( un )
A44: Sistema: CORUMBÁ CIVIL - 01/02/2026
A45: Utilizado no(s) item(ns) 01.04
A46: Código | B46: Descrição | C46: Unidade | D46: Quantidade | E46: Utilização Operativa | F46: Utilização Improdutiva | G46: Valor Operativo | H46: Valor Improdutivo | I46: Valor Item
...

Sheet Composições Auxiliares
A1: 88247 - Auxiliar de eletricista com encargos complementares ( h )
A2: Sistema: SINAPI - Sist. Nac. de Pesq. de Custos e Índ. da Const. Civil - 01/02/2026
A3: Utilizado no(s) item(ns) 88247
A4: Código | B4: Descrição | C4: Unidade | D4: Quantidade | E4: Utilização Operativa | F4: Utilização Improdutiva | G4: Valor Operativo | H4: Valor Improdutivo | I4: Valor Item
A5: 247 | B5: Ajudante de eletricista (horista) | C5: h | D5: 1 | E5: 1 | F5: 0 | G5: 16.5 | H5: 0 | I5: 16.5
A6: 37370 | B6: Alimentacao - horista (coletado caixa - encargos complementares) | C6: h | D6: 1 | E6: 1 | F6: 0 | G6: 1.73 | H6: 0 | I6: 1.73
A7: 37372 | B7: Exames - horista (coletado caixa - encargos complementares) | C7: h | D7: 1 | E7: 1 | F7: 0 | G7: 1.67 | H7: 0 | I7: 1.67
A8: 37373 | B8: Seguro - horista (coletado caixa - encargos complementares) | C8: h | D8: 1 | E8: 1 | F8: 0 | G8: 0.11 | H8: 0 | I8: 0.11
A9: 37371 | B9: Transporte - horista (coletado caixa - encargos complementares) | C9: h | D9: 1 | E9: 1 | F9: 0 | G9: 1.04 | H9: 0 | I9: 1.04
A10: 43484 | B10: Epi - família eletricista - horista (encargos complementares - coletado caixa) | C10: h | D10: 1 | E10: 1 | F10: 0 | G10: 1.34 | H10: 0 | I10: 1.34
A11: 43460 | B11: Ferramentas - família eletricista - horista (encargos complementares - coletado caixa) | C11: h | D11: 1 | E11: 1 | F11: 0 | G11: 0.83 | H11: 0 | I11: 0.83
A12: 95316 | B12: Curso de capacitação para auxiliar de eletricista (encargos complementares) - horista | C12: h | D12: 1 | E12: 1 | F12: 0 | G12: 0.61 | H12: 0 | I12: 0.61
A15: 92138 - Caminhonete com motor a diesel, potencia 180 cv, cabine dupla, 4x4 - chp diurno. Af_11/2015 ( chp )
A16: Sistema: SINAPI - Sist. Nac. de Pesq. de Custos e Índ. da Const. Civil - 01/02/2026
A17: Utilizado no(s) item(ns) 92138
A18: Código | B18: Descrição | C18: Unidade | D18: Quantidade | E18: Utilização Operativa | F18: Utilização Improdutiva | G18: Valor Operativo | H18: Valor Improdutivo | I18: Valor Item
A19: 92133 | B19: Caminhonete com motor a diesel, potencia 180 cv, cabine dupla, 4x4 - depreciação. Af_11/2015 | C19: h | D19: 1 | E19: 1 | F19: 0 | G19: 13.55 | H19: 0 | I19: 13.55
A20: 92135 | B20: Caminhonete com motor a diesel, potencia 180 cv, cabine dupla, 4x4 - impostos e seguros. Af_11/2015 | C20: h | D20: 1 | E20: 1 | F20: 0 | G20: 1.69 | H20: 0 | I20: 1.69
A21: 92134 | B21: Caminhonete com motor a diesel, potencia 180 cv, cabine dupla, 4x4 - juros. Af_11/2015 | C21: h | D21: 1 | E21: 1 | F21: 0 | G21: 4.18 | H21: 0 | I21: 4.18
A22: 92136 | B22: Caminhonete com motor a diesel, potencia 180 cv, cabine dupla, 4x4 - manutenção. Af_11/2015 | C22: h | D22: 1 | E22: 1 | F22: 0 | G22: 16.94 | H22: 0 | I22: 16.94
A23: 92137 | B23: Caminhonete com motor a diesel, potencia 180 cv, cabine dupla, 4x4 - materiais na operação. Af_11/2015 | C23: h | D23: 1 | E23: 1 | F23: 0 | G23: 35.22 | H23: 0 | I23: 35.22
A24: 88284 | B24: Motorista de veículo leve com encargos complementares | C24: h | D24: 1 | E24: 1 | F24: 0 | G24: 25.84 | H24: 0 | I24: 25.84
A27: 88264 - Eletricista com encargos complementares ( h )
A28: Sistema: SINAPI - Sist. Nac. de Pesq. de Custos e Índ. da Const. Civil - 01/02/2026
A29: Utilizado no(s) item(ns) 88264
A30: Código | B30: Descrição | C30: Unidade | D30: Quantidade | E30: Utilização Operativa | F30: Utilização Improdutiva | G30: Valor Operativo | H30: Valor Improdutivo | I30: Valor Item
A31: 37370 | B31: Alimentacao - horista (coletado caixa - encargos complementares) | C31: h | D31: 1 | E31: 1 | F31: 0 | G31: 1.73 | H31: 0 | I31: 1.73
A32: 2436 | B32: Eletricista (horista) | C32: h | D32: 1 | E32: 1 | F32: 0 | G32: 23.55 | H32: 0 | I32: 23.55
A33: 37372 | B33: Exames - horista (coletado caixa - encargos complementares) | C33: h | D33: 1 | E33: 1 | F33: 0 | G33: 1.67 | H33: 0 | I33: 1.67
A34: 37373 | B34: Seguro - horista (coletado caixa - encargos complementares) | C34: h | D34: 1 | E34: 1 | F34: 0 | G34: 0.11 | H34: 0 | I34: 0.11
A35: 37371 | B35: Transporte - horista (coletado caixa - encargos complementares) | C35: h | D35: 1 | E35: 1 | F35: 0 | G35: 1.04 | H35: 0 | I35: 1.04
A36: 43484 | B36: Epi - família eletricista - horista (encargos complementares - coletado caixa) | C36: h | D36: 1 | E36: 1 | F36: 0 | G36: 1.34 | H36: 0 | I36: 1.34
A37: 43460 | B37: Ferramentas - família eletricista - horista (encargos complementares - coletado caixa) | C37: h | D37: 1 | E37: 1 | F37: 0 | G37: 0.83 | H37: 0 | I37: 0.83
A38: 95332 | B38: Curso de capacitação para eletricista (encargos complementares) - horista | C38: h | D38: 1 | E38: 1 | F38: 0 | G38: 0.87 | H38: 0 | I38: 0.87
A41: 92133 - Caminhonete com motor a diesel, potencia 180 cv, cabine dupla, 4x4 - depreciação. Af_11/2015 ( h )
A42: Sistema: SINAPI - Sist. Nac. de Pesq. de Custos e Índ. da Const. Civil - 01/02/2026
A43: Utilizado no(s) item(ns) 92133
A44: Código | B44: Descrição | C44: Unidade | D44: Quantidade | E44: Utilização Operativa | F44: Utilização Improdutiva | G44: Valor Operativo | H44: Valor Improdutivo | I44: Valor Item
A45: 1159 | B45: Caminhonete com motor a diesel, potencia *160* cv, cabine dupla, 4x4 | C45: un | D45: 4.8e-05 | E45: 1 | F45: 0 | G45: 282445 | H45: 0 | I45: 13.55
A48: 92135 - Caminhonete com motor a diesel, potencia 180 cv, cabine dupla, 4x4 - impostos e seguros. Af_11/2015 ( h )
...

Sheet Curva ABC
A2: PROCESSO ADMINISTRATIVO N°: 24.195/2025
A3: OBJETO: REGISTRO DE PREÇOS DE EMPRESA ESPECIALIZADA PARA EXECUÇÃO DE SERVIÇOS DE INSTALAÇÕES ELÉTRICAS EM BARRACAS DE PRACA DE ALIMENTAÇÃO, FOOD TRUCKS E INSTALAÇÃO DE POSTE CÔNICO (PONTO DE DISTRIBUIÇÃO ELÉTRICA) DURANTE EVENTOS CULTURAIS PROMOVIDOS PELA FUNDAÇÃO DE CULTURA DE CORUMBÁ – LOTE 08 - CARNAVAL.
A5: PARETO DE SERVIÇOS
A7: ITEM/ CÓD | B7: DESCRIÇÃO | C7: UN | D7: QTDE. | E7: VALOR UNIT. | F7: VALOR TOTAL | G7: % SIMPLES | H7: % ACUM.
A8: 01.05 1004202604 | B8: INSTALAÇÃO COM POSTERIOR RETIRADA DE CONJUNTO DE LUMINÁRIAS LED DE REFORÇO DE ILUMINAÇÃO DA PASSARELA DO SAMBA, PORTO GERAL E DEMAIS EVENTOS (INCLUINDO POSTE) | C8: un | D8: 25 | E8: 7799.61 | F8: 194990.25 | G8: =F8/$F$20 -> 0.31886036 | H8: =G8 -> 0.31886036
A9: 01.02 1004202601 | B9: CABO DE ALUMINIO NU SEM ALMA DE ACO, BITOLA 1/0AWG/50 MM2 (4 CONDUTORES MULTIPLEXADOS) -FORNECIMENTO E INSTALAÇÃO COM POSTERIOR RETIRADA. | C9: kg | D9: 400 | E9: 269.01 | F9: 107604 | G9: =F9/$F$20 -> 0.17596085 | H9: =G9+H8 -> 0.49482121
A10: 01.08 105955 | B10: Poste de aço cônico contínuo reto, engastamento simples com 1 m de solo, h=9m - fornecimento e instalação. Af_04/2025 | C10: un | D10: 25 | E10: 3082.42 | F10: 77060.5 | G10: =F10/$F$20 -> 0.12601419 | H10: =G10+H9 -> 0.6208354
A11: 01.11 1004202609 | B11: TRANSFORMADOR DE DISTRIBUIÇÃO, 150 KVA, TRIFÁSICO, 60 HZ, CLASSE 15 KV, IMERSO EM ÓLEO MINERAL, INSTALAÇÃO EM POSTE (NÃO INCLUSO SUPORTE) - FORNECIMENTO E INSTALAÇÃO. | C11: un | D11: 1 | E11: 44610.13 | F11: 44610.13 | G11: =F11/$F$20 -> 0.0729493 | H11: =G11+H10 -> 0.6937847
A12: 01.12 1004202610 | B12: TRANSFORMADOR DE DISTRIBUIÇÃO, 112,5 KVA, TRIFÁSICO, 60 HZ, CLASSE 15 KV, IMERSO EM ÓLEO MINERAL, INSTALAÇÃO EM POSTE (NÃO INCLUSO SUPORTE) - FORNECIMENTO E INSTALAÇÃO. | C12: un | D12: 1 | E12: 35577.96 | F12: 35577.96 | G12: =F12/$F$20 -> 0.058179325 | H12: =G12+H11 -> 0.75196403
A13: 01.04 1004202603 | B13: ENTRADA DE ENERGIA ELÉTRICA, AÉREA, TRIFÁSICA, COM CAIXA DE SOBREPOR, CABO DE 35 MM2 E DISJUNTOR NEMA DE 60 ATÉ 100A (NÃO INCLUSO O POSTE DE CONCRETO). AF_07/2020_PS COM POSTERIOR RETIRADA – RAMAL PROVISÓRIO | C13: un | D13: 15 | E13: 2214.41 | F13: 33216.15 | G13: =F13/$F$20 -> 0.054317144 | H13: =G13+H12 -> 0.80628117
A14: 01.03 1004202602 | B14: INSTALAÇÕES ELÉTRICAS PROVISÓRIAS EM BARRACAS E/OU TENDAS E CAMAROTES. | C14: un | D14: 120 | E14: 267.07 | F14: 32048.4 | G14: =F14/$F$20 -> 0.052407566 | H14: =G14+H13 -> 0.85868874
A15: 01.01 C01 Ev | B15: FORNECIMENTO DE DUPLA DE ELETRICISTAS, PROVIDOS DE FERRAMENTAS, EPIS EM CONFORMIDADE COM A NR10 E TRANSPORTE (VIATURA PROVIDA DE DE ESCADAS E EPCS) - PLANTÃO DURANTE OS EVENTOS PARA ATENDER AS SOLICITAÇÕES DA CONTRATANTE | C15: h | D15: 168 | E15: 183.61 | F15: 30846.48 | G15: =F15/$F$20 -> 0.050442111 | H15: =G15+H14 -> 0.90913085
A16: 01.07 1004202606 | B16: INSTALAÇÃO, EM POSTE, (CONCRETO OU METÁLICO) DE PROJETOR LED PARA MELHORIA DE ILUMINAÇÃO – (NÃO INCLUI POSTE) | C16: un | D16: 25 | E16: 1208.14 | F16: 30203.5 | G16: =F16/$F$20 -> 0.049390669 | H16: =G16+H15 -> 0.95852152
A17: 01.10 1004202608 | B17: DISPONIBILIZAÇÃO DE EQUIPE COM GUINDAUTO | C17: h | D17: 40 | E17: 400.36 | F17: 16014.4 | G17: =F17/$F$20 -> 0.026187757 | H17: =G17+H16 -> 0.98470928
A18: 01.06 1004202605 | B18: INSTALAÇÃO DE LUMINÁRIA LED 35 WATTS PARA REFORÇO DE ILUMINAÇÃO DA PASSARELA DO SAMBA, EM FRENTE AOS CAMAROTES, COM POSTERIOR RETIRADA | C18: un | D18: 32 | E18: 201.91 | F18: 6461.12 | G18: =F18/$F$20 -> 0.010565631 | H18: =G18+H17 -> 0.99527491
A19: 01.09 1004202607 | B19: INSTALAÇÃO PROVISÓRIA, COM POSTERIOR RETIRADA, PARA ATENDIMENTO DE FOOD TRUCK | C19: un | D19: 10 | E19: 288.95 | F19: 2889.5 | G19: =F19/$F$20 -> 0.0047250927 | H19: =G19+H18 -> 1
F20: =SUM(F8:F19) -> 611522.39

Sheet Memória de cálculo
B1: ESTADO DE MATO GROSSO DO SUL MUNICÍPIO DE CORUMBÁ FUNDAÇÃO DE DESENVOLVIMENTO URBANO E PATRIMÔNIO HISTÓRICO AVENIDA GENERAL RONDON, Nº 985, BAIRRO CENTRO, CORUMBÁ – MS / CEP 79300-020
A3: PROCESSO ADMINISTRATIVO N°: 24.195/2025
A4: OBJETO: REGISTRO DE PREÇOS DE EMPRESA ESPECIALIZADA PARA EXECUÇÃO DE SERVIÇOS DE INSTALAÇÕES ELÉTRICAS EM BARRACAS DE PRACA DE ALIMENTAÇÃO, FOOD TRUCKS E INSTALAÇÃO DE POSTE CÔNICO (PONTO DE DISTRIBUIÇÃO ELÉTRICA) DURANTE EVENTOS CULTURAIS PROMOVIDOS PELA FUNDAÇÃO DE CULTURA DE CORUMBÁ – LOTE 08 – CARNAVAL.
A6: MEMÓRIA DE CÁLCULO
A8: ITEM | B8: CÓD | C8: DESCRIÇÃO | D8: UN | E8: QTDE. | F8: MEMÓRIA DE CÁLCULO
A9: 01 | B9: INSTALAÇÕES ELÉTRICAS
A10: 01.01 | B10: C01 Ev | C10: ='Orçamento Inicial'!B16 -> FORNECIMENTO DE DUPLA DE ELETRICISTAS, PROVIDOS DE FERRAMENTAS, EPIS EM CONFORMIDADE COM A NR10 E TRANSPORTE (VIATURA PROVIDA DE DE ESCADAS E EPCS) - PLANTÃO DURANTE OS EVENTOS PARA ATENDER AS SOLICITAÇÕES DA CONTRATANTE | D10: ='Orçamento Inicial'!D16 -> h | E10: ='Orçamento Inicial'!E16 -> 168 | F10: Conforme descrito no projeto de instalações elétricas.
A11: 01.02 | B11: 1004202601 | C11: ='Orçamento Inicial'!B17 -> CABO DE ALUMINIO NU SEM ALMA DE ACO, BITOLA 1/0AWG/50 MM2 (4 CONDUTORES MULTIPLEXADOS) -FORNECIMENTO E INSTALAÇÃO COM POSTERIOR RETIRADA. | D11: ='Orçamento Inicial'!D17 -> kg | E11: ='Orçamento Inicial'!E17 -> 400 | F11: Conforme descrito no projeto de instalações elétricas.
A12: 01.03 | B12: 1004202602 | C12: ='Orçamento Inicial'!B18 -> INSTALAÇÕES ELÉTRICAS PROVISÓRIAS EM BARRACAS E/OU TENDAS E CAMAROTES. | D12: ='Orçamento Inicial'!D18 -> un | E12: ='Orçamento Inicial'!E18 -> 120 | F12: Conforme descrito no projeto de instalações elétricas.
A13: 01.04 | B13: 1004202603 | C13: ='Orçamento Inicial'!B19 -> ENTRADA DE ENERGIA ELÉTRICA, AÉREA, TRIFÁSICA, COM CAIXA DE SOBREPOR, CABO DE 35 MM2 E DISJUNTOR NEMA DE 60 ATÉ 100A (NÃO INCLUSO O POSTE DE CONCRETO). AF_07/2020_PS COM POSTERIOR RETIRADA – RAMAL PROVISÓRIO | D13: ='Orçamento Inicial'!D19 -> un | E13: ='Orçamento Inicial'!E19 -> 15 | F13: Conforme descrito no projeto de instalações elétricas.
A14: 01.05 | B14: 1004202604 | C14: ='Orçamento Inicial'!B20 -> INSTALAÇÃO COM POSTERIOR RETIRADA DE CONJUNTO DE LUMINÁRIAS LED DE REFORÇO DE ILUMINAÇÃO DA PASSARELA DO SAMBA, PORTO GERAL E DEMAIS EVENTOS (INCLUINDO POSTE) | D14: ='Orçamento Inicial'!D20 -> un | E14: ='Orçamento Inicial'!E20 -> 25 | F14: Conforme descrito no projeto de instalações elétricas.
A15: 01.06 | B15: 1004202605 | C15: ='Orçamento Inicial'!B21 -> INSTALAÇÃO DE LUMINÁRIA LED 35 WATTS PARA REFORÇO DE ILUMINAÇÃO DA PASSARELA DO SAMBA, EM FRENTE AOS CAMAROTES, COM POSTERIOR RETIRADA | D15: ='Orçamento Inicial'!D21 -> un | E15: ='Orçamento Inicial'!E21 -> 32 | F15: Conforme descrito no projeto de instalações elétricas.
A16: 01.07 | B16: 1004202606 | C16: ='Orçamento Inicial'!B22 -> INSTALAÇÃO, EM POSTE, (CONCRETO OU METÁLICO) DE PROJETOR LED PARA MELHORIA DE ILUMINAÇÃO – (NÃO INCLUI POSTE) | D16: ='Orçamento Inicial'!D22 -> un | E16: ='Orçamento Inicial'!E22 -> 25 | F16: Conforme descrito no projeto de instalações elétricas.
A17: 01.08 | B17: 105955 | C17: ='Orçamento Inicial'!B23 -> Poste de aço cônico contínuo reto, engastamento simples com 1 m de solo, h=9m - fornecimento e instalação. Af_04/2025 | D17: ='Orçamento Inicial'!D23 -> un | E17: ='Orçamento Inicial'!E23 -> 25 | F17: Conforme descrito no projeto de instalações elétricas.
A18: 01.09 | B18: 1004202607 | C18: ='Orçamento Inicial'!B24 -> INSTALAÇÃO PROVISÓRIA, COM POSTERIOR RETIRADA, PARA ATENDIMENTO DE FOOD TRUCK | D18: ='Orçamento Inicial'!D24 -> un | E18: ='Orçamento Inicial'!E24 -> 10 | F18: Conforme descrito no projeto de instalações elétricas.
A19: 01.10 | B19: 1004202608 | C19: ='Orçamento Inicial'!B25 -> DISPONIBILIZAÇÃO DE EQUIPE COM GUINDAUTO | D19: ='Orçamento Inicial'!D25 -> h | E19: ='Orçamento Inicial'!E25 -> 40 | F19: Conforme descrito no projeto de instalações elétricas.
A20: 01.11 | B20: 1004202609 | C20: ='Orçamento Inicial'!B26 -> TRANSFORMADOR DE DISTRIBUIÇÃO, 150 KVA, TRIFÁSICO, 60 HZ, CLASSE 15 KV, IMERSO EM ÓLEO MINERAL, INSTALAÇÃO EM POSTE (NÃO INCLUSO SUPORTE) - FORNECIMENTO E INSTALAÇÃO. | D20: ='Orçamento Inicial'!D26 -> un | E20: ='Orçamento Inicial'!E26 -> 1 | F20: Conforme descrito no projeto de instalações elétricas.
A21: 01.12 | B21: 1004202610 | C21: ='Orçamento Inicial'!B27 -> TRANSFORMADOR DE DISTRIBUIÇÃO, 112,5 KVA, TRIFÁSICO, 60 HZ, CLASSE 15 KV, IMERSO EM ÓLEO MINERAL, INSTALAÇÃO EM POSTE (NÃO INCLUSO SUPORTE) - FORNECIMENTO E INSTALAÇÃO. | D21: ='Orçamento Inicial'!D27 -> un | E21: ='Orçamento Inicial'!E27 -> 1 | F21: Conforme descrito no projeto de instalações elétricas.
