Workbook

Sheet Capa
B4: Planilha Orçamentária
B6: ORÇAMENTO: | D6: Restauração do Prédio da Antiga Prefeitura, em Corumbá/MS
B7: OBJETO: | D7: Prédio da Antiga Prefeitura, em Corumbá/MS
B8: LOCAL: | D8: RUA 15 DE NOVEMBRO, Nº 235, CENTRO - CORUMBÁ/MS
B9: AREA DE CONSTRUÇÃO: | D9: 924,94 m²
B10: PRAZO DE EXEC.: | D10: 12 Meses
B11: DATA: | D11: 46011
B12: BASE DE PREÇOS | D12: SINAPI - 09/2025 - Mato Grosso do Sul
B14: TOTAL GERAL COM BDI | D14: =Resumo!G33 -> 5091322.7

Sheet Resumo
B1: Obra | C1: Bancos | D1: B.D.I. | F1: Encargos Sociais
B2: Restauração do Prédio da Antiga Prefeitura, em Corumbá/MS | C2: SINAPI - 09/2025 - Mato Grosso do Sul SBC - 09/2025 - Mato Grosso do Sul SICRO3 - 07/2025 - Mato Grosso do Sul ORSE - 08/2025 - Sergipe SEDOP - 10/2025 - Pará SEINFRA - 028 - Ceará SETOP - 07/2025 - Minas Gerais IOPES - 07/2025 - Espírito Santo SIURB - 01/2025 - São Paulo SUDECAP - 07/2025 - Minas Gerais CPOS/CDHU - 09/2025 - São Paulo FDE - 07/2025 - São Paulo AGESUL - 06/2025 - Mato Grosso do Sul AGETOP CIVIL - 06/2025 - Goiás EMBASA - 06/2025 - sem_encargos CAERN - 07/2025 - Rio Grande do Norte EMOP - 09/2025 - Rio de Janeiro SCO - 09/2025 - Rio de Janeiro | D2: 23,54% | F2: Não Desonerado: Horista: 107,52% Mensalista: 64,80%
A3: Planilha Orçamentária Resumida
A4: Item | B4: Descrição | E4: Quant. | F4: Total | G4: Peso (%)
A5: 1 | B5: ADMINISTRAÇÃO LOCAL | E5: 1 | F5: 1126104.1 | G5: 0.22118105
A6: 2 | B6: PLANOS, PROGRAMAS E MANUAIS | E6: 1 | F6: 17190.64 | G6: 0.0033764585
A7: 3 | B7: TAXAS. LICENÇAS E EMOLUMENTOS | E7: 1 | F7: 412.03 | G7: 8.0927889e-05
A8: 4 | B8: MOBILIZAÇÃO E DESMOBILIZAÇÃO | E8: 1 | F8: 49292.4 | G8: 0.0096816491
A9: 5 | B9: CANTEIRO DE OBRAS | E9: 1 | F9: 208944.49 | G9: 0.041039333
A10: 6 | B10: SERVIÇOS PRELIMINARES | E10: 1 | F10: 85251.35 | G10: 0.01674444
A11: 7 | B11: DEMOLIÇÕES E RETIRADAS | E11: 1 | F11: 155212.89 | G11: 0.030485769
A12: 8 | B12: ALVENARIA | E12: 1 | F12: 35752.14 | G12: 0.0070221712
A13: 9 | B13: COBERTURAS | E13: 1 | F13: 228257.71 | G13: 0.044832693
A14: 10 | B14: ESQUADRIAS | E14: 1 | F14: 295720.43 | G14: 0.058083222
A15: 11 | B15: REVESTIMENTOS | E15: 1 | F15: 676208.94 | G15: 0.13281596
A16: 12 | B16: PINTURA | E16: 1 | F16: 256799.06 | G16: 0.050438574
... A29: 25 | B29: LIMPEZA FINAL | E29: 1 | F29: 30571.95 | G29: 0.0060047166
E31: Total sem BDI | G31: 4145415.9
E32: Total do BDI | G32: 945906.79
E33: Total Geral | G33: 5091322.7

Sheet Orçamento Sintético
D1: Obra | E1: Bancos | G1: B.D.I. | I1: Encargos Sociais
D2: Restauração do Prédio da Antiga Prefeitura, em Corumbá/MS | E2: SINAPI - 09/2025 - Mato Grosso do Sul SBC - 09/2025 - Mato Grosso do Sul SICRO3 - 07/2025 - Mato Grosso do Sul ORSE - 08/2025 - Sergipe SEDOP - 10/2025 - Pará SEINFRA - 028 - Ceará SETOP - 07/2025 - Minas Gerais IOPES - 07/2025 - Espírito Santo SIURB - 01/2025 - São Paulo SIURB INFRA - 01/2025 - São Paulo SUDECAP - 07/2025 - Minas Gerais CPOS/CDHU - 09/2025 - São Paulo FDE - 07/2025 - São Paulo AGESUL - 06/2025 - Mato Grosso do Sul AGETOP CIVIL - 06/2025 - Goiás EMBASA - 06/2025 - sem_encargos CAERN - 07/2025 - Rio Grande do Norte EMOP - 09/2025 - Rio de Janeiro SCO - 09/2025 - Rio de Janeiro | G2: 23,54% | I2: Não Desonerado: Horista: 107,52% Mensalista: 64,80%
A3: Orçamento Sintético
A4: Item | B4: Código | C4: Banco | D4: Descrição | E4: Und | F4: Quant. | G4: Valor Unit | H4: Valor Unit com BDI | I4: Total | J4: Peso (%)
A5: 1 | D5: ADMINISTRAÇÃO LOCAL | F5: 1 | H5: 1126104.1 | I5: 1126104.1 | J5: 0.22118105
A6: 1.1 | B6: COMP-000019 | C6: Próprio | D6: ADMINISTRAÇÃO LOCAL | E6: und | F6: 1 | G6: 911529.96 | H6: 1126104.1 | I6: 1126104.1 | J6: 0.22118105
A7: 2 | D7: PLANOS, PROGRAMAS E MANUAIS | F7: 1 | H7: 17190.64 | I7: 17190.64 | J7: 0.0033764585
A8: 2.1 | B8: 01.12.04 | C8: SUDECAP | D8: VISTORIA CAUTELAR - 501M2 < ÁREA CONSTRUÍDA <= 2000M2 | E8: UN | F8: 1 | G8: 951.16 | H8: 1175.06 | I8: 1175.06 | J8: 0.0002307966
A9: 2.2 | B9: 0130042026 | C9: Próprio | D9: ELABORAÇÃO E IMPLANTAÇÃO DO PLANO DE GERENCIAMENTO DE RISCOS (PGR) | E9: UN | F9: 1 | G9: 3452.83 | H9: 4265.62 | I9: 4265.62 | J9: 0.00083782157
A10: 2.3 | B10: CO-19622 | C10: SETOP | D10: ELABORAÇÃO DO PLANO DE GERENCIAMENTO DE RESÍDUOS DE CONSTRUÇÃO CIVIL (PGRCC) | E10: un | F10: 1 | G10: 8508.48 | H10: 10511.37 | I10: 10511.37 | J10: 0.0020645656
A11: 2.4 | B11: 000128 | C11: SBC | D11: CONTROLE TECNOLOGICO DE CONCRETOS | E11: m³ | F11: 1 | G11: 102.59 | H11: 126.73 | I11: 126.73 | J11: 2.489137e-05
A12: 2.5 | B12: 016691 | C12: SBC | D12: ATESTADO PCMSO (NR7)- ANUAL | E12: UN | F12: 1 | G12: 900 | H12: 1111.86 | I12: 1111.86 | J12: 0.00021838333
A13: 3 | D13: TAXAS. LICENÇAS E EMOLUMENTOS | F13: 1 | H13: 412.03 | I13: 412.03 | J13: 8.0927889e-05
A14: 3.1 | B14: 02080425 | C14: Próprio | D14: ANOTAÇÃO DE RESPONSABILIDADE TÉCNICA (ART) PARA CONTRATO, OBRA OU SERVIÇO DE VALOR SUPERIOR A R$ 15.000,00, DE ACORDO COM TABELA VIGENTE CREA-MS; | E14: UN | F14: 1 | G14: 333.52 | H14: 412.03 | I14: 412.03 | J14: 8.0927889e-05
A15: 4 | D15: MOBILIZAÇÃO E DESMOBILIZAÇÃO | F15: 1 | H15: 49292.4 | I15: 49292.4 | J15: 0.0096816491
A16: 4.1 | B16: COMP-000018 | C16: Próprio | D16: MOBILIZAÇÃO E DESMOBILIZAÇÃO | E16: und | F16: 2 | G16: 19949.98 | H16: 24646.2 | I16: 49292.4 | J16: 0.0096816491
A17: 5 | D17: CANTEIRO DE OBRAS | F17: 1 | H17: 208944.49 | I17: 208944.49 | J17: 0.041039333
A18: 5.1 | B18: 102607 | C18: SINAPI | D18: CAIXA D´ÁGUA EM POLIETILENO, 1000 LITROS - FORNECIMENTO E INSTALAÇÃO. AF_06/2021 | E18: UN | F18: 1 | G18: 474.26 | H18: 585.9 | I18: 585.9 | J18: 0.00011507815
A19: 5.2 | B19: 98461 | C19: SINAPI | D19: ESTRUTURA DE MADEIRA PROVISÓRIA PARA SUPORTE DE CAIXA DÁGUA ELEVADA DE 1000 LITROS. AF_03/2024 | E19: UN | F19: 1 | G19: 6517.38 | H19: 8051.57 | I19: 8051.57 | J19: 0.0015814299
A20: 5.3 | B20: 98459 | C20: SINAPI | D20: TAPUME COM TELHA METÁLICA. AF_03/2024 | E20: m² | F20: 130.88 | G20: 80.88 | H20: 99.91 | I20: 13076.22 | J20: 0.0025683345
A21: 5.4 | B21: 97062 | C21: SINAPI | D21: COLOCAÇÃO DE TELA EM ANDAIME FACHADEIRO. AF_03/2024 | E21: m² | F21: 72 | G21: 6.36 | H21: 7.85 | I21: 565.2 | J21: 0.00011101241
A22: 5.5 | B22: 02.05.212 | C22: CPOS/CDHU | D22: ANDAIME TUBULAR FACHADEIRO COM PISO METÁLICO E SAPATAS AJUSTÁVEIS | E22: m²xmês | F22: 720 | G22: 25.22 | H22: 29,07 (BDI 15,28%) | I22: 20930.4 | J22: 0.0041109946
A23: 5.6 | B23: 97063 | C23: SINAPI | D23: MONTAGEM E DESMONTAGEM DE ANDAIME MODULAR FACHADEIRO, COM PISO METÁLICO, PARA EDIFÍCIOS COM MULTIPLOS PAVIMENTOS (EXCLUSIVE ANDAIME E LIMPEZA). AF_03/2024 | E23: m² | F23: 1003.6 | G23: 20.24 | H23: 25 | I23: 25090 | J23: 0.0049279925
A24: 5.7 | B24: 02.05.202 | C24: CPOS/CDHU | D24: ANDAIME TORRE METÁLICO (1,5 X 1,5 M) COM PISO METÁLICO | E24: mxmês | F24: 36.44 | G24: 28.8 | H24: 33,20 (BDI 15,28%) | I24: 1209.8 | J24: 0.00023761998
A25: 5.8 | B25: 97064 | C25: SINAPI | D25: MONTAGEM E DESMONTAGEM DE ANDAIME TUBULAR TIPO "TORRE" (EXCLUSIVE ANDAIME E LIMPEZA). AF_03/2024 | E25: M | F25: 42.02 | G25: 28.02 | H25: 34.61 | I25: 1454.31 | J25: 0.00028564483
A26: 5.9 | B26: 02.08.020 | C26: CPOS/CDHU | D26: PLACA DE IDENTIFICAÇÃO PARA OBRA | E26: m² | F26: 4.5 | G26: 904.27 | H26: 1117.13 | I26: 5027.08 | J26: 0.00098738192
A27: 5.10 | B27: AD 20.20.0100 | C27: SCO | D27: Instalacao e ligacao provisoria de obra de agua e esgoto a rede publica. | E27: un | F27: 1 | G27: 2188.31 | H27: 2703.43 | I27: 2703.43 | J27: 0.00053098775
A28: 5.11 | B28: AD 20.20.0050 | C28: SCO | D28: Instalacao e ligacao provisorias de alimentacao de energia eletrica, em baixa tensao (BT), para canteiro de obras, exclusive o fornecimento do medidor. | E28: un | F28: 1 | G28: 2332.07 | H28: 2881.03 | I28: 2881.03 | J28: 0.00056587063
A29: 5.12 | B29: 16.80.089 | C29: FDE | D29: LIMPEZA DE CAIXA D'AGUA ATE 1000 LITROS | E29: UN | F29: 4 | G29: 66.99 | H29: 82.75 | I29: 331 | J29: 6.5012575e-05
A30: 5.13 | B30: 101909 | C30: SINAPI | D30: EXTINTOR DE INCÊNDIO PORTÁTIL COM CARGA DE PQS DE 6 KG, CLASSE BC - FORNECIMENTO E INSTALAÇÃO. AF_10/2020_PE | E30: UN | F30: 3 | G30: 283.05 | H30: 349.67 | I30: 1049.01 | J30: 0.00020603879
A31: 5.14 | B31: 101905 | C31: SINAPI | D31: EXTINTOR DE INCÊNDIO PORTÁTIL COM CARGA DE ÁGUA PRESSURIZADA DE 10 L, CLASSE A - FORNECIMENTO E INSTALAÇÃO. AF_10/2020_PE | E31: UN | F31: 3 | G31: 250.59 | H31: 309.57 | I31: 928.71 | J31: 0.00018241036
A32: 5.15 | B32: ED-14457 | C32: SETOP | D32: PORTÃO PARA TAPUME FIXO DE PROTEÇÃO COM FECHAMENTO DE OBRA EM TELHA METÁLICA GALVANIZADA, TIPO TRAPEZOIDAL ESP. 0,5MM, COM MÓDULO NA DIMENSÃO DE (300X220)CM, EXCLUSIVE PINTURA ESMALTE | E32: m² | F32: 16 | G32: 146.15 | H32: 180.55 | I32: 2888.8 | J32: 0.00056739676
A33: 5.16 | B33: 190711 | C33: SBC | D33: BEBEDOURO ELETRICO MAX PREMIUN OPTIMAR | E33: UN | F33: 1 | G33: 1140.68 | H33: 1409.19 | I33: 1409.19 | J33: 0.00027678269
A34: 5.17 | B34: 012212 | C34: SBC | D34: BARRACAO PARA DEPOSITO EM CHAPA DE MADEIRA COMPENSADA | E34: m² | F34: 56 | G34: 819.75 | H34: 1012.71 | I34: 56711.76 | J34: 0.011138905
A35: 5.18 | B35: 012209 | C35: SBC | D35: BARRACAO PARA OFICINAS EM CHAPAS DE COMPENSADO | E35: m² | F35: 56 | G35: 860.53 | H35: 1063.09 | I35: 59533.04 | J35: 0.01169304
A36: 5.19 | B36: 91935 | C36: SINAPI | D36: CABO DE COBRE FLEXÍVEL ISOLADO, 16 MM², ANTI-CHAMA 0,6/1,0 KV, PARA CIRCUITOS TERMINAIS - FORNECIMENTO E INSTALAÇÃO. AF_03/2023 | E36: M | F36: 14.42 | G36: 26.07 | H36: 32.2 | I36: 464.32 | J36: 9.1198304e-05
... A42: 5.25 | B42: IT 30.20.0600 | C42: SCO | D42: Refletor, incluindo lampada halogena de 300W, referencia PT-87, Wetzel ou similar. Fornecimento e instalacao. | E42: un | F42: 3 | G42: 132.07 | H42: 163.15 | I42: 489.45 | J42: 9.6134153e-05
A43: 6 | D43: SERVIÇOS PRELIMINARES | F43: 1 | H43: 85251.35 | I43: 85251.35 | J43: 0.01674444
A44: 6.1 | D44: ELABORAÇÃO DE PROJETOS EXECUTIVOS | F44: 1 | H44: 85251.35 | I44: 85251.35 | J44: 0.01674444
A45: 6.1.1 | B45: COMP-000114 | C45: Próprio | D45: REVISÃO DE PROJETO EXECUTIVO DE ESTRUTURA METÁLICA | E45: UND | F45: 1 | G45: 13782.74 | H45: 17027.19 | I45: 17027.19 | J45: 0.0033443549
...

Sheet Memória
D1: Obra | E1: Bancos | G1: B.D.I. | I1: Encargos Sociais
D2: Restauração do Prédio da Antiga Prefeitura, em Corumbá/MS | E2: SINAPI - 09/2025 - Mato Grosso do Sul SBC - 09/2025 - Mato Grosso do Sul SICRO3 - 07/2025 - Mato Grosso do Sul ORSE - 08/2025 - Sergipe SEDOP - 10/2025 - Pará SEINFRA - 028 - Ceará SETOP - 07/2025 - Minas Gerais IOPES - 07/2025 - Espírito Santo SIURB - 01/2025 - São Paulo SIURB INFRA - 01/2025 - São Paulo SUDECAP - 07/2025 - Minas Gerais CPOS/CDHU - 09/2025 - São Paulo FDE - 07/2025 - São Paulo AGESUL - 06/2025 - Mato Grosso do Sul AGETOP CIVIL - 06/2025 - Goiás EMBASA - 06/2025 - sem_encargos CAERN - 07/2025 - Rio Grande do Norte EMOP - 09/2025 - Rio de Janeiro SCO - 09/2025 - Rio de Janeiro | G2: 23,54% | I2: Não Desonerado: Horista: 107,52% Mensalista: 64,80%
A3: Orçamento Sintético
A4: Item | B4: Código | C4: Banco | D4: Descrição | E4: Und | F4: Quant. | G4: Valor Unit | H4: Valor Unit com BDI | I4: Total | J4: Peso (%)
A5: 1 | D5: ADMINISTRAÇÃO LOCAL | F5: 1 | H5: 1126104.1 | I5: 1126104.1 | J5: 0.22118105
A6: 1.1 | B6: COMP-000019 | C6: Próprio | D6: ADMINISTRAÇÃO LOCAL | E6: und | F6: 1 | G6: 911529.96 | H6: 1126104.1 | I6: 1126104.1 | J6: 0.22118105
A7: 2 | D7: PLANOS, PROGRAMAS E MANUAIS | F7: 1 | H7: 17190.64 | I7: 17190.64 | J7: 0.0033764585
A8: 2.1 | B8: 01.12.04 | C8: SUDECAP | D8: VISTORIA CAUTELAR - 501M2 < ÁREA CONSTRUÍDA <= 2000M2 | E8: UN | F8: 1 | G8: 951.16 | H8: 1175.06 | I8: 1175.06 | J8: 0.0002307966
A9: 2.2 | B9: 0130042026 | C9: Próprio | D9: ELABORAÇÃO E IMPLANTAÇÃO DO PLANO DE GERENCIAMENTO DE RISCOS (PGR) | E9: UN | F9: 1 | G9: 3452.83 | H9: 4265.62 | I9: 4265.62 | J9: 0.00083782157
A10: 2.3 | B10: CO-19622 | C10: SETOP | D10: ELABORAÇÃO DO PLANO DE GERENCIAMENTO DE RESÍDUOS DE CONSTRUÇÃO CIVIL (PGRCC) | E10: un | F10: 1 | G10: 8508.48 | H10: 10511.37 | I10: 10511.37 | J10: 0.0020645656
A11: 2.4 | B11: 000128 | C11: SBC | D11: CONTROLE TECNOLOGICO DE CONCRETOS | E11: m³ | F11: 1 | G11: 102.59 | H11: 126.73 | I11: 126.73 | J11: 2.489137e-05
A12: 2.5 | B12: 016691 | C12: SBC | D12: ATESTADO PCMSO (NR7)- ANUAL | E12: UN | F12: 1 | G12: 900 | H12: 1111.86 | I12: 1111.86 | J12: 0.00021838333
A13: 3 | D13: TAXAS. LICENÇAS E EMOLUMENTOS | F13: 1 | H13: 412.03 | I13: 412.03 | J13: 8.0927889e-05
A14: 3.1 | B14: 02080425 | C14: Próprio | D14: ANOTAÇÃO DE RESPONSABILIDADE TÉCNICA (ART) PARA CONTRATO, OBRA OU SERVIÇO DE VALOR SUPERIOR A R$ 15.000,00, DE ACORDO COM TABELA VIGENTE CREA-MS; | E14: UN | F14: 1 | G14: 333.52 | H14: 412.03 | I14: 412.03 | J14: 8.0927889e-05
A15: 4 | D15: MOBILIZAÇÃO E DESMOBILIZAÇÃO | F15: 1 | H15: 49292.4 | I15: 49292.4 | J15: 0.0096816491
A16: 4.1 | B16: COMP-000018 | C16: Próprio | D16: MOBILIZAÇÃO E DESMOBILIZAÇÃO | E16: und | F16: 2 | G16: 19949.98 | H16: 24646.2 | I16: 49292.4 | J16: 0.0096816491
A17: 5 | D17: CANTEIRO DE OBRAS | F17: 1 | H17: 208944.49 | I17: 208944.49 | J17: 0.041039333
A18: 5.1 | B18: 102607 | C18: SINAPI | D18: CAIXA D´ÁGUA EM POLIETILENO, 1000 LITROS - FORNECIMENTO E INSTALAÇÃO. AF_06/2021 | E18: UN | F18: 1 | G18: 474.26 | H18: 585.9 | I18: 585.9 | J18: 0.00011507815
A19: Local | D19: Descrição | E19: Fórmula | I19: Quantidade
D20: Para atender o periodo de duração da obra | E20: 1 | I20: 1
A21: 5.2 | B21: 98461 | C21: SINAPI | D21: ESTRUTURA DE MADEIRA PROVISÓRIA PARA SUPORTE DE CAIXA DÁGUA ELEVADA DE 1000 LITROS. AF_03/2024 | E21: UN | F21: 1 | G21: 6517.38 | H21: 8051.57 | I21: 8051.57 | J21: 0.0015814299
A22: 5.3 | B22: 98459 | C22: SINAPI | D22: TAPUME COM TELHA METÁLICA. AF_03/2024 | E22: m² | F22: 130.88 | G22: 80.88 | H22: 99.91 | I22: 13076.22 | J22: 0.0025683345
A23: Local | D23: Descrição | E23: Fórmula | I23: Quantidade
D24: Projeto Canteiro de obras - Tabela "Instalações gerais" | E24: 130,88 | I24: 130.88
A25: 5.4 | B25: 97062 | C25: SINAPI | D25: COLOCAÇÃO DE TELA EM ANDAIME FACHADEIRO. AF_03/2024 | E25: m² | F25: 72 | G25: 6.36 | H25: 7.85 | I25: 565.2 | J25: 0.00011101241
A26: Local | D26: Descrição | E26: Fórmula | I26: Quantidade
D27: CONFORME MEMÓRIA DE CÁLCULO NO PROJETO DE CANTEIRO DE OBRAS | E27: 72 | I27: 72
A28: 5.5 | B28: 02.05.212 | C28: CPOS/CDHU | D28: ANDAIME TUBULAR FACHADEIRO COM PISO METÁLICO E SAPATAS AJUSTÁVEIS | E28: m²xmês | F28: 720 | G28: 25.22 | H28: 29,07 (BDI 15,28%) | I28: 20930.4 | J28: 0.0041109946
A29: Local | D29: Descrição | E29: Fórmula | I29: Quantidade
D30: CONFORME MEMÓRIA DE CÁLCULO NO PROJETO DE CANTEIRO DE OBRAS | E30: 720 | I30: 720
A31: 5.6 | B31: 97063 | C31: SINAPI | D31: MONTAGEM E DESMONTAGEM DE ANDAIME MODULAR FACHADEIRO, COM PISO METÁLICO, PARA EDIFÍCIOS COM MULTIPLOS PAVIMENTOS (EXCLUSIVE ANDAIME E LIMPEZA). AF_03/2024 | E31: m² | F31: 1003.6 | G31: 20.24 | H31: 25 | I31: 25090 | J31: 0.0049279925
A32: Local | D32: Descrição | E32: Fórmula | I32: Quantidade
D33: CONFORME MEMÓRIA DE CÁLCULO NO PROJETO DE CANTEIRO DE OBRAS | E33: 1003,6 | I33: 1003.6
A34: 5.7 | B34: 02.05.202 | C34: CPOS/CDHU | D34: ANDAIME TORRE METÁLICO (1,5 X 1,5 M) COM PISO METÁLICO | E34: mxmês | F34: 36.44 | G34: 28.8 | H34: 33,20 (BDI 15,28%) | I34: 1209.8 | J34: 0.00023761998
A35: Local | D35: Descrição | E35: Fórmula | I35: Quantidade
D36: CONFORME MEMÓRIA DE CÁLCULO NO PROJETO DE CANTEIRO DE OBRAS | E36: 36,44 | I36: 36.44
A37: 5.8 | B37: 97064 | C37: SINAPI | D37: MONTAGEM E DESMONTAGEM DE ANDAIME TUBULAR TIPO "TORRE" (EXCLUSIVE ANDAIME E LIMPEZA). AF_03/2024 | E37: M | F37: 42.02 | G37: 28.02 | H37: 34.61 | I37: 1454.31 | J37: 0.00028564483
A38: Local | D38: Descrição | E38: Fórmula | I38: Quantidade
D39: CONFORME MEMÓRIA DE CÁLCULO NO PROJETO DE CANTEIRO DE OBRAS | E39: 42,02 | I39: 42.02
A40: 5.9 | B40: 02.08.020 | C40: CPOS/CDHU | D40: PLACA DE IDENTIFICAÇÃO PARA OBRA | E40: m² | F40: 4.5 | G40: 904.27 | H40: 1117.13 | I40: 5027.08 | J40: 0.00098738192
...

Sheet CPUs
C1: Composições Analíticas com Preço Unitário | E1: Bancos | G1: B.D.I. | I1: Encargos Sociais
C2: Restauração do Prédio da Antiga Prefeitura, em Corumbá/MS | E2: SINAPI - 09/2025 - Mato Grosso do Sul SBC - 09/2025 - Mato Grosso do Sul SICRO3 - 07/2025 - Mato Grosso do Sul ORSE - 08/2025 - Sergipe SEDOP - 10/2025 - Pará SEINFRA - 028 - Ceará SETOP - 07/2025 - Minas Gerais IOPES - 07/2025 - Espírito Santo SIURB - 01/2025 - São Paulo SIURB INFRA - 01/2025 - São Paulo SUDECAP - 07/2025 - Minas Gerais CPOS/CDHU - 09/2025 - São Paulo FDE - 07/2025 - São Paulo AGESUL - 06/2025 - Mato Grosso do Sul AGETOP CIVIL - 06/2025 - Goiás EMBASA - 06/2025 - sem_encargos CAERN - 07/2025 - Rio Grande do Norte EMOP - 09/2025 - Rio de Janeiro SCO - 09/2025 - Rio de Janeiro | G2: 23,54% | I2: Não Desonerado: Horista: 107,52% Mensalista: 64,80%
A3: Composições Analíticas com Preço Unitário
A4: Composições Principais
A5: 1.1 | B5: Código | C5: Banco | D5: Descrição | E5: Tipo | G5: Und | H5: Quant. | I5: Porcent. | J5: Valor Unit | K5: Total
A6: Composição | B6: COMP-000019 | C6: Próprio | D6: ADMINISTRAÇÃO LOCAL | E6: CANT - CANTEIRO DE OBRAS | G6: und | H6: 1 | J6: 911529.96 | K6: 911529.96
A7: Composição Auxiliar | B7: 100534 | C7: SINAPI | D7: TECNICO DE EDIFICACOES COM ENCARGOS COMPLEMENTARES | E7: Livro SINAPI: Cálculos e Parâmetros | G7: MES | H7: 12 | I7: 0 | J7: 4294.83 | K7: 51537.96
A8: Composição Auxiliar | B8: 100289 | C8: SINAPI | D8: VIGIA DIURNO COM ENCARGOS COMPLEMENTARES | E8: Livro SINAPI: Cálculos e Parâmetros | G8: H | H8: 2640 | I8: 0 | J8: 21.47 | K8: 56680.8
A9: Composição Auxiliar | B9: 88326 | C9: SINAPI | D9: VIGIA NOTURNO COM ENCARGOS COMPLEMENTARES | E9: SEDI - SERVIÇOS DIVERSOS | G9: H | H9: 2640 | I9: 0 | J9: 24.62 | K9: 64996.8
A10: Composição Auxiliar | B10: 93570 | C10: SINAPI | D10: ARQUITETO PLENO COM ENCARGOS COMPLEMENTARES | E10: Livro SINAPI: Cálculos e Parâmetros | G10: MES | H10: 12 | I10: 0 | J10: 22683.68 | K10: 272204.16
A11: Composição Auxiliar | B11: 93567 | C11: SINAPI | D11: ENGENHEIRO CIVIL DE OBRA PLENO COM ENCARGOS COMPLEMENTARES | E11: Livro SINAPI: Cálculos e Parâmetros | G11: MES | H11: 12 | I11: 0 | J11: 23134.16 | K11: 277609.92
A12: Composição Auxiliar | B12: 100321 | C12: SINAPI | D12: TÉCNICO EM SEGURANÇA DO TRABALHO COM ENCARGOS COMPLEMENTARES | E12: Livro SINAPI: Cálculos e Parâmetros | G12: MES | H12: 12 | I12: 0 | J12: 6097.42 | K12: 73169.04
A13: Composição Auxiliar | B13: 93563 | C13: SINAPI | D13: ALMOXARIFE COM ENCARGOS COMPLEMENTARES | E13: Livro SINAPI: Cálculos e Parâmetros | G13: MES | H13: 12 | I13: 0 | J13: 4312.14 | K13: 51745.68
A14: Composição Auxiliar | B14: 93572 | C14: SINAPI | D14: ENCARREGADO GERAL DE OBRAS COM ENCARGOS COMPLEMENTARES | E14: Livro SINAPI: Cálculos e Parâmetros | G14: MES | H14: 12 | I14: 0 | J14: 5298.8 | K14: 63585.6
F15: MO sem LS => | G15: 502190.44 | H15: LS => | I15: 343805 | J15: MO com LS => | K15: 845995.44
F16: Valor do BDI => | G16: 214574.15 | H16: Valor com BDI => | K16: 1126104.1
A18: 2.1 | B18: Código | C18: Banco | D18: Descrição | E18: Tipo | G18: Und | H18: Quant. | I18: Porcent. | J18: Valor Unit | K18: Total
A19: Composição | B19: 01.12.04 | C19: SUDECAP | D19: VISTORIA CAUTELAR - 501M2 < ÁREA CONSTRUÍDA <= 2000M2 | E19: 1.12 | G19: UN | H19: 1 | J19: 951.16 | K19: 951.16
A20: Insumo | B20: 94.11.01 | C20: SUDECAP | D20: ENCADERNAÇÃO A4 ACETATO, PVC/CROMICOTE, COM ESPIRAL | E20: Material | G20: UN | H20: 1 | I20: 0 | J20: 4.5 | K20: 4.5
A21: Insumo | B21: 94.09.11 | C21: SUDECAP | D21: XEROX COLORIDO FORMATO A4 | E21: Material | G21: UN | H21: 20 | I21: 0 | J21: 2 | K21: 40
A22: Insumo | B22: 55.20.05 | C22: SUDECAP | D22: ENGENHEIRO INTERMEDIÁRIO (CARGA HORÁRIA 8H/DIA) | E22: Mão de Obra | G22: MES | H22: 0.031892 | I22: 0 | J22: 23949.65 | K22: 763.8
A23: Insumo | B23: 94.12.02 | C23: SUDECAP | D23: PLOTAGEM SULFITE FORMATO A3 MÍNIMO 75G/M2 | E23: Material | G23: UN | H23: 8 | I23: 0 | J23: 2.6 | K23: 20.8
A24: Insumo | B24: 94.07.01 | C24: SUDECAP | D24: XEROX PRETO/BRANCO - FORMATO A4 | E24: Material | G24: UN | H24: 80 | I24: 0 | J24: 0.1 | K24: 8
A25: Insumo | B25: 55.15.07 | C25: SUDECAP | D25: TÉCNICO INTERMEDIÁRIO | E25: Mão de Obra | G25: H | H25: 2.6 | I25: 0 | J25: 31.2 | K25: 81.12
A26: Insumo | B26: 68.01.03 | C26: SUDECAP | D26: ETANOL | E26: Material | G26: L | H26: 1 | I26: 0 | J26: 3.82 | K26: 3.82
A27: Insumo | B27: 54.40.06 | C27: SUDECAP | D27: LOCAÇÃO VEÍCULO POPULAR MOTOR 1.0 COM AR E SEGURO | E27: Equipamento | G27: MES | H27: 0.01 | I27: 0 | J27: 2912.05 | K27: 29.12
F28: MO sem LS => | G28: 502.56 | H28: LS => | I28: 342.36 | J28: MO com LS => | K28: 844.92
F29: Valor do BDI => | G29: 223.9 | H29: Valor com BDI => | K29: 1175.06
A31: 2.2 | B31: Código | C31: Banco | D31: Descrição | E31: Tipo | G31: Und | H31: Quant. | I31: Porcent. | J31: Valor Unit | K31: Total
A32: Composição | B32: 0130042026 | C32: Próprio | D32: ELABORAÇÃO E IMPLANTAÇÃO DO PLANO DE GERENCIAMENTO DE RISCOS (PGR) | E32: SERT - SERVIÇOS TÉCNICOS | G32: UN | H32: 1 | J32: 3452.83 | K32: 3452.83
A33: Composição Auxiliar | B33: 100309 | C33: SINAPI | D33: TÉCNICO EM SEGURANÇA DO TRABALHO COM ENCARGOS COMPLEMENTARES | E33: Livro SINAPI: Cálculos e Parâmetros | G33: H | H33: 20 | I33: 0 | J33: 34.82 | K33: 696.4
A34: Composição Auxiliar | B34: 90778 | C34: SINAPI | D34: ENGENHEIRO CIVIL DE OBRA PLENO COM ENCARGOS COMPLEMENTARES | E34: Livro SINAPI: Cálculos e Parâmetros | G34: H | H34: 20 | I34: 0 | J34: 132.67 | K34: 2653.4
A35: Insumo | B35: 02150425 | C35: Próprio | D35: ANOTAÇÃO DE RESPONSABILIDADE TÉCNICA (ART) PARA CONTRATO, OBRA OU SERVIÇO DE VALOR ATÉ R$15.000,00, DE ACORDO COM A TABELA VIGENTE CREA/MS; - decisão plenária n. 615/2024 do Confea | E35: Taxas | G35: UN | H35: 1 | I35: 0 | J35: 103.03 | K35: 103.03
F36: MO sem LS => | G36: 1569.19 | H36: LS => | I36: 1687.21 | J36: MO com LS => | K36: 3256.4
F37: Valor do BDI => | G37: 812.79 | H37: Valor com BDI => | K37: 4265.62
A39: 2.3 | B39: Código | C39: Banco | D39: Descrição | E39: Tipo | G39: Und | H39: Quant. | I39: Valor Unit | J39: Total
A40: Composição | B40: CO-19622 | C40: SETOP | D40: ELABORAÇÃO DO PLANO DE GERENCIAMENTO DE RESÍDUOS DE CONSTRUÇÃO CIVIL (PGRCC) | E40: CO- | G40: un | H40: 1 | I40: 8508.48 | J40: 8508.48
F41: Custo Horário da Execução (A) + (B) + (C) | J41: 0
F42: (D) Produção de Equipe | J42: 1
F43: (E) Custo Unitário da Execução [(A) + (B) + (C)] / (D) | J43: 0
...

Sheet Mapa de cotações
A1: COTAÇÕES DE MERCADO
A2: MENOR | B2: > QUANDO A MENOR COTAÇÃO FOR MAIOR QUE 85% DA MÉDIA DAS COTAÇÕES, ADOTAMOS A MENOR COTAÇÃO;
A3: MÉDIA | B3: > QUANDO A MENOR COTAÇÃO FOR MAIOR QUE 70% E MENOR QUE 85% DA MÉDIA DAS COTAÇÕES, ADOTAMOS A MÉDIA DAS COTAÇÕES;
A4: MEDIANA | B4: > QUANDO A MENOR COTAÇÃO FOR MENOR QUE 70% DA MÉDIA DAS COTAÇÕES, ADOTAMOS A COTAÇÃO MEDIANA.
A6: INS-15243373 | B6: BALAUSTRE DE CONCRETO
A7: EMPRESA 01 | B7: EMPRESA 02 | C7: EMPRESA 03 | D7: MET. CÁLCULO | E7: VALOR ADOTADO
A8: Artefatos de Concreto Tubolar LTDA | CNPJ: 75.116.962/0001-00 | B8: Creative Materiais Para Construcao LTDA CNPJ: 45.917.453/0001-15 | C8: REQUINTE LAZER (WILLY CORREA SOARES ME) | CNPJ: 08.340.318/0001-23 | D8: MÉDIA | E8: =IF(SUM(A12:C12)>0,AVERAGE(A12:C12),0) -> 32.333333
A9: https://tubolaronline.com.br/produto/balaustres/?attribute_modelo=B7 | B9: https://www.creativelazerpedras.com.br/construcao/balaustres/balaustre-0-60-m-de-altura-fofaozinho-unidade | C9: https://www.requintelazer.com.br/balaustres/balaustre-perna-de-moca-0-60-m-de-altura?parceiro=6192&srsltid=AfmBOorzC_C_HoL6GHPjCzLTDina3TPuhNaBH3G0Vip8brkqt9VWNxx-PhI | D9: MENOR | E9: =MIN(A12:C12) -> 27
A10: Contato: (41) 9 9653-0909 | B10: Contato: (11) 94776-2423 | C10: Contato: (11) 91205-4722 | D10: PORCENTAGEM | E10: =IFERROR(E9*100/E8,"") -> 83.505155
A11: 45965 | B11: 45965 | C11: 45965 | E11: =IF(E10>=85,$A$2,(IF(AND(E10>70,E10<85),$A$3,$A$4))) -> MÉDIA
A12: =135/5 -> 27 | B12: 35 | C12: 35 | E12: =SUM(A12:C12)/3 -> 32.333333
A14: INS-15243374 | B14: FONTE BLINDADA
A15: EMPRESA 01 | B15: EMPRESA 02 | C15: EMPRESA 03 | D15: MET. CÁLCULO | E15: VALOR ADOTADO
A16: Ilumisul - Materiais elétricos e iluminação / CNPJ: 80.655.053/0001-80 | B16: Leroy Merlin Cia Brasileira de Bricolagem / CNPJ: 01.438.784/0001-05 | C16: J J Comunicação Visual Ltda - CNPJ: 06.321.705/0001-97 | D16: MÉDIA | E16: =IF(SUM(A20:C20)>0,AVERAGE(A20:C20),0) -> 239.86667
A17: https://www.ilumisul.com.br/ProdutoId_11181,92/Iluminacao/Fontes--Transformadores/Fonte-Blindada-IP67-12V-83A-100W-Bivolt---Nordecor.html?srsltid=AfmBOorcRhKkM3laC8QaFmk-eEXR4VDFOkoqN3ir8ruIYq5_ErqAfRHMkTg | B17: https://www.leroymerlin.com.br/fonte-driver-200w-48v-4a-ip65-blindada-para-trilho-magnetico_1571923555?region=outros | C17: https://www.ledmaisled.com.br/produtos/fonte-blindada-360w-30a-12vdc-220v/?variant=741676962&pf=mc | D17: MENOR | E17: =MIN(A20:C20) -> 202.9
A18: Contato: (47) 3263-0340 | B18: Contato: 0800 020 5376 | C18: Contato: (15) 3228-6470 | D18: PORCENTAGEM | E18: =IFERROR(E17*100/E16,"") -> 84.58866
A19: 45966 | B19: 45966 | C19: 45966 | E19: =IF(E18>=85,$A$2,(IF(AND(E18>70,E18<85),$A$3,$A$4))) -> MÉDIA
A20: 266.7 | B20: 250 | C20: 202.9 | E20: =SUM(A20:C20)/3 -> 239.86667
A22: INS-15243375 | B22: LAJOTA CERÂMICA
A23: EMPRESA 01 | B23: EMPRESA 02 | C23: EMPRESA 03 | D23: MET. CÁLCULO | E23: VALOR ADOTADO
A24: BMB Material de Construcao S.A. - CNPJ: 23.476.033/0001-08 | B24: Temfer Material de Construção Ltda CNPJ: 63.022.024/0001-61 | C24: Sodimac (Construdecor S.A.) / CNPJ: 03.439.316/0001-72 | D24: MÉDIA | E24: =IF(SUM(A28:C28)>0,AVERAGE(A28:C28),0) -> 3.2366667
A25: https://www.obramax.com.br/lajota-ceramica-h6-89429333/p?idsku=6718&srsltid=AfmBOoqlFrSAeE35hNP2f742OOsKoA_Ue2vSqyR013fQX946Ed30dHrvlRs | B25: https://www.temfer.com.br/material-basico/concreto/lajes/lajota-ceramica-para-laje-h-08?parceiro=7542&srsltid=AfmBOop-VGasZLIaUIqGyQIbICPwg-DGlm6HxxOsXugL4oYj9_PvS6t0YM4 | C25: https://www.sodimac.com.br/sodimac-br/product/1799139/lajota-ceramica-p-laje-h6-6x20x33cm-mta/1799139/?srsltid=AfmBOornVLniaA_ODi9DYxluvIud5PEICjHAWaCA6GkEsUztqbsc70D- | D25: MENOR | E25: =MIN(A28:C28) -> 2.12
A26: Contato: (11) 3003-3400 | B26: Contato: 11 5033-5500 | C26: Contato: 0800-7634622 | D26: PORCENTAGEM | E26: =IFERROR(E25*100/E24,"") -> 65.499485
A27: 45968 | B27: 45968 | C27: 45968 | E27: =IF(E26>=85,$A$2,(IF(AND(E26>70,E26<85),$A$3,$A$4))) -> MEDIANA
A28: 2.12 | B28: 5.1 | C28: 2.49 | E28: 2.49
A30: INS-15243376 | B30: VASO PARA PLANTIO DA PALMEIRA RHAPIS
A31: EMPRESA 01 | B31: EMPRESA 02 | C31: EMPRESA 03 | D31: MET. CÁLCULO | E31: VALOR ADOTADO
A32: ARTE DECORE IND COM LTDA - CNPJ: 38.023.367/0001-01 | B32: VASAP INDUSTRIA COMERCIO E DISTRIBUIÇÃO LTDA - CNPJ: 06.271.056/0001-67 | C32: A & A - INDUSTRIA DE ROTOMOLDAGEM DO BRASIL EIRELI - CNPJ: 27.730.876/0001-40 | D32: MÉDIA | E32: =IF(SUM(A36:C36)>0,AVERAGE(A36:C36),0) -> 252.94333
A33: https://www.artedecorebae.com.br/produtos/vaso-para-plantas-polietileno-decorativo-redondo-grande-n32/ | B33: https://www.vasap.com.br/vietnamita-70/p?idsku=549 | C33: https://www.verdegarden.com.br/vaso-alto-de-polietileno-para-plantas-area-interna-e-externa | D33: MENOR | E33: =MIN(A36:C36) -> 164.9
A34: Contato: (35)98428-4813 | B34: Contato: (62) 98423-8305 | C34: Contato: (19) 98920-5300 | D34: PORCENTAGEM | E34: =IFERROR(E33*100/E32,"") -> 65.192467
A35: 45983 | B35: 45983 | C35: 45983 | E35: =IF(E34>=85,$A$2,(IF(AND(E34>70,E34<85),$A$3,$A$4))) -> MEDIANA
A36: 164.9 | B36: 313.93 | C36: 280 | E36: 280

Sheet Curva ABC de Insumos
D1: Obra | E1: Bancos | H1: Encargos Sociais
D2: Restauração do Prédio da Antiga Prefeitura, em Corumbá/MS | E2: SINAPI - 09/2025 - Mato Grosso do Sul SBC - 09/2025 - Mato Grosso do Sul SICRO3 - 07/2025 - Mato Grosso do Sul ORSE - 08/2025 - Sergipe SEDOP - 10/2025 - Pará SEINFRA - 028 - Ceará SETOP - 07/2025 - Minas Gerais IOPES - 07/2025 - Espírito Santo SIURB - 01/2025 - São Paulo SIURB INFRA - 01/2025 - São Paulo SUDECAP - 07/2025 - Minas Gerais CPOS/CDHU - 09/2025 - São Paulo FDE - 07/2025 - São Paulo AGESUL - 06/2025 - Mato Grosso do Sul AGETOP CIVIL - 06/2025 - Goiás EMBASA - 06/2025 - sem_encargos CAERN - 07/2025 - Rio Grande do Norte EMOP - 09/2025 - Rio de Janeiro SCO - 09/2025 - Rio de Janeiro | H2: Não Desonerado: Horista: 107,52% Mensalista: 64,80%
A3: Curva ABC de Insumos
A4: Código | B4: Banco | C4: Grupo | D4: Descrição | E4: Tipo | F4: Und | G4: Quantidade | I4: Valor Unitário | K4: Total | N4: Peso | O4: Valor Acumulado | P4: Peso Acumulado
H5: Improdutiva | I5: Operativa | J5: Improdutiva | K5: Operativa | L5: Improdutiva | M5: Geral
A6: 00040813 | B6: SINAPI | D6: ENGENHEIRO CIVIL DE OBRA PLENO (MENSALISTA) | E6: Mão de Obra | F6: MES | G6: 12,1334400 | I6: 22.450,20 | K6: 272.398,15 | M6: 272398.15 | N6: 6,57% | O6: 272398.15 | P6: 6,57%
A7: 00040816 | B7: SINAPI | D7: ARQUITETO PLENO (MENSALISTA) | E7: Mão de Obra | F7: MES | G7: 12,0751200 | I7: 22.110,95 | K7: 266.992,37 | M7: 266992.37 | N7: 6,44% | O7: 539390.53 | P7: 13,01%
A8: 00010497 | B8: SINAPI | D8: VIDRO COMUM LAMINADO, LISO, INCOLOR, TRIPLO, ESPESSURA TOTAL 12 MM (CADA CAMADA E= 4 MM) - COLOCADO | E8: Serviços | F8: m² | G8: 151,7200000 | I8: 1.737,44 | K8: 263.604,40 | M8: 263604.4 | N8: 6,36% | O8: 802994.93 | P8: 19,37%
A9: 00006111 | B9: SINAPI | D9: SERVENTE DE OBRAS (HORISTA) | E9: Mão de Obra | F9: H | G9: 8.943,8348839 | I9: 15,27 | K9: 136.572,36 | M9: 136572.36 | N9: 3,29% | O9: 939567.28 | P9: 22,67%
A10: 00042419 | B10: SINAPI | D10: AR CONDICIONADO SPLIT INVERTER, PISO TETO, 36000 BTU/H, CICLO FRIO, 60HZ, CLASSIFICACAO ENERGETICA A OU B (SELO PROCEL), GAS HFC, CONTROLE S/FIO | E10: Equipamento para Aquisição Permanente | F10: UN | G10: 9,0000000 | I10: 11.526,24 | K10: 103.736,16 | M10: 103736.16 | N10: 2,50% | O10: 1043303.4 | P10: 25,17%
A11: 14323 | B11: ORSE | D11: Elevador social para 08 passageiros ou 600 kg com acionamento convencional sem casa de máquinas no fosso, 03 paradas - dist. 11,27m, dim. cabine 1100x1400x2200mm, velocidade de 0,75m/s, 01 entrada, acabamento em aço inox. Obra - Complexo de Glória | E11: Serviços | F11: un | G11: 1,0000000 | I11: 98.680,00 | K11: 98.680,00 | M11: 98680 | N11: 2,38% | O11: 1141983.4 | P11: 27,55%
A12: 00042420 | B12: SINAPI | D12: AR CONDICIONADO SPLIT INVERTER, PISO TETO, 48000 BTU/H, CICLO FRIO, 60HZ, CLASSIFICACAO ENERGETICA A OU B (SELO PROCEL), GAS HFC, CONTROLE S/FIO | E12: Equipamento para Aquisição Permanente | F12: UN | G12: 6,0000000 | I12: 15.841,97 | K12: 95.051,82 | M12: 95051.82 | N12: 2,29% | O12: 1237035.3 | P12: 29,84%
A13: 8966 | B13: ORSE | D13: Porta em madeira de lei muiracatiara com almofadas | E13: Material | F13: m² | G13: 153,6780000 | I13: 454,14 | K13: 69.791,33 | M13: 69791.327 | N13: 1,68% | O13: 1306826.6 | P13: 31,52%
A14: 00040944 | B14: SINAPI | D14: TECNICO EM SEGURANCA DO TRABALHO (MENSALISTA) | E14: Mão de Obra | F14: MES | G14: 12,1624800 | I14: 5.571,34 | K14: 67.761,31 | M14: 67761.311 | N14: 1,63% | O14: 1374587.9 | P14: 33,16%
A15: 00004750 | B15: SINAPI | D15: PEDREIRO (HORISTA) | E15: Mão de Obra | F15: H | G15: 3.219,8872761 | I15: 20,46 | K15: 65.878,89 | M15: 65878.894 | N15: 1,59% | O15: 1440466.8 | P15: 34,75%
A16: 00004783 | B16: SINAPI | D16: PINTOR (HORISTA) | E16: Mão de Obra | F16: H | G16: 2.805,6005194 | I16: 20,46 | K16: 57.402,59 | M16: 57402.587 | N16: 1,38% | O16: 1497869.4 | P16: 36,13%
A17: 00040818 | B17: SINAPI | D17: ENCARREGADO GERAL DE OBRAS (MENSALISTA) | E17: Mão de Obra | F17: MES | G17: 12,1916400 | I17: 4.680,64 | K17: 57.064,68 | M17: 57064.678 | N17: 1,38% | O17: 1554934.1 | P17: 37,51%
... A129: 00043494 | B129: SINAPI | D129: EPI - FAMILIA ALMOXARIFE - MENSALISTA (ENCARGOS COMPLEMENTARES - COLETADO CAIXA) | E129: Material | F129: MES | G129: 36,0000000 | I129: 153,54 | K129: 5.527,44 | M129: 5527.44 | N129: 0,13% | O129: 3414869.3 | P129: 82,38%
A130: INS-15243374 | B130: Próprio | D130: FONTE BLINDADA | E130: Equipamento | F130: UN | G130: 23,0000000 | H130: 0,0000000 | I130: 239,87 | J130: 239,87 | K130: 5.517,01 | L130: 0,00 | M130: 5517.01 | N130: 0,13% | O130: 3420386.3 | P130: 82,51%
A131: 6641 | B131: ORSE | D131: Chapa de alumínio 1mm - dimensão 2,00 x 1,00 m | E131: Material | F131: m² | G131: 47,2185000 | I131: 116,84 | K131: 5.517,01 | M131: 5517.0095 | N131: 0,13% | O131: 3425903.3 | P131: 82,64%
A132: 00038877 | B132: SINAPI | D132: MASSA PREMIUM PARA TEXTURA LISA DE BASE ACRILICA, USO INTERNO E EXTERNO | E132: Material | F132: KG | G132: 810,2402840 | I132: 6,67 | K132: 5.404,30 | M132: 5404.3027 | N132: 0,13% | O132: 3431307.6 | P132: 82,77%
A133: 00004230 | B133: SINAPI | D133: OPERADOR DE MAQUINAS E TRATORES DIVERSOS - TERRAPLANAGEM (HORISTA) | E133: Mão de Obra | F133: H | G133: 229,5126175 | I133: 23,47 | K133: 5.386,66 | M133: 5386.6611 | N133: 0,13% | O133: 3436694.3 | P133: 82,90%
A134: 55.10.88 | B134: SUDECAP | D134: SERVENTE DE OBRAS | E134: Mão de Obra | F134: H | G134: 270,0314283 | I134: 19,24 | K134: 5.195,40 | M134: 5195.4047 | N134: 0,13% | O134: 3441889.7 | P134: 83,03%
A135: MOED-20151 | B135: SETOP | D135: PINTOR (MODALIDADE: HORISTA|ENCARGOS SOCIAIS: INCLUSO) | E135: Mão de Obra | F135: H | G135: 209,9227174 | I135: 24,13 | K135: 5.065,16 | M135: 5065.1623 | N135: 0,12% | O135: 3446954.8 | P135: 83,15%
A136: 099300 | B136: SBC | D136: ARMADOR ou FERREIRO | E136: Mão de Obra | F136: H | G136: 264,6717000 | I136: 19,11 | K136: 5.058,56 | M136: 5058.5622 | N136: 0,12% | O136: 3452013.4 | P136: 83,27%
A137: 00006111/SINAPI | B137: ORSE | D137: Servente de obras (horista) | E137: Mão de Obra | F137: h | G137: 346,6173250 | I137: 14,58 | K137: 5.055,01 | M137: 5055.0116 | N137: 0,12% | O137: 3457068.4 | P137: 83,39%
A138: 00039665 | B138: SINAPI | D138: TUBO DE COBRE FLEXIVEL, D = 5/8", E = 0,79 MM, PARA AR-CONDICIONADO/ INSTALACOES GAS RESIDENCIAIS E COMERCIAIS | E138: Material | F138: M | G138: 94,2136112 | I138: 53,49 | K138: 5.039,49 | M138: 5039.4861 | N138: 0,12% | O138: 3462107.9 | P138: 83,52%
A139: 00000998 | B139: SINAPI | D139: CABO DE COBRE, FLEXIVEL, CLASSE 4 OU 5, ISOLACAO EM PVC/A, ANTICHAMA BWF-B, COBERTURA PVC-ST1, ANTICHAMA BWF-B, 1 CONDUTOR, 0,6/1 KV, SECAO NOMINAL 95 MM2 | E139: Material | F139: M | G139: 52,1415000 | I139: 95,01 | K139: 4.953,96 | M139: 4953.9639 | N139: 0,12% | O139: 3467061.8 | P139: 83,64%
A140: 00004015 | B140: SINAPI | D140: MANTA ASFALTICA ELASTOMERICA EM POLIESTER 4 MM, TIPO III, CLASSE B, ACABAMENTO PP (NBR 9952) | E140: Material | F140: m² | G140: 71,1965100 | I140: 69,20 | K140: 4.926,80 | M140: 4926.7985 | N140: 0,12% | O140: 3471988.6 | P140: 83,75%
A141: MAT103201 | B141: SCO | D141: Planta - Especie vegetal de (2,50 a 3,50)m, Palmeira Syagrus Romanzoffiana (Baba-de-Boi / Geriva) ou similar | E141: Material | F141: un | G141: 25,0000000 | I141: 193,80 | K141: 4.845,00 | M141: 4845 | N141: 0,12% | O141: 3476833.6 | P141: 83,87%
A142: 00000626 | B142: SINAPI | D142: MANTA LIQUIDA DE BASE ASFALTICA MODIFICADA COM A ADICAO DE ELASTOMEROS DILUIDOS EM SOLVENTE ORGANICO, APLICACAO A FRIO (MEMBRANA DE EMULSAO ASFALTICA PARA IMPERMEABILIZACAO FLEXIVEL) | E142: Material | F142: KG | G142: 269,8650000 | I142: 17,77 | K142: 4.795,50 | M142: 4795.501 | N142: 0,12% | O142: 3481629.1 | P142: 83,99%
... A173: 00001381 | B173: SINAPI | D173: ARGAMASSA COLANTE AC I PARA CERAMICAS | E173: Material | F173: KG | G173: 3.735,3970030 | I173: 0,90 | K173: 3.361,86 | M173: 3361.8573 | N173: 0,08% | O173: 3605547.5 | P173: 86,98%
A174: INS-15243376 | B174: Próprio | D174: VASO PARA PLANTIO DA PALMEIRA RHAPIS | E174: Equipamento | F174: UN | G174: 12,0000000 | H174: 0,0000000 | I174: 280,00 | J174: 280,00 | K174: 3.360,00 | L174: 0,00 | M174: 3360 | N174: 0,08% | O174: 3608907.5 | P174: 87,06%
A175: 00041679 | B175: SINAPI | D175: MEIO-FIO OU GUIA DE CONCRETO PRE-MOLDADO, COMP 1 M, *20 X 12/15* CM (H X L1/L2) | E175: Material | F175: UN | G175: 115,8061500 | I175: 28,91 | K175: 3.347,96 | M175: 3347.9558 | N175: 0,08% | O175: 3612255.4 | P175: 87,14%
A176: 008652 | B176: SBC | D176: ACABAMENTO PARA VALVULA DE DESCARGA PARA PCD ECO CONFORTO 4900CCONF HYDRA | E176: Material | F176: UN | G176: 6,0000000 | I176: 555,70 | K176: 3.334,20 | M176: 3334.2 | N176: 0,08% | O176: 3615589.6 | P176: 87,22%
A177: 033838 | B177: SBC | D177: ARGAMASSA PORCELANATO INTERNO E EXTERNO BRANCA AXTON (5 kg/ | E177: Material | F177: KG | G177: 1.442,0500000 | I177: 2,30 | K177: 3.316,72 | M177: 3316.715 | N177: 0,08% | O177: 3618906.3 | P177: 87,30%
A178: 00000995 | B178: SINAPI | D178: CABO DE COBRE, FLEXIVEL, CLASSE 4 OU 5, ISOLACAO EM PVC/A, ANTICHAMA BWF-B, COBERTURA PVC-ST1, ANTICHAMA BWF-B, 1 CONDUTOR, 0,6/1 KV, SECAO NOMINAL 16 MM2 | E178: Material | F178: M | G178: 204,4398280 | I178: 16,14 | K178: 3.299,66 | M178: 3299.6588 | N178: 0,08% | O178: 3622206 | P178: 87,38%
A179: 00013279 | B179: SINAPI | D179: CHUMBADOR DE ACO TIPO PARABOLT, * 5/8" X 200* MM, COM PORCA E ARRUELA | E179: Material | F179: KG | G179: 140,9100000 | I179: 23,24 | K179: 3.274,75 | M179: 3274.7484 | N179: 0,08% | O179: 3625480.7 | P179: 87,46%
A180: 00001333 | B180: SINAPI | D180: CHAPA DE ACO GROSSA, ASTM A36, E = 1/2" (12,70 MM) 99,59 KG/M2 | E180: Material | F180: KG | G180: 405,4365000 | I180: 7,93 | K180: 3.215,11 | M180: 3215.1114 | N180: 0,08% | O180: 3628695.9 | P180: 87,54%
A181: B010000091 | B181: EMBASA | D181: PEDREIRO / ENCANADOR / ARTIFICE | E181: Mão de Obra | F181: H | G181: 309,6690000 | I181: 10,29 | K181: 3.186,49 | M181: 3186.494 | N181: 0,08% | O181: 3631882.4 | P181: 87,61%
...

Sheet Curva ABC de Serviços
C1: Obra | D1: Bancos | E1: B.D.I. | H1: Encargos Sociais
C2: Restauração do Prédio da Antiga Prefeitura, em Corumbá/MS | D2: SINAPI - 09/2025 - Mato Grosso do Sul SBC - 09/2025 - Mato Grosso do Sul SICRO3 - 07/2025 - Mato Grosso do Sul ORSE - 08/2025 - Sergipe SEDOP - 10/2025 - Pará SEINFRA - 028 - Ceará SETOP - 07/2025 - Minas Gerais IOPES - 07/2025 - Espírito Santo SIURB - 01/2025 - São Paulo SIURB INFRA - 01/2025 - São Paulo SUDECAP - 07/2025 - Minas Gerais CPOS/CDHU - 09/2025 - São Paulo FDE - 07/2025 - São Paulo AGESUL - 06/2025 - Mato Grosso do Sul AGETOP CIVIL - 06/2025 - Goiás EMBASA - 06/2025 - sem_encargos CAERN - 07/2025 - Rio Grande do Norte EMOP - 09/2025 - Rio de Janeiro SCO - 09/2025 - Rio de Janeiro | E2: 23,54% | H2: Não Desonerado: Horista: 107,52% Mensalista: 64,80%
A3: Curva ABC de Serviços
A4: Código | B4: Banco | C4: Descrição | D4: Tipo | E4: Und | F4: Quant. | G4: Valor Unit | H4: Total | I4: Peso (%) | J4: Peso Acumulado (%)
A5: COMP-000019 | B5: Próprio | C5: ADMINISTRAÇÃO LOCAL | D5: CANT - CANTEIRO DE OBRAS | E5: und | F5: 1,0 | G5: 911.529,96 | H5: 911.529,96 | I5: 21,99 | J5: 21,99
A6: 102177 | B6: SINAPI | C6: INSTALAÇÃO DE VIDRO LAMINADO, E = 12 MM (4+4+4), ENCAIXADO EM PERFIL U. AF_01/2021_PS | D6: Vidros e Espelhos | E6: m² | F6: 151,72 | G6: 1.920,13 | H6: 291.322,12 | I6: 7,03 | J6: 29,02
A7: COMP-000110 | B7: Próprio | C7: AR CONDICIONADO SPLIT INVERTER, PISO TETO, 45000 BTU/H, CICLO FRIO - FORNECIMENTO | D7: Instalações de ar condicionado | E7: UN | F7: 6,0 | G7: 27.453,39 | H7: 164.720,34 | I7: 3,97 | J7: 32,99
A8: COMP-000155 | B8: Próprio | C8: Execução de réplicas de esquadrias em madeira de lei, almofadada, inclusive batente, dobradiças e fechadura | D8: 113 | E8: m² | F8: 256,13 | G8: 465,84 | H8: 119.315,59 | I8: 2,88 | J8: 35,87
A9: COMP-000082 | B9: Próprio | C9: EXECUÇÃO DE ESTRUTURA METALICA PARA COBERTURA INLCUINDO A CONFECÇÃO DE PEÇAS SOLDADAS E MONTAGEM EM COBERTURA DE ATÉ 1 PAVIMENTO SEM A UTILIZAÇÃO DE EQUIPAMENTOS DE ELEVAÇÃO; INCLUSO AINDA PINTURA COM FUNDO ATIOXIDANTE- CONSUMO CONF PROJETO DE 4.246,99 KG | D9: COBE - COBERTURA | E9: UN | F9: 1,0 | G9: 118.062,91 | H9: 118.062,91 | I9: 2,85 | J9: 38,72
A10: COMP-000081 | B10: Próprio | C10: Estrutura Metálica incluso pintura anti corrosivo - Fornecimento e Instalação | D10: FUES - FUNDAÇÕES E ESTRUTURAS | E10: UN | F10: 1,0 | G10: 98.987,78 | H10: 98.987,78 | I10: 2,39 | J10: 41,10
A11: 13584 | B11: ORSE | C11: Elevador social para 08 passageiros ou 600 kg com acionamento convencional sem casa de máquinas no fosso, 03 paradas - dist. 11,27m, dim. cabine 1100x1400x2200mm, velocidade de 0,75m/s, 01 entrada, acabamento em aço inox. Obra - Complexo de Glória | D11: Provisórios | E11: un | F11: 1,0 | G11: 98.680,00 | H11: 98.680,00 | I11: 2,38 | J11: 43,48
A12: COMP-000098 | B12: Próprio | C12: ESTRUTURA METALICA DE REFORÇO DA LAJE DO 1º PAVIMENTO - CONSUMO CONF PROJETO | D12: ASTU - ASSENTAMENTO DE TUBOS E PECAS | E12: UN | F12: 1,0 | G12: 77.628,06 | H12: 77.628,06 | I12: 1,87 | J12: 45,36
A13: 103913 | B13: SINAPI | C13: EXECUÇÃO DE PISO INDUSTRIAL DE CONCRETO ARMADO, FCK = 20 MPA, ESPESSURA DE 12,0 CM. AF_04/2022 | D13: Pavimento Rígido de Concreto | E13: m² | F13: 589,79 | G13: 124,72 | H13: 73.558,60 | I13: 1,77 | J13: 47,13
A14: 120366 | B14: SBC | C14: PORCELANATO 58,4x58,4cm RETIFICADO YORK SOFT GRAY PORTINARI | D14: REVESTIMENTOS INTERNOS | E14: m² | F14: 288,41 | G14: 232,63 | H14: 67.092,81 | I14: 1,62 | J14: 48,75
A15: COMP-000111 | B15: Próprio | C15: SOTÉIA - TETO | D15: REVE - REVESTIMENTO E TRATAMENTO DE SUPERFÍCIES | E15: UN | F15: 1,0 | G15: 63.222,64 | H15: 63.222,64 | I15: 1,53 | J15: 50,28
A16: 1201008014 | B16: AGESUL | C16: POSTO DE TRANSFORMACAO AO TEMPO DE 112,5KVA, CLASSE 15KV, P/ FINS DE ATENDIMENTO DE UMA UNIDADE CONSUMIDORA EM BT, PROVIDO DE DUTOS, PROTECAO, POSTES E ISOLADORES (REDE PROTEGIDA), INCL. MURETA EM ALV. DE 1 1/2 VEZ(2,20X2,20)M, REVES. E PINTADA | D16: 12 | E16: UN | F16: 1,0 | G16: 61.099,97 | H16: 61.099,97 | I16: 1,47 | J16: 51,75
A17: COMP-000108 | B17: Próprio | C17: AR CONDICIONADO SPLIT INVERTER, PISO TETO, 30000 BTU/H, CICLO FRIO - FORNECIMENTO | D17: Instalações de ar condicionado | E17: UN | F17: 3,0 | G17: 18.110,42 | H17: 54.331,26 | I17: 1,31 | J17: 53,06
A18: 16.02.056 | B18: FDE | C18: LADRILHO HIDRAULICO 20X20CM LISO 1 COR | D18: Pisos | E18: m² | F18: 419,63 | G18: 124,72 | H18: 52.336,25 | I18: 1,26 | J18: 54,32
A19: 14006 | B19: ORSE | C19: Restauro - Emassamento com massa a base de silicato de potássio e minerais inertes, específica para paredes de edifícios tombados e patrimônios históricos | D19: Tratamentos de Superfícies | E19: m² | F19: 1.191,92 | G19: 43,09 | H19: 51.359,83 | I19: 1,24 | J19: 55,56
A20: 94216 | B20: SINAPI | C20: TELHAMENTO COM TELHA METÁLICA TERMOACÚSTICA E = 30 MM, COM ATÉ 2 ÁGUAS, INCLUSO IÇAMENTO. AF_07/2019 | D20: Telhamento para Cobertura | E20: m² | F20: 270,35 | G20: 184,02 | H20: 49.749,80 | I20: 1,20 | J20: 56,76
A21: 012209 | B21: SBC | C21: BARRACAO PARA OFICINAS EM CHAPAS DE COMPENSADO | D21: INSTALACOES PROVISORIAS | E21: m² | F21: 56,0 | G21: 860,53 | H21: 48.189,68 | I21: 1,16 | J21: 57,92
A22: COMP-000028 | B22: Próprio | C22: RESTAURO DE LADRILHO HIDRÁULICO | D22: PISO - PISOS | E22: M² | F22: 378,59 | G22: 123,48 | H22: 46.748,29 | I22: 1,13 | J22: 59,05
A23: 012212 | B23: SBC | C23: BARRACAO PARA DEPOSITO EM CHAPA DE MADEIRA COMPENSADA | D23: INSTALACOES PROVISORIAS | E23: m² | F23: 56,0 | G23: 819,75 | H23: 45.906,00 | I23: 1,11 | J23: 60,16
A24: 98671 | B24: SINAPI | C24: PISO EM GRANITO APLICADO EM AMBIENTES INTERNOS. AF_09/2020 | D24: Pisos | E24: m² | F24: 93,64 | G24: 459,04 | H24: 42.984,50 | I24: 1,04 | J24: 61,20
A25: 87777 | B25: SINAPI | C25: EMBOÇO OU MASSA ÚNICA EM ARGAMASSA TRAÇO 1:2:8, PREPARO MANUAL, APLICADA MANUALMENTE EM PANOS DE FACHADA COM PRESENÇA DE VÃOS, ESPESSURA DE 25 MM. AF_08/2022 | D25: Massa Única Externa | E25: m² | F25: 729,56 | G25: 57,91 | H25: 42.248,81 | I25: 1,02 | J25: 62,22
A26: COMP-000018 | B26: Próprio | C26: MOBILIZAÇÃO E DESMOBILIZAÇÃO | D26: CANT - CANTEIRO DE OBRAS | E26: und | F26: 2,0 | G26: 19.949,98 | H26: 39.899,96 | I26: 0,96 | J26: 63,18
A27: 98575 | B27: SINAPI | C27: TRATAMENTO DE JUNTA DE DILATAÇÃO, COM TARUGO DE POLIETILENO E SELANTE PU, INCLUSO PREENCHIMENTO COM ESPUMA EXPANSIVA PU. AF_09/2023 | D27: Impermeabilização, Proteção Mecânica e Tratamento de Junta | E27: M | F27: 567,98 | G27: 67,88 | H27: 38.554,48 | I27: 0,93 | J27: 64,11
A28: COMP-000128 | B28: Próprio | C28: Pintura de acabamento com aplicação de 02 demãos de tinta mineral. | D28: 147 | E28: m² | F28: 2.057,87 | G28: 16,92 | H28: 34.819,16 | I28: 0,84 | J28: 64,95
A29: 104789 | B29: SINAPI | C29: DEMOLIÇÃO DE PISO DE CONCRETO SIMPLES, DE FORMA MANUAL, SEM REAPROVEITAMENTO. AF_09/2023 | D29: Demolições e Remoções | E29: m³ | F29: 170,06 | G29: 201,59 | H29: 34.282,39 | I29: 0,83 | J29: 65,77
A30: 92415 | B30: SINAPI | C30: MONTAGEM E DESMONTAGEM DE FÔRMA DE PILARES RETANGULARES E ESTRUTURAS SIMILARES, PÉ-DIREITO SIMPLES, EM CHAPA DE MADEIRA COMPENSADA RESINADA, 2 UTILIZAÇÕES. AF_09/2020 | D30: Fôrmas para Estruturas de Concreto Armado | E30: m² | F30: 197,18 | G30: 142,90 | H30: 28.177,02 | I30: 0,68 | J30: 66,45
A31: 4783 | B31: ORSE | C31: Reboco externo, de parede, com argamassa traço 1:4 (cal / areia), espessura 2,5 cm | D31: Argamassas | E31: m² | F31: 729,56 | G31: 36,87 | H31: 26.898,87 | I31: 0,65 | J31: 67,10
A32: COMP - 000169 | B32: Próprio | C32: Copia da SINAPI (91341) - PORTA EM ALUMÍNIO DE ABRIR TIPO VENEZIANA COM GUARNIÇÃO, FIXAÇÃO COM PARAFUSOS - FORNECIMENTO E INSTALAÇÃO. AF_10/2025 | D32: Esquadrias - Portas | E32: m² | F32: 28,06 | G32: 951,14 | H32: 26.688,98 | I32: 0,64 | J32: 67,75
A33: 210023 | B33: SBC | C33: LIMPEZA FINAL DE OBRAS | D33: LIMPEZA | E33: m² | F33: 930,37 | G33: 26,60 | H33: 24.747,84 | I33: 0,60 | J33: 68,34
A34: 92452 | B34: SINAPI | C34: MONTAGEM E DESMONTAGEM DE FÔRMA DE VIGA, ESCORAMENTO METÁLICO, PÉ-DIREITO SIMPLES, EM CHAPA DE MADEIRA RESINADA, 2 UTILIZAÇÕES. AF_09/2020 | D34: Fôrmas para Estruturas de Concreto Armado | E34: m² | F34: 124,33 | G34: 198,29 | H34: 24.653,39 | I34: 0,59 | J34: 68,94
A35: 91926 | B35: SINAPI | C35: CABO DE COBRE FLEXÍVEL ISOLADO, 2,5 MM², ANTI-CHAMA 450/750 V, PARA CIRCUITOS TERMINAIS - FORNECIMENTO E INSTALAÇÃO. AF_03/2023 | D35: Instalações Elétricas - Eletrodutos Embutidos, Cabos, Caixas, Tomadas e Interruptores | E35: M | F35: 5.500,0 | G35: 4,44 | H35: 24.420,00 | I35: 0,59 | J35: 69,53
A36: COMP-000117 | B36: Próprio | C36: REVISÃO DE PROJETO EXECUTIIVO DE INSTALAÇÕES HIDROSSANITÁRIA E PLUVIAL | D36: SERT - SERVIÇOS TÉCNICOS | E36: UND | F36: 1,0 | G36: 24.224,76 | H36: 24.224,76 | I36: 0,58 | J36: 70,11
A37: COMP-000156 | B37: Próprio | C37: REVESTIMENTO CERÂMICO PARA PISO COM PLACAS TIPO ESMALTADA DE DIMENSÕES 20X20 CM - APLICADO | D37: Revestimentos Cerâmicos Internos | E37: m² | F37: 397,03 | G37: 58,96 | H37: 23.408,88 | I37: 0,56 | J37: 70,68
A38: 92269 | B38: SINAPI | C38: FABRICAÇÃO DE FÔRMA PARA PILARES E ESTRUTURAS SIMILARES, EM MADEIRA SERRADA, E=25 MM. AF_09/2020 | D38: Fôrmas para Estruturas de Concreto Armado | E38: m² | F38: 197,18 | G38: 115,46 | H38: 22.766,40 | I38: 0,55 | J38: 71,23
A39: COMP-000084 | B39: Próprio | C39: Fornecimento e instalação de eletrocalha lisa, galvanizada à fogo,150 x 150 x 3000 mm | D39: INEL - INSTALAÇÃO ELÉTRICA/ELETRIFICAÇÃO E ILUMINAÇÃO EXTERNA | E39: un | F39: 65,0 | G39: 344,63 | H39: 22.400,95 | I39: 0,54 | J39: 71,77
A40: 92270 | B40: SINAPI | C40: FABRICAÇÃO DE FÔRMA PARA VIGAS, COM MADEIRA SERRADA, E = 25 MM. AF_09/2020 | D40: Fôrmas para Estruturas de Concreto Armado | E40: m² | F40: 124,33 | G40: 172,31 | H40: 21.423,30 | I40: 0,52 | J40: 72,28
...

Sheet Cronograma
B3: CRONOGRAMA FÍSICO-FINANCEIRO
A12: ITEM | B12: DESCRIÇÃO | C12: R$ VALOR C/BDI | D12: % INCID. | E12: PRAZO DE EXECUÇÃO 12 MESES
E13: MÊS 01 | F13: MÊS 02 | G13: MÊS 03 | H13: MÊS 04 | I13: MÊS 05 | J13: MÊS 06 | K13: MÊS 07 | L13: MÊS 08 | M13: MÊS 09 | N13: MÊS 10 | O13: MÊS 11 | P13: MÊS 12
A14: =[1]Resumo!A5 -> #ERROR! | B14: =Resumo!B5 -> ADMINISTRAÇÃO LOCAL | C14: =Resumo!F5 -> 1126104.1 | D14: =IF(C14<>0,C14/$C$64,) -> 0.22118105 | E14: =(E17+E19+E21+E23+E25+E27+E29+E31+E33+E35+E37+E39+E41+E43+E45+E47+E49+E51+E53+E55+E57+E59+E61+E63)/((SUM($C$14:$C$63)-$C$14)) -> 0.04719175 | F14: =(F17+F19+F21+F23+F25+F27+F29+F31+F33+F35+F37+F39+F41+F43+F45+F47+F49+F51+F53+F55+F57+F59+F61+F63)/((SUM($C$14:$C$63)-$C$14)) -> 0.057229014 | G14: =(G17+G19+G21+G23+G25+G27+G29+G31+G33+G35+G37+G39+G41+G43+G45+G47+G49+G51+G53+G55+G57+G59+G61+G63)/((SUM($C$14:$C$63)-$C$14)) -> 0.058106104 | H14: =(H17+H19+H21+H23+H25+H27+H29+H31+H33+H35+H37+H39+H41+H43+H45+H47+H49+H51+H53+H55+H57+H59+H61+H63)/((SUM($C$14:$C$63)-$C$14)) -> 0.064607098 | I14: =(I17+I19+I21+I23+I25+I27+I29+I31+I33+I35+I37+I39+I41+I43+I45+I47+I49+I51+I53+I55+I57+I59+I61+I63)/((SUM($C$14:$C$63)-$C$14)) -> 0.10980887 | J14: =(J17+J19+J21+J23+J25+J27+J29+J31+J33+J35+J37+J39+J41+J43+J45+J47+J49+J51+J53+J55+J57+J59+J61+J63)/((SUM($C$14:$C$63)-$C$14)) -> 0.12789242 | K14: =(K17+K19+K21+K23+K25+K27+K29+K31+K33+K35+K37+K39+K41+K43+K45+K47+K49+K51+K53+K55+K57+K59+K61+K63)/((SUM($C$14:$C$63)-$C$14)) -> 0.1249484 | L14: =(L17+L19+L21+L23+L25+L27+L29+L31+L33+L35+L37+L39+L41+L43+L45+L47+L49+L51+L53+L55+L57+L59+L61+L63)/((SUM($C$14:$C$63)-$C$14)) -> 0.11315715 | ... P14: =(P17+P19+P21+P23+P25+P27+P29+P31+P33+P35+P37+P39+P41+P43+P45+P47+P49+P51+P53+P55+P57+P59+P61+P63)/((SUM($C$14:$C$63)-$C$14)) -> 0.046815438
E15: =IF(E14<>0,E14*$C14,) -> 53142.823 | F15: =IF(F14<>0,F14*$C14,) -> 64445.827 | G15: =IF(G14<>0,G14*$C14,) -> 65433.522 | H15: =IF(H14<>0,H14*$C14,) -> 72754.318 | I15: =IF(I14<>0,I14*$C14,) -> 123656.22 | J15: =IF(J14<>0,J14*$C14,) -> 144020.17 | K15: =IF(K14<>0,K14*$C14,) -> 140704.91 | L15: =IF(L14<>0,L14*$C14,) -> 127426.73 | ... P15: =IF(P14<>0,P14*$C14,) -> 52719.057
A16: 2 | B16: =Resumo!B6 -> PLANOS, PROGRAMAS E MANUAIS | C16: =Resumo!F6 -> 17190.64 | D16: =IF(C16<>0,C16/$C$64,) -> 0.0033764585 | E16: 1
E17: =IF(E16<>0,E16*$C16,) -> 17190.64
A18: 3 | B18: =Resumo!B7 -> TAXAS. LICENÇAS E EMOLUMENTOS | C18: =Resumo!F7 -> 412.03 | D18: =IF(C18<>0,C18/$C$64,) -> 8.0927889e-05 | E18: 1
E19: =IF(E18<>0,E18*$C18,) -> 412.03
A20: 4 | B20: =Resumo!B8 -> MOBILIZAÇÃO E DESMOBILIZAÇÃO | C20: =Resumo!F8 -> 49292.4 | D20: =IF(C20<>0,C20/$C$64,) -> 0.0096816491 | E20: 0.5 | P20: 0.5
E21: =IF(E20<>0,E20*$C20,) -> 24646.2 | P21: =IF(P20<>0,P20*$C20,) -> 24646.2
A22: 5 | B22: =Resumo!B9 -> CANTEIRO DE OBRAS | C22: =Resumo!F9 -> 208944.49 | D22: =IF(C22<>0,C22/$C$64,) -> 0.041039333 | E22: 0.3 | F22: 0.7
E23: =IF(E22<>0,E22*$C22,) -> 62683.347 | F23: =IF(F22<>0,F22*$C22,) -> 146261.14
A24: 6 | B24: =Resumo!B10 -> SERVIÇOS PRELIMINARES | C24: =Resumo!F10 -> 85251.35 | D24: =IF(C24<>0,C24/$C$64,) -> 0.01674444 | E24: 0.6 | F24: 0.4
E25: =IF(E24<>0,E24*$C24,) -> 51150.81 | F25: =IF(F24<>0,F24*$C24,) -> 34100.54
A26: 7 | B26: =Resumo!B11 -> DEMOLIÇÕES E RETIRADAS | C26: =Resumo!F11 -> 155212.89 | D26: =IF(C26<>0,C26/$C$64,) -> 0.030485769 | E26: 0.2 | F26: 0.3 | G26: 0.5
E27: =IF(E26<>0,E26*$C26,) -> 31042.578 | F27: =IF(F26<>0,F26*$C26,) -> 46563.867 | G27: =IF(G26<>0,G26*$C26,) -> 77606.445
A28: 8 | B28: =Resumo!B12 -> ALVENARIA | C28: =Resumo!F12 -> 35752.14 | D28: =IF(C28<>0,C28/$C$64,) -> 0.0070221712 | G28: 0.4 | H28: 0.2 | I28: 0.2 | J28: 0.2
G29: =IF(G28<>0,G28*$C28,) -> 14300.856 | H29: =IF(H28<>0,H28*$C28,) -> 7150.428 | I29: =IF(I28<>0,I28*$C28,) -> 7150.428 | J29: =IF(J28<>0,J28*$C28,) -> 7150.428
A30: 9 | B30: =Resumo!B13 -> COBERTURAS | C30: =Resumo!F13 -> 228257.71 | D30: =IF(C30<>0,C30/$C$64,) -> 0.044832693 | J30: 0.2 | K30: 0.3 | L30: 0.5
J31: =IF(J30<>0,J30*$C30,) -> 45651.542 | K31: =IF(K30<>0,K30*$C30,) -> 68477.313 | L31: =IF(L30<>0,L30*$C30,) -> 114128.85
A32: 10 | B32: =Resumo!B14 -> ESQUADRIAS | C32: =Resumo!F14 -> 295720.43 | D32: =IF(C32<>0,C32/$C$64,) -> 0.058083222 | L32: 0.2 | M32: 0.25 | N32: 0.4 | O32: 0.15
L33: =IF(L32<>0,L32*$C32,) -> 59144.086 | M33: =IF(M32<>0,M32*$C32,) -> 73930.107 | N33: =IF(N32<>0,N32*$C32,) -> 118288.17 | O33: =IF(O32<>0,O32*$C32,) -> 44358.065
A34: 11 | B34: =Resumo!B15 -> REVESTIMENTOS | C34: =Resumo!F15 -> 676208.94 | D34: =IF(C34<>0,C34/$C$64,) -> 0.13281596 | H34: 0.2 | I34: 0.3 | J34: 0.3 | K34: 0.2
H35: =IF(H34<>0,H34*$C34,) -> 135241.79 | I35: =IF(I34<>0,I34*$C34,) -> 202862.68 | J35: =IF(J34<>0,J34*$C34,) -> 202862.68 | K35: =IF(K34<>0,K34*$C34,) -> 135241.79
A36: 12 | B36: =Resumo!B16 -> PINTURA | C36: =Resumo!F16 -> 256799.06 | D36: =IF(C36<>0,C36/$C$64,) -> 0.050438574 | M36: 0.25 | N36: 0.3 | O36: 0.15 | P36: 0.3
I37: =IF(I36<>0,I36*$C36,) | J37: =IF(J36<>0,J36*$C36,) | K37: =IF(K36<>0,K36*$C36,) | L37: =IF(L36<>0,L36*$C36,) | M37: =IF(M36<>0,M36*$C36,) -> 64199.765 | N37: =IF(N36<>0,N36*$C36,) -> 77039.718 | O37: =IF(O36<>0,O36*$C36,) -> 38519.859 | P37: =IF(P36<>0,P36*$C36,) -> 77039.718
A38: 13 | B38: =Resumo!B17 -> PAVIMENTAÇÃO EXTERNA E MUROS | C38: =Resumo!F17 -> 95587.64 | D38: =IF(C38<>0,C38/$C$64,) -> 0.018774618 | G38: 0.15 | H38: 0.25 | I38: 0.2 | J38: 0.2 | K38: 0.1 | L38: 0.1
G39: =IF(G38<>0,G38*$C38,) -> 14338.146 | H39: =IF(H38<>0,H38*$C38,) -> 23896.91 | I39: =IF(I38<>0,I38*$C38,) -> 19117.528 | J39: =IF(J38<>0,J38*$C38,) -> 19117.528 | K39: =IF(K38<>0,K38*$C38,) -> 9558.764 | L39: =IF(L38<>0,L38*$C38,) -> 9558.764 | M39: =IF(M38<>0,M38*$C38,) | N39: =IF(N38<>0,N38*$C38,) | ... P39: =IF(P38<>0,P38*$C38,)
A40: 14 | B40: =Resumo!B18 -> OBRAS COMPLEMENTARES | C40: =Resumo!F18 -> 31581.8 | D40: =IF(C40<>0,C40/$C$64,) -> 0.0062030639 | M40: 0.1 | N40: 0.2 | O40: 0.2 | P40: 0.5
M41: =IF(M40<>0,M40*$C40,) -> 3158.18 | N41: =IF(N40<>0,N40*$C40,) -> 6316.36 | O41: =IF(O40<>0,O40*$C40,) -> 6316.36 | P41: =IF(P40<>0,P40*$C40,) -> 15790.9
A42: 15 | B42: =Resumo!B19 -> PASSARELA E ELEVADOR | C42: =Resumo!F19 -> 739841.28 | D42: =IF(C42<>0,C42/$C$64,) -> 0.14531416 | I42: 0.2 | J42: 0.3 | K42: 0.3 | L42: 0.2
G43: =IF(G42<>0,G42*$C42,) | H43: =IF(H42<>0,H42*$C42,) | I43: =IF(I42<>0,I42*$C42,) -> 147968.26 | J43: =IF(J42<>0,J42*$C42,) -> 221952.38 | K43: =IF(K42<>0,K42*$C42,) -> 221952.38 | L43: =IF(L42<>0,L42*$C42,) -> 147968.26
A44: 16 | B44: =Resumo!B20 -> ESTRUTURA DE CONCRETO | C44: =Resumo!F20 -> 227338.27 | D44: =IF(C44<>0,C44/$C$64,) -> 0.044652104 | G44: 0.5 | H44: 0.3 | I44: 0.2
G45: =IF(G44<>0,G44*$C44,) -> 113669.13 | H45: =IF(H44<>0,H44*$C44,) -> 68201.481 | I45: =IF(I44<>0,I44*$C44,) -> 45467.654
A46: 17 | B46: =Resumo!B21 -> INSTALAÇÃO DE ÁGUA FRIA | C46: =Resumo!F21 -> 23907.33 | D46: =IF(C46<>0,C46/$C$64,) -> 0.0046957012 | J46: 0.4 | K46: 0.3 | L46: 0.3
J47: =IF(J46<>0,J46*$C46,) -> 9562.932 | K47: =IF(K46<>0,K46*$C46,) -> 7172.199 | L47: =IF(L46<>0,L46*$C46,) -> 7172.199
A48: 18 | B48: =Resumo!B22 -> INSTALAÇÃO ESGOTO SANITÁRIO | C48: =Resumo!F22 -> 40085.76 | D48: =IF(C48<>0,C48/$C$64,) -> 0.0078733489 | G48: 0.2 | H48: 0.5 | I48: 0.3
G49: =IF(G48<>0,G48*$C48,) -> 8017.152 | H49: =IF(H48<>0,H48*$C48,) -> 20042.88 | I49: =IF(I48<>0,I48*$C48,) -> 12025.728
A50: 19 | B50: =Resumo!B23 -> INSTALAÇÃO DE ÁGUAS PLUVIAIS | C50: =Resumo!F23 -> 28314.04 | D50: =IF(C50<>0,C50/$C$64,) -> 0.0055612346 | M50: 0.3 | N50: 0.2 | O50: 0.5
...

Sheet BDI OBRAS
A1: RESTAURAÇÃO DO PRÉDIO DA ANTIGA PREFEITURA - CORUMBÁ/MS
A2: BDI: | B2: =J28 -> 0.23535496
A3: Encargos Sociais Não Desonerados
A5: QUADRO DE COMPOSIÇÃO DO BDI OBRAS
A7: Tipo de Obra (Conforme ao Acórdão 2622/2013 - TCU):
A8: Construção de Edificios (Também para Reformas) | M8: =IF(A8=Q16,"1",IF(A8=Q17,"2",IF(A8=Q18,"3",IF(A8=Q19,"4",IF(A8=Q20,"5",IF(A8=Q21,"6",IF(A8=Q22,"7"))))))) -> 1
A13: ITENS | F13: SIGLAS | G13: (1_x009d_º Quartil) | H13: MÉDIA | I13: (3º Quartil) | J13: Taxas Adotadas - %
M14: limite | N14: Media | O14: limite
M15: inferior | O15: superior | S15: TOTAL | V15: ADM CENTRAL | Y15: DESP FINANC | AB15: RISCO | AE15: SEGURO/GARANTIA | AH15: LUCRO
A16: Taxa de Rateio da Administração Central | F16: AC | G16: =M16 -> 0.03 | H16: =N16 -> 0.04 | I16: =O16 -> 0.055 | J16: 0.04 | L16: =IF(OR(J16<M16,J16>O16),"NÃO","SIM") -> SIM | M16: =IF($M$8="1",V16,IF($M$8="2",V17,IF($M$8="3",V18,IF($M$8="4",V19,IF($M$8="5",V20,IF($M$8="6",V21,IF($M$8="7",V22))))))) -> 0.03 | N16: =IF($M$8="1",W16,IF($M$8="2",W17,IF($M$8="3",W18,IF($M$8="4",W19,IF($M$8="5",W20,IF($M$8="6",W21,IF($M$8="7",W22))))))) -> 0.04 | O16: =IF($M$8="1",X16,IF($M$8="2",X17,IF($M$8="3",X18,IF($M$8="4",X19,IF($M$8="5",X20,IF($M$8="6",X21,IF($M$8="7",X22))))))) -> 0.055 | P16: 1 | Q16: Construção de Edificios (Também para Reformas) | S16: 0.2034 | T16: 0.2212 | U16: 0.25 | V16: 0.03 | W16: 0.04 | X16: 0.055 | Y16: 0.0059 | Z16: 0.0123 | AA16: 0.0139 | AB16: 0.0097 | AC16: 0.0127 | AD16: 0.0127 | AE16: 0.008 | AF16: 0.008 | AG16: 0.01 | AH16: 0.0616 | AI16: 0.074 | AJ16: 0.0896
A17: Taxa de Seguro e Garantia do Empreendimento | F17: S+G | G17: =M17 -> 0.008 | H17: =N17 -> 0.008 | I17: =O17 -> 0.01 | J17: =H17 -> 0.008 | L17: =IF(OR(J17<M17,J17>O17),"NÃO","SIM") -> SIM | M17: =IF($M$8="1",AE16,IF($M$8="2",AE17,IF($M$8="3",AE18,IF($M$8="4",AE19,IF($M$8="5",AE20,IF($M$8="6",AE21,IF($M$8="7",AE22))))))) -> 0.008 | N17: =IF($M$8="1",AF16,IF($M$8="2",AF17,IF($M$8="3",AF18,IF($M$8="4",AF19,IF($M$8="5",AF20,IF($M$8="6",AF21,IF($M$8="7",AF22))))))) -> 0.008 | O17: =IF($M$8="1",AG16,IF($M$8="2",AG17,IF($M$8="3",AG18,IF($M$8="4",AG19,IF($M$8="5",AG20,IF($M$8="6",AG21,IF($M$8="7",AG22))))))) -> 0.01 | P17: 2 | Q17: Construção de Rodovias e Ferrovias (Também para Recapeamento, Pavimentação e Praças) | S17: 0.196 | T17: 0.2097 | U17: 0.2423 | V17: 0.038 | W17: 0.0401 | X17: 0.0467 | Y17: 0.0102 | Z17: 0.0111 | AA17: 0.0121 | AB17: 0.005 | AC17: 0.0056 | AD17: 0.0097 | AE17: 0.0032 | AF17: 0.004 | AG17: 0.0074 | AH17: 0.0664 | AI17: 0.073 | AJ17: 0.0869
A18: Taxa de Risco | F18: R | G18: =M18 -> 0.0097 | H18: =N18 -> 0.0127 | I18: =O18 -> 0.0127 | J18: 0.0127 | L18: =IF(OR(J18<M18,J18>O18),"NÃO","SIM") -> SIM | M18: =IF($M$8="1",AB16,IF($M$8="2",AB17,IF($M$8="3",AB18,IF($M$8="4",AB19,IF($M$8="5",AB20,IF($M$8="6",AB21,IF($M$8="7",AB22))))))) -> 0.0097 | N18: =IF($M$8="1",AC16,IF($M$8="2",AC17,IF($M$8="3",AC18,IF($M$8="4",AC19,IF($M$8="5",AC20,IF($M$8="6",AC21,IF($M$8="7",AC22))))))) -> 0.0127 | O18: =IF($M$8="1",AD16,IF($M$8="2",AD17,IF($M$8="3",AD18,IF($M$8="4",AD19,IF($M$8="5",AD20,IF($M$8="6",AD21,IF($M$8="7",AD22))))))) -> 0.0127 | P18: 3 | Q18: Construção de Redes de Abastecimento de Água, Coleta de Esgoto e Construções Correlatas. | S18: 0.2076 | T18: 0.2418 | U18: 0.2644 | V18: 0.0343 | W18: 0.0493 | X18: 0.0671 | Y18: 0.0094 | Z18: 0.0099 | AA18: 0.0117 | AB18: 0.01 | AC18: 0.0139 | AD18: 0.0174 | AE18: 0.0028 | AF18: 0.0049 | AG18: 0.0075 | AH18: 0.0674 | AI18: 0.0804 | AJ18: 0.094
A19: Taxa de Despesas Financeiras | F19: DF | G19: =M19 -> 0.0059 | H19: =N19 -> 0.0123 | I19: =O19 -> 0.0139 | J19: =H19 -> 0.0123 | L19: =IF(OR(J19<M19,J19>O19),"NÃO","SIM") -> SIM | M19: =IF($M$8="1",Y16,IF($M$8="2",Y17,IF($M$8="3",Y18,IF($M$8="4",Y19,IF($M$8="5",Y20,IF($M$8="6",Y21,IF($M$8="7",Y22))))))) -> 0.0059 | N19: =IF($M$8="1",Z16,IF($M$8="2",Z17,IF($M$8="3",Z18,IF($M$8="4",Z19,IF($M$8="5",Z20,IF($M$8="6",Z21,IF($M$8="7",Z22))))))) -> 0.0123 | O19: =IF($M$8="1",AA16,IF($M$8="2",AA17,IF($M$8="3",AA18,IF($M$8="4",AA19,IF($M$8="5",AA20,IF($M$8="6",AA21,IF($M$8="7",AA22))))))) -> 0.0139 | P19: 4 | Q19: Construção e Manutenção de Estações e Redes de Distribuição de Energia Elétrica | S19: 0.24 | T19: 0.2584 | U19: 0.2786 | V19: 0.0529 | W19: 0.0592 | X19: 0.0793 | Y19: 0.0101 | Z19: 0.0107 | AA19: 0.0111 | AB19: 0.01 | AC19: 0.0148 | AD19: 0.0197 | AE19: 0.0025 | AF19: 0.0051 | AG19: 0.0056 | AH19: 0.08 | AI19: 0.0831 | AJ19: 0.0951
