Workbook
Name \0: #REF!
Name \D: #REF!
Name \k: #REF!
Name \M: #REF!
Name \q: [1]Fechamento!#REF!
Name \R: #REF!
Name \T: #REF!
Name \z: #REF!
Name __000: #REF!
Name __BDI1: #REF!
Name __BUD1: #REF!
Name __BUD2: #REF!
Name __BUD3: #REF!
Name __BUD4: #REF!
Name __BUD5: #REF!
Name __BUD6: #REF!
Name __BUD7: #REF!
Name __BUD8: #REF!
Name __DAT1: #REF!
Name __DAT10: #REF!
Name __DAT11: #REF!
Name __DAT12: #REF!
Name __DAT13: #REF!
Name __DAT14: #REF!
Name __DAT15: #REF!
Name __DAT2: #REF!
Name __DAT3: #REF!
Name __DAT4: #REF!
Name __DAT5: #REF!
Name __DAT6: #REF!
Name __DAT7: #REF!
Name __DAT8: #REF!
Name __DAT9: #REF!
Name __DIA1: #REF!
Name __DIA2: #REF!
Name __DIA3: #REF!
Name __DIA4: #REF!
Name __DIA5: #REF!
Name __DIA6: #REF!
Name __DIA7: #REF!
Name __DIA8: #REF!
Name __LAB1: #REF!
Name __LAB2: #REF!
Name __LAB3: #REF!
Name __PAR1: #REF!
Name __PAR2: #REF!
Name __PAR3: #REF!
Name __PAR4: #REF!
Name __PRU2006: #REF!
Name __RBC2006: #REF!
Name _0: '[2]2002CB'!$A$1:$Q$65
Name _0_1: NA()
Name _1: #REF!
Name _1DescProd: #REF!
Name _2: #REF!
Name _2Aplicação: #REF!
Name _3NCarItem: #REF!
Name _4NDescGen: #REF!
Name _5NCódBusca: #REF!
Name _BUD1: #REF!

Sheet SINAPI
A2: RELATÓRIO DE CUSTOS DE COMPOSIÇÕES - ENCARGOS SOCIAIS SEM DESONERAÇÃO
A3: 06/2025
A4: 11/07/2025 | C4: MS
C5: CAMPO GRANDE
A6: %AS (porcentagem Atribuído São Paulo) corresponde a porcentagem do custo total da | C6: 1.0752
A7: composição que foi obtida utilizando preços de insumos de São Paulo por indisponibilidade | C7: 0.648
A8: dos preços de insumos necessários à composição no estado em questão. Custo zerado (hífen)
A9: indica que pelo menos um dos itens da composição não tem custo/preço. | C9: MS
A10: Código da Composição | B10: Descrição | C10: Custo (R$)
A11: 104658 | B11: PISO PODOTÁTIL DE ALERTA OU DIRECIONAL, DE CONCRETO, ASSENTADO SOBRE ARGAMASSA. AF_03/2024 | C11: 165.62
A12: 105002 | B12: RAMPA DE ACESSIBILIDADE EM CONCRETO MOLDADO IN LOCO, EM CALÇADA NOVA COM LARGURA MAIOR OU IGUAL À 3,00 M, FCK 25MPA, COM PISO PODOTÁTIL. AF_03/2024 | C12: 681.99
A13: 105004 | B13: RAMPA DE ACESSIBILIDADE EM CONCRETO MOLDADO IN LOCO, EM CALÇADA NOVA COM LARGURA MENOR À 3,00 M, FCK 25MPA, COM PISO PODOTÁTIL. AF_03/2024 | C13: 116.27
A14: 105003 | B14: RAMPA DE ACESSIBILIDADE EM CONCRETO MOLDADO IN LOCO, EM CALÇADA PRÉ EXISTENTE COM LARGURA MAIOR OU IGUAL À 3,00 M, FCK 25MPA, COM PISO PODOTÁTIL. AF_03/2024 | C14: 1114.79
A15: 105005 | B15: RAMPA DE ACESSIBILIDADE EM CONCRETO MOLDADO IN LOCO, EM CALÇADA PRÉ EXISTENTE COM LARGURA MENOR À 3,00 M, FCK 25MPA, COM PISO PODOTÁTIL. AF_03/2024 | C15: 196.39
A16: 105006 | B16: RAMPA DE ACESSIBILIDADE EM CONCRETO PRÉ MOLDADO, EM CALÇADA NOVA COM LARGURA MAIOR OU IGUAL À 3,00 M, FCK 25MPA, COM PISO PODOTÁTIL. AF_03/2024 | C16: 0
A17: 104999 | B17: RAMPA DE ACESSIBILIDADE EM CONCRETO PRÉ MOLDADO, EM CALÇADA PRÉ EXISTENTE COM LARGURA MAIOR OU IGUAL À 3,00 M, FCK 25MPA, COM PISO PODOTÁTIL. AF_03/2024 | C17: 0
A18: 105000 | B18: RAMPA DE ACESSIBILIDADE PARA ACESSO A EDIFICAÇÕES COM INCLINAÇÃO DE 8,33% EM CONCRETO MOLDADO IN LOCO, COM LARGURA DE 1,20M, FCK 25MPA, NÃO ARMADA, COM JUNTA A CADA 2M COM CORTE À SECO. AF_03/2024 | C18: 1333.33
A19: 105001 | B19: RAMPA DE ACESSIBILIDADE PARA ACESSO A EDIFICAÇÕES COM INCLINAÇÃO DE 8,33% EM CONCRETO MOLDADO IN LOCO, COM LARGURA DE 1,50M, FCK 25MPA, NÃO ARMADA, COM JUNTA A CADA 2M COM CORTE À SECO. AF_03/2024 | C19: 1366.33
A20: 89306 | B20: ALVENARIA ESTRUTURAL DE BLOCOS CERÂMICOS 14X19X29, (ESPESSURA DE 14 CM), UTILIZANDO COLHER DE PEDREIRO E ARGAMASSA DE ASSENTAMENTO COM PREPARO EM BETONEIRA. AF_03/2023 | C20: 98.38
A21: 89307 | B21: ALVENARIA ESTRUTURAL DE BLOCOS CERÂMICOS 14X19X29, (ESPESSURA DE 14 CM), UTILIZANDO COLHER DE PEDREIRO E ARGAMASSA DE ASSENTAMENTO COM PREPARO MANUAL. AF_03/2023 | C21: 100.16
A22: 89290 | B22: ALVENARIA ESTRUTURAL DE BLOCOS CERÂMICOS 14X19X29, (ESPESSURA DE 14 CM), UTILIZANDO PALHETA E ARGAMASSA DE ASSENTAMENTO COM PREPARO EM BETONEIRA. AF_03/2023 | C22: 83.19
... A9733: 103548 | B9733: VÁLVULA REDUTORA DE PRESSÃO DE FERRO FUNDIDO PARA REDE DE ÁGUA, DN 80 MM, JUNTA FLANGEADA. AF_12/2021 | C9733: 0
A9734: Código do Insumo | B9734: Descrição do Insumo | C9734: MS
A9735: 45333 | B9735: ABERTURA PARA ENCAIXE DE CUBA OU LAVATORIO EM BANCADA DE MARMORE/ GRANITO OU OUTRO TIPO DE PEDRA NATURAL | C9735: 213.23
A9736: 11270 | B9736: ABRACADEIRA DE LATAO PARA FIXACAO DE CABO PARA-RAIO, DIMENSOES 32 X 24 X 24 MM | C9736: 3
A9737: 412 | B9737: ABRACADEIRA DE NYLON PARA AMARRACAO DE CABOS, COMPRIMENTO DE *230* X *7,6* MM | C9737: 1.49
A9738: 414 | B9738: ABRACADEIRA DE NYLON PARA AMARRACAO DE CABOS, COMPRIMENTO DE 100 X 2,5 MM | C9738: 0.09
A9739: 410 | B9739: ABRACADEIRA DE NYLON PARA AMARRACAO DE CABOS, COMPRIMENTO DE 150 X *3,6* MM | C9739: 0.23
A9740: 411 | B9740: ABRACADEIRA DE NYLON PARA AMARRACAO DE CABOS, COMPRIMENTO DE 200 X *4,6* MM | C9740: 0.29
A9741: 408 | B9741: ABRACADEIRA DE NYLON PARA AMARRACAO DE CABOS, COMPRIMENTO DE 390 X *4,6* MM | C9741: 1.44
A9742: 39131 | B9742: ABRACADEIRA EM ACO PARA AMARRACAO DE ELETRODUTOS, TIPO D, COM 1 1/2" E CUNHA DE FIXACAO | C9742: 5.73
A9743: 394 | B9743: ABRACADEIRA EM ACO PARA AMARRACAO DE ELETRODUTOS, TIPO D, COM 1 1/2" E PARAFUSO DE FIXACAO | C9743: 5.8
A9744: 39130 | B9744: ABRACADEIRA EM ACO PARA AMARRACAO DE ELETRODUTOS, TIPO D, COM 1 1/4" E CUNHA DE FIXACAO | C9744: 5.23
A9745: 395 | B9745: ABRACADEIRA EM ACO PARA AMARRACAO DE ELETRODUTOS, TIPO D, COM 1 1/4" E PARAFUSO DE FIXACAO | C9745: 5.59
A9746: 39129 | B9746: ABRACADEIRA EM ACO PARA AMARRACAO DE ELETRODUTOS, TIPO D, COM 1" E CUNHA DE FIXACAO | C9746: 3.22
... A9778: 36246 | B9778: ACABAMENTO SIMPLES/CONVENCIONAL PARA FORRO PVC, TIPO "U" OU "C", COR BRANCA, COMPRIMENTO 6 M | C9778: 5.24
A9779: 37600 | B9779: ACESSORIO DE LIGACAO NAO ELETRICO PARA CARGAS EXPLOSIVAS, TUBO DE 6 M
A9780: 37599 | B9780: ACESSORIO INICIADOR NAO ELETRICO, TUBO DE 6 M, TEMPO DE RETARDO DE *160* MS
A9781: 1 | B9781: ACETILENO - RECARGA DE GAS PARA CILINDRO (NAO INCLUI TROCA/MANUTENCAO DO CILINDRO) | C9781: 100
A9782: 3 | B9782: ACIDO CLORIDRICO / ACIDO MURIATICO, DILUICAO 10% A 12% PARA USO EM LIMPEZA | C9782: 14.03
...

Sheet Orçamento
A2: ESTADO DE MATO GROSSO DO SUL
A3: MUNICÍPIO DE CORUMBÁ
A4: Orçamento Inicial - Analítico - Método Truncado
A6: Objeto: | D6: RESTAURAÇÃO DO PRÉDIO DO ANTIGO HOTEL INTERNACIONAL.
A7: Município: | D7: Corumbá/MS
A8: Local: | D8: Rua Frei Mariano.°38 Centro., Corumbá MS | I8: BDI Obra | J8: BDI Equipamentos
A9: BDI: | D9: BDI Fornecimento de Materiais e Equipamentos - Não Desonerado (15,27%), Onerado (22,28%) | I9: 0.2228 | J9: 0.1527
A10: Prazo exec.: | D10: 12 meses
A11: Sist./Ref.: | D11: SINAPI - 06/2025 - Mato Grosso do Sul; SBC - 06/2025 - Mato Grosso do Sul, ORSE - 05/2025 , AGESUL - 06/2025 - MS - SETOP 7/2025
D12: Descrição | E12: Unid. | F12: Qtde. | G12: CUSTO | I12: PRECO
A13: item | B13: codigo | C13: banco | G13: UNIT. | H13: TOTAL | I13: UNIT BDI | J13: TOTAL
A14: 01 | D14: ADMINISTRAÇÃO LOCAL DA OBRA | H14: =H15+H25+H32 -> 723465.18 | J14: =J15+J25+J32 -> 884653.16 | K14: =J14/H14 -> 1.2227999
A15: 1.1 | D15: EQUIPE DE PROFISSIONAIS | H15: =SUM(H16:H24) -> 711198.88 | J15: =SUM(J16:J24) -> 869653.94 | K15: =J15/H15 -> 1.2227999
A16: 1.1.1 | B16: 93567 | C16: SINAPI | D16: ENGENHEIRO CIVIL DE OBRA PLENO COM ENCARGOS COMPLEMENTARES | E16: MES | F16: 12 | G16: =VLOOKUP(B16,SINAPI!A11:C20000,3,FALSE) -> 23134.16 | H16: =TRUNC(F16*G16,2) -> 277609.92 | I16: =G16*(1+$I$9) -> 28288.451 | J16: =TRUNC(I16*F16,2) -> 339461.41
A17: 1.1.2 | B17: 94295 | C17: SINAPI | D17: MESTRE DE OBRAS COM ENCARGOS COMPLEMENTARES | E17: MES | F17: 12 | G17: =VLOOKUP(B17,SINAPI!A12:C20001,3,FALSE) -> 6541.98 | H17: =TRUNC(F17*G17,2) -> 78503.76 | I17: =G17*(1+$I$9) -> 7999.5331 | J17: =TRUNC(I17*F17,2) -> 95994.39
A18: 1.1.3 | B18: 93563 | C18: SINAPI | D18: ALMOXARIFE COM ENCARGOS COMPLEMENTARES | E18: MES | F18: 12 | G18: =VLOOKUP(B18,SINAPI!A13:C20002,3,FALSE) -> 4111.96 | H18: =TRUNC(F18*G18,2) -> 49343.52 | I18: =G18*(1+$I$9) -> 5028.1047 | J18: =TRUNC(I18*F18,2) -> 60337.25
A19: 1.1.4 | B19: 101460 | C19: SINAPI | D19: VIGIA DIURNO COM ENCARGOS COMPLEMENTARES | E19: MES | F19: 12 | G19: =VLOOKUP(B19,SINAPI!A14:C20003,3,FALSE) -> 3668.48 | H19: =TRUNC(F19*G19,2) -> 44021.76 | I19: =G19*(1+$I$9) -> 4485.8173 | J19: =TRUNC(I19*F19,2) -> 53829.8
A20: 1.1.5 | B20: ED-21780 | C20: SETOP | D20: VIGIA NOTURNO COM ENCARGOS COMPLEMENTARES | E20: mês | F20: 12 | G20: 5720 | H20: =TRUNC(F20*G20,2) -> 68640 | I20: =G20*(1+$I$9) -> 6994.416 | J20: =TRUNC(I20*F20,2) -> 83932.99
A21: 1.1.6 | B21: 93572 | C21: SINAPI | D21: ENCARREGADO GERAL DE OBRAS COM ENCARGOS COMPLEMENTARES | E21: MES | F21: 12 | G21: =VLOOKUP(B21,SINAPI!A16:C20005,3,FALSE) -> 5162.52 | H21: =TRUNC(F21*G21,2) -> 61950.24 | I21: =G21*(1+$I$9) -> 6312.7295 | J21: =TRUNC(I21*F21,2) -> 75752.75
A22: 1.1.7 | B22: 93564 | C22: SINAPI | D22: APONTADOR OU APROPRIADOR COM ENCARGOS COMPLEMENTARES | E22: MES | F22: 12 | G22: =VLOOKUP(B22,SINAPI!A17:C20006,3,FALSE) -> 4017.19 | H22: =TRUNC(F22*G22,2) -> 48206.28 | I22: =G22*(1+$I$9) -> 4912.2199 | J22: =TRUNC(I22*F22,2) -> 58946.63
A23: 1.1.8 | B23: 100321 | C23: SINAPI | D23: TÉCNICO EM SEGURANÇA DO TRABALHO COM ENCARGOS COMPLEMENTARES | E23: MES | F23: 12 | G23: =VLOOKUP(B23,[37]SINAPI!A18:C20007,3,FALSE) -> 5804.7 | H23: =TRUNC(F23*G23,2) -> 69656.4 | I23: =G23*(1+$I$9) -> 7097.9872 | J23: =TRUNC(I23*F23,2) -> 85175.84
A24: 1.1.9 | B24: 11900001010 | C24: Próprio | D24: ='Composições Principais'!$B$1446 -> ARQUEOLOGO | E24: H | F24: 100 | G24: ='Composições Principais'!I1459 -> 132.67 | H24: =TRUNC(F24*G24,2) -> 13267 | I24: =G24*(1+$I$9) -> 162.22888 | J24: =TRUNC(I24*F24,2) -> 16222.88
A25: 1.2 | D25: PLANOS, PROGRAMAS E MANUAIS | H25: =SUM(H26:H31) -> 11888.49 | J25: =SUM(J26:J31) -> 14537.24 | K25: =J25/H25 -> 1.2227995
A26: 1.2.1 | B26: CO-27346 | C26: SETOP | D26: MANUAL DE USO, OPERAÇÃO E MANUTENÇÃO DAS EDIFICAÇÕES PARA REFORMA E/OU AMPLIAÇÃO DE PATRIMÔNIOS HISTÓRICOS ÁREA ATÉ 1.000 M2 | E26: m² | F26: 716.89 | G26: 0.94 | H26: =TRUNC(F26*G26,2) -> 673.87 | I26: =G26*(1+$I$9) -> 1.149432 | J26: =TRUNC(I26*F26,2) -> 824.01
A27: 1.2.2 | B27: 016691 | C27: SBC | D27: ATESTADO PCMSO (NR7)- ANUAL | E27: UN | F27: 1 | G27: 900 | H27: =TRUNC(F27*G27,2) -> 900 | I27: =G27*(1+$I$9) -> 1100.52 | J27: =TRUNC(I27*F27,2) -> 1100.52
A28: 1.2.3 | B28: 01.12.04 | C28: SUDECAP | D28: VISTORIA CAUTELAR - 501M2 < ÁREA CONSTRUÍDA <= 2000M2 | E28: UN | F28: 1 | G28: 951.16 | H28: =TRUNC(F28*G28,2) -> 951.16 | I28: =G28*(1+$I$9) -> 1163.0784 | J28: =TRUNC(I28*F28,2) -> 1163.07
A29: 1.2.4 | B29: ='Composições Principais'!A1577 -> 11900001018 | C29: Próprio | D29: ELABORAÇÃO DO PLANO DE GERENCIAMENTO DE RESÍDUOS DE CONSTRUÇÃO CIVIL (PGRCC) | E29: un | F29: 1 | G29: ='Composições Principais'!I1586 -> 2206.8144 | H29: =TRUNC(F29*G29,2) -> 2206.81 | I29: =G29*(1+$I$9) -> 2698.4926 | J29: =TRUNC(I29*F29,2) -> 2698.49
A30: 1.2.5 | B30: ='Composições Principais'!A1239 -> 119000095 | C30: Próprio | D30: ELABORAÇÃO E IMPLANTAÇÃO DO PLANO DE GERENCIAMENTO DE RISCOS (PGR) | E30: UN | F30: 1 | G30: ='Composições Principais'!I1248 -> 1625.41 | H30: =TRUNC(F30*G30,2) -> 1625.41 | I30: =G30*(1+$I$9) -> 1987.5513 | J30: =TRUNC(I30*F30,2) -> 1987.55
A31: 1.2.6 | B31: ='Composições Principais'!A1547 -> 11900001016 | C31: Próprio | D31: ELABORAÇÃO E IMPLANTAÇÃO DO PLANO DE TRABALHO DE ARQUEOLOGIA | E31: UN | F31: 1 | G31: ='Composições Principais'!I1556 -> 5531.24 | H31: =TRUNC(F31*G31,2) -> 5531.24 | I31: =G31*(1+$I$9) -> 6763.6003 | J31: =TRUNC(I31*F31,2) -> 6763.6
A32: 1.3 | D32: TAXAS, LICENSAS E EMOLUMENTOS | H32: =SUM(H33) -> 377.81 | J32: =SUM(J33) -> 461.98 | K32: =J32/H32 -> 1.2227839
A33: 1.3.1 | B33: 119000096 | C33: Próprio | D33: ANOTAÇÃO DE RESPONSABILIDADE TÉCNICA (ART) PARA CONTRATO, OBRA OU SERVIÇO DE VALOR SUPERIOR A R$ 15.000,00, DE ACORDO COM TABELA VIGENTE CREA-MS; | E33: UN | F33: 1 | G33: ='Composições Principais'!I1261 -> 377.81 | H33: =TRUNC(F33*G33,2) -> 377.81 | I33: =G33*(1+$I$9) -> 461.98607 | J33: =TRUNC(I33*F33,2) -> 461.98
A34: 2 | D34: DESMOBILIZACAO E DESMONTAGEM CANTEIRO | H34: =SUM(H35:H39) -> 3606.13 | J34: =SUM(J35:J39) -> 4409.56 | K34: =J34/H34 -> 1.2227956
A35: 2.2.1 | B35: 210825 | C35: SBC | D35: DESMOBILIZACAO C/ DESMONTAGEM DE BARRACAO E DEMAIS ELEMENTOS | E35: m² | F35: 112 | G35: 29.73 | H35: =TRUNC(F35*G35,2) -> 3329.76 | I35: =G35*(1+$I$9) -> 36.353844 | J35: =TRUNC(I35*F35,2) -> 4071.63
A36: 2.2.2 | B36: 97665 | C36: SINAPI | D36: REMOÇÃO DE LUMINÁRIAS, DE FORMA MANUAL, SEM REAPROVEITAMENTO. AF_09/2023 | E36: UN | F36: 12 | G36: =VLOOKUP(B36,SINAPI!A30:C20019,3,FALSE) -> 1.79 | H36: =TRUNC(F36*G36,2) -> 21.48 | I36: =G36*(1+$I$9) -> 2.188812 | J36: =TRUNC(I36*F36,2) -> 26.26
A37: 2.2.3 | B37: 97637 | C37: SINAPI | D37: REMOÇÃO DE TAPUME/ CHAPAS METÁLICAS E DE MADEIRA, DE FORMA MANUAL, SEM REAPROVEITAMENTO. AF_09/2023 | E37: m² | F37: 57.56 | G37: =VLOOKUP(B37,SINAPI!A31:C20020,3,FALSE) -> 2.92 | H37: =TRUNC(F37*G37,2) -> 168.07 | I37: =G37*(1+$I$9) -> 3.570576 | J37: =TRUNC(I37*F37,2) -> 205.52
A38: 2.2.4 | B38: 104794 | C38: SINAPI | D38: REMOÇÃO DE CABOS ELÉTRICOS, COM SEÇÃO DE 16 MM², FORMA MANUAL, SEM REAPROVEITAMENTO. AF_09/2023 | E38: M | F38: 90 | G38: =VLOOKUP(B38,SINAPI!A32:C20021,3,FALSE) -> 0.95 | H38: =TRUNC(F38*G38,2) -> 85.5 | I38: =G38*(1+$I$9) -> 1.16166 | J38: =TRUNC(I38*F38,2) -> 104.54
A39: 2.2.5 | B39: 97660 | C39: SINAPI | D39: REMOÇÃO DE INTERRUPTORES/TOMADAS ELÉTRICAS, DE FORMA MANUAL, SEM REAPROVEITAMENTO. AF_09/2023 | E39: UN | F39: 2 | G39: =VLOOKUP(B39,SINAPI!A33:C20022,3,FALSE) -> 0.66 | H39: =TRUNC(F39*G39,2) -> 1.32 | I39: =G39*(1+$I$9) -> 0.807048 | J39: =TRUNC(I39*F39,2) -> 1.61
A40: 3 | D40: CANTEIRO DE OBRAS | H40: =SUM(H41:H64) -> 113760.12 | J40: =SUM(J41:J64) -> 139105.8 | K40: =J40/H40 -> 1.2227993
A41: 3.1 | B41: 102607 | C41: SINAPI | D41: CAIXA D´ÁGUA EM POLIETILENO, 1000 LITROS - FORNECIMENTO E INSTALAÇÃO. AF_06/2021 | E41: UN | F41: 1 | G41: =VLOOKUP(B41,SINAPI!A35:C20024,3,FALSE) -> 481 | H41: =TRUNC(F41*G41,2) -> 481 | I41: =G41*(1+$I$9) -> 588.1668 | J41: =TRUNC(I41*F41,2) -> 588.16
A42: 3.2 | B42: 98459 | C42: SINAPI | D42: TAPUME COM TELHA METÁLICA. AF_03/2024 | E42: m² | F42: 57.56 | G42: =VLOOKUP(B42,SINAPI!A36:C20025,3,FALSE) -> 81.53 | H42: =TRUNC(F42*G42,2) -> 4692.86 | I42: =G42*(1+$I$9) -> 99.694884 | J42: =TRUNC(I42*F42,2) -> 5738.43
...

Sheet CURVA ABC
A2: ESTADO DE MATO GROSSO DO SUL | G2: Total Orçamento original: | H2: 3684,205,86
A3: MUNICÍPIO DE CORUMBÁ | G3: Total Orçamento sem adm e mob: | H3: =H365 -> 2744661.8
A4: Orçamento Inicial - Analítico - Método Truncado | G4: Total de Itens: | H4: 352
A6: Objeto: | D6: RESTAURAÇÃO DO PRÉDIO DO ANTIGO HOTEL INTERNACIONAL. | F6: Faixa | G6: Percentual | H6: Total de Itens
A7: Município: | D7: Corumbá/MS | F7: A | G7: 0.8033 | H7: 54 | I7: =H7/H4 -> 0.15340909
A8: Local: | D8: Rua Frei Mariano.°38 Centro., Corumbá MS | F8: B | G8: 0.15 | H8: 95 | I8: =H8/H4 -> 0.26988636
A9: BDI: | D9: BDI Fornecimento de Materiais e Equipamentos - Não Desonerado (15,27%), Onerado (22,28%) | F9: C | G9: 0.05 | H9: =H4-H7-H8 -> 203 | I9: =H9/H4 -> 0.57670455
D12: Descrição | E12: CUSTO | G12: PRECO
A13: item | B13: codigo | C13: banco | E13: UNIT. | F13: TOTAL | G13: UNIT BDI | H13: TOTAL
A14: 15.06.01 | B14: 901000135 | C14: AGESUL | D14: FORNECIMENTO, MONTAGEM E INSTALACAO DE ESTRUTURA METALICA, COM LIGACAO SOLDADAS, INCLUSOS PERFIS METALICOS, CHAPA METALICAS, MAO DE OBRA E TRANSPORTE COM GUINDALTO - FORNECIMENTO E INSTALACAO | E14: 23.67 | F14: 270564.91 | G14: 28.943676 | H14: 330846.77 | I14: =(H14/H$365)*100 -> 12.054191 | J14: =I14 -> 12.054191 | M14: =J14+J34+J40 -> 137.25931
A15: 15.04.01 | B15: 11900017 | C15: PROPRIA | D15: Guarda corpo vidro laminado incolor 8 mm em montante de chapa dobrada ferro h = 1,10 m - MO EC | E15: 1247.24 | F15: 113860.54 | G15: 1525.1251 | H15: 139228.67 | I15: =(H15/H$365)*100 -> 5.0727076 | J15: =I15+J14 -> 17.126898 | M15: =M14/J487 -> #DIV/0!
A16: 12.9 | B16: 170330 | C16: SBC | D16: Assoalho de madeira Ipê (2,5cm X 0,20cm) | E16: 650.66 | F16: 106515.51 | G16: 795.62705 | H16: 130247.17 | I16: =(H16/H$365)*100 -> 4.7454725 | J16: =I16+J15 -> 21.872371
A17: 15.04.01 | B17: 119000012 | C17: PROPRIA | D17: Cobertura com vidro laminado incolor 6mm com guarnição de aluminio natural - MO EC | E17: 810.38 | F17: 86167.705 | G17: 990.93266 | H17: 105365.87 | I17: =(H17/H$365)*100 -> 3.8389382 | J17: =I17+J16 -> 25.711309
A18: 15.07.01 | B18: 42200 | C18: SBC | D18: ELEVADOR PCD PERCURSO 3m, 2 PARADAS, ACABAMENTO EM ACO INOX | E18: 85500 | F18: 85500 | G18: 98555.85 | H18: 98555.85 | I18: =(H18/H$365)*100 -> 3.5908195 | J18: =I18+J17 -> 29.302129
A19: 16.2 | B19: 40179 | C19: SBC | D19: PAINEL WALL - 40MM | E19: 291.19 | F19: 69885.6 | G19: 356.06713 | H19: 85456.112 | I19: =(H19/H$365)*100 -> 3.1135389 | J19: =I19+J18 -> 32.415667
A20: 16.2.9 | B20: 98297 | C20: SINAPI | D20: CABO ELETRÔNICO CATEGORIA 6, INSTALADO EM EDIFICAÇÃO INSTITUCIONAL - FORNECIMENTO E INSTALAÇÃO. AF_11/2019 | E20: 11.3 | F20: 61325.1 | G20: 13.81764 | H20: 74988.332 | I20: =(H20/H$365)*100 -> 2.732152 | J20: =I20+J19 -> 35.147819
A21: 15.06.01 | B21: 12199011 | C21: PROPRIA | D21: Estrutura metalica piso, paredes e cobertura da escada, inclusive corrimão e pintura anti-corrosivo MO EC | E21: 23.03 | F21: 53645.852 | G21: 28.161084 | H21: 65598.147 | I21: =(H21/H$365)*100 -> 2.3900266 | J21: =I21+J20 -> 37.537846
A22: 13.2 | B22: 87399 | C22: SINAPI | D22: ARGAMASSA PRONTA PARA CONTRAPISO, PREPARO MANUAL. AF_08/2019 | E22: 2382.71 | F22: 53207.582 | G22: 2913.5778 | H22: 65062.232 | I22: =(H22/H$365)*100 -> 2.3705009 | J22: =I22+J21 -> 39.908347
A23: 12.2 | B23: 101726 | C23: SINAPI | D23: Ladrilho hidraúlico cor natural (20cmX20cm) REF SINAPI 101726 | E23: 209.81 | F23: 50549.188 | G23: 256.55567 | H23: 61811.547 | I23: =(H23/H$365)*100 -> 2.2520642 | J23: =I23+J22 -> 42.160411
A24: 7.5 | B24: 12000035 | C24: PROPRIA | D24: Pintura a base de Silicato duas demão, inclusive uma demão de fundo em Silicato e emassamento - fornecimento e mão de obra | E24: 35.95 | F24: 48527.237 | G24: 43.95966 | H24: 59339.105 | I24: =(H24/H$365)*100 -> 2.1619824 | J24: =I24+J23 -> 44.322394
A25: 7.2 | B25: 87529 | C25: SINAPI | D25: Massa única, em argamassa traço 1:2:8, preparo mecânico, aplicada manualmente em paredes internas de ambientes com área entre 5m² e 10m², e = 17,5mm, com taliscas. Af_03/2024 | E25: 34.91 | F25: 47123.389 | G25: 42.687948 | H25: 57622.48 | I25: =(H25/H$365)*100 -> 2.0994383 | J25: =I25+J24 -> 46.421832
A26: 15.02.01 | B26: 102176 | C26: SINAPI | D26: Instalação de vidro laminado, e = 8 mm (4+4), encaixado em perfil u. Af_01/2021_ps | E26: 970.35 | F26: 44500.251 | G26: 1186.544 | H26: 54414.907 | I26: =(H26/H$365)*100 -> 1.9825724 | J26: =I26+J25 -> 48.404404
A27: 16.7.3 | B27: 43184 | C27: SINAPI | D27: AR CONDICIONADO SPLIT INVERTER, HI-WALL (PAREDE), 36000 BTU/H, CICLO FRIO, 60HZ, CLASSIFICACAO A (SELO PROCEL), GAS HFC, CONTROLE S/FIO | E27: 4939.37 | F27: 44454.33 | G27: 5693.6118 | H27: 51242.506 | I27: =(H27/H$365)*100 -> 1.866988 | J27: =I27+J26 -> 50.271392
... A36: 8.1.7 | B36: 1110101212 | C36: PROPRIA | D36: Porta em Vidro temperado 10mm e batente em madeira com dimensões (1,30mx3,10m), com arco em estrutura metálica e fechamento com vidros, incluindo fechadura tipo alavanca - P05 | E36: 2823.17 | F36: 22585.36 | G36: 3452.1723 | H36: 27617.378 | I36: =(H36/H$365)*100 -> 1.0062215 | J36: =I36+J35 -> 61.896933
A37: 15.07.01 | B37: elev01 | C37: PROPRIA | D37: Instalação de elevador cabine - Fornecimento, transporte e elevação. | E37: 21062.23 | F37: 21062.23 | G37: 25754.895 | H37: 25754.895 | I37: =(H37/H$365)*100 -> 0.93836315 | J37: =I37+J36 -> 62.835296
A38: 11.1.1 | B38: 96113 | C38: SINAPI | D38: Forro em placas de gesso, para ambientes comerciais. | E38: 47.46 | F38: 90 | G38: 58.034088 | H38: 23616.438 | I38: =(H38/H$365)*100 -> 0.86044985 | J38: =I38+J37 -> 63.695746
A39: 10.1.1 | B39: 92584 | C39: SINAPI | D39: Fabricação e instalação de tesoura inteira em aço, vão de 4 m, para telha cerâmica ou de concreto, incluso içamento. Af_07/2019 | E39: 879.7 | F39: 18473.7 | G39: 1075.6972 | H39: 22589.64 | I39: =(H39/H$365)*100 -> 0.82303912 | J39: =I39+J38 -> 64.518785
A40: 15.05.01 | B40: 12199200 | C40: PROPRIA | D40: Locação mensal de andaime metálico tipo fachadeiro, inclusive montagem | E40: 33.14 | F40: 17998.003 | G40: 40.523592 | H40: 22007.958 | I40: =(H40/H$365)*100 -> 0.80184588 | J40: =I40+J39 -> 65.320631
A41: 9.11 | B41: 101966 | C41: SINAPI | D41: Chapim sobre muros lineares, em granito ou mármore, l = 25 cm, assentado com argamassa 1:6 com aditivo. Af_11/2020 | E41: 234.24 | F41: 17364.211 | G41: 286.42867 | H41: 21232.957 | I41: =(H41/H$365)*100 -> 0.77360925 | J41: =I41+J40 -> 66.09424
A42: 8.2.6 | B42: 119000081 | C42: PROPRIA | D42: Janela com batente em madeira e fechamento fixo em vidro temperado 10mm, dimensões (1,30mX3,25m), arco metálicos (A ser reproduzido) - J05 | E42: 4298.54 | F42: 17194.16 | G42: 5256.2547 | H42: 21025.019 | I42: =(H42/H$365)*100 -> 0.76603314 | J42: =I42+J41 -> 66.860273
A43: 16.1.53 | B43: 1201001114 | C43: AGESUL | D43: LUMINARIA LED DE SOBREPOR, COM ALETAS E REFLETORES EM ALUMINIO ALTO BRILHO, INCLUSO DUAS LAMPADAS T 8 DE 18W - 120CM - FORNECIMENTO E INSTALACAO | E43: 271.82 | F43: 17124.66 | G43: 332.3815 | H43: 20940.034 | I43: =(H43/H$365)*100 -> 0.76293678 | J43: =I43+J42 -> 67.62321
A44: 16.7.2 | B44: 42422 | C44: SINAPI | D44: AR CONDICIONADO SPLIT INVERTER, HI-WALL (PAREDE), 18000 BTU/H, CICLO FRIO, 60HZ, CLASSIFICACAO A (SELO PROCEL), GAS HFC, CONTROLE S/FIO | E44: 3573.83 | F44: 17869.15 | G44: 4119.5538 | H44: 20597.769 | I44: =(H44/H$365)*100 -> 0.75046657 | J44: =I44+J43 -> 68.373677
B45: 87373 | C45: SINAPI | D45: Contra piso | E45: 705.21 | F45: 15747.833 | G45: 862.33079 | H45: 19256.45 | I45: =(H45/H$365)*100 -> 0.70159647 | J45: =I45+J44 -> 69.075273
A46: 5.8 | B46: 101964 | C46: SINAPI | D46: LAJE PRÉ-MOLDADA UNIDIRECIONAL, BIAPOIADA, PARA FORRO, ENCHIMENTO EM CERÂMICA, VIGOTA CONVENCIONAL, ALTURA TOTAL DA LAJE (ENCHIMENTO+CAPA) = (8+3). AF_11/2020 | E46: 171 | F46: 15709.77 | G46: 209.0988 | H46: 19209.907 | I46: =(H46/H$365)*100 -> 0.69990069 | J46: =I46+J45 -> 69.775174
A47: 4.1.3 | B47: 119000098 | C47: Próprio | D47: REVISÃO DE PROJETO DE ESTRUTURA METÁLICA | E47: 15518.6 | F47: 15518.6 | G47: 18976.144 | H47: 18976.144 | I47: =(H47/H$365)*100 -> 0.69138369 | J47: =I47+J46 -> 70.466558
A48: 15.05.01 | B48: 100725 | C48: SINAPI | D48: Pintura com tinta alquídica de fundo e acabamento (esmalte sintético grafite) pulverizada sobre superfícies metálicas (exceto perfil) executado em obra (por demão). Af_01/2020_pe | E48: 24.4 | F48: 15127.268 | G48: 29.83632 | H48: 18497.623 | I48: =(H48/H$365)*100 -> 0.6739491 | J48: =I48+J47 -> 71.140507
A49: 15.03.01 | B49: 101733 | C49: SINAPI | D49: Piso de borracha pastilhado/frisado, espessura 7mm, assentado com argamassa. Af_09/2020 | E49: 258.07 | F49: 14624.827 | G49: 315.568 | H49: 17883.238 | I49: =(H49/H$365)*100 -> 0.65156437 | J49: =I49+J48 -> 71.792071
A50: 13.3 | B50: 101726 | C50: SINAPI | D50: Ladrilho de concreto (25cm X 25cm) (m²) REF SINAPI 101726 | E50: 209.81 | F50: 14455.909 | G50: 256.55567 | H50: 17676.686 | I50: =(H50/H$365)*100 -> 0.64403875 | J50: =I50+J49 -> 72.43611
B51: 101726 | C51: SINAPI | D51: Ladrilho de concreto (25cm X 25cm) (m²) | E51: 209.81 | F51: 14455.909 | G51: 256.55567 | H51: 17676.686 | I51: =(H51/H$365)*100 -> 0.64403875 | J51: =I51+J50 -> 73.080149
A52: 8.1.2 | B52: 1110101211 | C52: PROPRIA | D52: Porta e batente almofadada em madeira com dimensões (1,30mx3,40m), com arco em estrutura metálica e fechamento com vidros, incluindo puxador de barras e fechadura ((A ser reproduzida) - P01 | E52: 3045.52 | F52: 12182.08 | G52: 3724.0619 | H52: 14896.247 | I52: =(H52/H$365)*100 -> 0.54273526 | J52: =I52+J51 -> 73.622884
...

Sheet Composições Principais
G2: Total Orçamento original: | H2: 3684,205,86
A3: 012300017 - Limpeza previa da obra - MO EC ( m² )
A5: Utilizado no(s) item(ns) 02.06
A6: Código | B6: Descrição | C6: Unidade | D6: Quantidade | E6: Utilização Operativa | F6: Utilização Improdutiva | G6: Valor Operativo | H6: Valor Improdutivo | I6: Valor Item
A7: 88316 | B7: Servente com encargos complementares | C7: h | D7: 0.2 | E7: 1 | F7: 0 | G7: =VLOOKUP(A7,SINAPI!A1:C19990,3,FALSE) -> 20.74 | H7: 0 | I7: =TRUNC(D7*G7,2) -> 4.14
H8: Custo Unitário | I8: =I7 -> 4.14
A12: 010800007 - Abertura e fechamento de rasgos em alvenaria para engastamento de laje ( m )
A14: Utilizado no(s) item(ns) 03.02 | M14: =J14+J34+J40 -> 0
A15: Código | B15: Descrição | C15: Unidade | D15: Quantidade | E15: Utilização Operativa | F15: Utilização Improdutiva | G15: Valor Operativo | H15: Valor Improdutivo | I15: Valor Item | M15: =M14/J523 -> #DIV/0!
A16: 88242 | B16: Ajudante de pedreiro com encargos complementares | C16: h | D16: 0.483 | E16: 1 | F16: 0 | G16: =VLOOKUP(A16,SINAPI!A10:C19999,3,FALSE) -> 21.28 | H16: 0 | I16: =TRUNC(D16*G16,2) -> 10.27
A17: 88309 | B17: Pedreiro com encargos complementares | C17: h | D17: 0.076 | E17: 1 | F17: 0 | G17: =VLOOKUP(A17,SINAPI!A11:C20000,3,FALSE) -> 25.75 | H17: 0 | I17: =TRUNC(D17*G17,2) -> 1.95
H18: Custo Unitário | I18: =TRUNC( SUM(I16:I17),2) -> 12.22
A23: 010800013 - Alvenaria em pedra rachao ou pedra de mão, assentada com argamassa traço 1:6 (cimento e areia) - ref. Cod. Sinapi 74053/001 ( m³ )
A25: Utilizado no(s) item(ns) 04.01
A26: Código | B26: Descrição | C26: Unidade | D26: Quantidade | E26: Utilização Operativa | F26: Utilização Improdutiva | G26: Valor Operativo | H26: Valor Improdutivo | I26: Valor Item
A27: 367 | B27: Areia grossa - posto jazida/fornecedor (retirado na jazida, sem transporte) | C27: m³ | D27: 0.3365 | E27: 1 | F27: 0 | G27: =VLOOKUP(A27,SINAPI!A11:C20010,3,FALSE) -> 85.09 | H27: 0 | I27: =TRUNC(D27*G27,2) -> 28.63
A28: 1379 | B28: Cimento Portland composto cp ii-32 | C28: kg | D28: 67.47 | E28: 1 | F28: 0 | G28: =VLOOKUP(A28,SINAPI!A12:C20011,3,FALSE) -> 0.8 | H28: 0 | I28: =TRUNC(D28*G28,2) -> 53.97
A29: 4730 | B29: Pedra de mão ou pedra rachão para arrimo/fundação (posto pedreira/fornecedor, sem frete) | C29: m³ | D29: 1.2 | E29: 1 | F29: 0 | G29: =VLOOKUP(A29,SINAPI!A13:C20012,3,FALSE) -> 92.94 | H29: 0 | I29: =TRUNC(D29*G29,2) -> 111.52
A30: 88309 | B30: Pedreiro com encargos complementares | C30: h | D30: 7 | E30: 1 | F30: 0 | G30: =VLOOKUP(A30,SINAPI!A14:C20013,3,FALSE) -> 25.75 | H30: 0 | I30: =TRUNC(D30*G30,2) -> 180.25
A31: 88316 | B31: Servente com encargos complementares | C31: h | D31: 10 | E31: 1 | F31: 0 | G31: =VLOOKUP(A31,SINAPI!A15:C20014,3,FALSE) -> 20.74 | H31: 0 | I31: =TRUNC(D31*G31,2) -> 207.4
H32: Custo Unitário | I32: =TRUNC( SUM(I27:I31),2) -> 581.77
A36: 012000035 - Pintura a base de Silicato duas demão, inclusive uma demão de fundo em Silicato e emassamento - fornecimento e mão de obra ( m² )
A38: Utilizado no(s) item(ns) 05.01.05 / 07.02.01 / 08.01.13 | F38: 90
A39: Código | B39: Descrição | C39: Unidade | D39: Quantidade | E39: Utilização Operativa | F39: Utilização Improdutiva | G39: Valor Operativo | H39: Valor Improdutivo | I39: Valor Item
A40: COT 2 | B40: Fundo Mineral | C40: l | D40: =0.15 -> 0.15 | E40: 1 | F40: 0 | G40: =Cotações!F13 -> 13.833333 | H40: 0 | I40: =TRUNC(D40*G40,2) -> 2.07
A41: COT 1 | B41: Tinta Mineral | C41: l | D41: =0.15 -> 0.15 | E41: 1 | F41: 0 | G41: =Cotações!F6 -> 41.638889 | H41: 0 | I41: =TRUNC(D41*G41,2) -> 6.24
A42: COT 3 | B42: Massa Corrida Mineral (kg) | C42: kg | D42: 1.5 | E42: 1 | F42: 0 | G42: =Cotações!F19 -> 6.94 | H42: 0 | I42: =TRUNC(D42*G42,2) -> 10.41
A43: 88310 | B43: Pintor com encargos complementares | C43: h | D43: 0.25 | E43: 1 | F43: 0 | G43: =VLOOKUP(A43,SINAPI!A27:C20026,3,FALSE) -> 27.44 | H43: 0 | I43: =TRUNC(D43*G43,2) -> 6.86
A44: 88316 | B44: Servente com encargos complementares | C44: h | D44: 0.5 | E44: 1 | F44: 0 | G44: =VLOOKUP(A44,SINAPI!A28:C20027,3,FALSE) -> 20.74 | H44: 0 | I44: =TRUNC(D44*G44,2) -> 10.37
H45: Custo Unitário | I45: =TRUNC( SUM(I40:I44),2) -> 35.95 | K45: 35.95
A51: 012100005 - Serviço de conservação e restauro das superfícies originais, restauro do reboco original e replica do "estencil", tratamento e tonalização cromática das novas superfícies ( m² )
A53: Utilizado no(s) item(ns) 05.01.06
A54: Código | B54: Descrição | C54: Unidade | D54: Instalação de painel 160x180 cm em tapume padrão IPHAN 6 PAINEIS AREA (1.6x1.8 x 20 unidades 57,6 m2)ADAPTADO | E54: 1 | F54: Utilização Improdutiva | G54: Valor Operativo | H54: Valor Improdutivo | I54: Valor Item
A55: 20193 | B55: Locacao de andaime metalico tipo fachadeiro, pecas com aproximadamente 1,20 m de largura e 2,0 m de altura, incluindo diagonais em x, barras de ligacao, sapatas e demais itens necessarios a montagem (nao inclui instalacao) | C55: m²xmês | D55: 1 | E55: 1 | F55: 0 | G55: 27 | H55: 0 | I55: =TRUNC(D55*G55,2) -> 27
A56: 157 | B56: Adesivo estrutural a base de resina epóxi para injeção em trincas, bicomponente, baixa viscosidade | C56: kg | D56: 0.1 | E56: 1 | F56: 0 | G56: 151.12 | H56: 0 | I56: =TRUNC(D56*G56,2) -> 15.11
A57: 87367 | B57: Argamassa traço 1:1:6 (em volume de cimento, cal e areia média úmida) para emboço/massa única/assentamento de alvenaria de vedação, preparo manual. Af_08/2019 | C57: m³ | D57: 0.00135 | E57: 1 | F57: 0 | G57: 683.03 | H57: 0 | I57: =TRUNC(D57*G57,2) -> 0.92
A58: 90770 | B58: Arquiteto de obra senior com encargos complementares | C58: h | D58: 2 | E58: 1 | F58: 0 | G58: 136.01 | H58: 0 | I58: =TRUNC(D58*G58,2) -> 272.02
A59: 97063 | B59: Montagem e desmontagem de andaime modular fachadeiro, com piso metálico, para edifícios com multiplos pavimentos (exclusive andaime e limpeza). Af_03/2024 | C59: m² | D59: 1 | E59: 1 | F59: 0 | G59: 20.04 | H59: 0 | I59: =TRUNC(D59*G59,2) -> 20.04
H60: Custo Unitário | I60: =TRUNC( SUM(I55:I59),2) -> 335.09
A63: 011101012 - Porta de madeira almofada 130 x 210 cm 2 folhas com batente 130 x 250 cm, bandeira, guarnições e ferragens MO EC ( cj )
...

Sheet Cotações
G2: Total Orçamento original: | H2: 3684,205,86
B4: COT 1 | C4: Tinta Mineral (l)
C5: Cotação 1 | D5: Cotação 2 | E5: Cotação 3 | F5: Mediana
B6: Custo Unitário | C6: =169.9/3.6 -> 47.194444 | D6: =149.9/3.6 -> 41.638889 | E6: =399/16.2 -> 24.62963 | F6: =MEDIAN(C6:E6) -> 41.638889
B7: link/ref | C7: https://www.leroymerlin.com.br/tinta-mineral-ecossilica-premium-3,6l--branca_1571292882 | D7: https://www.leroymerlin.com.br/tinta-mineral-arquitetura-premium-3,6l-branca_1571830208 | E7: https://loja.krotentintas.com.br/tinta-mineral-arquitetura-premium-16-2l-farinha-de-chia
B11: COT 2 | C11: Fundo Preparador de base mineral (l)
C12: Cotação 1 | D12: Cotação 2 | E12: Cotação 3 | F12: Mediana
B13: Custo Unitário | C13: =249/18 -> 13.833333 | D13: =249/18 -> 13.833333 | F13: =MEDIAN(C13:E13) -> 13.833333
B14: link/ref | C14: https://loja.krotentintas.com.br/fundo-preparador-mineral-para-paredes-18l | D14: https://www.leroymerlin.com.br/fundo-preparador-mineral-ecossilica-18l_1572187297 | M14: =J14+J34+J40 -> 0
M15: =M14/J487 -> #DIV/0!
B17: COT 3 | C17: Massa Corrida Mineral (kg)
C18: Cotação 1 | D18: Cotação 2 | E18: Cotação 3 | F18: Mediana
B19: Custo Unitário | C19: =198/25 -> 7.92 | D19: =149/25 -> 5.96 | F19: =MEDIAN(C19:E19) -> 6.94
B20: link/ref | C20: http://leroymerlin.com.br/massa-mineral-lisa-25kg_1571830268 | D20: https://loja.krotentintas.com.br/textura-mineral-quartzo-25kg
B23: COT 4 | C23: Abacaxi roxo (un)
C24: Cotação 1 | D24: Cotação 2 | E24: Cotação 3 | F24: Mediana
B25: Custo Unitário | C25: 14.9 | D25: 19.27 | E25: 15.84 | F25: =MEDIAN(C25:E25) -> 15.84
B26: link/ref | C26: https://www.orquidariomogimirim.com.br/rhoeo-spathacea-abacaxi-roxo?srsltid=AfmBOorIiAuamWGPjtzTzrq9DK6ucI7D-XoPJU4T1p4R5cXQFQ-GXnWp | D26: https://produto.mercadolivre.com.br/MLB-1797814878-planta-rhoeo-spathacea-abacaxi-roxo-super-decorativa--_JM#is_advertising=true&position=1&search_layout=grid&type=pad&tracking_id=88699076-3f6e-4fa0-8b0b-dc599ee06289&is_advertising=true&ad_domain=VQCATCORE_LST&ad_position=1&ad_click_id=NzJiY2U3MmMtNDk1MC00OWViLWFmZTMtZDdiZDY2ZTc0NmIx | E26: https://www.sitiodamata.com.br/importacao/abacaxi-roxo-tradescantia-spadothea.html
B28: COT 5 | C28: Bambu mosso (Phyllostochys pubescens) h=300cm (un)
C29: Cotação 1 | D29: Cotação 2 | E29: Cotação 3 | F29: Mediana
B30: Custo Unitário | C30: 36.9 | D30: 18.98 | E30: 48 | F30: =MEDIAN(C30:E30) -> 36.9
B31: link/ref | C31: https://www.floradelivery.com.br/bambu-mosso | D31: https://www.sitiodamata.com.br/importacao/bambu-mosso-p-edulis-1.html | E31: https://www.sitiodamata.com.br/especies-de-plantas/bambu-mosso-torto-phyllostachys-pubescens.html
B34: COT 6 | C34: Cipo de São João (Pirostegia venusia) h=150cm (un)
C35: Cotação 1 | D35: Cotação 2 | E35: Cotação 3 | F35: Mediana
B36: Custo Unitário | C36: 26.91 | D36: 30.23 | E36: 38.9 | F36: =MEDIAN(C36:E36) -> 30.23
B37: link/ref | C37: https://www.boniplantas.com.br/produto/muda-de-cipo-de-sao-joao-trepadeira-linda-de-cor-laranja.html?srsltid=AfmBOopDM9WEte4VrTYx2SnjCNLn_6_isp1S66iMR1YlXDf_KvFiZp3w | D37: https://www.sitiodamata.com.br/especies-de-plantas/cipo-de-s-o-jo-o.html | E37: https://produto.mercadolivre.com.br/MLB-2618544947-muda-de-cipo-de-so-joo-trepadeira-_JM#is_advertising=true&position=1&search_layout=grid&type=pad&tracking_id=1f2b0b75-459e-4709-99b9-20ca5d4b5a81&is_advertising=true&ad_domain=VQCATCORE_LST&ad_position=1&ad_click_id=YWM5NTMzMTQtOGE4MS00YmY5LWE2MTgtZDYzOTQ2NWQzYjNl
F38: 90
B40: COT 7 | C40: Clusia (Clusia fluminensis) h=60cm (un)
C41: Cotação 1 | D41: Cotação 2 | E41: Cotação 3 | F41: Mediana
B42: Custo Unitário | C42: 31.41 | D42: =849.9/20 -> 42.495 | E42: =120/10 -> 12 | F42: =MEDIAN(C42:E42) -> 31.41
B43: link/ref | C43: https://www.plantei.com.br/plantas-muda-de-clusia | D43: https://www.boniplantas.com.br/clusia-clusia-fluminensis?srsltid=AfmBOorlAIqXrHkpcFRKlyV5YBVsSyejAaya3OWafO79ry_b9zypI2vO | E43: https://brasilnativas.com.br/loja/plantas-ornamentais/cerca-viva/mudas-de-clusia/?srsltid=AfmBOor-1C4rpbcZyfBlSwIOyKPLPYRzB3-2hHsmIxdLIolkNoUh7dr1
B46: COT 8 | C46: Costela de Adão (monstera deliciosa) h=60cm (un)
C47: Cotação 1 | D47: Cotação 2 | E47: Cotação 3 | F47: Mediana
B48: Custo Unitário | C48: 59.31 | D48: 35 | E48: 44.9 | F48: =MEDIAN(C48:E48) -> 44.9
B49: link/ref | C49: https://www.plantei.com.br/muda-de-costela-de-adao-monstera-deliciosa-pote-23 | D49: https://brasilnativas.com.br/loja/plantas-ornamentais/interiores/mudas-de-costela-de-adao/ | E49: https://www.verdegarden.com.br/costela-de-adao-muda-monstera-planta-50cm-decoracao-interna?srsltid=AfmBOooDC3xPzrx_Tmmlo7TcWNOBeVZxlZgi7afm0BSG8YHakCD0uHCT
B52: COT 9 | C52: Dionela (Dianella tasmanica) h=50cm (un)
C53: Cotação 1 | D53: Cotação 2 | E53: Cotação 3 | F53: Mediana
B54: Custo Unitário | C54: 16.8 | D54: Instalação de painel 160x180 cm em tapume padrão IPHAN 6 PAINEIS AREA (1.6x1.8 x 20 unidades 57,6 m2)ADAPTADO | E54: https://www.orquidario4e.com.br/dianela-dianella-tasmanica?srsltid=AfmBOoo2Fhmc3-f_iD6-IO8BfC9Uwi8kEjr5peavDWDXy2KuQC6hrjtq | F54: =MEDIAN(C54:E54) -> 16.8
B55: link/ref | C55: https://www.sitiodamata.com.br/especies-de-plantas/dionela.html | D55: https://brasilnativas.com.br/loja/plantas-ornamentais/mudas-de-dionela-caixa-com-12/?srsltid=AfmBOopbYTEeJMwQJYWdRpTv_b6JTz9Cl5g7IZ_EW7Bc0j4k9AbgZ_1o | E55: https://www.orquidario4e.com.br/dianela-dianella-tasmanica?srsltid=AfmBOoo2Fhmc3-f_iD6-IO8BfC9Uwi8kEjr5peavDWDXy2KuQC6hrjtq
B57: COT 10 | C57: Iris germanica (Iris germanica) h=70cm (un)
...

Sheet Cronograma
G2: Total Orçamento original: | H2: 3684,205,86
A8: .
A10: Cronograma Físico-Financeiro - Inicial
B11: Objeto: RESTAURAÇÃO DO PRÉDIO DO ANTIGO HOTEL INTERNACIONAL.
B12: Município(s): Corumbá (MS)
B13: Local: Rua Frei Mariano.°38 Centro. - Corumbá MS
B14: Prazo Exec.: 12 meses
D15: Etapas de Execução / Desembolso
A16: Descrição | D16: 1 ª | E16: 2 ª | F16: 3 ª | G16: 4 ª | H16: 5 ª | I16: 6 ª | J16: 7 ª | K16: 8 ª | L16: 9 ª | N16: 11 ª | O16: 12 ª | P16: Total Acumulado
A17: 1 | B17: =Orçamento!D14 -> ADMINISTRAÇÃO LOCAL DA OBRA | C17: =Orçamento!J14 -> 884653.16 | D17: =1/12 -> 0.083333333 | E17: =1/12 -> 0.083333333 | F17: =1/12 -> 0.083333333 | G17: =1/12 -> 0.083333333 | H17: =1/12 -> 0.083333333 | I17: =1/12 -> 0.083333333 | J17: =1/12 -> 0.083333333 | K17: =1/12 -> 0.083333333 | ... O17: =1/12 -> 0.083333333 | P17: =SUM(D17:O17) -> 1
C18: =(C17/C$67)*100 -> 23.072134 | D18: =D17*C$17 -> 73721.097 | E18: =E17*C$17 -> 73721.097 | F18: =F17*$C$17 -> 73721.097 | G18: =G17*$C$17 -> 73721.097 | H18: =H17*$C$17 -> 73721.097 | I18: =I17*$C$17 -> 73721.097 | J18: =J17*$C$17 -> 73721.097 | K18: =K17*$C$17 -> 73721.097 | L18: =L17*$C$17 -> 73721.097 | M18: =M17*$C$17 -> 73721.097 | ... O18: =O17*$C$17 -> 73721.097 | P18: =SUM(D18:O18) -> 884653.16
A19: 2 | B19: =Orçamento!D34 -> DESMOBILIZACAO E DESMONTAGEM CANTEIRO | C19: =Orçamento!J34 -> 4409.56 | N19: 0.5 | O19: 0.5 | P19: =SUM(D19:O19) -> 1
C20: =(C19/C$67)*100 -> 0.11500322 | N20: =N19*$C19 -> 2204.78 | O20: =O19*$C19 -> 2204.78 | P20: =SUM(D20:O20) -> 4409.56
A21: 3 | B21: =Orçamento!D40 -> CANTEIRO DE OBRAS | C21: =Orçamento!J40 -> 139105.8 | D21: 0.45 | E21: 0.19 | F21: 0.09 | G21: 0.03 | H21: 0.03 | I21: 0.03 | J21: 0.03 | K21: 0.03 | L21: 0.03 | M21: 0.03 | N21: 0.03 | O21: 0.03 | P21: =SUM(D21:O21) -> 1
C22: =(C21/C$67)*100 -> 3.6279389 | D22: =D21*$C21 -> 62597.61 | E22: =E21*$C21 -> 26430.102 | F22: =F21*$C21 -> 12519.522 | G22: =G21*$C21 -> 4173.174 | H22: =H21*$C21 -> 4173.174 | I22: =I21*$C21 -> 4173.174 | J22: =J21*$C21 -> 4173.174 | K22: =K21*$C21 -> 4173.174 | ... O22: =O21*$C21 -> 4173.174 | P22: =SUM(D22:O22) -> 139105.8
A23: 4 | B23: =Orçamento!D65 -> SERVICOS PRELIMINARES | C23: =Orçamento!J65 -> 137341.97 | D23: 0.65 | E23: 0.2 | F23: 0.15 | P23: =SUM(D23:O23) -> 1
C24: =(C23/C$67)*100 -> 3.5819375 | D24: =D23*$C23 -> 89272.281 | E24: =E23*$C23 -> 27468.394 | F24: =F23*$C23 -> 20601.296 | P24: =SUM(D24:O24) -> 137341.97
A25: 5 | B25: =Orçamento!D87 -> ESTRUTURAS EM CONCRETO ARMADO | C25: =Orçamento!J87 -> 31411.67 | D25: 0.2 | E25: =1/4 -> 0.25 | F25: 0.35 | G25: 0.2 | P25: =SUM(D25:O25) -> 1
C26: =(C25/C$67)*100 -> 0.81922983 | D26: =D25*$C25 -> 6282.334 | E26: =E25*$C25 -> 7852.9175 | F26: =F25*$C25 -> 10994.084 | G26: =G25*$C25 -> 6282.334 | P26: =SUM(D26:O26) -> 31411.67
A27: 6 | B27: =Orçamento!D96 -> ALVENARIA | C27: =Orçamento!J96 -> 18856.33 | F27: 0.4 | G27: 0.3 | H27: 0.3 | P27: =SUM(D27:O27) -> 1
C28: =(C27/C$67)*100 -> 0.49178118 | F28: =F27*$C27 -> 7542.532 | G28: =G27*$C27 -> 5656.899 | H28: =H27*$C27 -> 5656.899 | P28: =SUM(D28:O28) -> 18856.33
A29: 7 | B29: =Orçamento!D99 -> PAREDES INTERNAS | C29: =Orçamento!J99 -> 140665.35 | H29: 0.2 | I29: 0.2 | J29: 0.2 | K29: 0.2 | L29: 0.2 | P29: =SUM(D29:O29) -> 1
C30: =(C29/C$67)*100 -> 3.6686127 | H30: =H29*$C29 -> 28133.07 | I30: =I29*$C29 -> 28133.07 | J30: =J29*$C29 -> 28133.07 | K30: =K29*$C29 -> 28133.07 | L30: =L29*$C29 -> 28133.07 | P30: =SUM(D30:O30) -> 140665.35
A31: 8 | B31: =Orçamento!D104 -> ESQUADRIAS | C31: =Orçamento!J104 -> 222096.05 | J31: 0.25 | K31: 0.2 | L31: 0.25 | M31: 0.3 | P31: =SUM(D31:O31) -> 1
C32: =(C31/C$67)*100 -> 5.7923603 | J32: =J31*$C31 -> 55524.012 | K32: =K31*$C31 -> 44419.21 | L32: =L31*$C31 -> 55524.012 | M32: =M31*$C31 -> 66628.815 | P32: =SUM(D32:O32) -> 222096.05
A33: 9 | B33: =Orçamento!D134 -> MURO DIVISA | C33: =Orçamento!J134 -> 55072.82 | I33: =1/2 -> 0.5 | J33: =1/2 -> 0.5 | P33: =SUM(D33:O33) -> 1
C34: =(C33/C$67)*100 -> 1.4363228 | I34: =I33*$C33 -> 27536.41 | J34: =J33*$C33 -> 27536.41 | P34: =SUM(D34:O34) -> 55072.82
A35: 10 | B35: =Orçamento!D147 -> COBERTURA | C35: =Orçamento!J147 -> 54394.05 | F35: 0.4 | G35: 0.6 | P35: =SUM(D35:O35) -> 1
C36: =(C35/C$67)*100 -> 1.4186202 | F36: =F35*$C35 -> 21757.62 | G36: =G35*$C35 -> 32636.43 | P36: =SUM(D36:O36) -> 54394.05
A37: 11 | B37: =Orçamento!D160 -> TETOS INTERNOS | C37: =Orçamento!J160 -> 25844.67 | K37: 0.4 | L37: 0.2 | M37: 0.4 | P37: =SUM(D37:O37) -> 1
C38: =(C37/C$67)*100 -> 0.67404008 | K38: =K37*$C37 -> 10337.868 | L38: =L37*$C37 -> 5168.934 | M38: =M37*$C37 -> 10337.868 | P38: =SUM(D38:O38) -> 25844.67
A39: 12 | B39: =Orçamento!D169 -> PISOS INTERNOS | C39: =Orçamento!J169 -> 311360.61 | J39: 0.2 | K39: 0.2 | L39: 0.2 | M39: 0.2 | N39: 0.2 | P39: =SUM(D39:O39) -> 1
C40: =(C39/C$67)*100 -> 8.1204183 | J40: =J39*$C39 -> 62272.122 | K40: =K39*$C39 -> 62272.122 | L40: =L39*$C39 -> 62272.122 | M40: =M39*$C39 -> 62272.122 | N40: =N39*$C39 -> 62272.122 | P40: =SUM(D40:O40) -> 311360.61
A41: 13 | B41: =Orçamento!D184 -> PISOS EXTERNOS | C41: =Orçamento!J184 -> 115656.64 | K41: 0.2 | L41: 0.2 | M41: 0.2 | N41: 0.2 | O41: 0.2 | P41: =SUM(D41:O41) -> 1
C42: =(C41/C$67)*100 -> 3.0163748 | K42: =K41*$C41 -> 23131.328 | L42: =L41*$C41 -> 23131.328 | M42: =M41*$C41 -> 23131.328 | N42: =N41*$C41 -> 23131.328 | O42: =O41*$C41 -> 23131.328 | P42: =SUM(D42:O42) -> 115656.64
A43: 14 | B43: =Orçamento!D189 -> PASSEIO PUBLICO | C43: =Orçamento!J189 -> 25823.63 | M43: 0.5 | N43: 0.5 | P43: =SUM(D43:O43) -> 1
C44: =(C43/C$67)*100 -> 0.67349135 | M44: =M43*$C43 -> 12911.815 | N44: =N43*$C43 -> 12911.815 | P44: =SUM(D44:O44) -> 25823.63
A45: 15 | B45: =Orçamento!D196 -> PASSARELA/ELEVADOR/ESCADA ESTRUTURA METÁLICA | C45: =Orçamento!J196 -> 985869.07 | E45: 0.1 | F45: 0.08 | G45: 0.12 | H45: 0.12 | I45: 0.1 | J45: 0.07 | K45: 0.08 | L45: 0.08 | M45: 0.08 | N45: 0.1 | O45: 0.07 | P45: =SUM(D45:O45) -> 1
C46: =(C45/C$67)*100 -> 25.711888 | E46: =E45*$C45 -> 98586.907 | F46: =F45*$C45 -> 78869.526 | G46: =G45*$C45 -> 118304.29 | H46: =H45*$C45 -> 118304.29 | I46: =I45*$C45 -> 98586.907 | J46: =J45*$C45 -> 69010.835 | K46: =K45*$C45 -> 78869.526 | L46: =L45*$C45 -> 78869.526 | ... O46: =O45*$C45 -> 69010.835 | P46: =SUM(D46:O46) -> 985869.07
A47: 16 | B47: =Orçamento!D231 -> INSTALACOES | C47: =Orçamento!J231 -> 586177.57 | D47: 0.07 | E47: 0.06 | F47: 0.08 | G47: 0.08 | H47: 0.08 | I47: 0.1 | J47: 0.05 | K47: 0.05 | L47: 0.07 | M47: 0.06 | N47: 0.12 | O47: 0.18 | P47: =SUM(D47:O47) -> 1
...

Sheet BDI
A2: Estado de Mato Grosso do Sul | G2: Total Orçamento original: | H2: 3684,205,86
A3: Município de Corumbá
A4: .
A5: .
A7: DEMONSTRAÇÃO DA BONIFICAÇÃO E DESPESAS INDIRETAS - BDI
A8: Onerado - 21,34 %
A9: Acórdão 2622/2013
A10: Métodologia de Cálculo Truncado
A12: Variável | B12: Componente | C12: Taxa Referência (%)
A14: R | B14: Garantia | C14: 0.8 | M14: =J14+J34+J40 -> 0
B15: Risco | C15: 0.97 | M15: =M14/J487 -> #DIV/0!
B16: Garantia / Risco / Seguro | C16: 1.77
A17: DF | B17: Despesa Financeira | C17: 1.11
A18: AC | B18: Administração Central | C18: 4.01
A19: L | B19: Lucro | C19: 7.3
A20: I | B20: PIS | C20: 0.65
B21: COFINS | C21: 3
B22: ISSQN | C22: 2.5
B23: INSS | C23: 0
B24: TRIBUTOS | C24: 6.15
A25: BDI | B25: Benefícios e Despesas Indiretas | C25: 22.28
A32: Onde:
A33: AC = taxa de rateio da Administração Central;
A34: R = taxa de Risco, Seguro e Garantia;
A35: DF = taxa das Despesas Financeiras;
A36: L = taxa de Lucro;
A37: I = taxa de Tributos.
A59: Estado de Mato Grosso do Sul
A60: Município de Corumbá
A61: .
A62: .
A64: DEMONSTRAÇÃO DA BONIFICAÇÃO E DESPESAS INDIRETAS - BDI
A65: BDI Fornecimento de Materiais e Equipamentos - Não Desonerado - 15,27 %
... A67: Métodologia de Cálculo Truncado
A69: Variável | B69: Componente | C69: Taxa Referência (%)
A71: R | B71: Garantia | C71: 0.3
B72: Risco | C72: 0.56
B73: Garantia / Risco / Seguro | C73: 0.86
A74: DF | B74: Despesa Financeira | C74: 0.85
A75: AC | B75: Administração Central | C75: 1.5
...

Sheet LES
A1: Obra | B1: RESTAURAÇÃO DO PREDIO HOTEL INTERNACIONAL
A2: Local | B2: Corumba/MS | G2: Total Orçamento original: | H2: 3684,205,86
A3: Data | B3: Junho de 2025
B5: ENCARGOS SOCIAIS SOBRE SALARIO HORA - DESONERADO
A7: CODIGO | B7: DESCRIÇÃO | C7: HORISTA (%)
B9: GRUPO A
A10: A1 | B10: INSS | C10: 20
A11: A2 | B11: SESI | C11: 1.5
A12: A3 | B12: SENAI | C12: 1
A13: A4 | B13: INCRA | C13: 0.2
A14: A5 | B14: SEBRAE | C14: 0.6 | M14: =J14+J34+J40 -> 0
A15: A6 | B15: Salario Educação | C15: 2.5 | M15: =M14/J487 -> #DIV/0!
A16: A7 | B16: Seguro Contra Acidentes Trabalho | C16: 3
A17: A8 | B17: FGTS | C17: 8
A18: A9 | B18: SECONCI | C18: 0
A19: A | B19: Total dos Encargos Sociais Basicos | C19: =SUM(C10:C18) -> 36.8
B21: GRUPO B
A22: B1 | B22: Repouso Semanal Remunerado | C22: 17.95
A23: B2 | B23: Feriados | C23: 4.52
A24: B3 | B24: Auxilio-efermidade | C24: 0.89
A25: B4 | B25: 13o Salario | C25: 11.35
A26: B5 | B26: Licença Paternidade | C26: 0.07
A27: B6 | B27: Faltas Justificadas | C27: 0.76
A28: B7 | B28: Dias de Chuvas | C28: 1.35
A29: B8 | B29: Auxílio Acidente de Trabalho | C29: 0.1
A30: B9 | B30: Férias Gozadas | C30: 0
A31: B10 | B31: Salário Maternidade | C31: 0.04
A32: B | B32: Total de Encargos Socias que recebem incidência de A | C32: =SUM(C22:C31) -> 37.03
B34: GRUPO C
A35: C1 | B35: Aviso Prévio Indenizado | C35: 5.13
A36: C2 | B36: Aviso Prévio Trabalhado | C36: 0.12
A37: C3 | B37: Férias Indenizadas | C37: 11.9
A38: C4 | B38: Depósito Rescisão Sem Justa Causa | C38: 2.03 | F38: 90
A39: C5 | B39: Indenização Adicional | C39: 0.43
A40: C | B40: Total dos Encargos Socias que não recebem as incidências de A | C40: =SUM(C35:C39) -> 19.61
B42: GRUPO D
A43: D1 | B43: Reinciência de A sobre B | C43: 13.63
A44: D2 | B44: Reincidência de Grupo A sobre Aviso Prévio Trabalhado e reincidência do FGTS sobre Aviso Previo Indenizado | C44: 0.45
A45: D | B45: Total das Taxas incidências de reincidências | C45: =SUM(C43:C44) -> 14.08
B47: TOTAL ( A + B + C + D ) | C47: =SUM(C19,C32,C40,C45) -> 107.52
...
