Workbook
Name codigo2: #REF!
Name codigo2: #REF!
Name codigo2: #REF!
Name codigo2: #REF!
Name PEDESTAL_PARA_CERQUITE: #REF!
Name PEDESTAL_PARA_CERQUITE: #REF!
Name PEDESTAL_PARA_CERQUITE: #REF!
Name PEDESTAL_PARA_CERQUITE: #REF!

Sheet SÍNTESE
B3: SÍNTESE
B4: SERVIÇO* | C4: QUANTIDADE | D4: UNIDADE | E4: PREÇO UNITÁRIO | F4: PREÇO MENSAL | G4: PREÇO ANUAL (12 MESES)
B5: ='1.VARRICAO_MAN'!B2 -> 1) VARRIÇÃO MANUAL DE VIAS E LOGRADOUROS PÚBLICOS | C5: ='1.VARRICAO_MAN'!E212 -> 1104.03 | D5: km/mês | E5: ='1.VARRICAO_MAN'!E213 -> 214.37 | F5: ='1.VARRICAO_MAN'!E208 -> 236681.59 | G5: =F5*12 -> 2840179.1
B6: 2) ROÇADA MECANIZADA, CAPINA MANUAL E RASPAGEM | C6: ='2.ROC_MEC_CAP_RASP'!F618 -> 508028.48 | D6: m²/mês | E6: ='2.ROC_MEC_CAP_RASP'!F619 -> 0.38 | F6: ='2.ROC_MEC_CAP_RASP'!F617 -> 197642.2 | G6: =F6*12 -> 2371706.4
B7: 3) PINTURA DE MEIO-FIO | C7: ='3.PINTURA_MEIO-FIO'!F240 -> 59405 | D7: m/mês | E7: ='3.PINTURA_MEIO-FIO'!F241 -> 1.29 | F7: ='3.PINTURA_MEIO-FIO'!F236 -> 77044.93 | G7: =F7*12 -> 924539.16
B8: 4) LIMPEZA DE FEIRAS, EVENTOS, PARQUES E PRAÇAS | C8: ='4.LIMP_EVENTOS'!F192 -> 327515.38 | D8: m²/mês | E8: ='4.LIMP_EVENTOS'!F193 -> 0.11 | F8: ='4.LIMP_EVENTOS'!F188 -> 38560.67 | G8: =F8*12 -> 462728.04
B9: 5) COLETA DOS RESÍDUOS GERADOS | C9: 1 | D9: R$/equipe.mês | E9: =F9 -> 176935.37 | F9: =ANEXO_IIIa_COLETA_TRANSP_SEDE!F295 -> 176935.37 | G9: =F9*12 -> 2123224.4
B10: 6) ADMINISTRATIVO LOCAL | C10: 0 | D10: 0 | E10: 0 | F10: =E10*C10 -> 0 | G10: =F10*12 -> 0
E11: TOTAL | F11: =SUM(F5:F10) -> 726864.76 | G11: =SUM(G5:G10) -> 8722377.2
B12: *Os custos com o administrativo local está rateado nos demais serviços contratados

Sheet TR
C2: Mês | D2: Ano | F2: FERRAMENTAS | G2: Quant. | M2: EPI'S | N2: Quant. | P2: VEÍCULOS | S2: VEÍCULOS | T2: Quant. | Z2: EPC's | AA2: Quant.
B3: Vassourão | C3: ='1.VARRICAO_MAN'!H52 -> 40 | D3: =C3*12 -> 480 | F3: Balde | G3: =ROUNDUP(SUMIF($B$3:$B$38,F3,$D$3:$D$38),0) -> 8 | I3: Jaqueta com reflexivo | J3: 3.58 | K3: =J3*12 -> 42.96 | M3: Boné de brim | N3: =ROUNDUP(SUMIF($I$3:$I$73,M3,$K$3:$K$73),0) -> 200 | P3: Lutocar | Q3: ='1.VARRICAO_MAN'!H60 -> 20 | S3: Caminhão truck | T3: =ANEXO_IIIa_COLETA_TRANSP_SEDE!H53 -> 2 | V3: Recipiente térmico para água (5L) | W3: ='1.VARRICAO_MAN'!H78 -> 0.6 | X3: =W3*12 -> 7.2 | Z3: Bandeirola | AA3: =ROUNDUP(SUMIF($V$3:$V$22,Z3,$X$3:$X$22),0) -> 13
B4: Vassoura de aço | C4: ='1.VARRICAO_MAN'!H53 -> 0 | D4: =C4*12 -> 0 | F4: Cal (saco - 8kg) | G4: =ROUNDUP(SUMIF($B$3:$B$38,F4,$D$3:$D$38),0) -> 22812 | I4: Calça de brim | J4: 10.75 | K4: =J4*12 -> 129 | M4: Boné Roçador C/ Protetor Facial | N4: =ROUNDUP(SUMIF($I$3:$I$73,M4,$K$3:$K$73),0) -> 10 | P4: Roçadeira costal | Q4: ='2.ROC_MEC_CAP_RASP'!H47 -> 8 | S4: Lutocar | T4: =SUMIF($P$3:$P$9,S4,$Q$3:$Q$9) -> 23 | V4: Cone de sinalização | W4: ='1.VARRICAO_MAN'!H79 -> 1.78 | X4: =W4*12 -> 21.36 | Z4: Cavalete de sinalização | AA4: =ROUNDUP(SUMIF($V$3:$V$22,Z4,$X$3:$X$22),0) -> 1
B5: Pá | C5: ='1.VARRICAO_MAN'!H54 -> 0.08 | D5: =C5*12 -> 0.96 | F5: carrinho de mão | G5: =ROUNDUP(SUMIF($B$3:$B$38,F5,$D$3:$D$38),0) -> 14 | I5: Camiseta manga longa com faixa reflexiva | J5: 10.75 | K5: =J5*12 -> 129 | M5: Botina De segurança c/ ponta E biqueira com sola antiderrapante | N5: =ROUNDUP(SUMIF($I$3:$I$73,M5,$K$3:$K$73),0) -> 300 | P5: ='2.ROC_MEC_CAP_RASP'!B244 -> Roçadeira costal | Q5: ='2.ROC_MEC_CAP_RASP'!H244 -> 2 | S5: Mini trator | T5: =SUMIF($P$3:$P$9,S5,$Q$3:$Q$9) -> 1 | V5: Recipiente térmico para água (5L) | W5: ='2.ROC_MEC_CAP_RASP'!H68 -> 0.24 | X5: =W5*12 -> 2.88 | Z5: Cone de sinalização | AA5: =ROUNDUP(SUMIF($V$3:$V$22,Z5,$X$3:$X$22),0) -> 48
B6: Sacos plásticos | C6: ='1.VARRICAO_MAN'!H55 -> 10132 | D6: =C6*12 -> 121584 | F6: enxada | G6: =ROUNDUP(SUMIF($B$3:$B$38,F6,$D$3:$D$38),0) -> 28 | I6: Boné de brim | J6: 7.16 | K6: =J6*12 -> 85.92 | M6: Calça de brim | N6: =ROUNDUP(SUMIF($I$3:$I$73,M6,$K$3:$K$73),0) -> 300 | P6: ='2.ROC_MEC_CAP_RASP'!B245 -> Mini trator | Q6: ='2.ROC_MEC_CAP_RASP'!H245 -> 1 | S6: Motos | T6: ='6.ADM'!H57 -> 1 | V6: Tela de proteção | W6: ='2.ROC_MEC_CAP_RASP'!H69 -> 0.66 | X6: =W6*12 -> 7.92 | Z6: Recipiente térmico para água (5L) | AA6: =ROUNDUP(SUMIF($V$3:$V$22,Z6,$X$3:$X$22),0) -> 26
B7: carrinho de mão | C7: ='2.ROC_MEC_CAP_RASP'!H35 -> 0.67 | D7: =C7*12 -> 8.04 | F7: foice | G7: =ROUNDUP(SUMIF($B$3:$B$38,F7,$D$3:$D$38),0) -> 1 | I7: Botina De segurança c/ ponta E biqueira com sola antiderrapante | J7: 10.75 | K7: =J7*12 -> 129 | M7: Camiseta manga longa com faixa reflexiva | N7: =ROUNDUP(SUMIF($I$3:$I$73,M7,$K$3:$K$73),0) -> 300 | P7: Trator | Q7: ='3.PINTURA_MEIO-FIO'!H37 -> 1 | S7: Ônibus | T7: ='6.ADM'!H55 -> 1 | V7: Cone de sinalização | W7: ='2.ROC_MEC_CAP_RASP'!H70 -> 0.35 | X7: =W7*12 -> 4.2 | Z7: Tela de proteção | AA7: =ROUNDUP(SUMIF($V$3:$V$22,Z7,$X$3:$X$22),0) -> 10
B8: enxada | C8: ='2.ROC_MEC_CAP_RASP'!H36 -> 0 | D8: =C8*12 -> 0 | F8: Pá | G8: =ROUNDUP(SUMIF($B$3:$B$38,F8,$D$3:$D$38),0) -> 23 | I8: Capa de chuva amarela com reflexivo | J8: 7.16 | K8: =J8*12 -> 85.92 | M8: Capa de chuva amarela com reflexivo | N8: =ROUNDUP(SUMIF($I$3:$I$73,M8,$K$3:$K$73),0) -> 200 | P8: Reboque | Q8: ='3.PINTURA_MEIO-FIO'!H38 -> 1 | S8: Reboque | T8: =SUMIF($P$3:$P$9,S8,$Q$3:$Q$9) -> 1 | V8: Bandeirola | W8: ='2.ROC_MEC_CAP_RASP'!H71 -> 0.04 | X8: =W8*12 -> 0.48
B9: foice | C9: ='2.ROC_MEC_CAP_RASP'!H37 -> 0 | D9: =C9*12 -> 0 | F9: pás | G9: =ROUNDUP(SUMIF($B$3:$B$38,F9,$D$3:$D$38),0) -> 10 | I9: Colete reflexivo | J9: 7.16 | K9: =J9*12 -> 85.92 | M9: Colete reflexivo | N9: =ROUNDUP(SUMIF($I$3:$I$73,M9,$K$3:$K$73),0) -> 200 | P9: Lutocar | Q9: ='4.LIMP_EVENTOS'!H39 -> 3 | S9: Roçadeira costal | T9: =SUMIF($P$3:$P$9,S9,$Q$3:$Q$9) -> 10 | V9: Cavalete de sinalização | W9: ='2.ROC_MEC_CAP_RASP'!H72 -> 0.04 | X9: =W9*12 -> 0.48
B10: pás | C10: ='2.ROC_MEC_CAP_RASP'!H38 -> 0.67 | D10: =C10*12 -> 8.04 | F10: Recipiente para Gasolina com bico 20L | G10: =ROUNDUP(SUMIF($B$3:$B$38,F10,$D$3:$D$38),0) -> 4 | I10: Luva Tricotada com revestimento nitrílico | J10: 28.66 | K10: =J10*12 -> 343.92 | M10: Jaqueta com reflexivo | N10: =ROUNDUP(SUMIF($I$3:$I$73,M10,$K$3:$K$73),0) -> 83 | S10: Trator | T10: =SUMIF($P$3:$P$9,S10,$Q$3:$Q$9) -> 1 | V10: Recipiente térmico para água (5L) | W10: ='2.ROC_MEC_CAP_RASP'!H267 -> 0.12 | X10: =W10*12 -> 1.44
B11: vassourão | C11: ='2.ROC_MEC_CAP_RASP'!H39 -> 0.67 | D11: =C11*12 -> 8.04 | F11: Sacos plásticos | G11: =ROUNDUP(SUMIF($B$3:$B$38,F11,$D$3:$D$38),0) -> 209733 | I11: Protetor solar FPS 30 | J11: 43 | K11: =J11*12 -> 516 | M11: Jaqueta com reflexivo | N11: =ROUNDUP(SUMIF($I$3:$I$73,M11,$K$3:$K$73),0) -> 17 | S11: Vans | T11: ='6.ADM'!H56 -> 1 | V11: Tela de proteção | W11: ='2.ROC_MEC_CAP_RASP'!H268 -> 0.17 | X11: =W11*12 -> 2.04
B12: vassoura de aço | C12: ='2.ROC_MEC_CAP_RASP'!H40 -> 2 | D12: =C12*12 -> 24 | F12: Trincha | G12: =ROUNDUP(SUMIF($B$3:$B$38,F12,$D$3:$D$38),0) -> 8 | I12: Jaqueta com reflexivo | J12: 1.41 | K12: =J12*12 -> 16.92 | M12: Luva Tricotada com revestimento nitrílico | N12: =ROUNDUP(SUMIF($I$3:$I$73,M12,$K$3:$K$73),0) -> 800 | V12: Cone de sinalização | W12: ='2.ROC_MEC_CAP_RASP'!H269 -> 0.09 | X12: =W12*12 -> 1.08
B13: Sacos plásticos | C13: ='2.ROC_MEC_CAP_RASP'!H41 -> 4052.8 | D13: =C13*12 -> 48633.6 | F13: vassoura | G13: =ROUNDUP(SUMIF($B$3:$B$38,F13,$D$3:$D$38),0) -> 4 | I13: Calça de Brim | J13: 4.25 | K13: =J13*12 -> 51 | M13: Máscara tripla | N13: =ROUNDUP(SUMIF($I$3:$I$73,M13,$K$3:$K$73),0) -> 2 | V13: Cavalete de sinalização | W13: ='2.ROC_MEC_CAP_RASP'!H270 -> 0.01 | X13: =W13*12 -> 0.12
B14: Recipiente para Gasolina com bico 20L | C14: ='2.ROC_MEC_CAP_RASP'!H42 -> 0.24 | D14: =C14*12 -> 2.88 | F14: Vassoura de aço | G14: =ROUNDUP(SUMIF($B$3:$B$38,F14,$D$3:$D$38),0) -> 53 | I14: Camiseta manga longa com faixa reflexiva | J14: 4.25 | K14: =J14*12 -> 51 | M14: Óculos de Proteção | N14: =ROUNDUP(SUMIF($I$3:$I$73,M14,$K$3:$K$73),0) -> 11 | V14: Recipiente térmico para água (5L) | W14: ='2.ROC_MEC_CAP_RASP'!H496 -> 0.13 | X14: =W14*12 -> 1.56
B15: Balde | C15: ='3.PINTURA_MEIO-FIO'!H29 -> 0.66 | D15: =C15*12 -> 7.92 | F15: Vassourão | G15: =ROUNDUP(SUMIF($B$3:$B$38,F15,$D$3:$D$38),0) -> 613 | I15: Boné de Brim | J15: 2.83 | K15: =J15*12 -> 33.96 | M15: Protetor auricular | N15: =ROUNDUP(SUMIF($I$3:$I$73,M15,$K$3:$K$73),0) -> 11 | V15: Recipiente térmico para água (5L) | W15: ='3.PINTURA_MEIO-FIO'!H57 -> 0.13 | X15: =W15*12 -> 1.56
B16: Trincha | C16: ='3.PINTURA_MEIO-FIO'!H30 -> 0.66 | D16: =C16*12 -> 7.92 | I16: Botina De Segurança C/ Ponta E Biqueira Com Sola Antiderrapante | J16: 4.25 | K16: =J16*12 -> 51 | M16: Protetor solar FPS 30 | N16: =ROUNDUP(SUMIF($I$3:$I$73,M16,$K$3:$K$73),0) -> 1200 | V16: Cone de sinalização | W16: ='3.PINTURA_MEIO-FIO'!H58 -> 0.35 | X16: =W16*12 -> 4.2
B17: vassoura | C17: ='3.PINTURA_MEIO-FIO'!H31 -> 0.33 | D17: =C17*12 -> 3.96 | I17: Capa de chuva amarela com reflexivo | J17: 2.83 | K17: =J17*12 -> 33.96 | V17: Recipiente térmico para água (5L) | W17: ='4.LIMP_EVENTOS'!H57 -> 0.09 | X17: =W17*12 -> 1.08
B18: Cal (saco - 8kg) | C18: ='3.PINTURA_MEIO-FIO'!H32 -> 1900.96 | D18: =C18*12 -> 22811.52 | I18: Colete reflexivo | J18: 2.83 | K18: =J18*12 -> 33.96 | V18: Cone de sinalização | W18: ='4.LIMP_EVENTOS'!H58 -> 0.26 | X18: =W18*12 -> 3.12
B19: vassourão | C19: ='4.LIMP_EVENTOS'!H31 -> 6 | D19: =C19*12 -> 72 | I19: Luva Tricotada com revestimento Nitrílico | J19: 11.33 | K19: =J19*12 -> 135.96 | V19: Recipiente térmico para água (5L) | W19: =ANEXO_IIIa_COLETA_TRANSP_SEDE!H46 -> 0.83 | X19: =W19*12 -> 9.96
B20: vassoura de aço | C20: ='4.LIMP_EVENTOS'!H32 -> 0 | D20: =C20*12 -> 0 | I20: Protetor solar FPS 30 | J20: 17 | K20: =J20*12 -> 204 | V20: Cone de sinalização | W20: =ANEXO_IIIa_COLETA_TRANSP_SEDE!H47 -> 1 | X20: =W20*12 -> 12
B21: pá | C21: ='4.LIMP_EVENTOS'!H33 -> 0.08 | D21: =C21*12 -> 0.96 | I21: Óculos de Proteção | J21: 0.66 | K21: =J21*12 -> 7.92 | V21: Bandeirola | W21: =ANEXO_IIIa_COLETA_TRANSP_SEDE!H48 -> 1 | X21: =W21*12 -> 12
B22: sacos plásticos | C22: ='4.LIMP_EVENTOS'!H34 -> 1519.8 | D22: =C22*12 -> 18237.6 | I22: Protetor auricular | J22: 0.66 | K22: =J22*12 -> 7.92 | V22: Cone de sinalização | W22: ='6.ADM'!H50 -> 0.16666667 | X22: =W22*12 -> 2
B23: vassourão | C23: =ANEXO_IIIa_COLETA_TRANSP_SEDE!H32 -> 2 | D23: =C23*12 -> 24 | I23: Boné Roçador C/ Protetor Facial | J23: 0.66 | K23: =J23*12 -> 7.92
B24: pá | C24: =ANEXO_IIIa_COLETA_TRANSP_SEDE!H33 -> 1 | D24: =C24*12 -> 12 | I24: Jaqueta com reflexivo | J24: 0.75 | K24: =J24*12 -> 9
B25: carrinho de mão | C25: 0.08 | D25: =C25*12 -> 0.96 | I25: Calça de Brim | J25: 2.25 | K25: =J25*12 -> 27
B26: enxada | C26: 0.04 | D26: =C26*12 -> 0.48 | I26: Camiseta manga longa com faixa reflexiva | J26: 2.25 | K26: =J26*12 -> 27
B27: foice | C27: 0.02 | D27: =C27*12 -> 0.24 | I27: Boné de Brim | J27: 1.5 | K27: =J27*12 -> 18
B28: pás | C28: 0.12 | D28: =C28*12 -> 1.44 | I28: Botina De Segurança C/ Ponta E Biqueira Com Sola Antiderrapante | J28: 2.25 | K28: =J28*12 -> 27
B29: vassourão | C29: 0.15 | D29: =C29*12 -> 1.8 | I29: Capa de chuva amarela com reflexivo | J29: 1.5 | K29: =J29*12 -> 18
B30: vassoura de aço | C30: 0.15 | D30: =C30*12 -> 1.8 | I30: Colete reflexivo | J30: 1.5 | K30: =J30*12 -> 18
B31: Sacos plásticos | C31: 1773.1 | D31: =C31*12 -> 21277.2 | I31: Luva Tricotada com revestimento Nitrílico | J31: 6 | K31: =J31*12 -> 72
B32: Recipiente para Gasolina com bico 20L | C32: 0.03 | D32: =C32*12 -> 0.36 | I32: Protetor solar FPS 30 | J32: 9 | K32: =J32*12 -> 108
B33: carrinho de mão | C33: 0.38 | D33: =C33*12 -> 4.56 | I33: Óculos de Proteção | J33: 0.25 | K33: =J33*12 -> 3
B34: enxada | C34: 2.25 | D34: =C34*12 -> 27 | I34: Boné Roçador C/ Protetor Facial | J34: 0.16 | K34: =J34*12 -> 1.92
B35: enxadão | C35: 0.75 | D35: =C35*12 -> 9 | I35: Máscara tripla | J35: 0.08 | K35: =J35*12 -> 0.96
B36: pá | C36: 0.75 | D36: =C36*12 -> 9 | I36: Protetor auricular | J36: 0.25 | K36: =J36*12 -> 3
... B38: vassoura de aço | C38: 2.25 | D38: =C38*12 -> 27 | I38: Calça de Brim | J38: 2.5 | K38: =J38*12 -> 30
I39: Camiseta manga longa com faixa reflexiva | J39: 2.5 | K39: =J39*12 -> 30
I40: Boné de Brim | J40: 1.66 | K40: =J40*12 -> 19.92
I41: Botina De Segurança C/ Ponta E Biqueira Com Sola Antiderrapante | J41: 2.5 | K41: =J41*12 -> 30
I42: Capa de chuva amarela com reflexivo | J42: 1.66 | K42: =J42*12 -> 19.92
...

Sheet 1.VARRICAO_MAN
B2: 1) VARRIÇÃO MANUAL DE VIAS E LOGRADOUROS PÚBLICOS | L2: REFERÊNCIAS
B3: 1.1) Demanda | G3: Dias úteis p/ mês | H3: 25.33
B4: Tabela 1.1 - Extensão de vias por dia da semana
B5: Setores | C5: Segunda | D5: Terça | E5: Quarta | F5: Quinta | G5: Sexta | H5: Sábado
B6: 1 | C6: 0 | D6: 0 | E6: 0 | F6: 0 | G6: 0 | H6: 1.751597
B7: 2 | C7: 0 | D7: 6.3358067 | E7: 0 | F7: 0 | G7: 6.3358067 | H7: 0
B8: 3 | C8: 0 | D8: 13.189644 | E8: 0 | F8: 13.189644 | G8: 0 | H8: 13.189644
B9: 4 | C9: 0 | D9: 8.9587878 | E9: 0 | F9: 0 | G9: 8.9587878 | H9: 0
B10: 5 | C10: 0 | D10: 13.142653 | E10: 0 | F10: 0 | G10: 13.142653 | H10: 0
B11: 6 | C11: 0 | D11: 8.8687875 | E11: 0 | F11: 8.8687875 | G11: 0 | H11: 0
B12: 7 | C12: 22.003444 | D12: 0 | E12: 22.003444 | F12: 0 | G12: 22.003444 | H12: 22.003444
B13: 8 | C13: 16.471624 | D13: 0 | E13: 0 | F13: 16.471624 | G13: 0 | H13: 0
B14: 9 | C14: 13.203929 | D14: 0 | E14: 0 | F14: 13.203929 | G14: 0 | H14: 0
B15: 10 | C15: 0 | D15: 0 | E15: 7.5960664 | F15: 0 | G15: 0 | H15: 7.5960664
B16: 11 | C16: 0 | D16: 0 | E16: 7.0025138 | F16: 0 | G16: 0 | H16: 7.0025138
B17: 12 | C17: 0 | D17: 0 | E17: 6.551905 | F17: 0 | G17: 0 | H17: 0
... B19: 14 | C19: 0 | D19: 0 | E19: 2.8017818 | F19: 0 | G19: 0 | H19: 0
B20: TOTAL (VIAS) | C20: 51.678998 | D20: 50.495678 | E20: 49.982017 | F20: 51.733984 | G20: 50.440692 | H20: 49.77
G22: Extensão média de vias a serem varridas (m/dia) (d) = | H22: =AVERAGE(C20:H20,1)*1000 -> 43585.91
B24: Geração média de resíduos por quilômetros | D24: 60 | E24: kg/km | L24: *Fonte:
G26: Geração média de resíduos (t/ano) = | H26: =ROUND(SUM(C20:H20)*52*D24/1000,2) -> 948.8
B28: 1.1.1) Equipe
B29: Tabela 1.2 - Extensão a ser varrida por dia
B30: Classificação | C30: =C5 -> Segunda | D30: =D5 -> Terça | E30: =E5 -> Quarta | F30: =F5 -> Quinta | G30: =G5 -> Sexta | H30: =H5 -> Sábado
B31: Baixa | C31: =C12 -> 22.003444 | D31: =D12 -> 0 | E31: =E12 -> 22.003444 | F31: =F12 -> 0 | G31: =G12 -> 22.003444 | H31: =H12 -> 22.003444
B32: Média | C32: =C20-C31 -> 29.675553 | D32: =D20-D31 -> 50.495678 | E32: =E20-E31 -> 27.978573 | F32: =F20-F31 -> 51.733984 | G32: =G20-G31 -> 28.437247 | H32: =H20-H31 -> 27.766556
B34: Tabela 1.3 - Dimensionamento do n° de Agentes por dia
C35: Segunda | D35: Terça | E35: Quarta | F35: Quinta | G35: Sexta | H35: Sábado
B36: N° de Duplas | C36: =ROUNDUP(((C$31*1000)/$E$40)+((C$32*1000)/$E$39),0) -> 20 | D36: =ROUNDUP(((D$31*1000)/$E$40)+((D$32*1000)/$E$39),0) -> 17 | E36: =ROUNDUP(((E$31*1000)/$E$40)+((E$32*1000)/$E$39),0) -> 20 | F36: =ROUNDUP(((F$31*1000)/$E$40)+((F$32*1000)/$E$39),0) -> 18 | G36: =ROUNDUP(((G$31*1000)/$E$40)+((G$32*1000)/$E$39),0) -> 20 | H36: =ROUNDUP(((H$31*1000)/$E$40)+((H$32*1000)/$E$39),0) -> 20
B37: N° de Agentes | C37: =C36*2 -> 40 | D37: =D36*2 -> 34 | E37: =E36*2 -> 40 | F37: =F36*2 -> 36 | G37: =G36*2 -> 40 | H37: =H36*2 -> 40
B39: Rendimento médio do agente de limpeza pública | E39: 3000 | F39: m/dia (sarjeta) | L39: *Fonte: IBRAOP - PROC - IBR -RSU 012/2018
B40: Rendimento baixo do agente de limpeza pública | E40: 2250 | F40: m/dia | L40: *Fonte: IBRAOP - PROC - IBR -RSU 012/2018
B41: Número de encarregados de equipe por dupla | E41: =1/14 -> 0.071428571 | F41: unid./agente | L41: *Fonte: Paramétrica
B42: Reserva técnica | E42: 0
B44: N° de Agente de limpeza pública e serviços sociais | D44: =LARGE(C37:H37,1) -> 40
B45: N° de Encarregado de equipe | D45: =ROUNDUP(D44*E41,0) -> 3
B46: Reserva Técnica | D46: 0
B47: N° total de funcionários | D47: =SUM(D44:D46) -> 43
B49: 1.1.2) Ferramentas, equipamentos e EPI's
B50: Ferramentas
...

Sheet 2.ROC_MEC_CAP_RASP
B2: 2) ROÇADA MECANIZADA, CAPINA MANUAL E RASPAGEM
B4: 2.1) ROÇADA COM ROÇADEIRA COSTAL
B5: 2.1.1) Demanda | G5: Dias úteis p/ mês | H5: 25.33
B7: Área anual total | E7: 1878347.4 | F7: m²
B8: Área média por mês | E8: =E7/12 -> 156528.95 | F8: m²/mês
B10: Produção | E10: 800 | F10: m²/d. roçadeira | K10: *Fonte: Paramétrica
B12: N° de Roçadeiras costais | E12: =ROUND(E8/H5/E10,0) -> 8
B14: Densidade do grama solta | E14: 250 | F14: kg/m³
B15: Volume | E15: 0.006 | F15: m³/m².ano
B16: Massa de resíduos grama | E16: =E15*E14 -> 1.5 | F16: kg/m²
B17: Área total atendida | E17: 46.20209 | F17: ha.
B19: Geração média de resíduos (t/ano) | E19: =E17*E16*10000/1000 -> 693.03135
B21: 2.1.1.1) Equipe
B23: Número de agentes de limpeza pública e serviços sociais | E23: 2 | F23: unid./roçadeira | K23: *Fonte: Paramétrica | N23: Obs: 1 roçador e 1 servente
B24: Número de encarregados de equipe | E24: 0.0625 | F24: unid./agente | K24: *Fonte: Paramétrica
B25: Reserva técnica | E25: 0
B27: N° de Agentes de limpeza pública e serviços gerais | E27: =E12*E23 -> 16
B28: N° de Encarregados de equipe | E28: =ROUND(E27*E24,0) -> 1
B29: Reserva Técnica | E29: =E25 -> 0
B30: N° total de funcionários | E30: =SUM(E26:E29) -> 17
B32: 2.1.1.2) Ferramentas, equipamentos e EPI's
B33: Ferramentas
B34: Item | E34: Parâmetro | H34: Quant.mês
B35: carrinho de mão | E35: 0.5 | F35: unid./agente.ano | H35: =ROUND($E$27*E35/12,2) -> 0.67 | K35: *Fonte: Paramétrica
B36: enxada | E36: 0 | F36: unid./agente.ano | H36: =ROUND($E$27*E36/12,2) -> 0 | K36: *Fonte: Paramétrica
B37: foice | E37: 0 | F37: unid./agente.ano | H37: =ROUND($E$27*E37/12,2) -> 0 | K37: *Fonte: Paramétrica
B38: pás | E38: 0.5 | F38: unid./agente.ano | H38: =ROUND($E$27*E38/12,2) -> 0.67 | K38: *Fonte: Paramétrica
B39: vassourão | E39: 0.5 | F39: unid./agente.ano | H39: =ROUND($E$27*E39/12,2) -> 0.67 | K39: *Fonte: Paramétrica
B40: vassoura de aço | E40: 1.5 | F40: unid./agente.ano | H40: =ROUND($E$27*E40/12,2) -> 2 | K40: *Fonte: Paramétrica
B41: Sacos plásticos | E41: 10 | F41: unid./agente.dia | H41: =ROUND($E$27*E41*H5,2) -> 4052.8 | K41: *Fonte: Paramétrica
B42: Recipiente para Gasolina com bico 20L | E42: 0.17 | F42: unid./funcionário.ano | H42: =ROUND($E$30*E42/12,2) -> 0.24 | K42: *Fonte: Paramétrica
B43: Utilizou-se o truncar com duas casas decimais
B45: Equipamentos
B46: Item | E46: Parâmetro | G46: Vida útil (meses) | H46: Quantidade
B47: Roçadeira costal | E47: 1 | F47: unid./roçador | G47: 36 | H47: =TRUNC(E47*E12,2) -> 8
B48: Utilizou-se o truncar com duas casas decimais
B50: EPI's
B51: Item | E51: Parâmetro | H51: Quant.mês
B52: Jaqueta com reflexivo | E52: 1 | F52: unid./funcionário.ano | H52: =TRUNC(E52*$E$30/12,2) -> 1.41 | K52: *Fonte: NBR 15.292
B53: Calça de Brim | E53: 3 | F53: unid./funcionário.ano | H53: =TRUNC(E53*$E$30/12,2) -> 4.25 | K53: *Fonte: IBRAOP - PROC - IBR -RSU 012/2018
...

Sheet 3.PINTURA_MEIO-FIO
B2: 3) PINTURA DE MEIO-FIO
B3: 3.1) Demanda | G3: Dias úteis p/ mês | H3: 25.33
B5: Comprimento anual total | E5: 712.86 | F5: km/ano
B6: Comprimento médio por mês | E6: =E5*1000/12 -> 59405 | F6: m/mês
B7: Aréa de caiação por mês | E7: =E6*2*E10 -> 47524 | F7: m²/mês
B9: Produção | E9: 300 | F9: m/dia.agente | L9: *Fonte: Paramétrica
B10: largura para caiação | E10: 0.4 | F10: m/m | L10: *Fonte: Paramétrica
B12: N° de Agentes de limpeza pública | E12: =ROUND(E6/(E9*H3),0) -> 8
B14: 3.1.1) Equipe
B16: Número de encarregado de equipe | E16: =1/16 -> 0.0625 | F16: unid./agente | L16: *Fonte: Paramétrica
B17: Reserva técnica | E17: 0
B19: N° de Agentes de limpeza pública e serviços gerais | E19: =E12 -> 8
B20: N° de Encarregado de equipe | E20: =ROUNDUP(E12*E16,0) -> 1
B21: N° de motorista | E21: =ROUNDUP(E12/14,0) -> 1
B22: Reserva Técnica | E22: =E17 -> 0
B23: N° total de funcionários | E23: =SUM(E19:E22) -> 10
B25: 3.1.2) Ferramentas, equipamentos e EPI's
B27: Ferramentas
B28: Item | E28: Parâmetro | H28: Quant.mês
B29: Balde | E29: 1 | F29: unid./agente | H29: =TRUNC((E29*E19)/12,2) -> 0.66 | L29: *Fonte: Paramétrica
B30: Trincha | E30: 1 | F30: unid./agente | H30: =TRUNC((E30*E19)/12,2) -> 0.66 | L30: *Fonte: Paramétrica
B31: vassoura | E31: 0.5 | F31: unid./agente | H31: =TRUNC((E31*E19)/12,2) -> 0.33 | L31: *Fonte: Paramétrica
B32: Cal (saco - 8kg) | E32: 0.04 | F32: unid./m² | H32: =E32*E7 -> 1900.96 | L32: *Fonte: Paramétrica
B33: Utilizou-se o truncar com duas casas decimais
B35: Equipamentos
B36: Item | E36: Parâmetro | G36: Vida útil (meses) | H36: Quantidade
B37: Trator | E37: 0.07 | F37: unid./funcionário | G37: 120 | H37: =ROUNDUP(TRUNC(E37*E23,2),0) -> 1
B38: Reboque | E38: 0.07 | F38: unid./funcionário | G38: 120 | H38: =H37 -> 1
B39: Utilizou-se o truncar com duas casas decimais
B41: EPI's
B42: Item | E42: Parâmetro | H42: Quant.mês
B43: Jaqueta com reflexivo | E43: 1 | F43: unid./funcionário.ano | H43: =TRUNC(E43*$E$23/12,2) -> 0.83 | L43: *Fonte: NBR 15.292
B44: Calça de Brim | E44: 3 | F44: unid./funcionário.ano | H44: =TRUNC(E44*$E$23/12,2) -> 2.5 | L44: *Fonte: IBRAOP - PROC - IBR -RSU 012/2018
B45: Camiseta manga longa com faixa reflexiva | E45: 3 | F45: unid./funcionário.ano | H45: =TRUNC(E45*$E$23/12,2) -> 2.5 | L45: *Fonte: IBRAOP - PROC - IBR -RSU 012/2018
B46: Boné de Brim | E46: 2 | F46: unid./funcionário.ano | H46: =TRUNC(E46*$E$23/12,2) -> 1.66 | L46: *Fonte: IBRAOP - PROC - IBR -RSU 012/2018
B47: Botina De Segurança C/ Ponta E Biqueira Com Sola Antiderrapante | E47: 3 | F47: par./funcionário.ano | H47: =TRUNC(E47*$E$23/12,2) -> 2.5 | L47: *Fonte: IBRAOP - PROC - IBR -RSU 012/2018
B48: Capa de chuva amarela com reflexivo | E48: 2 | F48: unid./funcionário.ano | H48: =TRUNC(E48*$E$23/12,2) -> 1.66 | L48: *Fonte: IBRAOP - PROC - IBR -RSU 012/2018
B49: Colete reflexivo | E49: 2 | F49: unid./funcionário.ano | H49: =TRUNC(E49*$E$23/12,2) -> 1.66 | L49: *Fonte:
B50: Luva Tricotada com revestimento Nitrílico | E50: 8 | F50: par./funcionário.ano | H50: =TRUNC(E50*$E$23/12,2) -> 6.66 | L50: *Fonte: IBRAOP - PROC - IBR -RSU 012/2018
B51: Protetor solar FPS 30 | E51: 12 | F51: unid./funcionário.ano | H51: =TRUNC(E51*$E$23/12,2) -> 10
...

Sheet 6.DISP. DRENAGEM
B1: 6) LIMPEZA E DESOBSTRUÇÃO DOS DISPOSITIVOS DE DRENAGEM
B3: 6.1) Demanda | G3: Dias úteis p/ mês | H3: 25.33
B5: N° de bueiros | F5: 1310
B6: Frequência de execução do serviço | F6: 2 | G6: vezes/ano
B7: Demanda | F7: =F5*F6 -> 2620 | G7: n° de bueiros/ano
B8: demanda média por mês | F8: =ROUND(F7/12,2) -> 218.33 | G8: n° de bueiros/mês
B9: Produção | F9: =730*2 -> 1460 | G9: unid./ano.equipe (buerista e ajudante)
B11: N° de Equipes | G11: =ROUND(F7/F9,0) -> 2
B13: 6.1.1) Equipe
B15: Número de fiscais | F15: =1/20 -> 0.05 | G15: unid./servente
B16: Reserva técnica | F16: 0
B18: N° de Bueristas | D18: =G11 -> 2
B19: N° de Ajudante | D19: =G11 -> 2
B20: N° de Fiscais | D20: =ROUNDUP(D19*F15,0) -> 1
B21: N° de Motorista | D21: =ROUNDUP(D18/14,0) -> 1
B22: Reserva Técnica | D22: =F16 -> 0 | G22: n° de funcionários | H22: =SUM(D18:D22) -> 6
B24: 6.1.2) Ferramentas, equipamentos e EPI's
B26: Ferramentas
B27: item | E27: parâmetro | H27: Quant.mês
B28: Carrinho de Mão | E28: 2 | F28: unid./ano | H28: =TRUNC(E28/12,2) -> 0.16
B29: Pá | E29: 6 | F29: unid./ano | H29: =TRUNC(E29/12,2) -> 0.5
B30: Enxada | E30: 12 | F30: unid./ano | H30: =TRUNC(E30/12,2) -> 1
B31: Picareta | E31: 6 | F31: unid./ano | H31: =TRUNC(E31/12,2) -> 0.5
B32: Cavadeira | E32: 6 | F32: unid./ano | H32: =TRUNC(E32/12,2) -> 0.5
B33: Vassourão | E33: 12 | F33: unid./ano | H33: =TRUNC(E33/12,2) -> 1
B34: Vassoura de aço | E34: 6 | F34: unid./ano | H34: =TRUNC(E34/12,2) -> 0.5
B35: Alavancas | E35: 3 | F35: unid./ano | H35: =TRUNC(E35/12,2) -> 0.25
B36: Cone reflexivo | E36: 20 | F36: unid./ano | H36: =TRUNC(E36/12,2) -> 1.66
B37: Cavalete tipo CET | E37: 2 | F37: unid./ano | H37: =TRUNC(E37/12,2) -> 0.16
B38: Bandeirola | E38: 2 | F38: unid./ano | H38: =TRUNC(E38/12,2) -> 0.16
B39: Faixa zebrada | E39: 2400 | F39: unid./ano | H39: =TRUNC(E39/12,2) -> 200
B40: Sinalizador visual | E40: 1 | F40: unid./ano | H40: =TRUNC(E40/12,2) -> 0.08
B41: Utilizou-se o truncar com duas casas decimais
B43: Equipamentos
B44: item | E44: parâmetro | G44: vida útil | H44: Quantidade
B45: Bobcat | E45: 1 | F45: unid. | G45: 60 | H45: =TRUNC(E45,2) -> 1
B46: Soprador de folhas | E46: 1 | F46: unid. | G46: 36 | H46: =TRUNC(E46,2) -> 1
B47: Utilizou-se o truncar com duas casas decimais
B49: EPI's
B50: item | E50: parâmetro | H50: Quant.mês
...

Sheet 7.PODA
B1: 7) PODA
B3: 7.1) Demanda | G3: Dias úteis p/ mês | H3: 25.33
B5: Volume anual total | F5: 2256.303 | G5: m³/ano
B6: Volume médio mensal | F6: =F5/12 -> 188.02525 | G6: m³/mês
B8: Produção | F8: 14.85 | G8: m³/dia.útil.jardineiro
B10: N° de jardineiros | G10: =ROUNDUP(F6/(F8*H3),0) -> 1
B12: 7.1.2) Equipe
B14: Número de fiscais | F14: =1/20 -> 0.05 | G14: unid./servente
B15: Reserva técnica | F15: 0
B17: N° de Jardineiros | D17: =G10 -> 1
B18: N° de Serventes | D18: =G10 -> 1
B19: N° de Fiscais | D19: =ROUNDUP(D18*F14,0) -> 1
B20: N° de Motorista | D20: =ROUNDUP(D17/14,0) -> 1
B21: Reserva Técnica | D21: =F15 -> 0 | G21: n° de funcionários | H21: =SUM(D17:D21) -> 4
B23: 7.1.3) Ferramentas, equipamentos e EPI's
B25: Ferramentas
B26: item | E26: parâmetro | H26: Quant.mês
B28: Utilizou-se o truncar com duas casas decimais
B30: Equipamentos
B31: item | E31: parâmetro | G31: vida útil | H31: Quantidade
B32: Motosserra | E32: =D17 -> 1 | F32: unid./jardineiro | G32: 36 | H32: =TRUNC(E32*D17,2) -> 1
B33: Motopoda | E33: =D17 -> 1 | F33: unid./jardineiro | G33: 36 | H33: =TRUNC(E33*D18,2) -> 1
B34: Utilizou-se o truncar com duas casas decimais
B36: EPI's
B37: item | E37: parâmetro | H37: Quant.mês
B38: Jaqueta com reflexivo | E38: 1 | F38: unid./funcionário.ano | H38: =TRUNC(E38*$H$21/12,2) -> 0.33
B39: Calça de Brim | E39: 3 | F39: unid./funcionário.ano | H39: =TRUNC(E39*$H$21/12,2) -> 1
B40: Camiseta manga longa com faixa reflexiva | E40: 3 | F40: unid./funcionário.ano | H40: =TRUNC(E40*$H$21/12,2) -> 1
B41: Boné de Brim | E41: 2 | F41: unid./funcionário.ano | H41: =TRUNC(E41*$H$21/12,2) -> 0.66
B42: Botina De Segurança C/ Ponta E Biqueira Com Sola Antiderrapante | E42: 3 | F42: par./funcionário.ano | H42: =TRUNC(E42*$H$21/12,2) -> 1
B43: Capa de chuva amarela com reflexivo | E43: 2 | F43: unid./funcionário.ano | H43: =TRUNC(E43*$H$21/12,2) -> 0.66
B44: Colete reflexivo | E44: 2 | F44: unid./funcionário.ano | H44: =TRUNC(E44*$H$21/12,2) -> 0.66
B45: Luva Tricotada com revestimento Nitrílico | E45: 8 | F45: par./funcionário.ano | H45: =TRUNC(E45*$H$21/12,2) -> 2.66
B46: Recipiente térmico para água (5L) | E46: 0.167 | F46: unid./funcionário.ano | H46: =TRUNC(E46*$H$21/12,2) -> 0.05
B47: Protetor solar FPS 30 | E47: 12 | F47: unid./funcionário.ano | H47: =TRUNC(E47*$H$21/12,2) -> 4
B48: Óculos de Proteção | E48: 1 | F48: unid./jardineiro | H48: =TRUNC(E48*$H$21/12,2) -> 0.33
B49: Máscara tripla | E49: 1 | F49: unid./jardineiro | H49: =TRUNC(E49*$H$21/12,2) -> 0.33
B50: Protetor auricular | E50: 1 | F50: unid./jardineiro | H50: =TRUNC(E50*$H$21/12,2) -> 0.33
B51: Utilizou-se o truncar com duas casas decimais
B53: N° de veículos
...

Sheet 8.LIMP. RCC E RVOL
B1: 8) LIMPEZA CORRETIRA DE RCC E RVOL
B3: 8.1) Demanda | G3: Dias úteis p/ mês | H3: 25.33
B5: Demanda RCC e Rvol | F5: 40.56 | G5: m³/dia.útil
B6: Demanda RCC e Rvol por mês | F6: =F5*H3 -> 1027.3848 | G6: m³/mês
B7: Distância média por viagem | F7: 20 | G7: Km
B9: Quantidade de caminhões | F9: 1
B11: Caminhão caçamba | F11: 10 | G11: m³
B12: N° de viagens necessárias | F12: =ROUNDUP(F5/(F11*F9),0) -> 5
B13: Distância anual a ser percorrida | F13: =F12*F7*H3*12 -> 30396 | G13: km/ano
B14: Distância total Mensal | F14: =F13/12 -> 2533 | G14: Km/mês
B16: 8.1.1) Equipe
B18: Número de fiscais | F18: =1/20 -> 0.05 | G18: unid.trabalhadores
B19: Reserva técnica | F19: 0
B21: N° de Motoristas | D21: =F9 -> 1
B22: N° de Operadores | D22: =D21 -> 1
B23: N° de Ajudantes | D23: =D22*2 -> 2
B24: N° de Fiscais | D24: =ROUNDUP((SUM(D21:D23)*F18),0) -> 1
B25: Reserva Técnica | D25: =F19 -> 0 | F25: n° de funcionários | H25: =SUM(D21:D25) -> 5
B27: 8.1.1) Ferramentas, equipamentos e EPI's
B29: Ferramentas
B30: item | E30: parâmetro | H30: Quant.mês
B33: Equipamentos
B34: item | E34: parâmetro | G34: vida útil | H34: Quantidade
B35: Pá carregadeira | E35: 1 | F35: unid./operador | G35: 60 | H35: =TRUNC(E35*D22,2) -> 1
B36: Utilizou-se o truncar com duas casas decimais
B38: EPI's
B39: item | E39: parâmetro | H39: Quant.mês
B40: Jaqueta com reflexivo | E40: 1 | F40: unid./funcionário.ano | H40: =TRUNC(E40*$H$25/12,2) -> 0.41
B41: Calça de Brim | E41: 3 | F41: unid./funcionário.ano | H41: =TRUNC(E41*$H$25/12,2) -> 1.25
B42: Camiseta manga longa com faixa reflexiva | E42: 3 | F42: unid./funcionário.ano | H42: =TRUNC(E42*$H$25/12,2) -> 1.25
B43: Boné de Brim | E43: 2 | F43: unid./funcionário.ano | H43: =TRUNC(E43*$H$25/12,2) -> 0.83
B44: Botina De Segurança C/ Ponta E Biqueira Com Sola Antiderrapante | E44: 3 | F44: par./funcionário.ano | H44: =TRUNC(E44*$H$25/12,2) -> 1.25
B45: Capa de chuva amarela com reflexivo | E45: 2 | F45: unid./funcionário.ano | H45: =TRUNC(E45*$H$25/12,2) -> 0.83
B46: Colete reflexivo | E46: 2 | F46: unid./funcionário.ano | H46: =TRUNC(E46*$H$25/12,2) -> 0.83
B47: Luva Tricotada com revestimento Nitrílico | E47: 8 | F47: par./funcionário.ano | H47: =TRUNC(E47*$H$25/12,2) -> 3.33
B48: Recipiente térmico para água (5L) | E48: 0.167 | F48: unid./funcionário.ano | H48: =TRUNC(E48*$H$25/12,2) -> 0.06
B49: Protetor solar FPS 30 | E49: 12 | F49: unid./funcionário.ano | H49: =TRUNC(E49*$H$25/12,2) -> 5
B50: Óculos de Proteção | E50: 1 | F50: unid./operador | H50: =TRUNC(E50*$D$22/12,2) -> 0.08
B51: Máscara tripla | E51: 1 | F51: unid./operador | H51: =TRUNC(E51*$D$22/12,2) -> 0.08
B52: Protetor auricular | E52: 1 | F52: unid./operador | H52: =TRUNC(E52*$D$22/12,2) -> 0.08
...

Sheet 4.LIMP_EVENTOS
B2: 4) LIMPEZA DE FEIRAS, EVENTOS, PARQUES E PRAÇAS
B4: 4.1) Demanda | G4: Dias úteis p/ mês | H4: 25.33
B6: Demanda de área de varrição | E6: 12929.94 | F6: m²/dia útil
B8: Produção | E8: 2250 | F8: m²/dia.útil.agente | L8: *Fonte: Paramétrica
B10: N° de Agentes de limpeza pública | E10: =ROUND(E6/E8,0) -> 6
B12: Geração média de resíduos | E12: 60 | F12: kg/km
B13: Faixa de varrição | E13: 0.5 | F13: m/m
B15: Geração média de resíduos (t/ano) | E15: =TRUNC(E6*H4*12/E13/1000*E12/1000,2) -> 471.62
B17: 4.1.1) Equipe
B19: Número de encarregados de equipe | E19: =1/20 -> 0.05 | F19: unid./agente | L19: *Fonte: Paramétrica
B20: Reserva técnica | E20: 0
B22: N° de Agentes de limpeza pública e serviços gerais | E22: =E10 -> 6
B23: N° de Encarregados de equipe | E23: =ROUNDUP(E22*E19,0) -> 1
B24: Reserva Técnica | E24: =E20 -> 0
B25: N° total de funcionários | E25: =SUM(E22:E24) -> 7
B27: 4.1.2) Ferramentas, equipamentos e EPI's
B29: Ferramentas
B30: Item | E30: Parâmetro | H30: Quant.mês
B31: vassourão | E31: 12 | F31: unid./agente.ano | H31: =TRUNC(E31*$E$22/12,2) -> 6 | L31: *Fonte: Paramétrica
B32: vassoura de aço | E32: 0 | F32: unid./agente | H32: =TRUNC(E32*$E$22/12,2) -> 0 | L32: *Fonte: Paramétrica
B33: pá | E33: 1 | F33: unid./lutocar.ano | H33: =TRUNC(E33*$E$39/12,2) -> 0.08 | L33: *Fonte: Paramétrica
B34: sacos plásticos | E34: 10 | F34: unid./agente.dia | H34: =TRUNC(E34*E22*H4,2) -> 1519.8 | L34: *Fonte: Paramétrica
B35: Utilizou-se o truncar com duas casas decimais
B37: Equipamentos
B38: Item | E38: Parâmetro | G38: Vida útil (meses) | H38: Quantidade
B39: lutocar | E39: 1 | F39: unid./dupla | G39: 36 | H39: =TRUNC((E39*(E22/2)),2) -> 3 | L39: *Fonte: IBRAOP - PROC - IBR -RSU 012/2018
B40: Utilizou-se o truncar com duas casas decimais
B42: EPI's
B43: Item | E43: Parâmetro | H43: Quant.mês
B44: Jaqueta com reflexivo | E44: 1 | F44: unid./funcionário.ano | H44: =TRUNC(E44*$E$25/12,2) -> 0.58 | L44: *Fonte: NBR 15.292
B45: Calça de Brim | E45: 3 | F45: unid./funcionário.ano | H45: =TRUNC(E45*$E$25/12,2) -> 1.75 | L45: *Fonte: IBRAOP - PROC - IBR -RSU 012/2018
B46: Camiseta manga longa com faixa reflexiva | E46: 3 | F46: unid./funcionário.ano | H46: =TRUNC(E46*$E$25/12,2) -> 1.75 | L46: *Fonte: IBRAOP - PROC - IBR -RSU 012/2018
B47: Boné de Brim | E47: 2 | F47: unid./funcionário.ano | H47: =TRUNC(E47*$E$25/12,2) -> 1.16 | L47: *Fonte: IBRAOP - PROC - IBR -RSU 012/2018
B48: Botina De Segurança C/ Ponta E Biqueira Com Sola Antiderrapante | E48: 3 | F48: par./funcionário.ano | H48: =TRUNC(E48*$E$25/12,2) -> 1.75 | L48: *Fonte: IBRAOP - PROC - IBR -RSU 012/2018
B49: Capa de chuva amarela com reflexivo | E49: 2 | F49: unid./funcionário.ano | H49: =TRUNC(E49*$E$25/12,2) -> 1.16 | L49: *Fonte: IBRAOP - PROC - IBR -RSU 012/2018
B50: Colete reflexivo | E50: 2 | F50: unid./funcionário.ano | H50: =TRUNC(E50*$E$25/12,2) -> 1.16 | L50: *Fonte:
B51: Luva Tricotada com revestimento Nitrílico | E51: 8 | F51: par./funcionário.ano | H51: =TRUNC(E51*$E$25/12,2) -> 4.66 | L51: *Fonte: IBRAOP - PROC - IBR -RSU 012/2018
B52: Protetor solar FPS 30 | E52: 12 | F52: unid./funcionário.ano | H52: =TRUNC(E52*$E$25/12,2) -> 7 | L52: *Fonte:
B53: Utilizou-se o truncar com duas casas decimais
B55: EPC'S
...

Sheet ANEXO_I_SINTESE_COMPOSICAO_CUST
C3: ANEXO I – SÍNTESE DA COMPOSIÇÃO DE CUSTOS
C5: ITEM | D5: ESPECIFICAÇÕES DO OBJETO | E5: UNID. | F5: Quant. Mensal | G5: Preço Unitário (R$) | H5: Preço Mensal (R$) | I5: Preço Anual (R$)
C6: 1 | D6: Coleta e transporte de resíduos sólidos domiciliares e equiparáveis gerados no Distrito-sede do município de Cassilândia-MS. | E6: Mês | F6: 1 | G6: =ANEXO_IIIa_COLETA_TRANSP_SEDE!F292 -> 176935.37 | H6: =G6*F6 -> 176935.37 | I6: =H6*12 -> 2123224.4
C7: 2 | D7: Fornecimento de contêineres plásticos de 1.200 litros | E7: Unidade/mês | F7: 7 | G7: =ANEXO_IIIb_CONTEINERES!F92 -> 327.02 | H7: =G7*F7 -> 2289.14 | I7: =H7*12 -> 27469.68
C8: 3 | D8: Coleta e transporte de resíduos sólidos domiciliares e equiparáveis nos contêineres instalados no Distrito de Indaiá do Sul e no Bairro Seringal, no município de Cassilândia/MS. | E8: Viagem/mês | F8: =ANEXO_IIIc_COLETA_DISTRITOS!H6 -> 4.33 | G8: =ANEXO_IIIc_COLETA_DISTRITOS!F103 -> 613.21 | H8: =TRUNC(G8*F8,2) -> 2655.19 | I8: =H8*12 -> 31862.28
D9: Total | H9: =SUM(H6:H8) -> 181879.7 | I9: =SUM(I6:I8) -> 2182556.4

Sheet ANEXO_II_CRONOGRAMA_FF
B2: ANEXO II – CRONOGRAMA FÍSICO-FINANCEIRO
B3: PREVISTO
B4: PREVISTO / EXECUTADO
B5: 1 - IDENTIFICAÇÃO
B6: OBRA/SERVIÇO: | D6: SERVIÇO DE COLETA CONVENCIONAL PARA O MUNICÍPIO DE CASSILÂNDIA | G6: MODALIDADE: | I6: SERVIÇO | L6: RESPONSAVEL TÉCNICO: | Q6: Renato Cesar de Freitas
B7: CLIENTE: | D7: PREFEITURA MUNICIPAL DE CASSILÂNDIA | O7: CREA: 228795-D/SP
B8: CONVENENTE: | D8: PREFEITURA MUNICIPAL DE CASSILÂNDIA | L8: DATA: | O8: =+NOW() -> 45845.421
B9: EMPRESA:
B10: LOCALIZAÇÃO: | D10: =+[1]Orçamento_Hab!B9 -> Cassilândia - MS
C14: DESCRIÇÃO DE SERVIÇOS | E14: VALOR DOS SERVIÇOS (R$) | F14: PESO % | G14: Fis / Fin | M14: SERVIÇOS A EXECUTAR
B15: ITEM | H15: EXECUTADO | I15: MÊS - 1 | J15: 1 | K15: MÊS - 2 | L15: 2 | M15: MÊS - 3 | N15: 3 | O15: MÊS - 4 | P15: 4 | Q15: MÊS - 5 | R15: 5 | S15: MÊS - 6 | T15: 6 | U15: MÊS - 7 | V15: 7 | W15: MÊS - 8 | X15: 8 | Y15: MÊS - 9 | Z15: 9 | AA15: MÊS - 10 | AB15: 10 | AC15: MÊS - 11 | AD15: 11 | AE15: MÊS - 12 | AF15: 12
H16: % | I16: SIMPL. ( % / R$ ) | J16: ACUM. (%/R$) | K16: SIMPL. ( % / R$ ) | L16: ACUM. (%/R$) | M16: SIMPL. ( % / R$ ) | N16: ACUM. (%/R$) | O16: SIMPL. ( % / R$ ) | P16: ACUM. (%/R$) | Q16: SIMPL. ( % / R$ ) | R16: ACUM. (%/R$) | S16: SIMPL. ( % / R$ ) | T16: ACUM. (%/R$) | U16: SIMPL. ( % / R$ ) | V16: ACUM. (%/R$) | W16: SIMPL. ( % / R$ ) | X16: ACUM. (%/R$) | Y16: SIMPL. ( % / R$ ) | Z16: ACUM. (%/R$) | AA16: SIMPL. ( % / R$ ) | AB16: ACUM. (%/R$) | AC16: SIMPL. ( % / R$ ) | AD16: ACUM. (%/R$) | AE16: SIMPL. ( % / R$ ) | AF16: ACUM. (%/R$)
B17: 1. | C17: Coleta e transporte de resíduos sólidos domiciliares e equiparáveis gerados no Distrito-sede do município de Cassilândia-MS. | E17: =ANEXO_IIIa_COLETA_TRANSP_SEDE!F295*12 -> 2123224.4 | F17: 100 | H17: 0 | I17: =100/12 -> 8.3333333 | J17: =I17+H17 -> 8.3333333 | K17: =100/12 -> 8.3333333 | L17: =IF(K17=0,0,(J17+K17)) -> 16.666667 | M17: =100/12 -> 8.3333333 | N17: =IF(M17=0,0,(L17+M17)) -> 25 | O17: =100/12 -> 8.3333333 | P17: =IF(O17=0,0,(N17+O17)) -> 33.333333 | Q17: =100/12 -> 8.3333333 | R17: =IF(Q17=0,0,(P17+Q17)) -> 41.666667 | S17: =100/12 -> 8.3333333 | T17: =IF(S17=0,0,(R17+S17)) -> 50 | U17: =100/12 -> 8.3333333 | V17: =IF(U17=0,0,(T17+U17)) -> 58.333333 | W17: =100/12 -> 8.3333333 | X17: =IF(W17=0,0,(V17+W17)) -> 66.666667 | Y17: =100/12 -> 8.3333333 | Z17: =IF(Y17=0,0,(X17+Y17)) -> 75 | AA17: =100/12 -> 8.3333333 | AB17: =IF(AA17=0,0,(Z17+AA17)) -> 83.333333 | AC17: =100/12 -> 8.3333333 | AD17: =IF(AC17=0,0,(AB17+AC17)) -> 91.666667 | AE17: =100/12 -> 8.3333333 | AF17: =IF(AE17=0,0,(AD17+AE17)) -> 100
B18: 2 | C18: Fornecimento de contêineres plásticos de 1.200 litros | E18: =ANEXO_IIIb_CONTEINERES!F95*12 -> 27469.68 | F18: 100 | H18: 0 | I18: =100/12 -> 8.3333333 | J18: =I18+H18 -> 8.3333333 | K18: =100/12 -> 8.3333333 | L18: =IF(K18=0,0,(J18+K18)) -> 16.666667 | M18: =100/12 -> 8.3333333 | N18: =IF(M18=0,0,(L18+M18)) -> 25 | O18: =100/12 -> 8.3333333 | P18: =IF(O18=0,0,(N18+O18)) -> 33.333333 | Q18: =100/12 -> 8.3333333 | R18: =IF(Q18=0,0,(P18+Q18)) -> 41.666667 | S18: =100/12 -> 8.3333333 | T18: =IF(S18=0,0,(R18+S18)) -> 50 | U18: =100/12 -> 8.3333333 | V18: =IF(U18=0,0,(T18+U18)) -> 58.333333 | W18: =100/12 -> 8.3333333 | X18: =IF(W18=0,0,(V18+W18)) -> 66.666667 | Y18: =100/12 -> 8.3333333 | Z18: =IF(Y18=0,0,(X18+Y18)) -> 75 | AA18: =100/12 -> 8.3333333 | AB18: =IF(AA18=0,0,(Z18+AA18)) -> 83.333333 | AC18: =100/12 -> 8.3333333 | AD18: =IF(AC18=0,0,(AB18+AC18)) -> 91.666667 | AE18: =100/12 -> 8.3333333
B19: 3 | C19: Coleta e transporte de resíduos sólidos domiciliares e equiparáveis nos contêineres instalados no Distrito de Indaiá do Sul e no Bairro Seringal, no município de Cassilândia/MS. | E19: =ANEXO_IIIc_COLETA_DISTRITOS!F106*12 -> 31862.28 | F19: 100 | H19: 0 | I19: =100/12 -> 8.3333333 | J19: =I19+H19 -> 8.3333333 | K19: =100/12 -> 8.3333333 | L19: =IF(K19=0,0,(J19+K19)) -> 16.666667 | M19: =100/12 -> 8.3333333 | N19: =IF(M19=0,0,(L19+M19)) -> 25 | O19: =100/12 -> 8.3333333 | P19: =IF(O19=0,0,(N19+O19)) -> 33.333333 | Q19: =100/12 -> 8.3333333 | R19: =IF(Q19=0,0,(P19+Q19)) -> 41.666667 | S19: =100/12 -> 8.3333333 | T19: =IF(S19=0,0,(R19+S19)) -> 50 | U19: =100/12 -> 8.3333333 | V19: =IF(U19=0,0,(T19+U19)) -> 58.333333 | W19: =100/12 -> 8.3333333 | X19: =IF(W19=0,0,(V19+W19)) -> 66.666667 | Y19: =100/12 -> 8.3333333 | Z19: =IF(Y19=0,0,(X19+Y19)) -> 75 | AA19: =100/12 -> 8.3333333 | AB19: =IF(AA19=0,0,(Z19+AA19)) -> 83.333333 | AC19: =100/12 -> 8.3333333 | AD19: =IF(AC19=0,0,(AB19+AC19)) -> 91.666667 | AE19: =100/12 -> 8.3333333
B21: TOTAL (%) - PREVISTO | E21: =SUM(E17:E19) -> 2182556.4 | F21: =SUM(F17:F17) -> 100 | G21: =+IF(F21=0,0,"%") -> % | H21: =SUMPRODUCT(H17,$F$17)/100 -> 0 | I21: =+SUMPRODUCT($F$17:$F$17,I17:I17)/100 -> 8.3333333 | J21: =I21+H21 -> 8.3333333 | K21: =+SUMPRODUCT($F$17:$F$17,K17:K17)/100 -> 8.3333333 | L21: =IF(K21=0,0,J21+K21) -> 16.666667 | M21: =+SUMPRODUCT($F$17:$F$17,M17:M17)/100 -> 8.3333333 | N21: =IF(M21=0,0,L21+M21) -> 25 | O21: =+SUMPRODUCT($F$17:$F$17,O17:O17)/100 -> 8.3333333 | P21: =IF(O21=0,0,N21+O21) -> 33.333333 | Q21: =+SUMPRODUCT($F$17:$F$17,Q17:Q17)/100 -> 8.3333333 | R21: =IF(Q21=0,0,P21+Q21) -> 41.666667 | S21: =+SUMPRODUCT($F$17:$F$17,S17:S17)/100 -> 8.3333333 | T21: =IF(S21=0,0,R21+S21) -> 50 | U21: =+SUMPRODUCT($F$17:$F$17,U17:U17)/100 -> 8.3333333 | V21: =IF(U21=0,0,T21+U21) -> 58.333333 | W21: =+SUMPRODUCT($F$17:$F$17,W17:W17)/100 -> 8.3333333 | X21: =IF(W21=0,0,V21+W21) -> 66.666667 | Y21: =+SUMPRODUCT($F$17:$F$17,Y17:Y17)/100 -> 8.3333333 | Z21: =IF(Y21=0,0,X21+Y21) -> 75 | AA21: =+SUMPRODUCT($F$17:$F$17,AA17:AA17)/100 -> 8.3333333 | AB21: =IF(AA21=0,0,Z21+AA21) -> 83.333333 | AC21: =+SUMPRODUCT($F$17:$F$17,AC17:AC17)/100 -> 8.3333333 | AD21: =IF(AC21=0,0,AB21+AC21) -> 91.666667 | AE21: =+SUMPRODUCT($F$17:$F$17,AE17:AE17)/100 -> 8.3333333 | AF21: =IF(AE21=0,0,AD21+AE21) -> 100
B22: TOTAL (R$) - PREVISTO | E22: =+E21 -> 2182556.4 | F22: =+F21 -> 100 | G22: =+IF(F22=0,0,"R$") -> R$ | H22: =SUMPRODUCT(H17:H17,$F$17:$F$17)/100 -> 0 | I22: =IF(I21=0,0,($E$22*I21)/100) -> 181879.7 | J22: =I22+H22 -> 181879.7 | K22: =IF(K21=0,0,($E$22*K21)/100) -> 181879.7 | L22: =IF(K22=0,0,J22+K22) -> 363759.4 | M22: =IF(M21=0,0,($E$22*M21)/100) -> 181879.7 | N22: =IF(M22=0,0,L22+M22) -> 545639.1 | O22: =IF(O21=0,0,($E$22*O21)/100) -> 181879.7 | P22: =IF(O22=0,0,N22+O22) -> 727518.8 | Q22: =IF(Q21=0,0,($E$22*Q21)/100) -> 181879.7 | R22: =IF(Q22=0,0,P22+Q22) -> 909398.5 | S22: =IF(S21=0,0,($E$22*S21)/100) -> 181879.7 | T22: =IF(S22=0,0,R22+S22) -> 1091278.2 | U22: =IF(U21=0,0,($E$22*U21)/100) -> 181879.7 | V22: =IF(U22=0,0,T22+U22) -> 1273157.9 | W22: =IF(W21=0,0,($E$22*W21)/100) -> 181879.7 | X22: =IF(W22=0,0,V22+W22) -> 1455037.6 | Y22: =IF(Y21=0,0,($E$22*Y21)/100) -> 181879.7 | Z22: =IF(Y22=0,0,X22+Y22) -> 1636917.3 | AA22: =IF(AA21=0,0,($E$22*AA21)/100) -> 181879.7 | AB22: =IF(AA22=0,0,Z22+AA22) -> 1818797 | AC22: =IF(AC21=0,0,($E$22*AC21)/100) -> 181879.7 | AD22: =IF(AC22=0,0,AB22+AC22) -> 2000676.7 | AE22: =IF(AE21=0,0,($E$22*AE21)/100) -> 181879.7 | AF22: =IF(AE22=0,0,AD22+AE22) -> 2182556.4
B24: CONCEDENTE (R$) - PREVISTO | E24: =+E22*1 -> 2182556.4 | F24: =+E24/$E$21*100 -> 100 | G24: =+IF(F24=0,0,"R$") -> R$ | I24: =+I21/100*$E$24 -> 181879.7 | J24: =I24+H24 -> 181879.7 | K24: =+K21/100*$E$24 -> 181879.7 | L24: =IF(K24=0,0,J24+K24) -> 363759.4 | M24: =+M21/100*$E$24 -> 181879.7 | N24: =IF(M24=0,0,L24+M24) -> 545639.1 | O24: =+O21/100*$E$24 -> 181879.7 | P24: =IF(O24=0,0,N24+O24) -> 727518.8 | Q24: =+Q21/100*$E$24 -> 181879.7 | R24: =IF(Q24=0,0,P24+Q24) -> 909398.5 | S24: =+S21/100*$E$24 -> 181879.7 | T24: =IF(S24=0,0,R24+S24) -> 1091278.2 | U24: =+U21/100*$E$24 -> 181879.7 | V24: =IF(U24=0,0,T24+U24) -> 1273157.9 | W24: =+W21/100*$E$24 -> 181879.7 | X24: =IF(W24=0,0,V24+W24) -> 1455037.6 | Y24: =+Y21/100*$E$24 -> 181879.7 | Z24: =IF(Y24=0,0,X24+Y24) -> 1636917.3 | AA24: =+AA21/100*$E$24 -> 181879.7 | AB24: =IF(AA24=0,0,Z24+AA24) -> 1818797 | AC24: =+AC21/100*$E$24 -> 181879.7 | AD24: =IF(AC24=0,0,AB24+AC24) -> 2000676.7 | AE24: =+AE21/100*$E$24 -> 181879.7 | AF24: =IF(AE24=0,0,AD24+AE24) -> 2182556.4
C30: =+NOW() -> 45845.421
C31: DATA | Q31: =_xlfn.CONCAT(Q6," - ",SUBSTITUTE(O7,":","")) -> Renato Cesar de Freitas - CREA 228795-D/SP

Sheet ANEXO_IIIa_COLETA_TRANSP_SEDE
B2: ANEXO III – PLANILHAS ORÇAMENTÁRIAS E CUSTOS UNITÁRIOS COMPOSIÇÃO DE CUSTOS DO SERVIÇO DE COLETA E TRANSPORTE DE RESÍDUOS SÓLIDOS DOMICILIARES E EQUIPARÁVEIS NO DISTRITO SEDE
B4: 1) COLETA E TRANSPORTE DE RESÍDUOS DISTRITO SEDE
B6: 1.1) Demanda da coleta convencional | G6: Dias úteis por mês | H6: 25.25
B8: Estimativa da população atendida | E8: hab. | F8: 22778
B9: Estimativa do número de domicílios | E9: unid. | F9: 7937
B10: Geração total de resíduos sólidos domiciliares | E10: t/ano | F10: 6817.2448
B12: Massa específica média dos Resíduos Sólidos Domiciliares | E12: 153.54 | F12: Kg/m³
B14: Demanda de coleta dos resíduos | E14: =F10/(H6*12) -> 22.499158 | F14: t/dia.útil
B15: Demanda de coleta dos resíduos | E15: =E14*1000/E12 -> 146.53613 | F15: m³/dia.útil
B17: N° de veículos coletores | F17: 2
B19: 1.1.1) Equipe
B21: Reserva técnica | E21: 0
B23: N° de Motorista de coleta | E23: 2
B24: N° de Coletores de lixo | E24: 4
B25: Nº de Encarregado Geral | E25: 1
B26: Reserva Técnica | E26: =E21 -> 0
B27: N° total de funcionários | E27: =SUM(E23:E26) -> 7
B29: 1.1.2) Ferramentas, equipamentos e EPC's
B30: Ferramentas
B31: Item | E31: Parâmetro | H31: Quant.mês
B32: vassourão | E32: 12 | F32: unid./veículo.ano | H32: =TRUNC($F$17*E32/12,2) -> 2
B33: pá quadrada | E33: 6 | F33: unid./veículo.ano | H33: =TRUNC($F$17*E33/12,2) -> 1
B34: saco plástico de lixo | E34: 1000 | F34: unid./veículo.ano | H34: =TRUNC($F$17*E34/12,2) -> 166.66
B35: cedência de sacolas reutilizáveis | E35: 0 | F35: unid./domicílio.ano | H35: =TRUNC($F$9*E35/12,2) -> 0
B36: material orientativo (Panfletos) | E36: 0 | F36: unid./domicílio.ano | H36: =TRUNC($F$9*E36/12,2) -> 0
B37: Utilizou-se o truncar com duas casas decimais
B39: Equipamentos
B40: Item | E40: Parâmetro | G40: Vida útil (meses) | H40: Quantidade
B42: Utilizou-se o truncar com duas casas decimais
B44: EPC's
B45: Item | E45: Parâmetro | H45: Quant.mês
B46: Recipiente térmico para água (5L) | E46: 5 | F46: unid./veículo.ano | H46: =TRUNC(E46*$F$17/12,2) -> 0.83
B47: Cone de sinalização | E47: 6 | F47: unid./veículo.ano | H47: =TRUNC(E47*$F$17/12,2) -> 1
B48: Bandeirola | E48: 6 | F48: unid./veículo.ano | H48: =TRUNC(E48*$F$17/12,2) -> 1
B49: Utilizou-se o truncar com duas casas decimais
B51: N° de veículos
B52: Veículo | D52: Parâmetros | G52: Vida útil (meses) | H52: Quantidade
B53: Caminhão médio (toco) | G53: =5*12 -> 60 | H53: =TRUNC(F17,2) -> 2
B54: Implementos | D54: Parâmetros | G54: Vida útil (meses) | H54: Quantidade
B55: Compactador de 15 m³ | D55: 1 | E55: unid./caminhão | G55: =G53 -> 60 | H55: =H53 -> 2
...

Sheet ANEXO_IIIb_CONTEINERES
B2: ANEXO III – PLANILHAS ORÇAMENTÁRIAS E CUSTOS UNITÁRIOS COMPOSIÇÃO DE CUSTOS DO SERVIÇO DE FORNECIMENTO DE CONTÊINERES
B4: 1) FORNECIMENTO DE CONTÊINERES
B6: 1.1) Demanda de disponibilização de contêineres por localidade
B8: Nº de contêineres Distrito Indaiá do Sul | E8: unid. | F8: 6
B9: Nº de contêineres Bairro Seringal | E9: unid. | F9: 1
B12: 1.1.1) Equipe
B15: 1.1.2) Ferramentas, equipamentos e EPC's
B16: Ferramentas
B17: Item | E17: Parâmetro | H17: Quant.mês
E18: 0
B19: Utilizou-se o truncar com duas casas decimais
B21: Equipamentos
B22: Item | E22: Parâmetro | G22: Vida útil (meses) | H22: Quantidade
B23: Contêiner de Lixo de 1.200L | E23: =SUM(F8:F9) -> 7 | F23: unid./ano | G23: 24 | H23: =E23 -> 7
B24: Utilizou-se o truncar com duas casas decimais
B26: EPC's
B27: Item | E27: Parâmetro | H27: Quant.mês
E28: 0
B29: Utilizou-se o truncar com duas casas decimais
B31: N° de veículos
B32: Veículo | D32: Parâmetros | G32: Vida útil (meses) | H32: Quantidade
B34: Implementos | D34: Parâmetros | G34: Vida útil (meses) | H34: Quantidade
G35: =G33 -> 0 | H35: =H33 -> 0
B36: Utilizou-se o truncar com duas casas decimais
B38: 1.2.1) Mão-de-obra
B40: Custo mensal com mão-de-obra (R$/mês) | H40: =IFERROR(#REF!+#REF!+#REF!,0) -> 0
B42: 1.2.2) Ferramentas
B43: Item | E43: Unidade | F43: Quantidade mensal | G43: Custo unitário | H43: Custo total mensal
B44: =B18 -> 0 | E44: unid. | F44: =H18 -> 0 | H44: =TRUNC(G44*F44,2) -> 0
B45: Utilizou-se o truncar com duas casas decimais
B46: Custo mensal com ferramentas (R$/mês) | H46: =SUM(H44:H44) -> 0
B48: 1.2.3) Equipamentos
B49: ="1.2.3.1) "&B23 -> 1.2.3.1) Contêiner de Lixo de 1.200L
B50: =B23 -> Contêiner de Lixo de 1.200L | F50: 0 | G50: R$/Mês | H50: =TRUNC(H55+H59+H63,2) -> 247.11
B51: Valor de aquisição | F51: R$ | H51: 3000
B52: Vida útil | F52: anos | H52: 2
B53: Taxa de valor residual | F53: % | H53: 0
B54: Investimento médio | F54: R$ | H54: =TRUNC((H51*(1-H53/100))*(H52+1)/(H52*2)+H51*H53/100,2) -> 2250
B55: Depreciação mensal | F55: R$/Mês | H55: =TRUNC(H58,2) -> 125
B56: Taxa de valor residual | F56: % | H56: =H53/100 -> 0
...

Sheet ANEXO_IIIc_COLETA_DISTRITOS
B2: ANEXO III – PLANILHAS ORÇAMENTÁRIAS E CUSTOS UNITÁRIOS COMPOSIÇÃO DE CUSTOS DO SERVIÇO DE COLETA E TRANSPORTE DE RESÍDUOS SÓLIDOS DOMICILIARES E EQUIPARÁVEIS NOS CONTÊINERES INSTALADOS NO DISTRITO DE INDAIÁ DO SUL E NO BAIRRO SERINGAL
B4: 1) COLETA E TRANSPORTE DE RESÍDUOS DEMAIS LOCALIDADES
B6: 1.1) Demanda da coleta Demais Localidades | G6: Semanas por mês | H6: =TRUNC(52/12,2) -> 4.33
B8: Estimativa de viagens por mês | E8: unid. | F8: =H6 -> 4.33
B9: Distância percorrida por viagem | E9: km | F9: 139
B12: 1.1.1) Equipe
B13: Equipe já remunerada junto ao serviço de Coleta Convencional
B15: 1.1.2) Ferramentas, equipamentos e EPC's
B16: Ferramentas
B17: Item | E17: Parâmetro | H17: Quant.mês
E18: 0 | H18: =TRUNC($F$8*E18/12,2) -> 0
B19: Utilizou-se o truncar com duas casas decimais
B21: Equipamentos
B22: Item | E22: Parâmetro | G22: Vida útil (meses) | H22: Quantidade
H23: =E23 -> 0
B24: Utilizou-se o truncar com duas casas decimais
B26: EPC's
B27: Item | E27: Parâmetro | H27: Quant.mês
B29: Utilizou-se o truncar com duas casas decimais
B31: N° de veículos
B32: Veículo | D32: Parâmetros | G32: Vida útil (meses) | H32: Quantidade
B34: Implementos | D34: Parâmetros | G34: Vida útil (meses) | H34: Quantidade
G35: =G33 -> 0 | H35: =H33 -> 0
B36: Utilizou-se o truncar com duas casas decimais
B38: 1.2.1) Mão-de-obra
B40: Custo mensal com mão-de-obra (R$/mês) | H40: =IFERROR(#REF!+#REF!+#REF!,0) -> 0
B42: 1.2.2) Ferramentas
B43: Item | E43: Unidade | F43: Quantidade mensal | G43: Custo unitário | H43: Custo total mensal
B44: =B18 -> 0 | E44: unid. | F44: =H18 -> 0 | H44: =TRUNC(G44*F44,2) -> 0
B45: Utilizou-se o truncar com duas casas decimais
B46: Custo mensal com ferramentas (R$/mês) | H46: =SUM(H44:H44) -> 0
B48: 1.2.3) Equipamentos
B50: Custo mensal com Equipamentos (R$/mês) | H50: =IFERROR(#REF!,0) -> 0
B52: 1.2.4) EPC's
B53: Item | E53: Unidade | F53: Quantidade mensal | G53: Custo unitário | H53: Custo total mensal
B54: =B28 -> 0 | H54: =TRUNC(F54*G54,2) -> 0
B55: Utilizou-se o truncar com duas casas decimais
B56: Custo mensal com EPC's (R$/mês) | H56: =SUM(H54:H54) -> 0
B58: 1.2.5) Veículos
B59: =ANEXO_IIIa_COLETA_TRANSP_SEDE!B233 -> 1.2.5.1) Caminhão médio (toco) c/ implemento Compactador de 15 m³
...

Sheet ANEXO_IIId_BDI
B2: ANEXO III – PLANILHAS ORÇAMENTÁRIAS E CUSTOS UNITÁRIOS COMPOSIÇÃO DO BDI
B4: Composição do BDI - Benefícios e Despesas Indiretas
E6: Referência estudo TCE
E7: 1° Quartil | F7: Médio | G7: 3° Quartil
B8: Administração Central | C8: AC | D8: 0.0125 | E8: 0.0297 | F8: 0.0508 | G8: 0.0627
B9: Seguros/Riscos/Garantias | C9: SRG | D9: 0.0086 | E9: =0.3%+0.56% -> 0.0086 | F9: =0.48%+0.85% -> 0.0133 | G9: =0.82%+0.89% -> 0.0171
B10: Lucro | C10: L | D10: 0.0778 | E10: 0.0778 | F10: 0.1085 | G10: 0.1355
B11: Despesas Financeiras | C11: DF | D11: =(1+F11)^(F12/252)-1 -> 0.0061100534 | E11: i | F11: 0.0525
B12: Tributos - ISS* | C12: T | D12: 0.05 | E12: DU | F12: 30
B13: Tributos - PIS/COFINS/CSLL/IRPJ (Lucro Presumido) | D13: 0.1133
B14: Fórmula para o cálculo do BDI:
B15: {[(1+AC+SRG) x (1+L) x (1+DF)] / (1-T)} -1
B16: Resultado do cálculo do BDI: | D16: =ROUND((((1+D8+D9)*(1+D10)*(1+D11))/(1-(D12+D13))-1),4) -> 0.3234 | E16: 0.2143 | F16: 0.2717 | G16: 0.3362

Sheet ANEXO_IIIe_ENCARGOS_SOCIAIS
B3: ANEXO III – PLANILHAS ORÇAMENTÁRIAS E CUSTOS UNITÁRIOS COMPOSIÇÃO DOS ENCARGOS SOCIAIS
B5: Composição dos Encargos Sociais - Mensalistas
B7: GRUPO A
B8: A1 | C8: INSS | D8: 0.2
B9: A2 | C9: SESI | D9: 0.015
B10: A3 | C10: SENAI | D10: 0.01
B11: A4 | C11: INCRA | D11: 0.002
B12: A5 | C12: SEBRAE | D12: 0.006
B13: A6 | C13: Salário Educação | D13: 0.025
B14: A7 | C14: Seguro Contra Acidentes de Trabalho | D14: 0.03
B15: A8 | C15: FGTS | D15: 0.08
B16: A9 | C16: SECONCI | D16: 0.01
C17: SUBTOTAL | D17: =SUM(D8:D16) -> 0.378
B19: GRUPO B
B20: B1 | C20: Repouso Semanal Remunerado | D20: 0
B21: B2 | C21: Feriados | D21: 0
B22: B3 | C22: Auxílio Enfermidade | D22: 0.0064
B23: B4 | C23: 13º Salário | D23: 0.0833
B24: B5 | C24: Licença Paternidade | D24: 0.0004
B25: B6 | C25: Faltas Justificadas | D25: 0.0056
B26: B7 | C26: Dias de Chuvas | D26: 0
B27: B8 | C27: Auxílio Acidente de Trabalho | D27: 0.0008
B28: B9 | C28: Férias Gozadas | D28: 0.0885
B29: B10 | C29: Salário Maternidade | D29: 0.0003
C30: SUBTOTAL | D30: =SUM(D20:D29) -> 0.1853
B32: GRUPO C
B33: C1 | C33: Aviso Prévio Indenizado | D33: 0.0364
B34: C2 | C34: Aviso Prévio Trabalhado | D34: 0.0009
B35: C3 | C35: Férias Indenizadas + 1/3 | D35: 0.0176
B36: C4 | C36: Depósito por despedida injusta | D36: 0.02
B37: C5 | C37: Indenização Adicional | D37: 0.0031
C38: SUBTOTAL | D38: =SUM(D33:D37) -> 0.078
B40: GRUPO D
B41: D1 | C41: Reincidência de A sobre B | D41: 0.07
B42: D2 | C42: Reincidência de A sobre Aviso Prévio Trabalhado + Reincidência FGTS sobre Aviso Prévio Indenizado | D42: 0.0033
C43: SUBTOTAL | D43: =SUM(D41:D42) -> 0.0733
C45: TOTAL | D45: =D43+D38+D30+D17 -> 0.7146
B46: Fonte: SINAPI (junho 2024)

Sheet 6.ADM
B1: 6) ADMINISTRAÇÃO LOCAL
B3: 6.1) Demanda da coleta de resíduos | G3: Dias úteis p/ mês | H3: 25.33
B5: N° de veículos para deslocamento das equipes (ônibus) | G5: =ROUND(P6*E55,0) -> 1 | L5: SOMA DO NÚMERO DE FISCAIS (ENCARREGADOS DE SERVIÇOS) | P5: ='1.VARRICAO_MAN'!D45+'2.ROC_MEC_CAP_RASP'!E28+'2.ROC_MEC_CAP_RASP'!E225+'2.ROC_MEC_CAP_RASP'!E461+'3.PINTURA_MEIO-FIO'!E20+'4.LIMP_EVENTOS'!E23 -> 8
B6: N° de veículos para deslocamento das equipes (Vans) | G6: 1 | L6: Total de colaboradores nos serviços | P6: ='1.VARRICAO_MAN'!D47+'2.ROC_MEC_CAP_RASP'!E30+'2.ROC_MEC_CAP_RASP'!E227+'2.ROC_MEC_CAP_RASP'!E463+'3.PINTURA_MEIO-FIO'!E23+'4.LIMP_EVENTOS'!E25+ANEXO_IIIa_COLETA_TRANSP_SEDE!E27 -> 103
B7: N° de veículos para deslocamento dos Supervisores gerais (moto) | G7: =D17 -> 1 | L7: NR4, quadro II, Grau 3 de risco, mais de 101 funcionários
B10: 6.1.1) Equipe
B12: Reserva técnica | D12: 0
B14: N° de Motorista | D14: =SUM(G5:G6) -> 2
B15: N° de Gerente operacional | D15: 1
B16: N° de Secretários | D16: =D15*2 -> 2
B17: Nº de Supervisores | D17: =ROUND(P5/7,0) -> 1
B18: Nº de Técnico em Segurança do Trabalho | D18: 1
B19: N° de Porteiro | D19: 1
B20: Reserva Técnica | D20: =D12 -> 0
B21: N° total de funcionários | D21: =SUM(D14:D20) -> 8
B23: 6.1.2) Ferramentas, equipamentos e EPI's
B25: Ferramentas
B26: Item | E26: Parâmetro | H26: Quant.mês
B28: Utilizou-se o truncar com duas casas decimais
B30: Equipamentos
B31: Item | E31: Parâmetro | G31: Vida útil (meses) | H31: Quantidade
B33: Utilizou-se o truncar com duas casas decimais
B35: EPI's
B36: Item | E36: Parâmetro | H36: Quant.mês
B37: Jaqueta com reflexivo | E37: 1 | F37: unid./funcionário.ano | H37: =TRUNC(E37*$D$21/12,2) -> 0.66 | L37: *Fonte: NBR 15.292
B38: Calça de Brim | E38: 3 | F38: unid./funcionário.ano | H38: =TRUNC(E38*$D$21/12,2) -> 2 | L38: *Fonte: IBRAOP - PROC - IBR -RSU 012/2018
B39: Camiseta manga longa com faixa reflexiva | E39: 3 | F39: unid./funcionário.ano | H39: =TRUNC(E39*$D$21/12,2) -> 2 | L39: *Fonte: IBRAOP - PROC - IBR -RSU 012/2018
B40: Boné de Brim | E40: 2 | F40: unid./funcionário.ano | H40: =TRUNC(E40*$D$21/12,2) -> 1.33 | L40: *Fonte: IBRAOP - PROC - IBR -RSU 012/2018
B41: Botina De Segurança C/ Ponta E Biqueira Com Sola Antiderrapante | E41: 3 | F41: par./funcionário.ano | H41: =TRUNC(E41*$D$21/12,2) -> 2 | L41: *Fonte: IBRAOP - PROC - IBR -RSU 012/2018
B42: Capa de chuva amarela com reflexivo | E42: 2 | F42: unid./funcionário.ano | H42: =TRUNC(E42*$D$21/12,2) -> 1.33 | L42: *Fonte: IBRAOP - PROC - IBR -RSU 012/2018
B43: Colete reflexivo | E43: 2 | F43: unid./funcionário.ano | H43: =TRUNC(E43*$D$21/12,2) -> 1.33 | L43: *Fonte:
B44: Luva Tricotada com revestimento Nitrílico | E44: 8 | F44: par./funcionário.ano | H44: =TRUNC(E44*$D$21/12,2) -> 5.33 | L44: *Fonte: IBRAOP - PROC - IBR -RSU 012/2018
B45: Protetor solar FPS 30 | E45: 12 | F45: unid./funcionário.ano | H45: =TRUNC(E45*$D$21/12,2) -> 8
B46: Utilizou-se o truncar com duas casas decimais
B48: EPC's
B49: Item | E49: Parâmetro | H49: Quant.mês
B50: Cone de sinalização | E50: 2 | F50: unid./veículo.ano | H50: =$G$5*E50/12 -> 0.16666667 | L50: *Fonte:
B51: Utilizou-se o truncar com duas casas decimais
B53: N° de veículos
B54: Item | E54: Parâmetro | G54: Vida útil (meses) | H54: Quantidade
...

Sheet QuadroII-NR4
A1: Nº de empregados no estabelecimento | B1: 50 | C1: 101 | D1: 251 | E1: 501 | F1: 1001 | G1: 2001 | H1: 3501 | I1: Acima de 5.000 para cada grupo de 4.000 ou fração acima de 2.000**
B2: a | C2: a | D2: a | E2: a | F2: a | G2: a | H2: a
B3: 100 | C3: 250 | D3: 500 | E3: 1000 | F3: 2000 | G3: 3500 | H3: 5000
A4: Técnicos
A5: Técnico Seg. Trabalho | B5: - | C5: - | D5: - | E5: 1 | F5: 1 | G5: 1 | H5: 2 | I5: 1
A6: Engenheiro Seg. Trabalho | B6: - | C6: - | D6: - | E6: - | F6: - | G6: 1* | H6: 1 | I6: 1*
A7: Aux. Enfermagem Trabalho | B7: - | C7: - | D7: - | E7: - | F7: - | G7: 1 | H7: 1 | I7: 1
A8: Enfermeiro do Trabalho | B8: - | C8: - | D8: - | E8: - | F8: - | G8: - | H8: 1* | I8: -
A9: Médico do Trabalho | B9: - | C9: - | D9: - | E9: - | F9: 1* | G9: 1* | H9: 1 | I9: 1*
A10: Técnico Seg. Trabalho | B10: - | C10: - | D10: - | E10: 1 | F10: 1 | G10: 2 | H10: 5 | I10: 1
A11: Engenheiro Seg. Trabalho | B11: - | C11: - | D11: - | E11: - | F11: 1* | G11: 1 | H11: 1 | I11: 1*
A12: Aux. Enfermagem Trabalho | B12: - | C12: - | D12: - | E12: - | F12: 1 | G12: 1 | H12: 1 | I12: 1
A13: Enfermeiro do Trabalho | B13: - | C13: - | D13: - | E13: - | F13: - | G13: - | H13: 1 | I13: -
A14: Médico do Trabalho | B14: - | C14: - | D14: - | E14: - | F14: 1* | G14: 1 | H14: 1 | I14: 1
A15: Técnico Seg. Trabalho | B15: - | C15: 1 | D15: 2 | E15: 3 | F15: 4 | G15: 6 | H15: 8 | I15: 3
A16: Engenheiro Seg. Trabalho | B16: - | C16: - | D16: - | E16: 1* | F16: 1 | G16: 1 | H16: 2 | I16: 1
A17: Aux. Enfermagem Trabalho | B17: - | C17: - | D17: - | E17: - | F17: 1 | G17: 2 | H17: 1 | I17: 1
A18: Enfermeiro do Trabalho | B18: - | C18: - | D18: - | E18: - | F18: - | G18: - | H18: 1 | I18: -
A19: Médico do Trabalho | B19: - | C19: - | D19: - | E19: 1* | F19: 1 | G19: 1 | H19: 2 | I19: 1
A20: Técnico Seg. Trabalho | B20: 1 | C20: 2 | D20: 3 | E20: 4 | F20: 5 | G20: 8 | H20: 10 | I20: 3
A21: Engenheiro Seg. Trabalho | B21: - | C21: 1* | D21: 1* | E21: 1 | F21: 1 | G21: 2 | H21: 3 | I21: 1
A22: Aux. Enfermagem Trabalho | B22: - | C22: - | D22: - | E22: 1 | F22: 1 | G22: 2 | H22: 1 | I22: 1
A23: Enfermeiro do Trabalho | B23: - | C23: - | D23: - | E23: - | F23: - | G23: - | H23: 1 | I23: -
A24: Médico do Trabalho | C24: 1* | D24: 1* | E24: 1 | F24: 1 | G24: 2 | H24: 3 | I24: 1

Sheet VARRICAO
A1: id | B1: Nome | C1: COMPRIMENT | D1: FREQUENCIA | E1: Setor | F1: UUID | G1: OBS | H1: ADOTADO | I1: LOCAL | J1: FREQUENC_1 | K1: SETOR_2 | L1: LENGTH | M1: COUNT | T1: Setor | U1: Frequência/Semana | V1: Comprimento (KM) | W1: Número de ruas | X1: Comprimento (m) | Y1: FreqXCompr
B2: Rua Sete de Setembro | C2: 489.9108 | D2: Esporádico | E2: Setor Centro | F2: {de63e911-2b65-4d3c-9d48-7a3a63d7daec} | G2: Ja executado | I2: Ponta Pora | J2: 4 Vezes na semana | K2: 7 | L2: 22003.444 | M2: 23 | P2: 1 | Q2: =SUMIF($K$2:$K$178,P2,$C$2:$C$178) -> 1751.597 | T2: 1 | U2: 1 | V2: =X2/1000 -> 1.751597 | W2: 3 | X2: =Q2 -> 1751.597 | Y2: =(U2*V2) -> 1.751597
B3: Rua Tiradentes | C3: 1498.601 | D3: Esporádico | E3: Setor Centro | F3: {43f52742-9183-4eb5-a4e3-01c7e06f903b} | G3: Ja executado | I3: Ponta Pora | J3: 4 Vezes na semana | K3: 7 | L3: 22003.444 | M3: 23 | P3: 2 | Q3: =SUMIF($K$2:$K$178,P3,$C$2:$C$178) -> 6335.8067 | T3: 2 | U3: 2 | V3: =X3/1000 -> 6.3358067 | W3: 6 | X3: =Q3 -> 6335.8067 | Y3: =(U3*V3) -> 12.671613
B4: Rua Tiradentes | C4: 2614.9273 | D4: Esporádico | E4: Setor Centro | F4: {43f52742-9183-4eb5-a4e3-01c7e06f903b} | G4: Ja executado | I4: Ponta Pora | J4: 2 Vezes na semana | K4: 8 | L4: 16471.624 | M4: 22 | P4: 3 | Q4: =SUMIF($K$2:$K$178,P4,$C$2:$C$178) -> 13189.644 | T4: 3 | U4: 3 | V4: =X4/1000 -> 13.189644 | W4: 15 | X4: =Q4 -> 13189.644 | Y4: =(U4*V4) -> 39.568931
B5: Rua Tiradentes | C5: 107.39657 | D5: Esporádico | E5: Setor Centro | F5: {43f52742-9183-4eb5-a4e3-01c7e06f903b} | G5: Ja executado | I5: Ponta Pora | J5: 2 Vezes na semana | K5: 9 | L5: 13203.929 | M5: 17 | P5: 4 | Q5: =SUMIF($K$2:$K$178,P5,$C$2:$C$178) -> 8958.7878 | T5: 4 | U5: 2 | V5: =X5/1000 -> 8.9587878 | W5: 12 | X5: =Q5 -> 8958.7878 | Y5: =(U5*V5) -> 17.917576
