Workbook

Sheet AVENIDAS
A1: PREFEITURA MUNICIPAL DE PARANAÍBA-MS | L1: Aristides klafke
A2: SECRETARIA MUNICIPAL DE OBRAS, HABITAÇÃO E URBANISMO | L2: Trecho 1 | M2: =12+195 -> 207 | N2: =32+12 -> 44
L3: Trecho 2 | M3: =220+12 -> 232 | N3: =12+30 -> 42
A4: . | L4: Trecho 3 | M4: =237+43+12 -> 292 | N4: =30+12+17+17 -> 76
M5: =SUM(M2:M4) -> 731 | N5: =SUM(N2:N4) -> 162
A8: Objeto: | B8: MODERNIZAÇÃO DO SISTEMA DE ILUMINAÇÃO DE DIVERSAS AVENIDAS
A9: Município: | B9: PARANAÍBA/MS
A10: Local: | B10: ÁREA URBANA
A11: BDI: | B11: Acórdão 2622/2013 - NÃO DESONERADO | C11: 0.2723
A12: Prazo exec.: | B12: 03 meses
A13: Sist./Ref.: | B13: SEM DESONERAÇÃO SINAPI (04/2026)
C15: PLANILHA ORÇAMENTÁRIA
F16: CUSTO UNITÁRIO LICITADO | H16: CUSTO
A17: Ítem | B17: SINAPI/ COMP. | C17: Especificações | D17: Und | E17: Quant | F17: Custo Unit. | G17: Custo Unit. Com BDI | H17: Total Licitado (R$)
A18: 1 | C18: MODERNIZAÇÃO ILUMINAÇÃO CANTEIRO CENTRAL AVENIDA ARISTIDES KLAFKE | K18: VALA | L18: CAVA POSTE | M18: CAVA CX PASSAGEM
A19: 1.1 | C19: SERVIÇOS EM TERRA | K19: 731 | L19: 37 | M19: 42
A20: 1.1.1 | B20: 93358 | C20: =VLOOKUP(B20,CSD!B11:F10388,2,0) -> ESCAVAÇÃO MANUAL DE VALA. AF_09/2024 | D20: =VLOOKUP(B20,CSD!B11:F10388,3,0) -> M3 | E20: 118.23 | F20: =VLOOKUP(B20,CSD!B11:F10388,4,0) -> 90.03 | G20: =TRUNC(F20*1.2723,2) -> 114.54 | H20: =TRUNC(E20*G20,2) -> 13542.06 | K20: =K19*0.3*0.5 -> 109.65 | L20: =L19*0.3*0.3*1 -> 3.33 | M20: =M19*0.5*0.5*0.5 -> 5.25 | N20: =SUM(K20:M20) -> 118.23
A21: 1.1.2 | B21: 93382 | C21: =VLOOKUP(B21,CSD!B12:F10389,2,0) -> REATERRO MANUAL DE VALAS, COM COMPACTADOR DE SOLOS DE PERCUSSÃO. AF_08/2023 | D21: =VLOOKUP(B21,CSD!B12:F10389,3,0) -> M3 | E21: 118.23 | F21: =VLOOKUP(B21,CSD!B12:F10389,4,0) -> 27.4 | G21: =TRUNC(F21*1.2723,2) -> 34.86 | H21: =TRUNC(E21*G21,2) -> 4121.49
C22: SUB TOTAL | H22: =SUM(H20:H21) -> 17663.55
A24: 1.2 | C24: SERVIÇOS EM CONCRETO
A25: 1.2.1 | B25: 94975 | C25: =VLOOKUP(B25,CSD!B16:F10393,2,0) -> CONCRETO FCK = 15MPA, TRAÇO 1:3,4:3,5 (EM MASSA SECA DE CIMENTO/ AREIA MÉDIA/ BRITA 1) - PREPARO MANUAL. AF_05/2021 | D25: =VLOOKUP(B25,CSD!B16:F10393,3,0) -> M3 | E25: 1.46 | F25: =VLOOKUP(B25,CSD!B16:F10393,4,0) -> 516.25 | G25: =TRUNC(F25*1.2723,2) -> 656.82 | H25: =TRUNC(E25*G25,2) -> 958.95 | K25: =N5*0.3*0.03 -> 1.458
C26: SUB TOTAL | H26: =SUM(H25) -> 958.95
A28: 1.3 | C28: ELÉTRICA-ESTRUTURAS E CONDUTORES
A29: 1.3.1 | B29: 91857 | C29: =VLOOKUP(B29,CSD!B20:F10397,2,0) -> ELETRODUTO FLEXÍVEL CORRUGADO REFORÇADO, PVC, DN 32 MM (1"), PARA CIRCUITOS TERMINAIS, INSTALADO EM PAREDE - FORNECIMENTO E INSTALAÇÃO. AF_03/2023 | D29: =VLOOKUP(B29,CSD!B20:F10397,3,0) -> M | E29: 37 | F29: =VLOOKUP(B29,CSD!B20:F10397,4,0) -> 16.58 | G29: =TRUNC(F29*1.2723,2) -> 21.09 | H29: =TRUNC(E29*G29,2) -> 780.33
A30: 1.3.2 | B30: 97667 | C30: =VLOOKUP(B30,CSD!B21:F10398,2,0) -> ELETRODUTO FLEXÍVEL CORRUGADO, PEAD, DN 50 (1 1/2"), PARA REDE ENTERRADA DE DISTRIBUIÇÃO DE ENERGIA ELÉTRICA - FORNECIMENTO E INSTALAÇÃO. AF_12/2021 | D30: =VLOOKUP(B30,CSD!B21:F10398,3,0) -> M | E30: =M5-N5 -> 569 | F30: =VLOOKUP(B30,CSD!B21:F10398,4,0) -> 8.93 | G30: =TRUNC(F30*1.2723,2) -> 11.36 | H30: =TRUNC(E30*G30,2) -> 6463.84
A31: 1.3.3 | B31: 43430 | C31: =VLOOKUP(B31,ISD!B11:F4865,2,0) -> CAIXA DE CONCRETO ARMADO PRE-MOLDADO, SEM FUNDO, QUADRADA, DIMENSOES DE 0,40 X 0,40 X 0,40 M | D31: =VLOOKUP(B31,ISD!B11:F4865,3,0) -> UN | E31: 42 | F31: =VLOOKUP(B31,ISD!B11:F4865,5,0) -> 159.66 | G31: =TRUNC(F31*1.2723,2) -> 203.13 | H31: =TRUNC(E31*G31,2) -> 8531.46
A32: 1.3.4 | B32: 03836/ORSE Abril/2026-1 | C32: ELETRODUTO EM FERRO GALVANIZADO PESADO SEM COSTURA 1 1/2" X 3M | D32: UN | E32: =162/3 -> 54 | F32: 159 | G32: =TRUNC(F32*1.2723,2) -> 202.29 | H32: =TRUNC(E32*G32,2) -> 10923.66
A33: 1.3.5 | B33: 91867 | C33: =VLOOKUP(B33,CSD!B24:F10401,2,0) -> ELETRODUTO RÍGIDO ROSCÁVEL, PVC, DN 25 MM (3/4"), PARA CIRCUITOS TERMINAIS, INSTALADO EM LAJE - FORNECIMENTO E INSTALAÇÃO. AF_03/2023 | D33: =VLOOKUP(B33,CSD!B24:F10401,3,0) -> M | E33: =4*3 -> 12 | F33: =VLOOKUP(B33,CSD!B24:F10401,4,0) -> 10.63 | G33: =TRUNC(F33*1.2723,2) -> 13.52 | H33: =TRUNC(E33*G33,2) -> 162.24
A34: 1.3.6 | B34: 91914 | C34: =VLOOKUP(B34,CSD!B25:F10402,2,0) -> CURVA 90 GRAUS PARA ELETRODUTO, PVC, ROSCÁVEL, DN 25 MM (3/4"), PARA CIRCUITOS TERMINAIS, INSTALADA EM PAREDE - FORNECIMENTO E INSTALAÇÃO. AF_03/2023 | D34: =VLOOKUP(B34,CSD!B25:F10402,3,0) -> UN | E34: 3 | F34: =VLOOKUP(B34,CSD!B25:F10402,4,0) -> 18.2 | G34: =TRUNC(F34*1.2723,2) -> 23.15 | H34: =TRUNC(E34*G34,2) -> 69.45
A35: 1.3.7 | B35: 91884 | C35: =VLOOKUP(B35,CSD!B26:F10403,2,0) -> LUVA PARA ELETRODUTO, PVC, ROSCÁVEL, DN 25 MM (3/4"), PARA CIRCUITOS TERMINAIS, INSTALADA EM PAREDE - FORNECIMENTO E INSTALAÇÃO. AF_03/2023 | D35: =VLOOKUP(B35,CSD!B26:F10403,3,0) -> UN | E35: 3 | F35: =VLOOKUP(B35,CSD!B26:F10403,4,0) -> 11.69 | G35: =TRUNC(F35*1.2723,2) -> 14.87 | H35: =TRUNC(E35*G35,2) -> 44.61
A36: 1.3.8 | B36: 93671 | C36: =VLOOKUP(B36,CSD!B27:F10404,2,0) -> DISJUNTOR TRIPOLAR TIPO DIN, CORRENTE NOMINAL DE 32A - FORNECIMENTO E INSTALAÇÃO. AF_07/2025 | D36: =VLOOKUP(B36,CSD!B27:F10404,3,0) -> UN | E36: 3 | F36: =VLOOKUP(B36,CSD!B27:F10404,4,0) -> 84.26 | G36: =TRUNC(F36*1.2723,2) -> 107.2 | H36: =TRUNC(E36*G36,2) -> 321.6
A37: 1.3.9 | B37: 93653 | C37: =VLOOKUP(B37,CSD!B28:F10405,2,0) -> DISJUNTOR MONOPOLAR TIPO DIN, CORRENTE NOMINAL DE 10A - FORNECIMENTO E INSTALAÇÃO. AF_07/2025 | D37: =VLOOKUP(B37,CSD!B28:F10405,3,0) -> UN | E37: 1 | F37: =VLOOKUP(B37,CSD!B28:F10405,4,0) -> 12.25 | G37: =TRUNC(F37*1.2723,2) -> 15.58 | H37: =TRUNC(E37*G37,2) -> 15.58
A38: 1.3.10 | B38: 13861/ORSE Abril/2026-1 | C38: CAIXA DE FERRO PARA QUADRO, DIM. 50 X 40CM, EM AÇO CARBONO #16, PINTURA ELETROSTÁTICA A PÓ, CINZA RAL, PLACA DE MONTAGEM #14 LARANJA - FECHO PADRÃO COM ACIONAMENTO FENDA, BORRACHA DE VEDAÇÃO. | D38: UN | E38: 3 | F38: 304.5 | G38: =TRUNC(F38*1.2723,2) -> 387.41 | H38: =TRUNC(E38*G38,2) -> 1162.23
A39: 1.3.11 | B39: 96985 | C39: =VLOOKUP(B39,CSD!B30:F10407,2,0) -> HASTE DE ATERRAMENTO, DIÂMETRO 5/8", COM 3 METROS - FORNECIMENTO E INSTALAÇÃO. AF_08/2023 | D39: =VLOOKUP(B39,CSD!B30:F10407,3,0) -> UN | E39: 37 | F39: =VLOOKUP(B39,CSD!B30:F10407,4,0) -> 67.61 | G39: =TRUNC(F39*1.2723,2) -> 86.02 | H39: =TRUNC(E39*G39,2) -> 3182.74
A40: 1.3.12 | B40: 101902 | C40: =VLOOKUP(B40,CSD!B31:F10408,2,0) -> CONTATOR TRIPOLAR I NOMINAL 22A - FORNECIMENTO E INSTALAÇÃO. AF_07/2025 | D40: =VLOOKUP(B40,CSD!B31:F10408,3,0) -> UN | E40: 3 | F40: =VLOOKUP(B40,CSD!B31:F10408,4,0) -> 256.09 | G40: =TRUNC(F40*1.2723,2) -> 325.82 | H40: =TRUNC(E40*G40,2) -> 977.46
A41: 1.3.13 | B41: 101632 | C41: =VLOOKUP(B41,CSD!B32:F10409,2,0) -> RELÉ FOTOELÉTRICO PARA COMANDO DE ILUMINAÇÃO EXTERNA 1000 W - FORNECIMENTO E INSTALAÇÃO. AF_02/2025 | D41: =VLOOKUP(B41,CSD!B32:F10409,3,0) -> UN | E41: 3 | F41: =VLOOKUP(B41,CSD!B32:F10409,4,0) -> 28.15 | G41: =TRUNC(F41*1.2723,2) -> 35.81 | H41: =TRUNC(E41*G41,2) -> 107.43
A42: 1.3.14 | B42: 91926 | C42: =VLOOKUP(B42,CSD!B33:F10410,2,0) -> CABO DE COBRE FLEXÍVEL ISOLADO, 2,5 MM², ANTI-CHAMA 450/750 V, PARA CIRCUITOS TERMINAIS - FORNECIMENTO E INSTALAÇÃO. AF_03/2023 | D42: =VLOOKUP(B42,CSD!B33:F10410,3,0) -> M | E42: =10*3*E29 -> 1110 | F42: =VLOOKUP(B42,CSD!B33:F10410,4,0) -> 5.25 | G42: =TRUNC(F42*1.2723,2) -> 6.67 | H42: =TRUNC(E42*G42,2) -> 7403.7
A43: 1.3.15 | B43: 91928 | C43: =VLOOKUP(B43,CSD!B34:F10411,2,0) -> CABO DE COBRE FLEXÍVEL ISOLADO, 4 MM², ANTI-CHAMA 450/750 V, PARA CIRCUITOS TERMINAIS - FORNECIMENTO E INSTALAÇÃO. AF_03/2023 | D43: =VLOOKUP(B43,CSD!B34:F10411,3,0) -> M | E43: =M5*3 -> 2193 | F43: =VLOOKUP(B43,CSD!B34:F10411,4,0) -> 8.17 | G43: =TRUNC(F43*1.2723,2) -> 10.39 | H43: =TRUNC(E43*G43,2) -> 22785.27
C44: SUB TOTAL | H44: =SUM(H29:H43) -> 62931.6
A46: 1.4 | C46: POSTES E LUMINÁRIAS
...

Sheet AVENIDAS 2
A1: PREFEITURA MUNICIPAL DE PARANAÍBA-MS | I1: Aristides klafke
A2: SECRETARIA MUNICIPAL DE OBRAS, HABITAÇÃO E URBANISMO | I2: Trecho 1 | J2: =12+195 -> 207 | K2: =32+12 -> 44
I3: Trecho 2 | J3: =220+12 -> 232 | K3: =12+30 -> 42
A4: . | I4: Trecho 3 | J4: =237+43+12 -> 292 | K4: =30+12+17+17 -> 76
J5: =SUM(J2:J4) -> 731 | K5: =SUM(K2:K4) -> 162
A8: Objeto: | B8: MODERNIZAÇÃO DO SISTEMA DE ILUMINAÇÃO DE DISVERSAS AVENIDAS
A9: Município: | B9: PARANAÍBA/MS
A10: Local: | B10: ÁREA URBANA
A11: BDI: | B11: Acórdão 2622/2013 - NÃO DESONERADO | C11: 0.2723
A12: Prazo exec.: | B12: 03 meses
A13: Sist./Ref.: | B13: SEM DESONERAÇÃO SINAPI (04/2026)
C15: MEMORIAL DE CÁLCULO
A17: Ítem | B17: SINAPI/ COMP. | C17: Especificações | D17: Und | E17: Quant | F17: Memória de cálculo
A18: 1 | C18: MODERNIZAÇÃO ILUMINAÇÃO CANTEIRO CENTRAL AVENIDA ARISTIDES KLAFKE | H18: VALA | I18: CAVA POSTE | J18: CAVA CX PASSAGEM
A19: 1.1 | C19: SERVIÇOS EM TERRA | H19: 731 | I19: 37 | J19: 42
A20: 1.1.1 | B20: 93358 | C20: =VLOOKUP(B20,CSD!B11:F10388,2,0) -> ESCAVAÇÃO MANUAL DE VALA. AF_09/2024 | D20: =VLOOKUP(B20,CSD!B11:F10388,3,0) -> M3 | E20: 118.23 | F20: Escavação dos postes e valetas de interligação dos postes | H20: =H19*0.3*0.5 -> 109.65 | I20: =I19*0.3*0.3*1 -> 3.33 | J20: =J19*0.5*0.5*0.5 -> 5.25 | K20: =SUM(H20:J20) -> 118.23
A21: 1.1.2 | B21: 93382 | C21: =VLOOKUP(B21,CSD!B12:F10389,2,0) -> REATERRO MANUAL DE VALAS, COM COMPACTADOR DE SOLOS DE PERCUSSÃO. AF_08/2023 | D21: =VLOOKUP(B21,CSD!B12:F10389,3,0) -> M3 | E21: 118.23 | F21: Reaterro dos postes e valetas de interligação dos postes
A23: 1.2 | C23: SERVIÇOS EM CONCRETO
A24: 1.2.1 | B24: 94975 | C24: =VLOOKUP(B24,CSD!B16:F10393,2,0) -> CONCRETO FCK = 15MPA, TRAÇO 1:3,4:3,5 (EM MASSA SECA DE CIMENTO/ AREIA MÉDIA/ BRITA 1) - PREPARO MANUAL. AF_05/2021 | D24: =VLOOKUP(B24,CSD!B16:F10393,3,0) -> M3 | E24: 1.46 | F24: Concretagem dos postes e envelopamento dos eletrodutos | H24: =K5*0.3*0.03 -> 1.458
A26: 1.3 | C26: ELÉTRICA-ESTRUTURAS E CONDUTORES
A27: 1.3.1 | B27: 91857 | C27: =VLOOKUP(B27,CSD!B20:F10397,2,0) -> ELETRODUTO FLEXÍVEL CORRUGADO REFORÇADO, PVC, DN 32 MM (1"), PARA CIRCUITOS TERMINAIS, INSTALADO EM PAREDE - FORNECIMENTO E INSTALAÇÃO. AF_03/2023 | D27: =VLOOKUP(B27,CSD!B20:F10397,3,0) -> M | E27: 37 | F27: Interligação das caixas de passagem com os postes
A28: 1.3.2 | B28: 97667 | C28: =VLOOKUP(B28,CSD!B21:F10398,2,0) -> ELETRODUTO FLEXÍVEL CORRUGADO, PEAD, DN 50 (1 1/2"), PARA REDE ENTERRADA DE DISTRIBUIÇÃO DE ENERGIA ELÉTRICA - FORNECIMENTO E INSTALAÇÃO. AF_12/2021 | D28: =VLOOKUP(B28,CSD!B21:F10398,3,0) -> M | E28: =J5-K5 -> 569 | F28: Interligação entre as caixas de passagem comprimento do circuito
A29: 1.3.3 | B29: 43430 | C29: =VLOOKUP(B29,ISD!B11:F4865,2,0) -> CAIXA DE CONCRETO ARMADO PRE-MOLDADO, SEM FUNDO, QUADRADA, DIMENSOES DE 0,40 X 0,40 X 0,40 M | D29: =VLOOKUP(B29,ISD!B11:F4865,3,0) -> UN | E29: 42 | F29: Caixa de passagem entre postes
A30: 1.3.4 | B30: 03836/ORSE Abril/2026-1 | C30: ELETRODUTO EM FERRO GALVANIZADO PESADO SEM COSTURA 1 1/2" X 3M | D30: UN | E30: =162/3 -> 54 | F30: Interligação das caixas de passagem entre canteiros (rua)
A31: 1.3.5 | B31: 91867 | C31: =VLOOKUP(B31,CSD!B24:F10401,2,0) -> ELETRODUTO RÍGIDO ROSCÁVEL, PVC, DN 25 MM (3/4"), PARA CIRCUITOS TERMINAIS, INSTALADO EM LAJE - FORNECIMENTO E INSTALAÇÃO. AF_03/2023 | D31: =VLOOKUP(B31,CSD!B24:F10401,3,0) -> M | E31: =4*3 -> 12 | F31: Descida do quadro de distribuição no CP rede para a caixa de passagem
A32: 1.3.6 | B32: 91914 | C32: =VLOOKUP(B32,CSD!B25:F10402,2,0) -> CURVA 90 GRAUS PARA ELETRODUTO, PVC, ROSCÁVEL, DN 25 MM (3/4"), PARA CIRCUITOS TERMINAIS, INSTALADA EM PAREDE - FORNECIMENTO E INSTALAÇÃO. AF_03/2023 | D32: =VLOOKUP(B32,CSD!B25:F10402,3,0) -> UN | E32: 3 | F32: Descida do quadro de distribuição no CP rede para a caixa de passagem
A33: 1.3.7 | B33: 91884 | C33: =VLOOKUP(B33,CSD!B26:F10403,2,0) -> LUVA PARA ELETRODUTO, PVC, ROSCÁVEL, DN 25 MM (3/4"), PARA CIRCUITOS TERMINAIS, INSTALADA EM PAREDE - FORNECIMENTO E INSTALAÇÃO. AF_03/2023 | D33: =VLOOKUP(B33,CSD!B26:F10403,3,0) -> UN | E33: 3 | F33: Descida do quadro de distribuição no CP rede para a caixa de passagem
A34: 1.3.8 | B34: 93671 | C34: =VLOOKUP(B34,CSD!B27:F10404,2,0) -> DISJUNTOR TRIPOLAR TIPO DIN, CORRENTE NOMINAL DE 32A - FORNECIMENTO E INSTALAÇÃO. AF_07/2025 | D34: =VLOOKUP(B34,CSD!B27:F10404,3,0) -> UN | E34: 3 | F34: Proteção do circuito de comando
A35: 1.3.9 | B35: 93653 | C35: =VLOOKUP(B35,CSD!B28:F10405,2,0) -> DISJUNTOR MONOPOLAR TIPO DIN, CORRENTE NOMINAL DE 10A - FORNECIMENTO E INSTALAÇÃO. AF_07/2025 | D35: =VLOOKUP(B35,CSD!B28:F10405,3,0) -> UN | E35: 1 | F35: Acionamento do contator em caso de falha do relé
A36: 1.3.10 | B36: 13861/ORSE Abril/2026-1 | C36: CAIXA DE FERRO PARA QUADRO, DIM. 50 X 40CM, EM AÇO CARBONO #16, PINTURA ELETROSTÁTICA A PÓ, CINZA RAL, PLACA DE MONTAGEM #14 LARANJA - FECHO PADRÃO COM ACIONAMENTO FENDA, BORRACHA DE VEDAÇÃO. | D36: UN | E36: 3 | F36: Montagem do comando de acionamento
A37: 1.3.11 | B37: 96985 | C37: =VLOOKUP(B37,CSD!B30:F10407,2,0) -> HASTE DE ATERRAMENTO, DIÂMETRO 5/8", COM 3 METROS - FORNECIMENTO E INSTALAÇÃO. AF_08/2023 | D37: =VLOOKUP(B37,CSD!B30:F10407,3,0) -> UN | E37: 37 | F37: Aterramento das luminárias
A38: 1.3.12 | B38: 101902 | C38: =VLOOKUP(B38,CSD!B31:F10408,2,0) -> CONTATOR TRIPOLAR I NOMINAL 22A - FORNECIMENTO E INSTALAÇÃO. AF_07/2025 | D38: =VLOOKUP(B38,CSD!B31:F10408,3,0) -> UN | E38: 3 | F38: Comando de acionamento do circuito
A39: 1.3.13 | B39: 101632 | C39: =VLOOKUP(B39,CSD!B32:F10409,2,0) -> RELÉ FOTOELÉTRICO PARA COMANDO DE ILUMINAÇÃO EXTERNA 1000 W - FORNECIMENTO E INSTALAÇÃO. AF_02/2025 | D39: =VLOOKUP(B39,CSD!B32:F10409,3,0) -> UN | E39: 3 | F39: Comando de acionamento do circuito
A40: 1.3.14 | B40: 91926 | C40: =VLOOKUP(B40,CSD!B33:F10410,2,0) -> CABO DE COBRE FLEXÍVEL ISOLADO, 2,5 MM², ANTI-CHAMA 450/750 V, PARA CIRCUITOS TERMINAIS - FORNECIMENTO E INSTALAÇÃO. AF_03/2023 | D40: =VLOOKUP(B40,CSD!B33:F10410,3,0) -> M | E40: =10*3*E27 -> 1110 | F40: Cabo de subida nos postes para alimentação das luminárias
A41: 1.3.15 | B41: 91928 | C41: =VLOOKUP(B41,CSD!B34:F10411,2,0) -> CABO DE COBRE FLEXÍVEL ISOLADO, 4 MM², ANTI-CHAMA 450/750 V, PARA CIRCUITOS TERMINAIS - FORNECIMENTO E INSTALAÇÃO. AF_03/2023 | D41: =VLOOKUP(B41,CSD!B34:F10411,3,0) -> M | E41: =J5*3 -> 2193 | F41: cabo de distribuição do circuito entre caixas comprimento do circuito vezes três fases
A43: 1.4 | C43: POSTES E LUMINÁRIAS
A44: 1.4.1 | B44: COMPOSIÇÃO REPRESENTATIVA 01 | C44: =Composição!A2 -> POSTE DE AÇO GALVANIZADO A QUENTE TIPO TELECONICO RETO COMPOSTO DE DOIS BRAÇOS ORNAMENTAIS TIPO ASA DE BORBOLETA Ø60,3MM COM PROJEÇÃO DE 2,50M, ENGASTAMENTO DIRETO AO SOLO, SEM JANELA DE INSPECAO H=10M - TOPO=Ø76,2MM E BASE=Ø127mm | D44: UN | E44: 37 | F44: Conforme projeto postes espaçados em aproximadamente 20 metros cobrindo toda a extensão da avenida
A45: 1.4.2 | B45: 101658 | C45: =VLOOKUP(B45,CSD!B39:F10416,2,0) -> LUMINÁRIA DE LED PARA ILUMINAÇÃO PÚBLICA, DE 138 W ATÉ 180 W - FORNECIMENTO E INSTALAÇÃO. AF_02/2025_PS | D45: =VLOOKUP(B45,CSD!B39:F10416,3,0) -> UN | E45: =E44*2 -> 74 | F45: 2 luminárias por poste
A47: 1.5 | C47: DIVERSOS
A48: 1.5.1 | B48: 11856 | C48: =VLOOKUP(B48,ISD!B32:F4886,2,0) -> CONECTOR METALICO TIPO PARAFUSO FENDIDO (SPLIT BOLT), PARA CABOS ATE 10 MM2 | D48: =VLOOKUP(B48,ISD!B32:F4886,3,0) -> UN | E48: 37 | F48: Interligação da haste de aterramento e cabo
...

Sheet Composição
A1: COMPOSIÇÃO REPRESENTATIVA 01
A2: POSTE DE AÇO GALVANIZADO A QUENTE TIPO TELECONICO RETO COMPOSTO DE DOIS BRAÇOS ORNAMENTAIS TIPO ASA DE BORBOLETA Ø60,3MM COM PROJEÇÃO DE 2,50M, ENGASTAMENTO DIRETO AO SOLO, SEM JANELA DE INSPECAO H=10M - TOPO=Ø76,2MM E BASE=Ø127mm
A3: ITEM | B3: CÓDIGO | C3: ORIGEM | D3: UNIDADE | E3: DESCRIÇÃO | F3: QUANTIDADE | G3: CUSTO UNIT. | H3: CUSTO UNIT TOTAL
A4: 1.1 | B4: 7692 | C4: ORSE Abril/2026-1 | D4: M | E4: TUBO ACO GALVANIZADO COM COSTURA, CLASSE MEDIA, DN 5", E = *5,40* MM, PESO *17,80* KG/M (NBR 5580) | F4: 3 | G4: 254.89 | H4: =TRUNC(F4*G4,2) -> 764.67
A5: 1.2 | B5: 101918 | C5: Composição | D5: =VLOOKUP(B5,CSD!B6:F10383,3,0) -> M | E5: =VLOOKUP(B5,CSD!B6:F10383,2,0) -> TUBO DE AÇO GALVANIZADO COM COSTURA, CLASSE MÉDIA, DN 100 (4"), CONEXÃO ROSQUEADA, INSTALADO EM PRUMADAS - FORNECIMENTO E INSTALAÇÃO. AF_01/2026 | F5: 3 | G5: =VLOOKUP(B5,CSD!B6:F10383,4,0) -> 207.2 | H5: =TRUNC(F5*G5,2) -> 621.6
A6: 1.3 | B6: 92337 | C6: Composição | D6: =VLOOKUP(B6,CSD!B7:F10384,3,0) -> M | E6: =VLOOKUP(B6,CSD!B7:F10384,2,0) -> TUBO DE AÇO GALVANIZADO COM COSTURA, CLASSE MÉDIA, CONEXÃO RANHURADA, DN 80 (3"), INSTALADO EM PRUMADAS - FORNECIMENTO E INSTALAÇÃO. AF_01/2026 | F6: 4 | G6: =VLOOKUP(B6,CSD!B7:F10384,4,0) -> 143.56 | H6: =TRUNC(F6*G6,2) -> 574.24
A7: 1.4 | B7: 92341 | C7: Composição | D7: =VLOOKUP(B7,CSD!B8:F10385,3,0) -> M | E7: =VLOOKUP(B7,CSD!B8:F10385,2,0) -> TUBO DE AÇO GALVANIZADO COM COSTURA, CLASSE MÉDIA, DN 50 (2"), CONEXÃO ROSQUEADA, INSTALADO EM PRUMADAS - FORNECIMENTO E INSTALAÇÃO. AF_01/2026 | F7: 7 | G7: =VLOOKUP(B7,CSD!B8:F10385,4,0) -> 102 | H7: =TRUNC(F7*G7,2) -> 714
A8: 1.5 | B8: 11026 | C8: ORSE Abril/2026-1 | D8: KG | E8: CHAPA DE ACO GALVANIZADA BITOLA GSG 14, E = 1,95 MM (15,60 KG/M2) | F8: 7.8 | G8: 10.54 | H8: =TRUNC(F8*G8,2) -> 82.21
A9: 1.6 | B9: 11002 | C9: Insumo | D9: =VLOOKUP(B9,ISD!B16:F4870,3,0) -> KG | E9: =VLOOKUP(B9,ISD!B16:F4870,2,0) -> ELETRODO REVESTIDO AWS - E6013, DIAMETRO IGUAL A 2,50 MM | F9: 0.45 | G9: =VLOOKUP(B9,ISD!B16:F4870,5,0) -> 33.91 | H9: =TRUNC(F9*G9,2) -> 15.25
A10: 1.7 | B10: 88317 | C10: Composição | D10: =VLOOKUP(B10,CSD!B11:F10388,3,0) -> H | E10: =VLOOKUP(B10,CSD!B11:F10388,2,0) -> SOLDADOR COM ENCARGOS COMPLEMENTARES | F10: 1 | G10: =VLOOKUP(B10,CSD!B11:F10388,4,0) -> 29.59 | H10: =TRUNC(F10*G10,2) -> 29.59
A11: 1.8 | B11: 379 | C11: ORSE Abril/2026-1 | D11: =VLOOKUP(B11,ISD!B18:F4872,3,0) -> UN | E11: =VLOOKUP(B11,ISD!B18:F4872,2,0) -> ARRUELA QUADRADA EM ACO CARBONO, GALVANIZADA A FOGO (IMERSAO A QUENTE), DIMENSAO = 38 MM, ESPESSURA = 3 MM, DIAMETRO DO FURO = 18 MM | F11: 2 | G11: 1.29 | H11: =TRUNC(F11*G11,2) -> 2.58
A12: 1.9 | B12: 432 | C12: ORSE Abril/2026-1 | D12: =VLOOKUP(B12,ISD!B19:F4873,3,0) -> UN | E12: =VLOOKUP(B12,ISD!B19:F4873,2,0) -> PARAFUSO M16 EM ACO GALVANIZADO, COMPRIMENTO = 250 MM, DIAMETRO = 16 MM, ROSCA MAQUINA, CABECA QUADRADA | F12: 1 | G12: 14.35 | H12: =TRUNC(F12*G12,2) -> 14.35
A13: 1.10 | B13: 4340 | C13: Insumo | D13: =VLOOKUP(B13,ISD!B20:F4874,3,0) -> UN | E13: =VLOOKUP(B13,ISD!B20:F4874,2,0) -> PORCA ZINCADA, SEXTAVADA, DIAMETRO 5/8" | F13: 1 | G13: =VLOOKUP(B13,ISD!B20:F4874,5,0) -> 1.33 | H13: =TRUNC(F13*G13,2) -> 1.33
A14: 1.11 | B14: 5928 | C14: Composição | D14: =VLOOKUP(B14,CSD!B15:F10392,3,0) -> CHP | E14: =VLOOKUP(B14,CSD!B15:F10392,2,0) -> GUINDAUTO HIDRÁULICO, CAPACIDADE MÁXIMA DE CARGA 6200 KG, MOMENTO MÁXIMO DE CARGA 11,7 TM, ALCANCE MÁXIMO HORIZONTAL 9,70 M, INCLUSIVE CAMINHÃO TOCO PBT 16.000 KG, POTÊNCIA DE 189 CV - CHP DIURNO. AF_06/2014 | F14: 0.111 | G14: =VLOOKUP(B14,CSD!B15:F10392,4,0) -> 308.76 | H14: =TRUNC(F14*G14,2) -> 34.27
A15: Valor Total | H15: =SUM(H4:H14) -> 2854.09
A17: Paranaíba - MS, 16 de JUNHO de 2026
E20: VINÍCIUS ALMEIDA MURTA
E21: ENGENHEIRO ELÉTRICO CREA-MG 179637/D VISTO - MS 34271

Sheet BDI
A1: PREFEITURA MUNICIPAL DE PARANAÍBA-MS
A2: SECRETARIA MUNICIPAL DE OBRAS, HABITAÇÃO E URBANISMO
B5: VERIFICAÇÃO DO BDI - ACÓRDÃO 2.622/2013 Rev 02
B8: DADOS INICIAIS
B10: TIPO DE OBRA: | C10: Construção e Manutenção de Estações e Redes de Distribuição de Energia Elétrica
B12: ENQUADRAMENTO NA DESONERAÇÃO CONFORME LEI N° 12.844/2013:* | F12: NÃO | K12: =IF(F12="","PREENCHER SE A OBRA POSSUI FOLHA DE PAGAMENTO DESONERADA","")
B13: *Uso de encargos sociais desonerados na elaboração do orçamento
B15: ENQUADRAM-SE NO TIPO SELECIONADO:
B16: =IF(C10="","",VLOOKUP(BU299,BV261:BW266,2,0)) -> A construção de usinas, estações e subestações hidrelétricas, eólicas, nucleares, termoelétricas; a construção de redes de transmissão e distribuição de energia elétrica, inclusive o serviço de eletrificação rural. Esta subclasse compreende também: a construção de redes de eletrificação para ferrovias e metropolitano, conforme classificação 4221-9/02 do CNAE 2.0. Compreende ainda: a manutenção de redes de distribuição de energia elétrica, quando executada por empresa não-produtora ou distribuidora de energia elétrica, conforme classificação 4221-9/03 do CNAE 2.0. Enquadram-se também obras de iluminação pública e a construção de barragens e represas para geração de energia elétrica.
B18: CÁLCULO DOS IMPOSTOS
B20: TRIBUTOS (impostos COFINS 3%, e PIS 0,65%) | D20: 0.0365
B22: ISS BRUTO % (LEI MUNICIPAL): | D22: % INCIDÊNCIA (M.OBRA)*
B23: 0.05 | D23: 0.66
B25: ISS LÍQUIDO | C25: 0.05
D27: TOTAL IMPOSTOS | F27: =D20+C25 -> 0.0865
B29: *Incidência do total do contrato que representa mão de obra para compor a base de cálculo conf. legislação municipal.
B33: VERFICAÇÃO E CÁLCULO DO BDI
B35: ITEM COMPONENTE | C35: 1º QUARTIL | D35: MÉDIO | E35: 3º QUARTIL | F35: Adotado | I35: Cálculo arredondado
B36: Administração Central | C36: =BV300 -> 0.0529 | D36: =BW300 -> 0.0592 | E36: =BX300 -> 0.0793 | F36: 0.0529 | I36: =TRUNC(F36,4) -> 0.0529 | K36: =IF(F36<>"",IF(OR(F36>E36,F36<C36),"CORRIGIR % ADOTADO",""),"")
B37: Seguro e Garantia | C37: =BV301 -> 0.0025 | D37: =BW301 -> 0.0051 | E37: =BX301 -> 0.0056 | F37: 0.0025 | I37: =TRUNC(F37,4) -> 0.0025 | K37: =IF(F37<>"",IF(OR(F37>E37,F37<C37),"CORRIGIR % ADOTADO",""),"")
B38: Risco | C38: =BV302 -> 0.01 | D38: =BW302 -> 0.0148 | E38: =BX302 -> 0.0197 | F38: 0.01 | I38: =TRUNC(F38,4) -> 0.01 | K38: =IF(F38<>"",IF(OR(F38>E38,F38<C38),"CORRIGIR % ADOTADO",""),"")
B39: Despesas Financeiras | C39: =BV303 -> 0.0101 | D39: =BW303 -> 0.0107 | E39: =BX303 -> 0.0111 | F39: 0.0101 | I39: =TRUNC(F39,4) -> 0.0101 | K39: =IF(F39<>"",IF(OR(F39>E39,F39<C39),"CORRIGIR % ADOTADO",""),"")
B40: Lucro | C40: =BV304 -> 0.08 | D40: =BW304 -> 0.0831 | E40: =BX304 -> 0.0951 | F40: 0.08 | I40: =TRUNC(F40,4) -> 0.08 | K40: =IF(F40<>"",IF(OR(F40>E40,F40<C40),"CORRIGIR % ADOTADO",""),"")
B42: Impostos | F42: =F27 -> 0.0865 | I42: =TRUNC(F42,5) -> 0.0865
B49: BDI CALCULADO | E49: =ROUND((((1+I36+I37+I38)*(1+I39)*(1+I40))/(1-I42))-1,4) -> 0.2723 | K49: =IF(F12="SIM","PARA SIMPLES CONFERÊNCIA","")
B51: =IF(E49<C54,"ERRO - BDI INFERIOR AO 1º QUARTIL",IF(E49>E54,"ERRO - BDI SUPERIOR AO 3º QUARTIL","BDI CONFORME")) -> BDI CONFORME
C53: 1º QUARTIL | D53: MÉDIO | E53: 3º QUARTIL
B54: LIMITES DO BDI | C54: =BV299 -> 0.24 | D54: =BW299 -> 0.2584 | E54: =BX299 -> 0.2786
B56: CORREÇÃO DA DESONERAÇÃO
B58: BDI CALCULADO C/ DESONERAÇÃO: | E58: =ROUND((((1+I36+I37+I38)*(1+I39)*(1+I40))/(1-I60))-1,4) -> 0.3382 | K58: =IF(F12="SIM","UTILIZAR BDI C/ DESONERAÇÃO","")
B60: Contribuição Previdenciária sobre a Receita Bruta (CPRB) | C60: 0.045 | D60: TOTAL IMPOSTOS | F60: =+F27+C60 -> 0.1315 | I60: =TRUNC(F60,5) -> 0.1315
BT259: BANCO DE DADOS
BU260: TIPO DE OBRA | BV260: CÓDIGO | BW260: ENQUARAMENTO
BT261: 100 | BU261: Construção de edificios | BV261: =+BT261 -> 100 | BW261: A construção e reforma de: edifícios, unidades habitacionais, escolas, hospitais, hotéis, restaurantes, armazéns e depósitos, edifícios para uso agropecuário, estações para trens e metropolitanos, estádios esportivos e quadras cobertas, instalações para embarque e desembarque de passageiros (em aeroportos, rodoviárias, portos, etc.), penitenciárias e presídios, a construção de edifícios industriais (fábricas, oficinas, galpões industriais, etc.), conforme classificação 4120-4 do CNAE 2.0. Também enquadram-se pórticos, mirantes e outros edifícios de finalidade turística.
BT262: 200 | BU262: Construção de rodovias e ferrovias | BV262: =+BT262 -> 200 | BW262: A construção e recuperação de: auto-estradas, rodovias e outras vias não-urbanas para passagem de veículos, vias férreas de superfície ou subterrâneas (inclusive para metropolitanos), pistas de aeroportos. Esta classe compreende também: a pavimentação de auto-estradas, rodovias e outras vias não-urbanas; construção de pontes, viadutos e túneis; a instalação de barreiras acústicas; a construção de praças de pedágio; a sinalização com pintura em rodovias e aeroportos; a instalação de placas de sinalização de tráfego e semelhantes, conforme classificação 4211-1 do CNAE 2.0. Também enquadram-se a construção, pavimentação e sinalização de vias urbanas, ruas e locais para estacionamento de veículos; a construção de praças e calçadas para pedestres; elevados, passarelas e ciclovias; metrô e VLT.
BT263: 300 | BU263: Construção de Redes de Abastecimento de Água, Coleta de Esgoto e Construções Correlatas | BV263: =+BT263 -> 300 | BW263: A construção de sistemas para o abastecimento de água tratada: reservatórios de distribuição, estações elevatórias de bombeamento, linhas principais de adução de longa e média distância e redes de distribuição de água; a construção de redes de coleta de esgoto, inclusive de interceptores, estações de tratamento de esgoto (ETE), estações de bombeamento de esgoto (EBE); a construção de galerias pluviais (obras de micro e macro drenagem). Esta classe compreende também: as obras de irrigação (canais); a manutenção de redes de abastecimento de água tratada; a manutenção de redes de coleta e de sistemas de tratamento de esgoto, conforme classificação 4222-7 do CNAE 2.0. Enquadra-se ainda a construção de estações de tratamento de água (ETA).
BT264: 400 | BU264: Construção e Manutenção de Estações e Redes de Distribuição de Energia Elétrica | BV264: =+BT264 -> 400 | BW264: A construção de usinas, estações e subestações hidrelétricas, eólicas, nucleares, termoelétricas; a construção de redes de transmissão e distribuição de energia elétrica, inclusive o serviço de eletrificação rural. Esta subclasse compreende também: a construção de redes de eletrificação para ferrovias e metropolitano, conforme classificação 4221-9/02 do CNAE 2.0. Compreende ainda: a manutenção de redes de distribuição de energia elétrica, quando executada por empresa não-produtora ou distribuidora de energia elétrica, conforme classificação 4221-9/03 do CNAE 2.0. Enquadram-se também obras de iluminação pública e a construção de barragens e represas para geração de energia elétrica.
BT265: 500 | BU265: Portuárias, Marítimas e Fluviais | BV265: =+BT265 -> 500 | BW265: As obras marítimas e fluviais, tais como, construção de instalações portuárias; construção de portos e marinas; construção de eclusas e canais de navegação (vias navegáveis); enrocamentos; obras de dragagem; aterro hidráulico; barragens, represas e diques, exceto para energia elétrica; a construção de emissários submarinos; a instalação de cabos submarinos, conforme classificação 4291-0 do CNAE 2.0. Enquadram-se também a construção de piers e outras obras com influência direta de cursos d’água.
BT266: 600 | BU266: Fornecimento de Materiais e Equipamentos | BV266: =+BT266 -> 600 | BW266: O fornecimento de materiais e equipamentos relevantes de natureza específica, como é o caso de: materiais betuminosos para obras rodoviárias,tubos de ferro fundido ou PVC para obras de abastecimento de água,elevadores e escadas rolantes para obras aeroportuárias. Os materiais e equipamentos devem compor itens próprios na planilha orçamentária, apartados de sua instalação, assentamento ou produção, p. ex., conjunto motor-bomba, tubulação de ferro fundido e material betuminoso, respectivamente. A adoção de taxa de BDI reduzida somente se justifica no caso de ficarem satisfeitas cumulativamente as seguintes condições: fornecimento de materiais e equipamentos que possam ser contratados diretamente do fabricante ou de fornecedor com especialidade própria e diversa da contratada principal;que se constitua mera intermediação entre a construtora e o fabricante; que a intermediação para fornecimento de equipamentos seja atividade residual da construtora.
CF269: PIS | CG269: CONFINS | CH269: BASE DE CÁLCULO
...

Sheet CFF
B2: PREFEITURA MUNICIPAL DE PARANAÍBA-MS
B3: Avenida Juca Pinhé, 333, Jardim Santa Mônica
B4: SECRETARIA DE URBANISMO, HABITAÇÃO
B5: E INFRAESTRUTURA
A7: Empreendimento: MODERNIZAÇÃO DO SISTEMA DE ILUMINAÇÃO DE DIVERSAS AVENIDAS
A8: Endereço: DIVERSAS AVENIDAS MUNICÍPIO DE PARANAÍBA
A9: se
A10: CRONOGRAMA FÍSICO-FINANCEIRO
A11: Item | B11: ITEM/SERVIÇO | C11: PERÍODO
C12: MÊS 01 | E12: MÊS 02 | G12: MÊS 03 | I12: TOTAL
A13: 1 | B13: =AVENIDAS!C18 -> MODERNIZAÇÃO ILUMINAÇÃO CANTEIRO CENTRAL AVENIDA ARISTIDES KLAFKE | C13: =AVENIDAS!H56 -> 263300.16 | I13: =SUM(C13:H13) -> 263300.16
A14: 2 | B14: =AVENIDAS!C60 -> MODERNIZAÇÃO ILUMINAÇÃO CANTEIRO CENTRAL AVENIDA VICENTE PERALTA | C14: =AVENIDAS!H98 -> 252142.76 | I14: =SUM(C14:H14) -> 252142.76
A15: 3 | B15: =AVENIDAS!C102 -> MODERNIZAÇÃO ILUMINAÇÃO CANTEIRO CENTRAL AVENIDA FILINTO MULLER | E15: =AVENIDAS!H140 -> 232754.76 | I15: =SUM(C15:H15) -> 232754.76
A16: 4 | B16: =AVENIDAS!C144 -> MODERNIZAÇÃO ILUMINAÇÃO CANTEIRO CENTRAL AVENIDA AV. DOS EXPEDICIONÁRIOS | E16: =AVENIDAS!H182 -> 232554.79 | I16: =SUM(C16:H16) -> 232554.79
A17: 5 | B17: =AVENIDAS!C186 -> MODERNIZAÇÃO ILUMINAÇÃO CANTEIRO CENTRAL AVENIDA RIO DE JANEIRO | G17: =AVENIDAS!H224 -> 300517.27 | I17: =SUM(C17:H17) -> 300517.27
A18: 6 | B18: =AVENIDAS!C226 -> ADMINSTRAÇÃO LOCAL | C18: =AVENIDAS!H228+(AVENIDAS!H227/3) -> 3681.49 | E18: =AVENIDAS!H227/3 -> 1455 | G18: =AVENIDAS!H227/3 -> 1455 | I18: =SUM(C18:H18) -> 6591.49
A19: TOTAL | C19: =SUM(C13:C18) -> 519124.41 | E19: =SUM(E13:E18) -> 466764.55 | G19: =SUM(G13:G18) -> 301972.27 | I19: =SUM(I13:I18) -> 1287861.2
B20: Evolução Física - Período (%) | C20: =2/5 -> 0.4 | E20: =2/5 -> 0.4 | G20: =1/5 -> 0.2
B21: Evolução Física - Acumulado (%) | C21: =C20 -> 0.4 | E21: =E20+C21 -> 0.8 | G21: =G20+E21 -> 1
B22: Evolução Financeira - Período (R$) | C22: =C19/I19 -> 0.40309033 | E22: =E19/I19 -> 0.36243389 | G22: =G19/I19 -> 0.23447578
B23: Evolução Financeira - Acumulado (R$) | C23: =C22 -> 0.40309033 | E23: =E22+C23 -> 0.76552422 | G23: =G22+E23 -> 1
A27: Paranaíba - MS, 16 de junho de 2026
B30: VINÍCIUS ALMEIDA MURTA
B31: ENGENHEIRO ELÉTRICO CREA-MG 179637/D VISTO - MS 34271

Sheet ISD
A1: SINAPI - Sistema Nacional de Pesquisa de Custos e Índices da Construção Civil
A2: RELATÓRIO DE PREÇOS DE INSUMOS - ENCARGOS SOCIAIS SEM DESONERAÇÃO
A3: Mês de Referência: | B3: 04/2026 | E3: Encargos sociais sobre a mão de obra:
A4: Data de emissão: | B4: 12/05/2026 | E4: (SEM DESONERAÇÃO) | F4: MS
E5: Localidade | F5: CAMPO GRANDE
A6: Origem de preço: | B6: C = COLETADO | C6: CR = COEFICIENTE DE REPRESENTATIVIDADE | E6: Horista | F6: 1.1571
A7: Preço em branco para determinado estado significa que não houve coleta mínima de preços no mês de referência | E7: Mensalista | F7: 0.7157
A9: Acessar Fichas de Especificação Técnico dos Insumos | E9: Preços Medianos (R$):
A10: Classificação | B10: Código do Insumo | C10: Descrição do Insumo | D10: Unidade | E10: Origem de Preço | F10: MS
A11: SERVIÇOS | B11: 45333 | C11: ABERTURA PARA ENCAIXE DE CUBA OU LAVATORIO EM BANCADA DE MARMORE/ GRANITO OU OUTRO TIPO DE PEDRA NATURAL | D11: UN | E11: CR | F11: 190.13
A12: MATERIAL | B12: 11270 | C12: ABRACADEIRA DE LATAO PARA FIXACAO DE CABO PARA-RAIO, DIMENSOES 32 X 24 X 24 MM | D12: UN | E12: CR | F12: 2.91
A13: MATERIAL | B13: 412 | C13: ABRACADEIRA DE NYLON PARA AMARRACAO DE CABOS, COMPRIMENTO DE *230* X *7,6* MM | D13: UN | E13: CR | F13: 1.54
A14: MATERIAL | B14: 414 | C14: ABRACADEIRA DE NYLON PARA AMARRACAO DE CABOS, COMPRIMENTO DE 100 X 2,5 MM | D14: UN | E14: CR | F14: 0.09
A15: MATERIAL | B15: 410 | C15: ABRACADEIRA DE NYLON PARA AMARRACAO DE CABOS, COMPRIMENTO DE 150 X *3,6* MM | D15: UN | E15: CR | F15: 0.23
A16: MATERIAL | B16: 411 | C16: ABRACADEIRA DE NYLON PARA AMARRACAO DE CABOS, COMPRIMENTO DE 200 X *4,6* MM | D16: UN | E16: C | F16: 0.3
A17: MATERIAL | B17: 408 | C17: ABRACADEIRA DE NYLON PARA AMARRACAO DE CABOS, COMPRIMENTO DE 390 X *4,6* MM | D17: UN | E17: CR | F17: 1.48
A18: MATERIAL | B18: 39131 | C18: ABRACADEIRA EM ACO PARA AMARRACAO DE ELETRODUTOS, TIPO D, COM 1 1/2" E CUNHA DE FIXACAO | D18: UN | E18: CR | F18: 6.63
A19: MATERIAL | B19: 394 | C19: ABRACADEIRA EM ACO PARA AMARRACAO DE ELETRODUTOS, TIPO D, COM 1 1/2" E PARAFUSO DE FIXACAO | D19: UN | E19: CR | F19: 6.72
A20: MATERIAL | B20: 39130 | C20: ABRACADEIRA EM ACO PARA AMARRACAO DE ELETRODUTOS, TIPO D, COM 1 1/4" E CUNHA DE FIXACAO | D20: UN | E20: CR | F20: 6.05
A21: MATERIAL | B21: 395 | C21: ABRACADEIRA EM ACO PARA AMARRACAO DE ELETRODUTOS, TIPO D, COM 1 1/4" E PARAFUSO DE FIXACAO | D21: UN | E21: CR | F21: 6.47
A22: MATERIAL | B22: 39129 | C22: ABRACADEIRA EM ACO PARA AMARRACAO DE ELETRODUTOS, TIPO D, COM 1" E CUNHA DE FIXACAO | D22: UN | E22: CR | F22: 3.73
... A54: MATERIAL | B54: 36246 | C54: ACABAMENTO SIMPLES/CONVENCIONAL PARA FORRO PVC, TIPO "U" OU "C", COR BRANCA, COMPRIMENTO 6 M | D54: M | E54: CR | F54: 5.24
A55: MATERIAL | B55: 37600 | C55: ACESSORIO DE LIGACAO NAO ELETRICO PARA CARGAS EXPLOSIVAS, TUBO DE 6 M | D55: UN | E55: CR
A56: MATERIAL | B56: 37599 | C56: ACESSORIO INICIADOR NAO ELETRICO, TUBO DE 6 M, TEMPO DE RETARDO DE *160* MS | D56: UN | E56: CR
A57: MATERIAL | B57: 1 | C57: ACETILENO - RECARGA DE GAS PARA CILINDRO (NAO INCLUI TROCA/MANUTENCAO DO CILINDRO) | D57: KG | E57: C | F57: 111
A58: MATERIAL | B58: 3 | C58: ACIDO CLORIDRICO / ACIDO MURIATICO, DILUICAO 10% A 12% PARA USO EM LIMPEZA | D58: L | E58: CR | F58: 13.88
A59: MATERIAL | B59: 43054 | C59: ACO CA-25, 10,0 MM, OU 12,5 MM, OU 16,0 MM, OU 20,0 MM, OU 25,0 MM, VERGALHAO | D59: KG | E59: CR | F59: 8.33
A60: MATERIAL | B60: 42402 | C60: ACO CA-25, 16,0 MM, BARRA DE TRANSFERENCIA | D60: KG | E60: CR | F60: 7.96
A61: MATERIAL | B61: 42403 | C61: ACO CA-25, 20,0 MM, BARRA DE TRANSFERENCIA | D61: KG | E61: CR | F61: 10.22
A62: MATERIAL | B62: 42404 | C62: ACO CA-25, 25,0 MM, BARRA DE TRANSFERENCIA | D62: KG | E62: CR | F62: 10.16
A63: MATERIAL | B63: 42405 | C63: ACO CA-25, 32,0 MM, BARRA DE TRANSFERENCIA | D63: KG | E63: CR | F63: 10.82
A64: MATERIAL | B64: 34341 | C64: ACO CA-25, 32,0 MM, VERGALHAO | D64: KG | E64: CR | F64: 9.39
A65: MATERIAL | B65: 43053 | C65: ACO CA-25, 6,3 MM OU 8,0 MM, VERGALHAO | D65: KG | E65: CR | F65: 7.44
A66: MATERIAL | B66: 43058 | C66: ACO CA-50, 10,0 MM, OU 12,5 MM, OU 16,0 MM, OU 20,0 MM, DOBRADO E CORTADO | D66: KG | E66: CR | F66: 7.72
A67: MATERIAL | B67: 34 | C67: ACO CA-50, 10,0 MM, VERGALHAO | D67: KG | E67: CR | F67: 7.76
A68: MATERIAL | B68: 43055 | C68: ACO CA-50, 12,5 MM OU 16,0 MM, VERGALHAO | D68: KG | E68: C | F68: 6.72
... A77: MATERIAL | B77: 43060 | C77: ACO CA-60, 8,0 MM OU 9,5 MM, VERGALHAO | D77: KG | E77: CR | F77: 6.39
A78: MATERIAL | B78: 40410 | C78: ACOPLAMENTO RIGIDO EM FERRO FUNDIDO PARA SISTEMA DE TUBULACAO RANHURADA, DN 50 MM (2") | D78: UN | E78: C
A79: MATERIAL | B79: 40411 | C79: ACOPLAMENTO RIGIDO EM FERRO FUNDIDO PARA SISTEMA DE TUBULACAO RANHURADA, DN 65 MM (2 1/2") | D79: UN | E79: CR
A80: MATERIAL | B80: 40412 | C80: ACOPLAMENTO RIGIDO EM FERRO FUNDIDO PARA SISTEMA DE TUBULACAO RANHURADA, DN 80 MM (3") | D80: UN | E80: CR
...

Sheet CSD
A1: SINAPI - Sistema Nacional de Pesquisa de Custos e Índices da Construção Civil
A2: RELATÓRIO DE CUSTOS DE COMPOSIÇÕES - ENCARGOS SOCIAIS SEM DESONERAÇÃO
A3: Mês de Referência: | B3: 04/2026 | D3: Encargos sociais sobre a mão de obra:
A4: Data de emissão: | B4: 12/05/2026 | D4: (SEM DESONERAÇÃO) | E4: MS
D5: Localidade | E5: CAMPO GRANDE
A6: Observação: | B6: %AS (porcentagem Atribuído São Paulo) corresponde a porcentagem do custo total da | D6: Horista | E6: 1.1571
B7: composição que foi obtida utilizando preços de insumos de São Paulo por indisponibilidade | D7: Mensalista | E7: 0.7157
B8: dos preços de insumos necessários à composição no estado em questão. Custo zerado (hífen)
B9: indica que pelo menos um dos itens da composição não tem custo/preço. | E9: MS
A10: Grupo | B10: Código da Composição | C10: Descrição | D10: Unidade | E10: Custo (R$) | F10: %AS
A11: Acessibilidade | B11: 104658 | C11: PISO PODOTÁTIL DE ALERTA OU DIRECIONAL, DE CONCRETO, ASSENTADO SOBRE ARGAMASSA. AF_03/2024 | D11: M2 | E11: 176.91 | F11: 0
A12: Acessibilidade | B12: 105002 | C12: RAMPA DE ACESSIBILIDADE EM CONCRETO MOLDADO IN LOCO, EM CALÇADA NOVA COM LARGURA MAIOR OU IGUAL À 3,00 M, FCK 25MPA, COM PISO PODOTÁTIL. AF_03/2024 | D12: UN | E12: 737.89 | F12: 0
A13: Acessibilidade | B13: 105004 | C13: RAMPA DE ACESSIBILIDADE EM CONCRETO MOLDADO IN LOCO, EM CALÇADA NOVA COM LARGURA MENOR À 3,00 M, FCK 25MPA, COM PISO PODOTÁTIL. AF_03/2024 | D13: M2 | E13: 126.14 | F13: 0
A14: Acessibilidade | B14: 105003 | C14: RAMPA DE ACESSIBILIDADE EM CONCRETO MOLDADO IN LOCO, EM CALÇADA PRÉ EXISTENTE COM LARGURA MAIOR OU IGUAL À 3,00 M, FCK 25MPA, COM PISO PODOTÁTIL. AF_03/2024 | D14: UN | E14: 1186.9 | F14: 0.0534
A15: Acessibilidade | B15: 105005 | C15: RAMPA DE ACESSIBILIDADE EM CONCRETO MOLDADO IN LOCO, EM CALÇADA PRÉ EXISTENTE COM LARGURA MENOR À 3,00 M, FCK 25MPA, COM PISO PODOTÁTIL. AF_03/2024 | D15: M2 | E15: 209.27 | F15: 0.0561
A16: Acessibilidade | B16: 105006 | C16: RAMPA DE ACESSIBILIDADE EM CONCRETO PRÉ MOLDADO, EM CALÇADA NOVA COM LARGURA MAIOR OU IGUAL À 3,00 M, FCK 25MPA, COM PISO PODOTÁTIL. AF_03/2024 | D16: UN | E16: 0
A17: Acessibilidade | B17: 104999 | C17: RAMPA DE ACESSIBILIDADE EM CONCRETO PRÉ MOLDADO, EM CALÇADA PRÉ EXISTENTE COM LARGURA MAIOR OU IGUAL À 3,00 M, FCK 25MPA, COM PISO PODOTÁTIL. AF_03/2024 | D17: UN | E17: 0
A18: Acessibilidade | B18: 105000 | C18: RAMPA DE ACESSIBILIDADE PARA ACESSO A EDIFICAÇÕES COM INCLINAÇÃO DE 8,33% EM CONCRETO MOLDADO IN LOCO, COM LARGURA DE 1,20M, FCK 25MPA, NÃO ARMADA, COM JUNTA A CADA 2M COM CORTE À SECO. AF_03/2024 | D18: M | E18: 1216.67 | F18: 0.5195
A19: Acessibilidade | B19: 105001 | C19: RAMPA DE ACESSIBILIDADE PARA ACESSO A EDIFICAÇÕES COM INCLINAÇÃO DE 8,33% EM CONCRETO MOLDADO IN LOCO, COM LARGURA DE 1,50M, FCK 25MPA, NÃO ARMADA, COM JUNTA A CADA 2M COM CORTE À SECO. AF_03/2024 | D19: M | E19: 1252.22 | F19: 0.5048
A20: Alvenaria Estrutural - Blocos Cerâmicos | B20: 89306 | C20: ALVENARIA ESTRUTURAL DE BLOCOS CERÂMICOS 14X19X29, (ESPESSURA DE 14 CM), UTILIZANDO COLHER DE PEDREIRO E ARGAMASSA DE ASSENTAMENTO COM PREPARO EM BETONEIRA. AF_03/2023 | D20: M2 | E20: 102.54 | F20: 0
A21: Alvenaria Estrutural - Blocos Cerâmicos | B21: 89307 | C21: ALVENARIA ESTRUTURAL DE BLOCOS CERÂMICOS 14X19X29, (ESPESSURA DE 14 CM), UTILIZANDO COLHER DE PEDREIRO E ARGAMASSA DE ASSENTAMENTO COM PREPARO MANUAL. AF_03/2023 | D21: M2 | E21: 104.67 | F21: 0
A22: Alvenaria Estrutural - Blocos Cerâmicos | B22: 89290 | C22: ALVENARIA ESTRUTURAL DE BLOCOS CERÂMICOS 14X19X29, (ESPESSURA DE 14 CM), UTILIZANDO PALHETA E ARGAMASSA DE ASSENTAMENTO COM PREPARO EM BETONEIRA. AF_03/2023 | D22: M2 | E22: 85.95 | F22: 0
A23: Alvenaria Estrutural - Blocos Cerâmicos | B23: 89291 | C23: ALVENARIA ESTRUTURAL DE BLOCOS CERÂMICOS 14X19X29, (ESPESSURA DE 14 CM), UTILIZANDO PALHETA E ARGAMASSA DE ASSENTAMENTO COM PREPARO MANUAL. AF_03/2023 | D23: M2 | E23: 87.54 | F23: 0
A24: Alvenaria Estrutural - Blocos Cerâmicos | B24: 89298 | C24: ALVENARIA ESTRUTURAL DE BLOCOS CERÂMICOS 14X19X39, (ESPESSURA DE 14 CM), UTILIZANDO COLHER DE PEDREIRO E ARGAMASSA DE ASSENTAMENTO COM PREPARO EM BETONEIRA. AF_03/2023 | D24: M2 | E24: 89.69 | F24: 0
A25: Alvenaria Estrutural - Blocos Cerâmicos | B25: 89299 | C25: ALVENARIA ESTRUTURAL DE BLOCOS CERÂMICOS 14X19X39, (ESPESSURA DE 14 CM), UTILIZANDO COLHER DE PEDREIRO E ARGAMASSA DE ASSENTAMENTO COM PREPARO MANUAL. AF_03/2023 | D25: M2 | E25: 91.59 | F25: 0
A26: Alvenaria Estrutural - Blocos Cerâmicos | B26: 89282 | C26: ALVENARIA ESTRUTURAL DE BLOCOS CERÂMICOS 14X19X39, (ESPESSURA DE 14 CM), UTILIZANDO PALHETA E ARGAMASSA DE ASSENTAMENTO COM PREPARO EM BETONEIRA. AF_03/2023 | D26: M2 | E26: 77.97 | F26: 0
A27: Alvenaria Estrutural - Blocos Cerâmicos | B27: 89283 | C27: ALVENARIA ESTRUTURAL DE BLOCOS CERÂMICOS 14X19X39, (ESPESSURA DE 14 CM), UTILIZANDO PALHETA E ARGAMASSA DE ASSENTAMENTO COM PREPARO MANUAL. AF_03/2023 | D27: M2 | E27: 79.4 | F27: 0
A28: Alvenaria Estrutural - Blocos de Concreto | B28: 89480 | C28: ALVENARIA DE BLOCOS DE CONCRETO ESTRUTURAL 14X19X29 CM (ESPESSURA 14 CM), FBK = 14 MPA, UTILIZANDO COLHER DE PEDREIRO. AF_10/2022 | D28: M2 | E28: 169.14 | F28: 0
A29: Alvenaria Estrutural - Blocos de Concreto | B29: 89464 | C29: ALVENARIA DE BLOCOS DE CONCRETO ESTRUTURAL 14X19X29 CM (ESPESSURA 14 CM), FBK = 14,0 MPA, UTILIZANDO PALHETA. AF_10/2022 | D29: M2 | E29: 148.54 | F29: 0
... A31: Alvenaria Estrutural - Blocos de Concreto | B31: 89462 | C31: ALVENARIA DE BLOCOS DE CONCRETO ESTRUTURAL 14X19X29 CM (ESPESSURA 14 CM), FBK = 4,5 MPA, UTILIZANDO PALHETA. AF_10/2022 | D31: M2 | E31: 125.33 | F31: 0
A32: Alvenaria Estrutural - Blocos de Concreto | B32: 104444 | C32: ALVENARIA DE BLOCOS DE CONCRETO ESTRUTURAL 14X19X29 CM (ESPESSURA 14 CM), FBK = 8 MPA, UTILIZANDO COLHER DE PEDREIRO. AF_10/2022 | D32: M2 | E32: 0
A33: Alvenaria Estrutural - Blocos de Concreto | B33: 104442 | C33: ALVENARIA DE BLOCOS DE CONCRETO ESTRUTURAL 14X19X29 CM (ESPESSURA 14 CM), FBK = 8 MPA, UTILIZANDO PALHETA. AF_10/2022 | D33: M2 | E33: 0
A34: Alvenaria Estrutural - Blocos de Concreto | B34: 89472 | C34: ALVENARIA DE BLOCOS DE CONCRETO ESTRUTURAL 14X19X39 CM (ESPESSURA 14 CM), FBK = 14 MPA, UTILIZANDO COLHER DE PEDREIRO. AF_10/2022 | D34: M2 | E34: 129.97 | F34: 0
A35: Alvenaria Estrutural - Blocos de Concreto | B35: 89455 | C35: ALVENARIA DE BLOCOS DE CONCRETO ESTRUTURAL 14X19X39 CM (ESPESSURA 14 CM), FBK = 14 MPA, UTILIZANDO PALHETA. AF_10/2022 | D35: M2 | E35: 116.97 | F35: 0
A36: Alvenaria Estrutural - Blocos de Concreto | B36: 89470 | C36: ALVENARIA DE BLOCOS DE CONCRETO ESTRUTURAL 14X19X39 CM (ESPESSURA 14 CM), FBK = 4,5 MPA, UTILIZANDO COLHER DE PEDREIRO. AF_10/2022 | D36: M2 | E36: 107.63 | F36: 0
A37: Alvenaria Estrutural - Blocos de Concreto | B37: 89453 | C37: ALVENARIA DE BLOCOS DE CONCRETO ESTRUTURAL 14X19X39 CM (ESPESSURA 14 CM), FBK = 4,5 MPA, UTILIZANDO PALHETA. AF_10/2022 | D37: M2 | E37: 95.76 | F37: 0
A38: Alvenaria Estrutural - Blocos de Concreto | B38: 104443 | C38: ALVENARIA DE BLOCOS DE CONCRETO ESTRUTURAL 14X19X39 CM (ESPESSURA 14 CM), FBK = 8 MPA, UTILIZANDO COLHER DE PEDREIRO. AF_10/2022 | D38: M2 | E38: 0
A39: Alvenaria Estrutural - Blocos de Concreto | B39: 104441 | C39: ALVENARIA DE BLOCOS DE CONCRETO ESTRUTURAL 14X19X39 CM (ESPESSURA 14 CM), FBK = 8 MPA, UTILIZANDO PALHETA. AF_10/2022 | D39: M2 | E39: 0
A40: Alvenaria de Vedação | B40: 103354 | C40: ALVENARIA DE VEDAÇÃO DE BLOCOS CERÂMICOS FURADOS NA HORIZONTAL DE 11,5X14X24 CM (ESPESSURA 11,5 CM) E ARGAMASSA DE ASSENTAMENTO COM PREPARO EM BETONEIRA. AF_12/2021 | D40: M2 | E40: 93.12 | F40: 0.0062
A41: Alvenaria de Vedação | B41: 103355 | C41: ALVENARIA DE VEDAÇÃO DE BLOCOS CERÂMICOS FURADOS NA HORIZONTAL DE 11,5X14X24 CM (ESPESSURA 11,5 CM) E ARGAMASSA DE ASSENTAMENTO COM PREPARO MANUAL. AF_12/2021 | D41: M2 | E41: 94.38 | F41: 0.0061
...
