Workbook
Name \c: [1]SID_NI_5!#REF!
Name \c: [1]SID_NI_5!#REF!
Name \p: [1]SID_NI_5!#REF!
Name \p: [1]SID_NI_5!#REF!
Name ___CCM30: #REF!
Name ___CCM30: #REF!
Name ___CCM30: #REF!
Name ___la2: #REF!
Name ___la2: #REF!
Name ___la2: #REF!
Name ___PCM30: #REF!
Name ___PCM30: #REF!
Name ___PCM30: #REF!
Name ___PLA2: #REF!
Name ___PLA2: #REF!
Name ___PTB10: #REF!
Name ___PTB10: #REF!
Name ___TB10: #REF!
Name ___TB10: #REF!
Name ___TCB4: [2]TLCB5!$I$31
Name ___TCM30: '[3]Mat. Bet.'!$F$25
Name ___TOT6: #REF!
Name ___TOT6: #REF!
Name ___TOT6: #REF!
Name ___TOT7: #REF!
Name ___TOT7: #REF!
Name ___TOT7: #REF!
Name ___TSD2: #REF!
Name ___TSD2: #REF!
Name ___TSD2: #REF!
Name __CAP20: #REF!
Name __CAP20: #REF!
Name __CCM30: #REF!
Name __CCM30: #REF!
Name __DAR02: [4]Serviços!#REF!
Name __DAR02: [4]Serviços!#REF!
Name __DAR02: [4]Serviços!#REF!
Name __EDA01: [4]Serviços!#REF!
Name __EDA01: [4]Serviços!#REF!
Name __EDA01: [4]Serviços!#REF!
Name __HCB5: [5]COMPMOTSER!$H$76
Name __la2: #REF!
Name __la2: #REF!
Name __la2: #REF!
Name __LS1: #REF!
Name __LS1: #REF!
Name __LS1: #REF!
Name __LS2: #REF!
Name __LS2: #REF!
Name __LS2: #REF!
Name __MFC01: [4]Serviços!#REF!
Name __MFC01: [4]Serviços!#REF!
Name __MFC01: [4]Serviços!#REF!
Name __PC31: #REF!
Name __PC31: #REF!
Name __PCB5: '[4]Serv. Adm.'!$H$297
Name __PCM30: #REF!
Name __PCM30: #REF!
Name __PCM30: #REF!
Name __PLA2: #REF!

Sheet COMP N DESON
D1: B.D.I. | F1: Encargos Sociais
D2: SERVIÇOS: 22,00% | F2: Não Desonerado
A4: OBRA: MANUTENÇÃO DE 80 (OITENTA) PONTES DE MADEIRA EM ESTRADAS VICINAIS NO MUNICIPIO DE CAMPO GRANDE - MS | F4: SINAPI - 06/2023 - MS SBC - 06/2023 - MS SICRO - 04/2023 - MS AGESUL - 06/2023 - MS
A5: COMPOSIÇÕES
A6: Código | B6: Banco | C6: Descrição | D6: Und | E6: Quant. | F6: Valor Unit | G6: Total
A7: PM_06 | B7: Próprio | C7: DESMONTE DE RODEIRO | D7: m | E7: 1 | F7: 59.42 | G7: 59.42
A8: 90776 | B8: SINAPI | C8: ENCARREGADO GERAL COM ENCARGOS COMPLEMENTARES | D8: H | E8: 0.45 | F8: 26.91 | G8: 12.1
A9: 88316 | B9: SINAPI | C9: SERVENTE COM ENCARGOS COMPLEMENTARES | D9: H | E9: 2.5 | F9: 18.93 | G9: 47.32
A13: Código | B13: Banco | C13: Descrição | D13: Und | E13: Quant. | F13: Valor Unit | G13: Total
A14: PM_05 | B14: Próprio | C14: DESMONTE DE ASSOALHO | D14: m | E14: 1 | F14: 63.51 | G14: 63.51
A15: 90776 | B15: SINAPI | C15: ENCARREGADO GERAL COM ENCARGOS COMPLEMENTARES | D15: H | E15: 0.25 | F15: 26.91 | G15: 6.72
A16: 88316 | B16: SINAPI | C16: SERVENTE COM ENCARGOS COMPLEMENTARES | D16: H | E16: 3 | F16: 18.93 | G16: 56.79
A20: Código | B20: Banco | C20: Descrição | D20: Und | E20: Quant. | F20: Valor Unit | G20: Total
A21: PM03 | B21: Próprio | C21: DESMONTE DE VIGAMENTO SIMPLES | D21: m | E21: 1 | F21: 102.63 | G21: 102.63
A22: 90776 | B22: SINAPI | C22: ENCARREGADO GERAL COM ENCARGOS COMPLEMENTARES | D22: H | E22: 1 | F22: 26.91 | G22: 26.91
A23: 88316 | B23: SINAPI | C23: SERVENTE COM ENCARGOS COMPLEMENTARES | D23: H | E23: 4 | F23: 18.93 | G23: 75.72
A27: Código | B27: Banco | C27: Descrição | D27: Und | E27: Quant. | F27: Valor Unit | G27: Total
A28: PM10 | B28: Próprio | C28: DESMONTE DE VIGAMENTO ARMADO | D28: jgxm | E28: 1 | F28: 218.71 | G28: 218.71
A29: 90776 | B29: SINAPI | C29: ENCARREGADO GERAL COM ENCARGOS COMPLEMENTARES | D29: H | E29: 2.5 | F29: 26.91 | G29: 67.27
A30: 88316 | B30: SINAPI | C30: SERVENTE COM ENCARGOS COMPLEMENTARES | D30: H | E30: 8 | F30: 18.93 | G30: 151.44
A34: Código | B34: Banco | C34: Descrição | D34: Und | E34: Quant. | F34: Valor Unit | G34: Total
A35: PM_01 | B35: Próprio | C35: DESMONTE DE JOGOS DE ESTEIOS (H<2,00 m) | D35: jgxm | E35: 1 | F35: 69.94 | G35: 69.94
A36: 90776 | B36: SINAPI | C36: ENCARREGADO GERAL COM ENCARGOS COMPLEMENTARES | D36: H | E36: 0.7 | F36: 26.91 | G36: 18.83
A37: 88316 | B37: SINAPI | C37: SERVENTE COM ENCARGOS COMPLEMENTARES | D37: H | E37: 2.7 | F37: 18.93 | G37: 51.11
A41: Código | B41: Banco | C41: Descrição | D41: Und | E41: Quant. | F41: Valor Unit | G41: Total
A42: PM_02 | B42: Próprio | C42: DESMONTE DE JOGOS DE ESTEIO (H>2,00 M) | D42: jg x m | E42: 1 | F42: 141.78 | G42: 141.78
A43: 90776 | B43: SINAPI | C43: ENCARREGADO GERAL COM ENCARGOS COMPLEMENTARES | D43: H | E43: 1.4 | F43: 26.91 | G43: 37.67
A44: 88316 | B44: SINAPI | C44: SERVENTE COM ENCARGOS COMPLEMENTARES | D44: H | E44: 5.5 | F44: 18.93 | G44: 104.11
A48: Código | B48: Banco | C48: Descrição | D48: Und | E48: Quant. | F48: Valor Unit | G48: Total
A49: PM09 | B49: Próprio | C49: DESMONTE DE CAIXÃO DE ATERRO | D49: m² | E49: 1 | F49: 66.06 | G49: 66.06
A50: 90776 | B50: SINAPI | C50: ENCARREGADO GERAL COM ENCARGOS COMPLEMENTARES | D50: H | E50: 1.4 | F50: 26.91 | G50: 37.67
A51: 88316 | B51: SINAPI | C51: SERVENTE COM ENCARGOS COMPLEMENTARES | D51: H | E51: 1.5 | F51: 18.93 | G51: 28.39
A55: Código | B55: Banco | C55: Descrição | D55: Und | E55: Quant. | F55: Valor Unit | G55: Total
A56: PM_07 | B56: Próprio | C56: DESMONTE DE GUIA DE RODAS | D56: m | E56: 1 | F56: 35.11 | G56: 35.11
A57: 90776 | B57: SINAPI | C57: ENCARREGADO GERAL COM ENCARGOS COMPLEMENTARES | D57: H | E57: 0.25 | F57: 26.91 | G57: 6.72
A58: 88316 | B58: SINAPI | C58: SERVENTE COM ENCARGOS COMPLEMENTARES | D58: H | E58: 1.5 | F58: 18.93 | G58: 28.39
A62: Código | B62: Banco | C62: Descrição | D62: Und | E62: Quant. | F62: Valor Unit | G62: Total
A63: RODEIRO - 1 | B63: Próprio | C63: MONTAGEM DE RODEIRO COM SUBSTITUIÇÃO DE FERRAGENS | D63: m | E63: 1 | F63: 127.1 | G63: 127.1
A64: 90776 | B64: SINAPI | C64: ENCARREGADO GERAL COM ENCARGOS COMPLEMENTARES | D64: H | E64: 0.2 | F64: 26.91 | G64: 5.38
A65: 88316 | B65: SINAPI | C65: SERVENTE COM ENCARGOS COMPLEMENTARES | D65: H | E65: 2 | F65: 18.93 | G65: 37.86
...

Sheet PLAN N DESON
E1: Bancos | G1: B.D.I. | I1: Encargos Sociais
E2: SINAPI - 06/2023 - MS SBC - 06/2023 - MS SICRO - 04/2023 - MS AGESUL - 06/2023 - MS | G2: SERVIÇOS: 22,00% | I2: Não Desonerado
A3: OBRA: MANUTENÇÃO DE 80 (OITENTA) PONTES DE MADEIRA EM ESTRADAS VICINAIS NO MUNICIPIO DE CAMPO GRANDE - MS
A4: PLANILHA DE SERVIÇOS
A5: Item | B5: Código | C5: Banco | D5: Descrição | E5: Und | F5: Quant. | G5: Valor Unit | H5: Valor Unit com BDI | I5: Total | J5: Peso (%)
A6: 1 | D6: DESMONTE DE PONTE | I6: 264957.54 | J6: 0.055241912
A7: 1.1 | B7: PM_06 | C7: Próprio | D7: DESMONTE DE RODEIRO | E7: m | F7: 942.08 | G7: 59.42 | H7: 72.49 | I7: 68291.37 | J7: 0.014238304
A8: 1.2 | B8: PM_05 | C8: Próprio | D8: DESMONTE DE ASSOALHO | E8: m | F8: 942.08 | G8: 63.51 | H8: 77.48 | I8: 72992.35 | J8: 0.015218427
A9: 1.3 | B9: PM03 | C9: Próprio | D9: DESMONTE DE VIGAMENTO SIMPLES | E9: m | F9: 112.36 | G9: 102.63 | H9: 125.2 | I9: 14067.47 | J9: 0.0029329754
A10: 1.4 | B10: PM10 | C10: Próprio | D10: DESMONTE DE VIGAMENTO ARMADO | E10: jgxm | F10: 54 | G10: 218.71 | H10: 266.82 | I10: 14408.28 | J10: 0.0030040321
A11: 1.5 | B11: PM_01 | C11: Próprio | D11: DESMONTE DE JOGOS DE ESTEIOS (H<2,00 m) | E11: jgxm | F11: 12.11 | G11: 69.94 | H11: 85.32 | I11: 1033.22 | J11: 0.00021541961
A12: 1.6 | B12: PM_02 | C12: Próprio | D12: DESMONTE DE JOGOS DE ESTEIO (H>2,00 M) | E12: jg x m | F12: 89.27 | G12: 141.78 | H12: 172.97 | I12: 15441.03 | J12: 0.0032193537
A13: 1.7 | B13: PM09 | C13: Próprio | D13: DESMONTE DE CAIXÃO DE ATERRO | E13: m² | F13: 476.17 | G13: 66.06 | H13: 80.59 | I13: 38374.54 | J13: 0.0080008404
A14: 1.8 | B14: PM_07 | C14: Próprio | D14: DESMONTE DE GUIA DE RODAS | E14: m | F14: 942.08 | G14: 35.11 | H14: 42.83 | I14: 40349.28 | J14: 0.0084125607
A15: 2 | D15: MONTAGEM DE PONTE | I15: 262793.21 | J15: 0.054790664
A16: 2.1 | B16: RODEIRO - 1 | C16: Próprio | D16: MONTAGEM DE RODEIRO COM SUBSTITUIÇÃO DE FERRAGENS | E16: m | F16: 942.08 | G16: 127.1 | H16: 155.06 | I16: 146078.92 | J16: 0.030456498
A17: 2.2 | B17: ASSOALHO - 1 | C17: Próprio | D17: MONTAGEM DE ASSOALHO COM SUBSTITUIÇÃO DE FERRAGENS | E17: m | F17: 942.08 | G17: 93.35 | H17: 113.88 | I17: 107284.07 | J17: 0.022368026
A18: 2.3 | B18: GUIA DE RODA - 1 | C18: Próprio | D18: MONTAGEM DE GUIA DE RODA COM SUBSTITUIÇÃO DE FERRAGENS | E18: m | F18: 942.08 | G18: 8.21 | H18: 10.01 | I18: 9430.22 | J18: 0.0019661391
A19: 3 | D19: CONSTRUÇÃO DE PONTE | I19: 3337364 | J19: 0.69581854
A20: 3.1 | B20: PM26 | C20: Próprio | D20: CONSTRUÇÃO DE RODEIRO | E20: m | F20: 235.52 | G20: 688.43 | H20: 839.88 | I20: 197808.53 | J20: 0.041241784
A21: 3.2 | B21: PM25 | C21: Próprio | D21: CONSTRUÇÃO DE ASSOALHO | E21: m | F21: 235.52 | G21: 1496.67 | H21: 1825.93 | I21: 430043.03 | J21: 0.089661156
A22: 3.3 | B22: PM23 | C22: Próprio | D22: CONSTRUÇÃO DE VIGAMENTO SIMPLES(INCLUSIVE SUBVIGAS) | E22: m | F22: 112.36 | G22: 4289.95 | H22: 5233.73 | I22: 588061.9 | J22: 0.12260706
A23: 3.4 | B23: PM24 | C23: Próprio | D23: CONSTRUÇÃO DE VIGAMENTO ARMADO(INCLUSIVE TODO MADEIRAMENTO) | E23: m | F23: 54 | G23: 6105.94 | H23: 7449.24 | I23: 402258.96 | J23: 0.08386836
A24: 3.5 | B24: PM19 | C24: Próprio | D24: FUNDAÇÃO POR BATE ESTACA MECÂNICO | E24: jg x m | F24: 212.9 | G24: 2378.21 | H24: 2901.41 | I24: 617710.18 | J24: 0.12878853
A25: 3.6 | B25: PM 21 | C25: Próprio | D25: CONSTRUÇÃO DE JOGO DE ESTEIOS COM H<2,00 M (INCL TRAV SUP) | E25: jg x m | F25: 12.11 | G25: 3304.53 | H25: 4031.52 | I25: 48821.7 | J25: 0.010179005
A26: 3.7 | B26: PM22 | C26: Próprio | D26: CONSTRUÇÃO DE JOGOS DE ESTEIOS COM H>2,00 M(CONTR TRAV SUP E INF) | E26: jg x m | F26: 89.27 | G26: 5667.04 | H26: 6913.78 | I26: 617193.14 | J26: 0.12868073
A27: 3.8 | B27: PM29 | C27: Próprio | D27: CONSTRUÇÃO DE CAIXÃO DE ATERRO | E27: m² | F27: 476.17 | G27: 629.87 | H27: 768.44 | I27: 365908.07 | J27: 0.076289437
A28: 3.9 | B28: PM27 | C28: Próprio | D28: CONSTRUÇÃO DE GUIA DE RODAS | E28: m | F28: 235.52 | G28: 242.09 | H28: 295.34 | I28: 69558.47 | J28: 0.014502486
A29: 4 | D29: MATERIAIS DE PONTE | I29: 458623.94 | J29: 0.095620089
A30: 4.1 | B30: PM36 | C30: Próprio | D30: FORNECIMENTO E IMPLANTAÇÃO PLACA SINALIZAÇÃO SEMI-REFLETIVA | E30: m² | F30: 81.28 | G30: 366.86 | H30: 447.56 | I30: 36377.67 | J30: 0.007584506
A31: 4.2 | B31: PM39 | C31: Próprio | D31: CONSTRUÇÃO DE PONTE BRANCA | E31: m³ | F31: 1955.67 | G31: 89.87 | H31: 109.64 | I31: 214419.65 | J31: 0.044705093
A32: 4.3 | B32: PM41 | C32: Próprio | D32: BARRACÃO DE OBRA | E32: m² | F32: 192 | G32: 477.46 | H32: 582.5 | I32: 111840 | J32: 0.023317908
A33: 4.4 | B33: PM30 | C33: Próprio | D33: PINTURA DE PONTE | E33: m | F33: 1177.6 | G33: 57.13 | H33: 69.69 | I33: 82066.94 | J33: 0.01711042
A34: 4.5 | B34: INF0001 | C34: Próprio | D34: PLACA DE IDENTIFICAÇÃO DE OBRA PÚBLICA EM CHAPA DE AÇO GALVANIZADO - FORNECIMENTO E IMPLANTAÇÃO. INCLUSIVE PINTURA E ADESIVOS, ESTRUTURA E SUPORTE DE MADEIRA | E34: M² | F34: 32 | G34: 356.55 | H34: 434.99 | I34: 13919.68 | J34: 0.0029021622
A35: 5 | D35: TERRAPLENAGEM | I35: 58663.17 | J35: 0.012230887
A36: 5.1 | B36: 102304 | C36: SINAPI | D36: ESCAVAÇÃO MECANIZADA DE VALA COM PROF. MAIOR QUE 1,5 M ATÉ 3,0 M (MÉDIA MONTANTE E JUSANTE/UMA COMPOSIÇÃO POR TRECHO), RETROESCAV. (0,26 M3 ),LARG. MENOR QUE 0,8 M, EM SOLO MOLE, LOCAIS COM BAIXO NÍVEL DE INTERFERÊNCIA. AF_02/2021 | E36: m³ | F36: 1272.52 | G36: 7.45 | H36: 9.08 | I36: 11554.48 | J36: 0.0024090334
A37: 5.2 | B37: 93382 | C37: SINAPI | D37: REATERRO MANUAL DE VALAS COM COMPACTAÇÃO MECANIZADA. AF_04/2016 | E37: m³ | F37: 1272.52 | G37: 30.35 | H37: 37.02 | I37: 47108.69 | J37: 0.0098218535
A38: 6 | D38: ESTRUTURA CONCRETO | I38: 37171.8 | J38: 0.0077500769
A39: 6.1 | B39: TRAVAMENTO ESTEIO | C39: Próprio | D39: TRAVAMENTO DE ESTEIO EM CONCRETO | E39: m³ | F39: 22.5 | G39: 1354.17 | H39: 1652.08 | I39: 37171.8 | J39: 0.0077500769
A40: 7 | D40: TRANSPORTE | I40: 145605.23 | J40: 0.030357737
...

Sheet PLAN DESON
E1: Bancos | G1: B.D.I. | I1: Encargos Sociais
E2: SINAPI - 06/2023 - MS SBC - 06/2023 - MS SICRO - 04/2023 - MS AGESUL - 06/2023 - MS | G2: SERVIÇOS: 28,17% | I2: Desonerado
A3: OBRA: MANUTENÇÃO DE 80 (OITENTA) PONTES DE MADEIRA EM ESTRADAS VICINAIS NO MUNICIPIO DE CAMPO GRANDE - MS
A4: PLANILHA DE SERVIÇOS
A5: Item | B5: Código | C5: Banco | D5: Descrição | E5: Und | F5: Quant. | G5: Valor Unit | H5: Valor Unit com BDI | I5: Total | J5: Peso (%)
A6: 1 | D6: DESMONTE DE PONTE | I6: 248742.96 | J6: 0.050405866
A7: 1.1 | B7: PM_06 | C7: Próprio | D7: DESMONTE DE RODEIRO | E7: m | F7: 942.08 | G7: 53.16 | H7: 68.13 | I7: 64183.91 | J7: 0.01300638
A8: 1.2 | B8: PM_05 | C8: Próprio | D8: DESMONTE DE ASSOALHO | E8: m | F8: 942.08 | G8: 56.99 | H8: 73.04 | I8: 68809.52 | J8: 0.013943725
A9: 1.3 | B9: PM03 | C9: Próprio | D9: DESMONTE DE VIGAMENTO SIMPLES | E9: m | F9: 112.36 | G9: 91.64 | H9: 117.45 | I9: 13196.68 | J9: 0.0026742067
A10: 1.4 | B10: PM10 | C10: Próprio | D10: DESMONTE DE VIGAMENTO ARMADO | E10: jgxm | F10: 54 | G10: 195.02 | H10: 249.95 | I10: 13497.3 | J10: 0.002735125
A11: 1.5 | B11: PM_01 | C11: Próprio | D11: DESMONTE DE JOGOS DE ESTEIOS (H<2,00 m) | E11: jgxm | F11: 12.11 | G11: 62.43 | H11: 80.01 | I11: 968.92 | J11: 0.00019634426
A12: 1.6 | B12: PM_02 | C12: Próprio | D12: DESMONTE DE JOGOS DE ESTEIO (H>2,00 M) | E12: jg x m | F12: 89.27 | G12: 126.59 | H12: 162.25 | I12: 14484.05 | J12: 0.0029350824
A13: 1.7 | B13: PM09 | C13: Próprio | D13: DESMONTE DE CAIXÃO DE ATERRO | E13: m² | F13: 476.17 | G13: 58.43 | H13: 74.88 | I13: 35655.6 | J13: 0.0072253357
A14: 1.8 | B14: PM_07 | C14: Próprio | D14: DESMONTE DE GUIA DE RODAS | E14: m | F14: 942.08 | G14: 31.43 | H14: 40.28 | I14: 37946.98 | J14: 0.0076896665
A15: 2 | D15: MONTAGEM DE PONTE | I15: 261606.18 | J15: 0.0530125
A16: 2.1 | B16: RODEIRO - 1 | C16: Próprio | D16: MONTAGEM DE RODEIRO COM SUBSTITUIÇÃO DE FERRAGENS | E16: m | F16: 942.08 | G16: 120.52 | H16: 154.47 | I16: 145523.09 | J16: 0.029489146
A17: 2.2 | B17: ASSOALHO - 1 | C17: Próprio | D17: MONTAGEM DE ASSOALHO COM SUBSTITUIÇÃO DE FERRAGENS | E17: m | F17: 942.08 | G17: 88.43 | H17: 113.34 | I17: 106775.34 | J17: 0.021637209
A18: 2.3 | B18: GUIA DE RODA - 1 | C18: Próprio | D18: MONTAGEM DE GUIA DE RODA COM SUBSTITUIÇÃO DE FERRAGENS | E18: m | F18: 942.08 | G18: 7.71 | H18: 9.88 | I18: 9307.75 | J18: 0.0018861446
A19: 3 | D19: CONSTRUÇÃO DE PONTE | I19: 3468812.1 | J19: 0.70292835
A20: 3.1 | B20: PM26 | C20: Próprio | D20: CONSTRUÇÃO DE RODEIRO | E20: m | F20: 235.52 | G20: 681.85 | H20: 873.92 | I20: 205825.63 | J20: 0.041708996
A21: 3.2 | B21: PM25 | C21: Próprio | D21: CONSTRUÇÃO DE ASSOALHO | E21: m | F21: 235.52 | G21: 1491.75 | H21: 1911.97 | I21: 450307.17 | J21: 0.091251318
A22: 3.3 | B22: PM23 | C22: Próprio | D22: CONSTRUÇÃO DE VIGAMENTO SIMPLES(INCLUSIVE SUBVIGAS) | E22: m | F22: 112.36 | G22: 4261 | H22: 5461.32 | I22: 613633.91 | J22: 0.12434824
A23: 3.4 | B23: PM24 | C23: Próprio | D23: CONSTRUÇÃO DE VIGAMENTO ARMADO(INCLUSIVE TODO MADEIRAMENTO) | E23: m | F23: 54 | G23: 6048.17 | H23: 7751.93 | I23: 418604.22 | J23: 0.084826957
A24: 3.5 | B24: PM19 | C24: Próprio | D24: FUNDAÇÃO POR BATE ESTACA MECÂNICO | E24: jg x m | F24: 212.9 | G24: 2311.81 | H24: 2963.04 | I24: 630831.21 | J24: 0.12783314
A25: 3.6 | B25: PM 21 | C25: Próprio | D25: CONSTRUÇÃO DE JOGO DE ESTEIOS COM H<2,00 M (INCL TRAV SUP) | E25: jg x m | F25: 12.11 | G25: 3290.86 | H25: 4217.89 | I25: 51078.64 | J25: 0.010350697
A26: 3.7 | B26: PM22 | C26: Próprio | D26: CONSTRUÇÃO DE JOGOS DE ESTEIOS COM H>2,00 M(CONTR TRAV SUP E INF) | E26: jg x m | F26: 89.27 | G26: 5616.51 | H26: 7198.68 | I26: 642626.16 | J26: 0.1302233
A27: 3.8 | B27: PM29 | C27: Próprio | D27: CONSTRUÇÃO DE CAIXÃO DE ATERRO | E27: m² | F27: 476.17 | G27: 627.52 | H27: 804.29 | I27: 382978.76 | J27: 0.077607729
A28: 3.9 | B28: PM27 | C28: Próprio | D28: CONSTRUÇÃO DE GUIA DE RODAS | E28: m | F28: 235.52 | G28: 241.59 | H28: 309.64 | I28: 72926.41 | J28: 0.014777981
A29: 4 | D29: MATERIAIS DE PONTE | I29: 470500.23 | J29: 0.095343288
A30: 4.1 | B30: PM36 | C30: Próprio | D30: FORNECIMENTO E IMPLANTAÇÃO PLACA SINALIZAÇÃO SEMI-REFLETIVA | E30: m² | F30: 81.28 | G30: 359.18 | H30: 460.36 | I30: 37418.06 | J30: 0.0075824848
A31: 4.2 | B31: PM39 | C31: Próprio | D31: CONSTRUÇÃO DE PONTE BRANCA | E31: m³ | F31: 1955.67 | G31: 88.93 | H31: 113.98 | I31: 222907.26 | J31: 0.045170458
A32: 4.3 | B32: PM41 | C32: Próprio | D32: BARRACÃO DE OBRA | E32: m² | F32: 192 | G32: 461.36 | H32: 591.32 | I32: 113533.44 | J32: 0.023006687
A33: 4.4 | B33: PM30 | C33: Próprio | D33: PINTURA DE PONTE | E33: m | F33: 1177.6 | G33: 54.52 | H33: 69.87 | I33: 82278.91 | J33: 0.016673194
A34: 4.5 | B34: INF0001 | C34: Próprio | D34: PLACA DE IDENTIFICAÇÃO DE OBRA PÚBLICA EM CHAPA DE AÇO GALVANIZADO - FORNECIMENTO E IMPLANTAÇÃO. INCLUSIVE PINTURA E ADESIVOS, ESTRUTURA E SUPORTE DE MADEIRA | E34: M² | F34: 32 | G34: 350.19 | H34: 448.83 | I34: 14362.56 | J34: 0.0029104634
A35: 5 | D35: TERRAPLENAGEM | I35: 56334.45 | J35: 0.011415747
A36: 5.1 | B36: 102304 | C36: SINAPI | D36: ESCAVAÇÃO MECANIZADA DE VALA COM PROF. MAIOR QUE 1,5 M ATÉ 3,0 M (MÉDIA MONTANTE E JUSANTE/UMA COMPOSIÇÃO POR TRECHO), RETROESCAV. (0,26 M3 ),LARG. MENOR QUE 0,8 M, EM SOLO MOLE, LOCAIS COM BAIXO NÍVEL DE INTERFERÊNCIA. AF_02/2021 | E36: m³ | F36: 1272.52 | G36: 7.08 | H36: 9.07 | I36: 11541.75 | J36: 0.0023388477
A37: 5.2 | B37: 93382 | C37: SINAPI | D37: REATERRO MANUAL DE VALAS COM COMPACTAÇÃO MECANIZADA. AF_04/2016 | E37: m³ | F37: 1272.52 | G37: 27.47 | H37: 35.2 | I37: 44792.7 | J37: 0.0090768995
A38: 6 | D38: ESTRUTURA CONCRETO | I38: 37662.75 | J38: 0.0076320694
A39: 6.1 | B39: TRAVAMENTO ESTEIO | C39: Próprio | D39: TRAVAMENTO DE ESTEIO EM CONCRETO | E39: m³ | F39: 22.5 | G39: 1306 | H39: 1673.9 | I39: 37662.75 | J39: 0.0076320694
A40: 7 | D40: TRANSPORTE | I40: 151285.14 | J40: 0.030656781
...

Sheet RESUMO
A2: PREFEITURA MUNICIPAL DE CAMPO GRANDE
A3: SECRETARIA MUNICIPAL DE INFRAESTRUTURA E SERVIÇOS PÚBLICOS - SISEP
A4: SUPERINTENDÊNCIA DE SERVIÇOS PÚBLICOS - GERENCIA DE MANUTENÇÃO DE VIAS RURAIS
A5: QUADRO COMPARATIVO DOS ORÇAMENTOS
A8: OBRA: MANUTENÇÃO DE 80 (OITENTA) PONTES DE MADEIRA EM ESTRADAS VICINAIS NO MUNICIPIO DE CAMPO GRANDE - MS
D12: NÃO DESONERADO
C13: BANCOS: | D13: SINAPI - 06/2023 - MS SBC - 06/2023 - MS SICRO - 04/2023 - MS AGESUL - 06/2023 - MS
C14: BDI SERVIÇOS: | D14: 0.22
A15: Item | B15: Descrição | D15: Total | E15: Peso (%)
A16: 1 | B16: ='CRONOGRAMA '!B13 -> DESMONTE DE PONTE | D16: ='PLAN N DESON'!$I$6 -> 264957.54 | E16: =D16/$D$24 -> 0.055241912
A17: 2 | B17: MONTAGEM DE PONTE | D17: ='PLAN N DESON'!$I$15 -> 262793.21 | E17: =D17/$D$24 -> 0.054790664
A18: 3 | B18: CONSTRUÇÃO DE PONTE | D18: ='PLAN N DESON'!$I$19 -> 3337364 | E18: =D18/$D$24 -> 0.69581854
A19: 4 | B19: ='CRONOGRAMA '!B19 -> MATERIAIS DE PONTE | D19: ='PLAN N DESON'!$I$29 -> 458623.94 | E19: =D19/$D$24 -> 0.095620089
A20: 5 | B20: TERRAPLENAGEM | D20: ='PLAN N DESON'!$I$35 -> 58663.17 | E20: =D20/$D$24 -> 0.012230887
A21: 6 | B21: ESTRUTURA DE CONCRETO | D21: ='PLAN N DESON'!$I$38 -> 37171.8 | E21: =D21/$D$24 -> 0.0077500769
A22: 7 | B22: TRANSPORTE | D22: ='PLAN N DESON'!$I$40 -> 145605.23 | E22: =D22/$D$24 -> 0.030357737
A23: 8 | B23: MOBILIZAÇÃO E DESMOBILIZAÇÃO DE EQUIPAMENTOS | D23: ='PLAN N DESON'!$I$43 -> 231134.8 | E23: =D23/$D$24 -> 0.048190093
C24: Total Geral | D24: =SUM(D16:D23) -> 4796313.7
D26: DESONERADO
C27: DATA/BASE: | D27: SINAPI - 06/2023 - MS SBC - 06/2023 - MS SICRO - 04/2023 - MS AGESUL - 06/2023 - MS
C28: BDI SERVIÇOS: | D28: 0.2817
A29: Item | B29: Descrição | D29: Total | E29: Peso (%)
A30: 1 | B30: DESMONTE DE PONTE | D30: ='PLAN DESON'!I6 -> 248742.96 | E30: =D30/$D$38 -> 0.050405866
A31: 2 | B31: MONTAGEM DE PONTE | D31: ='PLAN DESON'!I15 -> 261606.18 | E31: =D31/$D$38 -> 0.0530125
A32: 3 | B32: CONSTRUÇÃO DE PONTE | D32: ='PLAN DESON'!I19 -> 3468812.1 | E32: =D32/$D$38 -> 0.70292835
A33: 4 | B33: MATERIAIS DE PONTE | D33: ='PLAN DESON'!I29 -> 470500.23 | E33: =D33/$D$38 -> 0.095343288
A34: 5 | B34: TERRAPLENAGEM | D34: ='PLAN DESON'!I35 -> 56334.45 | E34: =D34/$D$38 -> 0.011415747
A35: 6 | B35: ESTRUTURA DE CONCRETO | D35: ='PLAN DESON'!I38 -> 37662.75 | E35: =D35/$D$38 -> 0.0076320694
A36: 7 | B36: TRANSPORTE | D36: ='PLAN DESON'!I40 -> 151285.14 | E36: =D36/$D$38 -> 0.030656781
A37: 8 | B37: MOBILIZAÇÃO E DESMOBILIZAÇÃO DE EQUIPAMENTOS | D37: ='PLAN DESON'!I43 -> 239858 | E37: =D37/$D$38 -> 0.048605397
C38: Total Geral | D38: =SUM(D30:D37) -> 4934801.8
A40: CONCLUSÃO: O ORÇAMENTO ADOTADO UTILIZARÁ ENCARGOS SOCIAIS NÃO DESONERADOS POR SER O DE MENOR CUSTO, SENDO ESTA ALTERNATIVA A MAIS VANTAJOSA PARA A ADMINISTRAÇÃO PÚBLICA.

Sheet CRONOGRAMA 
A1: PREFEITURA MUNICIPAL DE CAMPO GRANDE
A2: SECRETARIA MUNICIPAL DE INFRAESTRUTURA E SERVIÇOS PÚBLICOS - SISEP
A3: SUPERINTENDÊNCIA DE SERVIÇOS PÚBLICOS - GERENCIA DE MANUTENÇÃO DE VIAS RURAIS
G6: ENC. SOCIAIS: S/ DESONERAÇÃO
A7: OBRA: MANUTENÇÃO DE 80 (OITENTA) PONTES DE MADEIRA EM ESTRADAS VICINAIS NO MUNICIPIO DE CAMPO GRANDE - MS | G7: SINAPI - 06/2023 - MS SBC - 06/2023 - MS SICRO - 04/2023 - MS AGESUL - 06/2023 - MS
A8: LOCAL: CAMPO GRANDE-MS | G8: BDI: SERVIÇOS: 22,00%
A10: Cronograma Físico e Financeiro
D11: DIAS
A12: Item | B12: Descrição | C12: Total Por Etapa | D12: 30 | E12: 60 | F12: 90 | G12: 120 | H12: 150 | I12: 180 | J12: 210 | K12: 240 | L12: 270 | M12: 300 | N12: 330 | O12: 360 | P12: TOTAL
A13: 1 | B13: DESMONTE DE PONTE | C13: =RESUMO!D16 -> 264957.54 | D13: =TRUNC(D14*$C$13,2) -> 7948.72 | E13: =TRUNC(E14*$C$13,2) -> 10598.3 | F13: =TRUNC(F14*$C$13,2) -> 15897.45 | G13: =TRUNC(G14*$C$13,2) -> 29145.32 | H13: =TRUNC(H14*$C$13,2) -> 31794.9 | I13: =TRUNC(I14*$C$13,2) -> 31794.9 | J13: =TRUNC(J14*$C$13,2) -> 31794.9 | K13: =TRUNC(K14*$C$13,2) -> 31794.9 | ... N13: =TRUNC(N14*$C$13,2) -> 15897.45 | O13: =C13-SUM(D13:N13) -> 15897.5 | P13: =SUM(D13:O13) -> 264957.54
C14: % | D14: 0.03 | E14: 0.04 | F14: 0.06 | G14: 0.11 | H14: 0.12 | I14: 0.12 | J14: 0.12 | K14: 0.12 | L14: 0.08 | M14: 0.08 | N14: 0.06 | O14: 0.06 | P14: =SUM(D14:O14) -> 1
A15: 2 | B15: MONTAGEM DE PONTE | C15: =RESUMO!D17 -> 262793.21 | D15: =TRUNC(D16*$C$15,2) -> 7883.79 | E15: =TRUNC(E16*$C$15,2) -> 10511.72 | F15: =TRUNC(F16*$C$15,2) -> 15767.59 | G15: =TRUNC(G16*$C$15,2) -> 28907.25 | H15: =TRUNC(H16*$C$15,2) -> 31535.18 | I15: =TRUNC(I16*$C$15,2) -> 31535.18 | J15: =TRUNC(J16*$C$15,2) -> 31535.18 | K15: =TRUNC(K16*$C$15,2) -> 31535.18 | ... N15: =TRUNC(N16*$C$15,2) -> 15767.59 | O15: =C15-SUM(D15:N15) -> 15767.65 | P15: =SUM(D15:O15) -> 262793.21
C16: % | D16: 0.03 | E16: 0.04 | F16: 0.06 | G16: 0.11 | H16: 0.12 | I16: 0.12 | J16: 0.12 | K16: 0.12 | L16: 0.08 | M16: 0.08 | N16: 0.06 | O16: 0.06 | P16: =SUM(D16:O16) -> 1
A17: 3 | B17: CONSTRUÇÃO DE PONTE | C17: =RESUMO!D18 -> 3337364 | D17: =TRUNC(D18*$C$17,2) -> 100120.91 | E17: =TRUNC(E18*$C$17,2) -> 133494.55 | F17: =TRUNC(F18*$C$17,2) -> 200241.83 | G17: =TRUNC(G18*$C$17,2) -> 367110.03 | H17: =TRUNC(H18*$C$17,2) -> 400483.67 | I17: =TRUNC(I18*$C$17,2) -> 400483.67 | J17: =TRUNC(J18*$C$17,2) -> 400483.67 | K17: =TRUNC(K18*$C$17,2) -> 400483.67 | ... N17: =TRUNC(N18*$C$17,2) -> 200241.83 | O17: =C17-SUM(D17:N17) -> 200241.93 | P17: =SUM(D17:O17) -> 3337364
C18: % | D18: 0.03 | E18: 0.04 | F18: 0.06 | G18: 0.11 | H18: 0.12 | I18: 0.12 | J18: 0.12 | K18: 0.12 | L18: 0.08 | M18: 0.08 | N18: 0.06 | O18: 0.06 | P18: =SUM(D18:O18) -> 1
A19: 4 | B19: MATERIAIS DE PONTE | C19: =RESUMO!D19 -> 458623.94 | D19: =TRUNC(D20*$C$19,2) -> 13758.71 | E19: =TRUNC(E20*$C$19,2) -> 18344.95 | F19: =TRUNC(F20*$C$19,2) -> 27517.43 | G19: =TRUNC(G20*$C$19,2) -> 50448.63 | H19: =TRUNC(H20*$C$19,2) -> 55034.87 | I19: =TRUNC(I20*$C$19,2) -> 55034.87 | J19: =TRUNC(J20*$C$19,2) -> 55034.87 | K19: =TRUNC(K20*$C$19,2) -> 55034.87 | ... N19: =TRUNC(N20*$C$19,2) -> 27517.43 | O19: =C19-SUM(D19:N19) -> 27517.49 | P19: =SUM(D19:O19) -> 458623.94
C20: % | D20: 0.03 | E20: 0.04 | F20: 0.06 | G20: 0.11 | H20: 0.12 | I20: 0.12 | J20: 0.12 | K20: 0.12 | L20: 0.08 | M20: 0.08 | N20: 0.06 | O20: 0.06 | P20: =SUM(D20:O20) -> 1
A21: 5 | B21: TERRAPLENAGEM | C21: =RESUMO!D20 -> 58663.17 | D21: =TRUNC(D22*$C$21,2) -> 1759.89 | E21: =TRUNC(E22*$C$21,2) -> 2346.52 | F21: =TRUNC(F22*$C$21,2) -> 3519.79 | G21: =TRUNC(G22*$C$21,2) -> 6452.94 | H21: =TRUNC(H22*$C$21,2) -> 7039.58 | I21: =TRUNC(I22*$C$21,2) -> 7039.58 | J21: =TRUNC(J22*$C$21,2) -> 7039.58 | K21: =TRUNC(K22*$C$21,2) -> 7039.58 | ... N21: =TRUNC(N22*$C$21,2) -> 3519.79 | O21: =C21-SUM(D21:N21) -> 3519.82 | P21: =SUM(D21:O21) -> 58663.17
C22: % | D22: 0.03 | E22: 0.04 | F22: 0.06 | G22: 0.11 | H22: 0.12 | I22: 0.12 | J22: 0.12 | K22: 0.12 | L22: 0.08 | M22: 0.08 | N22: 0.06 | O22: 0.06 | P22: =SUM(D22:O22) -> 1
A23: 6 | B23: ESTRUTURA DE CONCRETO | C23: =RESUMO!D21 -> 37171.8 | D23: =TRUNC(D24*$C$23,2) -> 0 | E23: =TRUNC(E24*$C$23,2) -> 0 | F23: =TRUNC(F24*$C$23,2) -> 0 | G23: =TRUNC(G24*$C$23,2) -> 9292.95 | H23: =TRUNC(H24*$C$23,2) -> 9292.95 | I23: =TRUNC(I24*$C$23,2) -> 9292.95 | J23: =C23-G23-H23-I23 -> 9292.95 | K23: =TRUNC(K24*$C$23,2) -> 0 | L23: =TRUNC(L24*$C$23,2) -> 0 | M23: =TRUNC(M24*$C$23,2) -> 0 | N23: =TRUNC(N24*$C$23,2) -> 0 | O23: =TRUNC(O24*$C$23,2) -> 0 | P23: =SUM(D23:O23) -> 37171.8
C24: % | D24: 0 | E24: 0 | F24: 0 | G24: 0.25 | H24: 0.25 | I24: 0.25 | J24: 0.25 | K24: 0 | L24: 0 | M24: 0 | N24: 0 | O24: 0 | P24: =SUM(D24:O24) -> 1
A25: 7 | B25: TRANSPORTE | C25: =RESUMO!D22 -> 145605.23 | D25: =TRUNC(D26*$C$25,2) -> 4368.15 | E25: =TRUNC(E26*$C$25,2) -> 5824.2 | F25: =TRUNC(F26*$C$25,2) -> 8736.31 | G25: =TRUNC(G26*$C$25,2) -> 16016.57 | H25: =TRUNC(H26*$C$25,2) -> 17472.62 | I25: =TRUNC(I26*$C$25,2) -> 17472.62 | J25: =TRUNC(J26*$C$25,2) -> 17472.62 | K25: =TRUNC(K26*$C$25,2) -> 17472.62 | ... N25: =TRUNC(N26*$C$25,2) -> 8736.31 | O25: =C25-SUM(D25:N25) -> 8736.39 | P25: =SUM(D25:O25) -> 145605.23
C26: % | D26: 0.03 | E26: 0.04 | F26: 0.06 | G26: 0.11 | H26: 0.12 | I26: 0.12 | J26: 0.12 | K26: 0.12 | L26: 0.08 | M26: 0.08 | N26: 0.06 | O26: 0.06 | P26: =SUM(D26:O26) -> 1
A27: 8 | B27: MOBILIZAÇÃO E DESMOBILIZAÇÃO DE EQUIPAMENTOS | C27: =RESUMO!D23 -> 231134.8 | D27: =TRUNC(D28*$C$27,2) -> 6934.04 | E27: =TRUNC(E28*$C$27,2) -> 9245.39 | F27: =TRUNC(F28*$C$27,2) -> 13868.08 | G27: =TRUNC(G28*$C$27,2) -> 25424.82 | H27: =TRUNC(H28*$C$27,2) -> 27736.17 | I27: =TRUNC(I28*$C$27,2) -> 27736.17 | J27: =TRUNC(J28*$C$27,2) -> 27736.17 | K27: =TRUNC(K28*$C$27,2) -> 27736.17 | ... N27: =TRUNC(N28*$C$27,2) -> 13868.08 | O27: =C27-SUM(D27:N27) -> 13868.15 | P27: =SUM(D27:O27) -> 231134.8
C28: % | D28: 0.03 | E28: 0.04 | F28: 0.06 | G28: 0.11 | H28: 0.12 | I28: 0.12 | J28: 0.12 | K28: 0.12 | L28: 0.08 | M28: 0.08 | N28: 0.06 | O28: 0.06 | P28: =SUM(D28:O28) -> 1
C29: =C13+C15+C17+C19+C21+C23+C25+C27 -> 4796313.7
A30: Desembolso mensal | D30: =D13+D15+D17+D19+D21+D23+D25+D27 -> 142774.21 | E30: =E13+E15+E17+E19+E21+E23+E25+E27 -> 190365.63 | F30: =F13+F15+F17+F19+F21+F23+F25+F27 -> 285548.48 | G30: =G13+G15+G17+G19+G21+G23+G25+G27 -> 532798.51 | H30: =H13+H15+H17+H19+H21+H23+H25+H27 -> 580389.94 | I30: =I13+I15+I17+I19+I21+I23+I25+I27 -> 580389.94 | J30: =J13+J15+J17+J19+J21+J23+J25+J27 -> 580389.94 | K30: =K13+K15+K17+K19+K21+K23+K25+K27 -> 571096.99 | ... O30: =O13+O15+O17+O19+O21+O23+O25+O27 -> 285548.93 | P30: =SUM(D30:O30) -> 4796313.7
A31: Porcentagem Mensal | D31: =D30/$C$29 -> 0.029767488 | E31: =E30/$C$29 -> 0.039689988 | F31: =F30/$C$29 -> 0.059534989 | G31: =G30/$C$29 -> 0.111085 | H31: =H30/$C$29 -> 0.1210075 | I31: =I30/$C$29 -> 0.1210075 | J31: =J30/$C$29 -> 0.1210075 | K31: =K30/$C$29 -> 0.11906998 | ... O31: =O30/$C$29 -> 0.059535082 | P31: =SUM(D31:O31) -> 1
A32: Desembolso Acumulado | D32: =D30 -> 142774.21 | E32: =D32+E30 -> 333139.84 | F32: =E32+F30 -> 618688.32 | G32: =F32+G30 -> 1151486.8 | H32: =G32+H30 -> 1731876.8 | I32: =H32+I30 -> 2312266.7 | J32: =I32+J30 -> 2892656.6 | K32: =J32+K30 -> 3463753.6 | L32: =K32+L30 -> 3844484.9 | ... O32: =N32+O30 -> 4796313.7
A33: Porcentagem Acumlada | D33: =D31 -> 0.029767488 | E33: =D33+E31 -> 0.069457476 | F33: =E33+F31 -> 0.12899246 | G33: =F33+G31 -> 0.24007747 | H33: =G33+H31 -> 0.36108497 | I33: =H33+I31 -> 0.48209247 | J33: =I33+J31 -> 0.60309997 | K33: =J33+K31 -> 0.72216996 | L33: =K33+L31 -> 0.80154994 | ... O33: =N33+O31 -> 1

Sheet BDI SERVIÇO COM DESONERAÇÃO
B2: PREFEITURA MUNICIPAL DE CAMPO GRANDE
B3: SECRETARIA MUNICIPAL DE INFRAESTRUTURA E SERVIÇOS PÚBLICOS - SISEP
B4: SUPERINTENDÊNCIA DE PROJETOS - GERÊNCIA DE ORÇAMENTOS
B7: COMPOSIÇÃO DE BDI - conforme Acórdão TCU 2622/2013
B8: OBRA: MANUTENÇÃO DE PONTES DE MADEIRA EM VICINAIS NO MUNICIPIO DE CAMPO GRANDE-MS | E8: Tipo de Serviço: | F8: CONSTRUÇÃO
F9: DE RODOVIAS
F10: C/ DESONERAÇÃO
B11: Item componente do BDI | C11: 1° Quartil | D11: Médio | E11: 3° quartil | F11: BDI Adotado
B12: AC - Administração Central | C12: 0.038 | D12: 0.0401 | E12: 0.0467 | F12: 0.0401
B13: S + G - Seguro e Garantia | C13: 0.0032 | D13: 0.004 | E13: 0.0074 | F13: 0.004
B14: R - Risco | C14: 0.005 | D14: 0.0056 | E14: 0.0097 | F14: 0.0056
B15: DF - Despesas Financeiras | C15: 0.0102 | D15: 0.0111 | E15: 0.0121 | F15: 0.0111
B16: L - Lucro | C16: 0.0664 | D16: 0.073 | E16: 0.0869 | F16: 0.073
B17: I - IMPOSTOS | F17: =SUM(F18:F21) -> 0.1115
E18: PIS: | F18: 0.0065
E19: COFINS: | F19: 0.03
E20: ISSQN(3): | F20: 0.03
E21: CPRB(2) | F21: 0.045
B22: BDI CALCULADO: | F22: =ROUND(((1+F12+F13+F14)*(1+F15)*(1+F16)/(1-F17)-1),4) -> 0.2817
B24: BDI calculado pela seguinte equação:
B30: Onde:
B31: AC: taxa de administração central;
B32: S: taxa de seguros;
B33: R: taxa de riscos;
B34: G: taxa de garantias;
B35: DF: taxa de despesas financeiras;
B36: L: taxa de lucro/remuneração;
B37: I: taxa de incidência de impostos [ PIS, COFINS, (3) ISSQN, (2) Encargos Sociais ]
B38: (2) CPRB=4,50%(Contribuição Previdenciária sobre a Receita Bruta - Lei no. 13.161 de 31/08/2015
B39: (3) ISSQN é um imposto que incide sobre o preço de serviço, em Campo Grande o valor é de 5%. O custo previsto com mão-de-obra é de 60% do custo total da obra, para o computo do ISSQN o valor será de 3%
B45: _______________________________________________________________ Marcos Tedeschi
... B47: SISEP

Sheet BDI SERVIÇO SEM DESONERAÇÃO
B2: PREFEITURA MUNICIPAL DE CAMPO GRANDE
B3: SECRETARIA MUNICIPAL DE INFRAESTRUTURA E SERVIÇOS PÚBLICOS - SISEP
B4: SUPERINTENDÊNCIA DE PROJETOS - GERÊNCIA DE ORÇAMENTOS
B7: COMPOSIÇÃO DE BDI - conforme Acórdão TCU 2622/2013
B8: OBRA: MANUTENÇÃO DE PONTES DE MADEIRA EM VICINAIS NO MUNICIPIO DE CAMPO GRANDE-MS | E8: Tipo de Serviço: | F8: CONSTRUÇÃO
F9: DE RODOVIAS
F10: S/ DESONERAÇÃO
B11: Item componente do BDI | C11: 1° Quartil | D11: Médio | E11: 3° quartil | F11: BDI Adotado
B12: AC - Administração Central | C12: 0.038 | D12: 0.0401 | E12: 0.0467 | F12: 0.0401
B13: S + G - Seguro e Garantia | C13: 0.0032 | D13: 0.004 | E13: 0.0074 | F13: 0.004
B14: R - Risco | C14: 0.005 | D14: 0.0056 | E14: 0.0097 | F14: 0.0056
B15: DF - Despesas Financeiras | C15: 0.0102 | D15: 0.0111 | E15: 0.0121 | F15: 0.0111
B16: L - Lucro | C16: 0.0664 | D16: 0.073 | E16: 0.0869 | F16: 0.073
B17: I - IMPOSTOS | F17: =SUM(F18:F21) -> 0.0665
E18: PIS: | F18: 0.0065
E19: COFINS: | F19: 0.03
E20: ISSQN(3): | F20: 0.03
E21: CPRB(2)
B22: BDI CALCULADO: | F22: =ROUND(((1+F12+F13+F14)*(1+F15)*(1+F16)/(1-F17)-1),4) -> 0.22
B24: BDI calculado pela seguinte equação:
B30: Onde:
B31: AC: taxa de administração central;
B32: S: taxa de seguros;
B33: R: taxa de riscos;
B34: G: taxa de garantias;
B35: DF: taxa de despesas financeiras;
B36: L: taxa de lucro/remuneração;
B37: I: taxa de incidência de impostos [ PIS, COFINS, (3) ISSQN, (2) Encargos Sociais ]
B38: (2) CPRB=4,50%(Contribuição Previdenciária sobre a Receita Bruta - Lei no. 13.161 de 31/08/2015
B39: (3) ISSQN é um imposto que incide sobre o preço de serviço, em Campo Grande o valor é de 5%. O custo previsto com mão-de-obra é de 60% do custo total da obra, para o computo do ISSQN o valor será de 3%
B45: _______________________________________________________________ Marcos Tedeschi
... B47: SISEP

Sheet BDI MATERIAIS
B2: PREFEITURA MUNICIPAL DE CAMPO GRANDE
B3: SECRETARIA MUNICIPAL DE INFRAESTRUTURA E SERVIÇOS PÚBLICOS - SISEP
B4: SUPERINTENDÊNCIA DE PROJETOS - GERÊNCIA DE ORÇAMENTOS
B7: 0
B8: OBRA: MANUTENÇÃO DE PONTES DE MADEIRA EM VICINAIS NO MUNICIPIO DE CAMPO GRANDE-MS | E8: Tipo de Serviço: | F8: FORNECIMENTO
F9: DE MATERIAIS E
F10: EQUIPAMENTOS
B11: Item componente do BDI | C11: 1° Quartil | D11: Médio | E11: 3° quartil | F11: BDI Adotado
B12: AC - Administração Central | C12: 0.015 | D12: 0.0345 | E12: 0.0449 | F12: 0.0345
B13: S + G - Seguro e Garantia | C13: 0.003 | D13: 0.0048 | E13: 0.0082 | F13: 0.0048
B14: R - Risco | C14: 0.0056 | D14: 0.0085 | E14: 0.0089 | F14: 0.0085
B15: DF - Despesas Financeiras | C15: 0.0085 | D15: 0.0085 | E15: 0.0111 | F15: 0.0085
B16: L - Lucro | C16: 0.035 | D16: 0.0511 | E16: 0.0622 | F16: 0.0511
B17: I - IMPOSTOS | F17: =SUM(F18:F21) -> 0.0365
E18: PIS: | F18: 0.0065
E19: COFINS: | F19: 0.03
E20: ISSQN(3):
E21: CPRB(2)
B22: BDI CALCULADO: | F22: =ROUND(((1+F12+F13+F14)*(1+F15)*(1+F16)/(1-F17)-1),4) -> 0.1528
B24: BDI calculado pela seguinte equação:
B30: Onde:
B31: AC: taxa de administração central;
B32: S: taxa de seguros;
B33: R: taxa de riscos;
B34: G: taxa de garantias;
B35: DF: taxa de despesas financeiras;
B36: L: taxa de lucro/remuneração;
B37: I: taxa de incidência de impostos [ PIS, COFINS, (3) ISSQN, (2) Encargos Sociais ]
B38: (2) CPRB=4,50%(Contribuição Previdenciária sobre a Receita Bruta - Lei no. 13.161 de 31/08/2015
B39: (3) ISSQN é um imposto que incide sobre o preço de serviço, em Campo Grande o valor é de 5%. O custo previsto com mão-de-obra é de 60% do custo total da obra, para o computo do ISSQN o valor será de 3%
B45: _______________________________________________________________ Marcos Tedeschi
... B47: SISEP

Sheet PUBLICIDADE BANCOS AGESUL E SBC

Sheet PONTES DE MADEIRA - MEMÓRIA
A2: GERÊNCIA DE MANUTENÇÃO DE VIAS RURAIS - GEMARU
H5: INFRAESTRUTURA | K5: SUPERESTRUTURA | N5: ESCAVAÇÃO | P5: TABULEIRO PONTE | S5: TRANSPORTE (DENSIDADE DA MADEIRA CONSIDERADO 1,53 g/cm³)
B6: PONTE | C6: LOCAL | D6: COORDENADAS GEOGRAFICAS | E6: COMPRIMENTO PONTE (M) | F6: LARGURA PONTE (M) | G6: ALTURA PONTE (M) | H6: ESTEIO (JGxM) | I6: BATE ESTACA (JGxM) | J6: PONTE BRANCA (M³) | K6: VIGAMENTO SIMPLES (M) | L6: VIGAMENTO ARMADO (M) | M6: CAIXÃO DE ATERRO (M²) | N6: ESCAVAÇÃO (M³) | O6: REATERRO (M³) | P6: ASSOALHO (M) | Q6: RODEIRO (M) | R6: GUIA DE RODAS (M) | S6: ESTEIO (TON) | T6: BATE ESTACA (TON) | U6: VIGAMENTO SIMPLES (TON) | V6: VIGAMENTO ARMADO (TON) | W6: CAIXÃO DE ATERRO (TON) | X6: ASSOALHO (TON) | Y6: RODEIRO (TON) | Z6: GUIA DE RODAS (TON) | AA6: PONTE BRANCA (TON) | AB6: TOTAL TON PONTE | AC6: DMT PAV | AD6: DMT N. PAV | AE6: MOMENTO TRANSPORTE PAV. (TON*KM) | AF6: MOMENTO TRANSPORTE N. PAV (TON*KM)
A8: 1 | B8: PONTE CÓRREGO PATEIRO | C8: CG 218 RAMAL 1 | D8: -20°13'28.78", -54°36'18.29" | E8: 5 | F8: 4.5 | G8: 1 | H8: =ROUNDUP((E8/6)+1,0)*G8 -> 2 | I8: =H8*3.5 -> 7 | J8: =E8*F8*G8 -> 22.5 | K8: =E8-L8 -> 5 | L8: 0 | M8: =((3*G8*2)+(F8*G8)) -> 10.5 | N8: =(14.03*G8)*2 -> 28.06 | O8: =(14.03*G8)*2 -> 28.06 | P8: =E8 -> 5 | Q8: =E8 -> 5 | R8: =Q8 -> 5 | S8: =0.578*H8*1.53 -> 1.76868 | T8: =0.3*I8*1.53 -> 3.213 | U8: =0.675*K8*1.53 -> 5.16375 | V8: =0.675*L8*1.53 -> 0 | W8: =0.114*M8*1.53 -> 1.83141 | X8: =0.27*P8*1.53 -> 2.0655 | Y8: =0.144*Q8*1.53 -> 1.1016 | Z8: =0.045*R8*1.53 -> 0.34425 | AA8: =0.05*J8 -> 1.125 | AB8: =SUM(S8:AA8) -> 16.61319 | AC8: 28.21 | AD8: 2.122 | AE8: =TRUNC(AB8*AC8,2) -> 468.65 | AF8: =TRUNC(AB8*AD8,2) -> 35.25
A9: 2 | B9: PONTE CÓRREGO SOSSEGO | C9: DISTRITO DE ROCHEDINHO | D9: -20°12'30.42", -54°34'17.77" | E9: 6 | F9: 4.5 | G9: 1.5 | H9: =ROUNDUP((E9/6)+1,0)*G9 -> 3 | I9: =H9*3.5 -> 10.5 | J9: =E9*F9*G9 -> 40.5 | K9: =E9-L9 -> 6 | L9: 0 | M9: =((3*G9*2)+(F9*G9)) -> 15.75 | N9: =(14.03*G9)*2 -> 42.09 | O9: =(14.03*G9)*2 -> 42.09 | P9: =E9 -> 6 | Q9: =E9 -> 6 | R9: =Q9 -> 6 | S9: =0.578*H9*1.53 -> 2.65302 | T9: =0.3*I9*1.53 -> 4.8195 | U9: =0.675*K9*1.53 -> 6.1965 | V9: =0.675*L9*1.53 -> 0 | W9: =0.114*M9*1.53 -> 2.747115 | X9: =0.27*P9*1.53 -> 2.4786 | Y9: =0.144*Q9*1.53 -> 1.32192 | Z9: =0.045*R9*1.53 -> 0.4131 | AA9: =0.05*J9 -> 2.025 | AB9: =SUM(S9:AA9) -> 22.654755 | AC9: 29.756 | AD9: 3.026 | AE9: =TRUNC(AB9*AC9,2) -> 674.11 | AF9: =TRUNC(AB9*AD9,2) -> 68.55
A10: 3 | B10: PONTE CÓRREGO RIBEIRÃO DAS BOTAS | C10: CG 060 | D10: -20°18'25.69", -54°33'53.84" | E10: 6 | F10: 4.5 | G10: 1.5 | H10: =ROUNDUP((E10/6)+1,0)*G10 -> 3 | I10: =H10*3.5 -> 10.5 | J10: =E10*F10*G10 -> 40.5 | K10: =E10-L10 -> 6 | L10: 0 | M10: =((3*G10*2)+(F10*G10)) -> 15.75 | N10: =(14.03*G10)*2 -> 42.09 | O10: =(14.03*G10)*2 -> 42.09 | P10: =E10 -> 6 | Q10: =E10 -> 6 | R10: =Q10 -> 6 | S10: =0.578*H10*1.53 -> 2.65302 | T10: =0.3*I10*1.53 -> 4.8195 | U10: =0.675*K10*1.53 -> 6.1965 | V10: =0.675*L10*1.53 -> 0 | W10: =0.114*M10*1.53 -> 2.747115 | X10: =0.27*P10*1.53 -> 2.4786 | Y10: =0.144*Q10*1.53 -> 1.32192 | Z10: =0.045*R10*1.53 -> 0.4131 | AA10: =0.05*J10 -> 2.025 | AB10: =SUM(S10:AA10) -> 22.654755 | AC10: 14.169 | AD10: 8.785 | AE10: =TRUNC(AB10*AC10,2) -> 320.99 | AF10: =TRUNC(AB10*AD10,2) -> 199.02
A11: 4 | B11: PONTE CÓRREGO GUARIROBA | C11: CG 140 | D11: -20°36'46.94", -54°21'40.86" | E11: 6 | F11: 4.5 | G11: 1.5 | H11: =ROUNDUP((E11/6)+1,0)*G11 -> 3 | I11: =H11*3.5 -> 10.5 | J11: =E11*F11*G11 -> 40.5 | K11: =E11-L11 -> 6 | L11: 0 | M11: =((3*G11*2)+(F11*G11)) -> 15.75 | N11: =(14.03*G11)*2 -> 42.09 | O11: =(14.03*G11)*2 -> 42.09 | P11: =E11 -> 6 | Q11: =E11 -> 6 | R11: =Q11 -> 6 | S11: =0.578*H11*1.53 -> 2.65302 | T11: =0.3*I11*1.53 -> 4.8195 | U11: =0.675*K11*1.53 -> 6.1965 | V11: =0.675*L11*1.53 -> 0 | W11: =0.114*M11*1.53 -> 2.747115 | X11: =0.27*P11*1.53 -> 2.4786 | Y11: =0.144*Q11*1.53 -> 1.32192 | Z11: =0.045*R11*1.53 -> 0.4131 | AA11: =0.05*J11 -> 2.025 | AB11: =SUM(S11:AA11) -> 22.654755 | AC11: 24.021 | AD11: 20.01 | AE11: =TRUNC(AB11*AC11,2) -> 544.18 | AF11: =TRUNC(AB11*AD11,2) -> 453.32
A12: 5 | B12: PONTE CÓRREGO CAMISA | C12: CG 230 | D12: -20º 58'44'', -53º 53'34'' | E12: 6 | F12: 4.5 | G12: 1.5 | H12: =ROUNDUP((E12/6)+1,0)*G12 -> 3 | I12: =H12*3.5 -> 10.5 | J12: =E12*F12*G12 -> 40.5 | K12: =E12-L12 -> 6 | L12: 0 | M12: =((3*G12*2)+(F12*G12)) -> 15.75 | N12: =(14.03*G12)*2 -> 42.09 | O12: =(14.03*G12)*2 -> 42.09 | P12: =E12 -> 6 | Q12: =E12 -> 6 | R12: =Q12 -> 6 | S12: =0.578*H12*1.53 -> 2.65302 | T12: =0.3*I12*1.53 -> 4.8195 | U12: =0.675*K12*1.53 -> 6.1965 | V12: =0.675*L12*1.53 -> 0 | W12: =0.114*M12*1.53 -> 2.747115 | X12: =0.27*P12*1.53 -> 2.4786 | Y12: =0.144*Q12*1.53 -> 1.32192 | Z12: =0.045*R12*1.53 -> 0.4131 | AA12: =0.05*J12 -> 2.025 | AB12: =SUM(S12:AA12) -> 22.654755 | AC12: 113.394 | AD12: 10.641 | AE12: =TRUNC(AB12*AC12,2) -> 2568.91 | AF12: =TRUNC(AB12*AD12,2) -> 241.06
A13: 6 | B13: PONTE CÓRREGO RIBEIRÃO LIMPO | C13: CG 282 | D13: -21º20'59", -53º58'50" | E13: 7.3 | F13: 4.5 | G13: 1.5 | H13: =ROUNDUP((E13/6)+1,0)*G13 -> 4.5 | I13: =H13*3.5 -> 15.75 | J13: =E13*F13*G13 -> 49.275 | K13: =E13-L13 -> 7.3 | L13: 0 | M13: =((3*G13*2)+(F13*G13)) -> 15.75 | N13: =(14.03*G13)*2 -> 42.09 | O13: =(14.03*G13)*2 -> 42.09 | P13: =E13 -> 7.3 | Q13: =E13 -> 7.3 | R13: =Q13 -> 7.3 | S13: =0.578*H13*1.53 -> 3.97953 | T13: =0.3*I13*1.53 -> 7.22925 | U13: =0.675*K13*1.53 -> 7.539075 | V13: =0.675*L13*1.53 -> 0 | W13: =0.114*M13*1.53 -> 2.747115 | X13: =0.27*P13*1.53 -> 3.01563 | Y13: =0.144*Q13*1.53 -> 1.608336 | Z13: =0.045*R13*1.53 -> 0.502605 | AA13: =0.05*J13 -> 2.46375 | AB13: =SUM(S13:AA13) -> 29.085291 | AC13: 124.421 | AD13: 41.289 | AE13: =TRUNC(AB13*AC13,2) -> 3618.82 | AF13: =TRUNC(AB13*AD13,2) -> 1200.9
A14: 7 | B14: PONTE AFLUENTE RIO ANHANDUÍ | C14: CG 284 | D14: -21°33'32" -53°52'17" | E14: 5 | F14: 4.5 | G14: 1.5 | H14: =ROUNDUP((E14/6)+1,0)*G14 -> 3 | I14: =H14*3.5 -> 10.5 | J14: =E14*F14*G14 -> 33.75 | K14: =E14-L14 -> 5 | L14: 0 | M14: =((3*G14*2)+(F14*G14)) -> 15.75 | N14: =(14.03*G14)*2 -> 42.09 | O14: =(14.03*G14)*2 -> 42.09 | P14: =E14 -> 5 | Q14: =E14 -> 5 | R14: =Q14 -> 5 | S14: =0.578*H14*1.53 -> 2.65302 | T14: =0.3*I14*1.53 -> 4.8195 | U14: =0.675*K14*1.53 -> 5.16375 | V14: =0.675*L14*1.53 -> 0 | W14: =0.114*M14*1.53 -> 2.747115 | X14: =0.27*P14*1.53 -> 2.0655 | Y14: =0.144*Q14*1.53 -> 1.1016 | Z14: =0.045*R14*1.53 -> 0.34425 | AA14: =0.05*J14 -> 1.6875 | AB14: =SUM(S14:AA14) -> 20.582235 | AC14: 175.015 | AD14: 4.622 | AE14: =TRUNC(AB14*AC14,2) -> 3602.19 | AF14: =TRUNC(AB14*AD14,2) -> 95.13
A15: 8 | B15: PONTE CÓRREGO POUSO ALEGRE | C15: CG 268 | D15: -20º 53'13'', -54º 26'2'' | E15: 6.5 | F15: 4.5 | G15: 1.5 | H15: =ROUNDUP((E15/6)+1,0)*G15 -> 4.5 | I15: =H15*3.5 -> 15.75 | J15: =E15*F15*G15 -> 43.875 | K15: =E15-L15 -> 6.5 | L15: 0 | M15: =((3*G15*2)+(F15*G15)) -> 15.75 | N15: =(14.03*G15)*2 -> 42.09 | O15: =(14.03*G15)*2 -> 42.09 | P15: =E15 -> 6.5 | Q15: =E15 -> 6.5 | R15: =Q15 -> 6.5 | S15: =0.578*H15*1.53 -> 3.97953 | T15: =0.3*I15*1.53 -> 7.22925 | U15: =0.675*K15*1.53 -> 6.712875 | V15: =0.675*L15*1.53 -> 0 | W15: =0.114*M15*1.53 -> 2.747115 | X15: =0.27*P15*1.53 -> 2.68515 | Y15: =0.144*Q15*1.53 -> 1.43208 | Z15: =0.045*R15*1.53 -> 0.447525 | AA15: =0.05*J15 -> 2.19375 | AB15: =SUM(S15:AA15) -> 27.427275 | AC15: 47.165 | AD15: 8.286 | AE15: =TRUNC(AB15*AC15,2) -> 1293.6 | AF15: =TRUNC(AB15*AD15,2) -> 227.26
A16: 9 | B16: PONTE CÓRREGO FORMOSO | C16: CG 324 | D16: -21° 8'33.60", -54° 2'39.11" | E16: 7 | F16: 4.5 | G16: 1.5 | H16: =ROUNDUP((E16/6)+1,0)*G16 -> 4.5 | I16: =H16*3.5 -> 15.75 | J16: =E16*F16*G16 -> 47.25 | K16: =E16-L16 -> 7 | L16: 0 | M16: =((3*G16*2)+(F16*G16)) -> 15.75 | N16: =(14.03*G16)*2 -> 42.09 | O16: =(14.03*G16)*2 -> 42.09 | P16: =E16 -> 7 | Q16: =E16 -> 7 | R16: =Q16 -> 7 | S16: =0.578*H16*1.53 -> 3.97953 | T16: =0.3*I16*1.53 -> 7.22925 | U16: =0.675*K16*1.53 -> 7.22925 | V16: =0.675*L16*1.53 -> 0 | W16: =0.114*M16*1.53 -> 2.747115 | X16: =0.27*P16*1.53 -> 2.8917 | Y16: =0.144*Q16*1.53 -> 1.54224 | Z16: =0.045*R16*1.53 -> 0.48195 | AA16: =0.05*J16 -> 2.3625 | AB16: =SUM(S16:AA16) -> 28.463535 | AC16: 31.14 | AD16: 75.739 | AE16: =TRUNC(AB16*AC16,2) -> 886.35 | AF16: =TRUNC(AB16*AD16,2) -> 2155.79
A17: 10 | B17: PONTE CÓRREGO COMPANHIA | C17: CG 324 | D17: -21°10'37.35", -54° 1'53.70" | E17: 7 | F17: 4.5 | G17: 1.5 | H17: =ROUNDUP((E17/6)+1,0)*G17 -> 4.5 | I17: =H17*3.5 -> 15.75 | J17: =E17*F17*G17 -> 47.25 | K17: =E17-L17 -> 7 | L17: 0 | M17: =((3*G17*2)+(F17*G17)) -> 15.75 | N17: =(14.03*G17)*2 -> 42.09 | O17: =(14.03*G17)*2 -> 42.09 | P17: =E17 -> 7 | Q17: =E17 -> 7 | R17: =Q17 -> 7 | S17: =0.578*H17*1.53 -> 3.97953 | T17: =0.3*I17*1.53 -> 7.22925 | U17: =0.675*K17*1.53 -> 7.22925 | V17: =0.675*L17*1.53 -> 0 | W17: =0.114*M17*1.53 -> 2.747115 | X17: =0.27*P17*1.53 -> 2.8917 | Y17: =0.144*Q17*1.53 -> 1.54224 | Z17: =0.045*R17*1.53 -> 0.48195 | AA17: =0.05*J17 -> 2.3625 | AB17: =SUM(S17:AA17) -> 28.463535 | AC17: 31.14 | AD17: 79.844 | AE17: =TRUNC(AB17*AC17,2) -> 886.35 | AF17: =TRUNC(AB17*AD17,2) -> 2272.64
A18: 11 | B18: PONTE CÓRREGO RIBEIRÃO CACHOEIRA | C18: CG 472 | D18: -20°38'4.04", -54°27'43.48" | E18: 7 | F18: 4.5 | G18: 1.5 | H18: =ROUNDUP((E18/6)+1,0)*G18 -> 4.5 | I18: =H18*3.5 -> 15.75 | J18: =E18*F18*G18 -> 47.25 | K18: =E18-L18 -> 7 | L18: 0 | M18: =((3*G18*2)+(F18*G18)) -> 15.75 | N18: =(14.03*G18)*2 -> 42.09 | O18: =(14.03*G18)*2 -> 42.09 | P18: =E18 -> 7 | Q18: =E18 -> 7 | R18: =Q18 -> 7 | S18: =0.578*H18*1.53 -> 3.97953 | T18: =0.3*I18*1.53 -> 7.22925 | U18: =0.675*K18*1.53 -> 7.22925 | V18: =0.675*L18*1.53 -> 0 | W18: =0.114*M18*1.53 -> 2.747115 | X18: =0.27*P18*1.53 -> 2.8917 | Y18: =0.144*Q18*1.53 -> 1.54224 | Z18: =0.045*R18*1.53 -> 0.48195 | AA18: =0.05*J18 -> 2.3625 | AB18: =SUM(S18:AA18) -> 28.463535 | AC18: 27.67 | AD18: 8.973 | AE18: =TRUNC(AB18*AC18,2) -> 787.58 | AF18: =TRUNC(AB18*AD18,2) -> 255.4
A19: 12 | B19: PONTE CÓRREGO AGUA LIMPA | C19: CG 474 | D19: -21° 7'36.71", -54° 2'37.29" | E19: 7 | F19: 4.5 | G19: 1.5 | H19: =ROUNDUP((E19/6)+1,0)*G19 -> 4.5 | I19: =H19*3.5 -> 15.75 | J19: =E19*F19*G19 -> 47.25 | K19: =E19-L19 -> 7 | L19: 0 | M19: =((3*G19*2)+(F19*G19)) -> 15.75 | N19: =(14.03*G19)*2 -> 42.09 | O19: =(14.03*G19)*2 -> 42.09 | P19: =E19 -> 7 | Q19: =E19 -> 7 | R19: =Q19 -> 7 | S19: =0.578*H19*1.53 -> 3.97953 | T19: =0.3*I19*1.53 -> 7.22925 | U19: =0.675*K19*1.53 -> 7.22925 | V19: =0.675*L19*1.53 -> 0 | W19: =0.114*M19*1.53 -> 2.747115 | X19: =0.27*P19*1.53 -> 2.8917 | Y19: =0.144*Q19*1.53 -> 1.54224 | Z19: =0.045*R19*1.53 -> 0.48195 | AA19: =0.05*J19 -> 2.3625 | AB19: =SUM(S19:AA19) -> 28.463535 | AC19: 110.523 | AD19: 15.199 | AE19: =TRUNC(AB19*AC19,2) -> 3145.87 | AF19: =TRUNC(AB19*AD19,2) -> 432.61
... A24: 17 | B24: PONTE CÓRREGO CEROULA | C24: CG 050 | D24: -20º 22'14'', -54º 38'54'' | E24: 4.5 | F24: 4.5 | G24: 2 | H24: =ROUNDUP((E24/6)+1,0)*G24 -> 4 | I24: =H24*3.5 -> 14 | J24: =E24*F24*G24 -> 40.5 | K24: =E24-L24 -> 4.5 | L24: 0 | M24: =((3*G24*2)+(F24*G24)) -> 21 | N24: =(14.03*G24)*2 -> 56.12 | O24: =(14.03*G24)*2 -> 56.12 | P24: =E24 -> 4.5 | Q24: =E24 -> 4.5 | R24: =Q24 -> 4.5 | S24: =0.578*H24*1.53 -> 3.53736 | T24: =0.3*I24*1.53 -> 6.426 | U24: =0.675*K24*1.53 -> 4.647375 | V24: =0.675*L24*1.53 -> 0 | W24: =0.114*M24*1.53 -> 3.66282 | X24: =0.27*P24*1.53 -> 1.85895 | Y24: =0.144*Q24*1.53 -> 0.99144 | Z24: =0.045*R24*1.53 -> 0.309825 | AA24: =0.05*J24 -> 2.025 | AB24: =SUM(S24:AA24) -> 23.45877 | AC24: 7.463 | AD24: 4.715 | AE24: =TRUNC(AB24*AC24,2) -> 175.07 | AF24: =TRUNC(AB24*AD24,2) -> 110.6
A25: 18 | B25: PONTE CÓRREGO RETIRO | C25: CG 164 | D25: -20º 13'5'', -54º 46'30'' | E25: 6.5 | F25: 4.5 | G25: 2 | H25: =ROUNDDOWN((E25/6)+1,0)*G25 -> 4 | I25: =H25*3.5 -> 14 | J25: =E25*F25*G25 -> 58.5 | K25: =E25-L25 -> 6.5 | L25: 0 | M25: =((3*G25*2)+(F25*G25)) -> 21 | N25: =(14.03*G25)*2 -> 56.12 | O25: =(14.03*G25)*2 -> 56.12 | P25: =E25 -> 6.5 | Q25: =E25 -> 6.5 | R25: =Q25 -> 6.5 | S25: =0.578*H25*1.53 -> 3.53736 | T25: =0.3*I25*1.53 -> 6.426 | U25: =0.675*K25*1.53 -> 6.712875 | V25: =0.675*L25*1.53 -> 0 | W25: =0.114*M25*1.53 -> 3.66282 | X25: =0.27*P25*1.53 -> 2.68515 | Y25: =0.144*Q25*1.53 -> 1.43208 | Z25: =0.045*R25*1.53 -> 0.447525 | AA25: =0.05*J25 -> 2.925 | AB25: =SUM(S25:AA25) -> 27.82881 | AC25: 41.027 | AD25: 0.613 | AE25: =TRUNC(AB25*AC25,2) -> 1141.73 | AF25: =TRUNC(AB25*AD25,2) -> 17.05
A26: 19 | B26: PONTE CÓRREGO RONDINHA | C26: CG 180 | D26: -20°37'32.0" -54°15'30.0" | E26: 6 | F26: 4.5 | G26: 2 | H26: =ROUNDUP((E26/6)+1,0)*G26 -> 4 | I26: =H26*3.5 -> 14 | J26: =E26*F26*G26 -> 54 | K26: =E26-L26 -> 6 | L26: 0 | M26: =((3*G26*2)+(F26*G26)) -> 21 | N26: =(14.03*G26)*2 -> 56.12 | O26: =(14.03*G26)*2 -> 56.12 | P26: =E26 -> 6 | Q26: =E26 -> 6 | R26: =Q26 -> 6 | S26: =0.578*H26*1.53 -> 3.53736 | T26: =0.3*I26*1.53 -> 6.426 | U26: =0.675*K26*1.53 -> 6.1965 | V26: =0.675*L26*1.53 -> 0 | W26: =0.114*M26*1.53 -> 3.66282 | X26: =0.27*P26*1.53 -> 2.4786 | Y26: =0.144*Q26*1.53 -> 1.32192 | Z26: =0.045*R26*1.53 -> 0.4131 | AA26: =0.05*J26 -> 2.7 | AB26: =SUM(S26:AA26) -> 26.7363 | AC26: 38.576 | AD26: 17.45 | AE26: =TRUNC(AB26*AC26,2) -> 1031.37 | AF26: =TRUNC(AB26*AD26,2) -> 466.54
A27: 20 | B27: PONTE CÓRREGO RIBEIRÃO DA AREIA | C27: CG 284 | D27: -21° 27'8", -53° 51'43" | E27: 10 | F27: 4.5 | G27: 2 | H27: =ROUNDUP((E27/6)+1,0)*G27 -> 6 | I27: =H27*3.5 -> 21 | J27: =E27*F27*G27 -> 90 | K27: =E27-L27 -> 10 | L27: 0 | M27: =((3*G27*2)+(F27*G27)) -> 21 | N27: =(14.03*G27)*2 -> 56.12 | O27: =(14.03*G27)*2 -> 56.12 | P27: =E27 -> 10 | Q27: =E27 -> 10 | R27: =Q27 -> 10 | S27: =0.578*H27*1.53 -> 5.30604 | T27: =0.3*I27*1.53 -> 9.639 | U27: =0.675*K27*1.53 -> 10.3275 | V27: =0.675*L27*1.53 -> 0 | W27: =0.114*M27*1.53 -> 3.66282 | X27: =0.27*P27*1.53 -> 4.131 | Y27: =0.144*Q27*1.53 -> 2.2032 | Z27: =0.045*R27*1.53 -> 0.6885 | AA27: =0.05*J27 -> 4.5 | AB27: =SUM(S27:AA27) -> 40.45806 | AC27: 175.015 | AD27: 22.484 | AE27: =TRUNC(AB27*AC27,2) -> 7080.76 | AF27: =TRUNC(AB27*AD27,2) -> 909.65
A28: 21 | B28: PONTE RIBEIRÃO DA AREIA | C28: CG 286 | D28: -21°32'30.07", -53°48'58.11" | E28: 12 | F28: 4.5 | G28: 2 | H28: =ROUNDUP((E28/6)+1,0)*G28 -> 6 | I28: =H28*3.5 -> 21 | J28: =E28*F28*G28 -> 108 | K28: =E28-L28 -> 12 | L28: 0 | M28: =((3*G28*2)+(F28*G28)) -> 21 | N28: =(14.03*G28)*2 -> 56.12 | O28: =(14.03*G28)*2 -> 56.12 | P28: =E28 -> 12 | Q28: =E28 -> 12 | R28: =Q28 -> 12 | S28: =0.578*H28*1.53 -> 5.30604 | T28: =0.3*I28*1.53 -> 9.639 | U28: =0.675*K28*1.53 -> 12.393 | V28: =0.675*L28*1.53 -> 0 | W28: =0.114*M28*1.53 -> 3.66282 | X28: =0.27*P28*1.53 -> 4.9572 | Y28: =0.144*Q28*1.53 -> 2.64384 | Z28: =0.045*R28*1.53 -> 0.8262 | AA28: =0.05*J28 -> 5.4 | AB28: =SUM(S28:AA28) -> 44.8281 | AC28: 175.015 | AD28: 11.516 | AE28: =TRUNC(AB28*AC28,2) -> 7845.58 | AF28: =TRUNC(AB28*AD28,2) -> 516.24
A29: 22 | B29: PONTE CÓRREGO DA ONÇA | C29: CG 286 RAMAL 1 | D29: -21°32'11.29", -53°43'48.92" | E29: 7 | F29: 4.5 | G29: 2 | H29: =ROUNDUP((E29/6)+1,0)*G29 -> 6 | I29: =H29*3.5 -> 21 | J29: =E29*F29*G29 -> 63 | K29: =E29-L29 -> 7 | L29: 0 | M29: =((3*G29*2)+(F29*G29)) -> 21 | N29: =(14.03*G29)*2 -> 56.12 | O29: =(14.03*G29)*2 -> 56.12 | P29: =E29 -> 7 | Q29: =E29 -> 7 | R29: =Q29 -> 7 | S29: =0.578*H29*1.53 -> 5.30604 | T29: =0.3*I29*1.53 -> 9.639 | U29: =0.675*K29*1.53 -> 7.22925 | V29: =0.675*L29*1.53 -> 0 | W29: =0.114*M29*1.53 -> 3.66282 | X29: =0.27*P29*1.53 -> 2.8917 | Y29: =0.144*Q29*1.53 -> 1.54224 | Z29: =0.045*R29*1.53 -> 0.48195 | AA29: =0.05*J29 -> 3.15 | AB29: =SUM(S29:AA29) -> 33.903 | AC29: 175.015 | AD29: 26.198 | AE29: =TRUNC(AB29*AC29,2) -> 5933.53 | AF29: =TRUNC(AB29*AD29,2) -> 888.19
A30: 23 | B30: PONTE CÓRREGO POUSO ALEGRE | C30: CG 324 | D30: -20°48'12.24", -54°24'30.94" | E30: 5.5 | F30: 4.5 | G30: 2 | H30: =ROUNDUP((E30/6)+1,0)*G30 -> 4 | I30: =H30*3.5 -> 14 | J30: =E30*F30*G30 -> 49.5 | K30: =E30-L30 -> 5.5 | L30: 0 | M30: =((3*G30*2)+(F30*G30)) -> 21 | N30: =(14.03*G30)*2 -> 56.12 | O30: =(14.03*G30)*2 -> 56.12 | P30: =E30 -> 5.5 | Q30: =E30 -> 5.5 | R30: =Q30 -> 5.5 | S30: =0.578*H30*1.53 -> 3.53736 | T30: =0.3*I30*1.53 -> 6.426 | U30: =0.675*K30*1.53 -> 5.680125 | V30: =0.675*L30*1.53 -> 0 | W30: =0.114*M30*1.53 -> 3.66282 | X30: =0.27*P30*1.53 -> 2.27205 | Y30: =0.144*Q30*1.53 -> 1.21176 | Z30: =0.045*R30*1.53 -> 0.378675 | AA30: =0.05*J30 -> 2.475 | AB30: =SUM(S30:AA30) -> 25.64379 | AC30: 31.14 | AD30: 18.607 | AE30: =TRUNC(AB30*AC30,2) -> 798.54 | AF30: =TRUNC(AB30*AD30,2) -> 477.15
A31: 24 | B31: PONTE CÓRREGO DAS ARARAS | C31: CG 324 | D31: -21° 6'11.64", -54° 7'7.19" | E31: 6 | F31: 4.5 | G31: 2 | H31: =ROUNDUP((E31/6)+1,0)*G31 -> 4 | I31: =H31*3.5 -> 14 | J31: =E31*F31*G31 -> 54 | K31: =E31-L31 -> 6 | L31: 0 | M31: =((3*G31*2)+(F31*G31)) -> 21 | N31: =(14.03*G31)*2 -> 56.12 | O31: =(14.03*G31)*2 -> 56.12 | P31: =E31 -> 6 | Q31: =E31 -> 6 | R31: =Q31 -> 6 | S31: =0.578*H31*1.53 -> 3.53736 | T31: =0.3*I31*1.53 -> 6.426 | U31: =0.675*K31*1.53 -> 6.1965 | V31: =0.675*L31*1.53 -> 0 | W31: =0.114*M31*1.53 -> 3.66282 | X31: =0.27*P31*1.53 -> 2.4786 | Y31: =0.144*Q31*1.53 -> 1.32192 | Z31: =0.045*R31*1.53 -> 0.4131 | AA31: =0.05*J31 -> 2.7 | AB31: =SUM(S31:AA31) -> 26.7363 | AC31: 31.14 | AD31: 65.834 | AE31: =TRUNC(AB31*AC31,2) -> 832.56 | AF31: =TRUNC(AB31*AD31,2) -> 1760.15
A32: 25 | B32: PONTE CÓRREGO CAPÃO BONITO | C32: CG 342 RAMAL 2 | D32: -21° 5'1.55", -54°19'28.07" | E32: 7 | F32: 4.5 | G32: 2 | H32: =ROUNDUP((E32/6)+1,0)*G32 -> 6 | I32: =H32*3.5 -> 21 | J32: =E32*F32*G32 -> 63 | K32: =E32-L32 -> 7 | L32: 0 | M32: =((3*G32*2)+(F32*G32)) -> 21 | N32: =(14.03*G32)*2 -> 56.12 | O32: =(14.03*G32)*2 -> 56.12 | P32: =E32 -> 7 | Q32: =E32 -> 7 | R32: =Q32 -> 7 | S32: =0.578*H32*1.53 -> 5.30604 | T32: =0.3*I32*1.53 -> 9.639 | U32: =0.675*K32*1.53 -> 7.22925 | V32: =0.675*L32*1.53 -> 0 | W32: =0.114*M32*1.53 -> 3.66282 | X32: =0.27*P32*1.53 -> 2.8917 | Y32: =0.144*Q32*1.53 -> 1.54224 | Z32: =0.045*R32*1.53 -> 0.48195 | AA32: =0.05*J32 -> 3.15 | AB32: =SUM(S32:AA32) -> 33.903 | AC32: 77.788 | AD32: 19.93 | AE32: =TRUNC(AB32*AC32,2) -> 2637.24 | AF32: =TRUNC(AB32*AD32,2) -> 675.68
A33: 26 | B33: PONTE CÓRREGO CABECEIRA DA SERRANIA | C33: CG 482 | D33: -21°13'43.85", - 53°41'58.22" | E33: 12 | F33: 4.5 | G33: 2 | H33: =ROUNDUP((E33/6)+1,0)*G33 -> 6 | I33: =H33*3.5 -> 21 | J33: =E33*F33*G33 -> 108 | K33: =E33-L33 -> 12 | L33: 0 | M33: =((3*G33*2)+(F33*G33)) -> 21 | N33: =(14.03*G33)*2 -> 56.12 | O33: =(14.03*G33)*2 -> 56.12 | P33: =E33 -> 12 | Q33: =E33 -> 12 | R33: =Q33 -> 12 | S33: =0.578*H33*1.53 -> 5.30604 | T33: =0.3*I33*1.53 -> 9.639 | U33: =0.675*K33*1.53 -> 12.393 | V33: =0.675*L33*1.53 -> 0 | W33: =0.114*M33*1.53 -> 3.66282 | X33: =0.27*P33*1.53 -> 4.9572 | Y33: =0.144*Q33*1.53 -> 2.64384 | Z33: =0.045*R33*1.53 -> 0.8262 | AA33: =0.05*J33 -> 5.4 | AB33: =SUM(S33:AA33) -> 44.8281 | AC33: 136.216 | AD33: 16.351 | AE33: =TRUNC(AB33*AC33,2) -> 6106.3 | AF33: =TRUNC(AB33*AD33,2) -> 732.98
A34: 27 | B34: PONTE CÓRREGO MANGUE | C34: CG 486 | D34: -20º 54'54'', -54º 13'37'' | E34: 10 | F34: 4.5 | G34: 2 | H34: =ROUNDUP((E34/6)+1,0)*G34 -> 6 | I34: =H34*3.5 -> 21 | J34: =E34*F34*G34 -> 90 | K34: =E34-L34 -> 10 | L34: 0 | M34: =((3*G34*2)+(F34*G34)) -> 21 | N34: =(14.03*G34)*2 -> 56.12 | O34: =(14.03*G34)*2 -> 56.12 | P34: =E34 -> 10 | Q34: =E34 -> 10 | R34: =Q34 -> 10 | S34: =0.578*H34*1.53 -> 5.30604 | T34: =0.3*I34*1.53 -> 9.639 | U34: =0.675*K34*1.53 -> 10.3275 | V34: =0.675*L34*1.53 -> 0 | W34: =0.114*M34*1.53 -> 3.66282 | X34: =0.27*P34*1.53 -> 4.131 | Y34: =0.144*Q34*1.53 -> 2.2032 | Z34: =0.045*R34*1.53 -> 0.6885 | AA34: =0.05*J34 -> 4.5 | AB34: =SUM(S34:AA34) -> 40.45806 | AC34: 31.142 | AD34: 44.496 | AE34: =TRUNC(AB34*AC34,2) -> 1259.94 | AF34: =TRUNC(AB34*AD34,2) -> 1800.22
A35: 28 | B35: PONTE CÓRREGO BURITI | C35: CG 486 | D35: -20°52'43.46", -54°17'24.69" | E35: 6 | F35: 4.5 | G35: 2 | H35: =ROUNDUP((E35/6)+1,0)*G35 -> 4 | I35: =H35*3.5 -> 14 | J35: =E35*F35*G35 -> 54 | K35: =E35-L35 -> 6 | L35: 0 | M35: =((3*G35*2)+(F35*G35)) -> 21 | N35: =(14.03*G35)*2 -> 56.12 | O35: =(14.03*G35)*2 -> 56.12 | P35: =E35 -> 6 | Q35: =E35 -> 6 | R35: =Q35 -> 6 | S35: =0.578*H35*1.53 -> 3.53736 | T35: =0.3*I35*1.53 -> 6.426 | U35: =0.675*K35*1.53 -> 6.1965 | V35: =0.675*L35*1.53 -> 0 | W35: =0.114*M35*1.53 -> 3.66282 | X35: =0.27*P35*1.53 -> 2.4786 | Y35: =0.144*Q35*1.53 -> 1.32192 | Z35: =0.045*R35*1.53 -> 0.4131 | AA35: =0.05*J35 -> 2.7 | AB35: =SUM(S35:AA35) -> 26.7363 | AC35: 31.142 | AD35: 35.274 | AE35: =TRUNC(AB35*AC35,2) -> 832.62 | AF35: =TRUNC(AB35*AD35,2) -> 943.09
A36: 29 | B36: PONTE CÓRREGO LARANJINHA | C36: CG 254 | D36: -20º 38'35'', -54º 31'57'' | E36: 7 | F36: 4.5 | G36: 2.2 | H36: =ROUNDUP((E36/6)+1,0)*G36 -> 6.6 | I36: =H36*3.5 -> 23.1 | J36: =E36*F36*G36 -> 69.3 | K36: =E36-L36 -> 7 | L36: 0 | M36: =((3*G36*2)+(F36*G36)) -> 23.1 | N36: =(14.03*G36)*2 -> 61.732 | O36: =(14.03*G36)*2 -> 61.732 | P36: =E36 -> 7 | Q36: =E36 -> 7 | R36: =Q36 -> 7 | S36: =0.578*H36*1.53 -> 5.836644 | T36: =0.3*I36*1.53 -> 10.6029 | U36: =0.675*K36*1.53 -> 7.22925 | V36: =0.675*L36*1.53 -> 0 | W36: =0.114*M36*1.53 -> 4.029102 | X36: =0.27*P36*1.53 -> 2.8917 | Y36: =0.144*Q36*1.53 -> 1.54224 | Z36: =0.045*R36*1.53 -> 0.48195 | AA36: =0.05*J36 -> 3.465 | AB36: =SUM(S36:AA36) -> 36.078786 | AC36: 27.663 | AD36: 2.353 | AE36: =TRUNC(AB36*AC36,2) -> 998.04 | AF36: =TRUNC(AB36*AD36,2) -> 84.89
A37: 30 | B37: PONTE CÓRREGO MIMOSO | C37: CG 284 | D37: -21°32'31.0" -53°53'21.0" | E37: 18 | F37: 4.5 | G37: 2.2 | H37: =ROUNDUP((E37/6)+1,0)*G37 -> 8.8 | I37: =H37*3.5 -> 30.8 | J37: =E37*F37*G37 -> 178.2 | K37: =E37-L37 -> 18 | L37: 0 | M37: =((3*G37*2)+(F37*G37)) -> 23.1 | N37: =(14.03*G37)*2 -> 61.732 | O37: =(14.03*G37)*2 -> 61.732 | P37: =E37 -> 18 | Q37: =E37 -> 18 | R37: =Q37 -> 18 | S37: =0.578*H37*1.53 -> 7.782192 | T37: =0.3*I37*1.53 -> 14.1372 | U37: =0.675*K37*1.53 -> 18.5895 | V37: =0.675*L37*1.53 -> 0 | W37: =0.114*M37*1.53 -> 4.029102 | X37: =0.27*P37*1.53 -> 7.4358 | Y37: =0.144*Q37*1.53 -> 3.96576 | Z37: =0.045*R37*1.53 -> 1.2393 | AA37: =0.05*J37 -> 8.91 | AB37: =SUM(S37:AA37) -> 66.088854 | AC37: 175.015 | AD37: 7.543 | AE37: =TRUNC(AB37*AC37,2) -> 11566.54 | AF37: =TRUNC(AB37*AD37,2) -> 498.5
A38: 31 | B38: PONTE NO CÓRREGO CEREJEIRA | C38: PROLONGAMENTO A RUA CAETANO PERETI | D38: -20º 23'59'', -54º 36'15'' | E38: 6.5 | F38: 4.5 | G38: 2.45 | H38: =ROUNDDOWN((E38/6)+1,0) -> 2 | I38: =H38*3.5 -> 7 | J38: =E38*F38*G38 -> 71.6625 | K38: =E38-L38 -> 6.5 | L38: 0 | M38: =((3*G38*2)+(F38*G38)) -> 25.725 | N38: =(14.03*G38)*2 -> 68.747 | O38: =(14.03*G38)*2 -> 68.747 | P38: =E38 -> 6.5 | Q38: =E38 -> 6.5 | R38: =Q38 -> 6.5 | S38: =0.578*H38*1.53 -> 1.76868 | T38: =0.3*I38*1.53 -> 3.213 | U38: =0.675*K38*1.53 -> 6.712875 | V38: =0.675*L38*1.53 -> 0 | W38: =0.114*M38*1.53 -> 4.4869545 | X38: =0.27*P38*1.53 -> 2.68515 | Y38: =0.144*Q38*1.53 -> 1.43208 | Z38: =0.045*R38*1.53 -> 0.447525 | AA38: =0.05*J38 -> 3.583125 | AB38: =SUM(S38:AA38) -> 24.329389 | AC38: 5.674 | AD38: 2.681 | AE38: =TRUNC(AB38*AC38,2) -> 138.04 | AF38: =TRUNC(AB38*AD38,2) -> 65.22
A39: 32 | B39: PONTE CÓRREGO GUARIROBA | C39: CG 180 | D39: -20°32'57.0" 54°17'17.0" | E39: 18.4 | F39: 4.5 | G39: 2.5 | H39: =ROUNDUP((E39/6)+1,0)*G39 -> 12.5 | I39: =H39*3.5 -> 43.75 | J39: =E39*F39*G39 -> 207 | K39: =E39-L39 -> 18.4 | L39: 0 | M39: =((3*G39*2)+(F39*G39)) -> 26.25 | N39: =(14.03*G39)*2 -> 70.15 | O39: =(14.03*G39)*2 -> 70.15 | P39: =E39 -> 18.4 | Q39: =E39 -> 18.4 | R39: =Q39 -> 18.4 | S39: =0.578*H39*1.53 -> 11.05425 | T39: =0.3*I39*1.53 -> 20.08125 | U39: =0.675*K39*1.53 -> 19.0026 | V39: =0.675*L39*1.53 -> 0 | W39: =0.114*M39*1.53 -> 4.578525 | X39: =0.27*P39*1.53 -> 7.60104 | Y39: =0.144*Q39*1.53 -> 4.053888 | Z39: =0.045*R39*1.53 -> 1.26684 | AA39: =0.05*J39 -> 10.35 | AB39: =SUM(S39:AA39) -> 77.988393 | AC39: 38.576 | AD39: 5.313 | AE39: =TRUNC(AB39*AC39,2) -> 3008.48 | AF39: =TRUNC(AB39*AD39,2) -> 414.35
A40: 33 | B40: PONTE CÓRREGO RINCÃO | C40: CG 216 RAMAL 1 | D40: -20° 17'44.08", -54º 39'34.54" | E40: 6 | F40: 4.5 | G40: 2.5 | H40: =ROUNDUP((E40/6)+1,0)*G40 -> 5 | I40: =H40*3.5 -> 17.5 | J40: =E40*F40*G40 -> 67.5 | K40: =E40-L40 -> 6 | L40: 0 | M40: =((3*G40*2)+(F40*G40)) -> 26.25 | N40: =(14.03*G40)*2 -> 70.15 | O40: =(14.03*G40)*2 -> 70.15 | P40: =E40 -> 6 | Q40: =E40 -> 6 | R40: =Q40 -> 6 | S40: =0.578*H40*1.53 -> 4.4217 | T40: =0.3*I40*1.53 -> 8.0325 | U40: =0.675*K40*1.53 -> 6.1965 | V40: =0.675*L40*1.53 -> 0 | W40: =0.114*M40*1.53 -> 4.578525 | X40: =0.27*P40*1.53 -> 2.4786 | Y40: =0.144*Q40*1.53 -> 1.32192 | Z40: =0.045*R40*1.53 -> 0.4131 | AA40: =0.05*J40 -> 3.375 | AB40: =SUM(S40:AA40) -> 30.817845 | AC40: 19.881 | AD40: 6.247 | AE40: =TRUNC(AB40*AC40,2) -> 612.68 | AF40: =TRUNC(AB40*AD40,2) -> 192.51
A41: 34 | B41: PONTE CÓRREGO MANTENA | C41: CG 222 RAMAL 3 | D41: -20°13'5.76", -54°54'26.18" | E41: 6 | F41: 4.5 | G41: 2.5 | H41: =ROUNDUP((E41/6)+1,0)*G41 -> 5 | I41: =H41*3.5 -> 17.5 | J41: =E41*F41*G41 -> 67.5 | K41: =E41-L41 -> 6 | L41: 0 | M41: =((3*G41*2)+(F41*G41)) -> 26.25 | N41: =(14.03*G41)*2 -> 70.15 | O41: =(14.03*G41)*2 -> 70.15 | P41: =E41 -> 6 | Q41: =E41 -> 6 | R41: =Q41 -> 6 | S41: =0.578*H41*1.53 -> 4.4217 | T41: =0.3*I41*1.53 -> 8.0325 | U41: =0.675*K41*1.53 -> 6.1965 | V41: =0.675*L41*1.53 -> 0 | W41: =0.114*M41*1.53 -> 4.578525 | X41: =0.27*P41*1.53 -> 2.4786 | Y41: =0.144*Q41*1.53 -> 1.32192 | Z41: =0.045*R41*1.53 -> 0.4131 | AA41: =0.05*J41 -> 3.375 | AB41: =SUM(S41:AA41) -> 30.817845 | AC41: 34.643 | AD41: 14.126 | AE41: =TRUNC(AB41*AC41,2) -> 1067.62 | AF41: =TRUNC(AB41*AD41,2) -> 435.33
