Workbook

Sheet OS
D1: Obra | E1: Bancos | G1: B.D.I. | J1: Encargos Sociais
D2: REVITALIZAÇÃO LAGOA DO SAPO (ETAPA 1) | E2: SINAPI - 01/2026 - Mato Grosso do Sul ORSE - 12/2025 - Sergipe SEINFRA - 028 - Ceará CPOS/CDHU - 01/2026 - São Paulo FDE - 10/2025 - São Paulo AGESUL - 06/2025 - Mato Grosso do Sul | G2: =BDI!D20 -> 0.2413 | J2: Não Desonerado: Horista: 113,34% Mensalista: 70,31%
A3: Orçamento Sintético
A4: Item | B4: Código | C4: Banco | D4: Descrição | E4: Und | F4: Quant. | G4: Valor Unit | H4: Valor Unit com BDI | I4: Total | J4: Total com BDI | K4: Peso (%)
A5: 1 | D5: ADMINISTRAÇÃO LOCAL | F5: =IF(B5="","",MC!D5) | H5: =IF(B5="","",TRUNC(G5+(G5*$G$2),2)) | I5: =SUM(I6:I7) -> 22293.6 | J5: =SUM(J6:J7) -> 27672 | K5: =J5/$H$161 -> 0.027406221
A6: 1.1 | B6: 90780 | C6: SINAPI | D6: MESTRE DE OBRAS COM ENCARGOS COMPLEMENTARES | E6: H | F6: =IF(B6="","",MC!D6) -> 120 | G6: 44.28 | H6: =IF(B6="","",TRUNC(G6+(G6*$G$2),2)) -> 54.96 | I6: =F6*G6 -> 5313.6 | J6: =F6*H6 -> 6595.2 | K6: =J6/$H$161 -> 0.0065318557
A7: 1.2 | B7: 90777 | C7: SINAPI | D7: ENGENHEIRO CIVIL DE OBRA JUNIOR COM ENCARGOS COMPLEMENTARES | E7: H | F7: =IF(B7="","",MC!D7) -> 120 | G7: 141.5 | H7: =IF(B7="","",TRUNC(G7+(G7*$G$2),2)) -> 175.64 | I7: =F7*G7 -> 16980 | J7: =F7*H7 -> 21076.8 | K7: =J7/$H$161 -> 0.020874365
A8: 2 | D8: SERVIÇOS PRELIMINARES | F8: =IF(B8="","",MC!D8) | H8: =IF(B8="","",TRUNC(G8+(G8*$G$2),2)) | I8: =SUM(I9:I15) -> 42892.943 | J8: =SUM(J9:J15) -> 53237.833 | K8: =J8/$H$161 -> 0.052726504
A9: 2.1 | B9: 0101001101 | C9: AGESUL | D9: PLACA DE OBRA EM CHAPA GALVANIZADA N. 22, ADESIVADA | E9: m² | F9: =IF(B9="","",MC!D9) -> 4,5 | G9: 508.06 | H9: =IF(B9="","",TRUNC(G9+(G9*$G$2),2)) -> 630.65 | I9: =F9*G9 -> 2286.27 | J9: =F9*H9 -> 2837.925 | K9: =J9/$H$161 -> 0.0028106678
A10: 2.2 | B10: 73672 | C10: SINAPI | D10: DESMATAMENTO E LIMPEZA MECANIZADA DE TERRENO COM ARVORES ATE Ø 15CM, UTILIZANDO TRATOR DE ESTEIRAS | E10: m² | F10: =IF(B10="","",MC!D10) -> 1.765,02 | G10: 0.55 | H10: =IF(B10="","",TRUNC(G10+(G10*$G$2),2)) -> 0.68 | I10: =F10*G10 -> 970.761 | J10: =F10*H10 -> 1200.2136 | K10: =J10/$H$161 -> 0.001188686
A11: 2.3 | B11: 93207 | C11: SINAPI | D11: EXECUÇÃO DE ESCRITÓRIO EM CANTEIRO DE OBRA EM CHAPA DE MADEIRA COMPENSADA, NÃO INCLUSO MOBILIÁRIO E EQUIPAMENTOS. AF_02/2016 | E11: m² | F11: =IF(B11="","",MC!D11) -> 5,0 | G11: 1068.42 | H11: =IF(B11="","",TRUNC(G11+(G11*$G$2),2)) -> 1326.22 | I11: =F11*G11 -> 5342.1 | J11: =F11*H11 -> 6631.1 | K11: =J11/$H$161 -> 0.0065674108
A12: 2.4 | B12: 98531 | C12: SINAPI | D12: CORTE RASO E RECORTE DE ÁRVORE COM DIÂMETRO DE TRONCO MAIOR OU IGUAL A 0,60 M. AF_03/2024 | E12: UN | F12: =IF(B12="","",MC!D12) -> 34,0 | G12: 408.85 | H12: =IF(B12="","",TRUNC(G12+(G12*$G$2),2)) -> 507.5 | I12: =F12*G12 -> 13900.9 | J12: =F12*H12 -> 17255 | K12: =J12/$H$161 -> 0.017089272
A13: 2.5 | B13: 93208 | C13: SINAPI | D13: EXECUÇÃO DE ALMOXARIFADO EM CANTEIRO DE OBRA EM CHAPA DE MADEIRA COMPENSADA, INCLUSO PRATELEIRAS. AF_02/2016 | E13: m² | F13: =IF(B13="","",MC!D13) -> 5,0 | G13: 860.93 | H13: =IF(B13="","",TRUNC(G13+(G13*$G$2),2)) -> 1068.67 | I13: =F13*G13 -> 4304.65 | J13: =F13*H13 -> 5343.35 | K13: =J13/$H$161 -> 0.0052920292
A14: 2.6 | B14: 93210 | C14: SINAPI | D14: EXECUÇÃO DE REFEITÓRIO EM CANTEIRO DE OBRA EM CHAPA DE MADEIRA COMPENSADA, NÃO INCLUSO MOBILIÁRIO E EQUIPAMENTOS. AF_02/2016 | E14: m² | F14: =IF(B14="","",MC!D14) -> 5,0 | G14: 624.27 | H14: =IF(B14="","",TRUNC(G14+(G14*$G$2),2)) -> 774.9 | I14: =F14*G14 -> 3121.35 | J14: =F14*H14 -> 3874.5 | K14: =J14/$H$161 -> 0.0038372869
A15: 2.7 | B15: 99059 | C15: SINAPI | D15: LOCAÇÃO CONVENCIONAL DE OBRA, UTILIZANDO GABARITO DE TÁBUAS CORRIDAS PONTALETADAS A CADA 2,00M - 2 UTILIZAÇÕES. AF_03/2024 | E15: M | F15: =IF(B15="","",MC!D15) -> 201,6 | G15: 64.32 | H15: =IF(B15="","",TRUNC(G15+(G15*$G$2),2)) -> 79.84 | I15: =F15*G15 -> 12966.912 | J15: =F15*H15 -> 16095.744 | K15: =J15/$H$161 -> 0.015941151
A16: 3 | D16: DEMOLIÇÃO E MOVIMENTAÇÃO DE TERRA | F16: =IF(B16="","",MC!D16) | H16: =IF(B16="","",TRUNC(G16+(G16*$G$2),2)) | I16: =I17+I22 -> 104566.13 | J16: =J17+J22 -> 129762.02 | K16: =J16/$H$161 -> 0.12851571
A17: 3.1 | D17: CALÇADAS | F17: =IF(B17="","",MC!D17) | H17: =IF(B17="","",TRUNC(G17+(G17*$G$2),2)) | I17: =SUM(I18:I21) -> 84168.788 | J17: =SUM(J18:J21) -> 104451.69 | K17: =J17/$H$161 -> 0.10344847
A18: 3.1.1 | B18: 104790 | C18: SINAPI | D18: DEMOLIÇÃO DE PISO DE CONCRETO SIMPLES, DE FORMA MECANIZADA COM MARTELETE, SEM REAPROVEITAMENTO. AF_09/2023 | E18: m³ | F18: =IF(B18="","",MC!D18) -> 154.7805 | G18: 112.67 | H18: =IF(B18="","",TRUNC(G18+(G18*$G$2),2)) -> 139.85 | I18: =F18*G18 -> 17439.119 | J18: =F18*H18 -> 21646.053 | K18: =J18/$H$161 -> 0.021438151
A19: 3.1.2 | B19: Composição Própria 017 | C19: Próprio | D19: RETIRADA DE GRADIL E ALAMBRADO | E19: M² | F19: =IF(B19="","",MC!D19) -> 624,4 | G19: 35.88 | H19: =IF(B19="","",TRUNC(G19+(G19*$G$2),2)) -> 44.53 | I19: =F19*G19 -> 22403.472 | J19: =F19*H19 -> 27804.532 | K19: =J19/$H$161 -> 0.02753748
A20: 3.1.3 | B20: 0401001126 | C20: AGESUL | D20: ATERRO MANUAL EM CAMADAS DE 20 CM, UMIDECIDAS E FORTEMENTE APILOADAS, COM AQUISICAO DE TERRA | E20: m³ | F20: =IF(B20="","",MC!D20) -> 311.01 | G20: 132.59 | H20: =IF(B20="","",TRUNC(G20+(G20*$G$2),2)) -> 164.58 | I20: =F20*G20 -> 41236.816 | J20: =F20*H20 -> 51186.026 | K20: =J20/$H$161 -> 0.050694404
A21: 3.1.4 | B21: 100577 | C21: SINAPI | D21: REGULARIZAÇÃO E COMPACTAÇÃO DE SUBLEITO DE SOLO PREDOMINANTEMENTE ARENOSO, PARA OBRAS DE CONSTRUÇÃO DE PAVIMENTOS. AF_09/2024 | E21: m² | F21: =IF(B21="","",MC!D21) -> 2073.41 | G21: 1.49 | H21: =IF(B21="","",TRUNC(G21+(G21*$G$2),2)) -> 1.84 | I21: =F21*G21 -> 3089.3809 | J21: =F21*H21 -> 3815.0744 | K21: =J21/$H$161 -> 0.0037784321
A22: 3.2 | D22: RUA | F22: =IF(B22="","",MC!D22) | H22: =IF(B22="","",TRUNC(G22+(G22*$G$2),2)) | I22: =SUM(I23:I25) -> 20397.345 | J22: =SUM(J23:J25) -> 25310.336 | K22: =J22/$H$161 -> 0.02506724
A23: 3.2.1 | B23: 97636 | C23: SINAPI | D23: DEMOLIÇÃO PARCIAL DE PAVIMENTO ASFÁLTICO, DE FORMA MECANIZADA, SEM REAPROVEITAMENTO. AF_09/2023 | E23: m² | F23: =IF(B23="","",MC!D23) -> 467,17 | G23: 22.54 | H23: =IF(B23="","",TRUNC(G23+(G23*$G$2),2)) -> 27.97 | I23: =F23*G23 -> 10530.012 | J23: =F23*H23 -> 13066.745 | K23: =J23/$H$161 -> 0.012941244
A24: 3.2.2 | B24: 0401001126 | C24: AGESUL | D24: ATERRO MANUAL EM CAMADAS DE 20 CM, UMIDECIDAS E FORTEMENTE APILOADAS, COM AQUISICAO DE TERRA | E24: m³ | F24: =IF(B24="","",MC!D24) -> 69,17 | G24: 132.59 | H24: =IF(B24="","",TRUNC(G24+(G24*$G$2),2)) -> 164.58 | I24: =F24*G24 -> 9171.2503 | J24: =F24*H24 -> 11383.999 | K24: =J24/$H$161 -> 0.01127466
A25: 3.2.3 | B25: 100577 | C25: SINAPI | D25: REGULARIZAÇÃO E COMPACTAÇÃO DE SUBLEITO DE SOLO PREDOMINANTEMENTE ARENOSO, PARA OBRAS DE CONSTRUÇÃO DE PAVIMENTOS. AF_09/2024 | E25: m² | F25: =IF(B25="","",MC!D25) -> 467,17 | G25: 1.49 | H25: =IF(B25="","",TRUNC(G25+(G25*$G$2),2)) -> 1.84 | I25: =F25*G25 -> 696.0833 | J25: =F25*H25 -> 859.5928 | K25: =J25/$H$161 -> 0.00085133674
A26: 4 | D26: INFRAESTRUTURA | F26: =IF(B26="","",MC!D26) | H26: =IF(B26="","",TRUNC(G26+(G26*$G$2),2)) | I26: =I27+I30 -> 0 | J26: =J27+J30 -> 0 | K26: =J26/$H$161 -> 0
A27: 4.1 | D27: ESTACA TRAVADA | F27: =IF(B27="","",MC!D27) | H27: =IF(B27="","",TRUNC(G27+(G27*$G$2),2)) | I27: =SUM(I28:I29) -> 0 | J27: =SUM(J28:J29) -> 0 | K27: =J27/$H$161 -> 0
A28: 4.1.1 | B28: 100657 | C28: SINAPI | D28: ESTACA PRÉ-MOLDADA DE CONCRETO SEÇÃO QUADRADA, CAPACIDADE DE 50 TONELADAS, INCLUSO EMENDA (EXCLUSIVE MOBILIZAÇÃO E DESMOBILIZAÇÃO). AF_12/2019 | E28: M | F28: =IF(B28="","",MC!D28) -> 0 | G28: 158.94 | H28: =IF(B28="","",TRUNC(G28+(G28*$G$2),2)) -> 197.29 | I28: =F28*G28 -> 0 | J28: =F28*H28 -> 0 | K28: =J28/$H$161 -> 0
A29: 4.1.2 | B29: 95601 | C29: SINAPI | D29: ARRASAMENTO MECANICO DE ESTACA DE CONCRETO ARMADO, DIAMETROS DE ATÉ 40 CM. AF_05/2021 | E29: UN | F29: =IF(B29="","",MC!D29) -> 0 | G29: 9.13 | H29: =IF(B29="","",TRUNC(G29+(G29*$G$2),2)) -> 11.33 | I29: =F29*G29 -> 0 | J29: =F29*H29 -> 0 | K29: =J29/$H$161 -> 0
A30: 4.2 | D30: BLOCO DE COROAMENTO | F30: =IF(B30="","",MC!D30) | H30: =IF(B30="","",TRUNC(G30+(G30*$G$2),2)) | I30: =SUM(I31:I39) -> 0 | J30: =SUM(J31:J39) -> 0 | K30: =J30/$H$161 -> 0
A31: 4.2.1 | B31: 96523 | C31: SINAPI | D31: ESCAVAÇÃO MANUAL PARA BLOCO DE COROAMENTO OU SAPATA (INCLUINDO ESCAVAÇÃO PARA COLOCAÇÃO DE FÔRMAS). AF_01/2024 | E31: m³ | F31: =IF(B31="","",MC!D31) -> 0 | G31: 98.67 | H31: =IF(B31="","",TRUNC(G31+(G31*$G$2),2)) -> 122.47 | I31: =F31*G31 -> 0 | J31: =F31*H31 -> 0 | K31: =J31/$H$161 -> 0
A32: 4.2.2 | B32: 96534 | C32: SINAPI | D32: FABRICAÇÃO, MONTAGEM E DESMONTAGEM DE FÔRMA PARA BLOCO DE COROAMENTO, EM MADEIRA SERRADA, E=25 MM, 4 UTILIZAÇÕES. AF_01/2024 | E32: m² | F32: =IF(B32="","",MC!D32) -> 0 | G32: 73.08 | H32: =IF(B32="","",TRUNC(G32+(G32*$G$2),2)) -> 90.71 | I32: =F32*G32 -> 0 | J32: =F32*H32 -> 0 | K32: =J32/$H$161 -> 0
A33: 4.2.3 | B33: 96617 | C33: SINAPI | D33: LASTRO DE CONCRETO MAGRO, APLICADO EM BLOCOS DE COROAMENTO OU SAPATAS, ESPESSURA DE 3 CM. AF_01/2024 | E33: m² | F33: =IF(B33="","",MC!D33) -> 0 | G33: 19.74 | H33: =IF(B33="","",TRUNC(G33+(G33*$G$2),2)) -> 24.5 | I33: =F33*G33 -> 0 | J33: =F33*H33 -> 0 | K33: =J33/$H$161 -> 0
A34: 4.2.4 | B34: 96555 | C34: SINAPI | D34: CONCRETAGEM DE BLOCO DE COROAMENTO OU VIGA BALDRAME, FCK 30 MPA, COM USO DE JERICA - LANÇAMENTO, ADENSAMENTO E ACABAMENTO. AF_01/2024 | E34: m³ | F34: =IF(B34="","",MC!D34) -> 0 | G34: 744.63 | H34: =IF(B34="","",TRUNC(G34+(G34*$G$2),2)) -> 924.3 | I34: =F34*G34 -> 0 | J34: =F34*H34 -> 0 | K34: =J34/$H$161 -> 0
A35: 4.2.5 | B35: 92805 | C35: SINAPI | D35: CORTE E DOBRA DE AÇO CA-50, DIÂMETRO DE 16,0 MM. AF_06/2022 | E35: KG | F35: =IF(B35="","",MC!D35) -> 0 | G35: 7.76 | H35: =IF(B35="","",TRUNC(G35+(G35*$G$2),2)) -> 9.63 | I35: =F35*G35 -> 0 | J35: =F35*H35 -> 0 | K35: =J35/$H$161 -> 0
A36: 4.2.6 | B36: 92804 | C36: SINAPI | D36: CORTE E DOBRA DE AÇO CA-50, DIÂMETRO DE 12,5 MM. AF_06/2022 | E36: KG | F36: =IF(B36="","",MC!D36) -> 0 | G36: 7.83 | H36: =IF(B36="","",TRUNC(G36+(G36*$G$2),2)) -> 9.71 | I36: =F36*G36 -> 0 | J36: =F36*H36 -> 0 | K36: =J36/$H$161 -> 0
A37: 4.2.7 | B37: 92803 | C37: SINAPI | D37: CORTE E DOBRA DE AÇO CA-50, DIÂMETRO DE 10,0 MM. AF_06/2022 | E37: KG | F37: =IF(B37="","",MC!D37) -> 0 | G37: 9.15 | H37: =IF(B37="","",TRUNC(G37+(G37*$G$2),2)) -> 11.35 | I37: =F37*G37 -> 0 | J37: =F37*H37 -> 0 | K37: =J37/$H$161 -> 0
A38: 4.2.8 | B38: 92800 | C38: SINAPI | D38: CORTE E DOBRA DE AÇO CA-60, DIÂMETRO DE 5,0 MM. AF_06/2022 | E38: KG | F38: =IF(B38="","",MC!D38) -> 0 | G38: 9.95 | H38: =IF(B38="","",TRUNC(G38+(G38*$G$2),2)) -> 12.35 | I38: =F38*G38 -> 0 | J38: =F38*H38 -> 0 | K38: =J38/$H$161 -> 0
A39: 4.2.9 | B39: 92799 | C39: SINAPI | D39: CORTE E DOBRA DE AÇO CA-60, DIÂMETRO DE 4,2 MM, UTILIZADO EM LAJE. AF_12/2015 | E39: KG | F39: =IF(B39="","",MC!D39) -> 0 | G39: 11.07 | H39: =IF(B39="","",TRUNC(G39+(G39*$G$2),2)) -> 13.74 | I39: =F39*G39 -> 0 | J39: =F39*H39 -> 0 | K39: =J39/$H$161 -> 0
A40: 5 | D40: SUPERESTRUTURA | F40: =IF(B40="","",MC!D40) | H40: =IF(B40="","",TRUNC(G40+(G40*$G$2),2)) | I40: =I41+I49+I56+I62 -> 0 | J40: =J41+J49+J56+J62 -> 0 | K40: =J40/$H$161 -> 0
...

Sheet OA
C1: Obra | E1: Bancos | G1: B.D.I. | I1: Encargos Sociais
C2: =OS!D2 -> REVITALIZAÇÃO LAGOA DO SAPO (ETAPA 1) | E2: SINAPI - 01/2026 - Mato Grosso do Sul ORSE - 12/2025 - Sergipe SEINFRA - 028 - Ceará CPOS/CDHU - 01/2026 - São Paulo FDE - 10/2025 - São Paulo AGESUL - 06/2025 - Mato Grosso do Sul | G2: 24,13% | I2: Não Desonerado: Horista: 113,34% Mensalista: 70,31%
A3: Planilha Orçamentária Analítica
A4: 1 | D4: ADMINISTRAÇÃO LOCAL | J4: 104092.8
A5: 1.1 | B5: Código | C5: Banco | D5: Descrição | E5: Tipo | G5: Und | H5: Quant. | I5: Valor Unit | J5: Total
A6: Composição | B6: 90780 | C6: SINAPI | D6: MESTRE DE OBRAS COM ENCARGOS COMPLEMENTARES | E6: Livro SINAPI: Cálculos e Parâmetros | G6: H | H6: 1 | I6: 44.28 | J6: 44.28
A7: Composição Auxiliar | B7: 95405 | C7: SINAPI | D7: CURSO DE CAPACITAÇÃO PARA MESTRE DE OBRAS (ENCARGOS COMPLEMENTARES) - HORISTA | E7: Livro SINAPI: Cálculos e Parâmetros | G7: H | H7: 1 | I7: 0.79 | J7: 0.79
A8: Insumo | B8: 00004069 | C8: SINAPI | D8: MESTRE DE OBRAS | E8: Mão de Obra | G8: H | H8: 1 | I8: 37.57 | J8: 37.57
A9: Insumo | B9: 00037370 | C9: SINAPI | D9: ALIMENTACAO - HORISTA (COLETADO CAIXA) | E9: Outros | G9: H | H9: 1 | I9: 1.73 | J9: 1.73
A10: Insumo | B10: 00037371 | C10: SINAPI | D10: TRANSPORTE - HORISTA (COLETADO CAIXA) | E10: Serviços | G10: H | H10: 1 | I10: 1.04 | J10: 1.04
A11: Insumo | B11: 00037372 | C11: SINAPI | D11: EXAMES - HORISTA (COLETADO CAIXA) | E11: Outros | G11: H | H11: 1 | I11: 1.67 | J11: 1.67
A12: Insumo | B12: 00037373 | C12: SINAPI | D12: SEGURO - HORISTA (COLETADO CAIXA) | E12: Taxas | G12: H | H12: 1 | I12: 0.11 | J12: 0.11
A13: Insumo | B13: 00043463 | C13: SINAPI | D13: FERRAMENTAS - FAMILIA ENCARREGADO GERAL - HORISTA (ENCARGOS COMPLEMENTARES - COLETADO CAIXA) | E13: Equipamento | G13: H | H13: 1 | I13: 0.13 | J13: 0.13
A14: Insumo | B14: 00043487 | C14: SINAPI | D14: EPI - FAMILIA ENCARREGADO GERAL - HORISTA (ENCARGOS COMPLEMENTARES - COLETADO CAIXA) | E14: Equipamento | G14: H | H14: 1 | I14: 1.24 | J14: 1.24
E15: MO sem LS => | F15: 17.98 | G15: LS => | H15: 20.38 | I15: MO com LS => | J15: 38.36
E16: Valor do BDI => | F16: 10.684764 | H16: Valor com BDI => | J16: 54.96
G17: Quant. => | H17: 360 | I17: Preço Total => | J17: 19785.6
A19: 1.2 | B19: Código | C19: Banco | D19: Descrição | E19: Tipo | G19: Und | H19: Quant. | I19: Valor Unit | J19: Total
A20: Composição | B20: 90777 | C20: SINAPI | D20: ENGENHEIRO CIVIL DE OBRA JUNIOR COM ENCARGOS COMPLEMENTARES | E20: Livro SINAPI: Cálculos e Parâmetros | G20: H | H20: 1 | I20: 141.5 | J20: 141.5
A21: Composição Auxiliar | B21: 95402 | C21: SINAPI | D21: CURSO DE CAPACITAÇÃO PARA ENGENHEIRO CIVIL DE OBRA JÚNIOR (ENCARGOS COMPLEMENTARES) - HORISTA | E21: Livro SINAPI: Cálculos e Parâmetros | G21: H | H21: 1 | I21: 1.99 | J21: 1.99
A22: Insumo | B22: 00002706 | C22: SINAPI | D22: ENGENHEIRO CIVIL DE OBRA JUNIOR | E22: Mão de Obra | G22: H | H22: 1 | I22: 135.09 | J22: 135.09
A23: Insumo | B23: 00037370 | C23: SINAPI | D23: ALIMENTACAO - HORISTA (COLETADO CAIXA) | E23: Outros | G23: H | H23: 1 | I23: 1.73 | J23: 1.73
A24: Insumo | B24: 00037372 | C24: SINAPI | D24: EXAMES - HORISTA (COLETADO CAIXA) | E24: Outros | G24: H | H24: 1 | I24: 1.67 | J24: 1.67
A25: Insumo | B25: 00037373 | C25: SINAPI | D25: SEGURO - HORISTA (COLETADO CAIXA) | E25: Taxas | G25: H | H25: 1 | I25: 0.11 | J25: 0.11
A26: Insumo | B26: 00043462 | C26: SINAPI | D26: FERRAMENTAS - FAMILIA ENGENHEIRO CIVIL - HORISTA (ENCARGOS COMPLEMENTARES - COLETADO CAIXA) | E26: Equipamento | G26: H | H26: 1 | I26: 0.02 | J26: 0.02
A27: Insumo | B27: 00043486 | C27: SINAPI | D27: EPI - FAMILIA ENGENHEIRO CIVIL - HORISTA (ENCARGOS COMPLEMENTARES - COLETADO CAIXA) | E27: Equipamento | G27: H | H27: 1 | I27: 0.89 | J27: 0.89
E28: MO sem LS => | F28: 64.25 | G28: LS => | H28: 72.83 | I28: MO com LS => | J28: 137.08
E29: Valor do BDI => | F29: 34.14395 | H29: Valor com BDI => | J29: 175.64
G30: Quant. => | H30: 480 | I30: Preço Total => | J30: 84307.2
A32: 2 | D32: SERVIÇOS PRELIMINARES | J32: 53238.27
A33: 2.1 | B33: Código | C33: Banco | D33: Descrição | E33: Tipo | G33: Und | H33: Quant. | I33: Valor Unit | J33: Total
A34: Composição | B34: 0101001101 | C34: AGESUL | D34: PLACA DE OBRA EM CHAPA GALVANIZADA N. 22, ADESIVADA | E34: CANTEIRO DE OBRAS | G34: m² | H34: 1 | I34: 508.06 | J34: 508.06
A35: Insumo | B35: 4003 | C35: AGESUL | D35: CARPINTEIRO DE FORMAS COM ENCARGOS COMPLEMENTARES - SINAPI -88262 | E35: Mão de Obra | G35: H | H35: 1 | I35: 25.35 | J35: 25.35
A36: Insumo | B36: 6409 | C36: AGESUL | D36: CONCRETO MAGRO PARA LASTRO, TRACO 1:4,5:4,5 (EM MASSA SECA DE CIMENTO/ AREIA MEDIA/ BRITA 1) - PREPARO MECANICO COM BETONEIRA 400 L. AF_05/2021 - SINAPI -94962 | E36: Material | G36: m³ | H36: 0.01 | I36: 384.78 | J36: 3.84
A37: Insumo | B37: 1136 | C37: AGESUL | D37: PLACA DE OBRA (PARA CONSTRUCAO CIVIL) EM CHAPA GALVANIZADA *N. 22*, ADESIVADA, DE *2,4 X 1,2* M (SEM POSTES PARA FIXACAO) - SINAPI -00004813 | E37: Material | G37: m² | H37: 1 | I37: 400 | J37: 400
A38: Insumo | B38: 7438 | C38: AGESUL | D38: PONTALETE *7,5 X 7,5* CM EM PINUS, MISTA OU EQUIVALENTE DA REGIAO - BRUTA - SINAPI -00004491 | E38: Material | G38: M | H38: 4 | I38: 6.93 | J38: 27.72
A39: Insumo | B39: 1045 | C39: AGESUL | D39: PREGO DE ACO POLIDO COM CABECA 18 X 30 (2 3/4 X 10) - SINAPI -00005075 | E39: Material | G39: KG | H39: 0.11 | I39: 20.24 | J39: 2.22
A40: Insumo | B40: 1197 | C40: AGESUL | D40: SARRAFO NAO APARELHADO *2,5 X 7* CM, EM MACARANDUBA/MASSARANDUBA, ANGELIM, PEROBA-ROSA OU EQUIVALENTE DA REGIAO - BRUTA - SINAPI -00004417 | E40: Material | G40: M | H40: 1 | I40: 7.45 | J40: 7.45
A41: Insumo | B41: 4014 | C41: AGESUL | D41: SERVENTE COM ENCARGOS COMPLEMENTARES - SINAPI -88316 | E41: Mão de Obra | G41: H | H41: 2 | I41: 20.74 | J41: 41.48
E42: MO sem LS => | F42: 31.33 | G42: LS => | H42: 35.5 | I42: MO com LS => | J42: 66.83
...

Sheet OR
D1: Obra | E1: Bancos | F1: B.D.I. | I1: Encargos Sociais
D2: =OS!D2 -> REVITALIZAÇÃO LAGOA DO SAPO (ETAPA 1) | E2: SINAPI - 01/2026 - Mato Grosso do Sul ORSE - 12/2025 - Sergipe SEINFRA - 028 - Ceará CPOS/CDHU - 01/2026 - São Paulo FDE - 10/2025 - São Paulo AGESUL - 06/2025 - Mato Grosso do Sul | F2: 24,13% | I2: Não Desonerado: Horista: 113,34% Mensalista: 70,31%
A3: Planilha Orçamentária Resumida
A4: Item | D4: Descrição | I4: Total | J4: Total com BDI | K4: Peso (%)
A5: 1 | D5: ADMINISTRAÇÃO LOCAL | I5: =SUMIF(OS!$A$5:$A$157,OR!A5,OS!$I$5:$I$157) -> 22293.6 | J5: =SUMIF(OS!$A$5:$A$157,OR!A5,OS!$J$5:JI$157) -> 27672 | K5: =J5/$I$24 -> 0.027406221
A6: 2 | D6: SERVIÇOS PRELIMINARES | I6: =SUMIF(OS!$A$5:$A$157,OR!A6,OS!$I$5:$I$157) -> 42892.943 | J6: =SUMIF(OS!$A$5:$A$157,OR!A6,OS!$J$5:JI$157) -> 53237.833 | K6: =J6/$I$24 -> 0.052726504
A7: 3 | D7: DEMOLIÇÃO E MOVIMENTAÇÃO DE TERRA | I7: =SUMIF(OS!$A$5:$A$157,OR!A7,OS!$I$5:$I$157) -> 104566.13 | J7: =SUMIF(OS!$A$5:$A$157,OR!A7,OS!$J$5:JI$157) -> 129762.02 | K7: =J7/$I$24 -> 0.12851571
A8: 4 | D8: INFRAESTRUTURA | I8: =SUMIF(OS!$A$5:$A$157,OR!A8,OS!$I$5:$I$157) -> 0 | J8: =SUMIF(OS!$A$5:$A$157,OR!A8,OS!$J$5:JI$157) -> 0 | K8: =J8/$I$24 -> 0
A9: 5 | D9: SUPERESTRUTURA | I9: =SUMIF(OS!$A$5:$A$157,OR!A9,OS!$I$5:$I$157) -> 0 | J9: =SUMIF(OS!$A$5:$A$157,OR!A9,OS!$J$5:JI$157) -> 0 | K9: =J9/$I$24 -> 0
A10: 6 | D10: IMPERMEABILIZAÇÃO | I10: =SUMIF(OS!$A$5:$A$157,OR!A10,OS!$I$5:$I$157) -> 0 | J10: =SUMIF(OS!$A$5:$A$157,OR!A10,OS!$J$5:JI$157) -> 0 | K10: =J10/$I$24 -> 0
A11: 7 | D11: ALVENARIA | I11: =SUMIF(OS!$A$5:$A$157,OR!A11,OS!$I$5:$I$157) -> 17321.707 | J11: =SUMIF(OS!$A$5:$A$157,OR!A11,OS!$J$5:JI$157) -> 21501.209 | K11: =J11/$I$24 -> 0.021294698
A12: 8 | D12: COBERTURA DO DECK | I12: =SUMIF(OS!$A$5:$A$157,OR!A12,OS!$I$5:$I$157) -> 0 | J12: =SUMIF(OS!$A$5:$A$157,OR!A12,OS!$J$5:JI$157) -> 0 | K12: =J12/$I$24 -> 0
A13: 9 | D13: REVESTIMENTO ALVENARIA | I13: =SUMIF(OS!$A$5:$A$157,OR!A13,OS!$I$5:$I$157) -> 12107.52 | J13: =SUMIF(OS!$A$5:$A$157,OR!A13,OS!$J$5:JI$157) -> 15026.688 | K13: =J13/$I$24 -> 0.014882362
A14: 10 | D14: PAVIMENTAÇÃO | I14: =SUMIF(OS!$A$5:$A$157,OR!A14,OS!$I$5:$I$157) -> 389141.7 | J14: =SUMIF(OS!$A$5:$A$157,OR!A14,OS!$J$5:JI$157) -> 482984.6 | K14: =J14/$I$24 -> 0.47834572
A15: 11 | D15: PINTURA | I15: =SUMIF(OS!$A$5:$A$157,OR!A15,OS!$I$5:$I$157) -> 15849.984 | J15: =SUMIF(OS!$A$5:$A$157,OR!A15,OS!$J$5:JI$157) -> 19668.96 | K15: =J15/$I$24 -> 0.019480047
A16: 12 | D16: INSTALAÇÃO ELETRICA | I16: =SUMIF(OS!$A$5:$A$157,OR!A16,OS!$I$5:$I$157) -> 0 | J16: =SUMIF(OS!$A$5:$A$157,OR!A16,OS!$J$5:JI$157) -> 0 | K16: =J16/$I$24 -> 0
... A20: 16 | D20: SERVIÇOS FINAIS | I20: =SUMIF(OS!$A$5:$A$157,OR!A20,OS!$I$5:$I$157) -> 45593.928 | J20: =SUMIF(OS!$A$5:$A$157,OR!A20,OS!$J$5:JI$157) -> 56355.228 | K20: =J20/$I$24 -> 0.055813958
J21: =SUM(J5:J20) -> 1009697.8
G22: Total sem BDI | I22: =SUM(I5:I20) -> 813704.22
G23: Total do BDI | I23: =I24-I22 -> 195993.53
G24: Total Geral | I24: =SUM(J5:J20) -> 1009697.8
A26: _______________________________________________________________ GABRIEL JORGE DOS SANTOS BARBOSA ENGENHEIRO CIVIL CREA 8082/D-MS
A28: _______________________________________________________________ GERMINO DA ROZ SILVA PREFEITO MUNICIPAL

Sheet MC
B1: Obra
B2: =OS!D2 -> REVITALIZAÇÃO LAGOA DO SAPO (ETAPA 1) | K2: 2233245.6 | M2: 1100000 | N2: =M2/K2 -> 0.49255666
A3: Memória de Cálculo | G3: Revisão de quantitativo
A4: Item | B4: Descrição | C4: Und | D4: Quant. | E4: Memória de Cálculo | J4: 6
A5: 1 | B5: ADMINISTRAÇÃO LOCAL
A6: 1.1 | B6: MESTRE DE OBRAS COM ENCARGOS COMPLEMENTARES | C6: H | D6: 120 | E6: = Mestre de Obras - 1 hora ao dia x 20 dias ao mês x 6 meses de Obra | F6: ok | H6: =3*0.4 -> 1.2 | J6: =20*6 -> 120
A7: 1.2 | B7: ENGENHEIRO CIVIL DE OBRA JUNIOR COM ENCARGOS COMPLEMENTARES | C7: H | D7: 120 | E7: = Engenheiro Civil - 1 hora ao dia x 20 dias ao mês x 6 meses de Obra | F7: ok
A8: 2 | B8: SERVIÇOS PRELIMINARES
A9: 2.1 | B9: PLACA DE OBRA EM CHAPA GALVANIZADA N. 22, ADESIVADA | C9: m² | D9: 4,5 | E9: = Dimensões 4,50m² | F9: ok
A10: 2.2 | B10: DESMATAMENTO E LIMPEZA MECANIZADA DE TERRENO COM ARVORES ATE Ø 15CM, UTILIZANDO TRATOR DE ESTEIRAS | C10: m² | D10: 1.765,02 | E10: = Dimensões:  Área do terreno sem pavimentação: Grama Quadra Lagoa - 1.225,38m² Grama Quadra Prefeitura - 539,64m² Total = 1225,38m² + 539,64m² = 1.765,02m² | F10: ok
A11: 2.3 | B11: EXECUÇÃO DE ESCRITÓRIO EM CANTEIRO DE OBRA EM CHAPA DE MADEIRA COMPENSADA, NÃO INCLUSO MOBILIÁRIO E EQUIPAMENTOS. AF_02/2016 | C11: m² | D11: 5,0 | E11: = Dimensões Escritório: 5,00m² | F11: ok
A12: 2.4 | B12: CORTE RASO E RECORTE DE ÁRVORE COM DIÂMETRO DE TRONCO MAIOR OU IGUAL A 0,60 M. AF_03/2024 | C12: UN | D12: 34,0 | E12: = Árvores que serão retiradas - 34unidades | F12: ok
A13: 2.5 | B13: EXECUÇÃO DE ALMOXARIFADO EM CANTEIRO DE OBRA EM CHAPA DE MADEIRA COMPENSADA, INCLUSO PRATELEIRAS. AF_02/2016 | C13: m² | D13: 5,0 | E13: = Dimensões Almoxarifado: 5,00m² | F13: ok
A14: 2.6 | B14: EXECUÇÃO DE REFEITÓRIO EM CANTEIRO DE OBRA EM CHAPA DE MADEIRA COMPENSADA, NÃO INCLUSO MOBILIÁRIO E EQUIPAMENTOS. AF_02/2016 | C14: m² | D14: 5,0 | E14: = Dimensões Refeitório: 5,00m² | F14: ok
A15: 2.7 | B15: LOCAÇÃO CONVENCIONAL DE OBRA, UTILIZANDO GABARITO DE TÁBUAS CORRIDAS PONTALETADAS A CADA 2,00M - 2 UTILIZAÇÕES. AF_03/2024 | C15: M | D15: 201,6 | E15: =  Área intervenção reforma: PERGOLADO – 1,00m + 5,00m + 1,00m + 1,00m + 7,80m + 1,00m + 1,00m + 5,00m + 1,00m + 1,00m + 7,80m + 1,00m = 33,60m x 06 unidades = 201,60m | F15: ok
A16: 3 | B16: DEMOLIÇÃO E MOVIMENTAÇÃO DE TERRA
A17: 3.1 | B17: CALÇADAS
A18: 3.1.1 | B18: DEMOLIÇÃO DE PISO DE CONCRETO SIMPLES, DE FORMA MECANIZADA COM MARTELETE, SEM REAPROVEITAMENTO. AF_09/2023 | C18: m³ | D18: =1031.87*0.15 -> 154.7805 | E18: =  Área calçada a ser demolida - 1.031,87m² x 0,15cm de altura | F18: ok
A19: 3.1.2 | B19: RETIRADA DE GRADIL E ALAMBRADO | C19: M² | D19: 624,4 | E19: =  Dimensões alambrado cerca á remover: 416,40m x 1,50m de altura = 624,60m² (ETAPA 2) | F19: ok
A20: 3.1.3 | B20: ATERRO MANUAL EM CAMADAS DE 20 CM, UMIDECIDAS E FORTEMENTE APILOADAS, COM AQUISICAO DE TERRA | C20: m³ | D20: =154.78+156.23 -> 311.01 | E20: =  Área calçada a construir: Quadra prefeitura -1.031,87 m² x 0,15cm de altura = 154,78m³ Quadra Lagoa do sapo - 1.041,54m² x 0,15cm de altura = 156,23m³ TOTAL = 154,78m³ + 156,23m³ | F20: ok
A21: 3.1.4 | B21: REGULARIZAÇÃO E COMPACTAÇÃO DE SUBLEITO DE SOLO PREDOMINANTEMENTE ARENOSO, PARA OBRAS DE CONSTRUÇÃO DE PAVIMENTOS. AF_09/2024 | C21: m² | D21: =1031.87+1041.54 -> 2073.41 | E21: =  Área calçada a construir: Quadra prefeitura - 1.031,87m² Quadra Lagoa do sapo - 1.041,54m² TOTAL = 1.031,87m² + 1.041,54m² | F21: ok
A22: 3.2 | B22: RUA
A23: 3.2.1 | B23: DEMOLIÇÃO PARCIAL DE PAVIMENTO ASFÁLTICO, DE FORMA MECANIZADA, SEM REAPROVEITAMENTO. AF_09/2023 | C23: m² | D23: 467,17 | E23: =  Área asfalto á demolir - 461,17m² | F23: ok
A24: 3.2.2 | B24: ATERRO MANUAL EM CAMADAS DE 20 CM, UMIDECIDAS E FORTEMENTE APILOADAS, COM AQUISICAO DE TERRA | C24: m³ | D24: 69,17 | E24: =  Área asfalto á demolir - 461,17m² x 015m de altura = 69,17m³ | F24: ok
A25: 3.2.3 | B25: REGULARIZAÇÃO E COMPACTAÇÃO DE SUBLEITO DE SOLO PREDOMINANTEMENTE ARENOSO, PARA OBRAS DE CONSTRUÇÃO DE PAVIMENTOS. AF_09/2024 | C25: m² | D25: 467,17 | E25: =  Área asfalto á demolir - 461,17m² | F25: ok
A26: 4 | B26: INFRAESTRUTURA
A27: 4.1 | B27: ESTACA TRAVADA
A28: 4.1.1 | B28: ESTACA PRÉ-MOLDADA DE CONCRETO SEÇÃO QUADRADA, CAPACIDADE DE 50 TONELADAS, INCLUSO EMENDA (EXCLUSIVE MOBILIZAÇÃO E DESMOBILIZAÇÃO). AF_12/2019 | C28: M | D28: 0 | E28: = =  Comprimento total das estacas quadrada 16x16cm x 5,00m de comprimento (93 unidades) = 465,00m  Comprimento total escavado: 465,00m (ETAPA 2) | F28: ok
A29: 4.1.2 | B29: ARRASAMENTO MECANICO DE ESTACA DE CONCRETO ARMADO, DIAMETROS DE ATÉ 40 CM. AF_05/2021 | C29: UN | D29: 0 | E29: = =  Estacas quadrada 16x16cm x 5,00m de comprimento = 93 unidades (ETAPA 2) | F29: ok
A30: 4.2 | B30: BLOCO DE COROAMENTO
A31: 4.2.1 | B31: ESCAVAÇÃO MANUAL PARA BLOCO DE COROAMENTO OU SAPATA (INCLUINDO ESCAVAÇÃO PARA COLOCAÇÃO DE FÔRMAS). AF_01/2024 | C31: m³ | D31: 0 | E31: =  Bloco de Coroamento: Volume de Concreto = 10,34m³X1,1(10%)=11,37m³.  Volume de escavação total: 11,37m³.v (ETAPA 2) | F31: ok
A32: 4.2.2 | B32: FABRICAÇÃO, MONTAGEM E DESMONTAGEM DE FÔRMA PARA BLOCO DE COROAMENTO, EM MADEIRA SERRADA, E=25 MM, 4 UTILIZAÇÕES. AF_01/2024 | C32: m² | D32: 0 | E32: =  Bloco de Coroamento: Forma lateral = 100,19m²  Área total: 100,19m² (ETAPA 2) | F32: ok
A33: 4.2.3 | B33: LASTRO DE CONCRETO MAGRO, APLICADO EM BLOCOS DE COROAMENTO OU SAPATAS, ESPESSURA DE 3 CM. AF_01/2024 | C33: m² | D33: 0 | E33: =  Bloco de Coroamento: Lastro de concreto = 21,60m²  Área total: 21,60m² (ETAPA 2) | F33: ok
A34: 4.2.4 | B34: CONCRETAGEM DE BLOCO DE COROAMENTO OU VIGA BALDRAME, FCK 30 MPA, COM USO DE JERICA - LANÇAMENTO, ADENSAMENTO E ACABAMENTO. AF_01/2024 | C34: m³ | D34: 0 | E34: =  Bloco de Coroamento: Volume de Concreto = 10,34m³.  Volume de concreto total: 10,34m³. (ETAPA 2) | F34: ok
A35: 4.2.5 | B35: CORTE E DOBRA DE AÇO CA-50, DIÂMETRO DE 16,0 MM. AF_06/2022 | C35: KG | D35: 0 | E35: =  Aço CA 50 16,00mm: 323,10Kg  Total de aço CA 50 16,00mm: 323,10Kg (ETAPA 2) | F35: ok
A36: 4.2.6 | B36: CORTE E DOBRA DE AÇO CA-50, DIÂMETRO DE 12,5 MM. AF_06/2022 | C36: KG | D36: 0 | E36: =  Aço CA 50 12,50mm: 221,00Kg  Total de aço CA 50 12,50mm: 221,00Kg (ETAPA 2) | F36: ok
A37: 4.2.7 | B37: CORTE E DOBRA DE AÇO CA-50, DIÂMETRO DE 10,0 MM. AF_06/2022 | C37: KG | D37: 0 | E37: =  Aço CA 50 10,00mm: 1.170,30Kg  Total de aço CA 50 10,00mm: 1.170,30Kg (ETAPA 2) | F37: ok
A38: 4.2.8 | B38: CORTE E DOBRA DE AÇO CA-60, DIÂMETRO DE 5,0 MM. AF_06/2022 | C38: KG | D38: 0 | E38: =  Aço CA 60 5,00mm: 47,60Kg  Total de aço CA 60 5,00mm: 47,60Kg (ETAPA 2) | F38: ok
A39: 4.2.9 | B39: CORTE E DOBRA DE AÇO CA-60, DIÂMETRO DE 4,2 MM, UTILIZADO EM LAJE. AF_12/2015 | C39: KG | D39: 0 | E39: =  Aço CA 60 4,20mm: 32,20Kg  Total de aço CA 60 4,20mm: 32,20Kg (ETAPA 2) | F39: ok
A40: 5 | B40: SUPERESTRUTURA
...

Sheet CF
B1: Obra | D1: Bancos | E1: B.D.I. | G1: Encargos Sociais
B2: =OS!D2 -> REVITALIZAÇÃO LAGOA DO SAPO (ETAPA 1) | D2: SINAPI - 01/2026 - Mato Grosso do Sul ORSE - 12/2025 - Sergipe SEINFRA - 028 - Ceará CPOS/CDHU - 01/2026 - São Paulo FDE - 10/2025 - São Paulo AGESUL - 06/2025 - Mato Grosso do Sul | E2: 24,13% | G2: Não Desonerado: Horista: 113,34% Mensalista: 70,31%
A3: Cronograma Físico e Financeiro
A4: Item | B4: Descrição | D4: Total Por Etapa | E4: 30 DIAS | F4: 60 DIAS | G4: 90 DIAS | H4: 120 DIAS | I4: 150 DIAS | J4: 180 DIAS
A5: 1 | B5: ADMINISTRAÇÃO LOCAL | C5: % | D5: =IF(C5="%",VLOOKUP(A5,OR!$A$5:$K$20,11,FALSE)*100,VLOOKUP(A4,OR!$A$5:$K$20,10,FALSE)) -> 2.7406221 | E5: 1
C6: R$ | D6: =IF(C6="%",VLOOKUP(A6,OR!$A$5:$K$20,11,FALSE)*100,VLOOKUP(A5,OR!$A$5:$K$20,10,FALSE)) -> 27672 | E6: =IF(E5="","",$D6*E5) -> 27672 | F6: =IF(F5="","",$D6*F5) | G6: =IF(G5="","",$D6*G5) | H6: =IF(H5="","",$D6*H5) | I6: =IF(I5="","",$D6*I5) | J6: =IF(J5="","",$D6*J5)
A7: 2 | B7: SERVIÇOS PRELIMINARES | C7: % | D7: =IF(C7="%",VLOOKUP(A7,OR!$A$5:$K$20,11,FALSE)*100,VLOOKUP(A6,OR!$A$5:$K$20,10,FALSE)) -> 5.2726504 | E7: 1
C8: R$ | D8: =IF(C8="%",VLOOKUP(A8,OR!$A$5:$K$20,11,FALSE)*100,VLOOKUP(A7,OR!$A$5:$K$20,10,FALSE)) -> 53237.833 | E8: =IF(E7="","",$D8*E7) -> 53237.833 | F8: =IF(F7="","",$D8*F7) | G8: =IF(G7="","",$D8*G7) | H8: =IF(H7="","",$D8*H7) | I8: =IF(I7="","",$D8*I7) | J8: =IF(J7="","",$D8*J7)
A9: 3 | B9: DEMOLIÇÃO E MOVIMENTAÇÃO DE TERRA | C9: % | D9: =IF(C9="%",VLOOKUP(A9,OR!$A$5:$K$20,11,FALSE)*100,VLOOKUP(A8,OR!$A$5:$K$20,10,FALSE)) -> 12.851571 | E9: 0.5 | F9: 0.5
C10: R$ | D10: =IF(C10="%",VLOOKUP(A10,OR!$A$5:$K$20,11,FALSE)*100,VLOOKUP(A9,OR!$A$5:$K$20,10,FALSE)) -> 129762.02 | E10: =IF(E9="","",$D10*E9) -> 64881.011 | F10: =IF(F9="","",$D10*F9) -> 64881.011 | G10: =IF(G9="","",$D10*G9) | H10: =IF(H9="","",$D10*H9) | I10: =IF(I9="","",$D10*I9) | J10: =IF(J9="","",$D10*J9)
A11: 4 | B11: INFRAESTRUTURA | C11: % | D11: =IF(C11="%",VLOOKUP(A11,OR!$A$5:$K$20,11,FALSE)*100,VLOOKUP(A10,OR!$A$5:$K$20,10,FALSE)) -> 0
C12: R$ | D12: =IF(C12="%",VLOOKUP(A12,OR!$A$5:$K$20,11,FALSE)*100,VLOOKUP(A11,OR!$A$5:$K$20,10,FALSE)) -> 0 | E12: =IF(E11="","",$D12*E11) | F12: =IF(F11="","",$D12*F11) | G12: =IF(G11="","",$D12*G11) | H12: =IF(H11="","",$D12*H11) | I12: =IF(I11="","",$D12*I11) | J12: =IF(J11="","",$D12*J11)
A13: 5 | B13: SUPERESTRUTURA | C13: % | D13: =IF(C13="%",VLOOKUP(A13,OR!$A$5:$K$20,11,FALSE)*100,VLOOKUP(A12,OR!$A$5:$K$20,10,FALSE)) -> 0
C14: R$ | D14: =IF(C14="%",VLOOKUP(A14,OR!$A$5:$K$20,11,FALSE)*100,VLOOKUP(A13,OR!$A$5:$K$20,10,FALSE)) -> 0 | E14: =IF(E13="","",$D14*E13) | F14: =IF(F13="","",$D14*F13) | G14: =IF(G13="","",$D14*G13) | H14: =IF(H13="","",$D14*H13) | I14: =IF(I13="","",$D14*I13) | J14: =IF(J13="","",$D14*J13)
A15: 6 | B15: IMPERMEABILIZAÇÃO | C15: % | D15: =IF(C15="%",VLOOKUP(A15,OR!$A$5:$K$20,11,FALSE)*100,VLOOKUP(A14,OR!$A$5:$K$20,10,FALSE)) -> 0
C16: R$ | D16: =IF(C16="%",VLOOKUP(A16,OR!$A$5:$K$20,11,FALSE)*100,VLOOKUP(A15,OR!$A$5:$K$20,10,FALSE)) -> 0 | E16: =IF(E15="","",$D16*E15) | F16: =IF(F15="","",$D16*F15) | G16: =IF(G15="","",$D16*G15) | H16: =IF(H15="","",$D16*H15) | I16: =IF(I15="","",$D16*I15) | J16: =IF(J15="","",$D16*J15)
A17: 7 | B17: ALVENARIA | C17: % | D17: =IF(C17="%",VLOOKUP(A17,OR!$A$5:$K$20,11,FALSE)*100,VLOOKUP(A16,OR!$A$5:$K$20,10,FALSE)) -> 2.1294698 | F17: 1
C18: R$ | D18: =IF(C18="%",VLOOKUP(A18,OR!$A$5:$K$20,11,FALSE)*100,VLOOKUP(A17,OR!$A$5:$K$20,10,FALSE)) -> 21501.209 | E18: =IF(E17="","",$D18*E17) | F18: =IF(F17="","",$D18*F17) -> 21501.209 | G18: =IF(G17="","",$D18*G17) | H18: =IF(H17="","",$D18*H17) | I18: =IF(I17="","",$D18*I17) | J18: =IF(J17="","",$D18*J17)
A19: 8 | B19: COBERTURA DO DECK | C19: % | D19: =IF(C19="%",VLOOKUP(A19,OR!$A$5:$K$20,11,FALSE)*100,VLOOKUP(A18,OR!$A$5:$K$20,10,FALSE)) -> 0
C20: R$ | D20: =IF(C20="%",VLOOKUP(A20,OR!$A$5:$K$20,11,FALSE)*100,VLOOKUP(A19,OR!$A$5:$K$20,10,FALSE)) -> 0 | E20: =IF(E19="","",$D20*E19) | F20: =IF(F19="","",$D20*F19) | G20: =IF(G19="","",$D20*G19) | H20: =IF(H19="","",$D20*H19) | I20: =IF(I19="","",$D20*I19) | J20: =IF(J19="","",$D20*J19)
A21: 9 | B21: REVESTIMENTO ALVENARIA | C21: % | D21: =IF(C21="%",VLOOKUP(A21,OR!$A$5:$K$20,11,FALSE)*100,VLOOKUP(A20,OR!$A$5:$K$20,10,FALSE)) -> 1.4882362 | G21: 1
C22: R$ | D22: =IF(C22="%",VLOOKUP(A22,OR!$A$5:$K$20,11,FALSE)*100,VLOOKUP(A21,OR!$A$5:$K$20,10,FALSE)) -> 15026.688 | E22: =IF(E21="","",$D22*E21) | F22: =IF(F21="","",$D22*F21) | G22: =IF(G21="","",$D22*G21) -> 15026.688 | H22: =IF(H21="","",$D22*H21) | I22: =IF(I21="","",$D22*I21) | J22: =IF(J21="","",$D22*J21)
A23: 10 | B23: PAVIMENTAÇÃO | C23: % | D23: =IF(C23="%",VLOOKUP(A23,OR!$A$5:$K$20,11,FALSE)*100,VLOOKUP(A22,OR!$A$5:$K$20,10,FALSE)) -> 47.834572 | H23: 0.5 | I23: 0.5
C24: R$ | D24: =IF(C24="%",VLOOKUP(A24,OR!$A$5:$K$20,11,FALSE)*100,VLOOKUP(A23,OR!$A$5:$K$20,10,FALSE)) -> 482984.6 | E24: =IF(E23="","",$D24*E23) | F24: =IF(F23="","",$D24*F23) | G24: =IF(G23="","",$D24*G23) | H24: =IF(H23="","",$D24*H23) -> 241492.3 | I24: =IF(I23="","",$D24*I23) -> 241492.3 | J24: =IF(J23="","",$D24*J23)
A25: 11 | B25: PINTURA | C25: % | D25: =IF(C25="%",VLOOKUP(A25,OR!$A$5:$K$20,11,FALSE)*100,VLOOKUP(A24,OR!$A$5:$K$20,10,FALSE)) -> 1.9480047 | J25: 1
C26: R$ | D26: =IF(C26="%",VLOOKUP(A26,OR!$A$5:$K$20,11,FALSE)*100,VLOOKUP(A25,OR!$A$5:$K$20,10,FALSE)) -> 19668.96 | E26: =IF(E25="","",$D26*E25) | F26: =IF(F25="","",$D26*F25) | G26: =IF(G25="","",$D26*G25) | H26: =IF(H25="","",$D26*H25) | I26: =IF(I25="","",$D26*I25) | J26: =IF(J25="","",$D26*J25) -> 19668.96
A27: 12 | B27: INSTALAÇÃO ELETRICA | C27: % | D27: =IF(C27="%",VLOOKUP(A27,OR!$A$5:$K$20,11,FALSE)*100,VLOOKUP(A26,OR!$A$5:$K$20,10,FALSE)) -> 0
C28: R$ | D28: =IF(C28="%",VLOOKUP(A28,OR!$A$5:$K$20,11,FALSE)*100,VLOOKUP(A27,OR!$A$5:$K$20,10,FALSE)) -> 0 | E28: =IF(E27="","",$D28*E27) | F28: =IF(F27="","",$D28*F27) | G28: =IF(G27="","",$D28*G27) | H28: =IF(H27="","",$D28*H27) | I28: =IF(I27="","",$D28*I27) | J28: =IF(J27="","",$D28*J27)
A29: 13 | B29: INSTALAÇÃO HIDRAULICA | C29: % | D29: =IF(C29="%",VLOOKUP(A29,OR!$A$5:$K$20,11,FALSE)*100,VLOOKUP(A28,OR!$A$5:$K$20,10,FALSE)) -> 0.85980513 | G29: 1
C30: R$ | D30: =IF(C30="%",VLOOKUP(A30,OR!$A$5:$K$20,11,FALSE)*100,VLOOKUP(A29,OR!$A$5:$K$20,10,FALSE)) -> 8681.4331 | E30: =IF(E29="","",$D30*E29) | F30: =IF(F29="","",$D30*F29) | G30: =IF(G29="","",$D30*G29) -> 8681.4331 | H30: =IF(H29="","",$D30*H29) | I30: =IF(I29="","",$D30*I29) | J30: =IF(J29="","",$D30*J29)
A31: 14 | B31: EQUIPAMENTOS | C31: % | D31: =IF(C31="%",VLOOKUP(A31,OR!$A$5:$K$20,11,FALSE)*100,VLOOKUP(A30,OR!$A$5:$K$20,10,FALSE)) -> 16.982719 | J31: 1
C32: R$ | D32: =IF(C32="%",VLOOKUP(A32,OR!$A$5:$K$20,11,FALSE)*100,VLOOKUP(A31,OR!$A$5:$K$20,10,FALSE)) -> 171474.13 | E32: =IF(E31="","",$D32*E31) | F32: =IF(F31="","",$D32*F31) | G32: =IF(G31="","",$D32*G31) | H32: =IF(H31="","",$D32*H31) | I32: =IF(I31="","",$D32*I31) | J32: =IF(J31="","",$D32*J31) -> 171474.13
A33: 15 | B33: PAISAGISMO | C33: % | D33: =IF(C33="%",VLOOKUP(A33,OR!$A$5:$K$20,11,FALSE)*100,VLOOKUP(A32,OR!$A$5:$K$20,10,FALSE)) -> 2.3109546 | J33: 1
C34: R$ | D34: =IF(C34="%",VLOOKUP(A34,OR!$A$5:$K$20,11,FALSE)*100,VLOOKUP(A33,OR!$A$5:$K$20,10,FALSE)) -> 23333.656 | E34: =IF(E33="","",$D34*E33) | F34: =IF(F33="","",$D34*F33) | G34: =IF(G33="","",$D34*G33) | H34: =IF(H33="","",$D34*H33) | I34: =IF(I33="","",$D34*I33) | J34: =IF(J33="","",$D34*J33) -> 23333.656
A35: 16 | B35: SERVIÇOS FINAIS | C35: % | D35: =IF(C35="%",VLOOKUP(A35,OR!$A$5:$K$20,11,FALSE)*100,VLOOKUP(A34,OR!$A$5:$K$20,10,FALSE)) -> 5.5813958 | J35: 1
C36: R$ | D36: =IF(C36="%",VLOOKUP(A36,OR!$A$5:$K$20,11,FALSE)*100,VLOOKUP(A35,OR!$A$5:$K$20,10,FALSE)) -> 56355.228 | E36: =IF(E35="","",$D36*E35) | F36: =IF(F35="","",$D36*F35) | G36: =IF(G35="","",$D36*G35) | H36: =IF(H35="","",$D36*H35) | I36: =IF(I35="","",$D36*I35) | J36: =IF(J35="","",$D36*J35) -> 56355.228
A37: Porcentagem | E37: =E38/OR!$I$24 -> 0.14439058 | F37: =F38/OR!$I$24 -> 0.085552552 | G37: =G38/OR!$I$24 -> 0.023480414 | H37: =H38/OR!$I$24 -> 0.23917286 | I37: =I38/OR!$I$24 -> 0.23917286 | J37: =J38/OR!$I$24 -> 0.26823074
A38: Custo | E38: =SUMIF($C$5:$C$36,"R$",E$5:E$36) -> 145790.84 | F38: =SUMIF($C$5:$C$36,"R$",F$5:F$36) -> 86382.22 | G38: =SUMIF($C$5:$C$36,"R$",G$5:G$36) -> 23708.121 | H38: =SUMIF($C$5:$C$36,"R$",H$5:H$36) -> 241492.3 | I38: =SUMIF($C$5:$C$36,"R$",I$5:I$36) -> 241492.3 | J38: =SUMIF($C$5:$C$36,"R$",J$5:J$36) -> 270831.97
A39: Porcentagem Acumulado | E39: =E37 -> 0.14439058 | F39: =E39+F37 -> 0.22994313 | G39: =F39+G37 -> 0.25342354 | H39: =G39+H37 -> 0.4925964 | I39: =H39+I37 -> 0.73176926 | J39: =I39+J37 -> 1
A40: Custo Acumulado | E40: =E38 -> 145790.84 | F40: =E40+F38 -> 232173.06 | G40: =F40+G38 -> 255881.18 | H40: =G40+H38 -> 497373.48 | I40: =H40+I38 -> 738865.78 | J40: =I40+J38 -> 1009697.8
...

Sheet SR
D1: Obra | E1: Bancos | G1: B.D.I. | J1: Encargos Sociais
D2: REVITALIZAÇÃO LAGOA DO SAPO (ETAPA 1) | E2: SINAPI - 01/2026 - Mato Grosso do Sul ORSE - 12/2025 - Sergipe SEINFRA - 028 - Ceará CPOS/CDHU - 01/2026 - São Paulo FDE - 10/2025 - São Paulo AGESUL - 06/2025 - Mato Grosso do Sul | G2: =BDI!D20 -> 0.2413 | J2: Não Desonerado: Horista: 113,34% Mensalista: 70,31%
A3: Serviços Relevantes
A4: Item | B4: Código | C4: Banco | D4: Descrição | E4: Und | F4: Quant. | G4: Valor Unit | H4: Valor Unit com BDI | I4: Total | J4: Total com BDI | K4: Peso (%)
A5: 1 | D5: ADMINISTRAÇÃO LOCAL | F5: =IF(B5="","",MC!D5) | H5: =IF(B5="","",TRUNC(G5+(G5*$G$2),2)) | I5: =SUM(I6:I7) -> 22293.6 | J5: =SUM(J6:J7) -> 27672 | K5: =J5/$H$161 -> 0.027406221
A6: 1.1 | B6: 90780 | C6: SINAPI | D6: MESTRE DE OBRAS COM ENCARGOS COMPLEMENTARES | E6: H | F6: =IF(B6="","",MC!D6) -> 120 | G6: 44.28 | H6: =IF(B6="","",TRUNC(G6+(G6*$G$2),2)) -> 54.96 | I6: =F6*G6 -> 5313.6 | J6: =F6*H6 -> 6595.2 | K6: =J6/$H$161 -> 0.0065318557
A7: 1.2 | B7: 90777 | C7: SINAPI | D7: ENGENHEIRO CIVIL DE OBRA JUNIOR COM ENCARGOS COMPLEMENTARES | E7: H | F7: =IF(B7="","",MC!D7) -> 120 | G7: 141.5 | H7: =IF(B7="","",TRUNC(G7+(G7*$G$2),2)) -> 175.64 | I7: =F7*G7 -> 16980 | J7: =F7*H7 -> 21076.8 | K7: =J7/$H$161 -> 0.020874365
A8: 2 | D8: SERVIÇOS PRELIMINARES | F8: =IF(B8="","",MC!D8) | H8: =IF(B8="","",TRUNC(G8+(G8*$G$2),2)) | I8: =SUM(I9:I15) -> 42892.943 | J8: =SUM(J9:J15) -> 53237.833 | K8: =J8/$H$161 -> 0.052726504
A9: 2.1 | B9: 0101001101 | C9: AGESUL | D9: PLACA DE OBRA EM CHAPA GALVANIZADA N. 22, ADESIVADA | E9: m² | F9: =IF(B9="","",MC!D9) -> 4,5 | G9: 508.06 | H9: =IF(B9="","",TRUNC(G9+(G9*$G$2),2)) -> 630.65 | I9: =F9*G9 -> 2286.27 | J9: =F9*H9 -> 2837.925 | K9: =J9/$H$161 -> 0.0028106678
A10: 2.2 | B10: 73672 | C10: SINAPI | D10: DESMATAMENTO E LIMPEZA MECANIZADA DE TERRENO COM ARVORES ATE Ø 15CM, UTILIZANDO TRATOR DE ESTEIRAS | E10: m² | F10: =IF(B10="","",MC!D10) -> 1.765,02 | G10: 0.55 | H10: =IF(B10="","",TRUNC(G10+(G10*$G$2),2)) -> 0.68 | I10: =F10*G10 -> 970.761 | J10: =F10*H10 -> 1200.2136 | K10: =J10/$H$161 -> 0.001188686
A11: 2.3 | B11: 93207 | C11: SINAPI | D11: EXECUÇÃO DE ESCRITÓRIO EM CANTEIRO DE OBRA EM CHAPA DE MADEIRA COMPENSADA, NÃO INCLUSO MOBILIÁRIO E EQUIPAMENTOS. AF_02/2016 | E11: m² | F11: =IF(B11="","",MC!D11) -> 5,0 | G11: 1068.42 | H11: =IF(B11="","",TRUNC(G11+(G11*$G$2),2)) -> 1326.22 | I11: =F11*G11 -> 5342.1 | J11: =F11*H11 -> 6631.1 | K11: =J11/$H$161 -> 0.0065674108
A12: 2.4 | B12: 98531 | C12: SINAPI | D12: CORTE RASO E RECORTE DE ÁRVORE COM DIÂMETRO DE TRONCO MAIOR OU IGUAL A 0,60 M. AF_03/2024 | E12: UN | F12: =IF(B12="","",MC!D12) -> 34,0 | G12: 408.85 | H12: =IF(B12="","",TRUNC(G12+(G12*$G$2),2)) -> 507.5 | I12: =F12*G12 -> 13900.9 | J12: =F12*H12 -> 17255 | K12: =J12/$H$161 -> 0.017089272
A13: 2.5 | B13: 93208 | C13: SINAPI | D13: EXECUÇÃO DE ALMOXARIFADO EM CANTEIRO DE OBRA EM CHAPA DE MADEIRA COMPENSADA, INCLUSO PRATELEIRAS. AF_02/2016 | E13: m² | F13: =IF(B13="","",MC!D13) -> 5,0 | G13: 860.93 | H13: =IF(B13="","",TRUNC(G13+(G13*$G$2),2)) -> 1068.67 | I13: =F13*G13 -> 4304.65 | J13: =F13*H13 -> 5343.35 | K13: =J13/$H$161 -> 0.0052920292
A14: 2.6 | B14: 93210 | C14: SINAPI | D14: EXECUÇÃO DE REFEITÓRIO EM CANTEIRO DE OBRA EM CHAPA DE MADEIRA COMPENSADA, NÃO INCLUSO MOBILIÁRIO E EQUIPAMENTOS. AF_02/2016 | E14: m² | F14: =IF(B14="","",MC!D14) -> 5,0 | G14: 624.27 | H14: =IF(B14="","",TRUNC(G14+(G14*$G$2),2)) -> 774.9 | I14: =F14*G14 -> 3121.35 | J14: =F14*H14 -> 3874.5 | K14: =J14/$H$161 -> 0.0038372869
A15: 2.7 | B15: 99059 | C15: SINAPI | D15: LOCAÇÃO CONVENCIONAL DE OBRA, UTILIZANDO GABARITO DE TÁBUAS CORRIDAS PONTALETADAS A CADA 2,00M - 2 UTILIZAÇÕES. AF_03/2024 | E15: M | F15: =IF(B15="","",MC!D15) -> 201,6 | G15: 64.32 | H15: =IF(B15="","",TRUNC(G15+(G15*$G$2),2)) -> 79.84 | I15: =F15*G15 -> 12966.912 | J15: =F15*H15 -> 16095.744 | K15: =J15/$H$161 -> 0.015941151
A16: 3 | D16: DEMOLIÇÃO E MOVIMENTAÇÃO DE TERRA | F16: =IF(B16="","",MC!D16) | H16: =IF(B16="","",TRUNC(G16+(G16*$G$2),2)) | I16: =I17+I22 -> 104566.13 | J16: =J17+J22 -> 129762.02 | K16: =J16/$H$161 -> 0.12851571
A17: 3.1 | D17: CALÇADAS | F17: =IF(B17="","",MC!D17) | H17: =IF(B17="","",TRUNC(G17+(G17*$G$2),2)) | I17: =SUM(I18:I21) -> 84168.788 | J17: =SUM(J18:J21) -> 104451.69 | K17: =J17/$H$161 -> 0.10344847
A18: 3.1.1 | B18: 104790 | C18: SINAPI | D18: DEMOLIÇÃO DE PISO DE CONCRETO SIMPLES, DE FORMA MECANIZADA COM MARTELETE, SEM REAPROVEITAMENTO. AF_09/2023 | E18: m³ | F18: =IF(B18="","",MC!D18) -> 154.7805 | G18: 112.67 | H18: =IF(B18="","",TRUNC(G18+(G18*$G$2),2)) -> 139.85 | I18: =F18*G18 -> 17439.119 | J18: =F18*H18 -> 21646.053 | K18: =J18/$H$161 -> 0.021438151
A19: 3.1.2 | B19: Composição Própria 017 | C19: Próprio | D19: RETIRADA DE GRADIL E ALAMBRADO | E19: M² | F19: =IF(B19="","",MC!D19) -> 624,4 | G19: 35.88 | H19: =IF(B19="","",TRUNC(G19+(G19*$G$2),2)) -> 44.53 | I19: =F19*G19 -> 22403.472 | J19: =F19*H19 -> 27804.532 | K19: =J19/$H$161 -> 0.02753748
A20: 3.1.3 | B20: 0401001126 | C20: AGESUL | D20: ATERRO MANUAL EM CAMADAS DE 20 CM, UMIDECIDAS E FORTEMENTE APILOADAS, COM AQUISICAO DE TERRA | E20: m³ | F20: =IF(B20="","",MC!D20) -> 311.01 | G20: 132.59 | H20: =IF(B20="","",TRUNC(G20+(G20*$G$2),2)) -> 164.58 | I20: =F20*G20 -> 41236.816 | J20: =F20*H20 -> 51186.026 | K20: =J20/$H$161 -> 0.050694404
A21: 3.1.4 | B21: 100577 | C21: SINAPI | D21: REGULARIZAÇÃO E COMPACTAÇÃO DE SUBLEITO DE SOLO PREDOMINANTEMENTE ARENOSO, PARA OBRAS DE CONSTRUÇÃO DE PAVIMENTOS. AF_09/2024 | E21: m² | F21: =IF(B21="","",MC!D21) -> 2073.41 | G21: 1.49 | H21: =IF(B21="","",TRUNC(G21+(G21*$G$2),2)) -> 1.84 | I21: =F21*G21 -> 3089.3809 | J21: =F21*H21 -> 3815.0744 | K21: =J21/$H$161 -> 0.0037784321
A22: 3.2 | D22: RUA | F22: =IF(B22="","",MC!D22) | H22: =IF(B22="","",TRUNC(G22+(G22*$G$2),2)) | I22: =SUM(I23:I25) -> 20397.345 | J22: =SUM(J23:J25) -> 25310.336 | K22: =J22/$H$161 -> 0.02506724
A23: 3.2.1 | B23: 97636 | C23: SINAPI | D23: DEMOLIÇÃO PARCIAL DE PAVIMENTO ASFÁLTICO, DE FORMA MECANIZADA, SEM REAPROVEITAMENTO. AF_09/2023 | E23: m² | F23: =IF(B23="","",MC!D23) -> 467,17 | G23: 22.54 | H23: =IF(B23="","",TRUNC(G23+(G23*$G$2),2)) -> 27.97 | I23: =F23*G23 -> 10530.012 | J23: =F23*H23 -> 13066.745 | K23: =J23/$H$161 -> 0.012941244
A24: 3.2.2 | B24: 0401001126 | C24: AGESUL | D24: ATERRO MANUAL EM CAMADAS DE 20 CM, UMIDECIDAS E FORTEMENTE APILOADAS, COM AQUISICAO DE TERRA | E24: m³ | F24: =IF(B24="","",MC!D24) -> 69,17 | G24: 132.59 | H24: =IF(B24="","",TRUNC(G24+(G24*$G$2),2)) -> 164.58 | I24: =F24*G24 -> 9171.2503 | J24: =F24*H24 -> 11383.999 | K24: =J24/$H$161 -> 0.01127466
A25: 3.2.3 | B25: 100577 | C25: SINAPI | D25: REGULARIZAÇÃO E COMPACTAÇÃO DE SUBLEITO DE SOLO PREDOMINANTEMENTE ARENOSO, PARA OBRAS DE CONSTRUÇÃO DE PAVIMENTOS. AF_09/2024 | E25: m² | F25: =IF(B25="","",MC!D25) -> 467,17 | G25: 1.49 | H25: =IF(B25="","",TRUNC(G25+(G25*$G$2),2)) -> 1.84 | I25: =F25*G25 -> 696.0833 | J25: =F25*H25 -> 859.5928 | K25: =J25/$H$161 -> 0.00085133674
A26: 4 | D26: INFRAESTRUTURA | F26: =IF(B26="","",MC!D26) | H26: =IF(B26="","",TRUNC(G26+(G26*$G$2),2)) | I26: =I27+I30 -> 0 | J26: =J27+J30 -> 0 | K26: =J26/$H$161 -> 0
A27: 4.1 | D27: ESTACA TRAVADA | F27: =IF(B27="","",MC!D27) | H27: =IF(B27="","",TRUNC(G27+(G27*$G$2),2)) | I27: =SUM(I28:I29) -> 0 | J27: =SUM(J28:J29) -> 0 | K27: =J27/$H$161 -> 0
A28: 4.1.1 | B28: 100657 | C28: SINAPI | D28: ESTACA PRÉ-MOLDADA DE CONCRETO SEÇÃO QUADRADA, CAPACIDADE DE 50 TONELADAS, INCLUSO EMENDA (EXCLUSIVE MOBILIZAÇÃO E DESMOBILIZAÇÃO). AF_12/2019 | E28: M | F28: =IF(B28="","",MC!D28) -> 0 | G28: 158.94 | H28: =IF(B28="","",TRUNC(G28+(G28*$G$2),2)) -> 197.29 | I28: =F28*G28 -> 0 | J28: =F28*H28 -> 0 | K28: =J28/$H$161 -> 0
A29: 4.1.2 | B29: 95601 | C29: SINAPI | D29: ARRASAMENTO MECANICO DE ESTACA DE CONCRETO ARMADO, DIAMETROS DE ATÉ 40 CM. AF_05/2021 | E29: UN | F29: =IF(B29="","",MC!D29) -> 0 | G29: 9.13 | H29: =IF(B29="","",TRUNC(G29+(G29*$G$2),2)) -> 11.33 | I29: =F29*G29 -> 0 | J29: =F29*H29 -> 0 | K29: =J29/$H$161 -> 0
A30: 4.2 | D30: BLOCO DE COROAMENTO | F30: =IF(B30="","",MC!D30) | H30: =IF(B30="","",TRUNC(G30+(G30*$G$2),2)) | I30: =SUM(I31:I39) -> 0 | J30: =SUM(J31:J39) -> 0 | K30: =J30/$H$161 -> 0
A31: 4.2.1 | B31: 96523 | C31: SINAPI | D31: ESCAVAÇÃO MANUAL PARA BLOCO DE COROAMENTO OU SAPATA (INCLUINDO ESCAVAÇÃO PARA COLOCAÇÃO DE FÔRMAS). AF_01/2024 | E31: m³ | F31: =IF(B31="","",MC!D31) -> 0 | G31: 98.67 | H31: =IF(B31="","",TRUNC(G31+(G31*$G$2),2)) -> 122.47 | I31: =F31*G31 -> 0 | J31: =F31*H31 -> 0 | K31: =J31/$H$161 -> 0
A32: 4.2.2 | B32: 96534 | C32: SINAPI | D32: FABRICAÇÃO, MONTAGEM E DESMONTAGEM DE FÔRMA PARA BLOCO DE COROAMENTO, EM MADEIRA SERRADA, E=25 MM, 4 UTILIZAÇÕES. AF_01/2024 | E32: m² | F32: =IF(B32="","",MC!D32) -> 0 | G32: 73.08 | H32: =IF(B32="","",TRUNC(G32+(G32*$G$2),2)) -> 90.71 | I32: =F32*G32 -> 0 | J32: =F32*H32 -> 0 | K32: =J32/$H$161 -> 0
A33: 4.2.3 | B33: 96617 | C33: SINAPI | D33: LASTRO DE CONCRETO MAGRO, APLICADO EM BLOCOS DE COROAMENTO OU SAPATAS, ESPESSURA DE 3 CM. AF_01/2024 | E33: m² | F33: =IF(B33="","",MC!D33) -> 0 | G33: 19.74 | H33: =IF(B33="","",TRUNC(G33+(G33*$G$2),2)) -> 24.5 | I33: =F33*G33 -> 0 | J33: =F33*H33 -> 0 | K33: =J33/$H$161 -> 0
A34: 4.2.4 | B34: 96555 | C34: SINAPI | D34: CONCRETAGEM DE BLOCO DE COROAMENTO OU VIGA BALDRAME, FCK 30 MPA, COM USO DE JERICA - LANÇAMENTO, ADENSAMENTO E ACABAMENTO. AF_01/2024 | E34: m³ | F34: =IF(B34="","",MC!D34) -> 0 | G34: 744.63 | H34: =IF(B34="","",TRUNC(G34+(G34*$G$2),2)) -> 924.3 | I34: =F34*G34 -> 0 | J34: =F34*H34 -> 0 | K34: =J34/$H$161 -> 0
A35: 4.2.5 | B35: 92805 | C35: SINAPI | D35: CORTE E DOBRA DE AÇO CA-50, DIÂMETRO DE 16,0 MM. AF_06/2022 | E35: KG | F35: =IF(B35="","",MC!D35) -> 0 | G35: 7.76 | H35: =IF(B35="","",TRUNC(G35+(G35*$G$2),2)) -> 9.63 | I35: =F35*G35 -> 0 | J35: =F35*H35 -> 0 | K35: =J35/$H$161 -> 0
A36: 4.2.6 | B36: 92804 | C36: SINAPI | D36: CORTE E DOBRA DE AÇO CA-50, DIÂMETRO DE 12,5 MM. AF_06/2022 | E36: KG | F36: =IF(B36="","",MC!D36) -> 0 | G36: 7.83 | H36: =IF(B36="","",TRUNC(G36+(G36*$G$2),2)) -> 9.71 | I36: =F36*G36 -> 0 | J36: =F36*H36 -> 0 | K36: =J36/$H$161 -> 0
A37: 4.2.7 | B37: 92803 | C37: SINAPI | D37: CORTE E DOBRA DE AÇO CA-50, DIÂMETRO DE 10,0 MM. AF_06/2022 | E37: KG | F37: =IF(B37="","",MC!D37) -> 0 | G37: 9.15 | H37: =IF(B37="","",TRUNC(G37+(G37*$G$2),2)) -> 11.35 | I37: =F37*G37 -> 0 | J37: =F37*H37 -> 0 | K37: =J37/$H$161 -> 0
A38: 4.2.8 | B38: 92800 | C38: SINAPI | D38: CORTE E DOBRA DE AÇO CA-60, DIÂMETRO DE 5,0 MM. AF_06/2022 | E38: KG | F38: =IF(B38="","",MC!D38) -> 0 | G38: 9.95 | H38: =IF(B38="","",TRUNC(G38+(G38*$G$2),2)) -> 12.35 | I38: =F38*G38 -> 0 | J38: =F38*H38 -> 0 | K38: =J38/$H$161 -> 0
A39: 4.2.9 | B39: 92799 | C39: SINAPI | D39: CORTE E DOBRA DE AÇO CA-60, DIÂMETRO DE 4,2 MM, UTILIZADO EM LAJE. AF_12/2015 | E39: KG | F39: =IF(B39="","",MC!D39) -> 0 | G39: 11.07 | H39: =IF(B39="","",TRUNC(G39+(G39*$G$2),2)) -> 13.74 | I39: =F39*G39 -> 0 | J39: =F39*H39 -> 0 | K39: =J39/$H$161 -> 0
A40: 5 | D40: SUPERESTRUTURA | F40: =IF(B40="","",MC!D40) | H40: =IF(B40="","",TRUNC(G40+(G40*$G$2),2)) | I40: =I41+I49+I56+I62 -> 0 | J40: =J41+J49+J56+J62 -> 0 | K40: =J40/$H$161 -> 0
...

Sheet BDI
A1: PREFEITURA MUNICIPAL DE BATAYPORÃ | R1: MIN | S1: MED | T1: MAX
A2: SECRETARIA MUNICIPAL DE OBRAS E INFRAESTRUTURA | N2: Construção e Reforma de Edifícios | O2: AC | P2: =CONCATENATE(N2,"-",O2) -> Construção e Reforma de Edifícios-AC | R2: 0.03 | S2: 0.04 | T2: 0.055
A3: QUADRO DE COMPOSIÇÃO DE BDI 1 | N3: =N2 -> Construção e Reforma de Edifícios | O3: SG | P3: =CONCATENATE(N3,"-",O3) -> Construção e Reforma de Edifícios-SG | R3: 0.008 | S3: 0.008 | T3: 0.01
A4: OBRA | B4: =OS!D2 -> REVITALIZAÇÃO LAGOA DO SAPO (ETAPA 1) | N4: =N3 -> Construção e Reforma de Edifícios | O4: R | P4: =CONCATENATE(N4,"-",O4) -> Construção e Reforma de Edifícios-R | R4: 0.0097 | S4: 0.0127 | T4: 0.0127
A5: ENDEREÇO | B5: ='[1]PO D-ND'!B5 -> Rua Iguassu | E5: BAIRRO | F5: VILA MARIA GONÇALVES | G5: MUNICIPIO | H5: BATAYPORÃ/MS | N5: =N4 -> Construção e Reforma de Edifícios | O5: DF | P5: =CONCATENATE(N5,"-",O5) -> Construção e Reforma de Edifícios-DF | R5: 0.0059 | S5: 0.0123 | T5: 0.0139
N6: =N5 -> Construção e Reforma de Edifícios | O6: L | P6: =CONCATENATE(N6,"-",O6) -> Construção e Reforma de Edifícios-L | R6: 0.0616 | S6: 0.074 | T6: 0.0896
A7: TIPO DE OBRA | B7: Construção de Praças Urbanas, Rodovias, Ferrovias e recapeamento e pavimentação de vias urbanas | G7: DESONERAÇÃO | H7: Não | N7: =N6 -> Construção e Reforma de Edifícios | O7: BDI PAD | P7: =CONCATENATE(N7,"-",O7) -> Construção e Reforma de Edifícios-BDI PAD | R7: 0.2034 | S7: 0.2212 | T7: 0.25
A8: Conforme legislação tributária municipal, definir estimativa de percentual da base de cálculo para o ISS: | H8: 1 | N8: Construção de Praças Urbanas, Rodovias, Ferrovias e recapeamento e pavimentação de vias urbanas | O8: AC | P8: =CONCATENATE(N8,"-",O8) -> Construção de Praças Urbanas, Rodovias, Ferrovias e recapeamento e pavimentação de vias urbanas-AC | R8: 0.038 | S8: 0.0401 | T8: 0.0467
A9: Sobre a base de cálculo, definir a respectiva alíquota do ISS (entre 2% e 5%): | H9: 0.03 | N9: Construção de Praças Urbanas, Rodovias, Ferrovias e recapeamento e pavimentação de vias urbanas | O9: SG | P9: =CONCATENATE(N9,"-",O9) -> Construção de Praças Urbanas, Rodovias, Ferrovias e recapeamento e pavimentação de vias urbanas-SG | R9: 0.0032 | S9: 0.004 | T9: 0.0074
N10: Construção de Praças Urbanas, Rodovias, Ferrovias e recapeamento e pavimentação de vias urbanas | O10: R | P10: =CONCATENATE(N10,"-",O10) -> Construção de Praças Urbanas, Rodovias, Ferrovias e recapeamento e pavimentação de vias urbanas-R | R10: 0.005 | S10: 0.0056 | T10: 0.0097
A11: ITENS | C11: SIGLAS | D11: % ADOTADO | E11: Situação | F11: 1º Quartil | G11: Médio | H11: 3º Quartil | J11: =IF(L21,"Para BDI fora do intervalo estatístico, deve ser apresentado Relatório Técnico Circunstanciado justificando a adoção do percentual de cada parcela do BDI.","") | N11: Construção de Praças Urbanas, Rodovias, Ferrovias e recapeamento e pavimentação de vias urbanas | O11: DF | P11: =CONCATENATE(N11,"-",O11) -> Construção de Praças Urbanas, Rodovias, Ferrovias e recapeamento e pavimentação de vias urbanas-DF | R11: 0.0102 | S11: 0.0111 | T11: 0.0121
A12: =IF($B$7=$N$59,"Encargos Sociais incidentes sobre a mão de obra","Administração Central") -> Administração Central | C12: =IF($B$7=$N$59,"K1","AC") -> AC | D12: 0.04 | E12: =IF(AND(D12>=F12, D12<=H12), "OK", "Não OK") -> OK | F12: =VLOOKUP(CONCATENATE(B$7,"-",C12),$P$2:$T$49,3,FALSE) -> 0.038 | G12: =VLOOKUP(CONCATENATE(B$7,"-",C12),$P$2:$T$49,4,FALSE) -> 0.0401 | H12: =VLOOKUP(CONCATENATE(B$7,"-",C12),$P$2:$T$49,5,FALSE) -> 0.0467 | N12: Construção de Praças Urbanas, Rodovias, Ferrovias e recapeamento e pavimentação de vias urbanas | O12: L | P12: =CONCATENATE(N12,"-",O12) -> Construção de Praças Urbanas, Rodovias, Ferrovias e recapeamento e pavimentação de vias urbanas-L | R12: 0.0664 | S12: 0.073 | T12: 0.0869
A13: =IF($B$7=$N$59,"Administração Central da empresa ou consultoria - overhead","Seguro e Garantia") -> Seguro e Garantia | C13: =IF($B$7=$A$55,"K2","SG") -> SG | D13: 0.004 | E13: =IF(AND(D13>=F13, D13<=H13), "OK", "Não OK") -> OK | F13: =VLOOKUP(CONCATENATE(B$7,"-",C13),$P$2:$T$49,3,FALSE) -> 0.0032 | G13: =VLOOKUP(CONCATENATE(B$7,"-",C13),$P$2:$T$49,4,FALSE) -> 0.004 | H13: =VLOOKUP(CONCATENATE(B$7,"-",C13),$P$2:$T$49,5,FALSE) -> 0.0074 | N13: Construção de Praças Urbanas, Rodovias, Ferrovias e recapeamento e pavimentação de vias urbanas | O13: BDI PAD | P13: =CONCATENATE(N13,"-",O13) -> Construção de Praças Urbanas, Rodovias, Ferrovias e recapeamento e pavimentação de vias urbanas-BDI PAD | R13: 0.196 | S13: 0.2097 | T13: 0.2423
A14: =IF($B$7=$N$59,"","Risco") -> Risco | C14: =IF($B$7=$N$59,"","R") -> R | D14: 0.0094 | E14: =IF(AND(D14>=F14, D14<=H14), "OK", "Não OK") -> OK | F14: =VLOOKUP(CONCATENATE(B$7,"-",C14),$P$2:$T$49,3,FALSE) -> 0.005 | G14: =VLOOKUP(CONCATENATE(B$7,"-",C14),$P$2:$T$49,4,FALSE) -> 0.0056 | H14: =VLOOKUP(CONCATENATE(B$7,"-",C14),$P$2:$T$49,5,FALSE) -> 0.0097 | N14: Construção de Redes de Abastecimento de Água, Coleta de Esgoto | O14: AC | P14: =CONCATENATE(N14,"-",O14) -> Construção de Redes de Abastecimento de Água, Coleta de Esgoto-AC | R14: 0.0343 | S14: 0.0493 | T14: 0.0671
A15: =IF($B$7=$N$59,"","Despesas Financeiras") -> Despesas Financeiras | C15: =IF($B$7=$N$59,"","DF") -> DF | D15: 0.0121 | E15: =IF(AND(D15>=F15, D15<=H15), "OK", "Não OK") -> OK | F15: =VLOOKUP(CONCATENATE(B$7,"-",C15),$P$2:$T$49,3,FALSE) -> 0.0102 | G15: =VLOOKUP(CONCATENATE(B$7,"-",C15),$P$2:$T$49,4,FALSE) -> 0.0111 | H15: =VLOOKUP(CONCATENATE(B$7,"-",C15),$P$2:$T$49,5,FALSE) -> 0.0121 | N15: =N14 -> Construção de Redes de Abastecimento de Água, Coleta de Esgoto | O15: SG | P15: =CONCATENATE(N15,"-",O15) -> Construção de Redes de Abastecimento de Água, Coleta de Esgoto-SG | R15: 0.0028 | S15: 0.0049 | T15: 0.0075
A16: =IF($B$7=$N$59,"Margem bruta da empresa de consultoria","Lucro") -> Lucro | C16: =IF($B$7=$N$59,"K3","L") -> L | D16: 0.0869 | E16: =IF(AND(D16>=F16, D16<=H16), "OK", "Não OK") -> OK | F16: =VLOOKUP(CONCATENATE(B$7,"-",C16),$P$2:$T$49,3,FALSE) -> 0.0664 | G16: =VLOOKUP(CONCATENATE(B$7,"-",C16),$P$2:$T$49,4,FALSE) -> 0.073 | H16: =VLOOKUP(CONCATENATE(B$7,"-",C16),$P$2:$T$49,5,FALSE) -> 0.0869
A17: Tributos (impostos COFINS 3% e PIS 0,65%) | C17: CP | D17: 0.0365 | E17: =IF(AND(D17>=F17, D17<=H17), "OK", "Não OK") -> OK | F17: 0.0365 | G17: 0.0365 | H17: 0.0365 | N17: =N15 -> Construção de Redes de Abastecimento de Água, Coleta de Esgoto | O17: R | P17: =CONCATENATE(N17,"-",O17) -> Construção de Redes de Abastecimento de Água, Coleta de Esgoto-R | R17: 0.01 | S17: 0.0139 | T17: 0.0174
A18: Tributos (ISS) | C18: ISS | D18: 0.03 | E18: =IF(AND(D18>=F18, D18<=H18), "OK", "Não OK") -> OK | F18: 0 | G18: 0.025 | H18: 0.05 | N18: =N17 -> Construção de Redes de Abastecimento de Água, Coleta de Esgoto | O18: DF | P18: =CONCATENATE(N18,"-",O18) -> Construção de Redes de Abastecimento de Água, Coleta de Esgoto-DF | R18: 0.0094 | S18: 0.0099 | T18: 0.0117
A19: Tributos (Contribuição Previdenciaria sobre Receita Bruta -0% ou 4,5% - Desoneração) | C19: CPRB | D19: 0.045 | E19: =IF(AND(D19>=F19, D19<=H19), "OK", "Não OK") -> OK | F19: 0 | G19: 0.045 | H19: 0.045 | N19: =N18 -> Construção de Redes de Abastecimento de Água, Coleta de Esgoto | O19: L | P19: =CONCATENATE(N19,"-",O19) -> Construção de Redes de Abastecimento de Água, Coleta de Esgoto-L | R19: 0.0674 | S19: 0.0804 | T19: 0.094
A20: BDI SEM desoneração (Formula Acordão TCU) | C20: BDI PAD | D20: =IF($B$7=$A$54,0,ROUND((((1+D12+D13+D14)*(1+D15)*(1+D16)/(1-(D17+D18)))-1),4)) -> 0.2413 | E20: =IF(OR($I$11=$A$59,$I$11=$A$58,AND(D20>=F20, D20<=H20)), "OK", "FORA DO INTERVALO") -> OK | F20: =IF($B$7=$N$58,0,VLOOKUP(CONCATENATE($B$7,"-",$C20),$P$2:$T$49,3,FALSE)) -> 0.196 | G20: =IF($B$7=$N$58,0,VLOOKUP(CONCATENATE($B$7,"-",$C20),$P$2:$T$49,4,FALSE)) -> 0.2097 | H20: =IF($B$7=$N$58,0,VLOOKUP(CONCATENATE($B$7,"-",$C20),$P$2:$T$49,5,FALSE)) -> 0.2423 | N20: =N19 -> Construção de Redes de Abastecimento de Água, Coleta de Esgoto | O20: BDI PAD | P20: =CONCATENATE(N20,"-",O20) -> Construção de Redes de Abastecimento de Água, Coleta de Esgoto-BDI PAD | R20: 0.2076 | S20: 0.2418 | T20: 0.2644
A21: BDI COM desoneração | C21: BDI DES | D21: =IF($B$7=$A$54,0,ROUND((((1+D12+D13+D14)*(1+D15)*(1+D16)/(1-(D17+D18+D19)))-1),4)) -> 0.3042 | E21: =IF(H7<>"Sim","",E20) | L21: =AND(COUNTA(D12:D17)=6,E20<>"ok",NOT(L23)) -> FALSE | M21: pedir anexo | N21: Construção e Manutenção de Estações e Redes de Distribuição de Energia Elétrica | O21: AC | P21: =CONCATENATE(N21,"-",O21) -> Construção e Manutenção de Estações e Redes de Distribuição de Energia Elétrica-AC | R21: 0.0529 | S21: 0.0592 | T21: 0.0793
N22: =N21 -> Construção e Manutenção de Estações e Redes de Distribuição de Energia Elétrica | O22: SG | P22: =CONCATENATE(N22,"-",O22) -> Construção e Manutenção de Estações e Redes de Distribuição de Energia Elétrica-SG | R22: 0.0025 | S22: 0.0051 | T22: 0.0056
A23: =IF(L23,"X","") | C23: Anexo: Relatório Técnico Circunstanciado justificando a adoção do percentual de cada parcela do BDI. | L23: FALSE | M23: anexo apresentado | N23: =N22 -> Construção e Manutenção de Estações e Redes de Distribuição de Energia Elétrica | O23: R | P23: =CONCATENATE(N23,"-",O23) -> Construção e Manutenção de Estações e Redes de Distribuição de Energia Elétrica-R | R23: 0.01 | S23: 0.0148 | T23: 0.0197
N24: =N23 -> Construção e Manutenção de Estações e Redes de Distribuição de Energia Elétrica | O24: DF | P24: =CONCATENATE(N24,"-",O24) -> Construção e Manutenção de Estações e Redes de Distribuição de Energia Elétrica-DF | R24: 0.0101 | S24: 0.0107 | T24: 0.0111
A25: Os valores de BDI foram calculados com o emprego da fórmula: | N25: =N24 -> Construção e Manutenção de Estações e Redes de Distribuição de Energia Elétrica | O25: L | P25: =CONCATENATE(N25,"-",O25) -> Construção e Manutenção de Estações e Redes de Distribuição de Energia Elétrica-L | R25: 0.08 | S25: 0.0831 | T25: 0.0951
B26: =IF(H7="Sim","BDI.DES =","BDI.PAD =") -> BDI.PAD = | C26: =IF($B$7=$N$59,"(1+K1+K2)*(1+K3)","(1+AC + S + R + G)*(1 + DF)*(1+L)") -> (1+AC + S + R + G)*(1 + DF)*(1+L) | G26: - 1 | N26: =N25 -> Construção e Manutenção de Estações e Redes de Distribuição de Energia Elétrica | O26: BDI PAD | P26: =CONCATENATE(N26,"-",O26) -> Construção e Manutenção de Estações e Redes de Distribuição de Energia Elétrica-BDI PAD | R26: 0.24 | S26: 0.2584 | T26: 0.2786
C27: =IF(H7="Sim","(1-CP-ISS-CRPB)","(1-CP-ISS)") -> (1-CP-ISS) | N27: Obras Portuárias, Marítimas e Fluviais | O27: AC | P27: =CONCATENATE(N27,"-",O27) -> Obras Portuárias, Marítimas e Fluviais-AC | R27: 0.04 | S27: 0.0552 | T27: 0.0785
N28: =N27 -> Obras Portuárias, Marítimas e Fluviais | O28: SG | P28: =CONCATENATE(N28,"-",O28) -> Obras Portuárias, Marítimas e Fluviais-SG | R28: 0.0081 | S28: 0.0122 | T28: 0.0199
A29: =CONCATENATE("Declaro para os devidos fins que, conforme legislação tributária municipal, a base de cálculo para ",B7,", é de ",H8*100,"%, com a respectiva alíquota de ",H9*100,"%.") -> Declaro para os devidos fins que, conforme legislação tributária municipal, a base de cálculo para Construção de Praças Urbanas, Rodovias, Ferrovias e recapeamento e pavimentação de vias urbanas, é de 100%, com a respectiva alíquota de 3%. | N29: =N28 -> Obras Portuárias, Marítimas e Fluviais | O29: R | P29: =CONCATENATE(N29,"-",O29) -> Obras Portuárias, Marítimas e Fluviais-R | R29: 0.0146 | S29: 0.0232 | T29: 0.0316
A31: =CONCATENATE("Declaro para os devidos fins que o regime de Contribuição Previdenciária sobre a Receita Bruta adotado para elaboração do orçamento foi ",IF(H7="Sim","COM","SEM")," Desoneração, e que esta é a alternativa mais adequada para a Administração Pública.") -> Declaro para os devidos fins que o regime de Contribuição Previdenciária sobre a Receita Bruta adotado para elaboração do orçamento foi SEM Desoneração, e que esta é a alternativa mais adequada para a Administração Pública.
N32: =N29 -> Obras Portuárias, Marítimas e Fluviais | O32: DF | P32: =CONCATENATE(N32,"-",O32) -> Obras Portuárias, Marítimas e Fluviais-DF | R32: 0.0094 | S32: 0.0102 | T32: 0.0133
A33: Batayporã/MS, 05 de março de 2026 | N33: =N32 -> Obras Portuárias, Marítimas e Fluviais | O33: L | P33: =CONCATENATE(N33,"-",O33) -> Obras Portuárias, Marítimas e Fluviais-L | R33: 0.0714 | S33: 0.084 | T33: 0.1043
N34: =N33 -> Obras Portuárias, Marítimas e Fluviais | O34: BDI PAD | P34: =CONCATENATE(N34,"-",O34) -> Obras Portuárias, Marítimas e Fluviais-BDI PAD | R34: 0.228 | S34: 0.2748 | T34: 0.3095
