Workbook
Name BDI: '[1]ANEXO VIII - BDI'!$F$15
Name BDI.TipoObra: BDI!$A$138:$A$146
Name DESONERACAO: IF(OR(Import.Desoneracao="DESONERADO",Import.Desoneracao="SIM"),"SIM","NÃO")
Name EMPRESAS: OFFSET(#REF!,1,0):OFFSET(#REF!,-1,0)
Name Import.Desoneracao: OFFSET([2]DADOS!$G$18,0,-1)
Name INDICES: OFFSET(#REF!,1,0):OFFSET(#REF!,-1,0)
Name NCOTACOES: 15
Name NEMPRESAS: 15

Sheet BANCO DE DADOS
A1: SINAPI | B1: 97141 | C1: ASSENTAMENTO DE TUBO DE FERRO FUNDIDO PARA REDE DE ÁGUA, DN 80 MM, JUNTA ELÁSTICA, INSTALADO EM LOCAL COM NÍVEL ALTO DE INTERFERÊNCIAS (NÃO INCLUI FORNECIMENTO). AF_11/2017 | D1: M | E1: 8.68
A2: SINAPI | B2: 97142 | C2: ASSENTAMENTO DE TUBO DE FERRO FUNDIDO PARA REDE DE ÁGUA, DN 100 MM, JUNTA ELÁSTICA, INSTALADO EM LOCAL COM NÍVEL ALTO DE INTERFERÊNCIAS (NÃO INCLUI FORNECIMENTO). AF_11/2017 | D2: M | E2: 9.68
A3: SINAPI | B3: 97143 | C3: ASSENTAMENTO DE TUBO DE FERRO FUNDIDO PARA REDE DE ÁGUA, DN 150 MM, JUNTA ELÁSTICA, INSTALADO EM LOCAL COM NÍVEL ALTO DE INTERFERÊNCIAS (NÃO INCLUI FORNECIMENTO). AF_11/2017 | D3: M | E3: 12.17
A4: SINAPI
A5: SINAPI | B5: CODIGO DA COMPOSICAO | C5: DESCRICAO DA COMPOSICAO | D5: UNIDADE | E5: CUSTO TOTAL
A6: SINAPI
A7: SINAPI | B7: 97141 | C7: ASSENTAMENTO DE TUBO DE FERRO FUNDIDO PARA REDE DE ÁGUA, DN 80 MM, JUNTA ELÁSTICA, INSTALADO EM LOCAL COM NÍVEL ALTO DE INTERFERÊNCIAS (NÃO INCLUI FORNECIMENTO). AF_11/2017 | D7: M | E7: 9.1
A8: SINAPI | B8: 97142 | C8: ASSENTAMENTO DE TUBO DE FERRO FUNDIDO PARA REDE DE ÁGUA, DN 100 MM, JUNTA ELÁSTICA, INSTALADO EM LOCAL COM NÍVEL ALTO DE INTERFERÊNCIAS (NÃO INCLUI FORNECIMENTO). AF_11/2017 | D8: M | E8: 10.14
A9: SINAPI | B9: 97143 | C9: ASSENTAMENTO DE TUBO DE FERRO FUNDIDO PARA REDE DE ÁGUA, DN 150 MM, JUNTA ELÁSTICA, INSTALADO EM LOCAL COM NÍVEL ALTO DE INTERFERÊNCIAS (NÃO INCLUI FORNECIMENTO). AF_11/2017 | D9: M | E9: 12.74
A10: SINAPI | B10: 97144 | C10: ASSENTAMENTO DE TUBO DE FERRO FUNDIDO PARA REDE DE ÁGUA, DN 200 MM, JUNTA ELÁSTICA, INSTALADO EM LOCAL COM NÍVEL ALTO DE INTERFERÊNCIAS (NÃO INCLUI FORNECIMENTO). AF_11/2017 | D10: M | E10: 15.34
A11: SINAPI | B11: 97145 | C11: ASSENTAMENTO DE TUBO DE FERRO FUNDIDO PARA REDE DE ÁGUA, DN 250 MM, JUNTA ELÁSTICA, INSTALADO EM LOCAL COM NÍVEL ALTO DE INTERFERÊNCIAS (NÃO INCLUI FORNECIMENTO). AF_11/2017 | D11: M | E11: 17.97
A12: SINAPI | B12: 97146 | C12: ASSENTAMENTO DE TUBO DE FERRO FUNDIDO PARA REDE DE ÁGUA, DN 300 MM, JUNTA ELÁSTICA, INSTALADO EM LOCAL COM NÍVEL ALTO DE INTERFERÊNCIAS (NÃO INCLUI FORNECIMENTO). AF_11/2017 | D12: M | E12: 20.57
A13: SINAPI | B13: 97147 | C13: ASSENTAMENTO DE TUBO DE FERRO FUNDIDO PARA REDE DE ÁGUA, DN 350 MM, JUNTA ELÁSTICA, INSTALADO EM LOCAL COM NÍVEL ALTO DE INTERFERÊNCIAS (NÃO INCLUI FORNECIMENTO). AF_11/2017 | D13: M | E13: 23.2
A14: SINAPI | B14: 97148 | C14: ASSENTAMENTO DE TUBO DE FERRO FUNDIDO PARA REDE DE ÁGUA, DN 400 MM, JUNTA ELÁSTICA, INSTALADO EM LOCAL COM NÍVEL ALTO DE INTERFERÊNCIAS (NÃO INCLUI FORNECIMENTO). AF_11/2017 | D14: M | E14: 25.82
A15: SINAPI | B15: 97149 | C15: ASSENTAMENTO DE TUBO DE FERRO FUNDIDO PARA REDE DE ÁGUA, DN 450 MM, JUNTA ELÁSTICA, INSTALADO EM LOCAL COM NÍVEL ALTO DE INTERFERÊNCIAS (NÃO INCLUI FORNECIMENTO). AF_11/2017 | D15: M | E15: 28.48
A16: SINAPI | B16: 97150 | C16: ASSENTAMENTO DE TUBO DE FERRO FUNDIDO PARA REDE DE ÁGUA, DN 500 MM, JUNTA ELÁSTICA, INSTALADO EM LOCAL COM NÍVEL ALTO DE INTERFERÊNCIAS (NÃO INCLUI FORNECIMENTO). AF_11/2017 | D16: M | E16: 35.85
A17: SINAPI | B17: 97151 | C17: ASSENTAMENTO DE TUBO DE FERRO FUNDIDO PARA REDE DE ÁGUA, DN 600 MM, JUNTA ELÁSTICA, INSTALADO EM LOCAL COM NÍVEL ALTO DE INTERFERÊNCIAS (NÃO INCLUI FORNECIMENTO). AF_11/2017 | D17: M | E17: 41.82
A18: SINAPI | B18: 97152 | C18: ASSENTAMENTO DE TUBO DE FERRO FUNDIDO PARA REDE DE ÁGUA, DN 700 MM, JUNTA ELÁSTICA, INSTALADO EM LOCAL COM NÍVEL ALTO DE INTERFERÊNCIAS (NÃO INCLUI FORNECIMENTO). AF_11/2017 | D18: M | E18: 47.49
... A7540: SINAPI | B7540: 101460 | C7540: VIGIA DIURNO COM ENCARGOS COMPLEMENTARES | D7540: MES | E7540: 3484.45
A7541: SINAPI-I
A7542: SINAPI-I
A7543: SINAPI-I
A7544: SINAPI-I
A7545: SINAPI-I
A7546: SINAPI-I
A7547: SINAPI-I
A7548: SINAPI-I
A7549: SINAPI-I
A7550: SINAPI-I
A7551: SINAPI-I
A7552: SINAPI-I
... A12460: SINAPI-I

Sheet PLANILHA COM VALORES
P2: Objeto: Limpeza Pública Municipal | Z2: Real
B3: LOTE | C3: Meta | D3: Nível 2 | E3: Serviço | I3: Planilha Total de Custos das Unidades Habitacionais | O3: PREFEITURA MUNICIPAL DE COXIM | X3: 133 | Z3: €$
O4: ESTADO DE MATO GROSSO DO SUL | X4: 123 | Z4: Dólar
A5: PREFEITURA DE XXXX | Y5: SINAPI | Z5: BDI 1
P6: SINAPI: | S6: não desonerada (09/2025) | Y6: Composição | Z6: BDI 2
I7: 1 | Y7: Agesul | Z7: BDI 3
A8: 2 | Y8: SICRO
G9: #REF! | O9: ORÇAMENTO SINTÉTICO | P9: BDI 1: | R9: =BDI!F24 -> 0.2426 | S9: BDI 2: | U9: BDI 3:
A10: Nível | B10: Altura | D10: n2 | E10: n3 | F10: n4 | G10: n5 | H10: Czero | I10: Cnível | J10: Nível | K10: n1 | L10: ITENS | M10: TABELA | N10: Código | O10: DESCRIÇÃO | P10: UNID | Q10: DMT (Km) | R10: PREÇO UNIT. SEM BDI (R$) | S10: PREÇO UNIT. COM BDI (R$) | T10: QUANT. | U10: BDI | V10: PREÇO SEM BDI (R$) | W10: PREÇO COM BDI (R$)
A11: 0 | B11: 0 | D11: n2 | E11: n3 | F11: n4 | G11: n5 | H11: 0 | I11: 0 | K11: n1
A12: 0 | B12: 1
A14: 1 | B14: #N/A | D14: 0 | E14: 0 | F14: 0 | G14: 0 | H14: #N/A | I14: #N/A | J14: Meta | K14: =IF(ISERR(SEARCH(".",L14,1)),"Sim","Não") -> Sim | L14: 1 | O14: ADMINISTRAÇÃO LOCAL | V14: =SUM(V15:V15) -> 190127.04 | W14: =SUM(W15:W15) -> 236251.8 | X14: =W14/$W$30*100 -> 6.7616414 | AK14: 236251.8
A15: 2 | B15: #N/A | D15: 1 | E15: 0 | F15: 0 | G15: 0 | H15: #N/A | I15: #N/A | K15: =IF(ISERR(SEARCH(".",L15,1)),"Sim","Não") -> Não | L15: 1.1 | M15: Composição | N15: =Administração!A3 -> ADM | O15: =Administração!B3 -> ADMINISTRAÇÃO LOCAL | P15: MÊS | R15: =Administração!F21 -> 15843.92 | S15: =ROUND(IF(U15="BDI 1",R15*(1+$R$9),IF(U15="BDI 2",R15*(1+$T$9),R15*(1+$W$9))),2) -> 19687.65 | T15: 12 | U15: BDI 1 | V15: =ROUND(R15*T15,2) -> 190127.04 | W15: =ROUND(S15*T15,2) -> 236251.8 | X15: =W15/$W$30*100 -> 6.7616414 | AK15: 687008.88
AI16: 19687.65
J17: Meta | K17: =IF(ISERR(SEARCH(".",L17,1)),"Sim","Não") -> Sim | L17: 2 | O17: TRANSPORTE | S17: =S18+S19 -> 55017.29 | V17: =SUM(V18:V19) -> 531311.32 | W17: =SUM(W18:W19) -> 660207.48 | X17: =W17/$W$30*100 -> 18.895459
K18: =IF(ISERR(SEARCH(".",L18,1)),"Sim","Não") -> Não | L18: 2.1 | M18: Composição | N18: VEIC 01 | O18: =VEÍCULOS!B120 -> CAMINHÃO CACAMBA/CARGA SECA | P18: MÊS | R18: =VEÍCULOS!F120 -> 24800.73 | S18: =ROUND(IF(U18="BDI 1",R18*(1+$R$9),IF(U18="BDI 2",R18*(1+$T$9),R18*(1+$W$9))),2) -> 30817.39 | T18: 12 | U18: BDI 1 | V18: =ROUND(R18*T18,2) -> 297608.76 | W18: =ROUND(S18*T18,2) -> 369808.68 | X18: =W18/$W$30*100 -> 10.584104 | AI18: 57250.74
L19: 2.2 | M19: Composição | N19: VEIC 02 | O19: =VEÍCULOS!B131 -> VEICULO P/ TRANSPORTE DE PESSOAS | P19: MÊS | R19: =VEÍCULOS!F131 -> 19475.214 | S19: =ROUND(IF(U19="BDI 1",R19*(1+$R$9),IF(U19="BDI 2",R19*(1+$T$9),R19*(1+$W$9))),2) -> 24199.9 | T19: 12 | U19: BDI 1 | V19: =ROUND(R19*T19,2) -> 233702.56 | W19: =ROUND(S19*T19,2) -> 290398.8 | X19: =W19/$W$30*100 -> 8.3113549
L20: 2.3 | M20: Composição
A22: 1 | B22: #N/A | D22: 0 | E22: 0 | F22: 0 | G22: 0 | H22: #N/A | I22: #N/A | J22: Meta | K22: =IF(ISERR(SEARCH(".",L22,1)),"Sim","Não") -> Sim | L22: 3 | O22: LIMPEZA URBANA | V22: =SUM(V23:V28) -> 2090705.8 | W22: =SUM(W23:W28) -> 2597541.5 | X22: =W22/$W$30*100 -> 74.3429
K23: =IF(ISERR(SEARCH(".",L23,1)),"Sim","Não") -> Não | L23: 3.1 | M23: Composição | N23: VAR | O23: =VARRIÇÃO!B143 -> SERVIÇO DE VARRIÇÃO | P23: =VARRIÇÃO!E146 -> Km | R23: =TRUNC(VARRIÇÃO!F146,2) -> 168.84 | S23: =ROUND(IF(U23="BDI 1",R23*(1+$R$9),IF(U23="BDI 2",R23*(1+$T$9),R23*(1+$W$9))),2) -> 209.8 | T23: =TRUNC(VARRIÇÃO!D147,2) -> 5948.06 | U23: BDI 1 | V23: =ROUND(R23*T23,2) -> 1004270.4 | W23: =ROUND(S23*T23,2) -> 1247903 | X23: =W23/$W$30*100 -> 35.71559
A24: 2 | B24: 22 | D24: 3 | E24: 0 | F24: 0 | G24: 0 | H24: 22 | I24: 44 | K24: =IF(ISERR(SEARCH(".",L24,1)),"Sim","Não") -> Não | L24: 3.2 | M24: Composição | N24: CAP | O24: =CAPINA!C164 -> SERVIÇO DE CAPINA | P24: =CAPINA!F167 -> m² | R24: =ROUND(CAPINA!G167,2) -> 2.88 | S24: =ROUND(IF(U24="BDI 1",R24*(1+$R$9),IF(U24="BDI 2",R24*(1+$T$9),R24*(1+$W$9))),2) -> 3.58 | T24: =TRUNC(CAPINA!E168,2) -> 84174.97 | U24: BDI 1 | V24: =ROUND(R24*T24,2) -> 242423.91 | W24: =ROUND(S24*T24,2) -> 301346.39 | X24: =W24/$W$30*100 -> 8.6246802
L25: 3.3 | M25: SINAPI | N25: 102498 | O25: =IF(M25="Composição",VLOOKUP(N25,#REF!,2,0),VLOOKUP(N25,'BANCO DE DADOS'!B:D,2,FALSE)) -> PINTURA DE MEIO-FIO COM TINTA BRANCA A BASE DE CAL (CAIAÇÃO). AF_05/2021 | P25: =IF(M25="Composição",VLOOKUP(N25,#REF!,3,0),VLOOKUP(N25,'BANCO DE DADOS'!B:D,3,FALSE)) -> M | R25: 1.62 | S25: =ROUND(IF(U25="BDI 1",R25*(1+$R$9),IF(U25="BDI 2",R25*(1+$T$9),R25*(1+$W$9))),2) -> 2.01 | T25: =TRUNC('MEIO FIO'!D116,2) -> 240500 | U25: BDI 1 | V25: =ROUND(R25*T25,2) -> 389610 | W25: =ROUND(S25*T25,2) -> 483405 | X25: =W25/$W$30*100 -> 13.835286
A26: 2 | B26: 22 | D26: 4 | E26: 0 | F26: 0 | G26: 0 | H26: 22 | I26: 49 | K26: =IF(ISERR(SEARCH(".",L26,1)),"Sim","Não") -> Não | L26: 3.4 | M26: Composição | N26: BUEIRO | O26: LIMPEZA DE BOCA DE LOBO | P26: ='LIMPEZA DE BUEIROS'!E76 -> UND | Q26: 55.63 | R26: ='LIMPEZA DE BUEIROS'!F76 -> 47.19 | S26: =ROUND(IF(U26="BDI 1",R26*(1+$R$9),IF(U26="BDI 2",R26*(1+$T$9),R26*(1+$W$9))),2) -> 58.64 | T26: ='LIMPEZA DE BUEIROS'!C15 -> 560 | U26: BDI 1 | V26: =ROUND(R26*T26,2) -> 26426.4 | W26: =ROUND(S26*T26,2) -> 32838.4 | X26: =W26/$W$30*100 -> 0.93985097
L27: 3.5 | M27: Composição | N27: ='PODA DE GRAMA'!B180 -> PODA | O27: PODA DE GRAMA | P27: ='PODA DE GRAMA'!F184 -> M2 | R27: ='PODA DE GRAMA'!G184 -> 1.89 | S27: =ROUND(IF(U27="BDI 1",R27*(1+$R$9),IF(U27="BDI 2",R27*(1+$T$9),R27*(1+$W$9))),2) -> 2.35 | T27: =TRUNC('PODA DE GRAMA'!E184,2) -> 168117 | U27: BDI 1 | V27: =ROUND(R27*T27,2) -> 317741.13 | W27: =ROUND(S27*T27,2) -> 395074.95 | X27: =W27/$W$30*100 -> 11.307237
L28: 3.6 | M28: SINAPI | N28: 98533 | O28: PODA EM ALTURA DE ÁRVORE COM DIÃMETRO DE 20 A 40 CM | P28: ='BANCO DE DADOS'!D7099 -> UN | R28: 118.15 | S28: =ROUND(IF(U28="BDI 1",R28*(1+$R$9),IF(U28="BDI 2",R28*(1+$T$9),R28*(1+$W$9))),2) -> 146.81 | T28: 933 | U28: BDI 1 | V28: =ROUND(R28*T28,2) -> 110233.95 | W28: =ROUND(S28*T28,2) -> 136973.73 | X28: =W28/$W$30*100 -> 3.9202548
A29: 0 | B29: 0 | D29: 0 | E29: 0 | F29: 0 | G29: 0 | H29: 0 | I29: 0 | K29: =IF(ISERR(SEARCH(".",L29,1)),"Sim","Não") -> Sim | O29: VAZIO | X29: =X14+X17+X22 -> 100
A30: 0 | B30: 0 | D30: 0 | E30: 0 | F30: 0 | G30: 0 | H30: 0 | I30: 0 | K30: =IF(ISERR(SEARCH(".",L30,1)),"Sim","Não") -> Sim | O30: TOTAL GERAL COM BDI | W30: =SUMIF(J10:K28,"Meta",W10:W28) -> 3494000.7
K31: =IF(ISERR(SEARCH(".",L31,1)),"Sim","Não") -> Sim | O31: VAZIO
K32: =IF(ISERR(SEARCH(".",L32,1)),"Sim","Não") -> Não | L32: Coxim MS, de de 2025.
J35: VAZIO | K35: =IF(ISERR(SEARCH(".",L35,1)),"Sim","Não") -> Sim | O35: VAZIO
K36: =IF(ISERR(SEARCH(".",L36,1)),"Sim","Não") -> Sim | O36: _______________________________________________________ | R36: _______________________________________________________
K37: =IF(ISERR(SEARCH(".",L37,1)),"Sim","Não") -> Sim | O37: Representante: Tomador/Ag Promotor ou Tomador | R37: Resp. Técnico pelo Projeto e Orçamento
K38: =IF(ISERR(SEARCH(".",L38,1)),"Sim","Não") -> Sim | P38: Nome:
K39: =IF(ISERR(SEARCH(".",L39,1)),"Sim","Não") -> Sim | O39: Prefeito Municipal | P39: Cargo:
K40: =IF(ISERR(SEARCH(".",L40,1)),"Sim","Não") -> Sim | O40: VAZIO
K41: =IF(ISERR(SEARCH(".",L41,1)),"Sim","Não") -> Sim | O41: VAZIO

Sheet VARRIÇÃO
A1: PREFEITURA MUNICIPAL DE COXIM
A2: ESTADO DO MATO GROSSO DO SUL
A4: COMPOSIÇÃO PARA VARRIÇAO
A6: Objeto: Limpeza Pública Municipal
A8: RELAÇÃO DE RUAS E AVENIDAS/ VARRIÇÃO QUINZENAL- BAIRROS
A9: LOGRADOURO | B9: Extensão | C9: 2 Lados da via | D9: Ocupação da via | E9: Tráfego | F9: Frequência de varrição | G9: Dia/mês | H9: Extensão varrida (m/mês) | I9: Extensão varrida (Km/mês)
A10: SÃO JUDAS TADEU
A11: Rua campo grande | B11: 270 | C11: =B11*2 -> 540 | D11: Misto | E11: Leve | F11: Quinzenal | G11: 2 | H11: =(C11*G11) -> 1080 | I11: =H11/1000 -> 1.08
A12: Rua 13 de maio | B12: 352 | C12: =B12*2 -> 704 | D12: Misto | E12: Médio | F12: Quinzenal | G12: 2 | H12: =(C12*G12) -> 1408 | I12: =H12/1000 -> 1.408
A13: Rua antonio mourão | B13: 444 | C13: =B13*2 -> 888 | D13: Misto | E13: Médio | F13: Quinzenal | G13: 2 | H13: =(C13*G13) -> 1776 | I13: =H13/1000 -> 1.776
A14: Rua Padre João cripa | B14: 375 | C14: =B14*2 -> 750 | D14: Misto | E14: Leve | F14: Quinzenal | G14: 2 | H14: =(C14*G14) -> 1500 | I14: =H14/1000 -> 1.5
A15: Rua SN 1087 (trecho simples) | B15: 442 | C15: =B15*2 -> 884 | D15: Misto | E15: Leve | F15: Quinzenal | G15: 2 | H15: =(C15*G15) -> 1768 | I15: =H15/1000 -> 1.768
A17: Rua SN 1033 | B17: 109 | C17: =B17*2 -> 218 | D17: Misto | E17: Leve | F17: Quinzenal | G17: 2 | H17: =(C17*G17) -> 436 | I17: =H17/1000 -> 0.436
A18: Rua Pedro Fontoura | B18: 348 | C18: =B18*2 -> 696 | D18: Misto | E18: Leve | F18: Quinzenal | G18: 2 | H18: =(C18*G18) -> 1392 | I18: =H18/1000 -> 1.392
A19: SILVIOLÂNDIA
A20: Rua Luiz gonzaga | B20: 1595 | C20: =B20*2 -> 3190 | D20: Residencial | E20: Leve | F20: Quinzenal | G20: 2 | H20: =(C20*G20) -> 6380 | I20: =H20/1000 -> 6.38
A21: MORADA SÃO PEDRO
A22: Rua Ceará | B22: 350 | C22: =B22*2 -> 700 | D22: Residencial | E22: Leve | F22: Quinzenal | G22: 2 | H22: =(C22*G22) -> 1400 | I22: =H22/1000 -> 1.4
A23: Rua Pernambuco | B23: 381 | C23: =B23*2 -> 762 | D23: Residencial | E23: Leve | F23: Quinzenal | G23: 2 | H23: =(C23*G23) -> 1524 | I23: =H23/1000 -> 1.524
A24: Rua rio Grande do Sul | B24: 345 | C24: =B24*2 -> 690 | D24: Residencial | E24: Leve | F24: Quinzenal | G24: 2 | H24: =(C24*G24) -> 1380 | I24: =H24/1000 -> 1.38
A25: Rua Paraiba | B25: 417 | C25: =B25*2 -> 834 | D25: Residencial | E25: Leve | F25: Quinzenal | G25: 2 | H25: =(C25*G25) -> 1668 | I25: =H25/1000 -> 1.668
A26: Rua Oscar serroy Camy | B26: 410 | C26: =B26*2 -> 820 | D26: Residencial | E26: Leve | F26: Quinzenal | G26: 2 | H26: =(C26*G26) -> 1640 | I26: =H26/1000 -> 1.64
A27: Rua Piaui | B27: 404 | C27: =B27*2 -> 808 | D27: Residencial | E27: Leve | F27: Quinzenal | G27: 2 | H27: =(C27*G27) -> 1616 | I27: =H27/1000 -> 1.616
A28: Rua Salvina Maria Carmo | B28: 406 | C28: =B28*2 -> 812 | D28: Residencial | E28: Leve | F28: Quinzenal | G28: 2 | H28: =(C28*G28) -> 1624 | I28: =H28/1000 -> 1.624
A29: Rua roraima | B29: 436 | C29: =B29*2 -> 872 | D29: Residencial | E29: Leve | F29: Quinzenal | G29: 2 | H29: =(C29*G29) -> 1744 | I29: =H29/1000 -> 1.744
A30: Rua mato Grosso do sul | B30: 464 | C30: =B30*2 -> 928 | D30: Residencial | E30: Leve | F30: Quinzenal | G30: 2 | H30: =(C30*G30) -> 1856 | I30: =H30/1000 -> 1.856
A31: Travessa Santarem | B31: 66 | C31: =B31*2 -> 132 | D31: Residencial | E31: Leve | F31: Quinzenal | G31: 2 | H31: =(C31*G31) -> 264 | I31: =H31/1000 -> 0.264
A32: Travesssa Recife | B32: 65 | C32: =B32*2 -> 130 | D32: Residencial | E32: Leve | F32: Quinzenal | G32: 2 | H32: =(C32*G32) -> 260 | I32: =H32/1000 -> 0.26
A33: Travessa Goiania | B33: 184 | C33: =B33*2 -> 368 | D33: Residencial | E33: Leve | F33: Quinzenal | G33: 2 | H33: =(C33*G33) -> 736 | I33: =H33/1000 -> 0.736
... A36: Travesa Belem | B36: 67 | C36: =B36*2 -> 134 | D36: Residencial | E36: Leve | F36: Quinzenal | G36: 2 | H36: =(C36*G36) -> 268 | I36: =H36/1000 -> 0.268
A37: FLAVIO GARCIA
A38: Av. Costa e silva | B38: 1147 | C38: =B38*2 -> 2294 | D38: Residencial | E38: Leve | F38: Quinzenal | G38: 2 | H38: =(C38*G38) -> 4588 | I38: =H38/1000 -> 4.588
A39: Av Tancredo neves | B39: 998 | C39: =B39*2 -> 1996 | D39: Residencial | E39: Leve | F39: Quinzenal | G39: 2 | H39: =(C39*G39) -> 3992 | I39: =H39/1000 -> 3.992
A40: Rua daniel Cesario | B40: 396 | C40: =B40*2 -> 792 | D40: Residencial | E40: Leve | F40: Quinzenal | G40: 2 | H40: =(C40*G40) -> 1584 | I40: =H40/1000 -> 1.584
A41: Rua Antonio Reis Coelho | B41: 510 | C41: =B41*2 -> 1020 | D41: Residencial | E41: Leve | F41: Quinzenal | G41: 2 | H41: =(C41*G41) -> 2040 | I41: =H41/1000 -> 2.04
A42: Rua Afonso Costa campos | B42: 443 | C42: =B42*2 -> 886 | D42: Residencial | E42: Leve | F42: Quinzenal | G42: 2 | H42: =(C42*G42) -> 1772 | I42: =H42/1000 -> 1.772
A43: Rua Oscar Costa | B43: 791 | C43: =B43*2 -> 1582 | D43: Residencial | E43: Leve | F43: Quinzenal | G43: 2 | H43: =(C43*G43) -> 3164 | I43: =H43/1000 -> 3.164
A44: Rua 11 de abril | B44: 429 | C44: =B44*2 -> 858 | D44: Residencial | E44: Leve | F44: Quinzenal | G44: 2 | H44: =(C44*G44) -> 1716 | I44: =H44/1000 -> 1.716
A45: Rua Cel Manoel Mariano | B45: 574 | C45: =B45*2 -> 1148 | D45: Residencial | E45: Leve | F45: Quinzenal | G45: 2 | H45: =(C45*G45) -> 2296 | I45: =H45/1000 -> 2.296
A46: Av. Presidente Castelo Branco | B46: 860 | C46: =B46*2 -> 1720 | D46: Misto | E46: Leve | F46: Quinzenal | G46: 2 | H46: =(C46*G46) -> 3440 | I46: =H46/1000 -> 3.44
...

Sheet CAPINA
B1: PREFEITURA MUNICIPAL DE COXIM
B2: ESTADO DO MATO GROSSO DO SUL
B4: COMPOSIÇÃO PARA CAPINA
B6: Objeto: Limpeza Pública Municipal
B8: RELAÇÃO DE RUAS E AVENIDAS/ BAIRROS
B9: LOGRADOURO | C9: Extensão | D9: 2 Lados da via | E9: Ocupação da via | F9: Tráfego | G9: Frequência de varrição | H9: Dia/mês | I9: Extensão varrida (m/mês) | J9: Extensão varrida (Km/mês)
B10: SÃO JUDAS TADEU
B11: Rua campo grande | C11: 297 | D11: =C11*2 -> 594 | E11: Misto | F11: Leve | G11: Quinzenal | H11: 2 | I11: =(D11*H11) -> 1188 | J11: =I11/1000 -> 1.188
B12: Rua 13 de maio | C12: 385 | D12: =C12*2 -> 770 | E12: Misto | F12: Médio | G12: Quinzenal | H12: 2 | I12: =(D12*H12) -> 1540 | J12: =I12/1000 -> 1.54
B13: Rua antonio mourão | C13: 462 | D13: =C13*2 -> 924 | E13: Misto | F13: Médio | G13: Quinzenal | H13: 2 | I13: =(D13*H13) -> 1848 | J13: =I13/1000 -> 1.848
B14: Rua Padre João cripa | C14: 385 | D14: =C14*2 -> 770 | E14: Misto | F14: Leve | G14: Quinzenal | H14: 2 | I14: =(D14*H14) -> 1540 | J14: =I14/1000 -> 1.54
B15: Rua SN 1087 | C15: 660 | D15: =C15*2 -> 1320 | E15: Misto | F15: Leve | G15: Quinzenal | H15: 2 | I15: =(D15*H15) -> 2640 | J15: =I15/1000 -> 2.64
B16: Rua SN 1033 | C16: 132 | D16: =C16*2 -> 264 | E16: Misto | F16: Leve | G16: Quinzenal | H16: 2 | I16: =(D16*H16) -> 528 | J16: =I16/1000 -> 0.528
B17: Rua Pedro Fontoura | C17: 385 | D17: =C17*2 -> 770 | E17: Misto | F17: Leve | G17: Quinzenal | H17: 2 | I17: =(D17*H17) -> 1540 | J17: =I17/1000 -> 1.54
B18: SILVIOLÂNDIA
B19: Rua Luiz gonzaga | C19: 1595 | D19: =C19*2 -> 3190 | E19: Residencial | F19: Leve | G19: Quinzenal | H19: 2 | I19: =(D19*H19) -> 6380 | J19: =I19/1000 -> 6.38
B20: MORADA SÃO PEDRO
B21: Rua Ceará | C21: 352 | D21: =C21*2 -> 704 | E21: Residencial | F21: Leve | G21: Quinzenal | H21: 2 | I21: =(D21*H21) -> 1408 | J21: =I21/1000 -> 1.408
B22: Rua Pernambuco | C22: 385 | D22: =C22*2 -> 770 | E22: Residencial | F22: Leve | G22: Quinzenal | H22: 2 | I22: =(D22*H22) -> 1540 | J22: =I22/1000 -> 1.54
B23: Rua rio Grande do Sul | C23: 407 | D23: =C23*2 -> 814 | E23: Residencial | F23: Leve | G23: Quinzenal | H23: 2 | I23: =(D23*H23) -> 1628 | J23: =I23/1000 -> 1.628
B24: Rua Paraiba | C24: 440 | D24: =C24*2 -> 880 | E24: Residencial | F24: Leve | G24: Quinzenal | H24: 2 | I24: =(D24*H24) -> 1760 | J24: =I24/1000 -> 1.76
B25: Rua Oscar serroy Camy | C25: 462 | D25: =C25*2 -> 924 | E25: Residencial | F25: Leve | G25: Quinzenal | H25: 2 | I25: =(D25*H25) -> 1848 | J25: =I25/1000 -> 1.848
B26: Rua Piaui | C26: 396 | D26: =C26*2 -> 792 | E26: Residencial | F26: Leve | G26: Quinzenal | H26: 2 | I26: =(D26*H26) -> 1584 | J26: =I26/1000 -> 1.584
B27: Rua Salvina Maria Carmo | C27: 440 | D27: =C27*2 -> 880 | E27: Residencial | F27: Leve | G27: Quinzenal | H27: 2 | I27: =(D27*H27) -> 1760 | J27: =I27/1000 -> 1.76
B28: Rua roraima | C28: 495 | D28: =C28*2 -> 990 | E28: Residencial | F28: Leve | G28: Quinzenal | H28: 2 | I28: =(D28*H28) -> 1980 | J28: =I28/1000 -> 1.98
B29: Rua mato Grosso do sul | C29: 506 | D29: =C29*2 -> 1012 | E29: Residencial | F29: Leve | G29: Quinzenal | H29: 2 | I29: =(D29*H29) -> 2024 | J29: =I29/1000 -> 2.024
B30: Travessa Santarem | C30: 71 | D30: =C30*2 -> 142 | E30: Residencial | F30: Leve | G30: Quinzenal | H30: 2 | I30: =(D30*H30) -> 284 | J30: =I30/1000 -> 0.284
B31: Travesssa Recife | C31: 198 | D31: =C31*2 -> 396 | E31: Residencial | F31: Leve | G31: Quinzenal | H31: 2 | I31: =(D31*H31) -> 792 | J31: =I31/1000 -> 0.792
B32: Travessa Goiania | C32: 71 | D32: =C32*2 -> 142 | E32: Residencial | F32: Leve | G32: Quinzenal | H32: 2 | I32: =(D32*H32) -> 284 | J32: =I32/1000 -> 0.284
... B35: Travesa Belem | C35: 71 | D35: =C35*2 -> 142 | E35: Residencial | F35: Leve | G35: Quinzenal | H35: 2 | I35: =(D35*H35) -> 284 | J35: =I35/1000 -> 0.284
B36: FLAVIO GARCIA
B37: Av. Costa e silva | C37: 1155 | D37: =C37*2 -> 2310 | E37: Residencial | F37: Leve | G37: Quinzenal | H37: 2 | I37: =(D37*H37) -> 4620 | J37: =I37/1000 -> 4.62
B38: Av Tancredo neves | C38: 1045 | D38: =C38*2 -> 2090 | E38: Residencial | F38: Leve | G38: Quinzenal | H38: 2 | I38: =(D38*H38) -> 4180 | J38: =I38/1000 -> 4.18
B39: Rua daniel Cesario | C39: 396 | D39: =C39*2 -> 792 | E39: Residencial | F39: Leve | G39: Quinzenal | H39: 2 | I39: =(D39*H39) -> 1584 | J39: =I39/1000 -> 1.584
B40: Rua Antonio Reis Coelho | C40: 495 | D40: =C40*2 -> 990 | E40: Residencial | F40: Leve | G40: Quinzenal | H40: 2 | I40: =(D40*H40) -> 1980 | J40: =I40/1000 -> 1.98
B41: Rua Afonso Costa campos | C41: 440 | D41: =C41*2 -> 880 | E41: Residencial | F41: Leve | G41: Quinzenal | H41: 2 | I41: =(D41*H41) -> 1760 | J41: =I41/1000 -> 1.76
B42: Rua Oscar Costa | C42: 770 | D42: =C42*2 -> 1540 | E42: Residencial | F42: Leve | G42: Quinzenal | H42: 2 | I42: =(D42*H42) -> 3080 | J42: =I42/1000 -> 3.08
B43: Rua 11 de abril | C43: 715 | D43: =C43*2 -> 1430 | E43: Residencial | F43: Leve | G43: Quinzenal | H43: 2 | I43: =(D43*H43) -> 2860 | J43: =I43/1000 -> 2.86
B44: Rua Cel Manoel Mariano | C44: 660 | D44: =C44*2 -> 1320 | E44: Residencial | F44: Leve | G44: Quinzenal | H44: 2 | I44: =(D44*H44) -> 2640 | J44: =I44/1000 -> 2.64
B45: Av. Presidente Castelo Branco | C45: 880 | D45: =C45*2 -> 1760 | E45: Misto | F45: Leve | G45: Quinzenal | H45: 2 | I45: =(D45*H45) -> 3520 | J45: =I45/1000 -> 3.52
...

Sheet Encargos sociais

Sheet MEIO FIO
B1: PREFEITURA MUNICIPAL DE COXIM
B2: ESTADO DO MATO GROSSO DO SUL
B5: COMPOSIÇÃO PARA PINTURA DE MEIO FIO
B7: Objeto: Limpeza Pública Municipal
B9: RELAÇÃO DE RUAS E AVENIDAS/ PINTURA DE MEIO-FIO
B10: LOGRADOURO | C10: Extensão | D10: 2 Lados da via
B11: SÃO JUDAS TADEU
B12: Rua campo grande | C12: 297 | D12: =C12*2 -> 594
B13: Rua 13 de maio | C13: 385 | D13: =C13*2 -> 770
B14: Rua antonio mourão | C14: 462 | D14: =C14*2 -> 924
B15: Rua Padre João cripa | C15: 385 | D15: =C15*2 -> 770
B16: Rua SN 1087 | C16: 660 | D16: =C16*2 -> 1320
B17: Rua SN 1033 | C17: 132 | D17: =C17*2 -> 264
B18: Rua Pedro Fontoura | C18: 385 | D18: =C18*2 -> 770
B19: SILVIOLÂNDIA
B20: Rua Luiz gonzaga | C20: 1595 | D20: =C20*2 -> 3190
B21: MORADA SÃO PEDRO
B22: Rua Ceará | C22: 352 | D22: =C22*2 -> 704
B23: Rua Pernambuco | C23: 385 | D23: =C23*2 -> 770
B24: Rua rio Grande do Sul | C24: 407 | D24: =C24*2 -> 814
B25: Rua Paraiba | C25: 440 | D25: =C25*2 -> 880
B26: Rua Oscar serroy Camy | C26: 462 | D26: =C26*2 -> 924
B27: Rua Piaui | C27: 396 | D27: =C27*2 -> 792
B28: Rua Salvina Maria Carmo | C28: 440 | D28: =C28*2 -> 880
B29: Rua roraima | C29: 495 | D29: =C29*2 -> 990
B30: Rua mato Grosso do sul | C30: 506 | D30: =C30*2 -> 1012
B31: Travessa Santarem | C31: 71 | D31: =C31*2 -> 142
B32: Travesssa Recife | C32: 198 | D32: =C32*2 -> 396
B33: Travessa Goiania | C33: 71 | D33: =C33*2 -> 142
... B36: Travesa Belem | C36: 71 | D36: =C36*2 -> 142
B37: FLAVIO GARCIA
B38: Av. Costa e silva | C38: 1155 | D38: =C38*2 -> 2310
B39: Av Tancredo neves | C39: 1045 | D39: =C39*2 -> 2090
B40: Rua daniel Cesario | C40: 396 | D40: =C40*2 -> 792
B41: Rua Antonio Reis Coelho | C41: 495 | D41: =C41*2 -> 990
B42: Rua Afonso Costa campos | C42: 440 | D42: =C42*2 -> 880
B43: Rua Oscar Costa | C43: 770 | D43: =C43*2 -> 1540
B44: Rua 11 de abril | C44: 715 | D44: =C44*2 -> 1430
B45: Rua Cel Manoel Mariano | C45: 660 | D45: =C45*2 -> 1320
B46: Av. Presidente Castelo Branco | C46: 880 | D46: =C46*2 -> 1760
...

Sheet LIMPEZA DE BUEIROS
A2: PREFEITURA MUNICIPAL DE COXIM
A3: ESTADO DO MATO GROSSO DO SUL
A6: COMPOSIÇÃO PARA LIMPEZA DE BOCA DE LOBO
A9: Objeto: Limpeza Pública Municipal
A11: QUANTITATIVO / LIMPEZA DE BOCA DE LOBO UND
A12: BOCA DE LOBO SIMPLES | B12: 200 | C12: =B12*1 -> 200
A13: BOCA DE LOBO DUPLA | B13: 90 | C13: =B13*2 -> 180
A14: BOCA DE LOBO TRIPLA | B14: 60 | C14: =B14*3 -> 180
A15: TOTAL | B15: =SUM(B12:B14) -> 350 | C15: =SUM(C12:C14) -> 560
A17: VOLUME DE UMA BLS (m³) | C17: 0,45*0,85*0,95 | D17: =0.45*0.85*0.95 -> 0.363375
A18: VOLUME TOTAL DE BLS DE COXIM | C18: =C15 -> 560 | D18: =D17*C18 -> 203.49
A19: VOLUME LIMPO MENSALMENTE | C19: 3 | D19: =D18/C19 -> 67.83
A20: BLS LIMPAS MENSALMENTE | C20: 3 | D20: =C18/C20 -> 186.66667
A21: BLS LIMPAS DIARIAMENTE | C21: 25 | D21: =D20/C21 -> 7.4666667
A22: NÚMERO DE FUNCIONÁRIOS NECESSÁRIO | D22: 3
A24: Para o dimensionamento da limpeza de boca de lobo, utilizamos o cálculo de 0,36m³ de volume por BLS. Sabendo que temos 930 BLS na cidade, teremos um total de 337,94m³ a serem limpos. Esse total será limpo em um trimestre, sendo então 112,65m³ mensalmente ou aproximadamente 310 BLS, ou cerca de 12 a 13 BLS serão limpas por dia. O que necessitará de 03 colaboradores.
A25: Obs: para efeito de cálculo foi feita a transformação de todas as bocas de lobo para boca de lobo simples, obedecendo as devidas prorporções.
A40: A-MÃO DE OBRA | D40: 3 | E40: =SUM(E41:E48) -> 4238.5891 | F40: =SUM(F41:F48) -> 12715.767
A41: DISCRIMINAÇÃO | B41: Quant/mês | D41: CUSTO UNIT | E41: CUSTO MENSAL | F41: TOTAL MENSAL
A42: Auxiliar de limpeza- Piso salarial- CCT MS000006/2025 | B42: 1 | D42: 1518 | E42: =B42*D42 -> 1518 | F42: =E42*3 -> 4554
A43: adicional de função | B43: 1 | D43: 320.67 | E43: =B43*D43 -> 320.67 | F43: =E43*3 -> 962.01
A44: adicional de insalubridade 40% | B44: 1 | D44: 607.2 | E44: =B44*D44 -> 607.2 | F44: =E44*3 -> 1821.6
A45: Vale alimentação | B45: 1 | D45: 360 | E45: 330 | F45: =E45*3 -> 990
A46: Benefício Social Familiar | B46: 1 | D46: 9.7 | E46: =B46*D46 -> 9.7 | F46: =E46*3 -> 29.1
A47: Prêmio Cesta básica | B47: 1 | D47: 97 | E47: =B47*D47 -> 97 | F47: =E47*3 -> 291
A48: Encargos Sociais | B48: 0.7375 | D48: =E42+E43 -> 1838.67 | E48: =B48*D48 -> 1356.0191 | F48: =E48*3 -> 4068.0574
A49: B-EPI'S PARA EQUIPE DE LIMPEZA DE BOCA DE LOBO | E49: =SUM(E51:E57) -> 147.95044 | F49: =SUM(F51:F57) -> 443.85131
A50: DISCRIMINAÇÃO | B50: QUANTIDADE | D50: CUSTO UNIT | E50: CUSTO MENSAL | F50: TOTAL MENSAL
A51: CAMISETA COM FAIXA REFLETIVA | B51: 0.5 | D51: =COTAÇÕES!P15 -> 64.79 | E51: =B51*D51 -> 32.395 | F51: =E51*3 -> 97.185
A52: CALÇA | B52: 0.5 | D52: =COTAÇÕES!P36 -> 57.015 | E52: =B52*D52 -> 28.5075 | F52: =E52*3 -> 85.5225
A53: BONÉ | B53: 0.5 | D53: =COTAÇÕES!P46 -> 15.055 | E53: =B53*D53 -> 7.5275 | F53: =E53*3 -> 22.5825
A54: BOTINAS | B54: 0.5 | D54: =COTAÇÕES!P51 -> 48.3025 | E54: =B54*D54 -> 24.15125 | F54: =E54*3 -> 72.45375
A55: LUVA PIGMENTADA | B55: 8 | D55: =COTAÇÕES!P56 -> 4.6725 | E55: =B55*D55 -> 37.38 | F55: =E55*3 -> 112.14
A56: CAPA DE CHUVA | B56: 0.1667 | D56: =COTAÇÕES!P61 -> 25.625 | E56: =B56*D56 -> 4.2716875 | F56: =E56*3 -> 12.815062
A57: PROTETOR SOLAR FATOR 30 | B57: 1 | D57: =COTAÇÕES!P121 -> 13.7175 | E57: =B57*D57 -> 13.7175 | F57: =E57*3 -> 41.1525
A58: C-FERRAMENTAS | D58: MENSAL | E58: =SUM(E60:E65) -> 490.1375 | F58: =SUM(F60:F65) -> 1470.4125
A59: DISCRIMINAÇÃO | B59: UND | C59: QUANT | D59: R$ UNIT | E59: R$ TOTAL | F59: R$ TOTAL
A60: Pá quadrada com cabo | B60: UND | C60: 1 | D60: =COTAÇÕES!P76 -> 56.795 | E60: =C60*D60 -> 56.795 | F60: =E60*3 -> 170.385
A61: Pá de bico com cabo | B61: UND | C61: 1 | D61: =COTAÇÕES!P81 -> 60.81 | E61: =C61*D61 -> 60.81 | F61: =E61*3 -> 182.43
A62: Vassourão com cabo | B62: UND | C62: 1 | D62: =COTAÇÕES!P86 -> 45.02 | E62: =C62*D62 -> 45.02 | F62: =E62*3 -> 135.06
...

Sheet PODA DE GRAMA
A2: PREFEITURA MUNICIPAL DE COXIM
A3: ESTADO DO MATO GROSSO DO SUL
A6: COMPOSIÇÃO PARA CORTE DE GRAMA
A8: Objeto: Limpeza Pública Municipal
A10: ÁREAS PÚBLICAS PARA CORTE DE GRAMA
A11: ÁREA PRAÇAS PUBLICAS
A12: PRAÇA | B12: M²
A13: FRANCISCO MENDES DA ROCHA | B13: 4126
A14: HERVÊ MENDES FONTOURA | B14: 6497
A15: AMANCIO ABRÃO DUARTE | B15: 644
A16: NOÊMIA SERROU CAMY DE ARAUJO | B16: 7129
A17: SÍLVIO FERREIRA | B17: 3858
A18: ZACARIAS MOURÃO | B18: 2724
A19: FREDERICO FERNANDES DE ALMEIDA | B19: 3389
A20: JOÃO FERREIRA DE ALBUQUERQUE | B20: 6036
A21: PRAÇA DOS NORDESTINOS | B21: 684
A22: ARANTO PEREIRA DA SILVA | B22: 28200
A23: FREI GILBERTO MOTTER | B23: 2121
A24: OSWALDO MOCHI | B24: 2834
... A31: PRACA SILVIOLANDIA | B31: 751
A32: TOTAL | B32: =SUM(B13:B31)*0.25 -> 24360.5
A34: ÁREAS PUBLICAS EDUCAÇÃO
A35: EDUCAÇÃO | B35: M²
A47: TOTAL ÁREA
A48: (TOTAL ÁREA) - (EDIFICAÇÕES) | B48: =B47*0.35 -> 0
A49: OBS: FORAM ESTIMAS 50% DAS ÁREAS PARA ROÇADA E PODA CONSIDERANDO ASSIM QUE TODOS OS TERRENOS DE PRÉDIOS PUBLICOS POSSUEM EDIFICAÇÕES
A51: ÁREAS PRÉDIOS ASSISTÊNCIA SOCIAL
A52: ASSISTENCIA SOCIAL | B52: M²
A53: REABILITAR | B53: 1145
A54: CRAS E PRAÇA NOVA COXIM | B54: 2706
A55: CRAS SENHOR DIVINO | B55: 1420
A56: CREAS - CENTRO | B56: 612
A57: SEC ASSISTENCIA SOCIAL | B57: 847
A58: TOTAL ÁREA | B58: =SUM(B53:B57) -> 6730
A59: (TOTAL ÁREA) - (EDIFICAÇÕES) | B59: =B58*0.25 -> 1682.5
A60: OBS: FORAM ESTIMAS 50% DAS ÁREAS PARA ROÇADA E PODA CONSIDERANDO ASSIM QUE TODOS OS TERRENOS DE PRÉDIOS PUBLICOS POSSUEM EDIFICAÇÕES
A63: ÁREAS PREDIOS DA SAÚDE
A64: SAÚDE | B64: M²
A65: PSF ILDA MARIA KHOL | B65: 757
A66: PSF TOTÓ ARAUJO | B66: 2058
...

Sheet  PODA DE ÁRVORE
A2: PREFEITURA MUNICIPAL DE COXIM
A3: ESTADO DO MATO GROSSO DO SUL
A6: MEMÓRIA DE CÁCULO DE PODA DE ÁRVORES
A8: Objeto: Limpeza Pública Municipal
A10: QUANTITATIVO /PODA DE ARVORE E CERCA VIVA UND
A11: Praças públicas | B11: 443
A12: Av. Virginia Ferreira | B12: 33
A13: Prédios publicos | B13: 17
A14: Ruas e avenidas de grande fluxo | B14: 500
A15: TOTAL | B15: =SUM(B11:B14) -> 993
A18: TOTAL DE ÁRVORES A SEREM PODADAS | C18: =B15 -> 993
A19: NÚMERO DE VEZES PODADA AO ANO | B19: 2 | C19: =C18*B19 -> 1986
A20: TOTAL DE ÁRVORES A SEREM PODADAS AO MÊS | B20: 12 | C20: =C19/B20 -> 165.5
A22: Foi levantado em campo o quantitativo de árvores a serem podadas em Coxim, e o total é de 1428 unidades. Sabendo que a poda é feita duas vezes ao ano esse total passa a ser de 2.856 unidades, dividido-se por doze meses, temos um número de 238 árvores podadas ao mês.
A25: ='PODA DE GRAMA'!B187 -> 0
D26: VAZIO
A30: _____________________________________ | B30: ______________________________
A31: Representante: Ag Promotor ou Tomador | B31: Resp. Téc Projeto e Orçamento
A33: Prefeito Municipal

Sheet COTAÇÕES
F1: PREFEITURA MUNICIPAL DE COXIM
F2: ESTADO DO MATO GROSSO DO SUL
F4: COTAÇÕES DE MATERIAIS
F6: Objeto: Limpeza Pública Municipal
B9: COTAÇÃO MARÇO/2023
A10: COT 01 | B10: CARRINHO 100 LITROS PARA VARRIÇÂO | L10: =(B13+D13+F13+H13+J13+L13)/4 -> 1151.455 | P10: =L10 -> 1151.455
P11: =L11 -> 0
B12: Lojas Americanas | D12: Tna Plast | F12: Gadotti | H12: Mercado Livre | P12: =L12 -> 0
B13: 1199 | D13: 1524.82 | F13: 849 | H13: 1033 | P13: =L13 -> 0
P14: =L14 -> 0
A15: COT 02 | B15: CAMISETA COM FAIXA REFLETIVA | L15: =(B18+D18+F18+H18+J18+L18)/4 -> 64.79 | P15: =L15 -> 64.79
P16: =L16 -> 0
B17: HM uniformes | D17: Super EPI | F17: Magazine Luiza | H17: Mercado Livre | P17: =L17 -> 0
B18: 52.9 | D18: 79.94 | F18: 57.12 | H18: 69.2 | P18: =L18 -> 0
P19: =L19 -> 0
A20: COT 03 | B20: CINTO DE ROÇADEIRA | L20: =(B23+D23+F23+H23+J23+L23)/4 -> 61.915 | P20: =L20 -> 61.915
P21: =L21 -> 0
B22: Carrefour | D22: Mazine Luiza | F22: Mercado das Peças | H22: Casas Bahia | P22: =L22 -> 0
B23: 56.91 | D23: 58.07 | F23: 69.8 | H23: 62.88 | P23: =L23 -> 0
P24: =L24 -> 0
P25: =L25 -> 0
A26: COT 05 | B26: PERNEIRA | L26: =(B29+D29+F29+H29+J29+L29)/4 -> 41.1725 | P26: =L26 -> 41.1725
P27: =L27 -> 0
B28: Mercado livre | D28: Super Epi | F28: Loja Alta Montanha | H28: Spots Adventure | P28: =L28 -> 0
B29: 40.88 | D29: 41.19 | F29: 42.21 | H29: 40.41 | P29: =L29 -> 0
P30: =L30 -> 0
A31: COT 06 | B31: ÓCULOS DE PROTEÇÃO | L31: =(B34+D34+F34+H34+J34+L34)/4 -> 6.0325 | P31: =L31 -> 6.0325
P32: =L32 -> 0
B33: Pontal Mat. Construção | D33: Casas Bahia | F33: Magazine Luiza | H33: Lojas Americanas | P33: =L33 -> 0
B34: 6.65 | D34: 7.72 | F34: 5.76 | H34: 4 | P34: =L34 -> 0
P35: =L35 -> 0
A36: COT 07 | B36: CALÇA | L36: =(B39+D39+F39+H39+J39+L39)/4 -> 57.015 | P36: =L36 -> 57.015
P37: =L37 -> 0
B38: HM uniformes | D38: Lojas Zeus do Brasil | F38: Loja Bordo | H38: Loja Canal Agric. | P38: =L38 -> 0
B39: 52.9 | D39: 64.9 | F39: 56.46 | H39: 53.8 | P39: =L39 -> 0
P40: =L40 -> 0
A41: COT 08 | B41: BERMUDA | L41: =(B44+D44+F44+H44+J44+L44)/4 -> 49.4 | P41: =L41 -> 49.4
P42: =L42 -> 0
B43: Mazine Luiza | D43: Lojas Zeus do Brasil | F43: Mercado Livre | H43: HM uniforme | P43: =L43 -> 0
B44: 49.9 | D44: 52.9 | F44: 57.9 | H44: 36.9 | P44: =L44 -> 0
...

Sheet VEÍCULOS
A1: PREFEITURA MUNICIPAL DE COXIM
A2: ESTADO DO MATO GROSSO DO SUL
A4: COMPOSIÇÃO DE VEÍCULOS
A6: Objeto: Limpeza Pública Municipal
A8: 01/A- Veículo caminhão caçamba/carga seca
A9: 01/A | B9: CAMINHÃO CACAMBA/CARGA SECA | F9: =F12 -> 5833.3333
A10: ITEM | B10: DISCRIMINAÇÃO | C10: UNIDADE | D10: QUANT | E10: R$ UNIT | F10: R$ TOTAL
A11: 01 | B11: Custo de aquisição do veículo | C11: UND | D11: 1 | E11: 350000 | F11: =D11*E11 -> 350000
A12: 02 | B12: Depreciação do bem (60 meses) | C12: % | D12: 60 | E12: =E11 -> 350000 | F12: =E12/D12 -> 5833.3333
A14: 02/A- Utilitário 15 lugares
A15: 02/A | B15: VEICULO P/ TRANSPORTE DE PESSOAS | F15: =F18 -> 4668.7
A16: ITEM | B16: DISCRIMINAÇÃO | C16: UNIDADE | D16: QUANT | E16: R$ UNIT | F16: R$ TOTAL
A17: 01 | B17: Custo de aquisição do veículo | C17: UND | D17: 1 | E17: =COTAÇÕES!P176 -> 280122 | F17: =D17*E17 -> 280122
A18: 02 | B18: Depreciação do bem (60 meses) | C18: % | D18: 60 | E18: =E17 -> 280122 | F18: =E18/D18 -> 4668.7
A20: 01/B- Remuneração do capital investido
A21: 01/B | B21: CAMINHÃO CACAMBA/CARGA SECA | F21: =F24 -> 1750
A22: ITEM | B22: DISCRIMINAÇÃO | C22: UNIDADE | D22: QUANT | E22: R$ UNIT | F22: R$ TOTAL
A23: 01 | B23: Custo de aquisição do veículo | C23: UND | D23: 1 | E23: =E11 -> 350000 | F23: =D23*E23 -> 350000
A24: 02 | B24: Remuneração mensal de capital | C24: % | D24: 0.5 | E24: =E11 -> 350000 | F24: =E24*0.5% -> 1750
A26: 02/B- Remuneração do capital investido
A27: 02/B | B27: VEICULO P/ TRANSPORTE DE PESSOAS | F27: =F30 -> 1400.61
A28: ITEM | B28: DISCRIMINAÇÃO | C28: UNIDADE | D28: QUANT | E28: R$ UNIT | F28: R$ TOTAL
A29: 01 | B29: Custo de aquisição do veículo | C29: UND | D29: 1 | E29: =E17 -> 280122 | F29: =D29*E29 -> 280122
A30: 02 | B30: Remuneração mensal de capital | C30: % | D30: 0.5 | E30: =E29 -> 280122 | F30: =E30*0.5% -> 1400.61
A32: 01/C- Impostos e Seguros
A33: 01/C | B33: CAMINHÃO CACAMBA/CARGA SECA | F33: =ROUND(F39,2) -> 2770.83 | J33: =E11 -> 350000 | M33: 1958.1954
A34: ITEM | B34: DISCRIMINAÇÃO | C34: UNIDADE | D34: QUANT | E34: R$ UNIT | F34: R$ TOTAL | M34: R$ TOTAL
A35: 01 | B35: IPVA | C35: UND | D35: 1 | E35: 0.03 | F35: =ROUND($J$33*E35,2) -> 10500 | M35: 7420.53
A36: 02 | B36: Seguro | C36: UND | D36: 1 | E36: 0.01 | F36: =ROUND($J$33*E36,2) -> 3500 | M36: 2473.51
A37: 03 | B37: Licenciamento | C37: UND | D37: 1 | E37: 0.005 | F37: =ROUND($J$33*E37,2) -> 1750 | M37: 1236.755
A38: 03 | B38: Seguro contra terceiros | C38: UND | D38: 1 | E38: 0.05 | F38: =ROUND($J$33*E38,2) -> 17500 | M38: 12367.55
A39: 04 | B39: Impostos e seguros mensais | C39: MÊS | D39: 12 | F39: =SUM(F35:F38)/12 -> 2770.8333 | M39: 1958.1954
A41: 02/C- Impostos e Seguros
A42: 02/C | B42: VEICULO P/ TRANSPORTE DE PESSOAS | F42: =ROUND(F48,2) -> 2217.63 | J42: =E17 -> 280122 | M42: 568.36125
A43: ITEM | B43: DISCRIMINAÇÃO | C43: UNIDADE | D43: QUANT | E43: R$ UNIT | F43: R$ TOTAL | M43: R$ TOTAL
A44: 01 | B44: IPVA | C44: UND | D44: 1 | E44: 0.03 | F44: =$J$42*E44 -> 8403.66 | M44: 2153.79
A45: 02 | B45: Seguro | C45: UND | D45: 1 | E45: 0.01 | F45: =$J$42*E45 -> 2801.22 | M45: 717.93
A46: 03 | B46: Licenciamento | C46: UND | D46: 1 | E46: 0.005 | F46: =$J$42*E46 -> 1400.61 | M46: 358.965
A47: 03 | B47: Seguro contra terceiros | C47: UND | D47: 1 | E47: 0.05 | F47: =$J$42*E47 -> 14006.1 | M47: 3589.65
A48: 04 | B48: Impostos e seguros mensais | C48: MÊS | D48: 12 | F48: =SUM(F44:F47)/12 -> 2217.6325 | M48: 568.36125
...

Sheet Crono FF
C3: PREFEITURA MUNICIPAL DE COXIM - MS | O3: PREFEITURA MUNICIPAL DE COXIM | AA3: PREFEITURA MUNICIPAL DE COXIM
C4: ESTADO DO MATO GROSSO DO SUL | O4: ESTADO DO MATO GROSSO DO SUL | AA4: ESTADO DO MATO GROSSO DO SUL
C9: CRONOGRAMA FÍSICO FINANCEIRO | O9: CRONOGRAMA FÍSICO FINANCEIRO | AA9: CRONOGRAMA FÍSICO FINANCEIRO
A10: Objeto: Limpeza Pública Municipal | M10: Objeto: Limpeza Pública Municipal | Y10: Objeto: Limpeza Pública Municipal
A11: Município de Coxim - MS | M11: Município de Coxim - MS | Y11: Município de Coxim - MS
A12: ITEM | B12: SERVIÇOS DISCRIMINADOS | C12: VALOR (R$) | D12: PESO (%) | E12: 1° MÊS | G12: 2° MÊS | I12: 3° MÊS | K12: 4° MÊS | M12: 5° MÊS | O12: 6° MÊS | Q12: 7° MÊS | S12: 8° MÊS | U12: 9° MÊS | W12: 10° MÊS | Y12: 11° MÊS | AA12: 12° MÊS | AC12: TOTAL
E13: (%) | F13: (R$) | G13: (%) | H13: (R$) | I13: (%) | J13: (R$) | K13: (%) | L13: (R$) | M13: (%) | N13: (R$) | O13: (%) | P13: (R$) | Q13: (%) | R13: (R$) | S13: (%) | T13: (R$) | U13: (%) | V13: (R$) | W13: (%) | X13: (R$) | Y13: (%) | Z13: (R$) | AA13: (%) | AB13: (R$)
A14: 1 | B14: =VLOOKUP(A14,'PLANILHA COM VALORES'!L14:W28,4,TRUE) -> ADMINISTRAÇÃO LOCAL | C14: =VLOOKUP(A14,'PLANILHA COM VALORES'!L14:W28,12,TRUE) -> 236251.8 | D14: =C14/$C$17 -> 0.067616414 | E14: 0.0833 | F14: =ROUND(E14*C14,2) -> 19679.77 | G14: 0.0833 | H14: =ROUND(G14*C14,2) -> 19679.77 | I14: 0.0833 | J14: =ROUND(I14*C14,2) -> 19679.77 | K14: 0.0833 | L14: =ROUND(K14*C14,2) -> 19679.77 | M14: 0.0833 | N14: =ROUND(M14*C14,2) -> 19679.77 | O14: 0.0833 | P14: =ROUND(O14*C14,2) -> 19679.77 | Q14: 0.0833 | R14: =ROUND(Q14*C14,2) -> 19679.77 | S14: 0.0833 | T14: =ROUND(S14*C14,2) -> 19679.77 | U14: 0.0834 | V14: =ROUND(U14*C14,2) -> 19703.4 | W14: 0.0834 | X14: =ROUND(W14*C14,2) -> 19703.4 | Y14: 0.0834 | Z14: =Y14*C14 -> 19703.4 | AA14: 0.0834 | AB14: =AA14*C14 -> 19703.4 | AC14: =F14+H14+J14+L14+N14+P14+R14+T14+V14+X14+Z14+AB14 -> 236251.76
A15: 2 | B15: =VLOOKUP(A15,'PLANILHA COM VALORES'!L15:W28,4,TRUE) -> TRANSPORTE | C15: =VLOOKUP(A15,'PLANILHA COM VALORES'!L14:W28,12,TRUE) -> 660207.48 | D15: =C15/$C$17 -> 0.18895459 | E15: 0.0833 | F15: =ROUND(E15*C15,2) -> 54995.28 | G15: 0.0833 | H15: =ROUND(G15*C15,2) -> 54995.28 | I15: 0.0833 | J15: =ROUND(I15*C15,2) -> 54995.28 | K15: 0.0833 | L15: =ROUND(K15*C15,2) -> 54995.28 | M15: 0.0833 | N15: =ROUND(M15*C15,2) -> 54995.28 | O15: 0.0833 | P15: =ROUND(O15*C15,2) -> 54995.28 | Q15: 0.0833 | R15: =ROUND(Q15*C15,2) -> 54995.28 | S15: 0.0833 | T15: =ROUND(S15*C15,2) -> 54995.28 | U15: 0.0834 | V15: =ROUND(U15*C15,2) -> 55061.3 | W15: 0.0834 | X15: =ROUND(W15*C15,2) -> 55061.3 | Y15: 0.0834 | Z15: =Y15*C15 -> 55061.304 | AA15: 0.0834 | AB15: =AA15*C15 -> 55061.304 | AC15: =F15+H15+J15+L15+N15+P15+R15+T15+V15+X15+Z15+AB15 -> 660207.45
A16: 3 | B16: =VLOOKUP(A16,'PLANILHA COM VALORES'!L16:W29,4,TRUE) -> LIMPEZA URBANA | C16: =VLOOKUP(A16,'PLANILHA COM VALORES'!L14:W29,12,TRUE) -> 2597541.5 | D16: =C16/$C$17 -> 0.743429 | E16: 0.0833 | F16: =ROUND(E16*C16,2) -> 216375.2 | G16: 0.0833 | H16: =ROUND(G16*C16,2) -> 216375.2 | I16: 0.0833 | J16: =ROUND(I16*C16,2) -> 216375.2 | K16: 0.0833 | L16: =ROUND(K16*C16,2) -> 216375.2 | M16: 0.0833 | N16: =ROUND(M16*C16,2) -> 216375.2 | O16: 0.0833 | P16: =ROUND(O16*C16,2) -> 216375.2 | Q16: 0.0833 | R16: =ROUND(Q16*C16,2) -> 216375.2 | S16: 0.0833 | T16: =ROUND(S16*C16,2) -> 216375.2 | U16: 0.0834 | V16: =ROUND(U16*C16,2) -> 216634.96 | W16: 0.0834 | X16: =ROUND(W16*C16,2) -> 216634.96 | Y16: 0.0834 | Z16: =Y16*C16 -> 216634.96 | AA16: 0.0834 | AB16: =AA16*C16 -> 216634.96 | AC16: =F16+H16+J16+L16+N16+P16+R16+T16+V16+X16+Z16+AB16 -> 2597541.4
A17: TOTAL | C17: =SUM(C14:C16) -> 3494000.7 | D17: 1 | E17: =F17/$C$17 -> 0.083299997 | F17: =SUM(F14:F16) -> 291050.25 | G17: =H17/$C$17 -> 0.083299997 | H17: =SUM(H14:H16) -> 291050.25 | I17: =J17/$C$17 -> 0.083299997 | J17: =SUM(J14:J16) -> 291050.25 | K17: =L17/$C$17 -> 0.083299997 | L17: =SUM(L14:L16) -> 291050.25 | M17: =N17/$C$17 -> 0.083299997 | N17: =SUM(N14:N16) -> 291050.25 | O17: =P17/$C$17 -> 0.083299997 | P17: =SUM(P14:P16) -> 291050.25 | Q17: =R17/$C$17 -> 0.083299997 | R17: =SUM(R14:R16) -> 291050.25 | S17: =T17/$C$17 -> 0.083299997 | T17: =SUM(T14:T16) -> 291050.25 | U17: =V17/$C$17 -> 0.0834 | V17: =SUM(V14:V16) -> 291399.66 | W17: =X17/$C$17 -> 0.0834 | X17: =SUM(X14:X16) -> 291399.66 | Y17: =Z17/$C$17 -> 0.0834 | Z17: =SUM(Z14:Z16) -> 291399.66 | AA17: =AB17/$C$17 -> 0.083400003 | AB17: =SUM(AB14:AB16)+0.01 -> 291399.67 | AC17: =F17+H17+J17+L17+N17+P17+R17+T17+V17+X17+Z17+AB17-0.05 -> 3494000.6
A18: ACUMULADO | E18: =E17 -> 0.083299997 | F18: =+F17 -> 291050.25 | G18: =G17+E18 -> 0.16659999 | H18: =+H17+F18 -> 582100.5 | I18: =I17+G18 -> 0.24989999 | J18: =+J17+H18 -> 873150.75 | K18: =K17+I18 -> 0.33319999 | L18: =+L17+J18 -> 1164201 | M18: =M17+K18 -> 0.41649998 | N18: =+N17+L18 -> 1455251.2 | O18: =O17+M18 -> 0.49979998 | P18: =+P17+N18 -> 1746301.5 | Q18: =Q17+O18 -> 0.58309998 | R18: =+R17+P18 -> 2037351.8 | S18: =S17+Q18 -> 0.66639997 | T18: =+T17+R18 -> 2328402 | U18: =U17+S18 -> 0.74979997 | V18: =+V17+T18 -> 2619801.7 | W18: =W17+U18 -> 0.83319997 | X18: =+X17+V18 -> 2911201.3 | Y18: =Y17+W18 -> 0.91659997 | Z18: =Z17+X18 -> 3202601 | AA18: =AA17+Y18 -> 0.99999998 | AB18: =Z18+AB17-0.05 -> 3494000.6
A20: =M20 -> #REF! | M20: =VEÍCULOS!B141 -> #REF! | Y20: =M20 -> #REF!

Sheet BDI
A1: PREFEITURA MUNICIPAL DE COXIM
A2: ESTADO DO MATO GROSSO DO SUL
A5: COMPOSIÇÃO ANALÍTICA DO BDI
A7: Objeto: Limpeza Pública Municipal
A9: VALORES DE BDI POR TIPO DE OBRA %
A10: TIPO DE OBRA | B10: 1 Quartil | C10: Médio | D10: 3 Quartil
A11: Construção de redes de abastecimento de água, coleta de esgoto e construções correlatas | B11: 20.76 | C11: 24.18 | D11: 26.44
A13: DESCRIÇÃO | B13: VALORES DE REFERÊNCIA - % | E13: BDI ADOTADO %
B14: 1º QUARTIL | C14: MÉDIO | D14: 3º QUARTIL
A15: Administração Central | B15: 3 | C15: 4 | D15: 5.5 | E15: 3
A16: Seguro e Garantia (*) | B16: 0.8 | C16: 0.8 | D16: 1 | E16: 0.8
A17: Risco | B17: 0.97 | C17: 1.27 | D17: 1.27 | E17: 1.27
A18: Despesas Financeiras | B18: 0.59 | C18: 1.23 | D18: 1.39 | E18: 0.59
A19: Lucro | B19: 6.16 | C19: 7.4 | D19: 8.96 | E19: 7.4
A20: Tributos (Confins, PIS e ISSQN) | B20: =SUM(B21:B23) -> 5.65 | C20: =SUM(C21:C23) -> 6.65 | D20: =SUM(D21:D23) -> 8.65 | E20: =SUM(E21:E23) -> 8.65
A21: COFINS | B21: 3 | C21: 3 | D21: 3 | E21: 3
A22: PIS | B22: 0.65 | C22: 0.65 | D22: 0.65 | E22: 0.65
A23: ISSQN (**) | B23: 2 | C23: 3 | D23: 5 | E23: 5
A24: TOTAL | E24: =ROUND((((((1+E15/100+E16/100+E17/100)*(1+E18/100)*(1+E19/100))/(1-E20/100))-1)*100),2) -> 24.26 | F24: =E24/100 -> 0.2426 | G24: =E24/100 -> 0.2426 | H24: =G24+1 -> 1.2426
A26: Fonte da composição, valores de referência e fórmula do BDI: Acórdão 2622/2013 - TCU - Plenário
G27: =E15+E16+E17+E18+E19+E20 -> 21.71
A28: Os valores de BDI acima foram calculados com emprego da fórmula abaixo:
A33: Onde:
A34: AC = taxa de rateio da Administração Central;
A35: DF = taxa das despesas financeiras;
A36: S = taxa de seguro; R = taxa de risco e G = garantia do empreendimento;
A37: I = taxa de tributos;
A38: L = taxa de lucro.
A40: OBS:
A41: (*) - PODE HAVER GARANTIA DESDE QUE PREVISTO NO EDITAL DA LICITAÇÃO E NO CONTRATO DE EXECUÇÃO.
A42: (**) - PODEM SER ACEITOS OUTROS PERCENTUAIS DE ISS DESDE QUE DEVIDAMENTE EMBASADOS NA LEGISLAÇÃO MUNICIPAL.
A43: (***) - CONTRIBUIÇÃO PREVIDENCIÁRIA INSTITUÍDA PARA DESONERAR A FOLHA DE SALÁRIOS DE DIVERSAS ATIVIDADES ECONÔMICAS DA CONSTRUÇÃO CIVIL PODERÁ IMPACTAR AS TAXAS DE BDI MEDIANTE A MAJORAÇÃO DO PERCENTUAL CORRESPONDENTE A 4,5%
A44: =VEÍCULOS!B141 -> #REF!

Sheet Administração
A3: ADM | B3: ADMINISTRAÇÃO LOCAL
A5: CUSTO COM FUNCIONÁRIOS
A6: 93566 | B6: ='BANCO DE DADOS'!C7208 -> AUXILIAR DE ESCRITORIO COM ENCARGOS COMPLEMENTARES | C6: ='BANCO DE DADOS'!D7208 -> MES | D6: 1 | E6: 3747.76 | F6: =D6*E6 -> 3747.76
A7: 93564 | B7: ='BANCO DE DADOS'!C7184 -> APONTADOR OU APROPRIADOR COM ENCARGOS COMPLEMENTARES | C7: ='BANCO DE DADOS'!D7206 -> MES | D7: 1 | E7: 4212.16 | F7: =D7*E7 -> 4212.16
A8: LEI 4950-A | B8: ENGENHEIRO AGRÔNOMO OU FLORESTAL 20 HORAS SEMANAIS | C8: ='BANCO DE DADOS'!D7188 -> H | D8: 20 | E8: 242.4 | F8: =E8*D8 -> 4848
A9: CUSTO TOTAL COM FUNCIONÁRIOS | F9: =SUM(F6:F8) -> 12807.92
A11: CUSTO COM ESCRITORIO
A12: DESCRIÇÃO | C12: UND | D12: QUANT/MÊS | E12: PREÇO UNITÁRIO | F12: PREÇO TOTAL
A13: ALUGUEL | C13: UND | D13: 1 | E13: 1980 | F13: =ROUND(D13*E13,2) -> 1980
A14: ENERGIA | C14: UND | D14: 1 | E14: 198 | F14: =ROUND(D14*E14,2) -> 198
A15: ÁGUA | C15: UND | D15: 1 | E15: 198 | F15: =ROUND(D15*E15,2) -> 198
A16: MAT.LIMPEZA E ESCRITÓRIO, INTERNET | C16: UND | D16: 1 | E16: 660 | F16: =ROUND(D16*E16,2) -> 660
A17: CUSTO TOTAL COM ESCRITORIO | F17: =SUM(F13:F16) -> 3036
A19: CUSTO TOTAL COM MÃO DE OBRA | F19: =F9 -> 12807.92
A20: CUSTO TOTAL MANUTENÇÃO DO ESCRITÓRIO | F20: =F17 -> 3036
A21: VALOR TOTAL DA ADMINISTRAÇÃO LOCAL | F21: =SUM(F19:F20) -> 15843.92
B23: obs1: na administração local foi inserido o cargo engenheiro agrônomo ou engenheiro florestal exigidos para para ser responsável técnico pelos serviços de podas em geral.
B25: obs2: A depesa de aluguel foi baseada em cotação no setor imobiliario local, o qual demonstrou uma média de um salário e meio mensal para um salão comercial.
A28: =BDI!A44 -> #REF!

Sheet Plan1
