Workbook
Name LINHA7: #REF!
Name LINHA7: #REF!
Name LINHA7: #REF!
Name LINHA7: #REF!
Name LINHA7: #REF!
Name LINHA7: #REF!
Name LINHA7: #REF!
Name LINHA7: #REF!
Name LINHA7: #REF!
Name LINHA7: #REF!
Name LINHA7: #REF!
Name LINHA7: #REF!
Name LINHA7: #REF!
Name LINHA7: #REF!
Name Print_Area_MI: #REF!

Sheet DADOS
B2: DADOS DO CONTRATANTE
B3: CLIENTE: | C3: PREFEITURA MUNICIPAL DE APARECIDA DO TABOADO / MS
B4: ENDEREÇO: | C4: RUA ELIAS TOLENTINO DE ALMEIDA, Nº 4.098 - JD. SÃO BENTO
B6: DADOS DA OBRA
B7: OBRA: | C7: PAVIMENTAÇÃO ASFÁLTICA E DRENAGEM DE ÁGUAS PLUVIAIS
B8: LOCAL: | C8: DIVERSAS RUAS NO BAIRRO PRIMAVERA, APARECIDA DO TABOADO / MS
B9: REFERÊNCIA | C9: SEM DESONERAÇÃO
C10: HORISTA: 106,76% MENSALISTA: 64,39%
C12: COMPOSIÇÃO MS: 09/2024 INSUMO MS: 09/2024
C14: SICRO MS 01/2024
B15: BDI SERVIÇO: | C15: ='BDI SERVIÇO'!$F$50 -> 0.2403

Sheet Resumo DMT's
B2: =DADOS!$B$3 -> CLIENTE: | C2: =DADOS!$C$3 -> PREFEITURA MUNICIPAL DE APARECIDA DO TABOADO / MS
B3: =DADOS!$B$4 -> ENDEREÇO: | C3: =DADOS!$C$4 -> RUA ELIAS TOLENTINO DE ALMEIDA, Nº 4.098 - JD. SÃO BENTO
B5: =DADOS!$B$7 -> OBRA: | C5: =DADOS!$C$7 -> PAVIMENTAÇÃO ASFÁLTICA E DRENAGEM DE ÁGUAS PLUVIAIS
B6: =DADOS!$B$8 -> LOCAL: | C6: =DADOS!$C$8 -> DIVERSAS RUAS NO BAIRRO PRIMAVERA, APARECIDA DO TABOADO / MS
B8: QUADRO DE DISTÂNCIA MÉDIAS DE TRANSPORTE DE INSUMOS - DMT
B10: INSUMO | C10: LOCAL | D10: CIDADE | E10: DMT (km)
B13: BOTA FORA | C13: LOCAL | D13: APARECIDA DO TABOADO/MS | E13: 6.4
B14: PEDREIRA | C14: PEDREIRA TRÊS BARRAS | D14: PARANAÍBA/MS | E14: 49
B15: TUBOS | C15: PAV TUBOS | D15: CAMPO GRANDE/MS | E15: 460
B16: JAZIDA DE CASCALHO | C16: LOCAL | D16: APARECIDA DO TABOADO/MS | E16: 11.5
B17: CM-IMPRIMA | C17: BETUNEL | D17: CAMPO GRANDE/MS | E17: 487
B18: EMULSÃO RR-2C | C18: BETUNEL | D18: CAMPO GRANDE/MS | E18: 487
B19: USINA DE CBUQ | C19: ASFALTEC | D19: PARANAÍBA/MS | E19: 49.5
B20: PISO PODOTÁTIL | C20: LAJES PREMIX | D20: TRÊS LAGOAS/MS | E20: 129

Sheet Orçamento
B2: =DADOS!$B$3 -> CLIENTE: | C2: =DADOS!$C$3 -> PREFEITURA MUNICIPAL DE APARECIDA DO TABOADO / MS | H2: ENCARGOS SOCIAIS | K2: BANCOS
B3: =DADOS!$B$4 -> ENDEREÇO: | C3: =DADOS!$C$4 -> RUA ELIAS TOLENTINO DE ALMEIDA, Nº 4.098 - JD. SÃO BENTO | H3: =DADOS!$C$9 -> SEM DESONERAÇÃO | K3: =DADOS!$C$12 -> COMPOSIÇÃO MS: 09/2024 INSUMO MS: 09/2024
H4: =DADOS!$C$10 -> HORISTA: 106,76% MENSALISTA: 64,39%
B5: =DADOS!$B$7 -> OBRA: | C5: =DADOS!$C$7 -> PAVIMENTAÇÃO ASFÁLTICA E DRENAGEM DE ÁGUAS PLUVIAIS
B6: =DADOS!$B$8 -> LOCAL: | C6: =DADOS!$C$8 -> DIVERSAS RUAS NO BAIRRO PRIMAVERA, APARECIDA DO TABOADO / MS | K6: =DADOS!$B$15 -> BDI SERVIÇO: | L6: =DADOS!$C$15 -> 0.2403
B8: PLANILHA ORÇAMENTÁRIA
B10: SICRO / SINAPI | C10: ITEM | D10: SERVIÇO | E10: DMT | F10: UNID. | G10: QUANT. | H10: PREÇO (R$) | L10: %
H11: UNITÁRIO S/ BDI | I11: BDI | J11: UNITÁRIO C/ BDI | K11: TOTAL
C13: 1 | D13: SERVIÇOS PRELIMINARES
B14: 103689 | C14: =IF(G14>0,C13+0.01,C13) -> 1.01 | D14: Fornecimento e instalação de placa de obra com chapa galvanizada e estrutura de madeira | F14: m² | G14: ='Serv. Preliminares'!J11 -> 8 | H14: 455.87 | I14: =ROUND((H14*$L$6),2) -> 109.55 | J14: =H14+I14 -> 565.42 | K14: =ROUND((G14*J14),2) -> 4523.36 | L14: =K14/$K$178 -> 0.0023442525
B15: 10776 - Insumo | C15: =IF(G15>0,C14+0.01,C14) -> 1.02 | D15: Locação de container 2,30m x 6,00m, alt 2,50m, para escritório, sem divisórias internas e sem sanitário (não inclui mobilização / desmobilização) | F15: mês | G15: ='Serv. Preliminares'!J14 -> 9 | H15: 650.39 | I15: =ROUND((H15*$L$6),2) -> 156.29 | J15: =H15+I15 -> 806.68 | K15: =ROUND((G15*J15),2) -> 7260.12 | L15: =K15/$K$178 -> 0.0037625913
E16: =CONCATENATE("SUBTOTAL ",C13) -> SUBTOTAL 1 | K16: =SUM(K13:K15) -> 11783.48 | L16: =SUM(L13:L15) -> 0.0061068438
C18: 2 | D18: DRENAGEM DE ÁGUAS PLUVIAIS - TERRAPLENAGEM
D20: ESCAVAÇÃO DE VALA
B21: 102278 | C21: =IF(G21>0,C18+0.01,C18) -> 2.01 | D21: Escavação mecanizada de vala com prof. de 1,50m até 3,00m (média entre montante e jusante / um composição por trecho), com escavadeira hidráulica (1,20m³ / 155HP), larg. de 1,50m a 2,50m, em solo de 1ª categoria, em locais com nível alto de interferência | F21: m³ | G21: ='Dre-Terraplenagem'!Q45 -> 2631.46 | H21: 8.57 | I21: =ROUND((H21*$L$6),2) -> 2.06 | J21: =H21+I21 -> 10.63 | K21: =ROUND((G21*J21),2) -> 27972.42 | L21: =K21/$K$178 -> 0.014496838
B22: 93358 | C22: =IF(G22>0,C21+0.01,C21) -> 2.02 | D22: Escavação manual de vala com profundidade menor ou igual a 1,30m | F22: m³ | G22: ='Dre-Terraplenagem'!Q50 -> 138.47 | H22: 82.91 | I22: =ROUND((H22*$L$6),2) -> 19.92 | J22: =H22+I22 -> 102.83 | K22: =ROUND((G22*J22),2) -> 14238.87 | L22: =K22/$K$178 -> 0.0073793612
D24: REGULARIZAÇÃO E ESCORAMENTO DE VALA
B25: 101616 | C25: =IF(G25>0,C22+0.01,C22) -> 2.03 | D25: Preparo de fundo de vala com largura menor que 1,50m (acerto do solo natural) | F25: m² | G25: ='Dre-Terraplenagem'!Q60 -> 682.12 | H25: 6.08 | I25: =ROUND((H25*$L$6),2) -> 1.46 | J25: =H25+I25 -> 7.54 | K25: =ROUND((G25*J25),2) -> 5143.18 | L25: =K25/$K$178 -> 0.0026654772
B26: 101617 | C26: =IF(G26>0,C25+0.01,C25) -> 2.04 | D26: Preparo de fundo de vala com largura maior ou igual a 1,50m e menor que 2,50m (acerto do solo natural) | F26: m² | G26: ='Dre-Terraplenagem'!Q61 -> 343.77 | H26: 3 | I26: =ROUND((H26*$L$6),2) -> 0.72 | J26: =H26+I26 -> 3.72 | K26: =ROUND((G26*J26),2) -> 1278.82 | L26: =K26/$K$178 -> 0.00066275447
B27: 101573 | C27: =IF(G27>0,C26+0.01,C26) -> 2.05 | D27: Escoramento de vala, tipo pontaleteamento, com profundidade de 1,50m a 3,00m, largura maior ou igual a 1,50m e menor que 2,50m | F27: m² | G27: ='Dre-Terraplenagem'!Q64 -> 643.33 | H27: 26.87 | I27: =ROUND((H27*$L$6),2) -> 6.46 | J27: =H27+I27 -> 33.33 | K27: =ROUND((G27*J27),2) -> 21442.19 | L27: =K27/$K$178 -> 0.011112516
B28: 101579 | C28: =IF(G28>0,C27+0.01,C27) -> 2.06 | D28: Escoramento de vala, tipo descontínuo, com profundidade de 1,50m a 3,00m, largura maior ou igual a 1,50m e menor que 2,50m | F28: m² | G28: ='Dre-Terraplenagem'!Q66 -> 583.55 | H28: 46.01 | I28: =ROUND((H28*$L$6),2) -> 11.06 | J28: =H28+I28 -> 57.07 | K28: =ROUND((G28*J28),2) -> 33303.2 | L28: =K28/$K$178 -> 0.01725954
D30: REATERRO DE VALA
B31: 93369 | C31: =IF(G31>0,C28+0.01,C28) -> 2.07 | D31: Reaterro mecanizado de vala com escavadeira hidráulica, (capacidade da caçamba da retro: 0,80m³ / 111HP), larg. de 1,50m a 2,50m, profundidade de1,50m a 3,00m, com solo de 1ª categoria, com compactador de solos de percussão | F31: m³ | G31: ='Dre-Terraplenagem'!Q75 -> 2444.25 | H31: 16.36 | I31: =ROUND((H31*$L$6),2) -> 3.93 | J31: =H31+I31 -> 20.29 | K31: =ROUND((G31*J31),2) -> 49593.83 | L31: =K31/$K$178 -> 0.025702235
D33: CARGA, ESPALHAMENTO E TRANSPORTE DE BOTA FORA
B34: 100978 | C34: =IF(G34>0,C31+0.01,C31) -> 2.08 | D34: Carga, manobra e descarga de solos e materiais granulares em caminhão basculante 10m³, carga com escavadeira hidráulica (caçamba de 1,20m³ / 155HP) e descarga livre | F34: m³ | G34: ='Dre-Terraplenagem'!Q79 -> 423.33 | H34: 6.8 | I34: =ROUND((H34*$L$6),2) -> 1.63 | J34: =H34+I34 -> 8.43 | K34: =ROUND((G34*J34),2) -> 3568.67 | L34: =K34/$K$178 -> 0.00184948
B35: 95875 | C35: =IF(G35>0,C34+0.01,C34) -> 2.09 | D35: Transporte com caminhão basculante de 10m³, em via urbana pavimentada, DMT até 30km - BOTA FORA | E35: ='Dre-Terraplenagem'!$E$80 -> 6.4 | F35: m³.km | G35: ='Dre-Terraplenagem'!Q80 -> 2709.29 | H35: 2.43 | I35: =ROUND((H35*$L$6),2) -> 0.58 | J35: =H35+I35 -> 3.01 | K35: =ROUND((G35*J35),2) -> 8154.96 | L35: =K35/$K$178 -> 0.0042263463
B36: 100574 | C36: =IF(G36>0,C35+0.01,C35) -> 2.1 | D36: Espalhamento de material com trator esteiras | F36: m³ | G36: ='Dre-Terraplenagem'!Q81 -> 423.33 | H36: 1.35 | I36: =ROUND((H36*$L$6),2) -> 0.32 | J36: =H36+I36 -> 1.67 | K36: =ROUND((G36*J36),2) -> 706.96 | L36: =K36/$K$178 -> 0.00036638534
E38: =CONCATENATE("SUBTOTAL ",C18) -> SUBTOTAL 2 | K38: =SUM(K18:K37) -> 165403.1 | L38: =SUM(L18:L37) -> 0.085720933
C40: 3 | D40: DRENAGEM DE ÁGUAS PLUVIAIS - DISPOSITIVOS ESTRUTURAIS 01
D42: FORNECIMENTO DE TUBOS
B43: 7781 - Insumo | C43: =IF(G43>0,C40+0.01,C40) -> 3.01 | D43: Tubo de concreto simples para águas pluviais, classe PS-1, com encaixe ponta e bolsa, diâmetro nominal de 400mm | F43: m | G43: ='Dre-Disp. Estruturais'!O23 -> 690 | H43: 73.26 | I43: =ROUND((H43*$L$6),2) -> 17.6 | J43: =H43+I43 -> 90.86 | K43: =ROUND((G43*J43),2) -> 62693.4 | L43: =K43/$K$178 -> 0.032491149
B44: 7791 - Insumo | C44: =IF(G44>0,C43+0.01,C43) -> 3.02 | D44: Tubo de concreto simples para águas pluviais, classe PS-1, com encaixe ponta e bolsa, diâmetro nominal de 600mm | F44: m | G44: ='Dre-Disp. Estruturais'!O24 -> 108.44 | H44: 130.53 | I44: =ROUND((H44*$L$6),2) -> 31.37 | J44: =H44+I44 -> 161.9 | K44: =ROUND((G44*J44),2) -> 17556.44 | L44: =K44/$K$178 -> 0.0090987074
B45: 7750 - Insumo | C45: =IF(G45>0,C44+0.01,C44) -> 3.03 | D45: Tubo de concreto armado para águas pluviais, classe PA-1, com encaixe ponta e bolsa, diâmetro nominal de 800mm | F45: m | G45: ='Dre-Disp. Estruturais'!O25 -> 202.36 | H45: 414.3 | I45: =ROUND((H45*$L$6),2) -> 99.56 | J45: =H45+I45 -> 513.86 | K45: =ROUND((G45*J45),2) -> 103984.71 | L45: =K45/$K$178 -> 0.053890564
B46: 7753 - Insumo | C46: =IF(G46>0,C45+0.01,C45) -> 3.04 | D46: Tubo de concreto armado para águas pluviais, classe PA-1, com encaixe ponta e bolsa, diâmetro nominal de 1.000mm | F46: m | G46: ='Dre-Disp. Estruturais'!O26 -> 10 | H46: 485.44 | I46: =ROUND((H46*$L$6),2) -> 116.65 | J46: =H46+I46 -> 602.09 | K46: =ROUND((G46*J46),2) -> 6020.9 | L46: =K46/$K$178 -> 0.0031203597
D48: ASSENTAMENTO DE TUBOS
B49: 92821 | C49: =IF(G49>0,C46+0.01,C46) -> 3.05 | D49: Assentamento de tubo de concreto para redes coletoras de águas pluviais, diâmetro de 400mm, junta rígida, instalado em local com alto nível de interferência (não inclui fornecimento) | F49: m | G49: ='Dre-Disp. Estruturais'!O28 -> 690 | H49: 35.44 | I49: =ROUND((H49*$L$6),2) -> 8.52 | J49: =H49+I49 -> 43.96 | K49: =ROUND((G49*J49),2) -> 30332.4 | L49: =K49/$K$178 -> 0.015719909
B50: 92824 | C50: =IF(G50>0,C49+0.01,C49) -> 3.06 | D50: Assentamento de tubo de concreto para redes coletoras de águas pluviais, diâmetro de 600mm, junta rígida, instalado em local com alto nível de interferência (não inclui fornecimento) | F50: m | G50: ='Dre-Disp. Estruturais'!O29 -> 108.44 | H50: 56.35 | I50: =ROUND((H50*$L$6),2) -> 13.54 | J50: =H50+I50 -> 69.89 | K50: =ROUND((G50*J50),2) -> 7578.87 | L50: =K50/$K$178 -> 0.0039277849
B51: 92826 | C51: =IF(G51>0,C50+0.01,C50) -> 3.07 | D51: Assentamento de tubo de concreto para redes coletoras de águas pluviais, diâmetro de 800mm, junta rígida, instalado em local com alto nível de interferência (não inclui fornecimento) | F51: m | G51: ='Dre-Disp. Estruturais'!O30 -> 202.36 | H51: 78.23 | I51: =ROUND((H51*$L$6),2) -> 18.8 | J51: =H51+I51 -> 97.03 | K51: =ROUND((G51*J51),2) -> 19634.99 | L51: =K51/$K$178 -> 0.010175926
B52: 92828 | C52: =IF(G52>0,C51+0.01,C51) -> 3.08 | D52: Assentamento de tubo de concreto para redes coletoras de águas pluviais, diâmetro de 1.000mm, junta rígida, instalado em local com alto nível de interferência (não inclui fornecimento) | F52: m | G52: ='Dre-Disp. Estruturais'!O31 -> 10 | H52: 101.13 | I52: =ROUND((H52*$L$6),2) -> 24.3 | J52: =H52+I52 -> 125.43 | K52: =ROUND((G52*J52),2) -> 1254.3 | L52: =K52/$K$178 -> 0.00065004686
D54: TRANSPORTE DE TUBOS
...

Sheet BDI SERVIÇO
C2: VERIFICAÇÃO DO BDI - ACÓRDÃO 2.622/2013
C5: DADOS INICIAIS
C7: TIPO DE OBRA: | D7: Construção de rodovias e ferrovias
C9: ENQUADRAMENTO NA DESONERAÇÃO CONFORME LEI N° 12.844/2013:* | G9: NÃO | L9: =IF(G9="","PREENCHER SE A OBRA POSSUI FOLHA DE PAGAMENTO DESONERADA","")
C10: *Uso de encargos sociais desonerados na elaboração do orçamento
C12: ENQUADRAM-SE NO TIPO SELECIONADO:
C13: =VLOOKUP(BV295,BW257:BX262,2,0) -> A construção e recuperação de: auto-estradas, rodovias e outras vias não-urbanas para passagem de veículos, vias férreas de superfície ou subterrâneas (inclusive para metropolitanos), pistas de aeroportos. Esta classe compreende também: a pavimentação de auto-estradas, rodovias e outras vias não-urbanas; construção de pontes, viadutos e túneis; a instalação de barreiras acústicas; a construção de praças de pedágio; a sinalização com pintura em rodovias e aeroportos; a instalação de placas de sinalização de tráfego e semelhantes, conforme classificação 4211-1 do CNAE 2.0. Também enquadram-se a construção, pavimentação e sinalização de vias urbanas, ruas e locais para estacionamento de veículos; a construção de praças e calçadas para pedestres; elevados, passarelas e ciclovias; metrô e VLT.
C15: CÁLCULO DOS IMPOSTOS
C17: TIPO DE TRIBUTAÇÃO SOBRE O LUCRO: | F17: LUCRO PRESUMIDO | L17: =IF(F17="LUCRO REAL","PARA CÁLCULO DO IMPOSTO PREENCHER O % ADOTADO DE LUCRO NO CÁLCULO DO BDI - CELULA F40","")
C19: Imposto | D19: Aliquota | E19: Base de cálculo
C20: PIS | D20: =VLOOKUP($F$17,$CF$266:$CI$267,2,0) -> 0.0065 | E20: =VLOOKUP(F17,CF266:CI267,4,0) -> RECEITA BRUTA (VALOR DA NOTA)
C21: COFINS | D21: =VLOOKUP($F$17,$CF$266:$CI$267,3,0) -> 0.03
C23: ISS BRUTO % (LEI MUNICIPAL): | E23: % INCIDÊNCIA (M.OBRA)*
C24: 0.05 | E24: 0.4
E25: ,
C26: ISS LÍQUIDO | D26: =+C24*E24 -> 0.02
E28: TOTAL IMPOSTOS | G28: =VLOOKUP(F17,CF266:CJ267,5,0) -> 0.0565
C30: *Incidência do total do contrato que representa mão de obra para compor a base de cálculo conf. legislação municipal.
C34: VERIFICAÇÃO E CÁLCULO DO BDI
C36: ITEM COMPONENTE | D36: 1º QUARTIL | E36: MÉDIO | F36: 3º QUARTIL | G36: Adotado | J36: Cálculo arredondado
C37: Administração Central | D37: =BW296 -> 0.038 | E37: =BX296 -> 0.0401 | F37: =BY296 -> 0.0467 | G37: 0.0467 | J37: =TRUNC(G37,4) -> 0.0467
C38: Seguro e Garantia | D38: =BW297 -> 0.0032 | E38: =BX297 -> 0.004 | F38: =BY297 -> 0.0074 | G38: 0.0074 | J38: =TRUNC(G38,4) -> 0.0074
C39: Risco | D39: =BW298 -> 0.005 | E39: =BX298 -> 0.0056 | F39: =BY298 -> 0.0097 | G39: 0.0097 | J39: =TRUNC(G39,4) -> 0.0097
C40: Despesas Financeiras | D40: =BW299 -> 0.0102 | E40: =BX299 -> 0.0111 | F40: =BY299 -> 0.0121 | G40: 0.0121 | J40: =TRUNC(G40,4) -> 0.0121
C41: Lucro | D41: =BW300 -> 0.0664 | E41: =BX300 -> 0.073 | F41: =BY300 -> 0.0869 | G41: 0.0869 | J41: =TRUNC(G41,4) -> 0.0869
C43: Impostos | G43: =G28 -> 0.0565 | J43: =TRUNC(G43,5) -> 0.0565
C50: BDI CALCULADO | F50: =TRUNC((((1+J37+J38+J39)*(1+J40)*(1+J41))/(1-J43))-1,4) -> 0.2403
C52: =IF(F50<D54,"ERRO - BDI INFERIOR AO 1º QUARTIL",IF(F50>F54,"ERRO - BDI SUPERIOR AO 3º QUARTIL",""))
D53: 1º QUARTIL | E53: MÉDIO | F53: 3º QUARTIL
C54: LIMITES DO BDI | D54: =BW295 -> 0.196 | E54: =BX295 -> 0.2097 | F54: =BY295 -> 0.2423
C56: CORREÇÃO DA DESONERAÇÃO
C58: BDI CALCULADO C/ DESONERAÇÃO (USO DE E.S. DESONERADOS): | F58: =TRUNC((((1+J37+J38+J39)*(1+J40)*(1+J41))/(1-J60))-1,4) -> 0.3024
C60: INSS SOBRE A RECEITA BRUTA: | D60: 0.045 | E60: TOTAL IMPOSTOS | G60: =+G28+D60 -> 0.1015 | J60: =TRUNC(G60,5) -> 0.1015
B65: ________________________________________________________
B66: SOSURB - SECRETÁRIA DE OBRAS E SERVIÇOS URBANOS
BU255: BANCO DE DADOS
BV256: TIPO DE OBRA | BW256: CÓDIGO | BX256: ENQUARAMENTO
BU257: 100 | BV257: Construção de edificios | BW257: =+BU257 -> 100 | BX257: A construção e reforma de: edifícios, unidades habitacionais, escolas, hospitais, hotéis, restaurantes, armazéns e depósitos, edifícios para uso agropecuário, estações para trens e metropolitanos, estádios esportivos e quadras cobertas, instalações para embarque e desembarque de passageiros (em aeroportos, rodoviárias, portos, etc.), penitenciárias e presídios, a construção de edifícios industriais (fábricas, oficinas, galpões industriais, etc.), conforme classificação 4120-4 do CNAE 2.0. Também enquadram-se pórticos, mirantes e outros edifícios de finalidade turística.
BU258: 200 | BV258: Construção de rodovias e ferrovias | BW258: =+BU258 -> 200 | BX258: A construção e recuperação de: auto-estradas, rodovias e outras vias não-urbanas para passagem de veículos, vias férreas de superfície ou subterrâneas (inclusive para metropolitanos), pistas de aeroportos. Esta classe compreende também: a pavimentação de auto-estradas, rodovias e outras vias não-urbanas; construção de pontes, viadutos e túneis; a instalação de barreiras acústicas; a construção de praças de pedágio; a sinalização com pintura em rodovias e aeroportos; a instalação de placas de sinalização de tráfego e semelhantes, conforme classificação 4211-1 do CNAE 2.0. Também enquadram-se a construção, pavimentação e sinalização de vias urbanas, ruas e locais para estacionamento de veículos; a construção de praças e calçadas para pedestres; elevados, passarelas e ciclovias; metrô e VLT.
BU259: 300 | BV259: Construção de Redes de Abastecimento de Água, Coleta de Esgoto e Construções Correlatas | BW259: =+BU259 -> 300 | BX259: A construção de sistemas para o abastecimento de água tratada: reservatórios de distribuição, estações elevatórias de bombeamento, linhas principais de adução de longa e média distância e redes de distribuição de água; a construção de redes de coleta de esgoto, inclusive de interceptores, estações de tratamento de esgoto (ETE), estações de bombeamento de esgoto (EBE); a construção de galerias pluviais (obras de micro e macro drenagem). Esta classe compreende também: as obras de irrigação (canais); a manutenção de redes de abastecimento de água tratada; a manutenção de redes de coleta e de sistemas de tratamento de esgoto, conforme classificação 4222-7 do CNAE 2.0. Enquadra-se ainda a construção de estações de tratamento de água (ETA).
...

Sheet Tabela Resumo
B2: =DADOS!$B$3 -> CLIENTE: | C2: =DADOS!$C$3 -> PREFEITURA MUNICIPAL DE APARECIDA DO TABOADO / MS
B3: =DADOS!$B$4 -> ENDEREÇO: | C3: =DADOS!$C$4 -> RUA ELIAS TOLENTINO DE ALMEIDA, Nº 4.098 - JD. SÃO BENTO
B5: =DADOS!$B$7 -> OBRA: | C5: =DADOS!$C$7 -> PAVIMENTAÇÃO ASFÁLTICA E DRENAGEM DE ÁGUAS PLUVIAIS
B6: =DADOS!$B$8 -> LOCAL: | C6: =DADOS!$C$8 -> DIVERSAS RUAS NO BAIRRO PRIMAVERA, APARECIDA DO TABOADO / MS
B8: ITEM | D8: SERVIÇO | E8: VALOR | F8: %
B10: TABELA RESUMO | C10: =Orçamento!C182 -> 1 | D10: =Orçamento!D182 -> SERVIÇOS PRELIMINARES | E10: =Orçamento!K182 -> 11783.48 | F10: =Orçamento!L182 -> 0.0061068438 | H10: 0
C11: =Orçamento!C183 -> 2 | D11: =Orçamento!D183 -> DRENAGEM DE ÁGUAS PLUVIAIS - TERRAPLENAGEM | E11: =Orçamento!K183 -> 165403.1 | F11: =Orçamento!L183 -> 0.085720933 | H11: 0
C12: =Orçamento!C184 -> 3 | D12: =Orçamento!D184 -> DRENAGEM DE ÁGUAS PLUVIAIS - DISPOSITIVOS ESTRUTURAIS 01 | E12: =Orçamento!K184 -> 443857.12 | F12: =Orçamento!L184 -> 0.23003104 | H12: -0.01
C13: =Orçamento!C185 -> 4 | D13: =Orçamento!D185 -> DRENAGEM DE ÁGUAS PLUVIAIS - DISPOSITIVOS ESTRUTURAIS 02 | E13: =Orçamento!K185 -> 90090.29 | F13: =Orçamento!L185 -> 0.046689716 | H13: -0.02
C14: =Orçamento!C186 -> 5 | D14: =Orçamento!D186 -> IMPLANTAÇÃO ASFÁLTICA - TERRAPLENAGEM - VIÁRIO | E14: =Orçamento!K186 -> 107195.45 | F14: =Orçamento!L186 -> 0.055554545 | H14: 0.01
C15: =Orçamento!C187 -> 6 | D15: =Orçamento!D187 -> IMPLANTAÇÃO ASFÁLTICA - PAVIMENTAÇÃO | E15: =Orçamento!K187 -> 760731.1 | F15: =Orçamento!L187 -> 0.39425246 | H15: 0
C16: =Orçamento!C188 -> 7 | D16: =Orçamento!D188 -> SERVIÇOS COMPLEMENTARES | E16: =Orçamento!K188 -> 112155.04 | F16: =Orçamento!L188 -> 0.058124876 | H16: -0.1
C17: =Orçamento!C189 -> 8 | D17: =Orçamento!D189 -> PASSEIO COM ACESSIBILIDADE | E17: =Orçamento!K189 -> 129036.32 | F17: =Orçamento!L189 -> 0.066873678 | H17: -0.01
C18: =Orçamento!C190 -> 9 | D18: =Orçamento!D190 -> SINALIZAÇÃO VIÁRIA | E18: =Orçamento!K190 -> 21681.361 | F18: =Orçamento!L190 -> 0.011236467 | H18: 0.01
C19: =Orçamento!C191 -> 10 | D19: =Orçamento!D191 -> ADMINISTRAÇÃO LOCAL | E19: =Orçamento!K191 -> 87619.94 | F19: =Orçamento!L191 -> 0.045409445 | H19: -0.01
B21: VALOR GERAL | E21: =SUM(E9:E20) -> 1929553.2 | F21: =SUM(F9:F20) -> 1

Sheet Cronograma
B2: =DADOS!$B$3 -> CLIENTE: | C2: =DADOS!$C$3 -> PREFEITURA MUNICIPAL DE APARECIDA DO TABOADO / MS
B3: =DADOS!$B$4 -> ENDEREÇO: | C3: =DADOS!$C$4 -> RUA ELIAS TOLENTINO DE ALMEIDA, Nº 4.098 - JD. SÃO BENTO
B5: =DADOS!$B$7 -> OBRA: | C5: =DADOS!$C$7 -> PAVIMENTAÇÃO ASFÁLTICA E DRENAGEM DE ÁGUAS PLUVIAIS
B6: =DADOS!$B$8 -> LOCAL: | C6: =DADOS!$C$8 -> DIVERSAS RUAS NO BAIRRO PRIMAVERA, APARECIDA DO TABOADO / MS
B8: ITEM | D8: SERVIÇO | E8: PESO (%) | F8: PREÇO TOTAL | G8: MÊS 01 | J8: MÊS 02 | M8: MÊS 03
G9: CONCEDENTE | H9: PROPONENTE | I9: % | J9: CONCEDENTE | K9: PROPONENTE | L9: % | M9: CONCEDENTE | N9: PROPONENTE | O9: %
B11: CRONOGRAMA FÍSICO FINANCEIRO | C11: ='Tabela Resumo'!C10 -> 1 | D11: ='Tabela Resumo'!D10 -> SERVIÇOS PRELIMINARES | E11: ='Tabela Resumo'!F10 -> 0.0061068438 | F11: ='Tabela Resumo'!E10 -> 11783.48 | G11: =I11*$E$67*$F$11 -> 11666.781 | H11: =I11*$F$67*$F$11 -> 116.6991 | I11: 1 | J11: =L11*$E$67*$F$11 -> 0 | K11: =L11*$F$67*$F$11 -> 0 | M11: =O11*$E$67*$F$11 -> 0 | N11: =O11*$F$67*$F$11 -> 0 | R11: =I11+L11+I28+L28+I45+L45+O11+O28+O45 -> 1
C12: ='Tabela Resumo'!C11 -> 2 | D12: ='Tabela Resumo'!D11 -> DRENAGEM DE ÁGUAS PLUVIAIS - TERRAPLENAGEM | E12: ='Tabela Resumo'!F11 -> 0.085720933 | F12: ='Tabela Resumo'!E11 -> 165403.1 | G12: =I12*$E$67*$F$12 -> 163765.01 | H12: =I12*$F$67*$F$12 -> 1638.0894 | I12: 1 | J12: =L12*$E$67*$F$12 -> 0 | K12: =L12*$F$67*$F$12 -> 0 | M12: =O12*$E$67*$F$12 -> 0 | N12: =O12*$F$67*$F$12 -> 0 | R12: =I12+L12+I29+L29+I46+L46+O12+O29+O46 -> 1
C13: ='Tabela Resumo'!C12 -> 3 | D13: ='Tabela Resumo'!D12 -> DRENAGEM DE ÁGUAS PLUVIAIS - DISPOSITIVOS ESTRUTURAIS 01 | E13: ='Tabela Resumo'!F12 -> 0.23003104 | F13: ='Tabela Resumo'!E12 -> 443857.12 | G13: =I13*$E$67*$F$13 -> 0 | H13: =I13*$F$67*$F$13 -> 0 | J13: =L13*$E$67*$F$13 -> 198636.52 | K13: =L13*$F$67*$F$13 -> 1986.898 | L13: 0.452 | M13: =O13*$E$67*$F$13 -> 240824.81 | N13: =O13*$F$67*$F$13 -> 2408.894 | O13: 0.548 | R13: =I13+L13+I30+L30+I47+L47+O13+O30+O47 -> 1
C14: ='Tabela Resumo'!C13 -> 4 | D14: ='Tabela Resumo'!D13 -> DRENAGEM DE ÁGUAS PLUVIAIS - DISPOSITIVOS ESTRUTURAIS 02 | E14: ='Tabela Resumo'!F13 -> 0.046689716 | F14: ='Tabela Resumo'!E13 -> 90090.29 | G14: =I14*$E$67*$F$14 -> 0 | H14: =I14*$F$67*$F$14 -> 0 | J14: =L14*$E$67*$F$14 -> 0 | K14: =L14*$F$67*$F$14 -> 0 | M14: =O14*$E$67*$F$14 -> 0 | N14: =O14*$F$67*$F$14 -> 0 | R14: =I14+L14+I31+L31+I48+L48+O14+O31+O48 -> 1
C15: ='Tabela Resumo'!C14 -> 5 | D15: ='Tabela Resumo'!D14 -> IMPLANTAÇÃO ASFÁLTICA - TERRAPLENAGEM - VIÁRIO | E15: ='Tabela Resumo'!F14 -> 0.055554545 | F15: ='Tabela Resumo'!E14 -> 107195.45 | G15: =I15*$E$67*$F$15 -> 0 | H15: =I15*$F$67*$F$15 -> 0 | J15: =L15*$E$67*$F$15 -> 0 | K15: =L15*$F$67*$F$15 -> 0 | M15: =O15*$E$67*$F$15 -> 0 | N15: =O15*$F$67*$F$15 -> 0 | R15: =I15+L15+I32+L32+I49+L49+O15+O32+O49 -> 1
C16: ='Tabela Resumo'!C15 -> 6 | D16: ='Tabela Resumo'!D15 -> IMPLANTAÇÃO ASFÁLTICA - PAVIMENTAÇÃO | E16: ='Tabela Resumo'!F15 -> 0.39425246 | F16: ='Tabela Resumo'!E15 -> 760731.1 | G16: =I16*$E$67*$F$16 -> 0 | H16: =I16*$F$67*$F$16 -> 0 | J16: =L16*$E$67*$F$16 -> 0 | K16: =L16*$F$67*$F$16 -> 0 | M16: =O16*$E$67*$F$16 -> 0 | N16: =O16*$F$67*$F$16 -> 0 | R16: =I16+L16+I33+L33+I50+L50+O16+O33+O50 -> 1
C17: ='Tabela Resumo'!C16 -> 7 | D17: ='Tabela Resumo'!D16 -> SERVIÇOS COMPLEMENTARES | E17: ='Tabela Resumo'!F16 -> 0.058124876 | F17: ='Tabela Resumo'!E16 -> 112155.04 | G17: =I17*$E$67*$F$17 -> 0 | H17: =I17*$F$67*$F$17 -> 0 | J17: =L17*$E$67*$F$17 -> 0 | K17: =L17*$F$67*$F$17 -> 0 | M17: =O17*$E$67*$F$17 -> 0 | N17: =O17*$F$67*$F$17 -> 0 | R17: =I17+L17+I34+L34+I51+L51+O17+O34+O51 -> 1
C18: ='Tabela Resumo'!C17 -> 8 | D18: ='Tabela Resumo'!D17 -> PASSEIO COM ACESSIBILIDADE | E18: ='Tabela Resumo'!F17 -> 0.066873678 | F18: ='Tabela Resumo'!E17 -> 129036.32 | G18: =I18*$E$67*$F$18 -> 0 | H18: =I18*$F$67*$F$18 -> 0 | J18: =L18*$E$67*$F$18 -> 0 | K18: =L18*$F$67*$F$18 -> 0 | M18: =O18*$E$67*$F$18 -> 0 | N18: =O18*$F$67*$F$18 -> 0 | R18: =I18+L18+I35+L35+I52+L52+O18+O35+O52 -> 1
C19: ='Tabela Resumo'!C18 -> 9 | D19: ='Tabela Resumo'!D18 -> SINALIZAÇÃO VIÁRIA | E19: ='Tabela Resumo'!F18 -> 0.011236467 | F19: ='Tabela Resumo'!E18 -> 21681.361 | G19: =I19*$E$67*$F$19 -> 0 | H19: =I19*$F$67*$F$19 -> 0 | J19: =L19*$E$67*$F$19 -> 0 | K19: =L19*$F$67*$F$19 -> 0 | M19: =O19*$E$67*$F$19 -> 0 | N19: =O19*$F$67*$F$19 -> 0 | R19: =I19+L19+I36+L36+I53+L53+O19+O36+O53 -> 1
C20: ='Tabela Resumo'!C19 -> 10 | D20: ='Tabela Resumo'!D19 -> ADMINISTRAÇÃO LOCAL | E20: ='Tabela Resumo'!F19 -> 0.045409445 | F20: ='Tabela Resumo'!E19 -> 87619.94 | G20: =I20*$E$67*$F$20 -> 9638.1678 | H20: =I20*$F$67*$F$20 -> 96.40753 | I20: 0.1111 | J20: =L20*$E$67*$F$20 -> 9638.1678 | K20: =L20*$F$67*$F$20 -> 96.40753 | L20: 0.1111 | M20: =O20*$E$67*$F$20 -> 9638.1678 | N20: =O20*$F$67*$F$20 -> 96.40753 | O20: 0.1111 | R20: =I20+L20+I37+L37+I54+L54+O20+O37+O54 -> 1
B22: TOTAL MENSAL | E22: =SUM(E10:E21) -> 1 | F22: =SUM(F10:F21) -> 1929553.2 | G22: =SUM(G10:G21) -> 185069.96 | H22: =SUM(H10:H21) -> 1851.196 | I22: =(G22+H22)/$F$22 -> 0.096872766 | J22: =SUM(J10:J21) -> 208274.69 | K22: =SUM(K10:K21) -> 2083.3055 | L22: =(J22+K22)/$F$22 -> 0.10901902 | M22: =SUM(M10:M21) -> 250462.98 | N22: =SUM(N10:N21) -> 2505.3015 | O22: =(M22+N22)/$F$22 -> 0.131102
B23: TOTAL MENSAL ACUMULADO | G23: =G22 -> 185069.96 | H23: =H22 -> 1851.196 | I23: =I22 -> 0.096872766 | J23: =J22+G23 -> 393344.65 | K23: =K22+H23 -> 3934.5015 | L23: =L22+I23 -> 0.20589178 | M23: =M22+J23 -> 643807.62 | N23: =N22+K23 -> 6439.8031 | O23: =O22+L23 -> 0.33699378
B25: ITEM | D25: SERVIÇO | E25: PESO (%) | F25: PREÇO TOTAL | G25: MÊS 04 | J25: MÊS 05 | M25: MÊS 06
G26: CONCEDENTE | H26: PROPONENTE | I26: % | J26: CONCEDENTE | K26: PROPONENTE | L26: % | M26: CONCEDENTE | N26: PROPONENTE | O26: %
B28: CRONOGRAMA FÍSICO FINANCEIRO | C28: ='Tabela Resumo'!C10 -> 1 | D28: ='Tabela Resumo'!D10 -> SERVIÇOS PRELIMINARES | E28: ='Tabela Resumo'!F10 -> 0.0061068438 | F28: ='Tabela Resumo'!E10 -> 11783.48 | G28: =I28*$E$67*$F$28 -> 0 | H28: =I28*$F$67*$F$28 -> 0 | J28: =L28*$E$67*$F$28 -> 0 | K28: =L28*$F$67*$F$28 -> 0 | M28: =O28*$E$67*$F$28 -> 0 | N28: =O28*$F$67*$F$28 -> 0 | R28: =R11 -> 1
C29: ='Tabela Resumo'!C11 -> 2 | D29: ='Tabela Resumo'!D11 -> DRENAGEM DE ÁGUAS PLUVIAIS - TERRAPLENAGEM | E29: ='Tabela Resumo'!F11 -> 0.085720933 | F29: ='Tabela Resumo'!E11 -> 165403.1 | G29: =I29*$E$67*$F$29 -> 0 | H29: =I29*$F$67*$F$29 -> 0 | J29: =L29*$E$67*$F$29 -> 0 | K29: =L29*$F$67*$F$29 -> 0 | M29: =O29*$E$67*$F$29 -> 0 | N29: =O29*$F$67*$F$29 -> 0 | R29: =R12 -> 1
C30: ='Tabela Resumo'!C12 -> 3 | D30: ='Tabela Resumo'!D12 -> DRENAGEM DE ÁGUAS PLUVIAIS - DISPOSITIVOS ESTRUTURAIS 01 | E30: ='Tabela Resumo'!F12 -> 0.23003104 | F30: ='Tabela Resumo'!E12 -> 443857.12 | G30: =I30*$E$67*$F$30 -> 0 | H30: =I30*$F$67*$F$30 -> 0 | J30: =L30*$E$67*$F$30 -> 0 | K30: =L30*$F$67*$F$30 -> 0 | M30: =O30*$E$67*$F$30 -> 0 | N30: =O30*$F$67*$F$30 -> 0 | R30: =R13 -> 1
C31: ='Tabela Resumo'!C13 -> 4 | D31: ='Tabela Resumo'!D13 -> DRENAGEM DE ÁGUAS PLUVIAIS - DISPOSITIVOS ESTRUTURAIS 02 | E31: ='Tabela Resumo'!F13 -> 0.046689716 | F31: ='Tabela Resumo'!E13 -> 90090.29 | G31: =I31*$E$67*$F$31 -> 0 | H31: =I31*$F$67*$F$30 -> 0 | J31: =L31*$E$67*$F$31 -> 0 | K31: =L31*$F$67*$F$30 -> 0 | M31: =O31*$E$67*$F$31 -> 0 | N31: =O31*$F$67*$F$30 -> 0 | R31: =R14 -> 1
C32: ='Tabela Resumo'!C14 -> 5 | D32: ='Tabela Resumo'!D14 -> IMPLANTAÇÃO ASFÁLTICA - TERRAPLENAGEM - VIÁRIO | E32: ='Tabela Resumo'!F14 -> 0.055554545 | F32: ='Tabela Resumo'!E14 -> 107195.45 | G32: =I32*$E$67*$F$32 -> 84418.846 | H32: =I32*$F$67*$F$32 -> 844.41489 | I32: 0.7954 | J32: =L32*$E$67*$F$32 -> 21714.981 | K32: =L32*$F$67*$F$32 -> 217.20805 | L32: 0.2046 | M32: =O32*$E$67*$F$32 -> 0 | N32: =O32*$F$67*$F$32 -> 0 | R32: =R15 -> 1
C33: ='Tabela Resumo'!C15 -> 6 | D33: ='Tabela Resumo'!D15 -> IMPLANTAÇÃO ASFÁLTICA - PAVIMENTAÇÃO | E33: ='Tabela Resumo'!F15 -> 0.39425246 | F33: ='Tabela Resumo'!E15 -> 760731.1 | G33: =I33*$E$67*$F$33 -> 142052.97 | H33: =I33*$F$67*$F$33 -> 1420.9108 | I33: 0.1886 | J33: =L33*$E$67*$F$33 -> 194701.45 | K33: =L33*$F$67*$F$33 -> 1947.5368 | L33: 0.2585 | M33: =O33*$E$67*$F$33 -> 208936.88 | N33: =O33*$F$67*$F$33 -> 2089.9292 | O33: 0.2774 | R33: =R16 -> 1
C34: ='Tabela Resumo'!C16 -> 7 | D34: ='Tabela Resumo'!D16 -> SERVIÇOS COMPLEMENTARES | E34: ='Tabela Resumo'!F16 -> 0.058124876 | F34: ='Tabela Resumo'!E16 -> 112155.04 | G34: =I34*$E$67*$F$34 -> 0 | H34: =I34*$F$67*$F$34 -> 0 | J34: =L34*$E$67*$F$34 -> 0 | K34: =L34*$F$67*$F$34 -> 0 | M34: =O34*$E$67*$F$34 -> 0 | N34: =O34*$F$67*$F$34 -> 0 | R34: =R17 -> 1
C35: ='Tabela Resumo'!C17 -> 8 | D35: ='Tabela Resumo'!D17 -> PASSEIO COM ACESSIBILIDADE | E35: ='Tabela Resumo'!F17 -> 0.066873678 | F35: ='Tabela Resumo'!E17 -> 129036.32 | G35: =I35*$E$67*$F$35 -> 0 | H35: =I35*$F$67*$F$35 -> 0 | J35: =L35*$E$67*$F$35 -> 0 | K35: =L35*$F$67*$F$35 -> 0 | M35: =O35*$E$67*$F$35 -> 0 | N35: =O35*$F$67*$F$35 -> 0 | R35: =R18 -> 1
C36: ='Tabela Resumo'!C18 -> 9 | D36: ='Tabela Resumo'!D18 -> SINALIZAÇÃO VIÁRIA | E36: ='Tabela Resumo'!F18 -> 0.011236467 | F36: ='Tabela Resumo'!E18 -> 21681.361 | G36: =I36*$E$67*$F$36 -> 0 | H36: =I36*$F$67*$F$36 -> 0 | J36: =L36*$E$67*$F$36 -> 0 | K36: =L36*$F$67*$F$36 -> 0 | M36: =O36*$E$67*$F$36 -> 0 | N36: =O36*$F$67*$F$36 -> 0 | R36: =R19 -> 1
C37: ='Tabela Resumo'!C19 -> 10 | D37: ='Tabela Resumo'!D19 -> ADMINISTRAÇÃO LOCAL | E37: ='Tabela Resumo'!F19 -> 0.045409445 | F37: ='Tabela Resumo'!E19 -> 87619.94 | G37: =I37*$E$67*$F$37 -> 9638.1678 | H37: =I37*$F$67*$F$37 -> 96.40753 | I37: 0.1111 | J37: =L37*$E$67*$F$37 -> 9638.1678 | K37: =L37*$F$67*$F$37 -> 96.40753 | L37: 0.1111 | M37: =O37*$E$67*$F$37 -> 9638.1678 | N37: =O37*$F$67*$F$37 -> 96.40753 | O37: 0.1111 | R37: =R20 -> 1
B39: TOTAL MENSAL | E39: =SUM(E27:E38) -> 1 | F39: =SUM(F27:F38) -> 1929553.2 | G39: =SUM(G27:G38) -> 236109.99 | H39: =SUM(H27:H38) -> 2361.7332 | I39: =(G39+H39)/$F$39 -> 0.12358909 | J39: =SUM(J27:J38) -> 226054.6 | K39: =SUM(K27:K38) -> 2261.1523 | L39: =(J39+K39)/$F$39 -> 0.11832571 | M39: =SUM(M27:M38) -> 218575.05 | N39: =SUM(N27:N38) -> 2186.3367 | O39: =(M39+N39)/$F$39 -> 0.11441062
B40: TOTAL MENSAL ACUMULADO | G40: =G39+M23 -> 879917.61 | H40: =H39+N23 -> 8801.5362 | I40: =I39+O23 -> 0.46058287 | J40: =J39+G40 -> 1105972.2 | K40: =K39+H40 -> 11062.689 | L40: =L39+I40 -> 0.57890858 | M40: =M39+J40 -> 1324547.3 | N40: =N39+K40 -> 13249.025 | O40: =O39+L40 -> 0.6933192
B42: ITEM | D42: SERVIÇO | E42: PESO (%) | F42: PREÇO TOTAL | G42: MÊS 07 | J42: MÊS 08 | M42: MÊS 09
G43: CONCEDENTE | H43: PROPONENTE | I43: % | J43: CONCEDENTE | K43: PROPONENTE | L43: % | M43: CONCEDENTE | N43: PROPONENTE | O43: %
B45: CRONOGRAMA FÍSICO FINANCEIRO | C45: ='Tabela Resumo'!C10 -> 1 | D45: ='Tabela Resumo'!D10 -> SERVIÇOS PRELIMINARES | E45: ='Tabela Resumo'!F10 -> 0.0061068438 | F45: ='Tabela Resumo'!E10 -> 11783.48 | G45: =I45*$E$67*$F$45 -> 0 | H45: =I45*$F$67*$F$45 -> 0 | J45: =L45*$E$67*$F$45 -> 0 | K45: =L45*$F$67*$F$45 -> 0 | M45: =O45*$E$67*$F$45 -> 0 | N45: =O45*$F$67*$F$45 -> 0 | R45: =R28 -> 1
C46: ='Tabela Resumo'!C11 -> 2 | D46: ='Tabela Resumo'!D11 -> DRENAGEM DE ÁGUAS PLUVIAIS - TERRAPLENAGEM | E46: ='Tabela Resumo'!F11 -> 0.085720933 | F46: ='Tabela Resumo'!E11 -> 165403.1 | G46: =I46*$E$67*$F$46 -> 0 | H46: =I46*$F$67*$F$46 -> 0 | J46: =L46*$E$67*$F$46 -> 0 | K46: =L46*$F$67*$F$46 -> 0 | M46: =O46*$E$67*$F$46 -> 0 | N46: =O46*$F$67*$F$46 -> 0 | R46: =R29 -> 1
C47: ='Tabela Resumo'!C12 -> 3 | D47: ='Tabela Resumo'!D12 -> DRENAGEM DE ÁGUAS PLUVIAIS - DISPOSITIVOS ESTRUTURAIS 01 | E47: ='Tabela Resumo'!F12 -> 0.23003104 | F47: ='Tabela Resumo'!E12 -> 443857.12 | G47: =I47*$E$67*$F$47 -> 0 | H47: =I47*$F$67*$F$47 -> 0 | J47: =L47*$E$67*$F$47 -> 0 | K47: =L47*$F$67*$F$47 -> 0 | M47: =O47*$E$67*$F$47 -> 0 | N47: =O47*$F$67*$F$47 -> 0 | R47: =R30 -> 1
C48: ='Tabela Resumo'!C13 -> 4 | D48: ='Tabela Resumo'!D13 -> DRENAGEM DE ÁGUAS PLUVIAIS - DISPOSITIVOS ESTRUTURAIS 02 | E48: ='Tabela Resumo'!F13 -> 0.046689716 | F48: ='Tabela Resumo'!E13 -> 90090.29 | G48: =I48*$E$67*$F$48 -> 0 | H48: =I48*$F$67*$F$48 -> 0 | J48: =L48*$E$67*$F$48 -> 0 | K48: =L48*$F$67*$F$48 -> 0 | M48: =O48*$E$67*$F$48 -> 89198.07 | N48: =O48*$F$67*$F$48 -> 892.21995 | O48: 1 | R48: =R31 -> 1
C49: ='Tabela Resumo'!C14 -> 5 | D49: ='Tabela Resumo'!D14 -> IMPLANTAÇÃO ASFÁLTICA - TERRAPLENAGEM - VIÁRIO | E49: ='Tabela Resumo'!F14 -> 0.055554545 | F49: ='Tabela Resumo'!E14 -> 107195.45 | G49: =I49*$E$67*$F$49 -> 0 | H49: =I49*$F$67*$F$49 -> 0 | J49: =L49*$E$67*$F$49 -> 0 | K49: =L49*$F$67*$F$49 -> 0 | M49: =O49*$E$67*$F$49 -> 0 | N49: =O49*$F$67*$F$49 -> 0 | R49: =R32 -> 1
C50: ='Tabela Resumo'!C15 -> 6 | D50: ='Tabela Resumo'!D15 -> IMPLANTAÇÃO ASFÁLTICA - PAVIMENTAÇÃO | E50: ='Tabela Resumo'!F15 -> 0.39425246 | F50: ='Tabela Resumo'!E15 -> 760731.1 | G50: =I50*$E$67*$F$50 -> 207505.8 | H50: =I50*$F$67*$F$50 -> 2075.6146 | I50: 0.2755 | J50: =L50*$E$67*$F$50 -> 0 | K50: =L50*$F$67*$F$50 -> 0 | M50: =O50*$E$67*$F$50 -> 0 | N50: =O50*$F$67*$F$50 -> 0 | R50: =R33 -> 1
...

Sheet Serv. Preliminares
B2: =DADOS!$B$3 -> CLIENTE: | C2: =DADOS!$C$3 -> PREFEITURA MUNICIPAL DE APARECIDA DO TABOADO / MS
B3: =DADOS!$B$4 -> ENDEREÇO: | C3: =DADOS!$C$4 -> RUA ELIAS TOLENTINO DE ALMEIDA, Nº 4.098 - JD. SÃO BENTO
B5: =DADOS!$B$7 -> OBRA: | C5: =DADOS!$C$7 -> PAVIMENTAÇÃO ASFÁLTICA E DRENAGEM DE ÁGUAS PLUVIAIS
B6: =DADOS!$B$8 -> LOCAL: | C6: =DADOS!$C$8 -> DIVERSAS RUAS NO BAIRRO PRIMAVERA, APARECIDA DO TABOADO / MS
B8: ITEM | G8: DRENAGEM DE ÁGUAS PLUVIAIS | H8: PAVIMENTAÇÃO ASFÁLTICA | J8: TOTAL
B10: MEMÓRIA DE CÁLCULO DE SERVIÇOS PRELIMINARES | C10: EXTENSÃO (m) | G10: ='Dre-Terraplenagem'!Q10 -> 1010.8 | H10: ='Pav-Terrapl'!P10 -> 816.96 | J10: =SUM(F10:I10) -> 1827.76
C11: PLACA DE OBRA (m²) | D11: QUANTIDADE (un) | E11: 1 | G11: =TRUNC((E11*E12*E13),2) -> 8 | J11: =SUM(F11:I13) -> 8
D12: COMPRIMENTO (m) | E12: 4
D13: LARGURA (m) | E13: 2
C14: LOCAÇÃO DE CONTAINER (mês) | G14: =Orçamento!$P$170 -> 9 | J14: =SUM(F14:I14) -> 9

Sheet Dre-Dim
B1: CLIENTE: | C1: PREFEITURA MUNICIPAL DE APARECIDA DO TABOADO / MS | AA1: EQUAÇÃO DE CHUVA
B2: ENDEREÇO: | C2: RUA ELIAS TOLENTINO DE ALMEIDA, Nº 4.098 - JD. SÃO BENTO | AA2: I = a.TR ^ b / (tc + c) ^ d
K3: DIMENSIONAMENTO - DRENAGEM DE ÁGUAS PLUVIAIS | AA3: a = | AB3: 1060.53 | AC3: c = | AD3: 13
B4: OBRA: | C4: PAVIMENTAÇÃO ASFÁLTICA E DRENAGEM DE ÁGUAS PLUVIAIS | AA4: b = | AB4: 0.153 | AC4: d = | AD4: 0.778
B5: LOCAL: | C5: DIVERSAS RUAS NO BAIRRO PRIMAVERA, APARECIDA DO TABOADO / MS | AA5: TR = | AB5: 5 | AC5: Isozona | AD5: 24
B7: TRECHO | C7: POÇO DE VISITA - COTAS (m) | J7: EXTENSÃO (m) | K7: BACIA LOCAL | M7: ÁREA TOTAL (ha) | N7: COEF. DIST. (n) | O7: TEMPO CONC. (min) | P7: INTENS. PLUVIOM. (mm/h) | Q7: COEF. DEFLÚVIO (f) | R7: DEFLÚVIO LOCAL (l/s) | S7: VAZÃO À ESCOAR (l/s) | T7: DECLIVIDADE (%) | W7: SEÇÃO DA GALERIA | AA7: ALTURA D'ÁGUA (m) | AC7: VELOC. (m/s) | AD7: TEMPO DE PERCURSO (min) | AG7: TRECHO À | AK7: COTA DE FUNDO DE MONTANTE | AN7: TEMPO DE CONCENTRAÇÃO | AQ7: ALTURA D´AGUA - NORMAL | AT7: ÁREA Ø | AU7: ALTURA D´AGUA - CRÍTICA
C8: MONTANTE | G8: JUSANTE | K8: ÁREA (ha) | L8: RUN OFF | T8: TERRENO NATURAL | U8: GALERIA | W8: MATERIAL | X8: COEF. DE MANNING | Y8: Nº DE LINHAS | Z8: CIRCULAR Ø (m) | AG8: JUSANTE | AH8: MONTANTE | AQ8: F1 | AR8: F2 | AS8: F3 | AU8: G1 | AV8: G2 | AW8: G3
C9: TAMPA | D9: DEGRAU | E9: FUNDO | F9: PROF. | G9: TAMPA | H9: FUNDO | I9: PROF. | U9: PROJETO | V9: MÍNIMA | AA9: NORMAL | AB9: CRÍTICA | AH9: A | AI9: B | AJ9: C | AK9: A | AL9: B | AM9: C | AN9: A | AO9: B | AP9: C | AQ9: hc < 30 | AR9: 30 > hc > 85 | AS9: hc > 85 | AT9: C1 | AU9: hc < 30 | AV9: 30 > hc > 85 | AW9: hc > 85
B11: 1 | C11: 405.177 | E11: 403.677 | F11: 1.5 | G11: 405.077 | H11: 403.46283 | I11: 1.61417 | J11: 71.39 | K11: 2.4026 | L11: 0.6 | M11: 2.4026 | N11: 0.85553681 | O11: 15 | P11: 101.5258 | Q11: 0.47581284 | R11: 275.84492 | S11: 275.84492 | T11: 0.14007564 | U11: 0.3 | V11: 0.23218744 | W11: C | X11: 0.015 | Y11: 1 | Z11: 0.6 | AA11: 0.46325151 | AB11: 0.34092237 | AC11: 1.1775818 | AD11: 16.010404 | AF11: 1 | AG11: 2 | AH11: 0 | AI11: 0 | AJ11: 0 | AK11: 10000 | AL11: 10000 | AM11: 10000 | AN11: 15 | AO11: 15 | AP11: 15 | AQ11: 0.37968377 | AR11: 0.46325151 | AS11: 0.39997735 | AT11: 650.68592 | AU11: 0.33754334 | AV11: 0.34092237 | AW11: 0.48006319
B12: 2 | C12: 405.077 | E12: 403.46283 | F12: 1.61417 | G12: 405.054 | H12: 403.10533 | I12: 1.94867 | J12: 71.5 | K12: 1.1729 | L12: 0.6 | M12: 3.5755 | N12: 0.7970876 | O12: 16.010404 | P12: 98.763968 | Q12: 0.48181524 | R12: 123.58858 | S12: 399.4335 | T12: 0.032167832 | U12: 0.5 | V12: 0.48685284 | W12: C | X12: 0.015 | Y12: 1 | Z12: 0.6 | AA12: 0.5374324 | AB12: 0.41266881 | AC12: 1.4954724 | AD12: 16.807254 | AF12: 2 | AG12: 3 | AH12: 1 | AI12: 0 | AJ12: 0 | AK12: 403.46283 | AL12: 10000 | AM12: 10000 | AN12: 16.010404 | AO12: 15 | AP12: 15 | AQ12: 0.40128433 | AR12: 0.50568776 | AS12: 0.5374324 | AT12: 741.93111 | AU12: 0.40779288 | AV12: 0.41266881 | AW12: 0.53878237
B13: 3 | C13: 405.054 | E13: 403.10533 | F13: 1.94867 | G13: 405.07 | H13: 402.8896 | I13: 2.1804 | J13: 71.91 | K13: 1.1687 | L13: 0.6 | M13: 4.7442 | N13: 0.75795424 | O13: 16.807254 | P13: 96.703653 | Q13: 0.48625059 | R13: 115.71277 | S13: 515.14627 | T13: -0.022250035 | U13: 0.3 | V13: 0.17459425 | W13: C | X13: 0.015 | Y13: 1 | Z13: 0.8 | AA13: 0.55587602 | AB13: 0.43291901 | AC13: 1.381845 | AD13: 17.674572 | AF13: 3 | AG13: 4 | AH13: 2 | AI13: 0 | AJ13: 0 | AK13: 403.10533 | AL13: 10000 | AM13: 10000 | AN13: 16.807254 | AO13: 15 | AP13: 15 | AQ13: 0.47267703 | AR13: 0.55587602 | AS13: 0.36967319 | AT13: 582.49371 | AU13: 0.42882672 | AV13: 0.43291901 | AW13: 0.54731888
B14: 4 | C14: 405.07 | E14: 402.8896 | F14: 2.1804 | G14: 404.927 | H14: 402.67108 | I14: 2.25592 | J14: 72.84 | K14: 1.1854 | L14: 0.6 | M14: 5.9296 | N14: 0.7284529 | O14: 17.674572 | P14: 94.569629 | Q14: 0.49081044 | R14: 111.34331 | S14: 626.48958 | T14: 0.1963207 | U14: 0.3 | V14: 0.25822395 | W14: C | X14: 0.015 | Y14: 1 | Z14: 0.8 | AA14: 0.64305534 | AB14: 0.47890518 | AC14: 1.446738 | AD14: 18.513701 | AF14: 4 | AG14: 5 | AH14: 3 | AI14: 0 | AJ14: 0 | AK14: 402.8896 | AL14: 10000 | AM14: 10000 | AN14: 17.674572 | AO14: 15 | AP14: 15 | AQ14: 0.5194293 | AR14: 0.64305534 | AS14: 0.61137826 | AT14: 676.61869 | AU14: 0.47389574 | AV14: 0.47890518 | AW14: 0.58174106
B15: 5 | C15: 404.927 | E15: 402.67108 | F15: 2.25592 | G15: 404.644 | H15: 402.37183 | I15: 2.27217 | J15: 85.5 | K15: 1.2025 | L15: 0.6 | M15: 7.1321 | N15: 0.70489966 | O15: 18.513701 | P15: 92.604656 | Q15: 0.49498148 | R15: 107.93602 | S15: 734.4256 | T15: 0.33099415 | U15: 0.35 | V15: 0.35486603 | W15: C | X15: 0.015 | Y15: 1 | Z15: 0.8 | AA15: 0.75469186 | AB15: 0.51983337 | AC15: 1.4947068 | AD15: 19.467066 | AF15: 5 | AG15: 8 | AH15: 4 | AI15: 0 | AJ15: 0 | AK15: 402.67108 | AL15: 10000 | AM15: 10000 | AN15: 18.513701 | AO15: 15 | AP15: 15 | AQ15: 0.5403394 | AR15: 0.68491051 | AS15: 0.75469186 | AT15: 767.73583 | AU15: 0.5139708 | AV15: 0.51983337 | AW15: 0.61129044
B16: 6 | C16: 404.92 | E16: 403.32 | F16: 1.6 | G16: 404.942 | H16: 403.07238 | I16: 1.86962 | J16: 82.54 | K16: 4.1776 | L16: 0.6 | M16: 4.1776 | N16: 0.77530935 | O16: 15 | P16: 101.5258 | Q16: 0.47581284 | R16: 434.65701 | S16: 434.65701 | T16: -0.026653744 | U16: 0.3 | V16: 0.12429744 | W16: C | X16: 0.015 | Y16: 1 | Z16: 0.8 | AA16: 0.49285473 | AB16: 0.39658982 | AC16: 1.3376592 | AD16: 16.028413 | AF16: 6 | AG16: 7 | AH16: 0 | AI16: 0 | AJ16: 0 | AK16: 10000 | AL16: 10000 | AM16: 10000 | AN16: 15 | AO16: 15 | AP16: 15 | AQ16: 0.43551255 | AR16: 0.49285473 | AS16: 0.23884691 | AT16: 507.71646 | AU16: 0.39318814 | AV16: 0.39658982 | AW16: 0.5190892
B17: 7 | C17: 404.942 | E17: 403.07238 | F17: 1.86962 | G17: 404.644 | H17: 402.82476 | I17: 1.81924 | J17: 82.54 | K17: 0.8581 | L17: 0.6 | M17: 5.0357 | N17: 0.74995179 | O17: 16.028413 | P17: 98.716294 | Q17: 0.48191827 | R17: 85.048316 | S17: 519.70533 | T17: 0.36103707 | U17: 0.3 | V17: 0.17769825 | W17: C | X17: 0.015 | Y17: 1 | Z17: 0.8 | AA17: 0.55944566 | AB17: 0.43489138 | AC17: 1.3843286 | AD17: 17.022156 | AF17: 7 | AG17: 8 | AH17: 6 | AI17: 0 | AJ17: 0 | AK17: 403.07238 | AL17: 10000 | AM17: 10000 | AN17: 16.028413 | AO17: 15 | AP17: 15 | AQ17: 0.47468873 | AR17: 0.55944566 | AS17: 0.37814309 | AT17: 586.59452 | AU17: 0.43076071 | AV17: 0.43489138 | AW17: 0.54882411
B18: 8 | C18: 404.644 | E18: 402.37183 | F18: 2.27217 | G18: 404.23 | H18: 402.07241 | I18: 2.157595 | J18: 85.55 | K18: 1.0761 | L18: 0.6 | M18: 13.2439 | N18: 0.63136597 | O18: 19.467066 | P18: 90.482103 | Q18: 0.4994607 | R18: 85.296272 | S18: 1339.4272 | T18: 0.48392753 | U18: 0.35 | V18: 0.35904893 | W18: C | X18: 0.015 | Y18: 1 | Z18: 1 | AA18: 0.95768318 | AB18: 0.66439204 | AC18: 1.7306604 | AD18: 20.290932 | AF18: 8 | AG18: 9 | AH18: 5 | AI18: 7 | AJ18: 0 | AK18: 402.37183 | AL18: 402.82476 | AM18: 10000 | AN18: 19.467066 | AO18: 17.022156 | AP18: 15 | AQ18: 0.67738481 | AR18: 0.86004873 | AS18: 0.95768318 | AT18: 773.93996 | AU18: 0.65673747 | AV18: 0.66439204 | AW18: 0.70173841
B19: 9 | C19: 404.23 | E19: 402.07241 | F19: 2.157595 | G19: 403.622 | H19: 401.68743 | I19: 1.93457 | J19: 85.55 | K19: 0.5122 | L19: 0.6 | M19: 13.7561 | N19: 0.62711593 | O19: 20.290932 | P19: 88.735168 | Q19: 0.5031292 | R19: 39.837763 | S19: 1379.265 | T19: 0.7106955 | U19: 0.45 | V19: 0.38072449 | W19: C | X19: 0.015 | Y19: 1 | Z19: 1 | AA19: 0.79856365 | AB19: 0.6745142 | AC19: 2.0511842 | AD19: 20.986059 | AF19: 9 | AG19: 12 | AH19: 8 | AI19: 0 | AJ19: 0 | AK19: 402.07241 | AL19: 10000 | AM19: 10000 | AN19: 20.290932 | AO19: 15 | AP19: 15 | AQ19: 0.64664633 | AR19: 0.79856365 | AS19: 0.7476467 | AT19: 672.42374 | AU19: 0.66664141 | AV19: 0.6745142 | AW19: 0.70817852
B20: 10 | C20: 404.198 | E20: 402.698 | F20: 1.5 | G20: 403.741 | H20: 402.22715 | I20: 1.51385 | J20: 62.78 | K20: 4.867 | L20: 0.6 | M20: 4.867 | N20: 0.75451431 | O20: 15 | P20: 101.5258 | Q20: 0.47581284 | R20: 492.80334 | S20: 492.80334 | T20: 0.72793883 | U20: 0.75 | V20: 0.74106453 | W20: C | X20: 0.015 | Y20: 1 | Z20: 0.6 | AA20: 0.54776811 | AB20: 0.45990355 | AC20: 1.8201969 | AD20: 15.574846 | AF20: 10 | AG20: 11 | AH20: 0 | AI20: 0 | AJ20: 0 | AK20: 10000 | AL20: 10000 | AM20: 10000 | AN20: 15 | AO20: 15 | AP20: 15 | AQ20: 0.40270467 | AR20: 0.50856661 | AS20: 0.54776811 | AT20: 752.0605 | AU20: 0.45397336 | AV20: 0.45990355 | AW20: 0.57524057
B21: 11 | C21: 403.741 | D21: 0.1 | E21: 402.12715 | F21: 1.61385 | G21: 403.622 | H21: 402.00595 | I21: 1.61605 | J21: 20.2 | K21: 0.5683 | L21: 0.6 | M21: 5.4353 | N21: 0.73982706 | O21: 15.574846 | P21: 99.933223 | Q21: 0.4792824 | R21: 55.94245 | S21: 548.74579 | T21: 0.58910891 | U21: 0.6 | V21: 0.1981122 | W21: C | X21: 0.015 | Y21: 1 | Z21: 0.8 | AA21: 0.45634045 | AB21: 0.44726332 | AC21: 1.8523046 | AD21: 15.756602 | AF21: 11 | AG21: 12 | AH21: 10 | AI21: 0 | AJ21: 0 | AK21: 402.22715 | AL21: 10000 | AM21: 10000 | AN21: 15.574846 | AO21: 15 | AP21: 15 | AQ21: 0.41232784 | AR21: 0.45634045 | AS21: 0.1784614 | AT21: 462.89109 | AU21: 0.44288989 | AV21: 0.44726332 | AW21: 0.55820494
B22: 12 | C22: 403.622 | E22: 401.68743 | F22: 1.93457 | G22: 403.098 | H22: 401.05038 | I22: 2.04762 | J22: 84.94 | K22: 0.2714 | L22: 0.6 | M22: 19.4628 | N22: 0.5895511 | O22: 20.986059 | P22: 87.319922 | Q22: 0.50609068 | R22: 19.642882 | S22: 1947.6536 | T22: 0.61690605 | U22: 0.75 | V22: 0.75916969 | W22: C | X22: 0.015 | Y22: 1 | Z22: 1 | AA22: 0.94171867 | AB22: 0.80594601 | AC22: 2.5394142 | AD22: 21.543537 | AF22: 12 | AG22: 13 | AH22: 9 | AI22: 11 | AJ22: 0 | AK22: 401.68743 | AL22: 402.00595 | AM22: 10000 | AN22: 20.986059 | AO22: 15.756602 | AP22: 15 | AQ22: 0.67520512 | AR22: 0.85558766 | AS22: 0.94171867 | AT22: 766.96966 | AU22: 0.79511115 | AV22: 0.80594601 | AW22: 0.78859744
B23: 13 | C23: 403.098 | D23: 0.1 | E23: 400.95038 | F23: 2.14762 | G23: 402.746 | H23: 400.61062 | I23: 2.13538 | J23: 84.94 | K23: 0.6263 | L23: 0.6 | M23: 20.0891 | N23: 0.58623674 | O23: 21.543537 | P23: 86.221584 | Q23: 0.50838328 | R23: 44.708999 | S23: 1992.3626 | T23: 0.41441017 | U23: 0.4 | V23: 0.30043616 | W23: C | X23: 0.015 | Y23: 1 | Z23: 1.2 | AA23: 0.91611829 | AB23: 0.77348553 | AC23: 2.1505024 | AD23: 22.201833 | AF23: 13 | AG23: 18 | AH23: 12 | AI23: 0 | AJ23: 0 | AK23: 401.05038 | AL23: 10000 | AM23: 10000 | AN23: 21.543537 | AO23: 15 | AP23: 15 | AQ23: 0.75407282 | AR23: 0.91611829 | AS23: 0.76981065 | AT23: 643.37764 | AU23: 0.76479365 | AV23: 0.77348553 | AW23: 0.76283152
B24: 14 | C24: 402.503 | E24: 401.003 | F24: 1.5 | G24: 402.663 | H24: 400.78661 | I24: 1.87639 | J24: 72.13 | K24: 2.8811 | L24: 0.6 | M24: 2.8811 | N24: 0.82832089 | O24: 15 | P24: 101.5258 | Q24: 0.47581284 | R24: 320.25931 | S24: 320.25931 | T24: -0.22182171 | U24: 0.3 | V24: 0.31297689 | W24: C | X24: 0.015 | Y24: 1 | Z24: 0.6 | AA24: 0.58712525 | AB24: 0.36821781 | AC24: 1.1387228 | AD24: 16.055715 | AF24: 14 | AG24: 15 | AH24: 0 | AI24: 0 | AJ24: 0 | AK24: 10000 | AL24: 10000 | AM24: 10000 | AN24: 15 | AO24: 15 | AP24: 15 | AQ24: 0.4080124 | AR24: 0.51942149 | AS24: 0.58712525 | AT24: 781.23423 | AU24: 0.36428534 | AV24: 0.36821781 | AW24: 0.50293057
B25: 15 | C25: 402.663 | E25: 400.78661 | F25: 1.87639 | G25: 402.802 | H25: 400.46216 | I25: 2.33984 | J25: 108.15 | K25: 2.4996 | L25: 0.6 | M25: 5.3807 | N25: 0.74115782 | O25: 16.055715 | P25: 98.644122 | Q25: 0.48207419 | R25: 244.73639 | S25: 564.9957 | T25: -0.1285252 | U25: 0.3 | V25: 0.21001925 | W25: C | X25: 0.015 | Y25: 1 | Z25: 0.8 | AA25: 0.59490701 | AB25: 0.454048 | AC25: 1.4095225 | AD25: 17.334517 | AF25: 15 | AG25: 16 | AH25: 14 | AI25: 0 | AJ25: 0 | AK25: 400.78661 | AL25: 10000 | AM25: 10000 | AN25: 16.055715 | AO25: 15 | AP25: 15 | AQ25: 0.49419657 | AR25: 0.59490701 | AS25: 0.46876215 | AT25: 626.31549 | AU25: 0.44954001 | AV25: 0.454048 | AW25: 0.5633057
B26: 16 | C26: 402.802 | E26: 400.46216 | F26: 2.33984 | G26: 402.846 | H26: 400.08349 | I26: 2.762505 | J26: 108.19 | K26: 1.6492 | L26: 0.6 | M26: 7.0299 | N26: 0.70671295 | O26: 17.334517 | P26: 95.393398 | Q26: 0.48905415 | R26: 151.0511 | S26: 716.0468 | T26: -0.040669193 | U26: 0.35 | V26: 0.33732741 | W26: C | X26: 0.015 | Y26: 1 | Z26: 0.8 | AA26: 0.70708596 | AB26: 0.51308102 | AC26: 1.5232399 | AD26: 18.518287 | AF26: 16 | AG26: 17 | AH26: 15 | AI26: 0 | AJ26: 0 | AK26: 400.46216 | AL26: 10000 | AM26: 10000 | AN26: 17.334517 | AO26: 15 | AP26: 15 | AQ26: 0.53377908 | AR26: 0.67158778 | AS26: 0.70708596 | AT26: 734.50225 | AU26: 0.50736146 | AV26: 0.51308102 | AW26: 0.60648059
B27: 17 | C27: 402.846 | E27: 400.08349 | F27: 2.762505 | G27: 402.746 | H27: 399.93285 | I27: 2.813145 | J27: 43.04 | K27: 0.2592 | L27: 0.6 | M27: 7.2891 | N27: 0.70217287 | O27: 18.518287 | P27: 92.594173 | Q27: 0.49500367 | R27: 23.174126 | S27: 739.22092 | T27: 0.23234201 | U27: 0.35 | V27: 0.35951525 | W27: C | X27: 0.015 | Y27: 1 | Z27: 0.8 | AA27: 0.7674259 | AB27: 0.52158166 | AC27: 1.4911768 | AD27: 18.999339 | AF27: 17 | AG27: 18 | AH27: 16 | AI27: 0 | AJ27: 0 | AK27: 400.08349 | AL27: 10000 | AM27: 10000 | AN27: 18.518287 | AO27: 15 | AP27: 15 | AQ27: 0.54203706 | AR27: 0.68838662 | AS27: 0.7674259 | AT27: 774.57797 | AU27: 0.51568192 | AV27: 0.52158166 | AW27: 0.61253175
B28: 18 | C28: 402.746 | E28: 399.93285 | F28: 2.813145 | G28: 402.592 | H28: 399.60148 | I28: 2.99052 | J28: 60.25 | K28: 0.5854 | L28: 0.6 | M28: 27.9636 | N28: 0.55272159 | O28: 22.201833 | P28: 84.964516 | Q28: 0.51100176 | R28: 39.02576 | S28: 2770.6093 | T28: 0.25560166 | U28: 0.55 | V28: 0.58098646 | W28: C | X28: 0.015 | Y28: 1 | Z28: 1.2 | AA28: 1.1935755 | AB28: 0.91692251 | AC28: 2.4513841 | AD28: 22.611465 | AF28: 18 | AG28: 19 | AH28: 13 | AI28: 17 | AJ28: 0 | AK28: 400.61062 | AL28: 399.93285 | AM28: 10000 | AN28: 22.201833 | AO28: 18.999339 | AP28: 15 | AQ28: 0.81866847 | AR28: 1.0439063 | AS28: 1.1935755 | AT28: 784.8767 | AU28: 0.90506556 | AV28: 0.91692251 | AW28: 0.84540774
B29: 19 | C29: 402.592 | E29: 399.60148 | F29: 2.99052 | G29: 402.334 | H29: 399.25165 | I29: 3.082345 | J29: 99.95 | K29: 1.2095 | L29: 0.6 | M29: 29.1731 | N29: 0.54857132 | O29: 22.611465 | P29: 84.203176 | Q29: 0.51258511 | R29: 79.554669 | S29: 2850.164 | T29: 0.25812906 | U29: 0.35 | V29: 0.18702589 | W29: C | X29: 0.015 | Y29: 1 | Z29: 1.5 | AA29: 1.0106657 | AB29: 0.87216884 | AC29: 2.2503356 | AD29: 23.351725 | AF29: 19 | AG29: 20 | AH29: 18 | AI29: 0 | AJ29: 0 | AK29: 399.60148 | AL29: 10000 | AM29: 10000 | AN29: 22.611465 | AO29: 15 | AP29: 15 | AQ29: 0.86840376 | AR29: 1.0106657 | AS29: 0.6211447 | AT29: 562.91138 | AU29: 0.86324521 | AV29: 0.87216884 | AW29: 0.81186033
B30: 20 | C30: 402.334 | E30: 399.25165 | F30: 3.082345 | G30: 402.207 | H30: 398.9895 | I30: 3.217495 | J30: 74.9 | K30: 1.4792 | L30: 0.6 | M30: 30.6523 | N30: 0.5437629 | O30: 23.351725 | P30: 82.8661 | Q30: 0.51536179 | R30: 95.424047 | S30: 2945.588 | T30: 0.16955941 | U30: 0.35 | V30: 0.19975886 | W30: C | X30: 0.015 | Y30: 1 | Z30: 1.5 | AA30: 1.034928 | AB30: 0.88711322 | AC30: 2.2650541 | AD30: 23.902852 | AF30: 20 | AG30: 24 | AH30: 19 | AI30: 0 | AJ30: 0 | AK30: 399.25165 | AL30: 10000 | AM30: 10000 | AN30: 23.351725 | AO30: 15 | AP30: 15 | AQ30: 0.88229809 | AR30: 1.034928 | AS30: 0.67602637 | AT30: 577.97746 | AU30: 0.87788634 | AV30: 0.88711322 | AW30: 0.8202369
B31: 21 | C31: 403.301 | E31: 401.801 | F31: 1.5 | G31: 403.495 | H31: 401.61068 | I31: 1.88432 | J31: 47.58 | K31: 0.79 | L31: 0.6 | M31: 0.79 | N31: 1 | O31: 15 | P31: 101.5258 | Q31: 0.47581284 | R31: 106.01612 | S31: 106.01612 | T31: -0.40773434 | U31: 0.4 | V31: 0.034296718 | W31: C | X31: 0.015 | Y31: 1 | Z31: 0.6 | AA31: 0.23050961 | AB31: 0.20816408 | AC31: 1.059596 | AD31: 15.748398 | AF31: 21 | AG31: 22 | AH31: 0 | AI31: 0 | AJ31: 0 | AK31: 10000 | AL31: 10000 | AM31: 10000 | AN31: 15 | AO31: 15 | AP31: 15 | AQ31: 0.22342951 | AR31: 0.23050961 | AS31: 0.023646704 | AT31: 277.92596 | AU31: 0.20712827 | AV31: 0.20816408 | AW31: 0.35632932
B32: 22 | C32: 403.495 | E32: 401.61068 | F32: 1.88432 | G32: 402.863 | H32: 401.26624 | I32: 1.59676 | J32: 86.11 | K32: 3.6144 | L32: 0.6 | M32: 4.4044 | N32: 0.76804764 | O32: 15.748398 | P32: 99.463547 | Q32: 0.48030124 | R32: 368.41242 | S32: 474.42854 | T32: 0.73394495 | U32: 0.4 | V32: 0.14808478 | W32: C | X32: 0.015 | Y32: 1 | Z32: 0.8 | AA32: 0.47422781 | AB32: 0.41491411 | AC32: 1.5286047 | AD32: 16.687272 | AF32: 22 | AG32: 23 | AH32: 21 | AI32: 0 | AJ32: 0 | AK32: 401.61068 | AL32: 10000 | AM32: 10000 | AN32: 15.748398 | AO32: 15 | AP32: 15 | AQ32: 0.42385574 | AR32: 0.47422781 | AS32: 0.20669661 | AT32: 484.94854 | AU32: 0.41116802 | AV32: 0.41491411 | AW32: 0.53345048
B33: 23 | C33: 402.863 | E33: 401.26624 | F33: 1.59676 | G33: 402.207 | H33: 400.57728 | I33: 1.62972 | J33: 86.12 | K33: 0.5587 | L33: 0.6 | M33: 4.9631 | N33: 0.75189286 | O33: 16.687272 | P33: 97.007582 | Q33: 0.48559843 | R33: 54.973049 | S33: 529.40159 | T33: 0.76172782 | U33: 0.8 | V33: 0.18439082 | W33: C | X33: 0.015 | Y33: 1 | Z33: 0.8 | AA33: 0.40636226 | AB33: 0.4390586 | AC33: 2.0646118 | AD33: 17.382479 | AF33: 23 | AG33: 24 | AH33: 22 | AI33: 0 | AJ33: 0 | AK33: 401.26624 | AL33: 10000 | AM33: 10000 | AN33: 16.687272 | AO33: 15 | AP33: 15 | AQ33: 0.37811159 | AR33: 0.40636226 | AS33: 0.11244147 | AT33: 400.65158 | AU33: 0.43484654 | AV33: 0.4390586 | AW33: 0.55199549
B34: 24 | C34: 402.207 | E34: 398.9895 | F34: 3.217495 | G34: 401.976 | H34: 398.71871 | I34: 3.25729 | J34: 77.37 | K34: 0.7392 | L34: 0.6 | M34: 36.3546 | N34: 0.52749753 | O34: 23.902852 | P34: 81.901666 | Q34: 0.51736187 | R34: 45.898848 | S34: 3520.8885 | T34: 0.29856534 | U34: 0.35 | V34: 0.28540828 | W34: C | X34: 0.015 | Y34: 1 | Z34: 1.5 | AA34: 1.1812025 | AB34: 0.97263774 | AC34: 2.3586972 | AD34: 24.449553 | AF34: 24 | AG34: 25 | AH34: 20 | AI34: 23 | AJ34: 0 | AK34: 398.9895 | AL34: 400.57728 | AM34: 10000 | AN34: 23.902852 | AO34: 17.382479 | AP34: 15 | AQ34: 0.96152554 | AR34: 1.1812025 | AS34: 1.0694621 | AT34: 663.43374 | AU34: 0.96162879 | AV34: 0.97263774 | AW34: 0.86714136
B35: 25 | C35: 401.976 | E35: 398.71871 | F35: 3.25729 | G35: 401.68 | H35: 398.40707 | I35: 3.27293 | J35: 89.04 | K35: 1.4025 | L35: 0.6 | M35: 37.7571 | N35: 0.52395531 | O35: 24.449553 | P35: 80.969953 | Q35: 0.51929228 | R35: 85.835137 | S35: 3606.7236 | T35: 0.33243486 | U35: 0.35 | V35: 0.29949374 | W35: C | X35: 0.015 | Y35: 1 | Z35: 1.5 | AA35: 1.2030267 | AB35: 0.98479931 | AC35: 2.3741449 | AD35: 25.07462 | AF35: 25 | AG35: 26 | AH35: 24 | AI35: 0 | AJ35: 0 | AK35: 398.71871 | AL35: 10000 | AM35: 10000 | AN35: 24.449553 | AO35: 15 | AP35: 15 | AQ35: 0.97275356 | AR35: 1.2030267 | AS35: 1.1377834 | AT35: 675.18553 | AU35: 0.97353077 | AV35: 0.98479931 | AW35: 0.87367613
... B40: 30 | C40: 404.516 | E40: 403.016 | F40: 1.5 | G40: 404.204 | H40: 402.67652 | I40: 1.52748 | J40: 75.44 | K40: 1.2309 | L40: 0.6 | M40: 1.2309 | N40: 0.96369664 | O40: 15 | P40: 101.5258 | Q40: 0.47581284 | R40: 159.18712 | S40: 159.18712 | T40: 0.4135737 | U40: 0.45 | V40: 0.077325834 | W40: C | X40: 0.015 | Y40: 1 | Z40: 0.6 | AA40: 0.2787737 | AB40: 0.25673243 | AC40: 1.2373993 | AD40: 16.01611 | AF40: 30 | AG40: 31 | AH40: 0 | AI40: 0 | AJ40: 0 | AK40: 10000 | AL40: 10000 | AM40: 10000 | AN40: 15 | AO40: 15 | AP40: 15 | AQ40: 0.26418195 | AR40: 0.2787737 | AS40: 0.057798126 | AT40: 357.35146 | AU40: 0.25491555 | AV40: 0.25673243 | AW40: 0.4044621
B41: 31 | C41: 404.204 | D41: 0.1 | E41: 402.5742 | F41: 1.6298 | G41: 404.045 | H41: 402.30305 | I41: 1.741945 | J41: 77.47 | K41: 0.7505 | L41: 0.6 | M41: 3.6716 | N41: 0.79333341 | O41: 17.074202 | P41: 96.035179 | Q41: 0.48768251 | R41: 77.465123 | S41: 451.6995 | T41: 0.20524074 | U41: 0.35 | V41: 0.1342357 | W41: C | X41: 0.015 | Y41: 1 | Z41: 0.8 | AA41: 0.47996336 | AB41: 0.40453732 | AC41: 1.4345613 | AD41: 17.974245 | AF41: 31 | AG41: 32 | AH41: 29 | AI41: 30 | AJ41: 0 | AK41: 402.6742 | AL41: 402.67652 | AM41: 10000 | AN41: 17.074202 | AO41: 16.01611 | AP41: 15 | AQ41: 0.42748148 | AR41: 0.47996336 | AS41: 0.21628988 | AT41: 491.98349 | AU41: 0.40098728 | AV41: 0.40453732 | AW41: 0.52534947
B42: 32 | C42: 404.045 | E42: 402.30305 | F42: 1.741945 | G42: 404.084 | H42: 402.15038 | I42: 1.933615 | J42: 50.89 | K42: 1.5268 | L42: 0.6 | M42: 5.1984 | N42: 0.74571898 | O42: 17.974245 | P42: 93.857029 | Q42: 0.49232597 | R42: 146.15347 | S42: 597.85297 | T42: -0.076635881 | U42: 0.3 | V42: 0.23515683 | W42: C | X42: 0.015 | Y42: 1 | Z42: 0.8 | AA42: 0.62063352 | AB42: 0.46748397 | AC42: 1.4288237 | AD42: 18.567857 | AF42: 32 | AG42: 33 | AH42: 31 | AI42: 0 | AJ42: 0 | AK42: 402.30305 | AL42: 10000 | AM42: 10000 | AN42: 17.974245 | AO42: 15 | AP42: 15 | AQ42: 0.5078465 | AR42: 0.62063352 | AS42: 0.54208659 | AT42: 653.78623 | AU42: 0.46270656 | AV42: 0.46748397 | AW42: 0.57331875
B43: 33 | C43: 404.084 | E43: 402.15038 | F43: 1.933615 | G43: 403.83 | H43: 401.92385 | I43: 1.906145 | J43: 75.51 | K43: 0.2811 | L43: 0.6 | M43: 5.4795 | N43: 0.73876126 | O43: 18.567857 | P43: 92.481035 | Q43: 0.49524308 | R43: 26.422159 | S43: 624.27513 | T43: 0.33637929 | U43: 0.3 | V43: 0.25640169 | W43: C | X43: 0.015 | Y43: 1 | Z43: 0.8 | AA43: 0.64132148 | AB43: 0.47803113 | AC43: 1.4453087 | AD43: 19.438605 | AF43: 33 | AG43: 36 | AH43: 32 | AI43: 0 | AJ43: 0 | AK43: 402.15038 | AL43: 10000 | AM43: 10000 | AN43: 18.567857 | AO43: 15 | AP43: 15 | AQ43: 0.51854353 | AR43: 0.64132148 | AS43: 0.60583765 | AT43: 674.89378 | AU43: 0.47303953 | AV43: 0.47803113 | AW43: 0.58109934
B44: 34 | C44: 404.544 | E44: 403.044 | F44: 1.5 | G44: 404.208 | H44: 402.66187 | I44: 1.54613 | J44: 109.18 | K44: 1.5478 | L44: 0.6 | M44: 1.5478 | N44: 0.92518963 | O44: 15 | P44: 101.5258 | Q44: 0.47581284 | R44: 192.17214 | S44: 192.17214 | T44: 0.30774867 | U44: 0.35 | V44: 0.11269109 | W44: C | X44: 0.015 | Y44: 1 | Z44: 0.6 | AA44: 0.33940382 | AB44: 0.28292565 | AC44: 1.1650623 | AD44: 16.561862 | AF44: 34 | AG44: 35 | AH44: 0 | AI44: 0 | AJ44: 0 | AK44: 10000 | AL44: 10000 | AM44: 10000 | AN44: 15 | AO44: 15 | AP44: 15 | AQ44: 0.30734497 | AR44: 0.33940382 | AS44: 0.12954694 | AT44: 458.1828 | AU44: 0.28064844 | AV44: 0.28292565 | AW44: 0.42891322
B45: 35 | C45: 404.208 | E45: 402.66187 | F45: 1.54613 | G45: 403.83 | H45: 402.30439 | I45: 1.52561 | J45: 59.58 | K45: 0.7801 | L45: 0.6 | M45: 2.3279 | N45: 0.86036028 | O45: 16.561862 | P45: 97.327605 | Q45: 0.48491095 | R45: 87.995589 | S45: 280.16772 | T45: 0.63444109 | U45: 0.6 | V45: 0.23952175 | W45: C | X45: 0.015 | Y45: 1 | Z45: 0.6 | AA45: 0.36493982 | AB45: 0.34366827 | AC45: 1.5562358 | AD45: 17.19994 | AF45: 35 | AG45: 36 | AH45: 34 | AI45: 0 | AJ45: 0 | AK45: 402.66187 | AL45: 10000 | AM45: 10000 | AN45: 16.561862 | AO45: 15 | AP45: 15 | AQ45: 0.32368965 | AR45: 0.36493982 | AS45: 0.17083393 | AT45: 500.08082 | AU45: 0.34023451 | AV45: 0.34366827 | AW45: 0.48239562
B46: 36 | C46: 403.83 | E46: 401.92385 | F46: 1.906145 | G46: 403.409 | H46: 401.58929 | I46: 1.819705 | J46: 55.76 | K46: 0.5885 | L46: 0.6 | M46: 8.3959 | N46: 0.68472475 | O46: 19.438605 | P46: 90.543859 | Q46: 0.49933073 | R46: 50.610663 | S46: 955.05352 | T46: 0.75502152 | U46: 0.6 | V46: 0.60010083 | W46: C | X46: 0.015 | Y46: 1 | Z46: 0.8 | AA46: 0.74177497 | AB46: 0.59527545 | AC46: 1.9640379 | AD46: 19.91178 | AF46: 36 | AG46: 37 | AH46: 33 | AI46: 35 | AJ46: 0 | AK46: 401.92385 | AL46: 402.30439 | AM46: 10000 | AN46: 19.438605 | AO46: 17.19994 | AP46: 15 | AQ46: 0.5385662 | AR46: 0.68129224 | AS46: 0.74177497 | AT46: 759.79751 | AU46: 0.58775868 | AV46: 0.59527545 | AW46: 0.66344711
...

Sheet Dre-Terraplenagem
B2: =DADOS!$B$3 -> CLIENTE: | C2: =DADOS!$C$3 -> PREFEITURA MUNICIPAL DE APARECIDA DO TABOADO / MS
B3: =DADOS!$B$4 -> ENDEREÇO: | C3: =DADOS!$C$4 -> RUA ELIAS TOLENTINO DE ALMEIDA, Nº 4.098 - JD. SÃO BENTO
B5: =DADOS!$B$7 -> OBRA: | C5: =DADOS!$C$7 -> PAVIMENTAÇÃO ASFÁLTICA E DRENAGEM DE ÁGUAS PLUVIAIS
B6: =DADOS!$B$8 -> LOCAL: | C6: =DADOS!$C$8 -> DIVERSAS RUAS NO BAIRRO PRIMAVERA, APARECIDA DO TABOADO / MS
B8: TRECHO Nº | G8: 5B | H8: 7B | I8: 8A | J8: 29B | K8: ='Dre-Dim'!B40 -> 30 | L8: ='Dre-Dim'!B41 -> 31 | M8: 32A | O8: BIGODE - Ø0,40m | Q8: TOTAL
B10: MEMÓRIA DE CÁLCULO DE DRENAGEM DE ÁGUAS PLUVIAIS - TERRAPLENAGEM | C10: EXTENSÃO (m) | G10: 40 | H10: 46 | I10: 10 | J10: 33 | K10: ='Dre-Dim'!J40 -> 75.44 | L10: ='Dre-Dim'!J41 -> 77.47 | M10: 38.89 | O10: ='Dre-Disp. Estruturais'!$O$23 -> 690 | Q10: =SUM(F10:P10) -> 1010.8
C11: DIÂMETRO (m) | G11: ='Dre-Dim'!Z15 -> 0.8 | H11: ='Dre-Dim'!Z17 -> 0.8 | I11: ='Dre-Dim'!Z18 -> 1 | J11: ='Dre-Dim'!Z39 -> 0.6 | K11: ='Dre-Dim'!Z40 -> 0.6 | L11: ='Dre-Dim'!Z41 -> 0.8 | M11: ='Dre-Dim'!Z42 -> 0.8 | O11: 0.4
C12: N° DE LINHAS (un) | G12: ='Dre-Dim'!Y15 -> 1 | H12: ='Dre-Dim'!Y17 -> 1 | I12: ='Dre-Dim'!Y18 -> 1 | J12: ='Dre-Dim'!Y39 -> 1 | K12: ='Dre-Dim'!Y40 -> 1 | L12: ='Dre-Dim'!Y41 -> 1 | M12: ='Dre-Dim'!Y42 -> 1 | O12: 1
C13: MATERIAL (P=PEAD C=CONCRETO MET=METÁLICO) | G13: ='Dre-Dim'!W15 -> C | H13: ='Dre-Dim'!W17 -> C | I13: ='Dre-Dim'!W18 -> C | J13: ='Dre-Dim'!W39 -> C | K13: ='Dre-Dim'!W40 -> C | L13: ='Dre-Dim'!W41 -> C | M13: ='Dre-Dim'!W42 -> C | O13: C
C14: PS-1 / PS-2 / PVC | G14: =IF(G11>0.7,"PA-1","PS-1") -> PA-1 | H14: =IF(H11>0.7,"PA-1","PS-1") -> PA-1 | I14: =IF(I11>0.7,"PA-1","PS-1") -> PA-1 | J14: =IF(J11>0.7,"PA-1","PS-1") -> PS-1 | K14: =IF(K11>0.7,"PA-1","PS-1") -> PS-1 | L14: =IF(L11>0.7,"PA-1","PS-1") -> PA-1 | M14: =IF(M11>0.7,"PA-1","PS-1") -> PA-1 | O14: =IF(O11>0.7,"PA-1","PS-1") -> PS-1
C15: PROFUNDIDADE | D15: MONTANTE (PV) | G15: =ABS('Dre-Dim'!F15) -> 2.25592 | H15: =ABS('Dre-Dim'!F17) -> 1.86962 | I15: =ABS('Dre-Dim'!F18) -> 2.27217 | J15: =ABS('Dre-Dim'!F39) -> 1.51981 | K15: =ABS('Dre-Dim'!F40) -> 1.5 | L15: =ABS('Dre-Dim'!F41) -> 1.6298 | M15: =ABS('Dre-Dim'!F42) -> 1.741945 | O15: 1.5
