Workbook
Name avenida: #REF!
Name avenida: #REF!
Name BDI: [1]INVENTÁRIO!$B$3
Name ccc: #REF!
Name ccc: #REF!
Name contrato: [2]Dados!$C$29
Name drenag: #REF!
Name drenag: #REF!
Name drenagem: #REF!
Name drenagem: #REF!
Name FIRMA: [3]DADOS!$B$12
Name LOCALE1: [3]DADOS!$B$3
Name Madeira: #REF!
Name Madeira: #REF!
Name obra: [2]Dados!$C$7
Name prazo: [2]Dados!$C$31
Name Print_Area_MI: #REF!
Name Print_Area_MI: #REF!
Name processo: [2]Dados!$C$28
Name rua: #REF!
Name rua: #REF!
Name ss: #REF!
Name ss: #REF!
Name trech: [3]DADOS!$B$50

Sheet 1 - Inventário
A1: OBJETO: MANUTENÇÃO E CONSERVAÇÃO DAS PONTES DE MADEIRA NAS RODOVIAS QUE FAZEM PARTE DA MALHA RODOVIÁRIA NÃO PAVIMENTADA DO MUNICÍPIO DE RIO BRILHANTE/MS
A2: LOCAL: RIO BRILHANTE/MS
A3: PRAZO: 365 (dias)
A4: PROCESSO:
A6: INVENTÁRIO - IDENTIFICAÇÃO DAS PONTES DE MADEIRA
A7: ITEM | B7: MUNICÍPIO | C7: RODOVIA | D7: IDENTIFICAÇÃO/NOME | E7: LOCALIZAÇÃO | F7: LATITUDE | G7: LONGITUDE | H7: VIGAMENTO | I7: Nº DE VÃOS | J7: Nº DE ESTEIOS | K7: ALTURA MÉDIA (M) | L7: LARGURA (M) | M7: EXTENSÃO (M)
A9: 1 | B9: Rio Brilhante | C9: Municipal | D9: CÓRREGO DO CHINELO | E9: - | F9: 21°53'30.35''S | G9: 54°35'16.91''W | H9: Simples | I9: =ROUND(M9/6,0) -> 2 | J9: =(I9+1)*4 -> 12 | K9: 3 | L9: 5 | M9: 13
A10: =A9+1 -> 2 | B10: Rio Brilhante | C10: Municipal | D10: CÓRREGO AREIAS | E10: ESTIVAS | F10: 21°48'55.89''S | G10: 54°32'36.89''W | H10: Simples | I10: =ROUND(M10/6,0) -> 1 | J10: =(I10+1)*4 -> 8 | K10: 3 | L10: 4.4 | M10: 6
A11: =A10+1 -> 3 | B11: Rio Brilhante | C11: Municipal | D11: CÓRREGO ARARAS | E11: JUVENTUDE | F11: 21°47'42.63''S | G11: 54°31'56.42''W | H11: Simples | I11: =ROUND(M11/6,0) -> 2 | J11: =(I11+1)*4 -> 12 | K11: 3 | L11: 4.8 | M11: 12
A12: =A11+1 -> 4 | B12: Rio Brilhante | C12: Municipal | D12: CÓRREGO FORMIGA | E12: FAZ. JM | F12: 21°39'27.48''S | G12: 54°25'31.76''W | H12: Simples | I12: =ROUND(M12/6,0) -> 2 | J12: =(I12+1)*4 -> 12 | K12: 3 | L12: 4.4 | M12: 13.2
A13: =A12+1 -> 5 | B13: Rio Brilhante | C13: Municipal | D13: CÓRREGO ANTINHA | E13: FZ. SERTÃOZINHO | F13: 21°38'42.22''S | G13: 54°27'12.82''W | H13: Simples | I13: =ROUND(M13/6,0) -> 1 | J13: =(I13+1)*4 -> 8 | K13: 3 | L13: 4.4 | M13: 7.2
A14: =A13+1 -> 6 | B14: Rio Brilhante | C14: Municipal | D14: CÓRREGO FORMIGA | E14: FZ. BELAS ARTES | F14: 21°38'56.23''S | G14: 54°25'01.82''W | H14: Simples | I14: =ROUND(M14/6,0) -> 2 | J14: =(I14+1)*4 -> 12 | K14: 3 | L14: 4.4 | M14: 12
A15: =A14+1 -> 7 | B15: Rio Brilhante | C15: Municipal | D15: CÓRREGO QUILOMBO | E15: FZ. BELAS ARTES | F15: 21°42'14.33''S | G15: 54°20'39.58''W | H15: Simples | I15: =ROUND(M15/6,0) -> 1 | J15: =(I15+1)*4 -> 8 | K15: 3 | L15: 4.4 | M15: 6.8
A16: =A15+1 -> 8 | B16: Rio Brilhante | C16: Municipal | D16: ARROIO CORREGUINHO | E16: FZ. FRUTEIRA | F16: 21°42'39.87''S | G16: 54°18'52.81''W | H16: Simples | I16: =ROUND(M16/6,0) -> 1 | J16: =(I16+1)*4 -> 8 | K16: 3 | L16: 4.4 | M16: 5.8
A17: =A16+1 -> 9 | B17: Rio Brilhante | C17: Municipal | D17: CÓRREGO GUATAMBU | E17: FZ. FRUTEIRA | F17: 21°43'17.70"S | G17: 54°16'36.10"W | H17: Simples | I17: =ROUND(M17/6,0) -> 2 | J17: =(I17+1)*4 -> 12 | K17: 3 | L17: 4.4 | M17: 10.6
A18: =A17+1 -> 10 | B18: Rio Brilhante | C18: Municipal | D18: CÓRREGO QUILOMBO | E18: FZ. FRUTEIRA USINA | F18: 21°42'51.11''S | G18: 54°16'52.81''W | H18: Simples | I18: =ROUND(M18/6,0) -> 1 | J18: =(I18+1)*4 -> 8 | K18: 3 | L18: 4.4 | M18: 5.8
A19: =A18+1 -> 11 | B19: Rio Brilhante | C19: Municipal | D19: CÓRREGO SAPÉ | E19: FZ. GUATAMBÚ | F19: 21°44'57.50"S | G19: 54°18'00.40"W | H19: Simples | I19: =ROUND(M19/6,0) -> 2 | J19: =(I19+1)*4 -> 12 | K19: 3 | L19: 4.4 | M19: 10.8
A20: =A19+1 -> 12 | B20: Rio Brilhante | C20: Municipal | D20: CÓRREGO JUREMA | E20: FZ. NEBLINA | F20: 21°47'02.84''S | G20: 54°14'35.61''W | H20: Simples | I20: =ROUND(M20/6,0) -> 1 | J20: =(I20+1)*4 -> 8 | K20: 3 | L20: 4.4 | M20: 7.1
A21: =A20+1 -> 13 | B21: Rio Brilhante | C21: Municipal | D21: CÓRREGO ARACI | E21: FZ. ARACI | F21: 21°45'04.33''S | G21: 54°12'41.25''W | H21: Simples | I21: =ROUND(M21/6,0) -> 1 | J21: =(I21+1)*4 -> 8 | K21: 3 | L21: 4.4 | M21: 6.4
... A34: =A33+1 -> 26 | B34: Rio Brilhante | C34: Municipal | D34: CÓRREGO PASSATEMPO 5 | E34: USINA PASSATEMPO | F34: 21°29'57.99''S | G34: 54°43'07.39''W | H34: Simples | I34: =ROUND(M34/6,0) -> 4 | J34: =(I34+1)*4 -> 20 | K34: 3 | L34: 4.4 | M34: 22.3
A37: EXTENSÃO TOTAL (M): | M37: =SUM(M9:M35) -> 335.7

Sheet 2 - Serviços
A1: ='1 - Inventário'!A1:M1 -> OBJETO: MANUTENÇÃO E CONSERVAÇÃO DAS PONTES DE MADEIRA NAS RODOVIAS QUE FAZEM PARTE DA MALHA RODOVIÁRIA NÃO PAVIMENTADA DO MUNICÍPIO DE RIO BRILHANTE/MS
A2: ='1 - Inventário'!A2:M2 -> LOCAL: RIO BRILHANTE/MS
A3: ='1 - Inventário'!A3:M3 -> PRAZO: 365 (dias)
A4: ='1 - Inventário'!A4:M4 -> PROCESSO:
A6: Serviços: Limpeza de Faixa de Domínio
A7: MANUTENÇÃO E CONSERVAÇÃO DAS PONTES DE MADEIRA
A8: Item | B8: Descrição / Local | H8: Roçada com roçadeira costal | L8: Capina Manual | P8: Limpeza de Ponte
B9: Ponte | C9: Latitude | D9: Longitude | E9: Vigamento | F9: Largura (m) | G9: Extensão (m) | H9: Nível de Esforço | I9: Larg. Faixa de Dominio (m) | J9: Ext. Faixa de Dominio (m) | K9: Total (ha) | L9: Nível de Esforço | M9: Largura (m) | N9: Comprimento (m) | O9: Total (m²) | P9: Nível de Esforço | Q9: Largura (m) | R9: Extensão (m) | S9: Total (m²)
A10: 1 | B10: ='1 - Inventário'!D9 -> CÓRREGO DO CHINELO | C10: ='1 - Inventário'!F9 -> 21°53'30.35''S | D10: ='1 - Inventário'!G9 -> 54°35'16.91''W | E10: Simples | F10: ='1 - Inventário'!L9 -> 5 | G10: ='1 - Inventário'!M9 -> 13 | H10: 1 | I10: 5 | J10: 33 | K10: 0.0165 | L10: 1 | M10: 4 | N10: 4 | O10: 16 | P10: 1 | Q10: 5 | R10: 13 | S10: =Q10*R10 -> 65
A11: 2 | B11: ='1 - Inventário'!D10 -> CÓRREGO AREIAS | C11: ='1 - Inventário'!F10 -> 21°48'55.89''S | D11: ='1 - Inventário'!G10 -> 54°32'36.89''W | E11: Simples | F11: ='1 - Inventário'!L10 -> 4.4 | G11: ='1 - Inventário'!M10 -> 6 | H11: 1 | I11: 5 | J11: 26 | K11: 0.013 | L11: 1 | M11: 4 | N11: 4 | O11: 16 | P11: 1 | Q11: 4.4 | R11: 6 | S11: =Q11*R11 -> 26.4
A12: =A11+1 -> 3 | B12: ='1 - Inventário'!D11 -> CÓRREGO ARARAS | C12: ='1 - Inventário'!F11 -> 21°47'42.63''S | D12: ='1 - Inventário'!G11 -> 54°31'56.42''W | E12: Simples | F12: ='1 - Inventário'!L11 -> 4.8 | G12: ='1 - Inventário'!M11 -> 12 | H12: 1 | I12: 5 | J12: 32 | K12: 0.016 | L12: 1 | M12: 4 | N12: 4 | O12: 16 | P12: 1 | Q12: 4.8 | R12: 12 | S12: =Q12*R12 -> 57.6
A13: =A12+1 -> 4 | B13: ='1 - Inventário'!D12 -> CÓRREGO FORMIGA | C13: ='1 - Inventário'!F12 -> 21°39'27.48''S | D13: ='1 - Inventário'!G12 -> 54°25'31.76''W | E13: Simples | F13: ='1 - Inventário'!L12 -> 4.4 | G13: ='1 - Inventário'!M12 -> 13.2 | H13: 1 | I13: 5 | J13: 33.2 | K13: 0.0166 | L13: 1 | M13: 4 | N13: 4 | O13: 16 | P13: 1 | Q13: 4.4 | R13: 13.2 | S13: =Q13*R13 -> 58.08
A14: =A13+1 -> 5 | B14: ='1 - Inventário'!D13 -> CÓRREGO ANTINHA | C14: ='1 - Inventário'!F13 -> 21°38'42.22''S | D14: ='1 - Inventário'!G13 -> 54°27'12.82''W | E14: Simples | F14: ='1 - Inventário'!L13 -> 4.4 | G14: ='1 - Inventário'!M13 -> 7.2 | H14: 1 | I14: 5 | J14: 27.2 | K14: 0.0136 | L14: 1 | M14: 4 | N14: 4 | O14: 16 | P14: 1 | Q14: 4.4 | R14: 7.2 | S14: =Q14*R14 -> 31.68
A15: =A14+1 -> 6 | B15: ='1 - Inventário'!D14 -> CÓRREGO FORMIGA | C15: ='1 - Inventário'!F14 -> 21°38'56.23''S | D15: ='1 - Inventário'!G14 -> 54°25'01.82''W | E15: Simples | F15: ='1 - Inventário'!L14 -> 4.4 | G15: ='1 - Inventário'!M14 -> 12 | H15: 1 | I15: 5 | J15: 32 | K15: 0.016 | L15: 1 | M15: 4 | N15: 4 | O15: 16 | P15: 1 | Q15: 4.4 | R15: 12 | S15: =Q15*R15 -> 52.8
A16: =A15+1 -> 7 | B16: ='1 - Inventário'!D15 -> CÓRREGO QUILOMBO | C16: ='1 - Inventário'!F15 -> 21°42'14.33''S | D16: ='1 - Inventário'!G15 -> 54°20'39.58''W | E16: Simples | F16: ='1 - Inventário'!L15 -> 4.4 | G16: ='1 - Inventário'!M15 -> 6.8 | H16: 1 | I16: 5 | J16: 26.8 | K16: 0.0134 | L16: 1 | M16: 4 | N16: 4 | O16: 16 | P16: 1 | Q16: 4.4 | R16: 6.8 | S16: =Q16*R16 -> 29.92
A17: =A16+1 -> 8 | B17: ='1 - Inventário'!D16 -> ARROIO CORREGUINHO | C17: ='1 - Inventário'!F16 -> 21°42'39.87''S | D17: ='1 - Inventário'!G16 -> 54°18'52.81''W | E17: Simples | F17: ='1 - Inventário'!L16 -> 4.4 | G17: ='1 - Inventário'!M16 -> 5.8 | H17: 1 | I17: 5 | J17: 25.8 | K17: 0.0129 | L17: 1 | M17: 4 | N17: 4 | O17: 16 | P17: 1 | Q17: 4.4 | R17: 5.8 | S17: =Q17*R17 -> 25.52
A18: =A17+1 -> 9 | B18: ='1 - Inventário'!D17 -> CÓRREGO GUATAMBU | C18: ='1 - Inventário'!F17 -> 21°43'17.70"S | D18: ='1 - Inventário'!G17 -> 54°16'36.10"W | E18: Simples | F18: ='1 - Inventário'!L17 -> 4.4 | G18: ='1 - Inventário'!M17 -> 10.6 | H18: 1 | I18: 5 | J18: 30.6 | K18: 0.0153 | L18: 1 | M18: 4 | N18: 4 | O18: 16 | P18: 1 | Q18: 4.4 | R18: 10.6 | S18: =Q18*R18 -> 46.64
A19: =A18+1 -> 10 | B19: ='1 - Inventário'!D18 -> CÓRREGO QUILOMBO | C19: ='1 - Inventário'!F18 -> 21°42'51.11''S | D19: ='1 - Inventário'!G18 -> 54°16'52.81''W | E19: Simples | F19: ='1 - Inventário'!L18 -> 4.4 | G19: ='1 - Inventário'!M18 -> 5.8 | H19: 1 | I19: 5 | J19: 25.8 | K19: 0.0129 | L19: 1 | M19: 4 | N19: 4 | O19: 16 | P19: 1 | Q19: 4.4 | R19: 5.8 | S19: =Q19*R19 -> 25.52
A20: =A19+1 -> 11 | B20: ='1 - Inventário'!D19 -> CÓRREGO SAPÉ | C20: ='1 - Inventário'!F19 -> 21°44'57.50"S | D20: ='1 - Inventário'!G19 -> 54°18'00.40"W | E20: Simples | F20: ='1 - Inventário'!L19 -> 4.4 | G20: ='1 - Inventário'!M19 -> 10.8 | H20: 1 | I20: 5 | J20: 30.8 | K20: 0.0154 | L20: 1 | M20: 4 | N20: 4 | O20: 16 | P20: 1 | Q20: 4.4 | R20: 10.8 | S20: =Q20*R20 -> 47.52
A21: =A20+1 -> 12 | B21: ='1 - Inventário'!D20 -> CÓRREGO JUREMA | C21: ='1 - Inventário'!F20 -> 21°47'02.84''S | D21: ='1 - Inventário'!G20 -> 54°14'35.61''W | E21: Simples | F21: ='1 - Inventário'!L20 -> 4.4 | G21: ='1 - Inventário'!M20 -> 7.1 | H21: 1 | I21: 5 | J21: 27.1 | K21: 0.01355 | L21: 1 | M21: 4 | N21: 4 | O21: 16 | P21: 1 | Q21: 4.4 | R21: 7.1 | S21: =Q21*R21 -> 31.24
A22: =A21+1 -> 13 | B22: ='1 - Inventário'!D21 -> CÓRREGO ARACI | C22: ='1 - Inventário'!F21 -> 21°45'04.33''S | D22: ='1 - Inventário'!G21 -> 54°12'41.25''W | E22: Simples | F22: ='1 - Inventário'!L21 -> 4.4 | G22: ='1 - Inventário'!M21 -> 6.4 | H22: 1 | I22: 5 | J22: 26.4 | K22: 0.0132 | L22: 1 | M22: 4 | N22: 4 | O22: 16 | P22: 1 | Q22: 4.4 | R22: 6.4 | S22: =Q22*R22 -> 28.16
A23: =A22+1 -> 14 | B23: ='1 - Inventário'!D22 -> CÓRREGO ANHUMAS | C23: ='1 - Inventário'!F22 -> 21°51'40.49''S | D23: ='1 - Inventário'!G22 -> 54°08'14.26''W | E23: Simples | F23: ='1 - Inventário'!L22 -> 4.4 | G23: ='1 - Inventário'!M22 -> 11.8 | H23: 1 | I23: 5 | J23: 31.8 | K23: 0.0159 | L23: 1 | M23: 4 | N23: 4 | O23: 16 | P23: 1 | Q23: 4.4 | R23: 11.8 | S23: =Q23*R23 -> 51.92
... A35: =A34+1 -> 26 | B35: ='1 - Inventário'!D34 -> CÓRREGO PASSATEMPO 5 | C35: ='1 - Inventário'!F34 -> 21°29'57.99''S | D35: ='1 - Inventário'!G34 -> 54°43'07.39''W | E35: Simples | F35: ='1 - Inventário'!L34 -> 4.4 | G35: ='1 - Inventário'!M34 -> 22.3 | H35: 1 | I35: 5 | J35: 42.3 | K35: 0.02115 | L35: 1 | M35: 4 | N35: 4 | O35: 16 | P35: 1 | Q35: 4.4 | R35: 22.3 | S35: =Q35*R35 -> 98.12
A37: TOTAL: | G37: =SUM(G10:G36) -> 335.7 | K37: 0.427 | O37: 416 | R37: 335.7
A39: Serviços: Assoalho - Rodeiro - Guia de Rodas (Desmont, Mont e Const.)
A40: =$A$7 -> MANUTENÇÃO E CONSERVAÇÃO DAS PONTES DE MADEIRA
A41: Item | B41: Descrição / Local | H41: Assoalho (m) | L41: Rodeiro (m) | P41: Guia de Rodas (m)
B42: Ponte | C42: =$C$9 -> Latitude | D42: Região | E42: =$E$9 -> Vigamento | F42: =$F$9 -> Largura (m) | G42: =$G$9 -> Extensão (m) | H42: Nível de Esforço | I42: Desmonte | J42: Montagem | K42: Construção | L42: Nível de Esforço | M42: Desmonte | N42: Montagem | O42: Construção | P42: Nível de Esforço | Q42: Desmonte | R42: Montagem | S42: Construção
A43: =A10 -> 1 | B43: =B10 -> CÓRREGO DO CHINELO | C43: =C10 -> 21°53'30.35''S | D43: =D10 -> 54°35'16.91''W | E43: =E10 -> Simples | F43: =F10 -> 5 | G43: =G10 -> 13 | H43: 0.8 | I43: 13 | J43: 0 | K43: =I43 -> 13 | L43: 0.8 | M43: 13 | N43: 0 | O43: =M43 -> 13 | P43: 0.8 | Q43: 13 | R43: 0 | S43: =Q43 -> 13
A44: =A11 -> 2 | B44: =B11 -> CÓRREGO AREIAS | C44: =C11 -> 21°48'55.89''S | D44: =D11 -> 54°32'36.89''W | E44: =E11 -> Simples | F44: =F11 -> 4.4 | G44: =G11 -> 6 | H44: 0.8 | I44: 6 | J44: 0 | K44: =I44 -> 6 | L44: 0.8 | M44: 6 | N44: 0 | O44: =M44 -> 6 | P44: 0.8 | Q44: 6 | R44: 0 | S44: =Q44 -> 6
A45: =A12 -> 3 | B45: =B12 -> CÓRREGO ARARAS | C45: =C12 -> 21°47'42.63''S | D45: =D12 -> 54°31'56.42''W | E45: =E12 -> Simples | F45: =F12 -> 4.8 | G45: =G12 -> 12 | H45: 0.8 | I45: 12 | J45: 0 | K45: =I45 -> 12 | L45: 0.8 | M45: 12 | N45: 0 | O45: =M45 -> 12 | P45: 0.8 | Q45: 12 | R45: 0 | S45: =Q45 -> 12
A46: =A13 -> 4 | B46: =B13 -> CÓRREGO FORMIGA | C46: =C13 -> 21°39'27.48''S | D46: =D13 -> 54°25'31.76''W | E46: =E13 -> Simples | F46: =F13 -> 4.4 | G46: =G13 -> 13.2 | H46: 0.8 | I46: 13.2 | J46: 0 | K46: =I46 -> 13.2 | L46: 0.8 | M46: 13.2 | N46: 0 | O46: =M46 -> 13.2 | P46: 0.8 | Q46: 13.2 | R46: 0 | S46: =Q46 -> 13.2
A47: =A14 -> 5 | B47: =B14 -> CÓRREGO ANTINHA | C47: =C14 -> 21°38'42.22''S | D47: =D14 -> 54°27'12.82''W | E47: =E14 -> Simples | F47: =F14 -> 4.4 | G47: =G14 -> 7.2 | H47: 0.8 | I47: 7.2 | J47: 0 | K47: =I47 -> 7.2 | L47: 0.8 | M47: 7.2 | N47: 0 | O47: =M47 -> 7.2 | P47: 0.8 | Q47: 7.2 | R47: 0 | S47: =Q47 -> 7.2
A48: =A15 -> 6 | B48: =B15 -> CÓRREGO FORMIGA | C48: =C15 -> 21°38'56.23''S | D48: =D15 -> 54°25'01.82''W | E48: =E15 -> Simples | F48: =F15 -> 4.4 | G48: =G15 -> 12 | H48: 0.8 | I48: 12 | J48: 0 | K48: =I48 -> 12 | L48: 0.8 | M48: 12 | N48: 0 | O48: =M48 -> 12 | P48: 0.8 | Q48: 12 | R48: 0 | S48: =Q48 -> 12
A49: =A16 -> 7 | B49: =B16 -> CÓRREGO QUILOMBO | C49: =C16 -> 21°42'14.33''S | D49: =D16 -> 54°20'39.58''W | E49: =E16 -> Simples | F49: =F16 -> 4.4 | G49: =G16 -> 6.8 | H49: 0.8 | I49: 6.8 | J49: 0 | K49: =I49 -> 6.8 | L49: 0.8 | M49: 6.8 | N49: 0 | O49: =M49 -> 6.8 | P49: 0.8 | Q49: 6.8 | R49: 0 | S49: =Q49 -> 6.8
A50: =A17 -> 8 | B50: =B17 -> ARROIO CORREGUINHO | C50: =C17 -> 21°42'39.87''S | D50: =D17 -> 54°18'52.81''W | E50: =E17 -> Simples | F50: =F17 -> 4.4 | G50: =G17 -> 5.8 | H50: 0.8 | I50: 5.8 | J50: 0 | K50: =I50 -> 5.8 | L50: 0.8 | M50: 5.8 | N50: 0 | O50: =M50 -> 5.8 | P50: 0.8 | Q50: 5.8 | R50: 0 | S50: =Q50 -> 5.8
A51: =A18 -> 9 | B51: =B18 -> CÓRREGO GUATAMBU | C51: =C18 -> 21°43'17.70"S | D51: =D18 -> 54°16'36.10"W | E51: =E18 -> Simples | F51: =F18 -> 4.4 | G51: =G18 -> 10.6 | H51: 0.8 | I51: 10.6 | J51: 0 | K51: =I51 -> 10.6 | L51: 0.8 | M51: 10.6 | N51: 0 | O51: =M51 -> 10.6 | P51: 0.8 | Q51: 10.6 | R51: 0 | S51: =Q51 -> 10.6
A52: =A19 -> 10 | B52: =B19 -> CÓRREGO QUILOMBO | C52: =C19 -> 21°42'51.11''S | D52: =D19 -> 54°16'52.81''W | E52: =E19 -> Simples | F52: =F19 -> 4.4 | G52: =G19 -> 5.8 | H52: 0.8 | I52: 5.8 | J52: 0 | K52: =I52 -> 5.8 | L52: 0.8 | M52: 5.8 | N52: 0 | O52: =M52 -> 5.8 | P52: 0.8 | Q52: 5.8 | R52: 0 | S52: =Q52 -> 5.8
A53: =A20 -> 11 | B53: =B20 -> CÓRREGO SAPÉ | C53: =C20 -> 21°44'57.50"S | D53: =D20 -> 54°18'00.40"W | E53: =E20 -> Simples | F53: =F20 -> 4.4 | G53: =G20 -> 10.8 | H53: 0.8 | I53: 10.8 | J53: 0 | K53: =I53 -> 10.8 | L53: 0.8 | M53: 10.8 | N53: 0 | O53: =M53 -> 10.8 | P53: 0.8 | Q53: 10.8 | R53: 0 | S53: =Q53 -> 10.8
A54: =A21 -> 12 | B54: =B21 -> CÓRREGO JUREMA | C54: =C21 -> 21°47'02.84''S | D54: =D21 -> 54°14'35.61''W | E54: =E21 -> Simples | F54: =F21 -> 4.4 | G54: =G21 -> 7.1 | H54: 0.8 | I54: 7.1 | J54: 0 | K54: =I54 -> 7.1 | L54: 0.8 | M54: 7.1 | N54: 0 | O54: =M54 -> 7.1 | P54: 0.8 | Q54: 7.1 | R54: 0 | S54: =Q54 -> 7.1
...

Sheet 3 - Memoria de Cálculo
A1: OBJETO: MANUTENÇÃO E CONSERVAÇÃO DAS PONTES DE MADEIRA NAS RODOVIAS QUE FAZEM PARTE DA MALHA RODOVIÁRIA NÃO PAVIMENTADA DO MUNICÍPIO DE RIO BRILHANTE/MS
A2: LOCAL: RIO BRILHANTE/MS | V2: SEÇÃO DAS PEÇAS
A3: PRAZO: 365 (dias) | V3: Assoalho | W3: Rodeiro | X3: G.Rodas | Y3: V. Simples | Z3: S.Viga | AA3: C.Aterro | AB3: Esteios | AC3: Trav. Sup. | AD3: Trav. Interm. | AE3: Trav. Inf | AF3: Contrav. | AG3: Fundação | AH3: G.Corpo
A4: PROCESSO: | V4: =0.16*0.07 -> 0.0112 | W4: =0.06*0.3 -> 0.018 | X4: =0.15*0.15 -> 0.0225 | Y4: =0.25*0.3 -> 0.075 | Z4: =0.25*0.3 -> 0.075 | AB4: =0.25*0.3 -> 0.075 | AC4: =0.25*0.25 -> 0.0625 | AD4: =AC4 -> 0.0625 | AE4: =0.25*0.2 -> 0.05 | AF4: =0.15*0.2 -> 0.03 | AG4: =0.25*0.3 -> 0.075 | AH4: =2*((0.1*0.1*1)+(0.2*0.2*1)+(0.1*0.1*0.6*0.67)) -> 0.10804
A6: ='2 - Serviços'!A7:S7 -> MANUTENÇÃO E CONSERVAÇÃO DAS PONTES DE MADEIRA
A7: Serviços: Vigamento Simples - Montagem, Desmontagem, Construção, Aquisição de Madeira, Infraestrutura
A8: Item | B8: Descrição / Local | H8: Serviços de Montagem
B9: Ponte | C9: ='2 - Serviços'!$C$9 -> Latitude | D9: ='2 - Serviços'!$D$9 -> Longitude | E9: ='2 - Serviços'!$E$9 -> Vigamento | F9: ='2 - Serviços'!$F$9 -> Largura (m) | G9: ='2 - Serviços'!$G$9 -> Extensão (m) | H9: Assoalho | I9: Rodeiro | J9: G. Rodas | K9: G. Corpo | L9: Vigas | M9: S. Viga | N9: C. Aterro | O9: Esteios | P9: Trav. Sup. | Q9: Trav. Int. | R9: Trav. Inf. | S9: Contrav. | T9: Cravação
A10: ='2 - Serviços'!A10 -> 1 | B10: ='2 - Serviços'!B10 -> CÓRREGO DO CHINELO | C10: ='2 - Serviços'!C10 -> 21°53'30.35''S | D10: ='2 - Serviços'!D10 -> 54°35'16.91''W | E10: ='2 - Serviços'!E10 -> Simples | F10: ='2 - Serviços'!F10 -> 5 | G10: ='2 - Serviços'!G10 -> 13 | H10: 0 | I10: 0 | J10: 0 | K10: 0 | L10: 0 | M10: 0 | N10: 0 | O10: 0 | P10: 0 | Q10: 0 | R10: 0 | S10: 0 | T10: 0
A11: ='2 - Serviços'!A11 -> 2 | B11: ='2 - Serviços'!B11 -> CÓRREGO AREIAS | C11: ='2 - Serviços'!C11 -> 21°48'55.89''S | D11: ='2 - Serviços'!D11 -> 54°32'36.89''W | E11: ='2 - Serviços'!E11 -> Simples | F11: ='2 - Serviços'!F11 -> 4.4 | G11: ='2 - Serviços'!G11 -> 6 | H11: 0 | I11: 0 | J11: 0 | K11: 0 | L11: 0 | M11: 0 | N11: 0 | O11: 0 | P11: 0 | Q11: 0 | R11: 0 | S11: 0 | T11: 0
A12: ='2 - Serviços'!A12 -> 3 | B12: ='2 - Serviços'!B12 -> CÓRREGO ARARAS | C12: ='2 - Serviços'!C12 -> 21°47'42.63''S | D12: ='2 - Serviços'!D12 -> 54°31'56.42''W | E12: ='2 - Serviços'!E12 -> Simples | F12: ='2 - Serviços'!F12 -> 4.8 | G12: ='2 - Serviços'!G12 -> 12 | H12: 0 | I12: 0 | J12: 0 | K12: 0 | L12: 0 | M12: 0 | N12: 0 | O12: 0 | P12: 0 | Q12: 0 | R12: 0 | S12: 0 | T12: 0
A13: ='2 - Serviços'!A13 -> 4 | B13: ='2 - Serviços'!B13 -> CÓRREGO FORMIGA | C13: ='2 - Serviços'!C13 -> 21°39'27.48''S | D13: ='2 - Serviços'!D13 -> 54°25'31.76''W | E13: ='2 - Serviços'!E13 -> Simples | F13: ='2 - Serviços'!F13 -> 4.4 | G13: ='2 - Serviços'!G13 -> 13.2 | H13: 0 | I13: 0 | J13: 0 | K13: 0 | L13: 0 | M13: 0 | N13: 0 | O13: 0 | P13: 0 | Q13: 0 | R13: 0 | S13: 0 | T13: 0
A14: ='2 - Serviços'!A14 -> 5 | B14: ='2 - Serviços'!B14 -> CÓRREGO ANTINHA | C14: ='2 - Serviços'!C14 -> 21°38'42.22''S | D14: ='2 - Serviços'!D14 -> 54°27'12.82''W | E14: ='2 - Serviços'!E14 -> Simples | F14: ='2 - Serviços'!F14 -> 4.4 | G14: ='2 - Serviços'!G14 -> 7.2 | H14: 0 | I14: 0 | J14: 0 | K14: 0 | L14: 0 | M14: 0 | N14: 0 | O14: 0 | P14: 0 | Q14: 0 | R14: 0 | S14: 0 | T14: 0
A15: ='2 - Serviços'!A15 -> 6 | B15: ='2 - Serviços'!B15 -> CÓRREGO FORMIGA | C15: ='2 - Serviços'!C15 -> 21°38'56.23''S | D15: ='2 - Serviços'!D15 -> 54°25'01.82''W | E15: ='2 - Serviços'!E15 -> Simples | F15: ='2 - Serviços'!F15 -> 4.4 | G15: ='2 - Serviços'!G15 -> 12 | H15: 0 | I15: 0 | J15: 0 | K15: 0 | L15: 0 | M15: 0 | N15: 0 | O15: 0 | P15: 0 | Q15: 0 | R15: 0 | S15: 0 | T15: 0
A16: ='2 - Serviços'!A16 -> 7 | B16: ='2 - Serviços'!B16 -> CÓRREGO QUILOMBO | C16: ='2 - Serviços'!C16 -> 21°42'14.33''S | D16: ='2 - Serviços'!D16 -> 54°20'39.58''W | E16: ='2 - Serviços'!E16 -> Simples | F16: ='2 - Serviços'!F16 -> 4.4 | G16: ='2 - Serviços'!G16 -> 6.8 | H16: 0 | I16: 0 | J16: 0 | K16: 0 | L16: 0 | M16: 0 | N16: 0 | O16: 0 | P16: 0 | Q16: 0 | R16: 0 | S16: 0 | T16: 0
A17: ='2 - Serviços'!A17 -> 8 | B17: ='2 - Serviços'!B17 -> ARROIO CORREGUINHO | C17: ='2 - Serviços'!C17 -> 21°42'39.87''S | D17: ='2 - Serviços'!D17 -> 54°18'52.81''W | E17: ='2 - Serviços'!E17 -> Simples | F17: ='2 - Serviços'!F17 -> 4.4 | G17: ='2 - Serviços'!G17 -> 5.8 | H17: 0 | I17: 0 | J17: 0 | K17: 0 | L17: 0 | M17: 0 | N17: 0 | O17: 0 | P17: 0 | Q17: 0 | R17: 0 | S17: 0 | T17: 0
A18: ='2 - Serviços'!A18 -> 9 | B18: ='2 - Serviços'!B18 -> CÓRREGO GUATAMBU | C18: ='2 - Serviços'!C18 -> 21°43'17.70"S | D18: ='2 - Serviços'!D18 -> 54°16'36.10"W | E18: ='2 - Serviços'!E18 -> Simples | F18: ='2 - Serviços'!F18 -> 4.4 | G18: ='2 - Serviços'!G18 -> 10.6 | H18: 0 | I18: 0 | J18: 0 | K18: 0 | L18: 0 | M18: 0 | N18: 0 | O18: 0 | P18: 0 | Q18: 0 | R18: 0 | S18: 0 | T18: 0
A19: ='2 - Serviços'!A19 -> 10 | B19: ='2 - Serviços'!B19 -> CÓRREGO QUILOMBO | C19: ='2 - Serviços'!C19 -> 21°42'51.11''S | D19: ='2 - Serviços'!D19 -> 54°16'52.81''W | E19: ='2 - Serviços'!E19 -> Simples | F19: ='2 - Serviços'!F19 -> 4.4 | G19: ='2 - Serviços'!G19 -> 5.8 | H19: 0 | I19: 0 | J19: 0 | K19: 0 | L19: 0 | M19: 0 | N19: 0 | O19: 0 | P19: 0 | Q19: 0 | R19: 0 | S19: 0 | T19: 0
A20: ='2 - Serviços'!A20 -> 11 | B20: ='2 - Serviços'!B20 -> CÓRREGO SAPÉ | C20: ='2 - Serviços'!C20 -> 21°44'57.50"S | D20: ='2 - Serviços'!D20 -> 54°18'00.40"W | E20: ='2 - Serviços'!E20 -> Simples | F20: ='2 - Serviços'!F20 -> 4.4 | G20: ='2 - Serviços'!G20 -> 10.8 | H20: 0 | I20: 0 | J20: 0 | K20: 0 | L20: 0 | M20: 0 | N20: 0 | O20: 0 | P20: 0 | Q20: 0 | R20: 0 | S20: 0 | T20: 0
A21: ='2 - Serviços'!A21 -> 12 | B21: ='2 - Serviços'!B21 -> CÓRREGO JUREMA | C21: ='2 - Serviços'!C21 -> 21°47'02.84''S | D21: ='2 - Serviços'!D21 -> 54°14'35.61''W | E21: ='2 - Serviços'!E21 -> Simples | F21: ='2 - Serviços'!F21 -> 4.4 | G21: ='2 - Serviços'!G21 -> 7.1 | H21: 0 | I21: 0 | J21: 0 | K21: 0 | L21: 0 | M21: 0 | N21: 0 | O21: 0 | P21: 0 | Q21: 0 | R21: 0 | S21: 0 | T21: 0
... A35: ='2 - Serviços'!A35 -> 26 | B35: ='2 - Serviços'!B35 -> CÓRREGO PASSATEMPO 5 | C35: ='2 - Serviços'!C35 -> 21°29'57.99''S | D35: ='2 - Serviços'!D35 -> 54°43'07.39''W | E35: ='2 - Serviços'!E35 -> Simples | F35: ='2 - Serviços'!F35 -> 4.4 | G35: ='2 - Serviços'!G35 -> 22.3 | H35: 0 | I35: 0 | J35: 0 | K35: 0 | L35: 0 | M35: 0 | N35: 0 | O35: 0 | P35: 0 | Q35: 0 | R35: 0 | S35: 0 | T35: 0
A37: TOTAL | G37: =TRUNC(SUM(G10:G36),3) -> 335.7 | H37: 0 | I37: 0 | J37: 0 | K37: 0 | L37: 0 | M37: 0 | N37: 0 | O37: 0 | P37: 0 | Q37: 0 | R37: 0 | S37: 0 | T37: 0
A39: Item | B39: Descrição / Local | H39: Serviços de Desmontagem
B40: Ponte | C40: ='2 - Serviços'!$C$9 -> Latitude | D40: ='2 - Serviços'!$D$9 -> Longitude | E40: ='2 - Serviços'!$E$9 -> Vigamento | F40: ='2 - Serviços'!$F$9 -> Largura (m) | G40: ='2 - Serviços'!$G$9 -> Extensão (m) | H40: Assoalho | I40: Rodeiro | J40: G. Rodas | K40: G. Corpo | L40: Vigas | M40: S. Viga | N40: =N9 -> C. Aterro | O40: Esteios | P40: Trav. Sup. | Q40: Trav. Int. | R40: =R9 -> Trav. Inf. | S40: Contrav. | T40: =T9 -> Cravação
A41: =A10 -> 1 | B41: =B10 -> CÓRREGO DO CHINELO | C41: =C10 -> 21°53'30.35''S | D41: =D10 -> 54°35'16.91''W | E41: =E10 -> Simples | F41: =F10 -> 5 | G41: =G10 -> 13 | H41: 239.2 | I41: 62.4 | J41: 20.8 | K41: 0 | L41: 36 | M41: 18 | N41: 15 | O41: 14.4 | P41: 13.2 | Q41: 0 | R41: 13.2 | S41: 14.88 | T41: 0
A42: =A11 -> 2 | B42: =B11 -> CÓRREGO AREIAS | C42: =C11 -> 21°48'55.89''S | D42: =D11 -> 54°32'36.89''W | E42: =E11 -> Simples | F42: =F11 -> 4.4 | G42: =G11 -> 6 | H42: 110.4 | I42: 28.8 | J42: 9.6 | K42: 0 | L42: 18 | M42: 9 | N42: 13.2 | O42: 9.6 | P42: 7.84 | Q42: 0 | R42: 7.84 | S42: 8.8 | T42: 0
A43: =A12 -> 3 | B43: =B12 -> CÓRREGO ARARAS | C43: =C12 -> 21°47'42.63''S | D43: =D12 -> 54°31'56.42''W | E43: =E12 -> Simples | F43: =F12 -> 4.8 | G43: =G12 -> 12 | H43: 220.8 | I43: 57.6 | J43: 19.2 | K43: 0 | L43: 36 | M43: 18 | N43: 14.4 | O43: 14.4 | P43: 12.72 | Q43: 0 | R43: 12.72 | S43: 14.16 | T43: 0
A44: =A13 -> 4 | B44: =B13 -> CÓRREGO FORMIGA | C44: =C13 -> 21°39'27.48''S | D44: =D13 -> 54°25'31.76''W | E44: =E13 -> Simples | F44: =F13 -> 4.4 | G44: =G13 -> 13.2 | H44: 242.88 | I44: 63.36 | J44: 21.12 | K44: 0 | L44: 36 | M44: 18 | N44: 13.2 | O44: 14.4 | P44: 11.76 | Q44: 0 | R44: 11.76 | S44: 13.2 | T44: 0
A45: =A14 -> 5 | B45: =B14 -> CÓRREGO ANTINHA | C45: =C14 -> 21°38'42.22''S | D45: =D14 -> 54°27'12.82''W | E45: =E14 -> Simples | F45: =F14 -> 4.4 | G45: =G14 -> 7.2 | H45: 132.48 | I45: 34.56 | J45: 11.52 | K45: 0 | L45: 18 | M45: 9 | N45: 13.2 | O45: 9.6 | P45: 7.84 | Q45: 0 | R45: 7.84 | S45: 8.8 | T45: 0
A46: =A15 -> 6 | B46: =B15 -> CÓRREGO FORMIGA | C46: =C15 -> 21°38'56.23''S | D46: =D15 -> 54°25'01.82''W | E46: =E15 -> Simples | F46: =F15 -> 4.4 | G46: =G15 -> 12 | H46: 220.8 | I46: 57.6 | J46: 19.2 | K46: 0 | L46: 36 | M46: 18 | N46: 13.2 | O46: 14.4 | P46: 11.76 | Q46: 0 | R46: 11.76 | S46: 13.2 | T46: 0
A47: =A16 -> 7 | B47: =B16 -> CÓRREGO QUILOMBO | C47: =C16 -> 21°42'14.33''S | D47: =D16 -> 54°20'39.58''W | E47: =E16 -> Simples | F47: =F16 -> 4.4 | G47: =G16 -> 6.8 | H47: 125.12 | I47: 32.64 | J47: 10.88 | K47: 0 | L47: 18 | M47: 9 | N47: 13.2 | O47: 9.6 | P47: 7.84 | Q47: 0 | R47: 7.84 | S47: 8.8 | T47: 0
A48: =A17 -> 8 | B48: =B17 -> ARROIO CORREGUINHO | C48: =C17 -> 21°42'39.87''S | D48: =D17 -> 54°18'52.81''W | E48: =E17 -> Simples | F48: =F17 -> 4.4 | G48: =G17 -> 5.8 | H48: 106.72 | I48: 27.84 | J48: 9.28 | K48: 0 | L48: 18 | M48: 9 | N48: 13.2 | O48: 9.6 | P48: 7.84 | Q48: 0 | R48: 7.84 | S48: 8.8 | T48: 0
A49: =A18 -> 9 | B49: =B18 -> CÓRREGO GUATAMBU | C49: =C18 -> 21°43'17.70"S | D49: =D18 -> 54°16'36.10"W | E49: =E18 -> Simples | F49: =F18 -> 4.4 | G49: =G18 -> 10.6 | H49: 195.04 | I49: 50.88 | J49: 16.96 | K49: 0 | L49: 36 | M49: 18 | N49: 13.2 | O49: 14.4 | P49: 11.76 | Q49: 0 | R49: 11.76 | S49: 13.2 | T49: 0
A50: =A19 -> 10 | B50: =B19 -> CÓRREGO QUILOMBO | C50: =C19 -> 21°42'51.11''S | D50: =D19 -> 54°16'52.81''W | E50: =E19 -> Simples | F50: =F19 -> 4.4 | G50: =G19 -> 5.8 | H50: 106.72 | I50: 27.84 | J50: 9.28 | K50: 0 | L50: 18 | M50: 9 | N50: 13.2 | O50: 9.6 | P50: 7.84 | Q50: 0 | R50: 7.84 | S50: 8.8 | T50: 0
A51: =A20 -> 11 | B51: =B20 -> CÓRREGO SAPÉ | C51: =C20 -> 21°44'57.50"S | D51: =D20 -> 54°18'00.40"W | E51: =E20 -> Simples | F51: =F20 -> 4.4 | G51: =G20 -> 10.8 | H51: 198.72 | I51: 51.84 | J51: 17.28 | K51: 0 | L51: 36 | M51: 18 | N51: 13.2 | O51: 14.4 | P51: 11.76 | Q51: 0 | R51: 11.76 | S51: 13.2 | T51: 0
A52: =A21 -> 12 | B52: =B21 -> CÓRREGO JUREMA | C52: =C21 -> 21°47'02.84''S | D52: =D21 -> 54°14'35.61''W | E52: =E21 -> Simples | F52: =F21 -> 4.4 | G52: =G21 -> 7.1 | H52: 130.64 | I52: 34.08 | J52: 11.36 | K52: 0 | L52: 18 | M52: 9 | N52: 13.2 | O52: 9.6 | P52: 7.84 | Q52: 0 | R52: 7.84 | S52: 8.8 | T52: 0
... A66: =A35 -> 26 | B66: =B35 -> CÓRREGO PASSATEMPO 5 | C66: =C35 -> 21°29'57.99''S | D66: =D35 -> 54°43'07.39''W | E66: =E35 -> Simples | F66: =F35 -> 4.4 | G66: =G35 -> 22.3 | H66: 410.32 | I66: 107.04 | J66: 35.68 | K66: 0 | L66: 72 | M66: 36 | N66: 13.2 | O66: 24 | P66: 19.6 | Q66: 0 | R66: 19.6 | S66: 22 | T66: 0
A68: TOTAL | G68: =SUM(G41:G66) -> 335.7 | H68: =SUM(H41:H66) -> 6176.88 | I68: =SUM(I41:I66) -> 1611.36 | J68: =SUM(J41:J66) -> 537.12 | K68: =SUM(K41:K66) -> 0 | L68: =SUM(L41:L66) -> 1008 | M68: =SUM(M41:M66) -> 504 | N68: =SUM(N41:N66) -> 352.8 | ... S68: =SUM(S41:S66) -> 368.96 | T68: 0
A70: Item | B70: Descrição / Local | H70: Serviços de Construção
B71: Ponte | C71: ='2 - Serviços'!$C$9 -> Latitude | D71: ='2 - Serviços'!$D$9 -> Longitude | E71: ='2 - Serviços'!$E$9 -> Vigamento | F71: ='2 - Serviços'!$F$9 -> Largura (m) | G71: ='2 - Serviços'!$G$9 -> Extensão (m) | H71: Assoalho | I71: Rodeiro | J71: G. Rodas | K71: G. Corpo | L71: Vigas | M71: S. Viga | N71: =N40 -> C. Aterro | O71: Esteios | P71: Trav. Sup. | Q71: Trav. Int. | R71: =R40 -> Trav. Inf. | S71: Contrav. | T71: =T40 -> Cravação
...

Sheet 4 - Resumo de Ferragem
A1: ='1 - Inventário'!A1:M1 -> OBJETO: MANUTENÇÃO E CONSERVAÇÃO DAS PONTES DE MADEIRA NAS RODOVIAS QUE FAZEM PARTE DA MALHA RODOVIÁRIA NÃO PAVIMENTADA DO MUNICÍPIO DE RIO BRILHANTE/MS
A2: ='1 - Inventário'!A2:M2 -> LOCAL: RIO BRILHANTE/MS
A3: ='1 - Inventário'!A3:M3 -> PRAZO: 365 (dias)
A4: ='1 - Inventário'!A4:M4 -> PROCESSO:
A6: ='2 - Serviços'!A7:S7 -> MANUTENÇÃO E CONSERVAÇÃO DAS PONTES DE MADEIRA
A7: Serviços: Aquisição e Instalação de Ferragem de Ponte
A8: Item | B8: Descrição / Local | H8: Ferragem (kg) | O8: Porcas e Arruelas
B9: ='2 - Serviços'!$B$9 -> Ponte | C9: ='2 - Serviços'!$C$9 -> Latitude | D9: ='2 - Serviços'!$D$9 -> Longitude | E9: ='2 - Serviços'!$E$9 -> Vigamento | F9: ='2 - Serviços'!$F$9 -> Largura (m) | G9: ='2 - Serviços'!$G$9 -> Extensão (m) | H9: Ferro Mec. 1" | I9: Ferro Mec. 1/2" | J9: Ferro Mec. 3/8" | K9: Chapa 1/2" | L9: Prego 26x72 | M9: Prego 24x60 | N9: Total (kg) | O9: Porca e Arruela 1" | P9: Porca e Arruela 1/2" | Q9: Porca e Arruela 3/8" | R9: Total (un) | S9: Total (kg) | U9: FERRAGENS (kg/metro de peça)
A10: ='3 - Memoria de Cálculo'!A10 -> 1 | B10: ='3 - Memoria de Cálculo'!B10 -> CÓRREGO DO CHINELO | C10: ='3 - Memoria de Cálculo'!C10 -> 21°53'30.35''S | D10: ='3 - Memoria de Cálculo'!D10 -> 54°35'16.91''W | E10: ='3 - Memoria de Cálculo'!E10 -> Simples | F10: ='3 - Memoria de Cálculo'!F10 -> 5 | G10: ='3 - Memoria de Cálculo'!G10 -> 13 | H10: 94.293798 | I10: 33.780096 | J10: 1.1633014 | K10: 22 | L10: 21.608124 | M10: 4.45536 | N10: 177.3 | O10: 73 | P10: 17 | Q10: 8 | R10: 98 | S10: 12.25 | Y10: Assoalho | Z10: Rodeiro | AA10: G. Rodas | AB10: G. Corpo | AC10: V. Simples | AD10: Sub. Vigas | AE10: Cx. Aterro | AF10: Esteio | AG10: Trav. Sup | AH10: Trav.Interm | AI10: Trav. Infe | AJ10: Contra. | AK10: Emenda
A11: ='3 - Memoria de Cálculo'!A11 -> 2 | B11: ='3 - Memoria de Cálculo'!B11 -> CÓRREGO AREIAS | C11: ='3 - Memoria de Cálculo'!C11 -> 21°48'55.89''S | D11: ='3 - Memoria de Cálculo'!D11 -> 54°32'36.89''W | E11: ='3 - Memoria de Cálculo'!E11 -> Simples | F11: ='3 - Memoria de Cálculo'!F11 -> 4.4 | G11: ='3 - Memoria de Cálculo'!G11 -> 6 | H11: 49.585444 | I11: 28.436352 | J11: 0.53690832 | K11: 22 | L11: 12.486888 | M11: 2.05632 | N11: 115.101 | O11: 39 | P11: 8 | Q11: 3 | R11: 50 | S11: 6.25 | U11: Aquisição de ferro mecanico redondo 1" | AD11: 5.0917604 | AG11: 1.145664 | AH11: 1.145664 | AI11: 1.1934 | AJ11: 1.8805796 | AK11: 7.956
A12: ='3 - Memoria de Cálculo'!A12 -> 3 | B12: ='3 - Memoria de Cálculo'!B12 -> CÓRREGO ARARAS | C12: ='3 - Memoria de Cálculo'!C12 -> 21°47'42.63''S | D12: ='3 - Memoria de Cálculo'!D12 -> 54°31'56.42''W | E12: ='3 - Memoria de Cálculo'!E12 -> Simples | F12: ='3 - Memoria de Cálculo'!F12 -> 4.8 | G12: ='3 - Memoria de Cálculo'!G12 -> 12 | H12: 92.642619 | I12: 33.016704 | J12: 1.0738166 | K12: 22 | L12: 20.167776 | M12: 4.11264 | N12: 173.013 | O12: 72 | P12: 16 | Q12: 7 | R12: 95 | S12: 11.875 | U12: Aquisição de ferro mecanico redondo 1/2" | Z12: 0.26506667 | AE12: 11.928
A13: ='3 - Memoria de Cálculo'!A13 -> 4 | B13: ='3 - Memoria de Cálculo'!B13 -> CÓRREGO FORMIGA | C13: ='3 - Memoria de Cálculo'!C13 -> 21°39'27.48''S | D13: ='3 - Memoria de Cálculo'!D13 -> 54°25'31.76''W | E13: ='3 - Memoria de Cálculo'!E13 -> Simples | F13: ='3 - Memoria de Cálculo'!F13 -> 4.4 | G13: ='3 - Memoria de Cálculo'!G13 -> 13.2 | H13: 89.942047 | I13: 33.907328 | J13: 1.1782155 | K13: 22 | L13: 21.087232 | M13: 4.51248 | N13: 172.627 | O13: 70 | P13: 17 | Q13: 8 | R13: 95 | S13: 11.875 | U13: Aquisição de ferro mecanico redondo 3/8" | AA13: 0.09321325 | AB13: 0.1631721
A14: ='3 - Memoria de Cálculo'!A14 -> 5 | B14: ='3 - Memoria de Cálculo'!B14 -> CÓRREGO ANTINHA | C14: ='3 - Memoria de Cálculo'!C14 -> 21°38'42.22''S | D14: ='3 - Memoria de Cálculo'!D14 -> 54°27'12.82''W | E14: ='3 - Memoria de Cálculo'!E14 -> Simples | F14: ='3 - Memoria de Cálculo'!F14 -> 4.4 | G14: ='3 - Memoria de Cálculo'!G14 -> 7.2 | H14: 49.585444 | I14: 29.326976 | J14: 0.64130716 | K14: 22 | L14: 13.886944 | M14: 2.45616 | N14: 117.896 | O14: 39 | P14: 10 | Q14: 4 | R14: 53 | S14: 6.625 | U14: Aquisição de chapa metálica ASTM A-36 1/2" | AK14: 22
A15: ='3 - Memoria de Cálculo'!A15 -> 6 | B15: ='3 - Memoria de Cálculo'!B15 -> CÓRREGO FORMIGA | C15: ='3 - Memoria de Cálculo'!C15 -> 21°38'56.23''S | D15: ='3 - Memoria de Cálculo'!D15 -> 54°25'01.82''W | E15: ='3 - Memoria de Cálculo'!E15 -> Simples | F15: ='3 - Memoria de Cálculo'!F15 -> 4.4 | G15: ='3 - Memoria de Cálculo'!G15 -> 12 | H15: 89.942047 | I15: 33.016704 | J15: 1.0738166 | K15: 22 | L15: 19.687176 | M15: 4.11264 | N15: 169.832 | O15: 70 | P15: 16 | Q15: 7 | R15: 93 | S15: 11.625 | U15: Aquisição de porca e arruela lisa 1" | AD15: 0.5 | AG15: 0.1 | AH15: 0.1 | AI15: 0.1 | AJ15: 0.17875 | AK15: 1.25
A16: ='3 - Memoria de Cálculo'!A16 -> 7 | B16: ='3 - Memoria de Cálculo'!B16 -> CÓRREGO QUILOMBO | C16: ='3 - Memoria de Cálculo'!C16 -> 21°42'14.33''S | D16: ='3 - Memoria de Cálculo'!D16 -> 54°20'39.58''W | E16: ='3 - Memoria de Cálculo'!E16 -> Simples | F16: ='3 - Memoria de Cálculo'!F16 -> 4.4 | G16: ='3 - Memoria de Cálculo'!G16 -> 6.8 | H16: 49.585444 | I16: 29.072512 | J16: 0.61147892 | K16: 22 | L16: 13.486928 | M16: 2.34192 | N16: 117.098 | O16: 39 | P16: 9 | Q16: 4 | R16: 52 | S16: 6.5 | U16: Aquisição de porca e arruela lisa 1/2" | Z16: 0.0555
A17: ='3 - Memoria de Cálculo'!A17 -> 8 | B17: ='3 - Memoria de Cálculo'!B17 -> ARROIO CORREGUINHO | C17: ='3 - Memoria de Cálculo'!C17 -> 21°42'39.87''S | D17: ='3 - Memoria de Cálculo'!D17 -> 54°18'52.81''W | E17: ='3 - Memoria de Cálculo'!E17 -> Simples | F17: ='3 - Memoria de Cálculo'!F17 -> 4.4 | G17: ='3 - Memoria de Cálculo'!G17 -> 5.8 | H17: 49.585444 | I17: 28.30912 | J17: 0.5219942 | K17: 22 | L17: 12.28688 | M17: 1.9992 | N17: 114.702 | O17: 39 | P17: 8 | Q17: 3 | R17: 50 | S17: 6.25 | U17: Aquisição de porca e arruela lisa 3/8" | AA17: 0.083375 | AB17: 0.2085
A18: ='3 - Memoria de Cálculo'!A18 -> 9 | B18: ='3 - Memoria de Cálculo'!B18 -> CÓRREGO GUATAMBU | C18: ='3 - Memoria de Cálculo'!C18 -> 21°43'17.70"S | D18: ='3 - Memoria de Cálculo'!D18 -> 54°16'36.10"W | E18: ='3 - Memoria de Cálculo'!E18 -> Simples | F18: ='3 - Memoria de Cálculo'!F18 -> 4.4 | G18: ='3 - Memoria de Cálculo'!G18 -> 10.6 | H18: 89.942047 | I18: 31.998848 | J18: 0.95450368 | K18: 22 | L18: 18.087112 | M18: 3.65568 | N18: 166.638 | O18: 70 | P18: 14 | Q18: 6 | R18: 90 | S18: 11.25 | U18: Prego 26x72 | Y18: 0.1087 | AE18: 0.267
A19: ='3 - Memoria de Cálculo'!A19 -> 10 | B19: ='3 - Memoria de Cálculo'!B19 -> CÓRREGO QUILOMBO | C19: ='3 - Memoria de Cálculo'!C19 -> 21°42'51.11''S | D19: ='3 - Memoria de Cálculo'!D19 -> 54°16'52.81''W | E19: ='3 - Memoria de Cálculo'!E19 -> Simples | F19: ='3 - Memoria de Cálculo'!F19 -> 4.4 | G19: ='3 - Memoria de Cálculo'!G19 -> 5.8 | H19: 49.585444 | I19: 28.30912 | J19: 0.5219942 | K19: 22 | L19: 12.28688 | M19: 1.9992 | N19: 114.702 | O19: 39 | P19: 8 | Q19: 3 | R19: 50 | S19: 6.25 | U19: Prego 24x60 | Z19: 0.119 | AB19: 0.0238
A20: ='3 - Memoria de Cálculo'!A20 -> 11 | B20: ='3 - Memoria de Cálculo'!B20 -> CÓRREGO SAPÉ | C20: ='3 - Memoria de Cálculo'!C20 -> 21°44'57.50"S | D20: ='3 - Memoria de Cálculo'!D20 -> 54°18'00.40"W | E20: ='3 - Memoria de Cálculo'!E20 -> Simples | F20: ='3 - Memoria de Cálculo'!F20 -> 4.4 | G20: ='3 - Memoria de Cálculo'!G20 -> 10.8 | H20: 89.942047 | I20: 32.12608 | J20: 0.9694178 | K20: 22 | L20: 18.28712 | M20: 3.7128 | N20: 167.037 | O20: 70 | P20: 14 | Q20: 6 | R20: 90 | S20: 11.25
A21: ='3 - Memoria de Cálculo'!A21 -> 12 | B21: ='3 - Memoria de Cálculo'!B21 -> CÓRREGO JUREMA | C21: ='3 - Memoria de Cálculo'!C21 -> 21°47'02.84''S | D21: ='3 - Memoria de Cálculo'!D21 -> 54°14'35.61''W | E21: ='3 - Memoria de Cálculo'!E21 -> Simples | F21: ='3 - Memoria de Cálculo'!F21 -> 4.4 | G21: ='3 - Memoria de Cálculo'!G21 -> 7.1 | H21: 49.585444 | I21: 29.326976 | J21: 0.64130716 | K21: 22 | L21: 13.886944 | M21: 2.45616 | N21: 117.896 | O21: 39 | P21: 10 | Q21: 4 | R21: 53 | S21: 6.625 | U21: FERRAGENS (un/metro de peça)
A22: ='3 - Memoria de Cálculo'!A22 -> 13 | B22: ='3 - Memoria de Cálculo'!B22 -> CÓRREGO ARACI | C22: ='3 - Memoria de Cálculo'!C22 -> 21°45'04.33''S | D22: ='3 - Memoria de Cálculo'!D22 -> 54°12'41.25''W | E22: ='3 - Memoria de Cálculo'!E22 -> Simples | F22: ='3 - Memoria de Cálculo'!F22 -> 4.4 | G22: ='3 - Memoria de Cálculo'!G22 -> 6.4 | H22: 49.585444 | I22: 28.690816 | J22: 0.56673656 | K22: 22 | L22: 12.886904 | M22: 2.17056 | N22: 115.9 | O22: 39 | P22: 9 | Q22: 4 | R22: 52 | S22: 6.5 | Y22: Assoalho | Z22: Rodeiro | AA22: G. Rodas | AB22: G. Corpo | AC22: V. Simples | AD22: Sub. Vigas | AE22: Cx. Aterro | AF22: Esteio | AG22: Trav. Sup | AH22: Trav.Interm | AI22: Trav. Infe | AJ22: Contra. | AK22: Fundação
A23: ='3 - Memoria de Cálculo'!A23 -> 14 | B23: ='3 - Memoria de Cálculo'!B23 -> CÓRREGO ANHUMAS | C23: ='3 - Memoria de Cálculo'!C23 -> 21°51'40.49''S | D23: ='3 - Memoria de Cálculo'!D23 -> 54°08'14.26''W | E23: ='3 - Memoria de Cálculo'!E23 -> Simples | F23: ='3 - Memoria de Cálculo'!F23 -> 4.4 | G23: ='3 - Memoria de Cálculo'!G23 -> 11.8 | H23: 89.942047 | I23: 32.889472 | J23: 1.0589025 | K23: 22 | L23: 19.487168 | M23: 4.05552 | N23: 169.433 | O23: 70 | P23: 16 | Q23: 7 | R23: 93 | S23: 11.625 | U23: Aquisição de ferro mecanico redondo 1" | AD23: 2 | AG23: 0.4 | AH23: 0.4 | AI23: 0.4 | AJ23: 0.7273 | AK23: 5
A24: ='3 - Memoria de Cálculo'!A24 -> 15 | B24: ='3 - Memoria de Cálculo'!B24 -> CÓRREGO CHIFRE DO VIADO | C24: ='3 - Memoria de Cálculo'!C24 -> 21°40'35.65''S | D24: ='3 - Memoria de Cálculo'!D24 -> 54°56'15.44''W | E24: ='3 - Memoria de Cálculo'!E24 -> Simples | F24: ='3 - Memoria de Cálculo'!F24 -> 5 | G24: ='3 - Memoria de Cálculo'!G24 -> 12 | H24: 94.293798 | I24: 33.016704 | J24: 1.0738166 | K24: 22 | L24: 20.408076 | M24: 4.11264 | N24: 174.905 | O24: 73 | P24: 16 | Q24: 7 | R24: 96 | S24: 12 | U24: Aquisição de ferro mecanico redondo 1/2" | Z24: 0.222 | AE24: 1
A25: ='3 - Memoria de Cálculo'!A25 -> 16 | B25: ='3 - Memoria de Cálculo'!B25 -> CÓRREGO SANTA RITA | C25: ='3 - Memoria de Cálculo'!C25 -> 21°33'23.75''S | D25: ='3 - Memoria de Cálculo'!D25 -> 54°35'26.66''W | E25: ='3 - Memoria de Cálculo'!E25 -> Simples | F25: ='3 - Memoria de Cálculo'!F25 -> 4.4 | G25: ='3 - Memoria de Cálculo'!G25 -> 22.1 | H25: 160.84921 | I25: 40.777856 | J25: 1.983578 | K25: 22 | L25: 31.887664 | M25: 7.59696 | N25: 265.095 | O25: 124 | P25: 29 | Q25: 14 | R25: 167 | S25: 20.875 | U25: Aquisição de ferro mecanico redondo 3/8" | AA25: 0.667 | AB25: 0.834
A26: ='3 - Memoria de Cálculo'!A26 -> 17 | B26: ='3 - Memoria de Cálculo'!B26 -> RIO SERROTE | C26: ='3 - Memoria de Cálculo'!C26 -> 21°25'01.14''S | D26: ='3 - Memoria de Cálculo'!D26 -> 54°43'16.96''W | E26: ='3 - Memoria de Cálculo'!E26 -> Simples | F26: ='3 - Memoria de Cálculo'!F26 -> 4.4 | G26: ='3 - Memoria de Cálculo'!G26 -> 24.6 | H26: 160.84921 | I26: 42.686336 | J26: 2.2072898 | K26: 22 | L26: 34.887784 | M26: 8.45376 | N26: 271.084 | O26: 124 | P26: 32 | Q26: 15 | R26: 171 | S26: 21.375 | U26: Aquisição de chapa metálica ASTM A-36 1/2" | AK26: 2
A27: ='3 - Memoria de Cálculo'!A27 -> 18 | B27: ='3 - Memoria de Cálculo'!B27 -> CÓRREGO PASSATEMPO 1 | C27: ='3 - Memoria de Cálculo'!C27 -> 21°29'34.92''S | D27: ='3 - Memoria de Cálculo'!D27 -> 54°49'18.44''W | E27: ='3 - Memoria de Cálculo'!E27 -> Simples | F27: ='3 - Memoria de Cálculo'!F27 -> 4.4 | G27: ='3 - Memoria de Cálculo'!G27 -> 16.4 | H27: 129.21445 | I27: 36.324736 | J27: 1.4615838 | K27: 22 | L27: 24.887384 | M27: 5.59776 | N27: 219.485 | O27: 100 | P27: 21 | Q27: 10 | R27: 131 | S27: 16.375 | U27: Aquisição de porca e arruela lisa 1" | AD27: 4 | AG27: 0.8 | AH27: 0.8 | AI27: 0.8 | AJ27: 1.43 | AK27: 10
A28: ='3 - Memoria de Cálculo'!A28 -> 19 | B28: ='3 - Memoria de Cálculo'!B28 -> CÓRREGO PASSATEMPO 2 | C28: ='3 - Memoria de Cálculo'!C28 -> 21°29'33.39''S | D28: ='3 - Memoria de Cálculo'!D28 -> 54°49'17.44''W | E28: ='3 - Memoria de Cálculo'!E28 -> Simples | F28: ='3 - Memoria de Cálculo'!F28 -> 4.4 | G28: ='3 - Memoria de Cálculo'!G28 -> 19.6 | H28: 129.21445 | I28: 38.869376 | J28: 1.7598662 | K28: 22 | L28: 28.887544 | M28: 6.74016 | N28: 227.471 | O28: 100 | P28: 26 | Q28: 12 | R28: 138 | S28: 17.25 | U28: Aquisição de porca e arruela lisa 1/2" | Z28: 0.444
A29: ='3 - Memoria de Cálculo'!A29 -> 20 | B29: ='3 - Memoria de Cálculo'!B29 -> CÓRREGO PASSATEMPO 3 | C29: ='3 - Memoria de Cálculo'!C29 -> 21°28'09.42''S | D29: ='3 - Memoria de Cálculo'!D29 -> 54°48'01.11''W | E29: ='3 - Memoria de Cálculo'!E29 -> Simples | F29: ='3 - Memoria de Cálculo'!F29 -> 5 | G29: ='3 - Memoria de Cálculo'!G29 -> 6 | H29: 51.761319 | I29: 28.436352 | J29: 0.53690832 | K29: 22 | L29: 13.207788 | M29: 2.05632 | N29: 117.998 | O29: 41 | P29: 8 | Q29: 3 | R29: 52 | S29: 6.5 | U29: Aquisição de porca e arruela lisa 3/8" | AA29: 0.667 | AB29: 1.668
A30: ='3 - Memoria de Cálculo'!A30 -> 21 | B30: ='3 - Memoria de Cálculo'!B30 -> CÓRREGO TAQUARA | C30: ='3 - Memoria de Cálculo'!C30 -> 21°21'07.90''S | D30: ='3 - Memoria de Cálculo'!D30 -> 54°50'07.01''W | E30: ='3 - Memoria de Cálculo'!E30 -> Simples | F30: ='3 - Memoria de Cálculo'!F30 -> 4.8 | G30: ='3 - Memoria de Cálculo'!G30 -> 24 | H30: 164.90007 | I30: 42.177408 | J30: 2.1476333 | K30: 22 | L30: 34.568352 | M30: 8.22528 | N30: 274.018 | O30: 127 | P30: 31 | Q30: 15 | R30: 173 | S30: 21.625 | U30: Prego 26x72 | Y30: 1.3046 | AE30: 1.1944444
A31: ='3 - Memoria de Cálculo'!A31 -> 22 | B31: ='3 - Memoria de Cálculo'!B31 -> CÓRREGO PASSATEMPO 4 | C31: ='3 - Memoria de Cálculo'!C31 -> 21°29'23.36''S | D31: ='3 - Memoria de Cálculo'!D31 -> 54°52'56.83''W | E31: ='3 - Memoria de Cálculo'!E31 -> Simples | F31: ='3 - Memoria de Cálculo'!F31 -> 4.4 | G31: ='3 - Memoria de Cálculo'!G31 -> 14.3 | H31: 89.942047 | I31: 34.797952 | J31: 1.2826143 | K31: 22 | L31: 22.487288 | M31: 4.91232 | N31: 175.422 | O31: 70 | P31: 19 | Q31: 9 | R31: 98 | S31: 12.25 | U31: Prego 24x60 | Z31: 3.3333333 | AB31: 0.66666667
A32: ='3 - Memoria de Cálculo'!A32 -> 23 | B32: ='3 - Memoria de Cálculo'!B32 -> CÓRREGO DO COQUEIRO | C32: ='3 - Memoria de Cálculo'!C32 -> 21°30'51.74''S | D32: ='3 - Memoria de Cálculo'!D32 -> 54°52'00.30''W | E32: ='3 - Memoria de Cálculo'!E32 -> Simples | F32: ='3 - Memoria de Cálculo'!F32 -> 4.4 | G32: ='3 - Memoria de Cálculo'!G32 -> 22.3 | H32: 160.84921 | I32: 40.905088 | J32: 1.9984921 | K32: 22 | L32: 32.087672 | M32: 7.65408 | N32: 265.494 | O32: 124 | P32: 29 | Q32: 14 | R32: 167 | S32: 20.875
A33: ='3 - Memoria de Cálculo'!A33 -> 24 | B33: ='3 - Memoria de Cálculo'!B33 -> CÓRREGO CARRAPATO | C33: ='3 - Memoria de Cálculo'!C33 -> 21°32'42.64''S | D33: ='3 - Memoria de Cálculo'!D33 -> 55°00'59.87''W | E33: ='3 - Memoria de Cálculo'!E33 -> Simples | F33: ='3 - Memoria de Cálculo'!F33 -> 4.4 | G33: ='3 - Memoria de Cálculo'!G33 -> 18 | H33: 129.21445 | I33: 37.597056 | J33: 1.610725 | K33: 22 | L33: 26.887464 | M33: 6.16896 | N33: 223.478 | O33: 100 | P33: 24 | Q33: 11 | R33: 135 | S33: 16.875
A34: ='3 - Memoria de Cálculo'!A34 -> 25 | B34: ='3 - Memoria de Cálculo'!B34 -> CÓRREGO BARRA MANSA | C34: ='3 - Memoria de Cálculo'!C34 -> 21°45'26.00"S | D34: ='3 - Memoria de Cálculo'!D34 -> 54°10'16.90"W | E34: ='3 - Memoria de Cálculo'!E34 -> Simples | F34: ='3 - Memoria de Cálculo'!F34 -> 5 | G34: ='3 - Memoria de Cálculo'!G34 -> 5.6 | H34: 51.761319 | I34: 28.181888 | J34: 0.50708008 | K34: 22 | L34: 12.807772 | M34: 1.94208 | N34: 117.2 | O34: 41 | P34: 8 | Q34: 3 | R34: 52 | S34: 6.5
A35: ='3 - Memoria de Cálculo'!A35 -> 26 | B35: ='3 - Memoria de Cálculo'!B35 -> CÓRREGO PASSATEMPO 5 | C35: ='3 - Memoria de Cálculo'!C35 -> 21°29'57.99''S | D35: ='3 - Memoria de Cálculo'!D35 -> 54°43'07.39''W | E35: ='3 - Memoria de Cálculo'!E35 -> Simples | F35: ='3 - Memoria de Cálculo'!F35 -> 4.4 | G35: ='3 - Memoria de Cálculo'!G35 -> 22.3 | H35: 160.84921 | I35: 40.905088 | J35: 1.9984921 | K35: 22 | L35: 32.087672 | M35: 7.65408 | N35: 265.494 | O35: 124 | P35: 29 | Q35: 14 | R35: 167 | S35: 20.875
A37: TOTAL AQUISIÇÃO: | H37: 2467.443 | I37: 876.882 | J37: 30.081 | K37: 572 | L37: 544.712 | M37: 115.211 | N37: 4606.319 | O37: 1916 | P37: 444 | Q37: 201 | R37: 2561 | S37: 320.125
A38: TOTAL INSTALAÇÃO: | S38: 4926.444

Sheet Ferragem - Simples
C1: ='2 - Serviços'!C1:K5 -> 0 | M1: ='2 - Serviços'!M1 -> 0
A6: Serviços: Aquisição de Ferragem de Ponte - Vigamento Simples | T6: FERRAGENS (kg/metro de peça)
X7: Assoalho | Y7: Rodeiro | Z7: G. Rodas | AA7: G. Corpo | AB7: V. Simples | AC7: Sub. Vigas | AD7: Cx. Aterro | AE7: Esteio | AF7: Trav. Sup | AG7: Trav.Interm | AH7: Trav. Infe | AI7: Contra. | AJ7: Fundação
A8: ='2 - Serviços'!$A$7 -> MANUTENÇÃO E CONSERVAÇÃO DAS PONTES DE MADEIRA | T8: Aquisição de ferro mecanico redondo 1" | AC8: =(1.333*3.978*0.66)+(0.667*3.978*0.6) -> 5.0917604 | AF8: =0.4*3.978*0.72 -> 1.145664 | AG8: =AF8 -> 1.145664 | AH8: =0.4*3.978*0.75 -> 1.1934 | AI8: =0.7273*3.978*0.65 -> 1.8805796 | AJ8: =5*3.978*0.4 -> 7.956
A9: ITEM | B9: PONTE | F9: RODOVIA | G9: MUNICÍPIO | J9: LATITUDE | M9: LONGITUDE | P9: EXTENSÃO | T9: Aquisição de ferro mecanico redondo 1/2" | Y9: =(8*1.2*0.994)/36 -> 0.26506667 | AD9: =12*1*0.994 -> 11.928
A10: ='4 - Resumo de Ferragem'!#REF! -> #REF! | B10: ='4 - Resumo de Ferragem'!#REF! -> #REF! | F10: ='4 - Resumo de Ferragem'!#REF! -> #REF! | G10: ='4 - Resumo de Ferragem'!#REF! -> #REF! | J10: ='4 - Resumo de Ferragem'!#REF! -> #REF! | M10: ='4 - Resumo de Ferragem'!#REF! -> #REF! | P10: ='4 - Resumo de Ferragem'!#REF! -> #REF! | T10: Aquisição de ferro mecanico redondo 3/8" | Z10: =0.667*0.559*0.25 -> 0.09321325 | AA10: =(0.167*0.559*0.35)+(0.667*0.559*0.35) -> 0.1631721
A11: AQUISIÇÃO | C11: Assoalho | D11: Rodeiro | E11: G. Rodas | F11: G. Corpo | G11: V. Simples | H11: Sub. Vigas | I11: Cx. Aterro | J11: Esteio | K11: Trav. Sup | L11: Trav.Interm | M11: Trav. Infe | N11: Contrav. | O11: Fundação | P11: TOTAL | Q11: INSTALAÇÃO (kg) | T11: Aquisição de ferro mecanico redondo 1/4" | AA11: =0.167*0.248*0.12 -> 0.00496992
A12: Ferro Mecânico 1'' (kg) | H12: ='3 - Memoria de Cálculo'!#REF!*$AC$8 -> #REF! | K12: ='3 - Memoria de Cálculo'!#REF!*$AF$8 -> #REF! | L12: ='3 - Memoria de Cálculo'!#REF!*$AG$8 -> #REF! | M12: ='3 - Memoria de Cálculo'!#REF!*$AH$8 -> #REF! | N12: ='3 - Memoria de Cálculo'!#REF!*$AI$8 -> #REF! | O12: ='2 - Serviços'!#REF!*$AJ$8 -> #REF! | P12: =SUM(C12:O12) -> #REF! | Q12: =P12 -> #REF! | T12: Aquisição de chapa metálica ASTM A-36 3/8"
A13: Ferro Mecânico 1/2'' (kg) | D13: ='3 - Memoria de Cálculo'!#REF!*$Y$9 -> #REF! | I13: ='2 - Serviços'!#REF!*$AD$9 -> #REF! | P13: =SUM(C13:O13) -> #REF! | Q13: =P13 -> #REF! | T13: Aquisição de chapa metálica ASTM A-36 1/2" | AJ13: =2*(0.55*0.2)*100 -> 22
A14: Ferro Mecânico 3/8'' (kg) | E14: ='3 - Memoria de Cálculo'!#REF!*$Z$10 -> #REF! | F14: ='3 - Memoria de Cálculo'!#REF!*$AA$10 -> #REF! | P14: =SUM(C14:O14) -> #REF! | Q14: =P14 -> #REF! | T14: Aquisição de porca e arruela lisa 1" | AC14: =((1.333*2)+(0.667*2))*0.125 -> 0.5 | AF14: =0.8*0.125 -> 0.1 | AG14: =AF14 -> 0.1 | AH14: =AF14 -> 0.1 | AI14: =1.43*0.125 -> 0.17875 | AJ14: =10*0.125 -> 1.25
A15: Ferro Mecânico 1/4'' (kg) | F15: ='3 - Memoria de Cálculo'!#REF!*$AA$11 -> #REF! | P15: =SUM(C15:O15) -> #REF! | Q15: =P15 -> #REF! | T15: Aquisição de porca e arruela lisa 1/2" | Y15: =0.444*0.125 -> 0.0555
A16: Chapa 3/8'' (kg) | P16: =SUM(C16:O16) -> 0 | Q16: =P16 -> 0 | T16: Aquisição de porca e arruela lisa 3/8" | Z16: =0.667*0.125 -> 0.083375 | AA16: =(0.167*2*0.125)+(0.667*2*0.125) -> 0.2085
A17: Chapa 1/2'' (kg) | O17: ='2 - Serviços'!#REF!*22 -> #REF! | P17: =SUM(C17:O17) -> #REF! | Q17: =P17 -> #REF! | T17: Aquisição de porca e arruela lisa 1/4" | AA17: =0.167*2*0.125 -> 0.04175
A18: Prego 26x72 (kg) | C18: ='3 - Memoria de Cálculo'!#REF!*$X$18 -> #REF! | I18: ='2 - Serviços'!#REF!*$AD$18 -> #REF! | P18: =SUM(C18:O18) -> #REF! | Q18: =P18 -> #REF! | T18: Prego 26x72 | X18: 0.1087 | AD18: 0.267
A19: Prego24x60 (kg) | D19: ='3 - Memoria de Cálculo'!#REF!*$Y$19 -> #REF! | F19: ='3 - Memoria de Cálculo'!#REF!*$AA$19 -> #REF! | P19: =SUM(C19:O19) -> #REF! | Q19: =P19 -> #REF! | T19: Prego 24x60 | Y19: 0.119 | AA19: 0.0238
A20: Porca e Arruela 1'' (un) | H20: ='3 - Memoria de Cálculo'!#REF!*$AC$29 -> #REF! | K20: ='3 - Memoria de Cálculo'!#REF!*$AF$29 -> #REF! | L20: ='3 - Memoria de Cálculo'!#REF!*$AG$29 -> #REF! | M20: ='3 - Memoria de Cálculo'!#REF!*$AH$29 -> #REF! | N20: ='3 - Memoria de Cálculo'!#REF!*$AI$29 -> #REF! | O20: ='2 - Serviços'!#REF!*$AJ$29 -> #REF! | P20: =SUM(C20:O20) -> #REF! | Q20: =P20*0.125 -> #REF!
A21: Porca e Arruela 1/2'' (un) | D21: ='3 - Memoria de Cálculo'!#REF!*$Y$30 -> #REF! | P21: =SUM(C21:O21) -> #REF! | Q21: =P21*0.125 -> #REF! | T21: FERRAGENS (un/metro de peça)
A22: Porca e Arruela 3/8'' (un) | E22: ='3 - Memoria de Cálculo'!#REF!*$Z$31 -> #REF! | F22: ='3 - Memoria de Cálculo'!#REF!*$AA$31 -> #REF! | P22: =SUM(C22:O22) -> #REF! | Q22: =P22*0.125 -> #REF! | X22: Assoalho | Y22: Rodeiro | Z22: G. Rodas | AA22: G. Corpo | AB22: V. Simples | AC22: Sub. Vigas | AD22: Cx. Aterro | AE22: Esteio | AF22: Trav. Sup | AG22: Trav.Interm | AH22: Trav. Infe | AI22: Contra. | AJ22: Fundação
A23: Porca e Arruela 1/4'' (un) | F23: ='3 - Memoria de Cálculo'!#REF!*$AA$32 -> #REF! | P23: =SUM(C23:O23) -> #REF! | Q23: =P23*0.125 -> #REF! | T23: Aquisição de ferro mecanico redondo 1" | AC23: =1.333+0.667 -> 2 | AF23: =0.4 -> 0.4 | AG23: =AF23 -> 0.4 | AH23: =AF23 -> 0.4 | AI23: 0.7273 | AJ23: 5
Q24: =SUM(Q12:R23) -> #REF! | T24: Aquisição de ferro mecanico redondo 1/2" | Y24: 0.222 | AD24: 1
A25: Observações | T25: Aquisição de ferro mecanico redondo 3/8" | Z25: 0.667 | AA25: =0.167+0.667 -> 0.834
T26: Aquisição de ferro mecanico redondo 1/4" | AA26: 0.167
A27: ='2 - Serviços'!$A$7 -> MANUTENÇÃO E CONSERVAÇÃO DAS PONTES DE MADEIRA | T27: Aquisição de chapa metálica ASTM A-36 3/8"
A28: ITEM | B28: PONTE | F28: RODOVIA | G28: MUNICÍPIO | J28: LATITUDE | M28: LONGITUDE | P28: EXTENSÃO | T28: Aquisição de chapa metálica ASTM A-36 1/2" | AJ28: =2 -> 2
A29: ='4 - Resumo de Ferragem'!A10 -> 1 | B29: ='4 - Resumo de Ferragem'!B10 -> CÓRREGO DO CHINELO | F29: ='4 - Resumo de Ferragem'!C10 -> 21°53'30.35''S | G29: ='4 - Resumo de Ferragem'!D10 -> 54°35'16.91''W | J29: ='4 - Resumo de Ferragem'!E10 -> Simples | M29: ='4 - Resumo de Ferragem'!F10 -> 5 | P29: ='4 - Resumo de Ferragem'!G10 -> 13 | T29: Aquisição de porca e arruela lisa 1" | AC29: =((1.333*2)+(0.667*2)) -> 4 | AF29: 0.8 | AG29: 0.8 | AH29: 0.8 | AI29: 1.43 | AJ29: 10
A30: AQUISIÇÃO | C30: Assoalho | D30: Rodeiro | E30: G. Rodas | F30: G. Corpo | G30: V. Simples | H30: Sub. Vigas | I30: Cx. Aterro | J30: Esteio | K30: Trav. Sup | L30: Trav.Interm | M30: Trav. Infe | N30: Contra. | O30: Fundação | P30: TOTAL | Q30: INSTALAÇÃO (kg) | T30: Aquisição de porca e arruela lisa 1/2" | Y30: =0.444 -> 0.444
A31: Ferro Mecânico 1'' (kg) | H31: ='3 - Memoria de Cálculo'!M72*$AC$8 -> 91.651688 | K31: ='3 - Memoria de Cálculo'!P72*$AF$8 -> 15.122765 | L31: ='3 - Memoria de Cálculo'!Q72*$AG$8 -> 0 | M31: ='3 - Memoria de Cálculo'!R72*$AH$8 -> 15.75288 | N31: ='3 - Memoria de Cálculo'!S72*$AI$8 -> 27.983025 | O31: ='2 - Serviços'!R142*$AJ$8 -> 1.5912 | P31: =SUM(C31:O31) -> 152.10156 | Q31: =P31 -> 152.10156 | T31: Aquisição de porca e arruela lisa 3/8" | Z31: =Z25 -> 0.667 | AA31: =(0.167*2)+(0.667*2) -> 1.668
A32: Ferro Mecânico 1/2'' (kg) | D32: ='3 - Memoria de Cálculo'!I72*$Y$9 -> 16.54016 | I32: ='2 - Serviços'!I208*$AD$9 -> 23.856 | P32: =SUM(C32:O32) -> 40.39616 | Q32: =P32 -> 40.39616 | T32: Aquisição de porca e arruela lisa 1/4" | AA32: =0.167*2 -> 0.334
A33: Ferro Mecânico 3/8'' (kg) | E33: ='3 - Memoria de Cálculo'!J72*$Z$10 -> 1.9388356 | F33: ='3 - Memoria de Cálculo'!K72*$AA$10 -> 0 | P33: =SUM(C33:O33) -> 1.9388356 | Q33: =P33 -> 1.9388356 | T33: Prego 26x72 | X33: 1.3046 | AD33: =3/4+2/4.5 -> 1.1944444
A34: Ferro Mecânico 1/4'' (kg) | F34: ='3 - Memoria de Cálculo'!K72*$AA$11 -> 0 | P34: =SUM(C34:O34) -> 0 | Q34: =P34 -> 0 | T34: Prego 24x60 | Y34: 3.3333333 | AA34: 0.66666667
A35: Chapa 3/8'' (kg) | P35: =SUM(C35:O35) -> 0 | Q35: =P35 -> 0
A36: Chapa 1/2'' (kg) | O36: ='2 - Serviços'!#REF!*22 -> #REF! | P36: =SUM(C36:O36) -> #REF! | Q36: =P36 -> #REF!
A37: Prego 26x72 (kg) | C37: ='3 - Memoria de Cálculo'!H72*$X$18 -> 26.00104 | I37: ='2 - Serviços'!M175*$AD$18 -> 10.0125 | P37: =SUM(C37:O37) -> 36.01354 | Q37: =P37 -> 36.01354
A38: Prego24x60 (kg) | D38: ='3 - Memoria de Cálculo'!I72*$Y$19 -> 7.4256 | F38: ='3 - Memoria de Cálculo'!K72*$AA$19 -> 0 | P38: =SUM(C38:O38) -> 7.4256 | Q38: =P38 -> 7.4256
A39: Porca e Arruela 1'' (un) | H39: ='3 - Memoria de Cálculo'!M72*$AC$29 -> 72 | K39: ='3 - Memoria de Cálculo'!P72*$AF$29 -> 10.56 | L39: ='3 - Memoria de Cálculo'!Q72*$AG$29 -> 0 | M39: ='3 - Memoria de Cálculo'!R72*$AH$29 -> 10.56 | N39: ='3 - Memoria de Cálculo'!S72*$AI$29 -> 21.2784 | O39: ='2 - Serviços'!#REF!*$AJ$29 -> #REF! | P39: =SUM(C39:O39) -> #REF! | Q39: =P39*0.125 -> #REF!
A40: Porca e Arruela 1/2'' (un) | D40: ='3 - Memoria de Cálculo'!I72*$Y$30 -> 27.7056 | P40: =SUM(C40:O40) -> 27.7056 | Q40: =P40*0.125 -> 3.4632
A41: Porca e Arruela 3/8'' (un) | E41: ='3 - Memoria de Cálculo'!J72*$Z$31 -> 13.8736 | F41: ='3 - Memoria de Cálculo'!K72*$AA$31 -> 0 | P41: =SUM(C41:O41) -> 13.8736 | Q41: =P41*0.125 -> 1.7342
A42: Porca e Arruela 1/4'' (un) | F42: ='3 - Memoria de Cálculo'!K72*$AA$32 -> 0 | P42: =SUM(C42:O42) -> 0 | Q42: =P42*0.125 -> 0
Q43: =SUM(Q31:R42) -> #REF!
A44: Observações
...

Sheet 5 - Pintura de Ponte
A1: OBJETO: MANUTENÇÃO E CONSERVAÇÃO DAS PONTES DE MADEIRA NAS RODOVIAS QUE FAZEM PARTE DA MALHA RODOVIÁRIA NÃO PAVIMENTADA DO MUNICÍPIO DE RIO BRILHANTE/MS
A2: LOCAL: RIO BRILHANTE/MS
A3: PRAZO: 365 (dias) | W3: SEÇÃO DAS PEÇAS
A4: PROCESSO: | W4: Assoalho | X4: Rodeiro | Y4: G.Rodas | Z4: V. Simples | AA4: S.Viga | AB4: C.Aterro | AC4: Esteios | AD4: Trav. Sup. | AE4: Trav. Interm. | AF4: Trav. Inf | AG4: Contrav. | AH4: Fundação
W5: =0.16*0.07 -> 0.0112 | X5: =0.06*0.3 -> 0.018 | Y5: =0.15*0.15 -> 0.0225 | Z5: =0.25*0.3 -> 0.075 | AA5: =0.25*0.3 -> 0.075 | AC5: =0.25*0.3 -> 0.075 | AD5: =0.25*0.25 -> 0.0625 | AE5: =AD5 -> 0.0625 | AF5: =0.25*0.2 -> 0.05 | AG5: =0.15*0.2 -> 0.03 | AH5: =0.25*0.3 -> 0.075
A6: ='2 - Serviços'!A7:S7 -> MANUTENÇÃO E CONSERVAÇÃO DAS PONTES DE MADEIRA
A7: Serviços: Pintura de Ponte (RL-1C)
A8: Item | B8: Descrição / Local | H8: Pintura de Ponte (m²) - Vigamento Simples
B9: ='2 - Serviços'!$B$9 -> Ponte | C9: ='2 - Serviços'!$C$9 -> Latitude | D9: ='2 - Serviços'!$D$9 -> Longitude | E9: ='2 - Serviços'!$E$9 -> Vigamento | F9: ='2 - Serviços'!$F$9 -> Largura (m) | G9: ='2 - Serviços'!$G$9 -> Extensão (m) | H9: Assoalho | I9: Rodeiro | J9: G.Rodas | K9: Vigas | L9: S.Viga | M9: C.Aterro | N9: Esteios | O9: Trav. Sup. | P9: Trav. Int. | Q9: Trav. Inf | R9: Contrav. | S9: Total | T9: Aquisição RL-1C | U9: Transporte RL-1C
A10: ='4 - Resumo de Ferragem'!A10 -> 1 | B10: ='4 - Resumo de Ferragem'!B10 -> CÓRREGO DO CHINELO | C10: ='4 - Resumo de Ferragem'!C10 -> 21°53'30.35''S | D10: ='4 - Resumo de Ferragem'!D10 -> 54°35'16.91''W | E10: ='4 - Resumo de Ferragem'!E10 -> Simples | F10: ='4 - Resumo de Ferragem'!F10 -> 5 | G10: ='4 - Resumo de Ferragem'!G10 -> 13 | H10: 66.0192 | I10: 26.9568 | J10: 7.488 | K10: 23.1 | L10: 11.55 | M10: 18 | N10: 15.84 | O10: 8.8 | P10: 0 | Q10: 7.92 | R10: 6.944 | S10: 192.618 | T10: 0.115 | U10: 0.115
A11: ='4 - Resumo de Ferragem'!A11 -> 2 | B11: ='4 - Resumo de Ferragem'!B11 -> CÓRREGO AREIAS | C11: ='4 - Resumo de Ferragem'!C11 -> 21°48'55.89''S | D11: ='4 - Resumo de Ferragem'!D11 -> 54°32'36.89''W | E11: ='4 - Resumo de Ferragem'!E11 -> Simples | F11: ='4 - Resumo de Ferragem'!F11 -> 4.4 | G11: ='4 - Resumo de Ferragem'!G11 -> 6 | H11: 30.4704 | I11: 12.4416 | J11: 3.456 | K11: 13.2 | L11: 6.6 | M11: 15.84 | N11: 10.56 | O11: 3.92 | P11: 0 | Q11: 3.528 | R11: 3.08 | S11: 103.096 | T11: 0.061 | U11: 0.061
A12: ='4 - Resumo de Ferragem'!A12 -> 3 | B12: ='4 - Resumo de Ferragem'!B12 -> CÓRREGO ARARAS | C12: ='4 - Resumo de Ferragem'!C12 -> 21°47'42.63''S | D12: ='4 - Resumo de Ferragem'!D12 -> 54°31'56.42''W | E12: ='4 - Resumo de Ferragem'!E12 -> Simples | F12: ='4 - Resumo de Ferragem'!F12 -> 4.8 | G12: ='4 - Resumo de Ferragem'!G12 -> 12 | H12: 60.9408 | I12: 24.8832 | J12: 6.912 | K12: 23.1 | L12: 11.55 | M12: 17.28 | N12: 15.84 | O12: 8.48 | P12: 0 | Q12: 7.632 | R12: 6.608 | S12: 183.226 | T12: 0.109 | U12: 0.109
A13: ='4 - Resumo de Ferragem'!A13 -> 4 | B13: ='4 - Resumo de Ferragem'!B13 -> CÓRREGO FORMIGA | C13: ='4 - Resumo de Ferragem'!C13 -> 21°39'27.48''S | D13: ='4 - Resumo de Ferragem'!D13 -> 54°25'31.76''W | E13: ='4 - Resumo de Ferragem'!E13 -> Simples | F13: ='4 - Resumo de Ferragem'!F13 -> 4.4 | G13: ='4 - Resumo de Ferragem'!G13 -> 13.2 | H13: 66.8656 | I13: 27.3024 | J13: 7.584 | K13: 23.1 | L13: 11.55 | M13: 15.84 | N13: 15.84 | O13: 7.84 | P13: 0 | Q13: 7.056 | R13: 6.16 | S13: 189.138 | T13: 0.113 | U13: 0.113
A14: ='4 - Resumo de Ferragem'!A14 -> 5 | B14: ='4 - Resumo de Ferragem'!B14 -> CÓRREGO ANTINHA | C14: ='4 - Resumo de Ferragem'!C14 -> 21°38'42.22''S | D14: ='4 - Resumo de Ferragem'!D14 -> 54°27'12.82''W | E14: ='4 - Resumo de Ferragem'!E14 -> Simples | F14: ='4 - Resumo de Ferragem'!F14 -> 4.4 | G14: ='4 - Resumo de Ferragem'!G14 -> 7.2 | H14: 36.3952 | I14: 14.8608 | J14: 4.128 | K14: 13.2 | L14: 6.6 | M14: 15.84 | N14: 10.56 | O14: 3.92 | P14: 0 | Q14: 3.528 | R14: 3.08 | S14: 112.112 | T14: 0.067 | U14: 0.067
A15: ='4 - Resumo de Ferragem'!A15 -> 6 | B15: ='4 - Resumo de Ferragem'!B15 -> CÓRREGO FORMIGA | C15: ='4 - Resumo de Ferragem'!C15 -> 21°38'56.23''S | D15: ='4 - Resumo de Ferragem'!D15 -> 54°25'01.82''W | E15: ='4 - Resumo de Ferragem'!E15 -> Simples | F15: ='4 - Resumo de Ferragem'!F15 -> 4.4 | G15: ='4 - Resumo de Ferragem'!G15 -> 12 | H15: 60.9408 | I15: 24.8832 | J15: 6.912 | K15: 23.1 | L15: 11.55 | M15: 15.84 | N15: 15.84 | O15: 7.84 | P15: 0 | Q15: 7.056 | R15: 6.16 | S15: 180.122 | T15: 0.108 | U15: 0.108
A16: ='4 - Resumo de Ferragem'!A16 -> 7 | B16: ='4 - Resumo de Ferragem'!B16 -> CÓRREGO QUILOMBO | C16: ='4 - Resumo de Ferragem'!C16 -> 21°42'14.33''S | D16: ='4 - Resumo de Ferragem'!D16 -> 54°20'39.58''W | E16: ='4 - Resumo de Ferragem'!E16 -> Simples | F16: ='4 - Resumo de Ferragem'!F16 -> 4.4 | G16: ='4 - Resumo de Ferragem'!G16 -> 6.8 | H16: 34.7024 | I16: 14.1696 | J16: 3.936 | K16: 13.2 | L16: 6.6 | M16: 15.84 | N16: 10.56 | O16: 3.92 | P16: 0 | Q16: 3.528 | R16: 3.08 | S16: 109.536 | T16: 0.065 | U16: 0.065
A17: ='4 - Resumo de Ferragem'!A17 -> 8 | B17: ='4 - Resumo de Ferragem'!B17 -> ARROIO CORREGUINHO | C17: ='4 - Resumo de Ferragem'!C17 -> 21°42'39.87''S | D17: ='4 - Resumo de Ferragem'!D17 -> 54°18'52.81''W | E17: ='4 - Resumo de Ferragem'!E17 -> Simples | F17: ='4 - Resumo de Ferragem'!F17 -> 4.4 | G17: ='4 - Resumo de Ferragem'!G17 -> 5.8 | H17: 29.624 | I17: 12.096 | J17: 3.36 | K17: 13.2 | L17: 6.6 | M17: 15.84 | N17: 10.56 | O17: 3.92 | P17: 0 | Q17: 3.528 | R17: 3.08 | S17: 101.808 | T17: 0.061 | U17: 0.061
A18: ='4 - Resumo de Ferragem'!A18 -> 9 | B18: ='4 - Resumo de Ferragem'!B18 -> CÓRREGO GUATAMBU | C18: ='4 - Resumo de Ferragem'!C18 -> 21°43'17.70"S | D18: ='4 - Resumo de Ferragem'!D18 -> 54°16'36.10"W | E18: ='4 - Resumo de Ferragem'!E18 -> Simples | F18: ='4 - Resumo de Ferragem'!F18 -> 4.4 | G18: ='4 - Resumo de Ferragem'!G18 -> 10.6 | H18: 54.1696 | I18: 22.1184 | J18: 6.144 | K18: 23.1 | L18: 11.55 | M18: 15.84 | N18: 15.84 | O18: 7.84 | P18: 0 | Q18: 7.056 | R18: 6.16 | S18: 169.818 | T18: 0.101 | U18: 0.101
A19: ='4 - Resumo de Ferragem'!A19 -> 10 | B19: ='4 - Resumo de Ferragem'!B19 -> CÓRREGO QUILOMBO | C19: ='4 - Resumo de Ferragem'!C19 -> 21°42'51.11''S | D19: ='4 - Resumo de Ferragem'!D19 -> 54°16'52.81''W | E19: ='4 - Resumo de Ferragem'!E19 -> Simples | F19: ='4 - Resumo de Ferragem'!F19 -> 4.4 | G19: ='4 - Resumo de Ferragem'!G19 -> 5.8 | H19: 29.624 | I19: 12.096 | J19: 3.36 | K19: 13.2 | L19: 6.6 | M19: 15.84 | N19: 10.56 | O19: 3.92 | P19: 0 | Q19: 3.528 | R19: 3.08 | S19: 101.808 | T19: 0.061 | U19: 0.061
