Workbook
Name avenida: #REF!
Name avenida: #REF!
Name BDI: [1]INVENTÁRIO!$B$3
Name ccc: #REF!
Name ccc: #REF!
Name contrato: [2]Dados!$C$29
Name drenag: #REF!
Name drenag: #REF!
Name drenagem: #REF!
Name drenagem: #REF!
Name FIRMA: [3]DADOS!$B$12
Name LOCALE1: [3]DADOS!$B$3
Name Madeira: #REF!
Name Madeira: #REF!
Name obra: [2]Dados!$C$7
Name prazo: [2]Dados!$C$31
Name Print_Area_MI: #REF!
Name Print_Area_MI: #REF!
Name processo: [2]Dados!$C$28
Name rua: #REF!
Name rua: #REF!
Name ss: #REF!
Name ss: #REF!
Name trech: [3]DADOS!$B$50

Sheet 1 - Inventário
A1: OBJETO: MANUTENÇÃO E CONSERVAÇÃO DAS PONTES DE MADEIRA NAS RODOVIAS QUE FAZEM PARTE DA MALHA RODOVIÁRIA NÃO PAVIMENTADA DO MUNICÍPIO DE RIO BRILHANTE/MS
A2: LOCAL: RIO BRILHANTE/MS
A3: PRAZO: 365 (dias)
A4: PROCESSO:
A6: INVENTÁRIO - IDENTIFICAÇÃO DAS PONTES DE MADEIRA
A7: ITEM | B7: MUNICÍPIO | C7: RODOVIA | D7: IDENTIFICAÇÃO/NOME | E7: LOCALIZAÇÃO | F7: LATITUDE | G7: LONGITUDE | H7: VIGAMENTO | I7: Nº DE VÃOS | J7: Nº DE ESTEIOS | K7: ALTURA MÉDIA (M) | L7: LARGURA (M) | M7: EXTENSÃO (M)
A9: 1 | B9: Rio Brilhante | C9: Municipal | D9: CÓRREGO DO CHINELO | E9: - | F9: 21°53'30.35''S | G9: 54°35'16.91''W | H9: Simples | I9: =ROUND(M9/6,0) -> 2 | J9: =(I9+1)*4 -> 12 | K9: 3 | L9: 5 | M9: 13
A10: =A9+1 -> 2 | B10: Rio Brilhante | C10: Municipal | D10: CÓRREGO AREIAS | E10: ESTIVAS | F10: 21°48'55.89''S | G10: 54°32'36.89''W | H10: Simples | I10: =ROUND(M10/6,0) -> 1 | J10: =(I10+1)*4 -> 8 | K10: 3 | L10: 4.4 | M10: 6
A11: =A10+1 -> 3 | B11: Rio Brilhante | C11: Municipal | D11: CÓRREGO ARARAS | E11: JUVENTUDE | F11: 21°47'42.63''S | G11: 54°31'56.42''W | H11: Simples | I11: =ROUND(M11/6,0) -> 2 | J11: =(I11+1)*4 -> 12 | K11: 3 | L11: 4.8 | M11: 12
A12: =A11+1 -> 4 | B12: Rio Brilhante | C12: Municipal | D12: CÓRREGO FORMIGA | E12: FAZ. JM | F12: 21°39'27.48''S | G12: 54°25'31.76''W | H12: Simples | I12: =ROUND(M12/6,0) -> 2 | J12: =(I12+1)*4 -> 12 | K12: 3 | L12: 4.4 | M12: 13.2
A13: =A12+1 -> 5 | B13: Rio Brilhante | C13: Municipal | D13: CÓRREGO ANTINHA | E13: FZ. SERTÃOZINHO | F13: 21°38'42.22''S | G13: 54°27'12.82''W | H13: Simples | I13: =ROUND(M13/6,0) -> 1 | J13: =(I13+1)*4 -> 8 | K13: 3 | L13: 4.4 | M13: 7.2
A14: =A13+1 -> 6 | B14: Rio Brilhante | C14: Municipal | D14: CÓRREGO FORMIGA | E14: FZ. BELAS ARTES | F14: 21°38'56.23''S | G14: 54°25'01.82''W | H14: Simples | I14: =ROUND(M14/6,0) -> 2 | J14: =(I14+1)*4 -> 12 | K14: 3 | L14: 4.4 | M14: 12
A15: =A14+1 -> 7 | B15: Rio Brilhante | C15: Municipal | D15: CÓRREGO QUILOMBO | E15: FZ. BELAS ARTES | F15: 21°42'14.33''S | G15: 54°20'39.58''W | H15: Simples | I15: =ROUND(M15/6,0) -> 1 | J15: =(I15+1)*4 -> 8 | K15: 3 | L15: 4.4 | M15: 6.8
A16: =A15+1 -> 8 | B16: Rio Brilhante | C16: Municipal | D16: ARROIO CORREGUINHO | E16: FZ. FRUTEIRA | F16: 21°42'39.87''S | G16: 54°18'52.81''W | H16: Simples | I16: =ROUND(M16/6,0) -> 1 | J16: =(I16+1)*4 -> 8 | K16: 3 | L16: 4.4 | M16: 5.8
A17: =A16+1 -> 9 | B17: Rio Brilhante | C17: Municipal | D17: CÓRREGO GUATAMBU | E17: FZ. FRUTEIRA | F17: 21°43'17.70"S | G17: 54°16'36.10"W | H17: Simples | I17: =ROUND(M17/6,0) -> 2 | J17: =(I17+1)*4 -> 12 | K17: 3 | L17: 4.4 | M17: 10.6
A18: =A17+1 -> 10 | B18: Rio Brilhante | C18: Municipal | D18: CÓRREGO QUILOMBO | E18: FZ. FRUTEIRA USINA | F18: 21°42'51.11''S | G18: 54°16'52.81''W | H18: Simples | I18: =ROUND(M18/6,0) -> 1 | J18: =(I18+1)*4 -> 8 | K18: 3 | L18: 4.4 | M18: 5.8
A19: =A18+1 -> 11 | B19: Rio Brilhante | C19: Municipal | D19: CÓRREGO SAPÉ | E19: FZ. GUATAMBÚ | F19: 21°44'57.50"S | G19: 54°18'00.40"W | H19: Simples | I19: =ROUND(M19/6,0) -> 2 | J19: =(I19+1)*4 -> 12 | K19: 3 | L19: 4.4 | M19: 10.8
A20: =A19+1 -> 12 | B20: Rio Brilhante | C20: Municipal | D20: CÓRREGO JUREMA | E20: FZ. NEBLINA | F20: 21°47'02.84''S | G20: 54°14'35.61''W | H20: Simples | I20: =ROUND(M20/6,0) -> 1 | J20: =(I20+1)*4 -> 8 | K20: 3 | L20: 4.4 | M20: 7.1
A21: =A20+1 -> 13 | B21: Rio Brilhante | C21: Municipal | D21: CÓRREGO ARACI | E21: FZ. ARACI | F21: 21°45'04.33''S | G21: 54°12'41.25''W | H21: Simples | I21: =ROUND(M21/6,0) -> 1 | J21: =(I21+1)*4 -> 8 | K21: 3 | L21: 4.4 | M21: 6.4
... A34: =A33+1 -> 26 | B34: Rio Brilhante | C34: Municipal | D34: CÓRREGO PASSATEMPO 5 | E34: USINA PASSATEMPO | F34: 21°29'57.99''S | G34: 54°43'07.39''W | H34: Simples | I34: =ROUND(M34/6,0) -> 4 | J34: =(I34+1)*4 -> 20 | K34: 3 | L34: 4.4 | M34: 22.3
A37: EXTENSÃO TOTAL (M): | M37: =SUM(M9:M35) -> 335.7

Sheet 2 - Serviços
A1: ='1 - Inventário'!A1:M1 -> OBJETO: MANUTENÇÃO E CONSERVAÇÃO DAS PONTES DE MADEIRA NAS RODOVIAS QUE FAZEM PARTE DA MALHA RODOVIÁRIA NÃO PAVIMENTADA DO MUNICÍPIO DE RIO BRILHANTE/MS
A2: ='1 - Inventário'!A2:M2 -> LOCAL: RIO BRILHANTE/MS
A3: ='1 - Inventário'!A3:M3 -> PRAZO: 365 (dias)
A4: ='1 - Inventário'!A4:M4 -> PROCESSO:
A6: Serviços: Limpeza de Faixa de Domínio
A7: MANUTENÇÃO E CONSERVAÇÃO DAS PONTES DE MADEIRA
A8: Item | B8: Descrição / Local | H8: Roçada com roçadeira costal | L8: Capina Manual | P8: Limpeza de Ponte
B9: Ponte | C9: Latitude | D9: Longitude | E9: Vigamento | F9: Largura (m) | G9: Extensão (m) | H9: Nível de Esforço | I9: Larg. Faixa de Dominio (m) | J9: Ext. Faixa de Dominio (m) | K9: Total (ha) | L9: Nível de Esforço | M9: Largura (m) | N9: Comprimento (m) | O9: Total (m²) | P9: Nível de Esforço | Q9: Largura (m) | R9: Extensão (m) | S9: Total (m²)
A10: 1 | B10: ='1 - Inventário'!D9 -> CÓRREGO DO CHINELO | C10: ='1 - Inventário'!F9 -> 21°53'30.35''S | D10: ='1 - Inventário'!G9 -> 54°35'16.91''W | E10: Simples | F10: ='1 - Inventário'!L9 -> 5 | G10: ='1 - Inventário'!M9 -> 13 | H10: 1 | I10: 5 | J10: 33 | K10: 0.0165 | L10: 1 | M10: 4 | N10: 4 | O10: 16 | P10: 1 | Q10: 5 | R10: 13 | S10: =Q10*R10 -> 65
A11: 2 | B11: ='1 - Inventário'!D10 -> CÓRREGO AREIAS | C11: ='1 - Inventário'!F10 -> 21°48'55.89''S | D11: ='1 - Inventário'!G10 -> 54°32'36.89''W | E11: Simples | F11: ='1 - Inventário'!L10 -> 4.4 | G11: ='1 - Inventário'!M10 -> 6 | H11: 1 | I11: 5 | J11: 26 | K11: 0.013 | L11: 1 | M11: 4 | N11: 4 | O11: 16 | P11: 1 | Q11: 4.4 | R11: 6 | S11: =Q11*R11 -> 26.4
A12: =A11+1 -> 3 | B12: ='1 - Inventário'!D11 -> CÓRREGO ARARAS | C12: ='1 - Inventário'!F11 -> 21°47'42.63''S | D12: ='1 - Inventário'!G11 -> 54°31'56.42''W | E12: Simples | F12: ='1 - Inventário'!L11 -> 4.8 | G12: ='1 - Inventário'!M11 -> 12 | H12: 1 | I12: 5 | J12: 32 | K12: 0.016 | L12: 1 | M12: 4 | N12: 4 | O12: 16 | P12: 1 | Q12: 4.8 | R12: 12 | S12: =Q12*R12 -> 57.6
A13: =A12+1 -> 4 | B13: ='1 - Inventário'!D12 -> CÓRREGO FORMIGA | C13: ='1 - Inventário'!F12 -> 21°39'27.48''S | D13: ='1 - Inventário'!G12 -> 54°25'31.76''W | E13: Simples | F13: ='1 - Inventário'!L12 -> 4.4 | G13: ='1 - Inventário'!M12 -> 13.2 | H13: 1 | I13: 5 | J13: 33.2 | K13: 0.0166 | L13: 1 | M13: 4 | N13: 4 | O13: 16 | P13: 1 | Q13: 4.4 | R13: 13.2 | S13: =Q13*R13 -> 58.08
A14: =A13+1 -> 5 | B14: ='1 - Inventário'!D13 -> CÓRREGO ANTINHA | C14: ='1 - Inventário'!F13 -> 21°38'42.22''S | D14: ='1 - Inventário'!G13 -> 54°27'12.82''W | E14: Simples | F14: ='1 - Inventário'!L13 -> 4.4 | G14: ='1 - Inventário'!M13 -> 7.2 | H14: 1 | I14: 5 | J14: 27.2 | K14: 0.0136 | L14: 1 | M14: 4 | N14: 4 | O14: 16 | P14: 1 | Q14: 4.4 | R14: 7.2 | S14: =Q14*R14 -> 31.68
A15: =A14+1 -> 6 | B15: ='1 - Inventário'!D14 -> CÓRREGO FORMIGA | C15: ='1 - Inventário'!F14 -> 21°38'56.23''S | D15: ='1 - Inventário'!G14 -> 54°25'01.82''W | E15: Simples | F15: ='1 - Inventário'!L14 -> 4.4 | G15: ='1 - Inventário'!M14 -> 12 | H15: 1 | I15: 5 | J15: 32 | K15: 0.016 | L15: 1 | M15: 4 | N15: 4 | O15: 16 | P15: 1 | Q15: 4.4 | R15: 12 | S15: =Q15*R15 -> 52.8
A16: =A15+1 -> 7 | B16: ='1 - Inventário'!D15 -> CÓRREGO QUILOMBO | C16: ='1 - Inventário'!F15 -> 21°42'14.33''S | D16: ='1 - Inventário'!G15 -> 54°20'39.58''W | E16: Simples | F16: ='1 - Inventário'!L15 -> 4.4 | G16: ='1 - Inventário'!M15 -> 6.8 | H16: 1 | I16: 5 | J16: 26.8 | K16: 0.0134 | L16: 1 | M16: 4 | N16: 4 | O16: 16 | P16: 1 | Q16: 4.4 | R16: 6.8 | S16: =Q16*R16 -> 29.92
A17: =A16+1 -> 8 | B17: ='1 - Inventário'!D16 -> ARROIO CORREGUINHO | C17: ='1 - Inventário'!F16 -> 21°42'39.87''S | D17: ='1 - Inventário'!G16 -> 54°18'52.81''W | E17: Simples | F17: ='1 - Inventário'!L16 -> 4.4 | G17: ='1 - Inventário'!M16 -> 5.8 | H17: 1 | I17: 5 | J17: 25.8 | K17: 0.0129 | L17: 1 | M17: 4 | N17: 4 | O17: 16 | P17: 1 | Q17: 4.4 | R17: 5.8 | S17: =Q17*R17 -> 25.52
A18: =A17+1 -> 9 | B18: ='1 - Inventário'!D17 -> CÓRREGO GUATAMBU | C18: ='1 - Inventário'!F17 -> 21°43'17.70"S | D18: ='1 - Inventário'!G17 -> 54°16'36.10"W | E18: Simples | F18: ='1 - Inventário'!L17 -> 4.4 | G18: ='1 - Inventário'!M17 -> 10.6 | H18: 1 | I18: 5 | J18: 30.6 | K18: 0.0153 | L18: 1 | M18: 4 | N18: 4 | O18: 16 | P18: 1 | Q18: 4.4 | R18: 10.6 | S18: =Q18*R18 -> 46.64
A19: =A18+1 -> 10 | B19: ='1 - Inventário'!D18 -> CÓRREGO QUILOMBO | C19: ='1 - Inventário'!F18 -> 21°42'51.11''S | D19: ='1 - Inventário'!G18 -> 54°16'52.81''W | E19: Simples | F19: ='1 - Inventário'!L18 -> 4.4 | G19: ='1 - Inventário'!M18 -> 5.8 | H19: 1 | I19: 5 | J19: 25.8 | K19: 0.0129 | L19: 1 | M19: 4 | N19: 4 | O19: 16 | P19: 1 | Q19: 4.4 | R19: 5.8 | S19: =Q19*R19 -> 25.52
A20: =A19+1 -> 11 | B20: ='1 - Inventário'!D19 -> CÓRREGO SAPÉ | C20: ='1 - Inventário'!F19 -> 21°44'57.50"S | D20: ='1 - Inventário'!G19 -> 54°18'00.40"W | E20: Simples | F20: ='1 - Inventário'!L19 -> 4.4 | G20: ='1 - Inventário'!M19 -> 10.8 | H20: 1 | I20: 5 | J20: 30.8 | K20: 0.0154 | L20: 1 | M20: 4 | N20: 4 | O20: 16 | P20: 1 | Q20: 4.4 | R20: 10.8 | S20: =Q20*R20 -> 47.52
A21: =A20+1 -> 12 | B21: ='1 - Inventário'!D20 -> CÓRREGO JUREMA | C21: ='1 - Inventário'!F20 -> 21°47'02.84''S | D21: ='1 - Inventário'!G20 -> 54°14'35.61''W | E21: Simples | F21: ='1 - Inventário'!L20 -> 4.4 | G21: ='1 - Inventário'!M20 -> 7.1 | H21: 1 | I21: 5 | J21: 27.1 | K21: 0.01355 | L21: 1 | M21: 4 | N21: 4 | O21: 16 | P21: 1 | Q21: 4.4 | R21: 7.1 | S21: =Q21*R21 -> 31.24
A22: =A21+1 -> 13 | B22: ='1 - Inventário'!D21 -> CÓRREGO ARACI | C22: ='1 - Inventário'!F21 -> 21°45'04.33''S | D22: ='1 - Inventário'!G21 -> 54°12'41.25''W | E22: Simples | F22: ='1 - Inventário'!L21 -> 4.4 | G22: ='1 - Inventário'!M21 -> 6.4 | H22: 1 | I22: 5 | J22: 26.4 | K22: 0.0132 | L22: 1 | M22: 4 | N22: 4 | O22: 16 | P22: 1 | Q22: 4.4 | R22: 6.4 | S22: =Q22*R22 -> 28.16
A23: =A22+1 -> 14 | B23: ='1 - Inventário'!D22 -> CÓRREGO ANHUMAS | C23: ='1 - Inventário'!F22 -> 21°51'40.49''S | D23: ='1 - Inventário'!G22 -> 54°08'14.26''W | E23: Simples | F23: ='1 - Inventário'!L22 -> 4.4 | G23: ='1 - Inventário'!M22 -> 11.8 | H23: 1 | I23: 5 | J23: 31.8 | K23: 0.0159 | L23: 1 | M23: 4 | N23: 4 | O23: 16 | P23: 1 | Q23: 4.4 | R23: 11.8 | S23: =Q23*R23 -> 51.92
... A35: =A34+1 -> 26 | B35: ='1 - Inventário'!D34 -> CÓRREGO PASSATEMPO 5 | C35: ='1 - Inventário'!F34 -> 21°29'57.99''S | D35: ='1 - Inventário'!G34 -> 54°43'07.39''W | E35: Simples | F35: ='1 - Inventário'!L34 -> 4.4 | G35: ='1 - Inventário'!M34 -> 22.3 | H35: 1 | I35: 5 | J35: 42.3 | K35: 0.02115 | L35: 1 | M35: 4 | N35: 4 | O35: 16 | P35: 1 | Q35: 4.4 | R35: 22.3 | S35: =Q35*R35 -> 98.12
A37: TOTAL: | G37: =SUM(G10:G36) -> 335.7 | K37: 0.427 | O37: 416 | R37: 335.7
A39: Serviços: Assoalho - Rodeiro - Guia de Rodas (Desmont, Mont e Const.)
A40: =$A$7 -> MANUTENÇÃO E CONSERVAÇÃO DAS PONTES DE MADEIRA
A41: Item | B41: Descrição / Local | H41: Assoalho (m) | L41: Rodeiro (m) | P41: Guia de Rodas (m)
B42: Ponte | C42: =$C$9 -> Latitude | D42: Região | E42: =$E$9 -> Vigamento | F42: =$F$9 -> Largura (m) | G42: =$G$9 -> Extensão (m) | H42: Nível de Esforço | I42: Desmonte | J42: Montagem | K42: Construção | L42: Nível de Esforço | M42: Desmonte | N42: Montagem | O42: Construção | P42: Nível de Esforço | Q42: Desmonte | R42: Montagem | S42: Construção
A43: =A10 -> 1 | B43: =B10 -> CÓRREGO DO CHINELO | C43: =C10 -> 21°53'30.35''S | D43: =D10 -> 54°35'16.91''W | E43: =E10 -> Simples | F43: =F10 -> 5 | G43: =G10 -> 13 | H43: 0.8 | I43: 13 | J43: 0 | K43: =I43 -> 13 | L43: 0.8 | M43: 13 | N43: 0 | O43: =M43 -> 13 | P43: 0.8 | Q43: 13 | R43: 0 | S43: =Q43 -> 13
A44: =A11 -> 2 | B44: =B11 -> CÓRREGO AREIAS | C44: =C11 -> 21°48'55.89''S | D44: =D11 -> 54°32'36.89''W | E44: =E11 -> Simples | F44: =F11 -> 4.4 | G44: =G11 -> 6 | H44: 0.8 | I44: 6 | J44: 0 | K44: =I44 -> 6 | L44: 0.8 | M44: 6 | N44: 0 | O44: =M44 -> 6 | P44: 0.8 | Q44: 6 | R44: 0 | S44: =Q44 -> 6
A45: =A12 -> 3 | B45: =B12 -> CÓRREGO ARARAS | C45: =C12 -> 21°47'42.63''S | D45: =D12 -> 54°31'56.42''W | E45: =E12 -> Simples | F45: =F12 -> 4.8 | G45: =G12 -> 12 | H45: 0.8 | I45: 12 | J45: 0 | K45: =I45 -> 12 | L45: 0.8 | M45: 12 | N45: 0 | O45: =M45 -> 12 | P45: 0.8 | Q45: 12 | R45: 0 | S45: =Q45 -> 12
A46: =A13 -> 4 | B46: =B13 -> CÓRREGO FORMIGA | C46: =C13 -> 21°39'27.48''S | D46: =D13 -> 54°25'31.76''W | E46: =E13 -> Simples | F46: =F13 -> 4.4 | G46: =G13 -> 13.2 | H46: 0.8 | I46: 13.2 | J46: 0 | K46: =I46 -> 13.2 | L46: 0.8 | M46: 13.2 | N46: 0 | O46: =M46 -> 13.2 | P46: 0.8 | Q46: 13.2 | R46: 0 | S46: =Q46 -> 13.2
A47: =A14 -> 5 | B47: =B14 -> CÓRREGO ANTINHA | C47: =C14 -> 21°38'42.22''S | D47: =D14 -> 54°27'12.82''W | E47: =E14 -> Simples | F47: =F14 -> 4.4 | G47: =G14 -> 7.2 | H47: 0.8 | I47: 7.2 | J47: 0 | K47: =I47 -> 7.2 | L47: 0.8 | M47: 7.2 | N47: 0 | O47: =M47 -> 7.2 | P47: 0.8 | Q47: 7.2 | R47: 0 | S47: =Q47 -> 7.2
A48: =A15 -> 6 | B48: =B15 -> CÓRREGO FORMIGA | C48: =C15 -> 21°38'56.23''S | D48: =D15 -> 54°25'01.82''W | E48: =E15 -> Simples | F48: =F15 -> 4.4 | G48: =G15 -> 12 | H48: 0.8 | I48: 12 | J48: 0 | K48: =I48 -> 12 | L48: 0.8 | M48: 12 | N48: 0 | O48: =M48 -> 12 | P48: 0.8 | Q48: 12 | R48: 0 | S48: =Q48 -> 12
A49: =A16 -> 7 | B49: =B16 -> CÓRREGO QUILOMBO | C49: =C16 -> 21°42'14.33''S | D49: =D16 -> 54°20'39.58''W | E49: =E16 -> Simples | F49: =F16 -> 4.4 | G49: =G16 -> 6.8 | H49: 0.8 | I49: 6.8 | J49: 0 | K49: =I49 -> 6.8 | L49: 0.8 | M49: 6.8 | N49: 0 | O49: =M49 -> 6.8 | P49: 0.8 | Q49: 6.8 | R49: 0 | S49: =Q49 -> 6.8
A50: =A17 -> 8 | B50: =B17 -> ARROIO CORREGUINHO | C50: =C17 -> 21°42'39.87''S | D50: =D17 -> 54°18'52.81''W | E50: =E17 -> Simples | F50: =F17 -> 4.4 | G50: =G17 -> 5.8 | H50: 0.8 | I50: 5.8 | J50: 0 | K50: =I50 -> 5.8 | L50: 0.8 | M50: 5.8 | N50: 0 | O50: =M50 -> 5.8 | P50: 0.8 | Q50: 5.8 | R50: 0 | S50: =Q50 -> 5.8
A51: =A18 -> 9 | B51: =B18 -> CÓRREGO GUATAMBU | C51: =C18 -> 21°43'17.70"S | D51: =D18 -> 54°16'36.10"W | E51: =E18 -> Simples | F51: =F18 -> 4.4 | G51: =G18 -> 10.6 | H51: 0.8 | I51: 10.6 | J51: 0 | K51: =I51 -> 10.6 | L51: 0.8 | M51: 10.6 | N51: 0 | O51: =M51 -> 10.6 | P51: 0.8 | Q51: 10.6 | R51: 0 | S51: =Q51 -> 10.6
A52: =A19 -> 10 | B52: =B19 -> CÓRREGO QUILOMBO | C52: =C19 -> 21°42'51.11''S | D52: =D19 -> 54°16'52.81''W | E52: =E19 -> Simples | F52: =F19 -> 4.4 | G52: =G19 -> 5.8 | H52: 0.8 | I52: 5.8 | J52: 0 | K52: =I52 -> 5.8 | L52: 0.8 | M52: 5.8 | N52: 0 | O52: =M52 -> 5.8 | P52: 0.8 | Q52: 5.8 | R52: 0 | S52: =Q52 -> 5.8
A53: =A20 -> 11 | B53: =B20 -> CÓRREGO SAPÉ | C53: =C20 -> 21°44'57.50"S | D53: =D20 -> 54°18'00.40"W | E53: =E20 -> Simples | F53: =F20 -> 4.4 | G53: =G20 -> 10.8 | H53: 0.8 | I53: 10.8 | J53: 0 | K53: =I53 -> 10.8 | L53: 0.8 | M53: 10.8 | N53: 0 | O53: =M53 -> 10.8 | P53: 0.8 | Q53: 10.8 | R53: 0 | S53: =Q53 -> 10.8
A54: =A21 -> 12 | B54: =B21 -> CÓRREGO JUREMA | C54: =C21 -> 21°47'02.84''S | D54: =D21 -> 54°14'35.61''W | E54: =E21 -> Simples | F54: =F21 -> 4.4 | G54: =G21 -> 7.1 | H54: 0.8 | I54: 7.1 | J54: 0 | K54: =I54 -> 7.1 | L54: 0.8 | M54: 7.1 | N54: 0 | O54: =M54 -> 7.1 | P54: 0.8 | Q54: 7.1 | R54: 0 | S54: =Q54 -> 7.1
... A68: =A35 -> 26 | B68: =B35 -> CÓRREGO PASSATEMPO 5 | C68: =C35 -> 21°29'57.99''S | D68: =D35 -> 54°43'07.39''W | E68: =E35 -> Simples | F68: =F35 -> 4.4 | G68: =G35 -> 22.3 | H68: 0.8 | I68: 22.3 | J68: 0 | K68: =I68 -> 22.3 | L68: 0.8 | M68: 22.3 | N68: 0 | O68: =M68 -> 22.3 | P68: 0.8 | Q68: 22.3 | R68: 0 | S68: =Q68 -> 22.3
A70: TOTAL: | G70: =TRUNC(SUM(G43:G69),3) -> 335.7 | I70: =SUM(I43:I69) -> 335.7 | J70: =SUM(J43:J69) -> 0 | K70: =SUM(K43:K69) -> 335.7 | L70: =SUM(L43:L69) -> 20.8 | M70: =SUM(M43:M69) -> 335.7 | N70: =SUM(N43:N69) -> 0 | O70: =SUM(O43:O69) -> 335.7 | P70: =SUM(P43:P69) -> 20.8 | ... S70: =SUM(S43:S69) -> 335.7
A72: Serviços: Guarda Corpo - Vigam. Simples (Desmont, Mont. e Const.)
A73: =$A$7 -> MANUTENÇÃO E CONSERVAÇÃO DAS PONTES DE MADEIRA
A74: Item | B74: Descrição / Local | H74: Guarda-Corpo (m) | L74: Vigas (unidade) | P74: Sub-vigas (unidade)
B75: Ponte | C75: =$C$9 -> Latitude | D75: =$D$9 -> Longitude | E75: =$E$9 -> Vigamento | F75: =$F$9 -> Largura (m) | G75: =$G$9 -> Extensão (m) | H75: Nível de Esforço | I75: Desmonte | J75: Montagem | K75: Construção | L75: Nível de Esforço | M75: Desmonte | N75: Montagem | O75: Construção | P75: Nível de Esforço | Q75: Desmonte | R75: Montagem | S75: Construção
A76: =A10 -> 1 | B76: =B10 -> CÓRREGO DO CHINELO | C76: =C10 -> 21°53'30.35''S | D76: =D10 -> 54°35'16.91''W | E76: =E10 -> Simples | F76: =F10 -> 5 | G76: =G10 -> 13 | H76: 0 | I76: 0 | J76: 0 | K76: 0 | L76: 0.5 | M76: 12 | N76: 0 | O76: =M76 -> 12 | P76: 0.5 | Q76: 24 | R76: 0 | S76: =Q76 -> 24
A77: =A11 -> 2 | B77: =B11 -> CÓRREGO AREIAS | C77: =C11 -> 21°48'55.89''S | D77: =D11 -> 54°32'36.89''W | E77: =E11 -> Simples | F77: =F11 -> 4.4 | G77: =G11 -> 6 | H77: 0 | I77: 0 | J77: 0 | K77: 0 | L77: 0.5 | M77: 6 | N77: 0 | O77: =M77 -> 6 | P77: 0.5 | Q77: 12 | R77: 0 | S77: =Q77 -> 12
A78: =A12 -> 3 | B78: =B12 -> CÓRREGO ARARAS | C78: =C12 -> 21°47'42.63''S | D78: =D12 -> 54°31'56.42''W | E78: =E12 -> Simples | F78: =F12 -> 4.8 | G78: =G12 -> 12 | H78: 0 | I78: 0 | J78: 0 | K78: 0 | L78: 0.5 | M78: 12 | N78: 0 | O78: =M78 -> 12 | P78: 0.5 | Q78: 24 | R78: 0 | S78: =Q78 -> 24
A79: =A13 -> 4 | B79: =B13 -> CÓRREGO FORMIGA | C79: =C13 -> 21°39'27.48''S | D79: =D13 -> 54°25'31.76''W | E79: =E13 -> Simples | F79: =F13 -> 4.4 | G79: =G13 -> 13.2 | H79: 0 | I79: 0 | J79: 0 | K79: 0 | L79: 0.5 | M79: 12 | N79: 0 | O79: =M79 -> 12 | P79: 0.5 | Q79: 24 | R79: 0 | S79: =Q79 -> 24
A80: =A14 -> 5 | B80: =B14 -> CÓRREGO ANTINHA | C80: =C14 -> 21°38'42.22''S | D80: =D14 -> 54°27'12.82''W | E80: =E14 -> Simples | F80: =F14 -> 4.4 | G80: =G14 -> 7.2 | H80: 0 | I80: 0 | J80: 0 | K80: 0 | L80: 0.5 | M80: 6 | N80: 0 | O80: =M80 -> 6 | P80: 0.5 | Q80: 12 | R80: 0 | S80: =Q80 -> 12
A81: =A15 -> 6 | B81: =B15 -> CÓRREGO FORMIGA | C81: =C15 -> 21°38'56.23''S | D81: =D15 -> 54°25'01.82''W | E81: =E15 -> Simples | F81: =F15 -> 4.4 | G81: =G15 -> 12 | H81: 0 | I81: 0 | J81: 0 | K81: 0 | L81: 0.5 | M81: 12 | N81: 0 | O81: =M81 -> 12 | P81: 0.5 | Q81: 24 | R81: 0 | S81: =Q81 -> 24
A82: =A16 -> 7 | B82: =B16 -> CÓRREGO QUILOMBO | C82: =C16 -> 21°42'14.33''S | D82: =D16 -> 54°20'39.58''W | E82: =E16 -> Simples | F82: =F16 -> 4.4 | G82: =G16 -> 6.8 | H82: 0 | I82: 0 | J82: 0 | K82: 0 | L82: 0.5 | M82: 6 | N82: 0 | O82: =M82 -> 6 | P82: 0.5 | Q82: 12 | R82: 0 | S82: =Q82 -> 12
A83: =A17 -> 8 | B83: =B17 -> ARROIO CORREGUINHO | C83: =C17 -> 21°42'39.87''S | D83: =D17 -> 54°18'52.81''W | E83: =E17 -> Simples | F83: =F17 -> 4.4 | G83: =G17 -> 5.8 | H83: 0 | I83: 0 | J83: 0 | K83: 0 | L83: 0.5 | M83: 6 | N83: 0 | O83: =M83 -> 6 | P83: 0.5 | Q83: 12 | R83: 0 | S83: =Q83 -> 12
A84: =A18 -> 9 | B84: =B18 -> CÓRREGO GUATAMBU | C84: =C18 -> 21°43'17.70"S | D84: =D18 -> 54°16'36.10"W | E84: =E18 -> Simples | F84: =F18 -> 4.4 | G84: =G18 -> 10.6 | H84: 0 | I84: 0 | J84: 0 | K84: 0 | L84: 0.5 | M84: 12 | N84: 0 | O84: =M84 -> 12 | P84: 0.5 | Q84: 24 | R84: 0 | S84: =Q84 -> 24
A85: =A19 -> 10 | B85: =B19 -> CÓRREGO QUILOMBO | C85: =C19 -> 21°42'51.11''S | D85: =D19 -> 54°16'52.81''W | E85: =E19 -> Simples | F85: =F19 -> 4.4 | G85: =G19 -> 5.8 | H85: 0 | I85: 0 | J85: 0 | K85: 0 | L85: 0.5 | M85: 6 | N85: 0 | O85: =M85 -> 6 | P85: 0.5 | Q85: 12 | R85: 0 | S85: =Q85 -> 12
A86: =A20 -> 11 | B86: =B20 -> CÓRREGO SAPÉ | C86: =C20 -> 21°44'57.50"S | D86: =D20 -> 54°18'00.40"W | E86: =E20 -> Simples | F86: =F20 -> 4.4 | G86: =G20 -> 10.8 | H86: 0 | I86: 0 | J86: 0 | K86: 0 | L86: 0.5 | M86: 12 | N86: 0 | O86: =M86 -> 12 | P86: 0.5 | Q86: 24 | R86: 0 | S86: =Q86 -> 24
A87: =A21 -> 12 | B87: =B21 -> CÓRREGO JUREMA | C87: =C21 -> 21°47'02.84''S | D87: =D21 -> 54°14'35.61''W | E87: =E21 -> Simples | F87: =F21 -> 4.4 | G87: =G21 -> 7.1 | H87: 0 | I87: 0 | J87: 0 | K87: 0 | L87: 0.5 | M87: 6 | N87: 0 | O87: =M87 -> 6 | P87: 0.5 | Q87: 12 | R87: 0 | S87: =Q87 -> 12
... A101: =A35 -> 26 | B101: =B35 -> CÓRREGO PASSATEMPO 5 | C101: =C35 -> 21°29'57.99''S | D101: =D35 -> 54°43'07.39''W | E101: =E35 -> Simples | F101: =F35 -> 4.4 | G101: =G35 -> 22.3 | H101: 0 | I101: 0 | J101: 0 | K101: 0 | L101: 0.5 | M101: 24 | N101: 0 | O101: =M101 -> 24 | P101: 0.5 | Q101: 48 | R101: 0 | S101: =Q101 -> 48
A103: TOTAL: | G103: =TRUNC(SUM(G76:G102),3) -> 335.7 | I103: 0 | J103: 0 | K103: 0 | M103: =SUM(M76:M102) -> 336 | N103: =SUM(N76:N102) -> 0 | O103: =SUM(O76:O102) -> 336 | P103: =SUM(P76:P102) -> 13 | Q103: =SUM(Q76:Q102) -> 672 | R103: =SUM(R76:R102) -> 0 | S103: =SUM(S76:S102) -> 672
A105: Serviços: Esteios - Trav. Superior - Trav. Inferior - Contraventamento - Infraestrutura (Desmont, Mont. e Construção)
A106: =$A$7 -> MANUTENÇÃO E CONSERVAÇÃO DAS PONTES DE MADEIRA
A107: Item | B107: Descrição / Local | F107: Esteio (unidade) | K107: Travesseiro Superior (Unidade) | P107: Travesseiro Inferior (Unidade)
B108: Ponte | C108: =$C$9 -> Latitude | D108: =$D$9 -> Longitude | E108: =$G$9 -> Extensão (m) | F108: Nível de Esforço | G108: Altura Esteio | H108: Desmonte | I108: Montagem | J108: Construção | K108: Nível de Esforço | L108: Comprimento Trav. | M108: Desmonte | N108: Montagem | O108: Construção | P108: Nível de Esforço | Q108: Desmonte | R108: Montagem | S108: Construção
A109: =A76 -> 1 | B109: =B76 -> CÓRREGO DO CHINELO | C109: =C76 -> 21°53'30.35''S | D109: =D76 -> 54°35'16.91''W | E109: =G76 -> 13 | F109: 0.4 | G109: 3 | H109: 12 | I109: 0 | J109: 12 | K109: 0.4 | L109: 5.5 | M109: 6 | N109: 0 | O109: =M109 -> 6 | P109: 0.4 | Q109: 6 | R109: 0 | S109: =Q109 -> 6
A110: =A77 -> 2 | B110: =B77 -> CÓRREGO AREIAS | C110: =C77 -> 21°48'55.89''S | D110: =D77 -> 54°32'36.89''W | E110: =G77 -> 6 | F110: 0.4 | G110: 3 | H110: 8 | I110: 0 | J110: 8 | K110: 0.4 | L110: 4.9 | M110: 4 | N110: 0 | O110: =M110 -> 4 | P110: 0.4 | Q110: 4 | R110: 0 | S110: =Q110 -> 4
A111: =A78 -> 3 | B111: =B78 -> CÓRREGO ARARAS | C111: =C78 -> 21°47'42.63''S | D111: =D78 -> 54°31'56.42''W | E111: =G78 -> 12 | F111: 0.4 | G111: 3 | H111: 12 | I111: 0 | J111: 12 | K111: 0.4 | L111: 5.3 | M111: 6 | N111: 0 | O111: =M111 -> 6 | P111: 0.4 | Q111: 6 | R111: 0 | S111: =Q111 -> 6
A112: =A79 -> 4 | B112: =B79 -> CÓRREGO FORMIGA | C112: =C79 -> 21°39'27.48''S | D112: =D79 -> 54°25'31.76''W | E112: =G79 -> 13.2 | F112: 0.4 | G112: 3 | H112: 12 | I112: 0 | J112: 12 | K112: 0.4 | L112: 4.9 | M112: 6 | N112: 0 | O112: =M112 -> 6 | P112: 0.4 | Q112: 6 | R112: 0 | S112: =Q112 -> 6
A113: =A80 -> 5 | B113: =B80 -> CÓRREGO ANTINHA | C113: =C80 -> 21°38'42.22''S | D113: =D80 -> 54°27'12.82''W | E113: =G80 -> 7.2 | F113: 0.4 | G113: 3 | H113: 8 | I113: 0 | J113: 8 | K113: 0.4 | L113: 4.9 | M113: 4 | N113: 0 | O113: =M113 -> 4 | P113: 0.4 | Q113: 4 | R113: 0 | S113: =Q113 -> 4
A114: =A81 -> 6 | B114: =B81 -> CÓRREGO FORMIGA | C114: =C81 -> 21°38'56.23''S | D114: =D81 -> 54°25'01.82''W | E114: =G81 -> 12 | F114: 0.4 | G114: 3 | H114: 12 | I114: 0 | J114: 12 | K114: 0.4 | L114: 4.9 | M114: 6 | N114: 0 | O114: =M114 -> 6 | P114: 0.4 | Q114: 6 | R114: 0 | S114: =Q114 -> 6
A115: =A82 -> 7 | B115: =B82 -> CÓRREGO QUILOMBO | C115: =C82 -> 21°42'14.33''S | D115: =D82 -> 54°20'39.58''W | E115: =G82 -> 6.8 | F115: 0.4 | G115: 3 | H115: 8 | I115: 0 | J115: 8 | K115: 0.4 | L115: 4.9 | M115: 4 | N115: 0 | O115: =M115 -> 4 | P115: 0.4 | Q115: 4 | R115: 0 | S115: =Q115 -> 4
A116: =A83 -> 8 | B116: =B83 -> ARROIO CORREGUINHO | C116: =C83 -> 21°42'39.87''S | D116: =D83 -> 54°18'52.81''W | E116: =G83 -> 5.8 | F116: 0.4 | G116: 3 | H116: 8 | I116: 0 | J116: 8 | K116: 0.4 | L116: 4.9 | M116: 4 | N116: 0 | O116: =M116 -> 4 | P116: 0.4 | Q116: 4 | R116: 0 | S116: =Q116 -> 4
A117: =A84 -> 9 | B117: =B84 -> CÓRREGO GUATAMBU | C117: =C84 -> 21°43'17.70"S | D117: =D84 -> 54°16'36.10"W | E117: =G84 -> 10.6 | F117: 0.4 | G117: 3 | H117: 12 | I117: 0 | J117: 12 | K117: 0.4 | L117: 4.9 | M117: 6 | N117: 0 | O117: =M117 -> 6 | P117: 0.4 | Q117: 6 | R117: 0 | S117: =Q117 -> 6
A118: =A85 -> 10 | B118: =B85 -> CÓRREGO QUILOMBO | C118: =C85 -> 21°42'51.11''S | D118: =D85 -> 54°16'52.81''W | E118: =G85 -> 5.8 | F118: 0.4 | G118: 3 | H118: 8 | I118: 0 | J118: 8 | K118: 0.4 | L118: 4.9 | M118: 4 | N118: 0 | O118: =M118 -> 4 | P118: 0.4 | Q118: 4 | R118: 0 | S118: =Q118 -> 4
A119: =A86 -> 11 | B119: =B86 -> CÓRREGO SAPÉ | C119: =C86 -> 21°44'57.50"S | D119: =D86 -> 54°18'00.40"W | E119: =G86 -> 10.8 | F119: 0.4 | G119: 3 | H119: 12 | I119: 0 | J119: 12 | K119: 0.4 | L119: 4.9 | M119: 6 | N119: 0 | O119: =M119 -> 6 | P119: 0.4 | Q119: 6 | R119: 0 | S119: =Q119 -> 6
A120: =A87 -> 12 | B120: =B87 -> CÓRREGO JUREMA | C120: =C87 -> 21°47'02.84''S | D120: =D87 -> 54°14'35.61''W | E120: =G87 -> 7.1 | F120: 0.4 | G120: 3 | H120: 8 | I120: 0 | J120: 8 | K120: 0.4 | L120: 4.9 | M120: 4 | N120: 0 | O120: =M120 -> 4 | P120: 0.4 | Q120: 4 | R120: 0 | S120: =Q120 -> 4
... A134: =A101 -> 26 | B134: =B101 -> CÓRREGO PASSATEMPO 5 | C134: =C101 -> 21°29'57.99''S | D134: =D101 -> 54°43'07.39''W | E134: =G101 -> 22.3 | F134: 0.4 | G134: 3 | H134: 20 | I134: 0 | J134: 20 | K134: 0.4 | L134: 4.9 | M134: 10 | N134: 0 | O134: =M134 -> 10 | P134: 0.4 | Q134: 10 | R134: 0 | S134: =Q134 -> 10
A136: TOTAL: | E136: =TRUNC(SUM(E109:E135),3) -> 335.7 | H136: 328 | I136: 0 | J136: 328 | M136: =SUM(M109:M135) -> 164 | N136: =SUM(N109:N135) -> 0 | O136: =SUM(O109:O135) -> 164 | P136: =SUM(P109:P135) -> 10.4 | Q136: =SUM(Q109:Q135) -> 164 | R136: =SUM(R109:R135) -> 0 | S136: =SUM(S109:S135) -> 164
A138: Serviços: Esteios - Trav. Superior - Trav. Inferior - Contraventamento - Infraestrutura (Desmont, Mont. e Construção)
A139: =$A$7 -> MANUTENÇÃO E CONSERVAÇÃO DAS PONTES DE MADEIRA
A140: Item | B140: Descrição / Local | F140: Travesseiro Intermediário (Unidade) | J140: Contraventamento (Unidade) | O140: Infraestrutura
B141: Ponte | C141: =$C$9 -> Latitude | D141: =$D$9 -> Longitude | E141: =$G$9 -> Extensão (m) | F141: Nível de Esforço | G141: Desmonte | H141: Montagem | I141: Construção | J141: Nível de Esforço | K141: Comprimento Contrav. | L141: Desmonte | M141: Montagem | N141: Construção | O141: Nível de Esforço | P141: Altura Fundação (m) | Q141: Cravação (Un) | R141: Nível de Esforço | S141: Emendas (Un) | T141: Ponteira de aço (un)
A142: =A109 -> 1 | B142: =B109 -> CÓRREGO DO CHINELO | C142: =C109 -> 21°53'30.35''S | D142: =D109 -> 54°35'16.91''W | E142: =E109 -> 13 | F142: 0.4 | G142: 0 | H142: 0 | I142: 0 | J142: 0.4 | K142: 6.2 | L142: 6 | M142: 0 | N142: 4 | O142: 0.4 | P142: 3 | Q142: 6 | R142: 0.2 | S142: 3 | T142: 2
A143: =A110 -> 2 | B143: =B110 -> CÓRREGO AREIAS | C143: =C110 -> 21°48'55.89''S | D143: =D110 -> 54°32'36.89''W | E143: =E110 -> 6 | F143: 0.4 | G143: 0 | H143: 0 | I143: 0 | J143: 0.4 | K143: 5.5 | L143: 4 | M143: 0 | N143: 2 | O143: 0.4 | P143: 3 | Q143: 4 | R143: 0.2 | S143: 2 | T143: 2
A144: =A111 -> 3 | B144: =B111 -> CÓRREGO ARARAS | C144: =C111 -> 21°47'42.63''S | D144: =D111 -> 54°31'56.42''W | E144: =E111 -> 12 | F144: 0.4 | G144: 0 | H144: 0 | I144: 0 | J144: 0.4 | K144: 5.9 | L144: 6 | M144: 0 | N144: 4 | O144: 0.4 | P144: 3 | Q144: 6 | R144: 0.2 | S144: 3 | T144: 2
A145: =A112 -> 4 | B145: =B112 -> CÓRREGO FORMIGA | C145: =C112 -> 21°39'27.48''S | D145: =D112 -> 54°25'31.76''W | E145: =E112 -> 13.2 | F145: 0.4 | G145: 0 | H145: 0 | I145: 0 | J145: 0.4 | K145: 5.5 | L145: 6 | M145: 0 | N145: 4 | O145: 0.4 | P145: 3 | Q145: 6 | R145: 0.2 | S145: 3 | T145: 2
A146: =A113 -> 5 | B146: =B113 -> CÓRREGO ANTINHA | C146: =C113 -> 21°38'42.22''S | D146: =D113 -> 54°27'12.82''W | E146: =E113 -> 7.2 | F146: 0.4 | G146: 0 | H146: 0 | I146: 0 | J146: 0.4 | K146: 5.5 | L146: 4 | M146: 0 | N146: 2 | O146: 0.4 | P146: 3 | Q146: 4 | R146: 0.2 | S146: 2 | T146: 2
A147: =A114 -> 6 | B147: =B114 -> CÓRREGO FORMIGA | C147: =C114 -> 21°38'56.23''S | D147: =D114 -> 54°25'01.82''W | E147: =E114 -> 12 | F147: 0.4 | G147: 0 | H147: 0 | I147: 0 | J147: 0.4 | K147: 5.5 | L147: 6 | M147: 0 | N147: 4 | O147: 0.4 | P147: 3 | Q147: 6 | R147: 0.2 | S147: 3 | T147: 2
A148: =A115 -> 7 | B148: =B115 -> CÓRREGO QUILOMBO | C148: =C115 -> 21°42'14.33''S | D148: =D115 -> 54°20'39.58''W | E148: =E115 -> 6.8 | F148: 0.4 | G148: 0 | H148: 0 | I148: 0 | J148: 0.4 | K148: 5.5 | L148: 4 | M148: 0 | N148: 2 | O148: 0.4 | P148: 3 | Q148: 4 | R148: 0.2 | S148: 2 | T148: 2
A149: =A116 -> 8 | B149: =B116 -> ARROIO CORREGUINHO | C149: =C116 -> 21°42'39.87''S | D149: =D116 -> 54°18'52.81''W | E149: =E116 -> 5.8 | F149: 0.4 | G149: 0 | H149: 0 | I149: 0 | J149: 0.4 | K149: 5.5 | L149: 4 | M149: 0 | N149: 2 | O149: 0.4 | P149: 3 | Q149: 4 | R149: 0.2 | S149: 2 | T149: 2
A150: =A117 -> 9 | B150: =B117 -> CÓRREGO GUATAMBU | C150: =C117 -> 21°43'17.70"S | D150: =D117 -> 54°16'36.10"W | E150: =E117 -> 10.6 | F150: 0.4 | G150: 0 | H150: 0 | I150: 0 | J150: 0.4 | K150: 5.5 | L150: 6 | M150: 0 | N150: 4 | O150: 0.4 | P150: 3 | Q150: 6 | R150: 0.2 | S150: 3 | T150: 2
A151: =A118 -> 10 | B151: =B118 -> CÓRREGO QUILOMBO | C151: =C118 -> 21°42'51.11''S | D151: =D118 -> 54°16'52.81''W | E151: =E118 -> 5.8 | F151: 0.4 | G151: 0 | H151: 0 | I151: 0 | J151: 0.4 | K151: 5.5 | L151: 4 | M151: 0 | N151: 2 | O151: 0.4 | P151: 3 | Q151: 4 | R151: 0.2 | S151: 2 | T151: 2
A152: =A119 -> 11 | B152: =B119 -> CÓRREGO SAPÉ | C152: =C119 -> 21°44'57.50"S | D152: =D119 -> 54°18'00.40"W | E152: =E119 -> 10.8 | F152: 0.4 | G152: 0 | H152: 0 | I152: 0 | J152: 0.4 | K152: 5.5 | L152: 6 | M152: 0 | N152: 4 | O152: 0.4 | P152: 3 | Q152: 6 | R152: 0.2 | S152: 3 | T152: 2
A153: =A120 -> 12 | B153: =B120 -> CÓRREGO JUREMA | C153: =C120 -> 21°47'02.84''S | D153: =D120 -> 54°14'35.61''W | E153: =E120 -> 7.1 | F153: 0.4 | G153: 0 | H153: 0 | I153: 0 | J153: 0.4 | K153: 5.5 | L153: 4 | M153: 0 | N153: 2 | O153: 0.4 | P153: 3 | Q153: 4 | R153: 0.2 | S153: 2 | T153: 2
... A167: =A134 -> 26 | B167: =B134 -> CÓRREGO PASSATEMPO 5 | C167: =C134 -> 21°29'57.99''S | D167: =D134 -> 54°43'07.39''W | E167: =E134 -> 22.3 | F167: 0.4 | G167: 0 | H167: 0 | I167: 0 | J167: 0.4 | K167: 5.5 | L167: 10 | M167: 0 | N167: 6 | O167: 0.4 | P167: 3 | Q167: 10 | R167: 0.2 | S167: 4 | T167: 2
A169: TOTAL: | E169: =TRUNC(SUM(E142:E168),3) -> 335.7 | G169: 0 | H169: 0 | I169: 0 | L169: =SUM(L142:L168) -> 164 | M169: =SUM(M142:M168) -> 0 | N169: =SUM(N142:N168) -> 99 | O169: =SUM(O142:O168) -> 10.4 | P169: =SUM(P142:P168) -> 78 | Q169: =SUM(Q142:Q168) -> 164 | R169: =SUM(R142:R168) -> 5.2 | S169: =SUM(S142:S168) -> 77 | T169: =SUM(T142:T168) -> 65
A171: Serviços: Caixão de Aterro (Desmonte, Montagem e Construção) - Escavação e Reaterro - Bloco e Sapata de Concreto
A172: =$A$7 -> MANUTENÇÃO E CONSERVAÇÃO DAS PONTES DE MADEIRA
A173: Item | B173: Descrição / Local | H173: Madeiramento
B174: Ponte | C174: =C9 -> Latitude | D174: =D9 -> Longitude | E174: Altura Média (m) | F174: =$F$9 -> Largura (m) | G174: =$G$9 -> Extensão (m) | H174: Nível de Esforço | I174: Caixão (un) | J174: Alas (m) | K174: Cabeceira (m) | L174: Altura (m) | M174: Área Desmont. (m²) | N174: Área Mont. (m²) | O174: Área Constr. (m²) | P174: Nível de Esforço | Q174: Esteio Alas (Unidade) | R174: Esteio Cab. (Unidade) | S174: Vol. Madeira (m³)
...

Sheet 3 - Memoria de Cálculo
A1: OBJETO: MANUTENÇÃO E CONSERVAÇÃO DAS PONTES DE MADEIRA NAS RODOVIAS QUE FAZEM PARTE DA MALHA RODOVIÁRIA NÃO PAVIMENTADA DO MUNICÍPIO DE RIO BRILHANTE/MS
A2: LOCAL: RIO BRILHANTE/MS | V2: SEÇÃO DAS PEÇAS
A3: PRAZO: 365 (dias) | V3: Assoalho | W3: Rodeiro | X3: G.Rodas | Y3: V. Simples | Z3: S.Viga | AA3: C.Aterro | AB3: Esteios | AC3: Trav. Sup. | AD3: Trav. Interm. | AE3: Trav. Inf | AF3: Contrav. | AG3: Fundação | AH3: G.Corpo
A4: PROCESSO: | V4: =0.16*0.07 -> 0.0112 | W4: =0.06*0.3 -> 0.018 | X4: =0.15*0.15 -> 0.0225 | Y4: =0.25*0.3 -> 0.075 | Z4: =0.25*0.3 -> 0.075 | AB4: =0.25*0.3 -> 0.075 | AC4: =0.25*0.25 -> 0.0625 | AD4: =AC4 -> 0.0625 | AE4: =0.25*0.2 -> 0.05 | AF4: =0.15*0.2 -> 0.03 | AG4: =0.25*0.3 -> 0.075 | AH4: =2*((0.1*0.1*1)+(0.2*0.2*1)+(0.1*0.1*0.6*0.67)) -> 0.10804
A6: ='2 - Serviços'!A7:S7 -> MANUTENÇÃO E CONSERVAÇÃO DAS PONTES DE MADEIRA
A7: Serviços: Vigamento Simples - Montagem, Desmontagem, Construção, Aquisição de Madeira, Infraestrutura
A8: Item | B8: Descrição / Local | H8: Serviços de Montagem
B9: Ponte | C9: ='2 - Serviços'!$C$9 -> Latitude | D9: ='2 - Serviços'!$D$9 -> Longitude | E9: ='2 - Serviços'!$E$9 -> Vigamento | F9: ='2 - Serviços'!$F$9 -> Largura (m) | G9: ='2 - Serviços'!$G$9 -> Extensão (m) | H9: Assoalho | I9: Rodeiro | J9: G. Rodas | K9: G. Corpo | L9: Vigas | M9: S. Viga | N9: C. Aterro | O9: Esteios | P9: Trav. Sup. | Q9: Trav. Int. | R9: Trav. Inf. | S9: Contrav. | T9: Cravação
A10: ='2 - Serviços'!A10 -> 1 | B10: ='2 - Serviços'!B10 -> CÓRREGO DO CHINELO | C10: ='2 - Serviços'!C10 -> 21°53'30.35''S | D10: ='2 - Serviços'!D10 -> 54°35'16.91''W | E10: ='2 - Serviços'!E10 -> Simples | F10: ='2 - Serviços'!F10 -> 5 | G10: ='2 - Serviços'!G10 -> 13 | H10: 0 | I10: 0 | J10: 0 | K10: 0 | L10: 0 | M10: 0 | N10: 0 | O10: 0 | P10: 0 | Q10: 0 | R10: 0 | S10: 0 | T10: 0
A11: ='2 - Serviços'!A11 -> 2 | B11: ='2 - Serviços'!B11 -> CÓRREGO AREIAS | C11: ='2 - Serviços'!C11 -> 21°48'55.89''S | D11: ='2 - Serviços'!D11 -> 54°32'36.89''W | E11: ='2 - Serviços'!E11 -> Simples | F11: ='2 - Serviços'!F11 -> 4.4 | G11: ='2 - Serviços'!G11 -> 6 | H11: 0 | I11: 0 | J11: 0 | K11: 0 | L11: 0 | M11: 0 | N11: 0 | O11: 0 | P11: 0 | Q11: 0 | R11: 0 | S11: 0 | T11: 0
A12: ='2 - Serviços'!A12 -> 3 | B12: ='2 - Serviços'!B12 -> CÓRREGO ARARAS | C12: ='2 - Serviços'!C12 -> 21°47'42.63''S | D12: ='2 - Serviços'!D12 -> 54°31'56.42''W | E12: ='2 - Serviços'!E12 -> Simples | F12: ='2 - Serviços'!F12 -> 4.8 | G12: ='2 - Serviços'!G12 -> 12 | H12: 0 | I12: 0 | J12: 0 | K12: 0 | L12: 0 | M12: 0 | N12: 0 | O12: 0 | P12: 0 | Q12: 0 | R12: 0 | S12: 0 | T12: 0
A13: ='2 - Serviços'!A13 -> 4 | B13: ='2 - Serviços'!B13 -> CÓRREGO FORMIGA | C13: ='2 - Serviços'!C13 -> 21°39'27.48''S | D13: ='2 - Serviços'!D13 -> 54°25'31.76''W | E13: ='2 - Serviços'!E13 -> Simples | F13: ='2 - Serviços'!F13 -> 4.4 | G13: ='2 - Serviços'!G13 -> 13.2 | H13: 0 | I13: 0 | J13: 0 | K13: 0 | L13: 0 | M13: 0 | N13: 0 | O13: 0 | P13: 0 | Q13: 0 | R13: 0 | S13: 0 | T13: 0
A14: ='2 - Serviços'!A14 -> 5 | B14: ='2 - Serviços'!B14 -> CÓRREGO ANTINHA | C14: ='2 - Serviços'!C14 -> 21°38'42.22''S | D14: ='2 - Serviços'!D14 -> 54°27'12.82''W | E14: ='2 - Serviços'!E14 -> Simples | F14: ='2 - Serviços'!F14 -> 4.4 | G14: ='2 - Serviços'!G14 -> 7.2 | H14: 0 | I14: 0 | J14: 0 | K14: 0 | L14: 0 | M14: 0 | N14: 0 | O14: 0 | P14: 0 | Q14: 0 | R14: 0 | S14: 0 | T14: 0
A15: ='2 - Serviços'!A15 -> 6 | B15: ='2 - Serviços'!B15 -> CÓRREGO FORMIGA | C15: ='2 - Serviços'!C15 -> 21°38'56.23''S | D15: ='2 - Serviços'!D15 -> 54°25'01.82''W | E15: ='2 - Serviços'!E15 -> Simples | F15: ='2 - Serviços'!F15 -> 4.4 | G15: ='2 - Serviços'!G15 -> 12 | H15: 0 | I15: 0 | J15: 0 | K15: 0 | L15: 0 | M15: 0 | N15: 0 | O15: 0 | P15: 0 | Q15: 0 | R15: 0 | S15: 0 | T15: 0
A16: ='2 - Serviços'!A16 -> 7 | B16: ='2 - Serviços'!B16 -> CÓRREGO QUILOMBO | C16: ='2 - Serviços'!C16 -> 21°42'14.33''S | D16: ='2 - Serviços'!D16 -> 54°20'39.58''W | E16: ='2 - Serviços'!E16 -> Simples | F16: ='2 - Serviços'!F16 -> 4.4 | G16: ='2 - Serviços'!G16 -> 6.8 | H16: 0 | I16: 0 | J16: 0 | K16: 0 | L16: 0 | M16: 0 | N16: 0 | O16: 0 | P16: 0 | Q16: 0 | R16: 0 | S16: 0 | T16: 0
A17: ='2 - Serviços'!A17 -> 8 | B17: ='2 - Serviços'!B17 -> ARROIO CORREGUINHO | C17: ='2 - Serviços'!C17 -> 21°42'39.87''S | D17: ='2 - Serviços'!D17 -> 54°18'52.81''W | E17: ='2 - Serviços'!E17 -> Simples | F17: ='2 - Serviços'!F17 -> 4.4 | G17: ='2 - Serviços'!G17 -> 5.8 | H17: 0 | I17: 0 | J17: 0 | K17: 0 | L17: 0 | M17: 0 | N17: 0 | O17: 0 | P17: 0 | Q17: 0 | R17: 0 | S17: 0 | T17: 0
A18: ='2 - Serviços'!A18 -> 9 | B18: ='2 - Serviços'!B18 -> CÓRREGO GUATAMBU | C18: ='2 - Serviços'!C18 -> 21°43'17.70"S | D18: ='2 - Serviços'!D18 -> 54°16'36.10"W | E18: ='2 - Serviços'!E18 -> Simples | F18: ='2 - Serviços'!F18 -> 4.4 | G18: ='2 - Serviços'!G18 -> 10.6 | H18: 0 | I18: 0 | J18: 0 | K18: 0 | L18: 0 | M18: 0 | N18: 0 | O18: 0 | P18: 0 | Q18: 0 | R18: 0 | S18: 0 | T18: 0
A19: ='2 - Serviços'!A19 -> 10 | B19: ='2 - Serviços'!B19 -> CÓRREGO QUILOMBO | C19: ='2 - Serviços'!C19 -> 21°42'51.11''S | D19: ='2 - Serviços'!D19 -> 54°16'52.81''W | E19: ='2 - Serviços'!E19 -> Simples | F19: ='2 - Serviços'!F19 -> 4.4 | G19: ='2 - Serviços'!G19 -> 5.8 | H19: 0 | I19: 0 | J19: 0 | K19: 0 | L19: 0 | M19: 0 | N19: 0 | O19: 0 | P19: 0 | Q19: 0 | R19: 0 | S19: 0 | T19: 0
A20: ='2 - Serviços'!A20 -> 11 | B20: ='2 - Serviços'!B20 -> CÓRREGO SAPÉ | C20: ='2 - Serviços'!C20 -> 21°44'57.50"S | D20: ='2 - Serviços'!D20 -> 54°18'00.40"W | E20: ='2 - Serviços'!E20 -> Simples | F20: ='2 - Serviços'!F20 -> 4.4 | G20: ='2 - Serviços'!G20 -> 10.8 | H20: 0 | I20: 0 | J20: 0 | K20: 0 | L20: 0 | M20: 0 | N20: 0 | O20: 0 | P20: 0 | Q20: 0 | R20: 0 | S20: 0 | T20: 0
A21: ='2 - Serviços'!A21 -> 12 | B21: ='2 - Serviços'!B21 -> CÓRREGO JUREMA | C21: ='2 - Serviços'!C21 -> 21°47'02.84''S | D21: ='2 - Serviços'!D21 -> 54°14'35.61''W | E21: ='2 - Serviços'!E21 -> Simples | F21: ='2 - Serviços'!F21 -> 4.4 | G21: ='2 - Serviços'!G21 -> 7.1 | H21: 0 | I21: 0 | J21: 0 | K21: 0 | L21: 0 | M21: 0 | N21: 0 | O21: 0 | P21: 0 | Q21: 0 | R21: 0 | S21: 0 | T21: 0
... A35: ='2 - Serviços'!A35 -> 26 | B35: ='2 - Serviços'!B35 -> CÓRREGO PASSATEMPO 5 | C35: ='2 - Serviços'!C35 -> 21°29'57.99''S | D35: ='2 - Serviços'!D35 -> 54°43'07.39''W | E35: ='2 - Serviços'!E35 -> Simples | F35: ='2 - Serviços'!F35 -> 4.4 | G35: ='2 - Serviços'!G35 -> 22.3 | H35: 0 | I35: 0 | J35: 0 | K35: 0 | L35: 0 | M35: 0 | N35: 0 | O35: 0 | P35: 0 | Q35: 0 | R35: 0 | S35: 0 | T35: 0
A37: TOTAL | G37: =TRUNC(SUM(G10:G36),3) -> 335.7 | H37: 0 | I37: 0 | J37: 0 | K37: 0 | L37: 0 | M37: 0 | N37: 0 | O37: 0 | P37: 0 | Q37: 0 | R37: 0 | S37: 0 | T37: 0
A39: Item | B39: Descrição / Local | H39: Serviços de Desmontagem
B40: Ponte | C40: ='2 - Serviços'!$C$9 -> Latitude | D40: ='2 - Serviços'!$D$9 -> Longitude | E40: ='2 - Serviços'!$E$9 -> Vigamento | F40: ='2 - Serviços'!$F$9 -> Largura (m) | G40: ='2 - Serviços'!$G$9 -> Extensão (m) | H40: Assoalho | I40: Rodeiro | J40: G. Rodas | K40: G. Corpo | L40: Vigas | M40: S. Viga | N40: =N9 -> C. Aterro | O40: Esteios | P40: Trav. Sup. | Q40: Trav. Int. | R40: =R9 -> Trav. Inf. | S40: Contrav. | T40: =T9 -> Cravação
A41: =A10 -> 1 | B41: =B10 -> CÓRREGO DO CHINELO | C41: =C10 -> 21°53'30.35''S | D41: =D10 -> 54°35'16.91''W | E41: =E10 -> Simples | F41: =F10 -> 5 | G41: =G10 -> 13 | H41: 239.2 | I41: 62.4 | J41: 20.8 | K41: 0 | L41: 36 | M41: 18 | N41: 15 | O41: 14.4 | P41: 13.2 | Q41: 0 | R41: 13.2 | S41: 14.88 | T41: 0
A42: =A11 -> 2 | B42: =B11 -> CÓRREGO AREIAS | C42: =C11 -> 21°48'55.89''S | D42: =D11 -> 54°32'36.89''W | E42: =E11 -> Simples | F42: =F11 -> 4.4 | G42: =G11 -> 6 | H42: 110.4 | I42: 28.8 | J42: 9.6 | K42: 0 | L42: 18 | M42: 9 | N42: 13.2 | O42: 9.6 | P42: 7.84 | Q42: 0 | R42: 7.84 | S42: 8.8 | T42: 0
A43: =A12 -> 3 | B43: =B12 -> CÓRREGO ARARAS | C43: =C12 -> 21°47'42.63''S | D43: =D12 -> 54°31'56.42''W | E43: =E12 -> Simples | F43: =F12 -> 4.8 | G43: =G12 -> 12 | H43: 220.8 | I43: 57.6 | J43: 19.2 | K43: 0 | L43: 36 | M43: 18 | N43: 14.4 | O43: 14.4 | P43: 12.72 | Q43: 0 | R43: 12.72 | S43: 14.16 | T43: 0
A44: =A13 -> 4 | B44: =B13 -> CÓRREGO FORMIGA | C44: =C13 -> 21°39'27.48''S | D44: =D13 -> 54°25'31.76''W | E44: =E13 -> Simples | F44: =F13 -> 4.4 | G44: =G13 -> 13.2 | H44: 242.88 | I44: 63.36 | J44: 21.12 | K44: 0 | L44: 36 | M44: 18 | N44: 13.2 | O44: 14.4 | P44: 11.76 | Q44: 0 | R44: 11.76 | S44: 13.2 | T44: 0
A45: =A14 -> 5 | B45: =B14 -> CÓRREGO ANTINHA | C45: =C14 -> 21°38'42.22''S | D45: =D14 -> 54°27'12.82''W | E45: =E14 -> Simples | F45: =F14 -> 4.4 | G45: =G14 -> 7.2 | H45: 132.48 | I45: 34.56 | J45: 11.52 | K45: 0 | L45: 18 | M45: 9 | N45: 13.2 | O45: 9.6 | P45: 7.84 | Q45: 0 | R45: 7.84 | S45: 8.8 | T45: 0
A46: =A15 -> 6 | B46: =B15 -> CÓRREGO FORMIGA | C46: =C15 -> 21°38'56.23''S | D46: =D15 -> 54°25'01.82''W | E46: =E15 -> Simples | F46: =F15 -> 4.4 | G46: =G15 -> 12 | H46: 220.8 | I46: 57.6 | J46: 19.2 | K46: 0 | L46: 36 | M46: 18 | N46: 13.2 | O46: 14.4 | P46: 11.76 | Q46: 0 | R46: 11.76 | S46: 13.2 | T46: 0
A47: =A16 -> 7 | B47: =B16 -> CÓRREGO QUILOMBO | C47: =C16 -> 21°42'14.33''S | D47: =D16 -> 54°20'39.58''W | E47: =E16 -> Simples | F47: =F16 -> 4.4 | G47: =G16 -> 6.8 | H47: 125.12 | I47: 32.64 | J47: 10.88 | K47: 0 | L47: 18 | M47: 9 | N47: 13.2 | O47: 9.6 | P47: 7.84 | Q47: 0 | R47: 7.84 | S47: 8.8 | T47: 0
A48: =A17 -> 8 | B48: =B17 -> ARROIO CORREGUINHO | C48: =C17 -> 21°42'39.87''S | D48: =D17 -> 54°18'52.81''W | E48: =E17 -> Simples | F48: =F17 -> 4.4 | G48: =G17 -> 5.8 | H48: 106.72 | I48: 27.84 | J48: 9.28 | K48: 0 | L48: 18 | M48: 9 | N48: 13.2 | O48: 9.6 | P48: 7.84 | Q48: 0 | R48: 7.84 | S48: 8.8 | T48: 0
A49: =A18 -> 9 | B49: =B18 -> CÓRREGO GUATAMBU | C49: =C18 -> 21°43'17.70"S | D49: =D18 -> 54°16'36.10"W | E49: =E18 -> Simples | F49: =F18 -> 4.4 | G49: =G18 -> 10.6 | H49: 195.04 | I49: 50.88 | J49: 16.96 | K49: 0 | L49: 36 | M49: 18 | N49: 13.2 | O49: 14.4 | P49: 11.76 | Q49: 0 | R49: 11.76 | S49: 13.2 | T49: 0
A50: =A19 -> 10 | B50: =B19 -> CÓRREGO QUILOMBO | C50: =C19 -> 21°42'51.11''S | D50: =D19 -> 54°16'52.81''W | E50: =E19 -> Simples | F50: =F19 -> 4.4 | G50: =G19 -> 5.8 | H50: 106.72 | I50: 27.84 | J50: 9.28 | K50: 0 | L50: 18 | M50: 9 | N50: 13.2 | O50: 9.6 | P50: 7.84 | Q50: 0 | R50: 7.84 | S50: 8.8 | T50: 0
A51: =A20 -> 11 | B51: =B20 -> CÓRREGO SAPÉ | C51: =C20 -> 21°44'57.50"S | D51: =D20 -> 54°18'00.40"W | E51: =E20 -> Simples | F51: =F20 -> 4.4 | G51: =G20 -> 10.8 | H51: 198.72 | I51: 51.84 | J51: 17.28 | K51: 0 | L51: 36 | M51: 18 | N51: 13.2 | O51: 14.4 | P51: 11.76 | Q51: 0 | R51: 11.76 | S51: 13.2 | T51: 0
A52: =A21 -> 12 | B52: =B21 -> CÓRREGO JUREMA | C52: =C21 -> 21°47'02.84''S | D52: =D21 -> 54°14'35.61''W | E52: =E21 -> Simples | F52: =F21 -> 4.4 | G52: =G21 -> 7.1 | H52: 130.64 | I52: 34.08 | J52: 11.36 | K52: 0 | L52: 18 | M52: 9 | N52: 13.2 | O52: 9.6 | P52: 7.84 | Q52: 0 | R52: 7.84 | S52: 8.8 | T52: 0
... A66: =A35 -> 26 | B66: =B35 -> CÓRREGO PASSATEMPO 5 | C66: =C35 -> 21°29'57.99''S | D66: =D35 -> 54°43'07.39''W | E66: =E35 -> Simples | F66: =F35 -> 4.4 | G66: =G35 -> 22.3 | H66: 410.32 | I66: 107.04 | J66: 35.68 | K66: 0 | L66: 72 | M66: 36 | N66: 13.2 | O66: 24 | P66: 19.6 | Q66: 0 | R66: 19.6 | S66: 22 | T66: 0
A68: TOTAL | G68: =SUM(G41:G66) -> 335.7 | H68: =SUM(H41:H66) -> 6176.88 | I68: =SUM(I41:I66) -> 1611.36 | J68: =SUM(J41:J66) -> 537.12 | K68: =SUM(K41:K66) -> 0 | L68: =SUM(L41:L66) -> 1008 | M68: =SUM(M41:M66) -> 504 | N68: =SUM(N41:N66) -> 352.8 | ... S68: =SUM(S41:S66) -> 368.96 | T68: 0
A70: Item | B70: Descrição / Local | H70: Serviços de Construção
B71: Ponte | C71: ='2 - Serviços'!$C$9 -> Latitude | D71: ='2 - Serviços'!$D$9 -> Longitude | E71: ='2 - Serviços'!$E$9 -> Vigamento | F71: ='2 - Serviços'!$F$9 -> Largura (m) | G71: ='2 - Serviços'!$G$9 -> Extensão (m) | H71: Assoalho | I71: Rodeiro | J71: G. Rodas | K71: G. Corpo | L71: Vigas | M71: S. Viga | N71: =N40 -> C. Aterro | O71: Esteios | P71: Trav. Sup. | Q71: Trav. Int. | R71: =R40 -> Trav. Inf. | S71: Contrav. | T71: =T40 -> Cravação
A72: =A41 -> 1 | B72: =B41 -> CÓRREGO DO CHINELO | C72: =C41 -> 21°53'30.35''S | D72: =D41 -> 54°35'16.91''W | E72: =E41 -> Simples | F72: =F41 -> 5 | G72: =G41 -> 13 | H72: =H41 -> 239.2 | ... T72: =T41 -> 0
A73: =A42 -> 2 | B73: =B42 -> CÓRREGO AREIAS | C73: =C42 -> 21°48'55.89''S | D73: =D42 -> 54°32'36.89''W | E73: =E42 -> Simples | F73: =F42 -> 4.4 | G73: =G42 -> 6 | H73: =H42 -> 110.4 | ... T73: =T42 -> 0
A74: =A43 -> 3 | B74: =B43 -> CÓRREGO ARARAS | C74: =C43 -> 21°47'42.63''S | D74: =D43 -> 54°31'56.42''W | E74: =E43 -> Simples | F74: =F43 -> 4.8 | G74: =G43 -> 12 | H74: =H43 -> 220.8 | ... T74: =T43 -> 0
A75: =A44 -> 4 | B75: =B44 -> CÓRREGO FORMIGA | C75: =C44 -> 21°39'27.48''S | D75: =D44 -> 54°25'31.76''W | E75: =E44 -> Simples | F75: =F44 -> 4.4 | G75: =G44 -> 13.2 | H75: =H44 -> 242.88 | ... T75: =T44 -> 0
A76: =A45 -> 5 | B76: =B45 -> CÓRREGO ANTINHA | C76: =C45 -> 21°38'42.22''S | D76: =D45 -> 54°27'12.82''W | E76: =E45 -> Simples | F76: =F45 -> 4.4 | G76: =G45 -> 7.2 | H76: =H45 -> 132.48 | ... T76: =T45 -> 0
A77: =A46 -> 6 | B77: =B46 -> CÓRREGO FORMIGA | C77: =C46 -> 21°38'56.23''S | D77: =D46 -> 54°25'01.82''W | E77: =E46 -> Simples | F77: =F46 -> 4.4 | G77: =G46 -> 12 | H77: =H46 -> 220.8 | ... T77: =T46 -> 0
A78: =A47 -> 7 | B78: =B47 -> CÓRREGO QUILOMBO | C78: =C47 -> 21°42'14.33''S | D78: =D47 -> 54°20'39.58''W | E78: =E47 -> Simples | F78: =F47 -> 4.4 | G78: =G47 -> 6.8 | H78: =H47 -> 125.12 | ... T78: =T47 -> 0
A79: =A48 -> 8 | B79: =B48 -> ARROIO CORREGUINHO | C79: =C48 -> 21°42'39.87''S | D79: =D48 -> 54°18'52.81''W | E79: =E48 -> Simples | F79: =F48 -> 4.4 | G79: =G48 -> 5.8 | H79: =H48 -> 106.72 | ... T79: =T48 -> 0
A80: =A49 -> 9 | B80: =B49 -> CÓRREGO GUATAMBU | C80: =C49 -> 21°43'17.70"S | D80: =D49 -> 54°16'36.10"W | E80: =E49 -> Simples | F80: =F49 -> 4.4 | G80: =G49 -> 10.6 | H80: =H49 -> 195.04 | ... T80: =T49 -> 0
A81: =A50 -> 10 | B81: =B50 -> CÓRREGO QUILOMBO | C81: =C50 -> 21°42'51.11''S | D81: =D50 -> 54°16'52.81''W | E81: =E50 -> Simples | F81: =F50 -> 4.4 | G81: =G50 -> 5.8 | H81: =H50 -> 106.72 | ... T81: =T50 -> 0
A82: =A51 -> 11 | B82: =B51 -> CÓRREGO SAPÉ | C82: =C51 -> 21°44'57.50"S | D82: =D51 -> 54°18'00.40"W | E82: =E51 -> Simples | F82: =F51 -> 4.4 | G82: =G51 -> 10.8 | H82: =H51 -> 198.72 | ... T82: =T51 -> 0
A83: =A52 -> 12 | B83: =B52 -> CÓRREGO JUREMA | C83: =C52 -> 21°47'02.84''S | D83: =D52 -> 54°14'35.61''W | E83: =E52 -> Simples | F83: =F52 -> 4.4 | G83: =G52 -> 7.1 | H83: =H52 -> 130.64 | ... T83: =T52 -> 0
... A97: =A66 -> 26 | B97: =B66 -> CÓRREGO PASSATEMPO 5 | C97: =C66 -> 21°29'57.99''S | D97: =D66 -> 54°43'07.39''W | E97: =E66 -> Simples | F97: =F66 -> 4.4 | G97: =G66 -> 22.3 | H97: =H66 -> 410.32 | ... T97: =T66 -> 0
A99: TOTAL | G99: =TRUNC(SUM(G72:G98),3) -> 335.7 | H99: =SUM(H72:H97) -> 6176.88 | I99: =SUM(I72:I97) -> 1611.36 | J99: =SUM(J72:J97) -> 537.12 | K99: =SUM(K72:K97) -> 0 | L99: =SUM(L72:L97) -> 1008 | M99: =SUM(M72:M97) -> 504 | N99: =SUM(N72:N97) -> 352.8 | O99: =SUM(O72:O97) -> 393.6 | ... T99: =SUM(T72:T97) -> 0
A101: Item | B101: Descrição / Local | H101: Madeira de Lei - Abaixo de 6,00m (m³)
B102: Ponte | C102: ='2 - Serviços'!$C$9 -> Latitude | D102: ='2 - Serviços'!$D$9 -> Longitude | E102: ='2 - Serviços'!$E$9 -> Vigamento | F102: ='2 - Serviços'!$F$9 -> Largura (m) | G102: ='2 - Serviços'!$G$9 -> Extensão (m) | H102: Assoalho | I102: Rodeiro | J102: G. Rodas | K102: G. Corpo | L102: Vigas | M102: S.Viga | N102: C.Aterro | O102: Esteios | P102: Trav. Sup. | Q102: Trav. Int. | R102: Trav. Inf. | S102: Contrav. | T102: =T71 -> Cravação
A103: =A72 -> 1 | B103: =B72 -> CÓRREGO DO CHINELO | C103: =C72 -> 21°53'30.35''S | D103: =D72 -> 54°35'16.91''W | E103: =E72 -> Simples | F103: =F72 -> 5 | G103: =G72 -> 13 | H103: 1.607424 | I103: 0.67392 | J103: 0.2808 | K103: 0 | L103: 1.575 | M103: 0.7875 | N103: 0.692 | O103: 1.08 | P103: 0.66 | Q103: 0 | R103: 0.44 | S103: 0.2976 | T103: 0.54
A104: =A73 -> 2 | B104: =B73 -> CÓRREGO AREIAS | C104: =C73 -> 21°48'55.89''S | D104: =D73 -> 54°32'36.89''W | E104: =E73 -> Simples | F104: =F73 -> 4.4 | G104: =G73 -> 6 | H104: 0.741888 | I104: 0.31104 | J104: 0.1296 | K104: 0 | L104: 0.9 | M104: 0.45 | N104: 0.6272 | O104: 0.72 | P104: 0.294 | Q104: 0 | R104: 0.196 | S104: 0.132 | T104: 0.36
A105: =A74 -> 3 | B105: =B74 -> CÓRREGO ARARAS | C105: =C74 -> 21°47'42.63''S | D105: =D74 -> 54°31'56.42''W | E105: =E74 -> Simples | F105: =F74 -> 4.8 | G105: =G74 -> 12 | H105: 1.483776 | I105: 0.62208 | J105: 0.2592 | K105: 0 | L105: 1.575 | M105: 0.7875 | N105: 0.6704 | O105: 1.08 | P105: 0.636 | Q105: 0 | R105: 0.424 | S105: 0.2832 | T105: 0.54
A106: =A75 -> 4 | B106: =B75 -> CÓRREGO FORMIGA | C106: =C75 -> 21°39'27.48''S | D106: =D75 -> 54°25'31.76''W | E106: =E75 -> Simples | F106: =F75 -> 4.4 | G106: =G75 -> 13.2 | H106: 1.628032 | I106: 0.68256 | J106: 0.2844 | K106: 0 | L106: 1.575 | M106: 0.7875 | N106: 0.6272 | O106: 1.08 | P106: 0.588 | Q106: 0 | R106: 0.392 | S106: 0.264 | T106: 0.54
A107: =A76 -> 5 | B107: =B76 -> CÓRREGO ANTINHA | C107: =C76 -> 21°38'42.22''S | D107: =D76 -> 54°27'12.82''W | E107: =E76 -> Simples | F107: =F76 -> 4.4 | G107: =G76 -> 7.2 | H107: 0.886144 | I107: 0.37152 | J107: 0.1548 | K107: 0 | L107: 0.9 | M107: 0.45 | N107: 0.6272 | O107: 0.72 | P107: 0.294 | Q107: 0 | R107: 0.196 | S107: 0.132 | T107: 0.36
A108: =A77 -> 6 | B108: =B77 -> CÓRREGO FORMIGA | C108: =C77 -> 21°38'56.23''S | D108: =D77 -> 54°25'01.82''W | E108: =E77 -> Simples | F108: =F77 -> 4.4 | G108: =G77 -> 12 | H108: 1.483776 | I108: 0.62208 | J108: 0.2592 | K108: 0 | L108: 1.575 | M108: 0.7875 | N108: 0.6272 | O108: 1.08 | P108: 0.588 | Q108: 0 | R108: 0.392 | S108: 0.264 | T108: 0.54
A109: =A78 -> 7 | B109: =B78 -> CÓRREGO QUILOMBO | C109: =C78 -> 21°42'14.33''S | D109: =D78 -> 54°20'39.58''W | E109: =E78 -> Simples | F109: =F78 -> 4.4 | G109: =G78 -> 6.8 | H109: 0.844928 | I109: 0.35424 | J109: 0.1476 | K109: 0 | L109: 0.9 | M109: 0.45 | N109: 0.6272 | O109: 0.72 | P109: 0.294 | Q109: 0 | R109: 0.196 | S109: 0.132 | T109: 0.36
A110: =A79 -> 8 | B110: =B79 -> ARROIO CORREGUINHO | C110: =C79 -> 21°42'39.87''S | D110: =D79 -> 54°18'52.81''W | E110: =E79 -> Simples | F110: =F79 -> 4.4 | G110: =G79 -> 5.8 | H110: 0.72128 | I110: 0.3024 | J110: 0.126 | K110: 0 | L110: 0.9 | M110: 0.45 | N110: 0.6272 | O110: 0.72 | P110: 0.294 | Q110: 0 | R110: 0.196 | S110: 0.132 | T110: 0.36
A111: =A80 -> 9 | B111: =B80 -> CÓRREGO GUATAMBU | C111: =C80 -> 21°43'17.70"S | D111: =D80 -> 54°16'36.10"W | E111: =E80 -> Simples | F111: =F80 -> 4.4 | G111: =G80 -> 10.6 | H111: 1.318912 | I111: 0.55296 | J111: 0.2304 | K111: 0 | L111: 1.575 | M111: 0.7875 | N111: 0.6272 | O111: 1.08 | P111: 0.588 | Q111: 0 | R111: 0.392 | S111: 0.264 | T111: 0.54
A112: =A81 -> 10 | B112: =B81 -> CÓRREGO QUILOMBO | C112: =C81 -> 21°42'51.11''S | D112: =D81 -> 54°16'52.81''W | E112: =E81 -> Simples | F112: =F81 -> 4.4 | G112: =G81 -> 5.8 | H112: 0.72128 | I112: 0.3024 | J112: 0.126 | K112: 0 | L112: 0.9 | M112: 0.45 | N112: 0.6272 | O112: 0.72 | P112: 0.294 | Q112: 0 | R112: 0.196 | S112: 0.132 | T112: 0.36
A113: =A82 -> 11 | B113: =B82 -> CÓRREGO SAPÉ | C113: =C82 -> 21°44'57.50"S | D113: =D82 -> 54°18'00.40"W | E113: =E82 -> Simples | F113: =F82 -> 4.4 | G113: =G82 -> 10.8 | H113: 1.33952 | I113: 0.5616 | J113: 0.234 | K113: 0 | L113: 1.575 | M113: 0.7875 | N113: 0.6272 | O113: 1.08 | P113: 0.588 | Q113: 0 | R113: 0.392 | S113: 0.264 | T113: 0.54
A114: =A83 -> 12 | B114: =B83 -> CÓRREGO JUREMA | C114: =C83 -> 21°47'02.84''S | D114: =D83 -> 54°14'35.61''W | E114: =E83 -> Simples | F114: =F83 -> 4.4 | G114: =G83 -> 7.1 | H114: 0.886144 | I114: 0.37152 | J114: 0.1548 | K114: 0 | L114: 0.9 | M114: 0.45 | N114: 0.6272 | O114: 0.72 | P114: 0.294 | Q114: 0 | R114: 0.196 | S114: 0.132 | T114: 0.36
... A128: =A97 -> 26 | B128: =B97 -> CÓRREGO PASSATEMPO 5 | C128: =C97 -> 21°29'57.99''S | D128: =D97 -> 54°43'07.39''W | E128: =E97 -> Simples | F128: =F97 -> 4.4 | G128: =G97 -> 22.3 | H128: 2.761472 | I128: 1.15776 | J128: 0.4824 | K128: 0 | L128: 3.15 | M128: 1.575 | N128: 0.6272 | O128: 1.8 | P128: 0.882 | Q128: 0 | R128: 0.588 | S128: 0.396 | T128: 0.9
A130: TOTAL | G130: =TRUNC(SUM(G103:G129),3) -> 335.7 | H130: 51.95792 | I130: 17.426 | J130: 7.261 | K130: 0 | L130: 45.45 | M130: 22.725 | N130: 16.652 | O130: 29.52 | P130: 14.889 | Q130: 0 | R130: 9.926 | S130: 6.682 | T130: 14.76
A131: TOTAL DE MADEIRA DE LEI (m³): | T131: 237.248
A133: Item | B133: Descrição / Local | H133: Bloco de Concreto Estrutural (m³) | O133: Sapata de Concreto Ciclópico (m³) | T133: Emendas | U133: Ponteira de Aço
B134: Ponte | C134: ='2 - Serviços'!$C$9 -> Latitude | D134: ='2 - Serviços'!$D$9 -> Longitude | E134: ='2 - Serviços'!$E$9 -> Vigamento | F134: ='2 - Serviços'!$F$9 -> Largura (m) | G134: ='2 - Serviços'!$G$9 -> Extensão (m) | H134: Altura (m) | I134: Largura (m) | J134: Comprimento (m) | K134: Seção (m²) | L134: Volume (m³) | M134: Formas | N134: Aço CA-50 | O134: Altura (m) | P134: Largura (m) | Q134: Comprimento (m) | R134: Seção (m²) | S134: Volume (m³) | T134: Unidades | U134: unidades
A135: =A103 -> 1 | B135: =B103 -> CÓRREGO DO CHINELO | C135: =C103 -> 21°53'30.35''S | D135: =D103 -> 54°35'16.91''W | E135: =E103 -> Simples | F135: =F103 -> 5 | G135: =G103 -> 13 | H135: 0 | I135: 0 | J135: 0 | K135: 0 | L135: 0 | M135: 0 | N135: 0 | O135: 0 | P135: 0 | Q135: 0 | R135: 0 | S135: 0 | T135: 1 | U135: ='2 - Serviços'!T142 -> 2
A136: =A104 -> 2 | B136: =B104 -> CÓRREGO AREIAS | C136: =C104 -> 21°48'55.89''S | D136: =D104 -> 54°32'36.89''W | E136: =E104 -> Simples | F136: =F104 -> 4.4 | G136: =G104 -> 6 | H136: 0 | I136: 0 | J136: 0 | K136: 0 | L136: 0 | M136: 0 | N136: 0 | O136: 0 | P136: 0 | Q136: 0 | R136: 0 | S136: 0 | T136: 1 | U136: ='2 - Serviços'!T143 -> 2
A137: =A105 -> 3 | B137: =B105 -> CÓRREGO ARARAS | C137: =C105 -> 21°47'42.63''S | D137: =D105 -> 54°31'56.42''W | E137: =E105 -> Simples | F137: =F105 -> 4.8 | G137: =G105 -> 12 | H137: 0 | I137: 0 | J137: 0 | K137: 0 | L137: 0 | M137: 0 | N137: 0 | O137: 0 | P137: 0 | Q137: 0 | R137: 0 | S137: 0 | T137: 1 | U137: ='2 - Serviços'!T144 -> 2
A138: =A106 -> 4 | B138: =B106 -> CÓRREGO FORMIGA | C138: =C106 -> 21°39'27.48''S | D138: =D106 -> 54°25'31.76''W | E138: =E106 -> Simples | F138: =F106 -> 4.4 | G138: =G106 -> 13.2 | H138: 0 | I138: 0 | J138: 0 | K138: 0 | L138: 0 | M138: 0 | N138: 0 | O138: 0 | P138: 0 | Q138: 0 | R138: 0 | S138: 0 | T138: 1 | U138: ='2 - Serviços'!T145 -> 2
A139: =A107 -> 5 | B139: =B107 -> CÓRREGO ANTINHA | C139: =C107 -> 21°38'42.22''S | D139: =D107 -> 54°27'12.82''W | E139: =E107 -> Simples | F139: =F107 -> 4.4 | G139: =G107 -> 7.2 | H139: 0 | I139: 0 | J139: 0 | K139: 0 | L139: 0 | M139: 0 | N139: 0 | O139: 0 | P139: 0 | Q139: 0 | R139: 0 | S139: 0 | T139: 1 | U139: ='2 - Serviços'!T146 -> 2
A140: =A108 -> 6 | B140: =B108 -> CÓRREGO FORMIGA | C140: =C108 -> 21°38'56.23''S | D140: =D108 -> 54°25'01.82''W | E140: =E108 -> Simples | F140: =F108 -> 4.4 | G140: =G108 -> 12 | H140: 0 | I140: 0 | J140: 0 | K140: 0 | L140: 0 | M140: 0 | N140: 0 | O140: 0 | P140: 0 | Q140: 0 | R140: 0 | S140: 0 | T140: 1 | U140: ='2 - Serviços'!T147 -> 2
A141: =A109 -> 7 | B141: =B109 -> CÓRREGO QUILOMBO | C141: =C109 -> 21°42'14.33''S | D141: =D109 -> 54°20'39.58''W | E141: =E109 -> Simples | F141: =F109 -> 4.4 | G141: =G109 -> 6.8 | H141: 0 | I141: 0 | J141: 0 | K141: 0 | L141: 0 | M141: 0 | N141: 0 | O141: 0 | P141: 0 | Q141: 0 | R141: 0 | S141: 0 | T141: 1 | U141: ='2 - Serviços'!T148 -> 2
A142: =A110 -> 8 | B142: =B110 -> ARROIO CORREGUINHO | C142: =C110 -> 21°42'39.87''S | D142: =D110 -> 54°18'52.81''W | E142: =E110 -> Simples | F142: =F110 -> 4.4 | G142: =G110 -> 5.8 | H142: 0 | I142: 0 | J142: 0 | K142: 0 | L142: 0 | M142: 0 | N142: 0 | O142: 0 | P142: 0 | Q142: 0 | R142: 0 | S142: 0 | T142: 1 | U142: ='2 - Serviços'!T149 -> 2
A143: =A111 -> 9 | B143: =B111 -> CÓRREGO GUATAMBU | C143: =C111 -> 21°43'17.70"S | D143: =D111 -> 54°16'36.10"W | E143: =E111 -> Simples | F143: =F111 -> 4.4 | G143: =G111 -> 10.6 | H143: 0 | I143: 0 | J143: 0 | K143: 0 | L143: 0 | M143: 0 | N143: 0 | O143: 0 | P143: 0 | Q143: 0 | R143: 0 | S143: 0 | T143: 1 | U143: ='2 - Serviços'!T150 -> 2
A144: =A112 -> 10 | B144: =B112 -> CÓRREGO QUILOMBO | C144: =C112 -> 21°42'51.11''S | D144: =D112 -> 54°16'52.81''W | E144: =E112 -> Simples | F144: =F112 -> 4.4 | G144: =G112 -> 5.8 | H144: 0 | I144: 0 | J144: 0 | K144: 0 | L144: 0 | M144: 0 | N144: 0 | O144: 0 | P144: 0 | Q144: 0 | R144: 0 | S144: 0 | T144: 1 | U144: ='2 - Serviços'!T151 -> 2
A145: =A113 -> 11 | B145: =B113 -> CÓRREGO SAPÉ | C145: =C113 -> 21°44'57.50"S | D145: =D113 -> 54°18'00.40"W | E145: =E113 -> Simples | F145: =F113 -> 4.4 | G145: =G113 -> 10.8 | H145: 0 | I145: 0 | J145: 0 | K145: 0 | L145: 0 | M145: 0 | N145: 0 | O145: 0 | P145: 0 | Q145: 0 | R145: 0 | S145: 0 | T145: 1 | U145: ='2 - Serviços'!T152 -> 2
A146: =A114 -> 12 | B146: =B114 -> CÓRREGO JUREMA | C146: =C114 -> 21°47'02.84''S | D146: =D114 -> 54°14'35.61''W | E146: =E114 -> Simples | F146: =F114 -> 4.4 | G146: =G114 -> 7.1 | H146: 0 | I146: 0 | J146: 0 | K146: 0 | L146: 0 | M146: 0 | N146: 0 | O146: 0 | P146: 0 | Q146: 0 | R146: 0 | S146: 0 | T146: 1 | U146: ='2 - Serviços'!T153 -> 2
... A160: =A128 -> 26 | B160: =B128 -> CÓRREGO PASSATEMPO 5 | C160: =C128 -> 21°29'57.99''S | D160: =D128 -> 54°43'07.39''W | E160: =E128 -> Simples | F160: =F128 -> 4.4 | G160: =G128 -> 22.3 | H160: 0 | I160: 0 | J160: 0 | K160: 0 | L160: 0 | M160: 0 | N160: 0 | O160: 0 | P160: 0 | Q160: 0 | R160: 0 | S160: 0 | T160: 1 | U160: ='2 - Serviços'!T167 -> 2
A162: TOTAL | G162: =TRUNC(SUM(G135:G161),3) -> 335.7 | H162: 0 | I162: 0 | J162: 0 | K162: 0 | L162: 0 | M162: 0 | N162: 0 | O162: 0 | P162: 0 | Q162: 0 | R162: 0 | S162: 0 | T162: =SUM(T135:T160) -> 26 | U162: =SUM(U135:U160) -> 65

Sheet 4 - Resumo de Ferragem
A1: ='1 - Inventário'!A1:M1 -> OBJETO: MANUTENÇÃO E CONSERVAÇÃO DAS PONTES DE MADEIRA NAS RODOVIAS QUE FAZEM PARTE DA MALHA RODOVIÁRIA NÃO PAVIMENTADA DO MUNICÍPIO DE RIO BRILHANTE/MS
A2: ='1 - Inventário'!A2:M2 -> LOCAL: RIO BRILHANTE/MS
A3: ='1 - Inventário'!A3:M3 -> PRAZO: 365 (dias)
A4: ='1 - Inventário'!A4:M4 -> PROCESSO:
A6: ='2 - Serviços'!A7:S7 -> MANUTENÇÃO E CONSERVAÇÃO DAS PONTES DE MADEIRA
A7: Serviços: Aquisição e Instalação de Ferragem de Ponte
A8: Item | B8: Descrição / Local | H8: Ferragem (kg) | O8: Porcas e Arruelas
B9: ='2 - Serviços'!$B$9 -> Ponte | C9: ='2 - Serviços'!$C$9 -> Latitude | D9: ='2 - Serviços'!$D$9 -> Longitude | E9: ='2 - Serviços'!$E$9 -> Vigamento | F9: ='2 - Serviços'!$F$9 -> Largura (m) | G9: ='2 - Serviços'!$G$9 -> Extensão (m) | H9: Ferro Mec. 1" | I9: Ferro Mec. 1/2" | J9: Ferro Mec. 3/8" | K9: Chapa 1/2" | L9: Prego 26x72 | M9: Prego 24x60 | N9: Total (kg) | O9: Porca e Arruela 1" | P9: Porca e Arruela 1/2" | Q9: Porca e Arruela 3/8" | R9: Total (un) | S9: Total (kg) | U9: FERRAGENS (kg/metro de peça)
A10: ='3 - Memoria de Cálculo'!A10 -> 1 | B10: ='3 - Memoria de Cálculo'!B10 -> CÓRREGO DO CHINELO | C10: ='3 - Memoria de Cálculo'!C10 -> 21°53'30.35''S | D10: ='3 - Memoria de Cálculo'!D10 -> 54°35'16.91''W | E10: ='3 - Memoria de Cálculo'!E10 -> Simples | F10: ='3 - Memoria de Cálculo'!F10 -> 5 | G10: ='3 - Memoria de Cálculo'!G10 -> 13 | H10: 94.293798 | I10: 33.780096 | J10: 1.1633014 | K10: 22 | L10: 21.608124 | M10: 4.45536 | N10: 177.3 | O10: 73 | P10: 17 | Q10: 8 | R10: 98 | S10: 12.25 | Y10: Assoalho | Z10: Rodeiro | AA10: G. Rodas | AB10: G. Corpo | AC10: V. Simples | AD10: Sub. Vigas | AE10: Cx. Aterro | AF10: Esteio | AG10: Trav. Sup | AH10: Trav.Interm | AI10: Trav. Infe | AJ10: Contra. | AK10: Emenda
A11: ='3 - Memoria de Cálculo'!A11 -> 2 | B11: ='3 - Memoria de Cálculo'!B11 -> CÓRREGO AREIAS | C11: ='3 - Memoria de Cálculo'!C11 -> 21°48'55.89''S | D11: ='3 - Memoria de Cálculo'!D11 -> 54°32'36.89''W | E11: ='3 - Memoria de Cálculo'!E11 -> Simples | F11: ='3 - Memoria de Cálculo'!F11 -> 4.4 | G11: ='3 - Memoria de Cálculo'!G11 -> 6 | H11: 49.585444 | I11: 28.436352 | J11: 0.53690832 | K11: 22 | L11: 12.486888 | M11: 2.05632 | N11: 115.101 | O11: 39 | P11: 8 | Q11: 3 | R11: 50 | S11: 6.25 | U11: Aquisição de ferro mecanico redondo 1" | AD11: 5.0917604 | AG11: 1.145664 | AH11: 1.145664 | AI11: 1.1934 | AJ11: 1.8805796 | AK11: 7.956
A12: ='3 - Memoria de Cálculo'!A12 -> 3 | B12: ='3 - Memoria de Cálculo'!B12 -> CÓRREGO ARARAS | C12: ='3 - Memoria de Cálculo'!C12 -> 21°47'42.63''S | D12: ='3 - Memoria de Cálculo'!D12 -> 54°31'56.42''W | E12: ='3 - Memoria de Cálculo'!E12 -> Simples | F12: ='3 - Memoria de Cálculo'!F12 -> 4.8 | G12: ='3 - Memoria de Cálculo'!G12 -> 12 | H12: 92.642619 | I12: 33.016704 | J12: 1.0738166 | K12: 22 | L12: 20.167776 | M12: 4.11264 | N12: 173.013 | O12: 72 | P12: 16 | Q12: 7 | R12: 95 | S12: 11.875 | U12: Aquisição de ferro mecanico redondo 1/2" | Z12: 0.26506667 | AE12: 11.928
A13: ='3 - Memoria de Cálculo'!A13 -> 4 | B13: ='3 - Memoria de Cálculo'!B13 -> CÓRREGO FORMIGA | C13: ='3 - Memoria de Cálculo'!C13 -> 21°39'27.48''S | D13: ='3 - Memoria de Cálculo'!D13 -> 54°25'31.76''W | E13: ='3 - Memoria de Cálculo'!E13 -> Simples | F13: ='3 - Memoria de Cálculo'!F13 -> 4.4 | G13: ='3 - Memoria de Cálculo'!G13 -> 13.2 | H13: 89.942047 | I13: 33.907328 | J13: 1.1782155 | K13: 22 | L13: 21.087232 | M13: 4.51248 | N13: 172.627 | O13: 70 | P13: 17 | Q13: 8 | R13: 95 | S13: 11.875 | U13: Aquisição de ferro mecanico redondo 3/8" | AA13: 0.09321325 | AB13: 0.1631721
A14: ='3 - Memoria de Cálculo'!A14 -> 5 | B14: ='3 - Memoria de Cálculo'!B14 -> CÓRREGO ANTINHA | C14: ='3 - Memoria de Cálculo'!C14 -> 21°38'42.22''S | D14: ='3 - Memoria de Cálculo'!D14 -> 54°27'12.82''W | E14: ='3 - Memoria de Cálculo'!E14 -> Simples | F14: ='3 - Memoria de Cálculo'!F14 -> 4.4 | G14: ='3 - Memoria de Cálculo'!G14 -> 7.2 | H14: 49.585444 | I14: 29.326976 | J14: 0.64130716 | K14: 22 | L14: 13.886944 | M14: 2.45616 | N14: 117.896 | O14: 39 | P14: 10 | Q14: 4 | R14: 53 | S14: 6.625 | U14: Aquisição de chapa metálica ASTM A-36 1/2" | AK14: 22
A15: ='3 - Memoria de Cálculo'!A15 -> 6 | B15: ='3 - Memoria de Cálculo'!B15 -> CÓRREGO FORMIGA | C15: ='3 - Memoria de Cálculo'!C15 -> 21°38'56.23''S | D15: ='3 - Memoria de Cálculo'!D15 -> 54°25'01.82''W | E15: ='3 - Memoria de Cálculo'!E15 -> Simples | F15: ='3 - Memoria de Cálculo'!F15 -> 4.4 | G15: ='3 - Memoria de Cálculo'!G15 -> 12 | H15: 89.942047 | I15: 33.016704 | J15: 1.0738166 | K15: 22 | L15: 19.687176 | M15: 4.11264 | N15: 169.832 | O15: 70 | P15: 16 | Q15: 7 | R15: 93 | S15: 11.625 | U15: Aquisição de porca e arruela lisa 1" | AD15: 0.5 | AG15: 0.1 | AH15: 0.1 | AI15: 0.1 | AJ15: 0.17875 | AK15: 1.25
A16: ='3 - Memoria de Cálculo'!A16 -> 7 | B16: ='3 - Memoria de Cálculo'!B16 -> CÓRREGO QUILOMBO | C16: ='3 - Memoria de Cálculo'!C16 -> 21°42'14.33''S | D16: ='3 - Memoria de Cálculo'!D16 -> 54°20'39.58''W | E16: ='3 - Memoria de Cálculo'!E16 -> Simples | F16: ='3 - Memoria de Cálculo'!F16 -> 4.4 | G16: ='3 - Memoria de Cálculo'!G16 -> 6.8 | H16: 49.585444 | I16: 29.072512 | J16: 0.61147892 | K16: 22 | L16: 13.486928 | M16: 2.34192 | N16: 117.098 | O16: 39 | P16: 9 | Q16: 4 | R16: 52 | S16: 6.5 | U16: Aquisição de porca e arruela lisa 1/2" | Z16: 0.0555
A17: ='3 - Memoria de Cálculo'!A17 -> 8 | B17: ='3 - Memoria de Cálculo'!B17 -> ARROIO CORREGUINHO | C17: ='3 - Memoria de Cálculo'!C17 -> 21°42'39.87''S | D17: ='3 - Memoria de Cálculo'!D17 -> 54°18'52.81''W | E17: ='3 - Memoria de Cálculo'!E17 -> Simples | F17: ='3 - Memoria de Cálculo'!F17 -> 4.4 | G17: ='3 - Memoria de Cálculo'!G17 -> 5.8 | H17: 49.585444 | I17: 28.30912 | J17: 0.5219942 | K17: 22 | L17: 12.28688 | M17: 1.9992 | N17: 114.702 | O17: 39 | P17: 8 | Q17: 3 | R17: 50 | S17: 6.25 | U17: Aquisição de porca e arruela lisa 3/8" | AA17: 0.083375 | AB17: 0.2085
A18: ='3 - Memoria de Cálculo'!A18 -> 9 | B18: ='3 - Memoria de Cálculo'!B18 -> CÓRREGO GUATAMBU | C18: ='3 - Memoria de Cálculo'!C18 -> 21°43'17.70"S | D18: ='3 - Memoria de Cálculo'!D18 -> 54°16'36.10"W | E18: ='3 - Memoria de Cálculo'!E18 -> Simples | F18: ='3 - Memoria de Cálculo'!F18 -> 4.4 | G18: ='3 - Memoria de Cálculo'!G18 -> 10.6 | H18: 89.942047 | I18: 31.998848 | J18: 0.95450368 | K18: 22 | L18: 18.087112 | M18: 3.65568 | N18: 166.638 | O18: 70 | P18: 14 | Q18: 6 | R18: 90 | S18: 11.25 | U18: Prego 26x72 | Y18: 0.1087 | AE18: 0.267
A19: ='3 - Memoria de Cálculo'!A19 -> 10 | B19: ='3 - Memoria de Cálculo'!B19 -> CÓRREGO QUILOMBO | C19: ='3 - Memoria de Cálculo'!C19 -> 21°42'51.11''S | D19: ='3 - Memoria de Cálculo'!D19 -> 54°16'52.81''W | E19: ='3 - Memoria de Cálculo'!E19 -> Simples | F19: ='3 - Memoria de Cálculo'!F19 -> 4.4 | G19: ='3 - Memoria de Cálculo'!G19 -> 5.8 | H19: 49.585444 | I19: 28.30912 | J19: 0.5219942 | K19: 22 | L19: 12.28688 | M19: 1.9992 | N19: 114.702 | O19: 39 | P19: 8 | Q19: 3 | R19: 50 | S19: 6.25 | U19: Prego 24x60 | Z19: 0.119 | AB19: 0.0238
A20: ='3 - Memoria de Cálculo'!A20 -> 11 | B20: ='3 - Memoria de Cálculo'!B20 -> CÓRREGO SAPÉ | C20: ='3 - Memoria de Cálculo'!C20 -> 21°44'57.50"S | D20: ='3 - Memoria de Cálculo'!D20 -> 54°18'00.40"W | E20: ='3 - Memoria de Cálculo'!E20 -> Simples | F20: ='3 - Memoria de Cálculo'!F20 -> 4.4 | G20: ='3 - Memoria de Cálculo'!G20 -> 10.8 | H20: 89.942047 | I20: 32.12608 | J20: 0.9694178 | K20: 22 | L20: 18.28712 | M20: 3.7128 | N20: 167.037 | O20: 70 | P20: 14 | Q20: 6 | R20: 90 | S20: 11.25
A21: ='3 - Memoria de Cálculo'!A21 -> 12 | B21: ='3 - Memoria de Cálculo'!B21 -> CÓRREGO JUREMA | C21: ='3 - Memoria de Cálculo'!C21 -> 21°47'02.84''S | D21: ='3 - Memoria de Cálculo'!D21 -> 54°14'35.61''W | E21: ='3 - Memoria de Cálculo'!E21 -> Simples | F21: ='3 - Memoria de Cálculo'!F21 -> 4.4 | G21: ='3 - Memoria de Cálculo'!G21 -> 7.1 | H21: 49.585444 | I21: 29.326976 | J21: 0.64130716 | K21: 22 | L21: 13.886944 | M21: 2.45616 | N21: 117.896 | O21: 39 | P21: 10 | Q21: 4 | R21: 53 | S21: 6.625 | U21: FERRAGENS (un/metro de peça)
A22: ='3 - Memoria de Cálculo'!A22 -> 13 | B22: ='3 - Memoria de Cálculo'!B22 -> CÓRREGO ARACI | C22: ='3 - Memoria de Cálculo'!C22 -> 21°45'04.33''S | D22: ='3 - Memoria de Cálculo'!D22 -> 54°12'41.25''W | E22: ='3 - Memoria de Cálculo'!E22 -> Simples | F22: ='3 - Memoria de Cálculo'!F22 -> 4.4 | G22: ='3 - Memoria de Cálculo'!G22 -> 6.4 | H22: 49.585444 | I22: 28.690816 | J22: 0.56673656 | K22: 22 | L22: 12.886904 | M22: 2.17056 | N22: 115.9 | O22: 39 | P22: 9 | Q22: 4 | R22: 52 | S22: 6.5 | Y22: Assoalho | Z22: Rodeiro | AA22: G. Rodas | AB22: G. Corpo | AC22: V. Simples | AD22: Sub. Vigas | AE22: Cx. Aterro | AF22: Esteio | AG22: Trav. Sup | AH22: Trav.Interm | AI22: Trav. Infe | AJ22: Contra. | AK22: Fundação
A23: ='3 - Memoria de Cálculo'!A23 -> 14 | B23: ='3 - Memoria de Cálculo'!B23 -> CÓRREGO ANHUMAS | C23: ='3 - Memoria de Cálculo'!C23 -> 21°51'40.49''S | D23: ='3 - Memoria de Cálculo'!D23 -> 54°08'14.26''W | E23: ='3 - Memoria de Cálculo'!E23 -> Simples | F23: ='3 - Memoria de Cálculo'!F23 -> 4.4 | G23: ='3 - Memoria de Cálculo'!G23 -> 11.8 | H23: 89.942047 | I23: 32.889472 | J23: 1.0589025 | K23: 22 | L23: 19.487168 | M23: 4.05552 | N23: 169.433 | O23: 70 | P23: 16 | Q23: 7 | R23: 93 | S23: 11.625 | U23: Aquisição de ferro mecanico redondo 1" | AD23: 2 | AG23: 0.4 | AH23: 0.4 | AI23: 0.4 | AJ23: 0.7273 | AK23: 5
A24: ='3 - Memoria de Cálculo'!A24 -> 15 | B24: ='3 - Memoria de Cálculo'!B24 -> CÓRREGO CHIFRE DO VIADO | C24: ='3 - Memoria de Cálculo'!C24 -> 21°40'35.65''S | D24: ='3 - Memoria de Cálculo'!D24 -> 54°56'15.44''W | E24: ='3 - Memoria de Cálculo'!E24 -> Simples | F24: ='3 - Memoria de Cálculo'!F24 -> 5 | G24: ='3 - Memoria de Cálculo'!G24 -> 12 | H24: 94.293798 | I24: 33.016704 | J24: 1.0738166 | K24: 22 | L24: 20.408076 | M24: 4.11264 | N24: 174.905 | O24: 73 | P24: 16 | Q24: 7 | R24: 96 | S24: 12 | U24: Aquisição de ferro mecanico redondo 1/2" | Z24: 0.222 | AE24: 1
A25: ='3 - Memoria de Cálculo'!A25 -> 16 | B25: ='3 - Memoria de Cálculo'!B25 -> CÓRREGO SANTA RITA | C25: ='3 - Memoria de Cálculo'!C25 -> 21°33'23.75''S | D25: ='3 - Memoria de Cálculo'!D25 -> 54°35'26.66''W | E25: ='3 - Memoria de Cálculo'!E25 -> Simples | F25: ='3 - Memoria de Cálculo'!F25 -> 4.4 | G25: ='3 - Memoria de Cálculo'!G25 -> 22.1 | H25: 160.84921 | I25: 40.777856 | J25: 1.983578 | K25: 22 | L25: 31.887664 | M25: 7.59696 | N25: 265.095 | O25: 124 | P25: 29 | Q25: 14 | R25: 167 | S25: 20.875 | U25: Aquisição de ferro mecanico redondo 3/8" | AA25: 0.667 | AB25: 0.834
A26: ='3 - Memoria de Cálculo'!A26 -> 17 | B26: ='3 - Memoria de Cálculo'!B26 -> RIO SERROTE | C26: ='3 - Memoria de Cálculo'!C26 -> 21°25'01.14''S | D26: ='3 - Memoria de Cálculo'!D26 -> 54°43'16.96''W | E26: ='3 - Memoria de Cálculo'!E26 -> Simples | F26: ='3 - Memoria de Cálculo'!F26 -> 4.4 | G26: ='3 - Memoria de Cálculo'!G26 -> 24.6 | H26: 160.84921 | I26: 42.686336 | J26: 2.2072898 | K26: 22 | L26: 34.887784 | M26: 8.45376 | N26: 271.084 | O26: 124 | P26: 32 | Q26: 15 | R26: 171 | S26: 21.375 | U26: Aquisição de chapa metálica ASTM A-36 1/2" | AK26: 2
A27: ='3 - Memoria de Cálculo'!A27 -> 18 | B27: ='3 - Memoria de Cálculo'!B27 -> CÓRREGO PASSATEMPO 1 | C27: ='3 - Memoria de Cálculo'!C27 -> 21°29'34.92''S | D27: ='3 - Memoria de Cálculo'!D27 -> 54°49'18.44''W | E27: ='3 - Memoria de Cálculo'!E27 -> Simples | F27: ='3 - Memoria de Cálculo'!F27 -> 4.4 | G27: ='3 - Memoria de Cálculo'!G27 -> 16.4 | H27: 129.21445 | I27: 36.324736 | J27: 1.4615838 | K27: 22 | L27: 24.887384 | M27: 5.59776 | N27: 219.485 | O27: 100 | P27: 21 | Q27: 10 | R27: 131 | S27: 16.375 | U27: Aquisição de porca e arruela lisa 1" | AD27: 4 | AG27: 0.8 | AH27: 0.8 | AI27: 0.8 | AJ27: 1.43 | AK27: 10
A28: ='3 - Memoria de Cálculo'!A28 -> 19 | B28: ='3 - Memoria de Cálculo'!B28 -> CÓRREGO PASSATEMPO 2 | C28: ='3 - Memoria de Cálculo'!C28 -> 21°29'33.39''S | D28: ='3 - Memoria de Cálculo'!D28 -> 54°49'17.44''W | E28: ='3 - Memoria de Cálculo'!E28 -> Simples | F28: ='3 - Memoria de Cálculo'!F28 -> 4.4 | G28: ='3 - Memoria de Cálculo'!G28 -> 19.6 | H28: 129.21445 | I28: 38.869376 | J28: 1.7598662 | K28: 22 | L28: 28.887544 | M28: 6.74016 | N28: 227.471 | O28: 100 | P28: 26 | Q28: 12 | R28: 138 | S28: 17.25 | U28: Aquisição de porca e arruela lisa 1/2" | Z28: 0.444
A29: ='3 - Memoria de Cálculo'!A29 -> 20 | B29: ='3 - Memoria de Cálculo'!B29 -> CÓRREGO PASSATEMPO 3 | C29: ='3 - Memoria de Cálculo'!C29 -> 21°28'09.42''S | D29: ='3 - Memoria de Cálculo'!D29 -> 54°48'01.11''W | E29: ='3 - Memoria de Cálculo'!E29 -> Simples | F29: ='3 - Memoria de Cálculo'!F29 -> 5 | G29: ='3 - Memoria de Cálculo'!G29 -> 6 | H29: 51.761319 | I29: 28.436352 | J29: 0.53690832 | K29: 22 | L29: 13.207788 | M29: 2.05632 | N29: 117.998 | O29: 41 | P29: 8 | Q29: 3 | R29: 52 | S29: 6.5 | U29: Aquisição de porca e arruela lisa 3/8" | AA29: 0.667 | AB29: 1.668
A30: ='3 - Memoria de Cálculo'!A30 -> 21 | B30: ='3 - Memoria de Cálculo'!B30 -> CÓRREGO TAQUARA | C30: ='3 - Memoria de Cálculo'!C30 -> 21°21'07.90''S | D30: ='3 - Memoria de Cálculo'!D30 -> 54°50'07.01''W | E30: ='3 - Memoria de Cálculo'!E30 -> Simples | F30: ='3 - Memoria de Cálculo'!F30 -> 4.8 | G30: ='3 - Memoria de Cálculo'!G30 -> 24 | H30: 164.90007 | I30: 42.177408 | J30: 2.1476333 | K30: 22 | L30: 34.568352 | M30: 8.22528 | N30: 274.018 | O30: 127 | P30: 31 | Q30: 15 | R30: 173 | S30: 21.625 | U30: Prego 26x72 | Y30: 1.3046 | AE30: 1.1944444
A31: ='3 - Memoria de Cálculo'!A31 -> 22 | B31: ='3 - Memoria de Cálculo'!B31 -> CÓRREGO PASSATEMPO 4 | C31: ='3 - Memoria de Cálculo'!C31 -> 21°29'23.36''S | D31: ='3 - Memoria de Cálculo'!D31 -> 54°52'56.83''W | E31: ='3 - Memoria de Cálculo'!E31 -> Simples | F31: ='3 - Memoria de Cálculo'!F31 -> 4.4 | G31: ='3 - Memoria de Cálculo'!G31 -> 14.3 | H31: 89.942047 | I31: 34.797952 | J31: 1.2826143 | K31: 22 | L31: 22.487288 | M31: 4.91232 | N31: 175.422 | O31: 70 | P31: 19 | Q31: 9 | R31: 98 | S31: 12.25 | U31: Prego 24x60 | Z31: 3.3333333 | AB31: 0.66666667
A32: ='3 - Memoria de Cálculo'!A32 -> 23 | B32: ='3 - Memoria de Cálculo'!B32 -> CÓRREGO DO COQUEIRO | C32: ='3 - Memoria de Cálculo'!C32 -> 21°30'51.74''S | D32: ='3 - Memoria de Cálculo'!D32 -> 54°52'00.30''W | E32: ='3 - Memoria de Cálculo'!E32 -> Simples | F32: ='3 - Memoria de Cálculo'!F32 -> 4.4 | G32: ='3 - Memoria de Cálculo'!G32 -> 22.3 | H32: 160.84921 | I32: 40.905088 | J32: 1.9984921 | K32: 22 | L32: 32.087672 | M32: 7.65408 | N32: 265.494 | O32: 124 | P32: 29 | Q32: 14 | R32: 167 | S32: 20.875
A33: ='3 - Memoria de Cálculo'!A33 -> 24 | B33: ='3 - Memoria de Cálculo'!B33 -> CÓRREGO CARRAPATO | C33: ='3 - Memoria de Cálculo'!C33 -> 21°32'42.64''S | D33: ='3 - Memoria de Cálculo'!D33 -> 55°00'59.87''W | E33: ='3 - Memoria de Cálculo'!E33 -> Simples | F33: ='3 - Memoria de Cálculo'!F33 -> 4.4 | G33: ='3 - Memoria de Cálculo'!G33 -> 18 | H33: 129.21445 | I33: 37.597056 | J33: 1.610725 | K33: 22 | L33: 26.887464 | M33: 6.16896 | N33: 223.478 | O33: 100 | P33: 24 | Q33: 11 | R33: 135 | S33: 16.875
A34: ='3 - Memoria de Cálculo'!A34 -> 25 | B34: ='3 - Memoria de Cálculo'!B34 -> CÓRREGO BARRA MANSA | C34: ='3 - Memoria de Cálculo'!C34 -> 21°45'26.00"S | D34: ='3 - Memoria de Cálculo'!D34 -> 54°10'16.90"W | E34: ='3 - Memoria de Cálculo'!E34 -> Simples | F34: ='3 - Memoria de Cálculo'!F34 -> 5 | G34: ='3 - Memoria de Cálculo'!G34 -> 5.6 | H34: 51.761319 | I34: 28.181888 | J34: 0.50708008 | K34: 22 | L34: 12.807772 | M34: 1.94208 | N34: 117.2 | O34: 41 | P34: 8 | Q34: 3 | R34: 52 | S34: 6.5
A35: ='3 - Memoria de Cálculo'!A35 -> 26 | B35: ='3 - Memoria de Cálculo'!B35 -> CÓRREGO PASSATEMPO 5 | C35: ='3 - Memoria de Cálculo'!C35 -> 21°29'57.99''S | D35: ='3 - Memoria de Cálculo'!D35 -> 54°43'07.39''W | E35: ='3 - Memoria de Cálculo'!E35 -> Simples | F35: ='3 - Memoria de Cálculo'!F35 -> 4.4 | G35: ='3 - Memoria de Cálculo'!G35 -> 22.3 | H35: 160.84921 | I35: 40.905088 | J35: 1.9984921 | K35: 22 | L35: 32.087672 | M35: 7.65408 | N35: 265.494 | O35: 124 | P35: 29 | Q35: 14 | R35: 167 | S35: 20.875
A37: TOTAL AQUISIÇÃO: | H37: 2467.443 | I37: 876.882 | J37: 30.081 | K37: 572 | L37: 544.712 | M37: 115.211 | N37: 4606.319 | O37: 1916 | P37: 444 | Q37: 201 | R37: 2561 | S37: 320.125
A38: TOTAL INSTALAÇÃO: | S38: 4926.444

Sheet Ferragem - Simples
C1: ='2 - Serviços'!C1:K5 -> 0 | M1: ='2 - Serviços'!M1 -> 0
A6: Serviços: Aquisição de Ferragem de Ponte - Vigamento Simples | T6: FERRAGENS (kg/metro de peça)
X7: Assoalho | Y7: Rodeiro | Z7: G. Rodas | AA7: G. Corpo | AB7: V. Simples | AC7: Sub. Vigas | AD7: Cx. Aterro | AE7: Esteio | AF7: Trav. Sup | AG7: Trav.Interm | AH7: Trav. Infe | AI7: Contra. | AJ7: Fundação
A8: ='2 - Serviços'!$A$7 -> MANUTENÇÃO E CONSERVAÇÃO DAS PONTES DE MADEIRA | T8: Aquisição de ferro mecanico redondo 1" | AC8: =(1.333*3.978*0.66)+(0.667*3.978*0.6) -> 5.0917604 | AF8: =0.4*3.978*0.72 -> 1.145664 | AG8: =AF8 -> 1.145664 | AH8: =0.4*3.978*0.75 -> 1.1934 | AI8: =0.7273*3.978*0.65 -> 1.8805796 | AJ8: =5*3.978*0.4 -> 7.956
A9: ITEM | B9: PONTE | F9: RODOVIA | G9: MUNICÍPIO | J9: LATITUDE | M9: LONGITUDE | P9: EXTENSÃO | T9: Aquisição de ferro mecanico redondo 1/2" | Y9: =(8*1.2*0.994)/36 -> 0.26506667 | AD9: =12*1*0.994 -> 11.928
A10: ='4 - Resumo de Ferragem'!#REF! -> #REF! | B10: ='4 - Resumo de Ferragem'!#REF! -> #REF! | F10: ='4 - Resumo de Ferragem'!#REF! -> #REF! | G10: ='4 - Resumo de Ferragem'!#REF! -> #REF! | J10: ='4 - Resumo de Ferragem'!#REF! -> #REF! | M10: ='4 - Resumo de Ferragem'!#REF! -> #REF! | P10: ='4 - Resumo de Ferragem'!#REF! -> #REF! | T10: Aquisição de ferro mecanico redondo 3/8" | Z10: =0.667*0.559*0.25 -> 0.09321325 | AA10: =(0.167*0.559*0.35)+(0.667*0.559*0.35) -> 0.1631721
A11: AQUISIÇÃO | C11: Assoalho | D11: Rodeiro | E11: G. Rodas | F11: G. Corpo | G11: V. Simples | H11: Sub. Vigas | I11: Cx. Aterro | J11: Esteio | K11: Trav. Sup | L11: Trav.Interm | M11: Trav. Infe | N11: Contrav. | O11: Fundação | P11: TOTAL | Q11: INSTALAÇÃO (kg) | T11: Aquisição de ferro mecanico redondo 1/4" | AA11: =0.167*0.248*0.12 -> 0.00496992
A12: Ferro Mecânico 1'' (kg) | H12: ='3 - Memoria de Cálculo'!#REF!*$AC$8 -> #REF! | K12: ='3 - Memoria de Cálculo'!#REF!*$AF$8 -> #REF! | L12: ='3 - Memoria de Cálculo'!#REF!*$AG$8 -> #REF! | M12: ='3 - Memoria de Cálculo'!#REF!*$AH$8 -> #REF! | N12: ='3 - Memoria de Cálculo'!#REF!*$AI$8 -> #REF! | O12: ='2 - Serviços'!#REF!*$AJ$8 -> #REF! | P12: =SUM(C12:O12) -> #REF! | Q12: =P12 -> #REF! | T12: Aquisição de chapa metálica ASTM A-36 3/8"
A13: Ferro Mecânico 1/2'' (kg) | D13: ='3 - Memoria de Cálculo'!#REF!*$Y$9 -> #REF! | I13: ='2 - Serviços'!#REF!*$AD$9 -> #REF! | P13: =SUM(C13:O13) -> #REF! | Q13: =P13 -> #REF! | T13: Aquisição de chapa metálica ASTM A-36 1/2" | AJ13: =2*(0.55*0.2)*100 -> 22
A14: Ferro Mecânico 3/8'' (kg) | E14: ='3 - Memoria de Cálculo'!#REF!*$Z$10 -> #REF! | F14: ='3 - Memoria de Cálculo'!#REF!*$AA$10 -> #REF! | P14: =SUM(C14:O14) -> #REF! | Q14: =P14 -> #REF! | T14: Aquisição de porca e arruela lisa 1" | AC14: =((1.333*2)+(0.667*2))*0.125 -> 0.5 | AF14: =0.8*0.125 -> 0.1 | AG14: =AF14 -> 0.1 | AH14: =AF14 -> 0.1 | AI14: =1.43*0.125 -> 0.17875 | AJ14: =10*0.125 -> 1.25
A15: Ferro Mecânico 1/4'' (kg) | F15: ='3 - Memoria de Cálculo'!#REF!*$AA$11 -> #REF! | P15: =SUM(C15:O15) -> #REF! | Q15: =P15 -> #REF! | T15: Aquisição de porca e arruela lisa 1/2" | Y15: =0.444*0.125 -> 0.0555
A16: Chapa 3/8'' (kg) | P16: =SUM(C16:O16) -> 0 | Q16: =P16 -> 0 | T16: Aquisição de porca e arruela lisa 3/8" | Z16: =0.667*0.125 -> 0.083375 | AA16: =(0.167*2*0.125)+(0.667*2*0.125) -> 0.2085
A17: Chapa 1/2'' (kg) | O17: ='2 - Serviços'!#REF!*22 -> #REF! | P17: =SUM(C17:O17) -> #REF! | Q17: =P17 -> #REF! | T17: Aquisição de porca e arruela lisa 1/4" | AA17: =0.167*2*0.125 -> 0.04175
A18: Prego 26x72 (kg) | C18: ='3 - Memoria de Cálculo'!#REF!*$X$18 -> #REF! | I18: ='2 - Serviços'!#REF!*$AD$18 -> #REF! | P18: =SUM(C18:O18) -> #REF! | Q18: =P18 -> #REF! | T18: Prego 26x72 | X18: 0.1087 | AD18: 0.267
A19: Prego24x60 (kg) | D19: ='3 - Memoria de Cálculo'!#REF!*$Y$19 -> #REF! | F19: ='3 - Memoria de Cálculo'!#REF!*$AA$19 -> #REF! | P19: =SUM(C19:O19) -> #REF! | Q19: =P19 -> #REF! | T19: Prego 24x60 | Y19: 0.119 | AA19: 0.0238
A20: Porca e Arruela 1'' (un) | H20: ='3 - Memoria de Cálculo'!#REF!*$AC$29 -> #REF! | K20: ='3 - Memoria de Cálculo'!#REF!*$AF$29 -> #REF! | L20: ='3 - Memoria de Cálculo'!#REF!*$AG$29 -> #REF! | M20: ='3 - Memoria de Cálculo'!#REF!*$AH$29 -> #REF! | N20: ='3 - Memoria de Cálculo'!#REF!*$AI$29 -> #REF! | O20: ='2 - Serviços'!#REF!*$AJ$29 -> #REF! | P20: =SUM(C20:O20) -> #REF! | Q20: =P20*0.125 -> #REF!
A21: Porca e Arruela 1/2'' (un) | D21: ='3 - Memoria de Cálculo'!#REF!*$Y$30 -> #REF! | P21: =SUM(C21:O21) -> #REF! | Q21: =P21*0.125 -> #REF! | T21: FERRAGENS (un/metro de peça)
A22: Porca e Arruela 3/8'' (un) | E22: ='3 - Memoria de Cálculo'!#REF!*$Z$31 -> #REF! | F22: ='3 - Memoria de Cálculo'!#REF!*$AA$31 -> #REF! | P22: =SUM(C22:O22) -> #REF! | Q22: =P22*0.125 -> #REF! | X22: Assoalho | Y22: Rodeiro | Z22: G. Rodas | AA22: G. Corpo | AB22: V. Simples | AC22: Sub. Vigas | AD22: Cx. Aterro | AE22: Esteio | AF22: Trav. Sup | AG22: Trav.Interm | AH22: Trav. Infe | AI22: Contra. | AJ22: Fundação
A23: Porca e Arruela 1/4'' (un) | F23: ='3 - Memoria de Cálculo'!#REF!*$AA$32 -> #REF! | P23: =SUM(C23:O23) -> #REF! | Q23: =P23*0.125 -> #REF! | T23: Aquisição de ferro mecanico redondo 1" | AC23: =1.333+0.667 -> 2 | AF23: =0.4 -> 0.4 | AG23: =AF23 -> 0.4 | AH23: =AF23 -> 0.4 | AI23: 0.7273 | AJ23: 5
Q24: =SUM(Q12:R23) -> #REF! | T24: Aquisição de ferro mecanico redondo 1/2" | Y24: 0.222 | AD24: 1
A25: Observações | T25: Aquisição de ferro mecanico redondo 3/8" | Z25: 0.667 | AA25: =0.167+0.667 -> 0.834
T26: Aquisição de ferro mecanico redondo 1/4" | AA26: 0.167
A27: ='2 - Serviços'!$A$7 -> MANUTENÇÃO E CONSERVAÇÃO DAS PONTES DE MADEIRA | T27: Aquisição de chapa metálica ASTM A-36 3/8"
A28: ITEM | B28: PONTE | F28: RODOVIA | G28: MUNICÍPIO | J28: LATITUDE | M28: LONGITUDE | P28: EXTENSÃO | T28: Aquisição de chapa metálica ASTM A-36 1/2" | AJ28: =2 -> 2
A29: ='4 - Resumo de Ferragem'!A10 -> 1 | B29: ='4 - Resumo de Ferragem'!B10 -> CÓRREGO DO CHINELO | F29: ='4 - Resumo de Ferragem'!C10 -> 21°53'30.35''S | G29: ='4 - Resumo de Ferragem'!D10 -> 54°35'16.91''W | J29: ='4 - Resumo de Ferragem'!E10 -> Simples | M29: ='4 - Resumo de Ferragem'!F10 -> 5 | P29: ='4 - Resumo de Ferragem'!G10 -> 13 | T29: Aquisição de porca e arruela lisa 1" | AC29: =((1.333*2)+(0.667*2)) -> 4 | AF29: 0.8 | AG29: 0.8 | AH29: 0.8 | AI29: 1.43 | AJ29: 10
A30: AQUISIÇÃO | C30: Assoalho | D30: Rodeiro | E30: G. Rodas | F30: G. Corpo | G30: V. Simples | H30: Sub. Vigas | I30: Cx. Aterro | J30: Esteio | K30: Trav. Sup | L30: Trav.Interm | M30: Trav. Infe | N30: Contra. | O30: Fundação | P30: TOTAL | Q30: INSTALAÇÃO (kg) | T30: Aquisição de porca e arruela lisa 1/2" | Y30: =0.444 -> 0.444
A31: Ferro Mecânico 1'' (kg) | H31: ='3 - Memoria de Cálculo'!M72*$AC$8 -> 91.651688 | K31: ='3 - Memoria de Cálculo'!P72*$AF$8 -> 15.122765 | L31: ='3 - Memoria de Cálculo'!Q72*$AG$8 -> 0 | M31: ='3 - Memoria de Cálculo'!R72*$AH$8 -> 15.75288 | N31: ='3 - Memoria de Cálculo'!S72*$AI$8 -> 27.983025 | O31: ='2 - Serviços'!R142*$AJ$8 -> 1.5912 | P31: =SUM(C31:O31) -> 152.10156 | Q31: =P31 -> 152.10156 | T31: Aquisição de porca e arruela lisa 3/8" | Z31: =Z25 -> 0.667 | AA31: =(0.167*2)+(0.667*2) -> 1.668
A32: Ferro Mecânico 1/2'' (kg) | D32: ='3 - Memoria de Cálculo'!I72*$Y$9 -> 16.54016 | I32: ='2 - Serviços'!I208*$AD$9 -> 23.856 | P32: =SUM(C32:O32) -> 40.39616 | Q32: =P32 -> 40.39616 | T32: Aquisição de porca e arruela lisa 1/4" | AA32: =0.167*2 -> 0.334
A33: Ferro Mecânico 3/8'' (kg) | E33: ='3 - Memoria de Cálculo'!J72*$Z$10 -> 1.9388356 | F33: ='3 - Memoria de Cálculo'!K72*$AA$10 -> 0 | P33: =SUM(C33:O33) -> 1.9388356 | Q33: =P33 -> 1.9388356 | T33: Prego 26x72 | X33: 1.3046 | AD33: =3/4+2/4.5 -> 1.1944444
A34: Ferro Mecânico 1/4'' (kg) | F34: ='3 - Memoria de Cálculo'!K72*$AA$11 -> 0 | P34: =SUM(C34:O34) -> 0 | Q34: =P34 -> 0 | T34: Prego 24x60 | Y34: 3.3333333 | AA34: 0.66666667
A35: Chapa 3/8'' (kg) | P35: =SUM(C35:O35) -> 0 | Q35: =P35 -> 0
A36: Chapa 1/2'' (kg) | O36: ='2 - Serviços'!#REF!*22 -> #REF! | P36: =SUM(C36:O36) -> #REF! | Q36: =P36 -> #REF!
A37: Prego 26x72 (kg) | C37: ='3 - Memoria de Cálculo'!H72*$X$18 -> 26.00104 | I37: ='2 - Serviços'!M175*$AD$18 -> 10.0125 | P37: =SUM(C37:O37) -> 36.01354 | Q37: =P37 -> 36.01354
A38: Prego24x60 (kg) | D38: ='3 - Memoria de Cálculo'!I72*$Y$19 -> 7.4256 | F38: ='3 - Memoria de Cálculo'!K72*$AA$19 -> 0 | P38: =SUM(C38:O38) -> 7.4256 | Q38: =P38 -> 7.4256
A39: Porca e Arruela 1'' (un) | H39: ='3 - Memoria de Cálculo'!M72*$AC$29 -> 72 | K39: ='3 - Memoria de Cálculo'!P72*$AF$29 -> 10.56 | L39: ='3 - Memoria de Cálculo'!Q72*$AG$29 -> 0 | M39: ='3 - Memoria de Cálculo'!R72*$AH$29 -> 10.56 | N39: ='3 - Memoria de Cálculo'!S72*$AI$29 -> 21.2784 | O39: ='2 - Serviços'!#REF!*$AJ$29 -> #REF! | P39: =SUM(C39:O39) -> #REF! | Q39: =P39*0.125 -> #REF!
A40: Porca e Arruela 1/2'' (un) | D40: ='3 - Memoria de Cálculo'!I72*$Y$30 -> 27.7056 | P40: =SUM(C40:O40) -> 27.7056 | Q40: =P40*0.125 -> 3.4632
A41: Porca e Arruela 3/8'' (un) | E41: ='3 - Memoria de Cálculo'!J72*$Z$31 -> 13.8736 | F41: ='3 - Memoria de Cálculo'!K72*$AA$31 -> 0 | P41: =SUM(C41:O41) -> 13.8736 | Q41: =P41*0.125 -> 1.7342
A42: Porca e Arruela 1/4'' (un) | F42: ='3 - Memoria de Cálculo'!K72*$AA$32 -> 0 | P42: =SUM(C42:O42) -> 0 | Q42: =P42*0.125 -> 0
Q43: =SUM(Q31:R42) -> #REF!
A44: Observações
A46: Observações:
I49: Sócio - Adelcio de Souza | M49: Engº Fiscal - Lucas Ferreira Bianchi Godoy
I50: CPF: 105.041.171-49 | M50: CREA - 506945712 - SP -Visto 28415
A51: ='2 - Serviços'!$A$7 -> MANUTENÇÃO E CONSERVAÇÃO DAS PONTES DE MADEIRA
A52: ITEM | B52: PONTE | F52: RODOVIA | G52: MUNICÍPIO | J52: LATITUDE | M52: LONGITUDE | P52: EXTENSÃO
A53: ='4 - Resumo de Ferragem'!A11 -> 2 | B53: ='4 - Resumo de Ferragem'!B11 -> CÓRREGO AREIAS | F53: ='4 - Resumo de Ferragem'!C11 -> 21°48'55.89''S | G53: ='4 - Resumo de Ferragem'!D11 -> 54°32'36.89''W | J53: ='4 - Resumo de Ferragem'!E11 -> Simples | M53: ='4 - Resumo de Ferragem'!F11 -> 4.4 | P53: ='4 - Resumo de Ferragem'!G11 -> 6
A54: AQUISIÇÃO | C54: Assoalho | D54: Rodeiro | E54: G. Rodas | F54: G. Corpo | G54: V. Simples | H54: Sub. Vigas | I54: Cx. Aterro | J54: Esteio | K54: Trav. Sup | L54: Trav.Interm | M54: Trav. Infe | N54: Contra. | O54: Fundação | P54: TOTAL | Q54: INSTALAÇÃO (kg)
A55: Ferro Mecânico 1'' (kg) | P55: =SUM(C55:O55) -> 0 | Q55: =P55 -> 0
A56: Ferro Mecânico 1/2'' (kg) | P56: =SUM(C56:O56) -> 0 | Q56: =P56 -> 0
A57: Ferro Mecânico 3/8'' (kg) | P57: =SUM(C57:O57) -> 0 | Q57: =P57 -> 0
A58: Ferro Mecânico 1/4'' (kg) | P58: =SUM(C58:O58) -> 0 | Q58: =P58 -> 0
A59: Chapa 3/8'' (kg) | P59: =SUM(C59:O59) -> 0 | Q59: =P59 -> 0
A60: Chapa 1/2'' (kg) | P60: =SUM(C60:O60) -> 0 | Q60: =P60 -> 0
A61: Prego 26x72 (kg) | P61: =SUM(C61:O61) -> 0 | Q61: =P61 -> 0
A62: Prego24x60 (kg) | P62: =SUM(C62:O62) -> 0 | Q62: =P62 -> 0
A63: Porca e Arruela 1'' (un) | P63: =SUM(C63:O63) -> 0 | Q63: =P63*0.125 -> 0
A64: Porca e Arruela 1/2'' (un) | P64: =SUM(C64:O64) -> 0 | Q64: =P64*0.125 -> 0
A65: Porca e Arruela 3/8'' (un) | P65: =SUM(C65:O65) -> 0 | Q65: =P65*0.125 -> 0
A66: Porca e Arruela 1/4'' (un) | P66: =SUM(C66:O66) -> 0 | Q66: =P66*0.125 -> 0
Q67: =SUM(Q55:R66) -> 0
A68: Observações
A70: ='2 - Serviços'!$A$7 -> MANUTENÇÃO E CONSERVAÇÃO DAS PONTES DE MADEIRA
A71: ITEM | B71: PONTE | F71: RODOVIA | G71: MUNICÍPIO | J71: LATITUDE | M71: LONGITUDE | P71: EXTENSÃO
B72: ='4 - Resumo de Ferragem'!B12 -> CÓRREGO ARARAS
A73: AQUISIÇÃO | C73: Assoalho | D73: Rodeiro | E73: G. Rodas | F73: G. Corpo | G73: V. Simples | H73: Sub. Vigas | I73: Cx. Aterro | J73: Esteio | K73: Trav. Sup | L73: Trav.Interm | M73: Trav. Infe | N73: Contra. | O73: Fundação | P73: TOTAL | Q73: INSTALAÇÃO (kg)
A74: Ferro Mecânico 1'' (kg) | P74: =SUM(C74:O74) -> 0 | Q74: =P74 -> 0
A75: Ferro Mecânico 1/2'' (kg) | P75: =SUM(C75:O75) -> 0 | Q75: =P75 -> 0
A76: Ferro Mecânico 3/8'' (kg) | P76: =SUM(C76:O76) -> 0 | Q76: =P76 -> 0
A77: Ferro Mecânico 1/4'' (kg) | P77: =SUM(C77:O77) -> 0 | Q77: =P77 -> 0
A78: Chapa 3/8'' (kg) | P78: =SUM(C78:O78) -> 0 | Q78: =P78 -> 0
A79: Chapa 1/2'' (kg) | P79: =SUM(C79:O79) -> 0 | Q79: =P79 -> 0
A80: Prego 26x72 (kg) | P80: =SUM(C80:O80) -> 0 | Q80: =P80 -> 0
A81: Prego24x60 (kg) | P81: =SUM(C81:O81) -> 0 | Q81: =P81 -> 0
A82: Porca e Arruela 1'' (un) | P82: =SUM(C82:O82) -> 0 | Q82: =P82*0.125 -> 0
A83: Porca e Arruela 1/2'' (un) | P83: =SUM(C83:O83) -> 0 | Q83: =P83*0.125 -> 0
A84: Porca e Arruela 3/8'' (un) | P84: =SUM(C84:O84) -> 0 | Q84: =P84*0.125 -> 0
A85: Porca e Arruela 1/4'' (un) | P85: =SUM(C85:O85) -> 0 | Q85: =P85*0.125 -> 0
Q86: =SUM(Q74:R85) -> 0
A87: Observações
A89: ='2 - Serviços'!$A$7 -> MANUTENÇÃO E CONSERVAÇÃO DAS PONTES DE MADEIRA
A90: ITEM | B90: PONTE | F90: RODOVIA | G90: MUNICÍPIO | J90: LATITUDE | M90: LONGITUDE | P90: EXTENSÃO
B91: ='4 - Resumo de Ferragem'!#REF! -> #REF!
A92: AQUISIÇÃO | C92: Assoalho | D92: Rodeiro | E92: G. Rodas | F92: G. Corpo | G92: V. Simples | H92: Sub. Vigas | I92: Cx. Aterro | J92: Esteio | K92: Trav. Sup | L92: Trav.Interm | M92: Trav. Infe | N92: Contra. | O92: Fundação | P92: TOTAL | Q92: INSTALAÇÃO (kg)
A93: Ferro Mecânico 1'' (kg) | P93: =SUM(C93:O93) -> 0 | Q93: =P93 -> 0
A94: Ferro Mecânico 1/2'' (kg) | P94: =SUM(C94:O94) -> 0 | Q94: =P94 -> 0
A95: Ferro Mecânico 3/8'' (kg) | P95: =SUM(C95:O95) -> 0 | Q95: =P95 -> 0
A96: Ferro Mecânico 1/4'' (kg) | P96: =SUM(C96:O96) -> 0 | Q96: =P96 -> 0
A97: Chapa 3/8'' (kg) | P97: =SUM(C97:O97) -> 0 | Q97: =P97 -> 0
A98: Chapa 1/2'' (kg) | P98: =SUM(C98:O98) -> 0 | Q98: =P98 -> 0
A99: Prego 26x72 (kg) | P99: =SUM(C99:O99) -> 0 | Q99: =P99 -> 0
A100: Observações:
I103: Sócio - Adelcio de Souza | M103: Engº Fiscal - Lucas Ferreira Bianchi Godoy
I104: CPF: 105.041.171-49 | M104: CREA - 506945712 - SP -Visto 28415
A105: Prego24x60 (kg) | P105: =SUM(C105:O105) -> 0 | Q105: =P105 -> 0
A106: Porca e Arruela 1'' (un) | P106: =SUM(C106:O106) -> 0 | Q106: =P106*0.125 -> 0
A107: Porca e Arruela 1/2'' (un) | P107: =SUM(C107:O107) -> 0 | Q107: =P107*0.125 -> 0
A108: Porca e Arruela 3/8'' (un) | P108: =SUM(C108:O108) -> 0 | Q108: =P108*0.125 -> 0
A109: Porca e Arruela 1/4'' (un) | P109: =SUM(C109:O109) -> 0 | Q109: =P109*0.125 -> 0
Q110: =SUM(Q93:R109) -> 0
A111: Observações
...

Sheet 5 - Pintura de Ponte
A1: OBJETO: MANUTENÇÃO E CONSERVAÇÃO DAS PONTES DE MADEIRA NAS RODOVIAS QUE FAZEM PARTE DA MALHA RODOVIÁRIA NÃO PAVIMENTADA DO MUNICÍPIO DE RIO BRILHANTE/MS
A2: LOCAL: RIO BRILHANTE/MS
A3: PRAZO: 365 (dias) | W3: SEÇÃO DAS PEÇAS
A4: PROCESSO: | W4: Assoalho | X4: Rodeiro | Y4: G.Rodas | Z4: V. Simples | AA4: S.Viga | AB4: C.Aterro | AC4: Esteios | AD4: Trav. Sup. | AE4: Trav. Interm. | AF4: Trav. Inf | AG4: Contrav. | AH4: Fundação
W5: =0.16*0.07 -> 0.0112 | X5: =0.06*0.3 -> 0.018 | Y5: =0.15*0.15 -> 0.0225 | Z5: =0.25*0.3 -> 0.075 | AA5: =0.25*0.3 -> 0.075 | AC5: =0.25*0.3 -> 0.075 | AD5: =0.25*0.25 -> 0.0625 | AE5: =AD5 -> 0.0625 | AF5: =0.25*0.2 -> 0.05 | AG5: =0.15*0.2 -> 0.03 | AH5: =0.25*0.3 -> 0.075
A6: ='2 - Serviços'!A7:S7 -> MANUTENÇÃO E CONSERVAÇÃO DAS PONTES DE MADEIRA
A7: Serviços: Pintura de Ponte (RL-1C)
A8: Item | B8: Descrição / Local | H8: Pintura de Ponte (m²) - Vigamento Simples
B9: ='2 - Serviços'!$B$9 -> Ponte | C9: ='2 - Serviços'!$C$9 -> Latitude | D9: ='2 - Serviços'!$D$9 -> Longitude | E9: ='2 - Serviços'!$E$9 -> Vigamento | F9: ='2 - Serviços'!$F$9 -> Largura (m) | G9: ='2 - Serviços'!$G$9 -> Extensão (m) | H9: Assoalho | I9: Rodeiro | J9: G.Rodas | K9: Vigas | L9: S.Viga | M9: C.Aterro | N9: Esteios | O9: Trav. Sup. | P9: Trav. Int. | Q9: Trav. Inf | R9: Contrav. | S9: Total | T9: Aquisição RL-1C | U9: Transporte RL-1C
A10: ='4 - Resumo de Ferragem'!A10 -> 1 | B10: ='4 - Resumo de Ferragem'!B10 -> CÓRREGO DO CHINELO | C10: ='4 - Resumo de Ferragem'!C10 -> 21°53'30.35''S | D10: ='4 - Resumo de Ferragem'!D10 -> 54°35'16.91''W | E10: ='4 - Resumo de Ferragem'!E10 -> Simples | F10: ='4 - Resumo de Ferragem'!F10 -> 5 | G10: ='4 - Resumo de Ferragem'!G10 -> 13 | H10: 66.0192 | I10: 26.9568 | J10: 7.488 | K10: 23.1 | L10: 11.55 | M10: 18 | N10: 15.84 | O10: 8.8 | P10: 0 | Q10: 7.92 | R10: 6.944 | S10: 192.618 | T10: 0.115 | U10: 0.115
A11: ='4 - Resumo de Ferragem'!A11 -> 2 | B11: ='4 - Resumo de Ferragem'!B11 -> CÓRREGO AREIAS | C11: ='4 - Resumo de Ferragem'!C11 -> 21°48'55.89''S | D11: ='4 - Resumo de Ferragem'!D11 -> 54°32'36.89''W | E11: ='4 - Resumo de Ferragem'!E11 -> Simples | F11: ='4 - Resumo de Ferragem'!F11 -> 4.4 | G11: ='4 - Resumo de Ferragem'!G11 -> 6 | H11: 30.4704 | I11: 12.4416 | J11: 3.456 | K11: 13.2 | L11: 6.6 | M11: 15.84 | N11: 10.56 | O11: 3.92 | P11: 0 | Q11: 3.528 | R11: 3.08 | S11: 103.096 | T11: 0.061 | U11: 0.061
A12: ='4 - Resumo de Ferragem'!A12 -> 3 | B12: ='4 - Resumo de Ferragem'!B12 -> CÓRREGO ARARAS | C12: ='4 - Resumo de Ferragem'!C12 -> 21°47'42.63''S | D12: ='4 - Resumo de Ferragem'!D12 -> 54°31'56.42''W | E12: ='4 - Resumo de Ferragem'!E12 -> Simples | F12: ='4 - Resumo de Ferragem'!F12 -> 4.8 | G12: ='4 - Resumo de Ferragem'!G12 -> 12 | H12: 60.9408 | I12: 24.8832 | J12: 6.912 | K12: 23.1 | L12: 11.55 | M12: 17.28 | N12: 15.84 | O12: 8.48 | P12: 0 | Q12: 7.632 | R12: 6.608 | S12: 183.226 | T12: 0.109 | U12: 0.109
A13: ='4 - Resumo de Ferragem'!A13 -> 4 | B13: ='4 - Resumo de Ferragem'!B13 -> CÓRREGO FORMIGA | C13: ='4 - Resumo de Ferragem'!C13 -> 21°39'27.48''S | D13: ='4 - Resumo de Ferragem'!D13 -> 54°25'31.76''W | E13: ='4 - Resumo de Ferragem'!E13 -> Simples | F13: ='4 - Resumo de Ferragem'!F13 -> 4.4 | G13: ='4 - Resumo de Ferragem'!G13 -> 13.2 | H13: 66.8656 | I13: 27.3024 | J13: 7.584 | K13: 23.1 | L13: 11.55 | M13: 15.84 | N13: 15.84 | O13: 7.84 | P13: 0 | Q13: 7.056 | R13: 6.16 | S13: 189.138 | T13: 0.113 | U13: 0.113
A14: ='4 - Resumo de Ferragem'!A14 -> 5 | B14: ='4 - Resumo de Ferragem'!B14 -> CÓRREGO ANTINHA | C14: ='4 - Resumo de Ferragem'!C14 -> 21°38'42.22''S | D14: ='4 - Resumo de Ferragem'!D14 -> 54°27'12.82''W | E14: ='4 - Resumo de Ferragem'!E14 -> Simples | F14: ='4 - Resumo de Ferragem'!F14 -> 4.4 | G14: ='4 - Resumo de Ferragem'!G14 -> 7.2 | H14: 36.3952 | I14: 14.8608 | J14: 4.128 | K14: 13.2 | L14: 6.6 | M14: 15.84 | N14: 10.56 | O14: 3.92 | P14: 0 | Q14: 3.528 | R14: 3.08 | S14: 112.112 | T14: 0.067 | U14: 0.067
A15: ='4 - Resumo de Ferragem'!A15 -> 6 | B15: ='4 - Resumo de Ferragem'!B15 -> CÓRREGO FORMIGA | C15: ='4 - Resumo de Ferragem'!C15 -> 21°38'56.23''S | D15: ='4 - Resumo de Ferragem'!D15 -> 54°25'01.82''W | E15: ='4 - Resumo de Ferragem'!E15 -> Simples | F15: ='4 - Resumo de Ferragem'!F15 -> 4.4 | G15: ='4 - Resumo de Ferragem'!G15 -> 12 | H15: 60.9408 | I15: 24.8832 | J15: 6.912 | K15: 23.1 | L15: 11.55 | M15: 15.84 | N15: 15.84 | O15: 7.84 | P15: 0 | Q15: 7.056 | R15: 6.16 | S15: 180.122 | T15: 0.108 | U15: 0.108
A16: ='4 - Resumo de Ferragem'!A16 -> 7 | B16: ='4 - Resumo de Ferragem'!B16 -> CÓRREGO QUILOMBO | C16: ='4 - Resumo de Ferragem'!C16 -> 21°42'14.33''S | D16: ='4 - Resumo de Ferragem'!D16 -> 54°20'39.58''W | E16: ='4 - Resumo de Ferragem'!E16 -> Simples | F16: ='4 - Resumo de Ferragem'!F16 -> 4.4 | G16: ='4 - Resumo de Ferragem'!G16 -> 6.8 | H16: 34.7024 | I16: 14.1696 | J16: 3.936 | K16: 13.2 | L16: 6.6 | M16: 15.84 | N16: 10.56 | O16: 3.92 | P16: 0 | Q16: 3.528 | R16: 3.08 | S16: 109.536 | T16: 0.065 | U16: 0.065
A17: ='4 - Resumo de Ferragem'!A17 -> 8 | B17: ='4 - Resumo de Ferragem'!B17 -> ARROIO CORREGUINHO | C17: ='4 - Resumo de Ferragem'!C17 -> 21°42'39.87''S | D17: ='4 - Resumo de Ferragem'!D17 -> 54°18'52.81''W | E17: ='4 - Resumo de Ferragem'!E17 -> Simples | F17: ='4 - Resumo de Ferragem'!F17 -> 4.4 | G17: ='4 - Resumo de Ferragem'!G17 -> 5.8 | H17: 29.624 | I17: 12.096 | J17: 3.36 | K17: 13.2 | L17: 6.6 | M17: 15.84 | N17: 10.56 | O17: 3.92 | P17: 0 | Q17: 3.528 | R17: 3.08 | S17: 101.808 | T17: 0.061 | U17: 0.061
A18: ='4 - Resumo de Ferragem'!A18 -> 9 | B18: ='4 - Resumo de Ferragem'!B18 -> CÓRREGO GUATAMBU | C18: ='4 - Resumo de Ferragem'!C18 -> 21°43'17.70"S | D18: ='4 - Resumo de Ferragem'!D18 -> 54°16'36.10"W | E18: ='4 - Resumo de Ferragem'!E18 -> Simples | F18: ='4 - Resumo de Ferragem'!F18 -> 4.4 | G18: ='4 - Resumo de Ferragem'!G18 -> 10.6 | H18: 54.1696 | I18: 22.1184 | J18: 6.144 | K18: 23.1 | L18: 11.55 | M18: 15.84 | N18: 15.84 | O18: 7.84 | P18: 0 | Q18: 7.056 | R18: 6.16 | S18: 169.818 | T18: 0.101 | U18: 0.101
A19: ='4 - Resumo de Ferragem'!A19 -> 10 | B19: ='4 - Resumo de Ferragem'!B19 -> CÓRREGO QUILOMBO | C19: ='4 - Resumo de Ferragem'!C19 -> 21°42'51.11''S | D19: ='4 - Resumo de Ferragem'!D19 -> 54°16'52.81''W | E19: ='4 - Resumo de Ferragem'!E19 -> Simples | F19: ='4 - Resumo de Ferragem'!F19 -> 4.4 | G19: ='4 - Resumo de Ferragem'!G19 -> 5.8 | H19: 29.624 | I19: 12.096 | J19: 3.36 | K19: 13.2 | L19: 6.6 | M19: 15.84 | N19: 10.56 | O19: 3.92 | P19: 0 | Q19: 3.528 | R19: 3.08 | S19: 101.808 | T19: 0.061 | U19: 0.061
A20: ='4 - Resumo de Ferragem'!A20 -> 11 | B20: ='4 - Resumo de Ferragem'!B20 -> CÓRREGO SAPÉ | C20: ='4 - Resumo de Ferragem'!C20 -> 21°44'57.50"S | D20: ='4 - Resumo de Ferragem'!D20 -> 54°18'00.40"W | E20: ='4 - Resumo de Ferragem'!E20 -> Simples | F20: ='4 - Resumo de Ferragem'!F20 -> 4.4 | G20: ='4 - Resumo de Ferragem'!G20 -> 10.8 | H20: 55.016 | I20: 22.464 | J20: 6.24 | K20: 23.1 | L20: 11.55 | M20: 15.84 | N20: 15.84 | O20: 7.84 | P20: 0 | Q20: 7.056 | R20: 6.16 | S20: 171.106 | T20: 0.102 | U20: 0.102
A21: ='4 - Resumo de Ferragem'!A21 -> 12 | B21: ='4 - Resumo de Ferragem'!B21 -> CÓRREGO JUREMA | C21: ='4 - Resumo de Ferragem'!C21 -> 21°47'02.84''S | D21: ='4 - Resumo de Ferragem'!D21 -> 54°14'35.61''W | E21: ='4 - Resumo de Ferragem'!E21 -> Simples | F21: ='4 - Resumo de Ferragem'!F21 -> 4.4 | G21: ='4 - Resumo de Ferragem'!G21 -> 7.1 | H21: 36.3952 | I21: 14.8608 | J21: 4.128 | K21: 13.2 | L21: 6.6 | M21: 15.84 | N21: 10.56 | O21: 3.92 | P21: 0 | Q21: 3.528 | R21: 3.08 | S21: 112.112 | T21: 0.067 | U21: 0.067
... A35: ='4 - Resumo de Ferragem'!A35 -> 26 | B35: ='4 - Resumo de Ferragem'!B35 -> CÓRREGO PASSATEMPO 5 | C35: ='4 - Resumo de Ferragem'!C35 -> 21°29'57.99''S | D35: ='4 - Resumo de Ferragem'!D35 -> 54°43'07.39''W | E35: ='4 - Resumo de Ferragem'!E35 -> Simples | F35: ='4 - Resumo de Ferragem'!F35 -> 4.4 | G35: ='4 - Resumo de Ferragem'!G35 -> 22.3 | H35: 113.4176 | I35: 46.3104 | J35: 12.864 | K35: 46.2 | L35: 23.1 | M35: 15.84 | N35: 26.4 | O35: 11.76 | P35: 0 | Q35: 10.584 | R35: 9.24 | S35: 315.716 | T35: 0.189 | U35: 0.189
A37: TOTAL: | G37: =TRUNC(SUM(G10:G36),3) -> 335.7 | S37: 4987.236 | T37: 2.992 | U37: 2.992
S39: Total Pintura | T39: Aquisição RL-1C | U39: Transporte RL-1C
A40: TOTAL: | S40: 4987.236 | T40: 2.992 | U40: 2.992

Sheet 6 - Sinalização
A1: OBJETO: MANUTENÇÃO E CONSERVAÇÃO DAS PONTES DE MADEIRA NAS RODOVIAS QUE FAZEM PARTE DA MALHA RODOVIÁRIA NÃO PAVIMENTADA DO MUNICÍPIO DE RIO BRILHANTE/MS
A2: LOCAL: RIO BRILHANTE/MS
A3: PRAZO: 365 (dias)
A4: PROCESSO:
A6: ='2 - Serviços'!A7:S7 -> MANUTENÇÃO E CONSERVAÇÃO DAS PONTES DE MADEIRA
A7: Serviços: Placa de Obra - Delineadores - Placas de Sinalização - Suporte e Tacha - Sapata de Concreto
A8: Item | B8: Descrição / Local | H8: Delineador | I8: Placa em aço - película I + III | L8: Placa em aço - película III + III | O8: Suporte | P8: Plaqueta de Aço
B9: ='2 - Serviços'!$B$9 -> Ponte | C9: ='2 - Serviços'!$C$9 -> Latitude | D9: ='2 - Serviços'!$D$9 -> Longitude | E9: ='2 - Serviços'!$E$9 -> Vigamento | F9: ='2 - Serviços'!$F$9 -> Largura (m) | G9: ='2 - Serviços'!$G$9 -> Extensão (m) | H9: Unidades | I9: Quantidade | J9: Área / Unid | K9: Área (m²) | L9: Quantidade | M9: Área / Unid | N9: Área (m²) | O9: Unidade | P9: Unidade
A10: ='2 - Serviços'!A10 -> 1 | B10: ='2 - Serviços'!B10 -> CÓRREGO DO CHINELO | C10: ='2 - Serviços'!C10 -> 21°53'30.35''S | D10: ='2 - Serviços'!D10 -> 54°35'16.91''W | E10: ='2 - Serviços'!E10 -> Simples | F10: ='2 - Serviços'!F10 -> 5 | G10: ='2 - Serviços'!G10 -> 13 | H10: 10 | I10: 1.6 | J10: 0.503 | K10: 0.804 | L10: 1.6 | M10: 0.64 | N10: 1.024 | O10: 3 | P10: 10
A11: ='2 - Serviços'!A11 -> 2 | B11: ='2 - Serviços'!B11 -> CÓRREGO AREIAS | C11: ='2 - Serviços'!C11 -> 21°48'55.89''S | D11: ='2 - Serviços'!D11 -> 54°32'36.89''W | E11: ='2 - Serviços'!E11 -> Simples | F11: ='2 - Serviços'!F11 -> 4.4 | G11: ='2 - Serviços'!G11 -> 6 | H11: 10 | I11: 1.6 | J11: 0.503 | K11: 0.804 | L11: 1.6 | M11: 0.64 | N11: 1.024 | O11: 3 | P11: 5
A12: ='2 - Serviços'!A12 -> 3 | B12: ='2 - Serviços'!B12 -> CÓRREGO ARARAS | C12: ='2 - Serviços'!C12 -> 21°47'42.63''S | D12: ='2 - Serviços'!D12 -> 54°31'56.42''W | E12: ='2 - Serviços'!E12 -> Simples | F12: ='2 - Serviços'!F12 -> 4.8 | G12: ='2 - Serviços'!G12 -> 12 | H12: 10 | I12: 1.6 | J12: 0.503 | K12: 0.804 | L12: 1.6 | M12: 0.64 | N12: 1.024 | O12: 3 | P12: 10
A13: ='2 - Serviços'!A13 -> 4 | B13: ='2 - Serviços'!B13 -> CÓRREGO FORMIGA | C13: ='2 - Serviços'!C13 -> 21°39'27.48''S | D13: ='2 - Serviços'!D13 -> 54°25'31.76''W | E13: ='2 - Serviços'!E13 -> Simples | F13: ='2 - Serviços'!F13 -> 4.4 | G13: ='2 - Serviços'!G13 -> 13.2 | H13: 10 | I13: 1.6 | J13: 0.503 | K13: 0.804 | L13: 1.6 | M13: 0.64 | N13: 1.024 | O13: 3 | P13: 10
A14: ='2 - Serviços'!A14 -> 5 | B14: ='2 - Serviços'!B14 -> CÓRREGO ANTINHA | C14: ='2 - Serviços'!C14 -> 21°38'42.22''S | D14: ='2 - Serviços'!D14 -> 54°27'12.82''W | E14: ='2 - Serviços'!E14 -> Simples | F14: ='2 - Serviços'!F14 -> 4.4 | G14: ='2 - Serviços'!G14 -> 7.2 | H14: 10 | I14: 1.6 | J14: 0.503 | K14: 0.804 | L14: 1.6 | M14: 0.64 | N14: 1.024 | O14: 3 | P14: 6
A15: ='2 - Serviços'!A15 -> 6 | B15: ='2 - Serviços'!B15 -> CÓRREGO FORMIGA | C15: ='2 - Serviços'!C15 -> 21°38'56.23''S | D15: ='2 - Serviços'!D15 -> 54°25'01.82''W | E15: ='2 - Serviços'!E15 -> Simples | F15: ='2 - Serviços'!F15 -> 4.4 | G15: ='2 - Serviços'!G15 -> 12 | H15: 10 | I15: 1.6 | J15: 0.503 | K15: 0.804 | L15: 1.6 | M15: 0.64 | N15: 1.024 | O15: 3 | P15: 10
A16: ='2 - Serviços'!A16 -> 7 | B16: ='2 - Serviços'!B16 -> CÓRREGO QUILOMBO | C16: ='2 - Serviços'!C16 -> 21°42'14.33''S | D16: ='2 - Serviços'!D16 -> 54°20'39.58''W | E16: ='2 - Serviços'!E16 -> Simples | F16: ='2 - Serviços'!F16 -> 4.4 | G16: ='2 - Serviços'!G16 -> 6.8 | H16: 10 | I16: 1.6 | J16: 0.503 | K16: 0.804 | L16: 1.6 | M16: 0.64 | N16: 1.024 | O16: 3 | P16: 6
A17: ='2 - Serviços'!A17 -> 8 | B17: ='2 - Serviços'!B17 -> ARROIO CORREGUINHO | C17: ='2 - Serviços'!C17 -> 21°42'39.87''S | D17: ='2 - Serviços'!D17 -> 54°18'52.81''W | E17: ='2 - Serviços'!E17 -> Simples | F17: ='2 - Serviços'!F17 -> 4.4 | G17: ='2 - Serviços'!G17 -> 5.8 | H17: 10 | I17: 1.6 | J17: 0.503 | K17: 0.804 | L17: 1.6 | M17: 0.64 | N17: 1.024 | O17: 3 | P17: 5
A18: ='2 - Serviços'!A18 -> 9 | B18: ='2 - Serviços'!B18 -> CÓRREGO GUATAMBU | C18: ='2 - Serviços'!C18 -> 21°43'17.70"S | D18: ='2 - Serviços'!D18 -> 54°16'36.10"W | E18: ='2 - Serviços'!E18 -> Simples | F18: ='2 - Serviços'!F18 -> 4.4 | G18: ='2 - Serviços'!G18 -> 10.6 | H18: 10 | I18: 1.6 | J18: 0.503 | K18: 0.804 | L18: 1.6 | M18: 0.64 | N18: 1.024 | O18: 3 | P18: 9
A19: ='2 - Serviços'!A19 -> 10 | B19: ='2 - Serviços'!B19 -> CÓRREGO QUILOMBO | C19: ='2 - Serviços'!C19 -> 21°42'51.11''S | D19: ='2 - Serviços'!D19 -> 54°16'52.81''W | E19: ='2 - Serviços'!E19 -> Simples | F19: ='2 - Serviços'!F19 -> 4.4 | G19: ='2 - Serviços'!G19 -> 5.8 | H19: 10 | I19: 1.6 | J19: 0.503 | K19: 0.804 | L19: 1.6 | M19: 0.64 | N19: 1.024 | O19: 3 | P19: 5
A20: ='2 - Serviços'!A20 -> 11 | B20: ='2 - Serviços'!B20 -> CÓRREGO SAPÉ | C20: ='2 - Serviços'!C20 -> 21°44'57.50"S | D20: ='2 - Serviços'!D20 -> 54°18'00.40"W | E20: ='2 - Serviços'!E20 -> Simples | F20: ='2 - Serviços'!F20 -> 4.4 | G20: ='2 - Serviços'!G20 -> 10.8 | H20: 10 | I20: 1.6 | J20: 0.503 | K20: 0.804 | L20: 1.6 | M20: 0.64 | N20: 1.024 | O20: 3 | P20: 9
A21: ='2 - Serviços'!A21 -> 12 | B21: ='2 - Serviços'!B21 -> CÓRREGO JUREMA | C21: ='2 - Serviços'!C21 -> 21°47'02.84''S | D21: ='2 - Serviços'!D21 -> 54°14'35.61''W | E21: ='2 - Serviços'!E21 -> Simples | F21: ='2 - Serviços'!F21 -> 4.4 | G21: ='2 - Serviços'!G21 -> 7.1 | H21: 10 | I21: 1.6 | J21: 0.503 | K21: 0.804 | L21: 1.6 | M21: 0.64 | N21: 1.024 | O21: 3 | P21: 6
... A35: ='2 - Serviços'!A35 -> 26 | B35: ='2 - Serviços'!B35 -> CÓRREGO PASSATEMPO 5 | C35: ='2 - Serviços'!C35 -> 21°29'57.99''S | D35: ='2 - Serviços'!D35 -> 54°43'07.39''W | E35: ='2 - Serviços'!E35 -> Simples | F35: ='2 - Serviços'!F35 -> 4.4 | G35: ='2 - Serviços'!G35 -> 22.3 | H35: 10 | I35: 1.6 | J35: 0.503 | K35: 0.804 | L35: 1.6 | M35: 0.64 | N35: 1.024 | O35: 3 | P35: 18
A37: TOTAL: | G37: =TRUNC(SUM(G10:G36),3) -> 335.7 | H37: 260 | K37: 20.904 | N37: 26.624 | O37: 78 | P37: 273

Sheet 8 - Quantitativo - Final
A1: OBJETO: MANUTENÇÃO E CONSERVAÇÃO DAS PONTES DE MADEIRA NAS RODOVIAS QUE FAZEM PARTE DA MALHA RODOVIÁRIA NÃO PAVIMENTADA DO MUNICÍPIO DE RIO BRILHANTE/MS
A2: LOCAL: RIO BRILHANTE/MS
A3: PRAZO: 365 (dias)
A4: PROCESSO:
A6: QUANTITATIVOS - MANUTENÇÃO E CONSERVAÇÃO DAS PONTES DE MADEIRA
A7: Item. Código | C7: DESCRIÇÃO | D7: Unid | E7: Quantidade
A9: SERVIÇOS DE LIMPEZA DA FAIXA DE DOMÍNIO
A10: 4915744 | C10: Capina Manual | D10: m² | E10: 416
A11: 4915776 | C11: Roçada com roçadeira costal | D11: há | E11: 0.427
A12: 4915672 | C12: Limpeza de ponte | D12: m | E12: 335.7
A14: FUNDAÇÃO
A15: AGM9910009 | C15: Infraestrutura - Cravação de Estaca/Pilar em madeira de lei (0,25 x 0,30m) | D15: m | E15: 196.8
A16: ='9 - Manutenção'!B20 -> AGM9910008 | C16: ='9 - Manutenção'!C20 -> Infraestrutura - Ponteira para esteio | D16: un | E16: 65
A17: AGM9910022 | C17: Infraestrutura - Emenda metálica em estaca de madeira (furação e fixação de 2 chapas metálicas, parafusos e porcas) | D17: un | E17: 26
A19: ELEMENTOS DE APOIO
A20: AGM9910010 | C20: Infraestrutura - Desmontagem parcial de Pilar/Esteio em madeira de lei (0,25 x 0,30m) | D20: m | E20: 393.6
A21: AGM9910012 | C21: Infraestrutura - Construção de Pilar/Esteio em madeira de lei (0,25 x 0,30m) exceto a cravação | D21: m | E21: 393.6
A22: AGM9910013 | C22: Infraestrutura - Desmontagem de Travesseiro superior/intermediário em madeira de lei (0,25 x 0,25m) | D22: m | E22: 328.8
A23: AGM9910014 | C23: Infraestrutura - Montagem c/ reaprov de Travesseiro superior/intermediário em madeira de lei (0,25 x 0,25m) | D23: m | E23: 130.28
A24: AGM9910015 | C24: Infraestrutura - Construção de Travesseiro superior/intermediário em madeira de lei (0,25 x 0,25m) | D24: m | E24: 328.8
A25: AGM9910016 | C25: Infraestrutura - Desmontagem de Travesseiro inferior em madeira de lei (0,25 x 0,20m) | D25: m | E25: 328.8
A26: AGM9910017 | C26: Infraestrutura - Montagem c/ reaprov de Travesseiro inferior em madeira de lei (0,25 x 0,20m) | D26: m | E26: 130.28
A27: AGM9910018 | C27: Infraestrutura - Construção de Travesseiro inferior em madeira de lei (0,25 x 0,20m) | D27: m | E27: 328.8
A28: AGM9910019 | C28: Infraestrutura - Desmontagem de Contraventamento em madeira de lei (0,20 x 0,15m) | D28: m | E28: 368.96
A29: AGM9910020 | C29: Infraestrutura - Montagem c/ reaprov. de Contraventamento em madeira de lei (0,20 x 0,15m) | D29: m | E29: 146.2
A30: AGM9910021 | C30: Infraestrutura - Construção de Contraventamento em madeira de lei (0,20 x 0,15m) | D30: m | E30: 368.96
A32: SUPERESTRUTURA
A33: AGM9930017 | C33: Superestrutura - Desmontagem de Assoalho em madeira de lei (0,16 x 0,07m) | D33: m | E33: 6176.88
A34: AGM9930018 | C34: Superestrutura - Montagem c/ reaprov de Assoalho em madeira de lei (0,16 x 0,07m) | D34: m | E34: 2465.6
A35: AGM9930019 | C35: Superestrutura - Construção de Assoalho em madeira de lei (0,16 x 0,07m) | D35: m | E35: =E33 -> 6176.88
A36: AGM9930020 | C36: Superestrutura - Desmontagem de Rodeiro em madeira de lei (0,30 x 0,08m) | D36: m | E36: 1611.36
A37: AGM9930021 | C37: Superestrutura - Montagem c/ reaprov de Rodeiro em madeira de lei (0,30 x 0,08m) | D37: m | E37: 643.2
A38: AGM9930022 | C38: Superestrutura - Construção de Rodeiro em madeira de lei (0,30 x 0,08m) | D38: m | E38: =E36 -> 1611.36
A39: AGM9930023 | C39: Superestrutura - Desmontagem de Guia de rodas em madeira de lei (0,15 x 0,15m) | D39: m | E39: 537.12
A40: AGM9930024 | C40: Superestrutura - Montagem c/ reaprov de Guia de rodas em madeira de lei (0,15 x 0,15m) | D40: m | E40: 214.4
A41: AGM9930025 | C41: Superestrutura - Construção de Guia de rodas em madeira de lei (0,15 x 0,15m) | D41: m | E41: =E39 -> 537.12
A42: AGM9930026 | C42: Superestrutura - Desmontagem de Longarina em madeira de lei (0,25 x 0,30m) | D42: m | E42: 1008
A43: AGM9930027 | C43: Superestrutura - Montagem c/ reaprov de Longarina em madeira de lei (0,25 x 0,30m) | D43: m | E43: 402
A44: AGM9930028 | C44: Superestrutura - Construção de Longarina em madeira de lei (0,25 x 0,30m) | D44: m | E44: =E42 -> 1008
A45: AGM9930029 | C45: Superestrutura - Desmontagem de Sub-viga em madeira de lei (0,25 x 0,30m) | D45: m | E45: 504
A46: AGM9930030 | C46: Superestrutura - Montagem c/ reaprov de Sub-viga em madeira de lei (0,25 x 0,30m) | D46: m | E46: 201
A47: AGM9930031 | C47: Superestrutura - Construção de Sub-viga em madeira de lei (0,25 x 0,30m) | D47: m | E47: =E45 -> 504
A49: ALAS
A50: 4805757 | C50: Escavação mecânica de vala em material de 1ª categoria | D50: m³ | E50: 352.8
A51: 4915671 | C51: Reaterro e compactação com soquete vibratório | D51: m³ | E51: 352.8
A52: AGM9930032 | C52: Encontro - Desmontagem de Caixão de aterro em madeira de lei (0,20 x 0,06m) - (Testeira de 4,50m, duas alas de 4,00m e esteios acima do solo, exceto as estacas cravadas) | D52: m² | E52: 352.8
A53: AGM9930033 | C53: Encontro - Montagem de Caixão de aterro c/ reaprov de madeira de lei (0,20 x 0,06m) - (Testeira de 4,50m, duas alas de 4,00m e esteios acima do solo, exceto as estacas cravadas) | D53: m² | E53: 141.12
A54: AGM9930034 | C54: Encontro - Construção de Caixão de aterro em madeira de lei (0,20 x 0,06m) - (Testeira de 4,50m, duas alas de 4,00m e esteios acima do solo, exceto as estacas cravadas) | D54: m² | E54: =E52 -> 352.8
A56: SERVIÇOS COMPLEMENTARES
A57: 3816197 | C57: Plataforma de trabalho em madeira apoiada no solo - altura de até 6 m - utilização de 5 vezes - confecção, instalação e retirada | D57: m³ | E57: 136.209
A58: AGM6000005 | C58: Pintura da ponte com emulsão RL-1C | D58: m² | E58: 4987.236
A59: AGM6000006 | C59: Instalação de ferragem, inclusive corte, dobramento, solda, furação e rosca de peças metálicas | D59: kg | E59: 4926.444
A61: AQUISIÇÃO
A62: MA9899 | C62: Aquisição de madeira de lei (serrada, até 6,0m) | D62: m³ | E62: 237.248
A63: MA9905 | C63: Aquisição de ferro mecanico redondo 1" | D63: kg | E63: 2467.443
A64: MA9906 | C64: Aquisição de ferro mecanico redondo 1/2" | D64: kg | E64: 876.882
A65: MA9907 | C65: Aquisição de ferro mecanico redondo 3/8" | D65: kg | E65: 30.081
A66: MA9902 | C66: Aquisição de chapa metálica ASTM A-36 1/2" | D66: kg | E66: 572
A67: M1949 | C67: Emulsão asfáltica RL-1C | D67: t | E67: 2.992
A69: TRANSPORTE
A70: 5914479 | C70: Transporte com caminhão carroceria de 15 t - rodovia pavimentada (madeira) | D70: tkm | E70: 79478.08
A71: 5914464 | C71: Transporte com caminhão carroceria de 15 t - rodovia em revestimento primário (madeira) | D71: tkm | E71: 3795.97
A72: 5914479 | C72: Transporte com caminhão carroceria de 15 t - rodovia pavimentada (ferragem) | D72: tkm | E72: 1642.72
A73: 5914464 | C73: Transporte com caminhão carroceria de 15 t - rodovia em revestimento primário (ferragem) | D73: tkm | E73: 78.46
A74: TP1949 | C74: Transporte de Emulsão Asfáltica RL-1C | D74: t | E74: 2.992
A76: SINALIZAÇÃO
A77: 5213571 | C77: Fornecimento e implantação de placa em aço - película I + III | D77: m² | E77: 20.904
A78: 5213572 | C78: Fornecimento e implantação de placa em aço - película III + III | D78: m² | E78: 26.624
A79: 5213476 | C79: Fornecimento e implantação de placa delineador em aço - 0,50 x 0,60 m - película retrorrefletiva tipo I + IV | D79: un | E79: 260
A80: 5216111 | C80: Fornecimento e implantação de suporte e travessa para placa de sinalização em madeira de lei tratada 8 x 8 cm | D80: un | E80: 78
A81: AGM7020001 | C81: Fornecimento e implantação de plaqueta de aço 0,0168 m² - película I + III | D81: un | E81: 273
A83: CANTEIRO DE OBRAS
A84: CANTALOJ | C84: Canteiro de obras | D84: un | E84: 1
A86: ADMINISTRAÇÃO LOCAL E MANUTENÇÃO DO CANTEIRO
A87: ADMEMAN | C87: Administração local e Manutenção de canteiro | D87: mês | E87: 12
A89: MOBILIZAÇÃO E DESMOBILIZAÇÃO
A90: MOBDESMEQU | C90: Mobilização e desmobilização de máquinas equipamentos pesados e containeres | D90: un | E90: 1
A91: MOBDESMCAM | C91: Mobilização e desmobilização de equipamentos automotores | D91: un | E91: 1
A92: MOBDESMPES | C92: Mobilização e desmobilização de pessoal e debandas mensais | D92: un | E92: 1

Sheet 9 - Manutenção
A1: OBJETO: MANUTENÇÃO E CONSERVAÇÃO DAS PONTES DE MADEIRA NAS RODOVIAS QUE FAZEM PARTE DA MALHA RODOVIÁRIA NÃO PAVIMENTADA DO MUNICÍPIO DE RIO BRILHANTE/MS
A2: LOCAL: RIO BRILHANTE/MS
A3: PRAZO: 365 (dias)
A4: PROCESSO:
A7: MANUTENÇÃO E CONSERVAÇÃO DAS PONTES DE MADEIRA
A8: Item | B8: Código SICRO/AGESUL | C8: Descrição | D8: Unid | E8: ORÇAMENTO ONERADO - OUT/23 | K8: ORÇAMENTO DESONERADO - OUT/23
H9: BDI SERV = | I9: 0.2126 | N9: BDI SERV = | O9: 0.2723
H10: BDI MAT = | I10: 0.1527 | N10: BDI MAT = | O10: 0.2092
E11: Quantidade | F11: Unitário | G11: Total | H11: Unitário | I11: Total | J11: % | K11: Quantidade | L11: Unitário | M11: Total | N11: Unitário | O11: Total | P11: %
A12: 01 | C12: SERVIÇOS DE LIMPEZA DA FAIXA DE DOMÍNIO
A13: 01.01 | B13: 4915744 | C13: Capina Manual | D13: m² | E13: ='8 - Quantitativo - Final'!E10 -> 416 | F13: 0.72 | G13: =TRUNC(E13*F13,2) -> 299.52 | H13: =TRUNC(F13*(1+$I$9),2) -> 0.87 | I13: =TRUNC(E13*H13,2) -> 361.92 | J13: =I13/$I$108 -> 0.000310403 | K13: =E13 -> 416 | L13: 0.66 | M13: =TRUNC(K13*L13,2) -> 274.56 | N13: =TRUNC(L13*(1+$O$9),2) -> 0.83 | O13: =TRUNC(K13*N13,2) -> 345.28 | P13: =O13/$O$108 -> 0.00029363544
A14: 01.02 | B14: 4915776 | C14: Roçada com roçadeira costal | D14: há | E14: ='8 - Quantitativo - Final'!E11 -> 0.427 | F14: 758.32 | G14: =TRUNC(E14*F14,2) -> 323.8 | H14: =TRUNC(F14*(1+$I$9),2) -> 919.53 | I14: =TRUNC(E14*H14,2) -> 392.63 | J14: =I14/$I$108 -> 0.00033674163 | K14: =E14 -> 0.427 | L14: 709.71 | M14: =TRUNC(K14*L14,2) -> 303.04 | N14: =TRUNC(L14*(1+$O$9),2) -> 902.96 | O14: =TRUNC(K14*N14,2) -> 385.56 | P14: =O14/$O$108 -> 0.00032789064
A15: 01.03 | B15: 4915672 | C15: Limpeza de ponte | D15: m | E15: ='8 - Quantitativo - Final'!E12 -> 335.7 | F15: 4.21 | G15: =TRUNC(E15*F15,2) -> 1413.29 | H15: =TRUNC(F15*(1+$I$9),2) -> 5.1 | I15: =TRUNC(E15*H15,2) -> 1712.07 | J15: =I15/$I$108 -> 0.0014683678 | K15: =E15 -> 335.7 | L15: 3.85 | M15: =TRUNC(K15*L15,2) -> 1292.44 | N15: =TRUNC(L15*(1+$O$9),2) -> 4.89 | O15: =TRUNC(K15*N15,2) -> 1641.57 | P15: =O15/$O$108 -> 0.0013960355
A16: SUB TOTAL - SERVIÇOS DE LIMPEZA DE FAIXA DE DOMÍNIO | G16: =SUM(G13:G15) -> 2036.61 | I16: =SUM(I13:I15) -> 2466.62 | M16: =SUM(M13:M15) -> 1870.04 | O16: =SUM(O13:O15) -> 2372.41
A18: 02 | C18: FUNDAÇÃO
A19: 02.01 | B19: AGM9910009 | C19: Infraestrutura - Cravação de Estaca/Pilar em madeira de lei (0,25 x 0,30m) | D19: m | E19: ='8 - Quantitativo - Final'!E15 -> 196.8 | F19: 52.96 | G19: =TRUNC(E19*F19,2) -> 10422.52 | H19: =TRUNC(F19*(1+$I$9),2) -> 64.21 | I19: =TRUNC(E19*H19,2) -> 12636.52 | J19: =I19/$I$108 -> 0.010837792 | K19: =E19 -> 196.8 | L19: 50.91 | M19: =TRUNC(K19*L19,2) -> 10019.08 | N19: =TRUNC(L19*(1+$O$9),2) -> 64.77 | O19: =TRUNC(K19*N19,2) -> 12746.73 | P19: =O19/$O$108 -> 0.010840164
A20: 02.02 | B20: AGM9910008 | C20: Infraestrutura - Ponteira para esteio | D20: un | E20: 65 | F20: 408.45 | G20: =TRUNC(E20*F20,2) -> 26549.25 | H20: =TRUNC(F20*(1+$I$9),2) -> 495.28 | I20: =TRUNC(E20*H20,2) -> 32193.2 | J20: =I20/$I$108 -> 0.027610704 | K20: =E20 -> 65 | L20: 389.58 | M20: =TRUNC(K20*L20,2) -> 25322.7 | N20: =TRUNC(L20*(1+$O$9),2) -> 495.66 | O20: =TRUNC(K20*N20,2) -> 32217.9 | P20: =O20/$O$108 -> 0.027398973
A21: 02.03 | B21: AGM9910022 | C21: Infraestrutura - Emenda metálica em estaca de madeira (furação e fixação de 2 chapas metálicas, parafusos e porcas) | D21: un | E21: 65 | F21: 36.98 | G21: =TRUNC(E21*F21,2) -> 2403.7 | H21: =TRUNC(F21*(1+$I$9),2) -> 44.84 | I21: =TRUNC(E21*H21,2) -> 2914.6 | J21: =I21/$I$108 -> 0.0024997253 | K21: =E21 -> 65 | L21: 33.65 | M21: =TRUNC(K21*L21,2) -> 2187.25 | N21: =TRUNC(L21*(1+$O$9),2) -> 42.81 | O21: =TRUNC(K21*N21,2) -> 2782.65 | P21: =O21/$O$108 -> 0.0023664407
A22: SUB TOTAL - FUNDAÇÃO | G22: =SUM(G19:G21) -> 39375.47 | I22: =SUM(I19:I21) -> 47744.32 | M22: =SUM(M19:M21) -> 37529.03 | O22: =SUM(O19:O21) -> 47747.28
A24: 03 | C24: ELEMENTOS DE APOIO
A25: 03.01 | B25: AGM9910010 | C25: Infraestrutura - Desmontagem parcial de Pilar/Esteio em madeira de lei (0,25 x 0,30m) | D25: m | E25: ='8 - Quantitativo - Final'!E20 -> 393.6 | F25: 8.94 | G25: =TRUNC(E25*F25,2) -> 3518.78 | H25: =TRUNC(F25*(1+$I$9),2) -> 10.84 | I25: =TRUNC(E25*H25,2) -> 4266.62 | J25: =I25/$I$108 -> 0.0036592939 | K25: =E25 -> 393.6 | L25: 8.14 | M25: =TRUNC(K25*L25,2) -> 3203.9 | N25: =TRUNC(L25*(1+$O$9),2) -> 10.35 | O25: =TRUNC(K25*N25,2) -> 4073.76 | P25: =O25/$O$108 -> 0.0034644356
A26: 03.02 | B26: AGM9910012 | C26: Infraestrutura - Construção de Pilar/Esteio em madeira de lei (0,25 x 0,30m) exceto a cravação | D26: m | E26: ='8 - Quantitativo - Final'!E21 -> 393.6 | F26: 22.18 | G26: =TRUNC(E26*F26,2) -> 8730.04 | H26: =TRUNC(F26*(1+$I$9),2) -> 26.89 | I26: =TRUNC(E26*H26,2) -> 10583.9 | J26: =I26/$I$108 -> 0.0090773495 | K26: =E26 -> 393.6 | L26: 20.49 | M26: =TRUNC(K26*L26,2) -> 8064.86 | N26: =TRUNC(L26*(1+$O$9),2) -> 26.06 | O26: =TRUNC(K26*N26,2) -> 10257.21 | P26: =O26/$O$108 -> 0.0087230085
A27: 03.03 | B27: AGM9910013 | C27: Infraestrutura - Desmontagem de Travesseiro superior/intermediário em madeira de lei (0,25 x 0,25m) | D27: m | E27: ='8 - Quantitativo - Final'!E22 -> 328.8 | F27: 17.8 | G27: =TRUNC(E27*F27,2) -> 5852.64 | H27: =TRUNC(F27*(1+$I$9),2) -> 21.58 | I27: =TRUNC(E27*H27,2) -> 7095.5 | J27: =I27/$I$108 -> 0.0060855009 | K27: =E27 -> 328.8 | L27: 16.21 | M27: =TRUNC(K27*L27,2) -> 5329.84 | N27: =TRUNC(L27*(1+$O$9),2) -> 20.62 | O27: =TRUNC(K27*N27,2) -> 6779.85 | P27: =O27/$O$108 -> 0.0057657676
A28: 03.04 | B28: AGM9910014 | C28: Infraestrutura - Montagem c/ reaprov de Travesseiro superior/intermediário em madeira de lei (0,25 x 0,25m) | D28: m | E28: 0 | F28: 42.64 | G28: =TRUNC(E28*F28,2) -> 0 | H28: =TRUNC(F28*(1+$I$9),2) -> 51.7 | I28: =TRUNC(E28*H28,2) -> 0 | J28: =I28/$I$108 -> 0 | K28: =E28 -> 0 | L28: =F28 -> 42.64 | M28: =TRUNC(K28*L28,2) -> 0 | N28: =TRUNC(L28*(1+$O$9),2) -> 54.25 | O28: =TRUNC(K28*N28,2) -> 0 | P28: =O28/$O$108 -> 0
A29: 03.04 | B29: AGM9910015 | C29: Infraestrutura - Construção de Travesseiro superior/intermediário em madeira de lei (0,25 x 0,25m) | D29: m | E29: 328.8 | F29: 42.64 | G29: =TRUNC(E29*F29,2) -> 14020.03 | H29: =TRUNC(F29*(1+$I$9),2) -> 51.7 | I29: =TRUNC(E29*H29,2) -> 16998.96 | J29: =I29/$I$108 -> 0.014579267 | K29: =E29 -> 328.8 | L29: 39.29 | M29: =TRUNC(K29*L29,2) -> 12918.55 | N29: =TRUNC(L29*(1+$O$9),2) -> 49.98 | O29: =TRUNC(K29*N29,2) -> 16433.42 | P29: =O29/$O$108 -> 0.013975424
A30: 03.05 | B30: AGM9910016 | C30: Infraestrutura - Desmontagem de Travesseiro inferior em madeira de lei (0,25 x 0,20m) | D30: m | E30: ='8 - Quantitativo - Final'!E25 -> 328.8 | F30: 7.12 | G30: =TRUNC(E30*F30,2) -> 2341.05 | H30: =TRUNC(F30*(1+$I$9),2) -> 8.63 | I30: =TRUNC(E30*H30,2) -> 2837.54 | J30: =I30/$I$108 -> 0.0024336343 | K30: =E30 -> 328.8 | L30: 6.49 | M30: =TRUNC(K30*L30,2) -> 2133.91 | N30: =TRUNC(L30*(1+$O$9),2) -> 8.25 | O30: =TRUNC(K30*N30,2) -> 2712.6 | P30: =O30/$O$108 -> 0.0023068683
A31: 03.06 | B31: AGM9910017 | C31: Infraestrutura - Montagem c/ reaprov de Travesseiro inferior em madeira de lei (0,25 x 0,20m) | D31: m | E31: 0 | F31: 12.83 | G31: =TRUNC(E31*F31,2) -> 0 | H31: =TRUNC(F31*(1+$I$9),2) -> 15.55 | I31: =TRUNC(E31*H31,2) -> 0 | J31: =I31/$I$108 -> 0 | K31: =E31 -> 0 | L31: =F31 -> 12.83 | M31: =TRUNC(K31*L31,2) -> 0 | N31: =TRUNC(L31*(1+$O$9),2) -> 16.32 | O31: =TRUNC(K31*N31,2) -> 0 | P31: =O31/$O$108 -> 0
A32: 03.06 | B32: AGM9910018 | C32: Infraestrutura - Construção de Travesseiro inferior em madeira de lei (0,25 x 0,20m) | D32: m | E32: 328.8 | F32: 17.17 | G32: =TRUNC(E32*F32,2) -> 5645.49 | H32: =TRUNC(F32*(1+$I$9),2) -> 20.82 | I32: =TRUNC(E32*H32,2) -> 6845.61 | J32: =I32/$I$108 -> 0.0058711812 | K32: =E32 -> 328.8 | L32: 15.78 | M32: =TRUNC(K32*L32,2) -> 5188.46 | N32: =TRUNC(L32*(1+$O$9),2) -> 20.07 | O32: =TRUNC(K32*N32,2) -> 6599.01 | P32: =O32/$O$108 -> 0.0056119764
A33: 03.07 | B33: AGM9910019 | C33: Infraestrutura - Desmontagem de Contraventamento em madeira de lei (0,20 x 0,15m) | D33: m | E33: 368.8 | F33: 9.74 | G33: =TRUNC(E33*F33,2) -> 3592.11 | H33: =TRUNC(F33*(1+$I$9),2) -> 11.81 | I33: =TRUNC(E33*H33,2) -> 4355.52 | J33: =I33/$I$108 -> 0.0037355396 | K33: =E33 -> 368.8 | L33: 8.88 | M33: =TRUNC(K33*L33,2) -> 3274.94 | N33: =TRUNC(L33*(1+$O$9),2) -> 11.29 | O33: =TRUNC(K33*N33,2) -> 4163.75 | P33: =O33/$O$108 -> 0.0035409655
A34: 03.09 | B34: AGM9910020 | C34: Infraestrutura - Montagem c/ reaprov. de Contraventamento em madeira de lei (0,20 x 0,15m) | D34: m | E34: 368.9 | F34: 0 | G34: =TRUNC(E34*F34,2) -> 0 | H34: =TRUNC(F34*(1+$I$9),2) -> 0 | I34: =TRUNC(E34*H34,2) -> 0 | J34: =I34/$I$108 -> 0 | K34: =E34 -> 368.9 | L34: =F34 -> 0 | M34: =TRUNC(K34*L34,2) -> 0 | N34: =TRUNC(L34*(1+$O$9),2) -> 0 | O34: =TRUNC(K34*N34,2) -> 0 | P34: =O34/$O$108 -> 0
A35: 03.08 | B35: AGM9910021 | C35: Infraestrutura - Construção de Contraventamento em madeira de lei (0,20 x 0,15m) | D35: m | E35: 368.8 | F35: 24.17 | G35: =TRUNC(E35*F35,2) -> 8913.89 | H35: =TRUNC(F35*(1+$I$9),2) -> 29.3 | I35: =TRUNC(E35*H35,2) -> 10805.84 | J35: =I35/$I$108 -> 0.0092676977 | K35: =E35 -> 368.8 | L35: 22.33 | M35: =TRUNC(K35*L35,2) -> 8235.3 | N35: =TRUNC(L35*(1+$O$9),2) -> 28.41 | O35: =TRUNC(K35*N35,2) -> 10477.6 | P35: =O35/$O$108 -> 0.0089104341
A36: SUB TOTAL - ELEMENTOS DE APOIO | G36: =G35+G33+G32+G30+G29+G27+G26+G25 -> 52614.03 | I36: =SUM(I25:I35) -> 63789.49 | M36: =SUM(M25:M35) -> 48349.76 | O36: =SUM(O25:O35) -> 61497.2
A38: 04 | C38: SUPERESTRUTURA
A39: 04.01 | B39: AGM9930017 | C39: Superestrutura - Desmontagem de Assoalho em madeira de lei (0,16 x 0,07m) | D39: m | E39: ='8 - Quantitativo - Final'!E33 -> 6176.88 | F39: 3.25 | G39: =TRUNC(E39*F39,2) -> 20074.86 | H39: =TRUNC(F39*(1+$I$9),2) -> 3.94 | I39: =TRUNC(E39*H39,2) -> 24336.9 | J39: =I39/$I$108 -> 0.020872698 | K39: =E39 -> 6176.88 | L39: 2.96 | M39: =TRUNC(K39*L39,2) -> 18283.56 | N39: =TRUNC(L39*(1+$O$9),2) -> 3.76 | O39: =TRUNC(K39*N39,2) -> 23225.06 | P39: =O39/$O$108 -> 0.019751218
A40: 04.02 | B40: AGM9930018 | C40: Superestrutura - Montagem c/ reaprov de Assoalho em madeira de lei (0,16 x 0,07m) | D40: m | E40: 0 | F40: 8.85 | G40: =TRUNC(E40*F40,2) -> 0 | H40: =TRUNC(F40*(1+$I$9),2) -> 10.73 | I40: =TRUNC(E40*H40,2) -> 0 | J40: =I40/$I$108 -> 0 | K40: =E40 -> 0 | L40: =F40 -> 8.85 | M40: =TRUNC(K40*L40,2) -> 0 | N40: =TRUNC(L40*(1+$O$9),2) -> 11.25 | O40: =TRUNC(K40*N40,2) -> 0 | P40: =O40/$O$108 -> 0
A41: 04.02 | B41: AGM9930019 | C41: Superestrutura - Construção de Assoalho em madeira de lei (0,16 x 0,07m) | D41: m | E41: 6176.88 | F41: 9.43 | G41: =TRUNC(E41*F41,2) -> 58247.97 | H41: =TRUNC(F41*(1+$I$9),2) -> 11.43 | I41: =TRUNC(E41*H41,2) -> 70601.73 | J41: =I41/$I$108 -> 0.060552025 | K41: =E41 -> 6176.88 | L41: 8.82 | M41: =TRUNC(K41*L41,2) -> 54480.08 | N41: =TRUNC(L41*(1+$O$9),2) -> 11.22 | O41: =TRUNC(K41*N41,2) -> 69304.59 | P41: =O41/$O$108 -> 0.058938496
A42: 04.03 | B42: AGM9930020 | C42: Superestrutura - Desmontagem de Rodeiro em madeira de lei (0,30 x 0,08m) | D42: m | E42: ='8 - Quantitativo - Final'!E36 -> 1611.36 | F42: 3.25 | G42: =TRUNC(E42*F42,2) -> 5236.92 | H42: =TRUNC(F42*(1+$I$9),2) -> 3.94 | I42: =TRUNC(E42*H42,2) -> 6348.75 | J42: =I42/$I$108 -> 0.005445046 | K42: =E42 -> 1611.36 | L42: 2.96 | M42: =TRUNC(K42*L42,2) -> 4769.62 | N42: =TRUNC(L42*(1+$O$9),2) -> 3.76 | O42: =TRUNC(K42*N42,2) -> 6058.71 | P42: =O42/$O$108 -> 0.0051524907
A43: 04.05 | B43: AGM9930021 | C43: Superestrutura - Montagem c/ reaprov de Rodeiro em madeira de lei (0,30 x 0,08m) | D43: m | E43: 0 | F43: 8.58 | G43: =TRUNC(E43*F43,2) -> 0 | H43: =TRUNC(F43*(1+$I$9),2) -> 10.4 | I43: =TRUNC(E43*H43,2) -> 0 | J43: =I43/$I$108 -> 0 | K43: =E43 -> 0 | L43: =F43 -> 8.58 | M43: =TRUNC(K43*L43,2) -> 0 | N43: =TRUNC(L43*(1+$O$9),2) -> 10.91 | O43: =TRUNC(K43*N43,2) -> 0 | P43: =O43/$O$108 -> 0
A44: 04.05 | B44: AGM9930022 | C44: Superestrutura - Construção de Rodeiro em madeira de lei (0,30 x 0,08m) | D44: m | E44: 1611.36 | F44: 9.31 | G44: =TRUNC(E44*F44,2) -> 15001.76 | H44: =TRUNC(F44*(1+$I$9),2) -> 11.28 | I44: =TRUNC(E44*H44,2) -> 18176.14 | J44: =I44/$I$108 -> 0.015588883 | K44: =E44 -> 1611.36 | L44: 8.69 | M44: =TRUNC(K44*L44,2) -> 14002.71 | N44: =TRUNC(L44*(1+$O$9),2) -> 11.05 | O44: =TRUNC(K44*N44,2) -> 17805.52 | P44: =O44/$O$108 -> 0.015142295
A45: 04.06 | B45: AGM9930023 | C45: Superestrutura - Desmontagem de Guia de rodas em madeira de lei (0,15 x 0,15m) | D45: m | E45: ='8 - Quantitativo - Final'!E39 -> 537.12 | F45: 4.87 | G45: =TRUNC(E45*F45,2) -> 2615.77 | H45: =TRUNC(F45*(1+$I$9),2) -> 5.9 | I45: =TRUNC(E45*H45,2) -> 3169 | J45: =I45/$I$108 -> 0.0027179131 | K45: =E45 -> 537.12 | L45: 4.44 | M45: =TRUNC(K45*L45,2) -> 2384.81 | N45: =TRUNC(L45*(1+$O$9),2) -> 5.64 | O45: =TRUNC(K45*N45,2) -> 3029.35 | P45: =O45/$O$108 -> 0.0025762411
A46: 04.08 | B46: AGM9930024 | C46: Superestrutura - Montagem c/ reaprov de Guia de rodas em madeira de lei (0,15 x 0,15m) | D46: m | E46: 0 | F46: 8.73 | G46: =TRUNC(E46*F46,2) -> 0 | H46: =TRUNC(F46*(1+$I$9),2) -> 10.58 | I46: =TRUNC(E46*H46,2) -> 0 | J46: =I46/$I$108 -> 0 | K46: =E46 -> 0 | L46: =F46 -> 8.73 | M46: =TRUNC(K46*L46,2) -> 0 | N46: =TRUNC(L46*(1+$O$9),2) -> 11.1 | O46: =TRUNC(K46*N46,2) -> 0 | P46: =O46/$O$108 -> 0
A47: 04.07 | B47: AGM9930025 | C47: Superestrutura - Construção de Guia de rodas em madeira de lei (0,15 x 0,15m) | D47: m | E47: 537.12 | F47: 12.09 | G47: =TRUNC(E47*F47,2) -> 6493.78 | H47: =TRUNC(F47*(1+$I$9),2) -> 14.66 | I47: =TRUNC(E47*H47,2) -> 7874.17 | J47: =I47/$I$108 -> 0.0067533322 | K47: =E47 -> 537.12 | L47: 11.17 | M47: =TRUNC(K47*L47,2) -> 5999.63 | N47: =TRUNC(L47*(1+$O$9),2) -> 14.21 | O47: =TRUNC(K47*N47,2) -> 7632.47 | P47: =O47/$O$108 -> 0.0064908587
A48: 04.08 | B48: AGM9930026 | C48: Superestrutura - Desmontagem de Longarina em madeira de lei (0,25 x 0,30m) | D48: m | E48: ='8 - Quantitativo - Final'!E42 -> 1008 | F48: 12.18 | G48: =TRUNC(E48*F48,2) -> 12277.44 | H48: =TRUNC(F48*(1+$I$9),2) -> 14.76 | I48: =TRUNC(E48*H48,2) -> 14878.08 | J48: =I48/$I$108 -> 0.01276028 | K48: =E48 -> 1008 | L48: 11.1 | M48: =TRUNC(K48*L48,2) -> 11188.8 | N48: =TRUNC(L48*(1+$O$9),2) -> 14.12 | O48: =TRUNC(K48*N48,2) -> 14232.96 | P48: =O48/$O$108 -> 0.012104094
A49: 04.11 | B49: AGM9930027 | C49: Superestrutura - Montagem c/ reaprov de Longarina em madeira de lei (0,25 x 0,30m) | D49: m | E49: 0 | F49: 26.91 | G49: =TRUNC(E49*F49,2) -> 0 | H49: =TRUNC(F49*(1+$I$9),2) -> 32.63 | I49: =TRUNC(E49*H49,2) -> 0 | J49: =I49/$I$108 -> 0 | K49: =E49 -> 0 | L49: =F49 -> 26.91 | M49: =TRUNC(K49*L49,2) -> 0 | N49: =TRUNC(L49*(1+$O$9),2) -> 34.23 | O49: =TRUNC(K49*N49,2) -> 0 | P49: =O49/$O$108 -> 0
A50: 04.09 | B50: AGM9930028 | C50: Superestrutura - Construção de Longarina em madeira de lei (0,25 x 0,30m) | D50: m | E50: 1008 | F50: 30.22 | G50: =TRUNC(E50*F50,2) -> 30461.76 | H50: =TRUNC(F50*(1+$I$9),2) -> 36.64 | I50: =TRUNC(E50*H50,2) -> 36933.12 | J50: =I50/$I$108 -> 0.031675926 | K50: =E50 -> 1008 | L50: 27.91 | M50: =TRUNC(K50*L50,2) -> 28133.28 | N50: =TRUNC(L50*(1+$O$9),2) -> 35.5 | O50: =TRUNC(K50*N50,2) -> 35784 | P50: =O50/$O$108 -> 0.03043168
A51: 04.10 | B51: AGM9930029 | C51: Superestrutura - Desmontagem de Sub-viga em madeira de lei (0,25 x 0,30m) | D51: m | E51: ='8 - Quantitativo - Final'!E45 -> 504 | F51: 12.18 | G51: =TRUNC(E51*F51,2) -> 6138.72 | H51: =TRUNC(F51*(1+$I$9),2) -> 14.76 | I51: =TRUNC(E51*H51,2) -> 7439.04 | J51: =I51/$I$108 -> 0.0063801402 | K51: =E51 -> 504 | L51: 11.1 | M51: =TRUNC(K51*L51,2) -> 5594.4 | N51: =TRUNC(L51*(1+$O$9),2) -> 14.12 | O51: =TRUNC(K51*N51,2) -> 7116.48 | P51: =O51/$O$108 -> 0.0060520468
B52: AGM9930030 | C52: Superestrutura - Montagem c/ reaprov de Sub-viga em madeira de lei (0,25 x 0,30m) | D52: m | E52: 0 | F52: 26.91 | G52: =TRUNC(E52*F52,2) -> 0 | H52: =TRUNC(F52*(1+$I$9),2) -> 32.63 | I52: =TRUNC(E52*H52,2) -> 0 | J52: =I52/$I$108 -> 0 | K52: =E52 -> 0 | L52: =F52 -> 26.91 | M52: =TRUNC(K52*L52,2) -> 0 | N52: =TRUNC(L52*(1+$O$9),2) -> 34.23 | O52: =TRUNC(K52*N52,2) -> 0 | P52: =O52/$O$108 -> 0
A53: 04.11 | B53: AGM9930031 | C53: Superestrutura - Construção de Sub-viga em madeira de lei (0,25 x 0,30m) | D53: m | E53: 504 | F53: 30.22 | G53: =TRUNC(E53*F53,2) -> 15230.88 | H53: =TRUNC(F53*(1+$I$9),2) -> 36.64 | I53: =TRUNC(E53*H53,2) -> 18466.56 | J53: =I53/$I$108 -> 0.015837963 | K53: =E53 -> 504 | L53: 27.91 | M53: =TRUNC(K53*L53,2) -> 14066.64 | N53: =TRUNC(L53*(1+$O$9),2) -> 35.5 | O53: =TRUNC(K53*N53,2) -> 17892 | P53: =O53/$O$108 -> 0.01521584
A54: SUB TOTAL - SUPERESTRUTURA | G54: =SUM(G39:G53) -> 171779.86 | I54: =SUM(I39:I53) -> 208223.49 | M54: =SUM(,M48:M53,M39:M47) -> 158903.53 | O54: =SUM(,O48:O53,O39:O47) -> 202081.14
A56: 05 | C56: ALAS
A57: 05.01 | B57: 4805757 | C57: Escavação mecânica de vala em material de 1ª categoria | D57: m³ | E57: ='8 - Quantitativo - Final'!E50 -> 352.8 | F57: 6.9 | G57: =TRUNC(E57*F57,2) -> 2434.32 | H57: =TRUNC(F57*(1+$I$9),2) -> 8.36 | I57: =TRUNC(E57*H57,2) -> 2949.4 | J57: =I57/$I$108 -> 0.0025295718 | K57: =E57 -> 352.8 | L57: 6.71 | M57: =TRUNC(K57*L57,2) -> 2367.28 | N57: =TRUNC(L57*(1+$O$9),2) -> 8.53 | O57: =TRUNC(K57*N57,2) -> 3009.38 | P57: =O57/$O$108 -> 0.0025592581
A58: 05.02 | B58: 4915671 | C58: Reaterro e compactação com soquete vibratório | D58: m³ | E58: ='8 - Quantitativo - Final'!E51 -> 352.8 | F58: 16.43 | G58: =TRUNC(E58*F58,2) -> 5796.5 | H58: =TRUNC(F58*(1+$I$9),2) -> 19.92 | I58: =TRUNC(E58*H58,2) -> 7027.77 | J58: =I58/$I$108 -> 0.0060274118 | K58: =E58 -> 352.8 | L58: 15.29 | M58: =TRUNC(K58*L58,2) -> 5394.31 | N58: =TRUNC(L58*(1+$O$9),2) -> 19.45 | O58: =TRUNC(K58*N58,2) -> 6861.96 | P58: =O58/$O$108 -> 0.0058355962
A59: 05.03 | B59: AGM9930032 | C59: Encontro - Desmontagem de Caixão de aterro em madeira de lei (0,20 x 0,06m) - Testeira de 4,50m, duas alas de 4,00m e esteios acima do solo, exceto as estacas cravadas) | D59: m² | E59: ='8 - Quantitativo - Final'!E52 -> 352.8 | F59: 34.93 | G59: =TRUNC(E59*F59,2) -> 12323.3 | H59: =TRUNC(F59*(1+$I$9),2) -> 42.35 | I59: =TRUNC(E59*H59,2) -> 14941.08 | J59: =I59/$I$108 -> 0.012814313 | K59: =E59 -> 352.8 | L59: 31.84 | M59: =TRUNC(K59*L59,2) -> 11233.15 | N59: =TRUNC(L59*(1+$O$9),2) -> 40.51 | O59: =TRUNC(K59*N59,2) -> 14291.92 | P59: =O59/$O$108 -> 0.012154235
A60: 05.04 | B60: AGM9930033 | C60: Encontro - Montagem de Caixão de aterro em madeira de lei (0,20 x 0,06m) - Testeira de 4,50m, duas alas de 4,00m e esteios acima do solo, exceto as estacas cravadas) | D60: m² | E60: 0 | F60: 69.95 | G60: =TRUNC(E60*F60,2) -> 0 | H60: =TRUNC(F60*(1+$I$9),2) -> 84.82 | I60: =TRUNC(E60*H60,2) -> 0 | J60: =I60/$I$108 -> 0 | K60: =E60 -> 0 | L60: =F60 -> 69.95 | M60: =TRUNC(K60*L60,2) -> 0 | N60: =TRUNC(L60*(1+$O$9),2) -> 88.99 | O60: =TRUNC(K60*N60,2) -> 0 | P60: =O60/$O$108 -> 0
A61: 05.04 | B61: AGM9930034 | C61: Encontro - Construção de Caixão de aterro em madeira de lei (0,20 x 0,06m) - Testeira de 4,50m, duas alas de 4,00m e esteios acima do solo, exceto as estacas cravadas) | D61: m² | E61: 352.8 | F61: 93.66 | G61: =TRUNC(E61*F61,2) -> 33043.24 | H61: =TRUNC(F61*(1+$I$9),2) -> 113.57 | I61: =TRUNC(E61*H61,2) -> 40067.49 | J61: =I61/$I$108 -> 0.034364139 | K61: =E61 -> 352.8 | L61: 87.13 | M61: =TRUNC(K61*L61,2) -> 30739.46 | N61: =TRUNC(L61*(1+$O$9),2) -> 110.85 | O61: =TRUNC(K61*N61,2) -> 39107.88 | P61: =O61/$O$108 -> 0.033258398
A62: SUB TOTAL - ALAS | G62: =SUM(G57:G61) -> 53597.36 | I62: =SUM(I57:I61) -> 64985.74 | M62: =SUM(M57:M61) -> 49734.2 | O62: =SUM(O57:O61) -> 63271.14
A64: 06 | C64: SERVIÇOS COMPLEMENTARES
A65: 06.01 | B65: 3816197 | C65: Plataforma de trabalho em madeira apoiada no solo - altura de até 6 m - utilização de 5 vezes - confecção, instalação e retirada | D65: m³ | E65: ='8 - Quantitativo - Final'!E57 -> 136.209 | F65: 60.9 | G65: =TRUNC(E65*F65,2) -> 8295.12 | H65: =TRUNC(F65*(1+$I$9),2) -> 73.84 | I65: =TRUNC(E65*H65,2) -> 10057.67 | J65: =I65/$I$108 -> 0.0086260249 | K65: =E65 -> 136.209 | L65: 58.7 | M65: =TRUNC(K65*L65,2) -> 7995.46 | N65: =TRUNC(L65*(1+$O$9),2) -> 74.68 | O65: =TRUNC(K65*N65,2) -> 10172.08 | P65: =O65/$O$108 -> 0.0086506116
A66: 06.02 | B66: AGM6000005 | C66: Pintura da ponte com emulsão RL-1C | D66: m² | E66: ='8 - Quantitativo - Final'!E58 -> 4987.236 | F66: 19.53 | G66: =TRUNC(E66*F66,2) -> 97400.71 | H66: =TRUNC(F66*(1+$I$9),2) -> 23.68 | I66: =TRUNC(E66*H66,2) -> 118097.74 | J66: =I66/$I$108 -> 0.10128728 | K66: =E66 -> 4987.236 | L66: 17.66 | M66: =TRUNC(K66*L66,2) -> 88074.58 | N66: =TRUNC(L66*(1+$O$9),2) -> 22.46 | O66: =TRUNC(K66*N66,2) -> 112013.32 | P66: =O66/$O$108 -> 0.095259153
A67: 06.03 | B67: AGM6000006 | C67: Instalação de ferragem, inclusive corte, dobramento, solda, furação e rosca de peças metálicas | D67: kg | E67: ='8 - Quantitativo - Final'!E59 -> 4926.444 | F67: 5.38 | G67: =TRUNC(E67*F67,2) -> 26504.26 | H67: =TRUNC(F67*(1+$I$9),2) -> 6.52 | I67: =TRUNC(E67*H67,2) -> 32120.41 | J67: =I67/$I$108 -> 0.027548275 | K67: =E67 -> 4926.444 | L67: 4.92 | M67: =TRUNC(K67*L67,2) -> 24238.1 | N67: =TRUNC(L67*(1+$O$9),2) -> 6.25 | O67: =TRUNC(K67*N67,2) -> 30790.27 | P67: =O67/$O$108 -> 0.026184877
A68: SUB TOTAL - SERVIÇOS COMPLEMENTARES | G68: =SUM(G65:G67) -> 132200.09 | I68: =SUM(I65:I67) -> 160275.82 | M68: =SUM(M65:M67) -> 120308.14 | O68: =SUM(O65:O67) -> 152975.67
A70: 07 | C70: AQUISIÇÃO
A71: 07.01 | B71: MA9899 | C71: Aquisição de madeira de lei (serrada, até 6,0m) | D71: m³ | E71: 0 | F71: 5640.92 | G71: =TRUNC(E71*F71,2) -> 0 | H71: =TRUNC(F71*(1+$I$10),2) -> 6502.28 | I71: =TRUNC(E71*H71,2) -> 0 | J71: =I71/$I$108 -> 0 | K71: =E71 -> 0 | L71: =F71 -> 5640.92 | M71: =TRUNC(K71*L71,2) -> 0 | N71: =TRUNC(L71*(1+$O$10),2) -> 6821 | O71: =TRUNC(K71*N71,2) -> 0 | P71: =O71/$O$108 -> 0
A72: 07.01 | B72: MA9905 | C72: Aquisição de ferro mecanico redondo 1" | D72: kg | E72: ='8 - Quantitativo - Final'!E63 -> 2467.443 | F72: 8.79 | G72: =TRUNC(E72*F72,2) -> 21688.82 | H72: =TRUNC(F72*(1+$I$10),2) -> 10.13 | I72: =TRUNC(E72*H72,2) -> 24995.19 | J72: =I72/$I$108 -> 0.021437284 | K72: =E72 -> 2467.443 | L72: =F72 -> 8.79 | M72: =TRUNC(K72*L72,2) -> 21688.82 | N72: =TRUNC(L72*(1+$O$10),2) -> 10.62 | O72: =TRUNC(K72*N72,2) -> 26204.24 | P72: =O72/$O$108 -> 0.022284794
A73: 07.02 | B73: MA9906 | C73: Aquisição de ferro mecanico redondo 1/2" | D73: kg | E73: ='8 - Quantitativo - Final'!E64 -> 876.882 | F73: 8.79 | G73: =TRUNC(E73*F73,2) -> 7707.79 | H73: =TRUNC(F73*(1+$I$10),2) -> 10.13 | I73: =TRUNC(E73*H73,2) -> 8882.81 | J73: =I73/$I$108 -> 0.0076183988 | K73: =E73 -> 876.882 | L73: =F73 -> 8.79 | M73: =TRUNC(K73*L73,2) -> 7707.79 | N73: =TRUNC(L73*(1+$O$10),2) -> 10.62 | O73: =TRUNC(K73*N73,2) -> 9312.48 | P73: =O73/$O$108 -> 0.0079195846
A74: 07.03 | B74: MA9907 | C74: Aquisição de ferro mecanico redondo 3/8" | D74: kg | E74: ='8 - Quantitativo - Final'!E65 -> 30.081 | F74: 4.56 | G74: =TRUNC(E74*F74,2) -> 137.16 | H74: =TRUNC(F74*(1+$I$10),2) -> 5.25 | I74: =TRUNC(E74*H74,2) -> 157.92 | J74: =I74/$I$108 -> 0.0001354411 | K74: =E74 -> 30.081 | L74: =F74 -> 4.56 | M74: =TRUNC(K74*L74,2) -> 137.16 | N74: =TRUNC(L74*(1+$O$10),2) -> 5.51 | O74: =TRUNC(K74*N74,2) -> 165.74 | P74: =O74/$O$108 -> 0.00014094977
A75: 07.04 | B75: MA9902 | C75: Aquisição de chapa metálica ASTM A-36 1/2" | D75: kg | E75: ='8 - Quantitativo - Final'!E66 -> 572 | F75: 5.72 | G75: =TRUNC(E75*F75,2) -> 3271.84 | H75: =TRUNC(F75*(1+$I$10),2) -> 6.59 | I75: =TRUNC(E75*H75,2) -> 3769.48 | J75: =I75/$I$108 -> 0.0032329186 | K75: =E75 -> 572 | L75: =F75 -> 5.72 | M75: =TRUNC(K75*L75,2) -> 3271.84 | N75: =TRUNC(L75*(1+$O$10),2) -> 6.91 | O75: =TRUNC(K75*N75,2) -> 3952.52 | P75: =O75/$O$108 -> 0.0033613298
A76: 07.05 | B76: M1949 | C76: Emulsão asfáltica RL-1C | D76: t | E76: 2.992 | F76: 2517.43 | G76: =TRUNC(E76*F76,2) -> 7532.15 | H76: =TRUNC(F76*(1+$I$10),2) -> 2901.84 | I76: =TRUNC(E76*H76,2) -> 8682.3 | J76: =I76/$I$108 -> 0.0074464301 | K76: =E76 -> 2.992 | L76: =F76 -> 2517.43 | M76: =TRUNC(K76*L76,2) -> 7532.15 | N76: =TRUNC(L76*(1+$O$10),2) -> 3044.07 | O76: =TRUNC(K76*N76,2) -> 9107.85 | P76: =O76/$O$108 -> 0.0077455617
A77: SUB TOTAL - AQUISIÇÃO | G77: =SUM(G71:G76) -> 40337.76 | I77: =SUM(I71:I76) -> 46487.7 | M77: =SUM(M71:M76) -> 40337.76 | O77: =SUM(O71:O76) -> 48742.83
A79: 08 | C79: TRANSPORTE
A80: 08.01 | B80: 5914479 | C80: Transporte com caminhão carroceria de 15 t - rodovia pavimentada (madeira) | D80: tkm | E80: ='8 - Quantitativo - Final'!E70 -> 79478.08 | F80: 0.74 | G80: =TRUNC(E80*F80,2) -> 58813.77 | H80: =TRUNC(F80*(1+$I$9),2) -> 0.89 | I80: =TRUNC(E80*H80,2) -> 70735.49 | J80: =I80/$I$108 -> 0.060666745 | K80: =E80 -> 79478.08 | L80: 0.73 | M80: =TRUNC(K80*L80,2) -> 58018.99 | N80: =TRUNC(L80*(1+$O$9),2) -> 0.92 | O80: =TRUNC(K80*N80,2) -> 73119.83 | P80: =O80/$O$108 -> 0.062183079
A81: 08.02 | B81: 5914464 | C81: Transporte com caminhão carroceria de 15 t - rodovia em revestimento primário (madeira) | D81: tkm | E81: ='8 - Quantitativo - Final'!E71 -> 3795.97 | F81: 0.91 | G81: =TRUNC(E81*F81,2) -> 3454.33 | H81: =TRUNC(F81*(1+$I$9),2) -> 1.1 | I81: =TRUNC(E81*H81,2) -> 4175.56 | J81: =I81/$I$108 -> 0.0035811957 | K81: =E81 -> 3795.97 | L81: 0.9 | M81: =TRUNC(K81*L81,2) -> 3416.37 | N81: =TRUNC(L81*(1+$O$9),2) -> 1.14 | O81: =TRUNC(K81*N81,2) -> 4327.4 | P81: =O81/$O$108 -> 0.0036801379
A82: 08.03 | B82: 5914479 | C82: Transporte com caminhão carroceria de 15 t - rodovia pavimentada (ferragem) | D82: tkm | E82: ='8 - Quantitativo - Final'!E72 -> 1642.72 | F82: 0.74 | G82: =TRUNC(E82*F82,2) -> 1215.61 | H82: =TRUNC(F82*(1+$I$9),2) -> 0.89 | I82: =TRUNC(E82*H82,2) -> 1462.02 | J82: =I82/$I$108 -> 0.0012539108 | K82: =E82 -> 1642.72 | L82: 0.73 | M82: =TRUNC(K82*L82,2) -> 1199.18 | N82: =TRUNC(L82*(1+$O$9),2) -> 0.92 | O82: =TRUNC(K82*N82,2) -> 1511.3 | P82: =O82/$O$108 -> 0.0012852503
A83: 08.04 | B83: 5914464 | C83: Transporte com caminhão carroceria de 15 t - rodovia em revestimento primário (ferragem) | D83: tkm | E83: ='8 - Quantitativo - Final'!E73 -> 78.46 | F83: 0.91 | G83: =TRUNC(E83*F83,2) -> 71.39 | H83: =TRUNC(F83*(1+$I$9),2) -> 1.1 | I83: =TRUNC(E83*H83,2) -> 86.3 | J83: =I83/$I$108 -> 7.4015746e-05 | K83: =E83 -> 78.46 | L83: 0.9 | M83: =TRUNC(K83*L83,2) -> 70.61 | N83: =TRUNC(L83*(1+$O$9),2) -> 1.14 | O83: =TRUNC(K83*N83,2) -> 89.44 | P83: =O83/$O$108 -> 7.6062192e-05
A84: 08.05 | B84: TP1949 | C84: Transporte de Emulsão Asfáltica RL-1C | D84: t | E84: 2.992 | F84: 146.92 | G84: =TRUNC(E84*F84,2) -> 439.58 | H84: =TRUNC(F84*(1+$I$10),2) -> 169.35 | I84: =TRUNC(E84*H84,2) -> 506.69 | J84: =I84/$I$108 -> 0.00043456592 | K84: =E84 -> 2.992 | L84: 146.92 | M84: =TRUNC(K84*L84,2) -> 439.58 | N84: =TRUNC(L84*(1+$O$10),2) -> 177.65 | O84: =TRUNC(K84*N84,2) -> 531.52 | P84: =O84/$O$108 -> 0.00045201897
A85: SUB TOTAL - TRANSPORTE | G85: =SUM(G80:G84) -> 63994.68 | I85: =SUM(I80:I84) -> 76966.06 | M85: =SUM(M80:M84) -> 63144.73 | O85: =SUM(O80:O84) -> 79579.49
A87: 09 | C87: SINALIZAÇÃO
A88: 09.01 | B88: 5213571 | C88: Fornecimento e implantação de placa em aço - película I + III | D88: m² | E88: ='8 - Quantitativo - Final'!E77 -> 20.904 | F88: 500.49 | G88: =TRUNC(E88*F88,2) -> 10462.24 | H88: =TRUNC(F88*(1+$I$9),2) -> 606.89 | I88: =TRUNC(E88*H88,2) -> 12686.42 | J88: =I88/$I$108 -> 0.010880589 | K88: =E88 -> 20.904 | L88: 494.15 | M88: =TRUNC(K88*L88,2) -> 10329.71 | N88: =TRUNC(L88*(1+$O$9),2) -> 628.7 | O88: =TRUNC(K88*N88,2) -> 13142.34 | P88: =O88/$O$108 -> 0.011176601
A89: 09.02 | B89: 5213572 | C89: Fornecimento e implantação de placa em aço - película III + III | D89: m² | E89: ='8 - Quantitativo - Final'!E78 -> 26.624 | F89: 604.58 | G89: =TRUNC(E89*F89,2) -> 16096.33 | H89: =TRUNC(F89*(1+$I$9),2) -> 733.11 | I89: =TRUNC(E89*H89,2) -> 19518.32 | J89: =I89/$I$108 -> 0.016740012 | K89: =E89 -> 26.624 | L89: 598.24 | M89: =TRUNC(K89*L89,2) -> 15927.54 | N89: =TRUNC(L89*(1+$O$9),2) -> 761.14 | O89: =TRUNC(K89*N89,2) -> 20264.59 | P89: =O89/$O$108 -> 0.017233555
A90: 09.03 | B90: 5213476 | C90: Fornecimento e implantação de placa delineador em aço - 0,50 x 0,60 m - película retrorrefletiva tipo I + IV | D90: un | E90: ='8 - Quantitativo - Final'!E79 -> 260 | F90: 177.31 | G90: =TRUNC(E90*F90,2) -> 46100.6 | H90: =TRUNC(F90*(1+$I$9),2) -> 215 | I90: =TRUNC(E90*H90,2) -> 55900 | J90: =I90/$I$108 -> 0.047942992 | K90: =E90 -> 260 | L90: 173.75 | M90: =TRUNC(K90*L90,2) -> 45175 | N90: =TRUNC(L90*(1+$O$9),2) -> 221.06 | O90: =TRUNC(K90*N90,2) -> 57475.6 | P90: =O90/$O$108 -> 0.048878803
A91: 09.04 | B91: 5216111 | C91: Fornecimento e implantação de suporte e travessa para placa de sinalização em madeira de lei tratada 8 x 8 cm | D91: un | E91: ='8 - Quantitativo - Final'!E80 -> 78 | F91: 110.37 | G91: =TRUNC(E91*F91,2) -> 8608.86 | H91: =TRUNC(F91*(1+$I$9),2) -> 133.83 | I91: =TRUNC(E91*H91,2) -> 10438.74 | J91: =I91/$I$108 -> 0.0089528521 | K91: =E91 -> 78 | L91: 108.43 | M91: =TRUNC(K91*L91,2) -> 8457.54 | N91: =TRUNC(L91*(1+$O$9),2) -> 137.95 | O91: =TRUNC(K91*N91,2) -> 10760.1 | P91: =O91/$O$108 -> 0.0091506797
A92: 09.05 | B92: AGM7020001 | C92: Fornecimento e implantação de plaqueta de aço 0,0168 m² - película I + III | D92: un | E92: ='8 - Quantitativo - Final'!E81 -> 273 | F92: 9.39 | G92: =TRUNC(E92*F92,2) -> 2563.47 | H92: =TRUNC(F92*(1+$I$9),2) -> 11.38 | I92: =TRUNC(E92*H92,2) -> 3106.74 | J92: =I92/$I$108 -> 0.0026645154 | K92: =E92 -> 273 | L92: 9.29 | M92: =TRUNC(K92*L92,2) -> 2536.17 | N92: =TRUNC(L92*(1+$O$9),2) -> 11.81 | O92: =TRUNC(K92*N92,2) -> 3224.13 | P92: =O92/$O$108 -> 0.0027418873
A93: SUB TOTAL - SINALIZAÇÃO | G93: =SUM(G88:G92) -> 83831.5 | I93: =SUM(I88:I92) -> 101650.22 | M93: =SUM(M88:M92) -> 82425.96 | O93: =SUM(O88:O92) -> 104866.76
A95: 10 | C95: CANTEIRO DE OBRAS
A96: 10.01 | B96: CANTALOJ | C96: Canteiro de obras | D96: un | E96: ='8 - Quantitativo - Final'!E84 -> 1 | F96: 92035.7 | G96: =TRUNC(E96*F96,2) -> 92035.7 | H96: =TRUNC(F96*(1+$I$9),2) -> 111602.48 | I96: =TRUNC(E96*H96,2) -> 111602.48 | J96: =I96/$I$108 -> 0.09571658 | K96: =E96 -> 1 | L96: =F96 -> 92035.7 | M96: =TRUNC(K96*L96,2) -> 92035.7 | N96: =TRUNC(L96*(1+$O$9),2) -> 117097.02 | O96: =TRUNC(K96*N96,2) -> 117097.02 | P96: =O96/$O$108 -> 0.099582469
A97: SUB TOTAL - CANTEIRO DE OBRAS | G97: =SUM(G96) -> 92035.7 | I97: =SUM(I96) -> 111602.48 | M97: =SUM(M96) -> 92035.7 | O97: =SUM(O96) -> 117097.02
A99: 11 | C99: ADMINISTRAÇÃO LOCAL E MANUTENÇÃO DO CANTEIRO
A100: 11.01 | B100: ADMEMAN | C100: Administração local e Manutenção de canteiro | D100: mês | E100: ='8 - Quantitativo - Final'!E87 -> 12 | F100: 18310.15 | G100: =TRUNC(E100*F100,2) -> 219721.8 | H100: =TRUNC(F100*(1+$I$9),2) -> 22202.88 | I100: =TRUNC(E100*H100,2) -> 266434.56 | J100: =I100/$I$108 -> 0.2285093 | K100: =E100 -> 12 | L100: =F100 -> 18310.15 | M100: =TRUNC(K100*L100,2) -> 219721.8 | N100: =TRUNC(L100*(1+$O$9),2) -> 23296 | O100: =TRUNC(K100*N100,2) -> 279552 | P100: =O100/$O$108 -> 0.23773857
A101: SUB TOTAL - ADMINISTRAÇÃO LOCAL | G101: =SUM(G100) -> 219721.8 | I101: =SUM(I100) -> 266434.56 | M101: =SUM(M100) -> 219721.8 | O101: =SUM(O100) -> 279552
A103: 12 | C103: MOBILIZAÇÃO E DESMOBILIZAÇÃO
A104: 12.01 | B104: MOBDESMEQU | C104: Mobilização e desmobilização de máquinas equipamentos pesados e containeres | D104: un | E104: ='8 - Quantitativo - Final'!E90 -> 1 | F104: 5806.78 | G104: =TRUNC(E104*F104,2) -> 5806.78 | H104: =TRUNC(F104*(1+$I$9),2) -> 7041.3 | I104: =TRUNC(E104*H104,2) -> 7041.3 | J104: =I104/$I$108 -> 0.0060390159 | K104: =E104 -> 1 | L104: =F104 -> 5806.78 | M104: =TRUNC(K104*L104,2) -> 5806.78 | N104: =TRUNC(L104*(1+$O$9),2) -> 7387.96 | O104: =TRUNC(K104*N104,2) -> 7387.96 | P104: =O104/$O$108 -> 0.0062829208
A105: 12.02 | B105: MOBDESMCAM | C105: Mobilização e desmobilização de equipamentos automotores | D105: un | E105: ='8 - Quantitativo - Final'!E91 -> 1 | F105: 1480.13 | G105: =TRUNC(E105*F105,2) -> 1480.13 | H105: =TRUNC(F105*(1+$I$9),2) -> 1794.8 | I105: =TRUNC(E105*H105,2) -> 1794.8 | J105: =I105/$I$108 -> 0.0015393217 | K105: =E105 -> 1 | L105: =F105 -> 1480.13 | M105: =TRUNC(K105*L105,2) -> 1480.13 | N105: =TRUNC(L105*(1+$O$9),2) -> 1883.16 | O105: =TRUNC(K105*N105,2) -> 1883.16 | P105: =O105/$O$108 -> 0.0016014901
A106: 12.03 | B106: MOBDESMPES | C106: Mobilização e desmobilização de pessoal e debandas mensais | D106: un | E106: ='8 - Quantitativo - Final'!E92 -> 1 | F106: 5364.93 | G106: =TRUNC(E106*F106,2) -> 5364.93 | H106: =TRUNC(F106*(1+$I$9),2) -> 6505.51 | I106: =TRUNC(E106*H106,2) -> 6505.51 | J106: =I106/$I$108 -> 0.0055794922 | K106: =E106 -> 1 | L106: =F106 -> 5364.93 | M106: =TRUNC(K106*L106,2) -> 5364.93 | N106: =TRUNC(L106*(1+$O$9),2) -> 6825.8 | O106: =TRUNC(K106*N106,2) -> 6825.8 | P106: =O106/$O$108 -> 0.0058048447
A107: SUB TOTAL - MOBILIZAÇÃO E DESMOBILIZAÇÃO | G107: =SUM(G104:G106) -> 12651.84 | I107: =SUM(I104:I106) -> 15341.61 | M107: =SUM(M104:M106) -> 12651.84 | O107: =SUM(O104:O106) -> 16096.92
F108: TOTAL: | G108: =SUM(G16,G22,G36,G54,G62,G68,G77,G85,G93,G97,G101,G107) -> 964176.7 | H108: TOTAL: | I108: =SUM(I16,I22,I36,I54,I62,I68,I77,I85,I93,I97,I101,I107) -> 1165968.1 | J108: =SUM(J13:J15,J19:J21,J25:J35,J39:J53,J57:J61,J65:J67,J71:J76,J80:J84,J88:J92,J96,J100,J104:J106) -> 1 | L108: TOTAL: | M108: =SUM(M16,M22,M36,M54,M62,M68,M77,M85,M93,M97,M101,M107) -> 927012.49 | N108: TOTAL: | O108: =SUM(O16,O22,O36,O54,O62,O68,O77,O85,O93,O97,O101,O107) -> 1175879.9 | P108: =SUM(P13:P15,P19:P21,P25:P35,P39:P53,P57:P61,P65:P67,P71:P76,P80:P84,P88:P92,P96,P100,P104:P106) -> 1

Sheet 10 - Cronograma
B3: CRONOGRAMA DE MANUTENÇÃO E CONSERVAÇÃO
B4: Objeto: | C4: Manutenção e Conservação das Pontes de Madeiras nas Rodovias que fazem parte da Malha Rodoviária Não Pavimentada do Município de Rio Brilhante/MS | M4: LOGO DA PREFEITURA
B5: Local: | C5: Rio Brilhante/MS
B6: Prazo: | C6: 365 (dias)
B7: Processo:
B10: ITEM | C10: Discriminação dos Serviços | D10: Total | E10: Peso (%) | F10: 1ª Medição | H10: 2ª Medição | J10: 3ª Medição | L10: 4ª Medição | N10: 5ª Medição | P10: 6ª Medição
D11: Serviços | F11: % | G11: Valor | H11: % | I11: Valor | J11: % | K11: Valor | L11: % | M11: Valor | N11: % | O11: Valor | P11: % | Q11: Valor
B12: 1 | C12: SERVIÇOS DE LIMPEZA DE FAIXA DE DOMINIO | D12: ='9 - Manutenção'!I16 -> 2466.62 | E12: =(D12/$D$24) -> 0.0021155124 | F12: =G12/$D$12 -> 0.083333333 | G12: =D12/12 -> 205.55167 | H12: =I12/$D$12 -> 0.083333333 | I12: =G12 -> 205.55167 | J12: =K12/$D$12 -> 0.083333333 | K12: =I12 -> 205.55167 | L12: =M12/$D$12 -> 0.083333333 | M12: =K12 -> 205.55167 | N12: =O12/$D$12 -> 0.083333333 | O12: =M12 -> 205.55167 | P12: =Q12/$D$12 -> 0.083333333 | Q12: =O12 -> 205.55167
B13: 2 | C13: FUNDAÇÃO | D13: ='9 - Manutenção'!I22 -> 47744.32 | E13: =(D13/$D$24) -> 0.040948221 | F13: =G13/$D$13 -> 0.083333333 | G13: =D13/12 -> 3978.6933 | H13: =I13/$D$13 -> 0.083333333 | I13: =G13 -> 3978.6933 | J13: =K13/$D$13 -> 0.083333333 | K13: =I13 -> 3978.6933 | L13: =M13/$D$13 -> 0.083333333 | M13: =K13 -> 3978.6933 | N13: =O13/$D$13 -> 0.083333333 | O13: =M13 -> 3978.6933 | P13: =Q13/$D$13 -> 0.083333333 | Q13: =O13 -> 3978.6933
B14: 3 | C14: ELEMENTOS DE APOIO | D14: ='9 - Manutenção'!I36 -> 63789.49 | E14: =(D14/$D$24) -> 0.054709464 | F14: =G14/$D$14 -> 0.083333333 | G14: =D14/12 -> 5315.7908 | H14: =I14/$D$14 -> 0.083333333 | I14: =G14 -> 5315.7908 | J14: =K14/$D$14 -> 0.083333333 | K14: =I14 -> 5315.7908 | L14: =M14/$D$14 -> 0.083333333 | M14: =K14 -> 5315.7908 | N14: =O14/$D$14 -> 0.083333333 | O14: =M14 -> 5315.7908 | P14: =Q14/$D$14 -> 0.083333333 | Q14: =O14 -> 5315.7908
B15: 4 | C15: SUPERESTRUTURA | D15: ='9 - Manutenção'!I54 -> 208223.49 | E15: =(D15/$D$24) -> 0.17858421 | F15: =G15/$D$15 -> 0.083333333 | G15: =D15/12 -> 17351.958 | H15: =I15/$D$15 -> 0.083333333 | I15: =G15 -> 17351.958 | J15: =K15/$D$15 -> 0.083333333 | K15: =I15 -> 17351.958 | L15: =M15/$D$15 -> 0.083333333 | M15: =K15 -> 17351.958 | N15: =O15/$D$15 -> 0.083333333 | O15: =M15 -> 17351.958 | P15: =Q15/$D$15 -> 0.083333333 | Q15: =O15 -> 17351.958
B16: 5 | C16: ALAS | D16: ='9 - Manutenção'!I62 -> 64985.74 | E16: =(D16/$D$24) -> 0.055735435 | F16: =G16/$D$16 -> 0.083333333 | G16: =D16/12 -> 5415.4783 | H16: =I16/$D$16 -> 0.083333333 | I16: =G16 -> 5415.4783 | J16: =K16/$D$16 -> 0.083333333 | K16: =I16 -> 5415.4783 | L16: =M16/$D$16 -> 0.083333333 | M16: =K16 -> 5415.4783 | N16: =O16/$D$16 -> 0.083333333 | O16: =M16 -> 5415.4783 | P16: =Q16/$D$16 -> 0.083333333 | Q16: =O16 -> 5415.4783
B17: 6 | C17: SERVIÇOS COMPLEMENTARES | D17: ='9 - Manutenção'!I68 -> 160275.82 | E17: =(D17/$D$24) -> 0.13746158 | F17: =G17/$D$17 -> 0.083333333 | G17: =D17/12 -> 13356.318 | H17: =I17/$D$17 -> 0.083333333 | I17: =G17 -> 13356.318 | J17: =K17/$D$17 -> 0.083333333 | K17: =I17 -> 13356.318 | L17: =M17/$D$17 -> 0.083333333 | M17: =K17 -> 13356.318 | N17: =O17/$D$17 -> 0.083333333 | O17: =M17 -> 13356.318 | P17: =Q17/$D$17 -> 0.083333333 | Q17: =O17 -> 13356.318
B18: 7 | C18: AQUISIÇÃO | D18: ='9 - Manutenção'!I77 -> 46487.7 | E18: =(D18/$D$24) -> 0.039870473 | F18: =G18/$D$18 -> 0.083333333 | G18: =D18/12 -> 3873.975 | H18: =I18/$D$18 -> 0.083333333 | I18: =G18 -> 3873.975 | J18: =K18/$D$18 -> 0.083333333 | K18: =I18 -> 3873.975 | L18: =M18/$D$18 -> 0.083333333 | M18: =K18 -> 3873.975 | N18: =O18/$D$18 -> 0.083333333 | O18: =M18 -> 3873.975 | P18: =Q18/$D$18 -> 0.083333333 | Q18: =O18 -> 3873.975
B19: 8 | C19: TRANSPORTE | D19: ='9 - Manutenção'!I85 -> 76966.06 | E19: =(D19/$D$24) -> 0.066010433 | F19: =G19/$D$19 -> 0.083333333 | G19: =D19/12 -> 6413.8383 | H19: =I19/$D$19 -> 0.083333333 | I19: =G19 -> 6413.8383 | J19: =K19/$D$19 -> 0.083333333 | K19: =I19 -> 6413.8383 | L19: =M19/$D$19 -> 0.083333333 | M19: =K19 -> 6413.8383 | N19: =O19/$D$19 -> 0.083333333 | O19: =M19 -> 6413.8383 | P19: =Q19/$D$19 -> 0.083333333 | Q19: =O19 -> 6413.8383
B20: 9 | C20: SINALIZAÇÃO | D20: ='9 - Manutenção'!I93 -> 101650.22 | E20: =(D20/$D$24) -> 0.087180961 | F20: =G20/$D$20 -> 0.083333333 | G20: =D20/12 -> 8470.8517 | H20: =I20/$D$20 -> 0.083333333 | I20: =G20 -> 8470.8517 | J20: =K20/$D$20 -> 0.083333333 | K20: =I20 -> 8470.8517 | L20: =M20/$D$20 -> 0.083333333 | M20: =K20 -> 8470.8517 | N20: =O20/$D$20 -> 0.083333333 | O20: =M20 -> 8470.8517 | P20: =Q20/$D$20 -> 0.083333333 | Q20: =O20 -> 8470.8517
B21: 10 | C21: CANTEIRO DE OBRAS | D21: ='9 - Manutenção'!I97 -> 111602.48 | E21: =(D21/$D$24) -> 0.09571658 | F21: =G21/$D$21 -> 0.083333333 | G21: =D21/12 -> 9300.2067 | H21: =I21/$D$21 -> 0.083333333 | I21: =G21 -> 9300.2067 | J21: =K21/$D$21 -> 0.083333333 | K21: =I21 -> 9300.2067 | L21: =M21/$D$21 -> 0.083333333 | M21: =K21 -> 9300.2067 | N21: =O21/$D$21 -> 0.083333333 | O21: =M21 -> 9300.2067 | P21: =Q21/$D$21 -> 0.083333333 | Q21: =O21 -> 9300.2067
B22: 11 | C22: ADMINISTRAÇÃO LOCAL E MANUTENÇÃO DE CANTEIRO | D22: ='9 - Manutenção'!I101 -> 266434.56 | E22: =(D22/$D$24) -> 0.2285093 | F22: =G22/$D$22 -> 0.083333333 | G22: =D22/12 -> 22202.88 | H22: =I22/$D$22 -> 0.083333333 | I22: =G22 -> 22202.88 | J22: =K22/$D$22 -> 0.083333333 | K22: =I22 -> 22202.88 | L22: =M22/$D$22 -> 0.083333333 | M22: =K22 -> 22202.88 | N22: =O22/$D$22 -> 0.083333333 | O22: =M22 -> 22202.88 | P22: =Q22/$D$22 -> 0.083333333 | Q22: =O22 -> 22202.88
B23: 12 | C23: MOBILIZAÇÃOE DESMOBILIZAÇÃO | D23: ='9 - Manutenção'!I107 -> 15341.61 | E23: =(D23/$D$24) -> 0.01315783 | F23: =G23/$D$23 -> 0.5 | G23: =D23/2 -> 7670.805 | H23: =I23/$D$23 -> 0 | I23: 0 | J23: =K23/$D$23 -> 0 | K23: =I23 -> 0 | L23: =M23/$D$23 -> 0 | M23: =K23 -> 0 | N23: =O23/$D$23 -> 0 | O23: =M23 -> 0 | P23: =Q23/$D$23 -> 0 | Q23: =O23 -> 0
C24: Total | D24: =SUM(D12:D23) -> 1165968.1 | E24: =SUM(E12:E23) -> 1 | F24: =G24/D24 -> 0.088815762 | G24: =SUM(G12:G23) -> 103556.35 | H24: =I24/D24 -> 0.082236848 | I24: =SUM(I12:I23) -> 95885.542 | J24: =K24/D24 -> 0.082236848 | K24: =SUM(K12:K23) -> 95885.542 | L24: =M24/D24 -> 0.082236848 | M24: =SUM(M12:M23) -> 95885.542 | N24: =O24/D24 -> 0.082236848 | O24: =SUM(O12:O23) -> 95885.542 | P24: =Q24/D24 -> 0.082236848 | Q24: =SUM(Q12:Q23) -> 95885.542
C25: Total Acumulado | F25: =G25/D24 -> 0.088815762 | G25: =G24 -> 103556.35 | H25: =I25/D24 -> 0.17105261 | I25: =G25+I24 -> 199441.89 | J25: =K25/D24 -> 0.25328946 | K25: =I25+K24 -> 295327.43 | L25: =M25/D24 -> 0.3355263 | M25: =K25+M24 -> 391212.97 | N25: =O25/D24 -> 0.41776315 | O25: =M25+O24 -> 487098.51 | P25: =Q25/D24 -> 0.5 | Q25: =Q24+O25 -> 582984.06
B28: ITEM | C28: Discriminação dos Serviços | D28: Total | E28: =E10 -> Peso (%) | F28: 7ª Medição | H28: 8ª Medição | J28: 9ª Medição | L28: 10ª Medição | N28: 11ª Medição | P28: 12ª Medição
D29: Serviços | F29: % | G29: Valor | H29: % | I29: Valor | J29: % | K29: Valor | L29: % | M29: Valor | N29: % | O29: Valor | P29: % | Q29: Valor
B30: 1 | C30: SERVIÇOS DE LIMPEZA DE FAIXA DE DOMINIO | D30: =D12 -> 2466.62 | E30: =E12 -> 0.0021155124 | F30: =G30/$D$12 -> 0.083333333 | G30: =Q12 -> 205.55167 | H30: =I30/$D$12 -> 0.083333333 | I30: =G30 -> 205.55167 | J30: =K30/$D$12 -> 0.083333333 | K30: =I30 -> 205.55167 | L30: =M30/$D$12 -> 0.083333333 | M30: =K30 -> 205.55167 | N30: =O30/$D$12 -> 0.083333333 | O30: =M30 -> 205.55167 | P30: =Q30/$D$12 -> 0.083333333 | Q30: =O30 -> 205.55167
B31: 2 | C31: FUNDAÇÃO | D31: =D13 -> 47744.32 | E31: =E13 -> 0.040948221 | F31: =G31/$D$13 -> 0.083333333 | G31: =Q13 -> 3978.6933 | H31: =I31/$D$13 -> 0.083333333 | I31: =G31 -> 3978.6933 | J31: =K31/$D$13 -> 0.083333333 | K31: =I31 -> 3978.6933 | L31: =M31/$D$13 -> 0.083333333 | M31: =K31 -> 3978.6933 | N31: =O31/$D$13 -> 0.083333333 | O31: =M31 -> 3978.6933 | P31: =Q31/$D$13 -> 0.083333333 | Q31: =O31 -> 3978.6933
B32: 3 | C32: ELEMENTOS DE APOIO | D32: =D14 -> 63789.49 | E32: =E14 -> 0.054709464 | F32: =G32/$D$14 -> 0.083333333 | G32: =Q14 -> 5315.7908 | H32: =I32/$D$14 -> 0.083333333 | I32: =G32 -> 5315.7908 | J32: =K32/$D$14 -> 0.083333333 | K32: =I32 -> 5315.7908 | L32: =M32/$D$14 -> 0.083333333 | M32: =K32 -> 5315.7908 | N32: =O32/$D$14 -> 0.083333333 | O32: =M32 -> 5315.7908 | P32: =Q32/$D$14 -> 0.083333333 | Q32: =O32 -> 5315.7908
B33: 4 | C33: SUPERESTRUTURA | D33: =D15 -> 208223.49 | E33: =E15 -> 0.17858421 | F33: =G33/$D$15 -> 0.083333333 | G33: =Q15 -> 17351.958 | H33: =I33/$D$15 -> 0.083333333 | I33: =G33 -> 17351.958 | J33: =K33/$D$15 -> 0.083333333 | K33: =I33 -> 17351.958 | L33: =M33/$D$15 -> 0.083333333 | M33: =K33 -> 17351.958 | N33: =O33/$D$15 -> 0.083333333 | O33: =M33 -> 17351.958 | P33: =Q33/$D$15 -> 0.083333333 | Q33: =O33 -> 17351.958
B34: 5 | C34: ALAS | D34: =D16 -> 64985.74 | E34: =E16 -> 0.055735435 | F34: =G34/$D$16 -> 0.083333333 | G34: =Q16 -> 5415.4783 | H34: =I34/$D$16 -> 0.083333333 | I34: =G34 -> 5415.4783 | J34: =K34/$D$16 -> 0.083333333 | K34: =I34 -> 5415.4783 | L34: =M34/$D$16 -> 0.083333333 | M34: =K34 -> 5415.4783 | N34: =O34/$D$16 -> 0.083333333 | O34: =M34 -> 5415.4783 | P34: =Q34/$D$16 -> 0.083333333 | Q34: =O34 -> 5415.4783
B35: 6 | C35: SERVIÇOS COMPLEMENTARES | D35: =D17 -> 160275.82 | E35: =E17 -> 0.13746158 | F35: =G35/$D$17 -> 0.083333333 | G35: =Q17 -> 13356.318 | H35: =I35/$D$17 -> 0.083333333 | I35: =G35 -> 13356.318 | J35: =K35/$D$17 -> 0.083333333 | K35: =I35 -> 13356.318 | L35: =M35/$D$17 -> 0.083333333 | M35: =K35 -> 13356.318 | N35: =O35/$D$17 -> 0.083333333 | O35: =M35 -> 13356.318 | P35: =Q35/$D$17 -> 0.083333333 | Q35: =O35 -> 13356.318
B36: 7 | C36: AQUISIÇÃO | D36: =D18 -> 46487.7 | E36: =E18 -> 0.039870473 | F36: =G36/$D$18 -> 0.083333333 | G36: =Q18 -> 3873.975 | H36: =I36/$D$18 -> 0.083333333 | I36: =G36 -> 3873.975 | J36: =K36/$D$18 -> 0.083333333 | K36: =I36 -> 3873.975 | L36: =M36/$D$18 -> 0.083333333 | M36: =K36 -> 3873.975 | N36: =O36/$D$18 -> 0.083333333 | O36: =M36 -> 3873.975 | P36: =Q36/$D$18 -> 0.083333333 | Q36: =O36 -> 3873.975
B37: 8 | C37: TRANSPORTE | D37: =D19 -> 76966.06 | E37: =E19 -> 0.066010433 | F37: =G37/$D$19 -> 0.083333333 | G37: =Q19 -> 6413.8383 | H37: =I37/$D$19 -> 0.083333333 | I37: =G37 -> 6413.8383 | J37: =K37/$D$19 -> 0.083333333 | K37: =I37 -> 6413.8383 | L37: =M37/$D$19 -> 0.083333333 | M37: =K37 -> 6413.8383 | N37: =O37/$D$19 -> 0.083333333 | O37: =M37 -> 6413.8383 | P37: =Q37/$D$19 -> 0.083333333 | Q37: =O37 -> 6413.8383
B38: 9 | C38: SINALIZAÇÃO | D38: =D20 -> 101650.22 | E38: =E20 -> 0.087180961 | F38: =G38/$D$20 -> 0.083333333 | G38: =Q20 -> 8470.8517 | H38: =I38/$D$20 -> 0.083333333 | I38: =G38 -> 8470.8517 | J38: =K38/$D$20 -> 0.083333333 | K38: =I38 -> 8470.8517 | L38: =M38/$D$20 -> 0.083333333 | M38: =K38 -> 8470.8517 | N38: =O38/$D$20 -> 0.083333333 | O38: =M38 -> 8470.8517 | P38: =Q38/$D$20 -> 0.083333333 | Q38: =O38 -> 8470.8517
B39: 10 | C39: CANTEIRO DE OBRAS | D39: =D21 -> 111602.48 | E39: =E21 -> 0.09571658 | F39: =G39/$D$21 -> 0.083333333 | G39: =Q21 -> 9300.2067 | H39: =I39/$D$21 -> 0.083333333 | I39: =G39 -> 9300.2067 | J39: =K39/$D$21 -> 0.083333333 | K39: =I39 -> 9300.2067 | L39: =M39/$D$21 -> 0.083333333 | M39: =K39 -> 9300.2067 | N39: =O39/$D$21 -> 0.083333333 | O39: =M39 -> 9300.2067 | P39: =Q39/$D$21 -> 0.083333333 | Q39: =O39 -> 9300.2067
B40: 11 | C40: ADMINISTRAÇÃO LOCAL E MANUTENÇÃO DE CANTEIRO | D40: =D22 -> 266434.56 | E40: =E22 -> 0.2285093 | F40: =G40/$D$22 -> 0.083333333 | G40: =Q22 -> 22202.88 | H40: =I40/$D$22 -> 0.083333333 | I40: =G40 -> 22202.88 | J40: =K40/$D$22 -> 0.083333333 | K40: =I40 -> 22202.88 | L40: =M40/$D$22 -> 0.083333333 | M40: =K40 -> 22202.88 | N40: =O40/$D$22 -> 0.083333333 | O40: =M40 -> 22202.88 | P40: =Q40/$D$22 -> 0.083333333 | Q40: =O40 -> 22202.88
B41: 12 | C41: MOBILIZAÇÃOE DESMOBILIZAÇÃO | D41: =D23 -> 15341.61 | E41: =E23 -> 0.01315783 | F41: =G41/$D$23 -> 0 | G41: =Q23 -> 0 | H41: =I41/$D$23 -> 0 | I41: 0 | J41: =K41/$D$23 -> 0 | K41: =I23 -> 0 | L41: =M41/$D$23 -> 0 | M41: =K23 -> 0 | N41: =O41/$D$23 -> 0 | O41: =M23 -> 0 | P41: =Q41/$D$23 -> 0.5 | Q41: =G23 -> 7670.805
C42: Total | D42: =SUM(D30:D41) -> 1165968.1 | E42: =SUM(E30:E41) -> 1 | F42: =G42/$D$24 -> 0.082236848 | G42: =SUM(G30:G41) -> 95885.542 | H42: =I42/$D$24 -> 0.082236848 | I42: =SUM(I30:I41) -> 95885.542 | J42: =K42/$D$24 -> 0.082236848 | K42: =SUM(K30:K41) -> 95885.542 | L42: =M42/$D$24 -> 0.082236848 | M42: =SUM(M30:M41) -> 95885.542 | N42: =O42/$D$24 -> 0.082236848 | O42: =SUM(O30:O41) -> 95885.542 | P42: =Q42/$D$24 -> 0.088815762 | Q42: =SUM(Q30:Q41) -> 103556.35
C43: Total Acumulado | F43: =G43/$D$24 -> 0.58223685 | G43: =G42+Q25 -> 678869.6 | H43: =I43/D24 -> 0.6644737 | I43: =I42+G43 -> 774755.14 | J43: =K43/$D$24 -> 0.74671054 | K43: =K42+I43 -> 870640.68 | L43: =M43/$D$24 -> 0.82894739 | M43: =M42+K43 -> 966526.22 | N43: =O43/$D$24 -> 0.91118424 | O43: =O42+M43 -> 1062411.8 | P43: =Q43/$D$24 -> 1 | Q43: =Q42+O43 -> 1165968.1
