Workbook
Name LINHA7: #REF!
Name LINHA7: #REF!

Sheet 1 - Orçamento Resumido
E3: PREFEITURA MUNICIPAL DE RIO BRILHANTE | K3: BANCOS:
E4: RUA THAYDE NOGUEIRA, Nº 1033, CENTRO | G4: ENCARGOS SOCIAIS | K4: SINAP 06/2025 - MS
E5: CNPJ: 03.681.582/0001-07 | G5: SEM DESONERAÇÃO | K5: AGESUL 06/2025
E6: OBRA: REFORMA ESF ANTÔNIO APARECIDO BITENCOURT
G7: HORISTA: 107,52% | K7: BDI: 25,00%
E8: LOCAL: RUA 16 DE JUNHO, 692 DISTRITO DE PRUDÊNCIO THOMAZ - RIO BRILHANTE - MS | G8: MENSALISTA: 64,8%
B10: ORÇAMENTO RESUMIDO
B12: ITEM | E12: DESCRIÇÃO | K12: TOTAL | L12: PESO (%)
B14: 1 | E14: SERVIÇOS PRELIMINARES | K14: 14410.05 | L14: 0.02061659
B15: 2 | E15: DEMOLIÇÕES E RETIRADAS | K15: 25339.92 | L15: 0.036254055
B16: 3 | E16: INFRAESTRUTURA | K16: 17776.17 | L16: 0.025432529
B17: 4 | E17: SUPRAESTRUTURA | K17: 11326.82 | L17: 0.016205385
B18: 5 | E18: ALVENARIA | K18: 40425.09 | L18: 0.057836545
B19: 6 | E19: INSTALAÇÕES HIDROSSANITÁRIAS | K19: 39357.75 | L19: 0.056309492
B20: 7 | E20: INSTALAÇÕES ELÉTRICAS | K20: 60909.6 | L20: 0.087143921
B21: 8 | E21: ESQUADRIAS E FERRAGENS | K21: 74033.67 | L21: 0.10592065
B22: 9 | E22: REVESTIMENTO | K22: 71046.5 | L22: 0.10164688
B23: 10 | E23: PINTURA | K23: 99089.64 | L23: 0.14176845
B24: 11 | E24: COBERTURA | K24: 141856.35 | L24: 0.20295518
B25: 12 | E25: LOUÇAS, PEDRAS E METAIS | K25: 14294.49 | L25: 0.020451257
... B29: 16 | E29: ADMINISTRAÇÃO LOCAL | K29: 31481.41 | L29: 0.045040741
G31: Total sem BDI | J31: 559238
G32: Total do BDI | J32: 139716.09
G33: Total Geral | J33: 698954.09

Sheet 2 - Orçamento Sintético
D3: ='1 - Orçamento Resumido'!E3 -> PREFEITURA MUNICIPAL DE RIO BRILHANTE | H3: ='1 - Orçamento Resumido'!K3 -> BANCOS:
D4: ='1 - Orçamento Resumido'!E4 -> RUA THAYDE NOGUEIRA, Nº 1033, CENTRO | F4: ENCARGOS SOCIAIS | H4: ='1 - Orçamento Resumido'!K4 -> SINAP 06/2025 - MS
D5: ='1 - Orçamento Resumido'!E5 -> CNPJ: 03.681.582/0001-07 | F5: ='1 - Orçamento Resumido'!G5 -> SEM DESONERAÇÃO | H5: ='1 - Orçamento Resumido'!K5 -> AGESUL 06/2025
D6: {='1 - Orçamento Resumido'!E6:F7} -> OBRA: REFORMA ESF ANTÔNIO APARECIDO BITENCOURT | E6: 0
D7: 0 | E7: 0 | F7: ='1 - Orçamento Resumido'!G7 -> HORISTA: 107,52% | H7: ='1 - Orçamento Resumido'!K7 -> BDI: 25,00%
D8: {='1 - Orçamento Resumido'!E8:F8} -> LOCAL: RUA 16 DE JUNHO, 692 DISTRITO DE PRUDÊNCIO THOMAZ - RIO BRILHANTE - MS | E8: 0 | F8: ='1 - Orçamento Resumido'!G8 -> MENSALISTA: 64,8%
B10: ORÇAMENTO SINTÉTICO
B12: ITEM | C12: CÓDIGO | D12: BANCO | E12: DESCRIÇÃO | F12: UND | G12: QUANT | H12: VALOR UNIT | I12: VALOR UNIT COM BDI | J12: TOTAL | K12: PESO (%)
B14: 1 | E14: SERVIÇOS PRELIMINARES | G14: 1 | I14: 14410.05 | J14: 14410.05 | K14: 0.02061659
B15: 1.1 | C15: 103689 | D15: SINAPI | E15: FORNECIMENTO E INSTALAÇÃO DE PLACA DE OBRA COM CHAPA GALVANIZADA E ESTRUTURA DE MADEIRA. AF_03/2022_PS | F15: m² | G15: 8 | H15: 455.88 | I15: 569.85 | J15: 4558.8 | K15: 0.0065223168
B16: 1.2 | C16: 0101001131 | D16: AGESUL | E16: TAPUME COM TELHA TRAPEZOIDAL EM ACO GALVANIZADO, ESP=0,50MM, ESTRUTURA EM MADEIRA NAO APARELHADA (REAPROVEITAMENTO DA TELHA DE 3X), INCLUSO PINTURA LATEX EXTERNAMENTE | F16: m² | G16: 42.8 | H16: 74.92 | I16: 93.65 | J16: 4008.22 | K16: 0.005734597
B17: 1.3 | C17: 2001004006 | D17: AGESUL | E17: LOCACAO MENSAL DE ANDAIME TUBULAR METALICO TIPO TORRE, COM LARGURA DE 1,00 ATE 1,50M E H=1,00M, INCLUSO A PRIMEIRA MONTAGEM E DESMONTAGEM | F17: M | G17: 27 | H17: 54.56 | I17: 68.2 | J17: 1841.4 | K17: 0.0026345078
B18: 1.4 | C18: 0101001181 | D18: AGESUL | E18: LOCACAO DE CONTAINER PARA DEPOSITO DE (2,30 X 6,00)M, ALT. 2,50M, SEM DIVISORIAS INTERNAS E SEM SANITARIO, EXC TRANSP/CARGA/DESCARGA | F18: MES | G18: 3 | H18: 705.85 | I18: 882.31 | J18: 2646.93 | K18: 0.0037869869
B19: 1.5 | C19: 0101001196 | D19: AGESUL | E19: MOBILIZACAO E DESMOBILIZACAO DE CONTAINER | F19: UN | G19: 1 | H19: 1083.76 | I19: 1354.7 | J19: 1354.7 | K19: 0.0019381817
B20: 2 | E20: DEMOLIÇÕES E RETIRADAS | G20: 1 | I20: 25339.92 | J20: 25339.92 | K20: 0.036254055
B21: 2.1 | C21: 97625 | D21: SINAPI | E21: DEMOLIÇÃO DE ALVENARIA PARA QUALQUER TIPO DE BLOCO, DE FORMA MECANIZADA, SEM REAPROVEITAMENTO. AF_09/2023 | F21: m³ | G21: 21.561 | H21: 50.16 | I21: 62.7 | J21: 1351.87 | K21: 0.0019341328
B22: 2.2 | C22: 0201001048 | D22: AGESUL | E22: DEMOLICAO DE PISO CERAMICO, DE FORMA MECANIZADA, SEM REAPROVEITAMENRO | F22: m² | G22: 275.13 | H22: 7.15 | I22: 8.93 | J22: 2456.91 | K22: 0.0035151236
B23: 2.3 | C23: 97629 | D23: SINAPI | E23: DEMOLIÇÃO DE LAJES, EM CONCRETO ARMADO, DE FORMA MECANIZADA COM MARTELETE, SEM REAPROVEITAMENTO. AF_09/2023 | F23: m³ | G23: 3.996 | H23: 88.59 | I23: 110.73 | J23: 442.47 | K23: 0.00063304587
B24: 2.4 | C24: 0201004084 | D24: AGESUL | E24: RETIRADA DE BALCAO E BANCADAS DE GRANITO, SEM REAPROVEITAMENTO | F24: m² | G24: 0.5 | H24: 46.49 | I24: 58.11 | J24: 29.05 | K24: 4.15621e-05
B25: 2.5 | C25: 97663 | D25: SINAPI | E25: REMOÇÃO DE LOUÇAS, DE FORMA MANUAL, SEM REAPROVEITAMENTO. AF_09/2023 | F25: UN | G25: 13 | H25: 12.11 | I25: 15.13 | J25: 196.69 | K25: 0.00028140618
B26: 2.6 | C26: 97666 | D26: SINAPI | E26: REMOÇÃO DE METAIS SANITÁRIOS, DE FORMA MANUAL, SEM REAPROVEITAMENTO. AF_09/2023 | F26: UN | G26: 6 | H26: 8.83 | I26: 11.03 | J26: 66.18 | K26: 9.468433e-05
B27: 2.7 | C27: 104790 | D27: SINAPI | E27: DEMOLIÇÃO DE PISO DE CONCRETO SIMPLES, DE FORMA MECANIZADA COM MARTELETE, SEM REAPROVEITAMENTO. AF_09/2023 | F27: m³ | G27: 0.824 | H27: 111.95 | I27: 139.93 | J27: 115.3 | K27: 0.00016496076
B28: 2.8 | C28: 97647 | D28: SINAPI | E28: REMOÇÃO DE TELHAS DE FIBROCIMENTO METÁLICA E CERÂMICA, DE FORMA MANUAL, SEM REAPROVEITAMENTO. AF_09/2023 | F28: m² | G28: 374.67 | H28: 3.41 | I28: 4.26 | J28: 1596.09 | K28: 0.0022835405
B29: 2.9 | C29: 97650 | D29: SINAPI | E29: REMOÇÃO DE TRAMA DE MADEIRA PARA COBERTURA, DE FORMA MANUAL, SEM REAPROVEITAMENTO. AF_09/2023 | F29: m² | G29: 374.67 | H29: 7.35 | I29: 9.18 | J29: 3439.47 | K29: 0.0049208811
B30: 2.10 | C30: 104803 | D30: SINAPI | E30: REMOÇÃO CALHAS E RUFOS, DE FORMA MANUAL, SEM REAPROVEITAMENTO. AF_09/2023 | F30: M | G30: 117.07 | H30: 4.38 | I30: 5.47 | J30: 640.37 | K30: 0.00091618321
B31: 2.11 | C31: 0201004004 | D31: AGESUL | E31: RETIRADA DE CUMEEIRA NORMAL OU ARTICULADA DE FIBROCIMENTO, SEM REAPROVEITAMENTO | F31: M | G31: 54.67 | H31: 3.01 | I31: 3.76 | J31: 205.55 | K31: 0.00029408226
B32: 2.12 | C32: 104802 | D32: SINAPI | E32: REMOÇÃO DE TELA DE ARAME GALVANIZADO DE ALAMBRADOS PARA QUADRAS POLIESPORTIVAS, DE FORMA MANUAL, SEM REMOÇÃO DA ESTRUTURA DE SUSTENTAÇÃO, SEM REAPROVEITAMENTO. AF_09/2023 | F32: m² | G32: 23.88 | H32: 9.09 | I32: 11.36 | J32: 271.27 | K32: 0.00038810847
... B37: 2.17 | C37: 0201002160 | D37: AGESUL | E37: CARGA MANUAL DE ENTULHO EM CACAMBA | F37: m³ | G37: 103.224 | H37: 14.51 | I37: 18.13 | J37: 1871.45 | K37: 0.0026775006
B38: 3 | E38: INFRAESTRUTURA | G38: 1 | I38: 17776.17 | J38: 17776.17 | K38: 0.025432529
B39: 3.1 | E39: ESTACA | G39: 1 | I39: 10792.8 | J39: 10792.8 | K39: 0.015441358
B40: 3.1.1 | C40: 0301000132 | D40: AGESUL | E40: ESTACA ESCAVADA MECANICAMENTE, SEM FLUIDO ESTABILIZANTE, COM 30CM DE DIAMETRO, CONCRETO 25MPA, LANCADO POR CAMINHAO BETONEIRA (EXCLUSIVE FERRAGENS, MOBILIZACAO E DESMOBILIZACAO) | F40: M | G40: 44 | H40: 72.87 | I40: 91.08 | J40: 4007.52 | K40: 0.0057335955
B41: 3.1.2 | C41: 95577 | D41: SINAPI | E41: MONTAGEM DE ARMADURA DE ESTACAS, DIÂMETRO = 10,0 MM. AF_09/2021_PS | F41: KG | G41: 134.3 | H41: 10.82 | I41: 13.52 | J41: 1815.73 | K41: 0.0025977815
B42: 3.1.3 | C42: 95583 | D42: SINAPI | E42: MONTAGEM DE ARMADURA TRANSVERSAL DE ESTACAS DE SEÇÃO CIRCULAR, DIÂMETRO = 5,0 MM. AF_09/2021_PS | F42: KG | G42: 36.8 | H42: 15.61 | I42: 19.51 | J42: 717.96 | K42: 0.0010271919
B43: 3.1.4 | C43: 95601 | D43: SINAPI | E43: ARRASAMENTO MECANICO DE ESTACA DE CONCRETO ARMADO, DIAMETROS DE ATÉ 40 CM. AF_05/2021 | F43: UN | G43: 11 | H43: 17.42 | I43: 21.77 | J43: 239.47 | K43: 0.00034261192
B44: 3.1.5 | C44: 0301000147 | D44: AGESUL | E44: MOBILIZACAO E DESMOBILIZACAO DE EQUIPAMENTO DE PERFURACAO PARA EXECUCAO DE FUNDACAO | F44: KM | G44: 322 | H44: 9.97 | I44: 12.46 | J44: 4012.12 | K44: 0.0057401767
B45: 3.2 | E45: BLOCO | G45: 1 | I45: 3141.47 | J45: 3141.47 | K45: 0.0044945298
B46: 3.2.1 | C46: 96523 | D46: SINAPI | E46: ESCAVAÇÃO MANUAL PARA BLOCO DE COROAMENTO OU SAPATA (INCLUINDO ESCAVAÇÃO PARA COLOCAÇÃO DE FÔRMAS). AF_01/2024 | F46: m³ | G46: 2.142 | H46: 89.7 | I46: 112.12 | J46: 240.16 | K46: 0.00034359911
B47: 3.2.2 | C47: 96535 | D47: SINAPI | E47: FABRICAÇÃO, MONTAGEM E DESMONTAGEM DE FÔRMA PARA SAPATA, EM MADEIRA SERRADA, E=25 MM, 4 UTILIZAÇÕES. AF_01/2024 | F47: m² | G47: 9.24 | H47: 118.67 | I47: 148.33 | J47: 1370.56 | K47: 0.0019608727
B48: 3.2.3 | C48: 96617 | D48: SINAPI | E48: LASTRO DE CONCRETO MAGRO, APLICADO EM BLOCOS DE COROAMENTO OU SAPATAS, ESPESSURA DE 3 CM. AF_01/2024 | F48: m² | G48: 0.0756 | H48: 18.75 | I48: 23.43 | J48: 1.77 | K48: 2.5323552e-06
B49: 3.2.4 | C49: 96543 | D49: SINAPI | E49: ARMAÇÃO DE BLOCO UTILIZANDO AÇO CA-60 DE 5 MM - MONTAGEM. AF_01/2024 | F49: KG | G49: 15.9 | H49: 19.28 | I49: 24.1 | J49: 383.19 | K49: 0.00054823343
...

Sheet 3 - Composições
D3: ='1 - Orçamento Resumido'!E3 -> PREFEITURA MUNICIPAL DE RIO BRILHANTE | G3: BANCOS:
D4: ='1 - Orçamento Resumido'!E4 -> RUA THAYDE NOGUEIRA, Nº 1033, CENTRO | F4: ENCARGOS SOCIAIS | G4: ='1 - Orçamento Resumido'!K4 -> SINAP 06/2025 - MS
D5: ='1 - Orçamento Resumido'!E5 -> CNPJ: 03.681.582/0001-07 | F5: ='1 - Orçamento Resumido'!G5 -> SEM DESONERAÇÃO | G5: ='1 - Orçamento Resumido'!K5 -> AGESUL 06/2025
D6: {='1 - Orçamento Resumido'!E6:F7} -> OBRA: REFORMA ESF ANTÔNIO APARECIDO BITENCOURT | E6: 0
D7: 0 | E7: 0 | F7: ='1 - Orçamento Resumido'!G7 -> HORISTA: 107,52% | G7: ='1 - Orçamento Resumido'!K7 -> BDI: 25,00%
D8: {='1 - Orçamento Resumido'!E8:F8} -> LOCAL: RUA 16 DE JUNHO, 692 DISTRITO DE PRUDÊNCIO THOMAZ - RIO BRILHANTE - MS | E8: 0 | F8: ='1 - Orçamento Resumido'!G8 -> MENSALISTA: 64,8%
B10: COMPOSIÇÕES COM PREÇO UNITÁRIO
B12: ITEM | C12: CÓDIGO | D12: BANCO | E12: DESCRIÇÃO | F12: TIPO | H12: UND | I12: QUANT | J12: VALOR UNIT | K12: TOTAL
B14: 1.1 | C14: Código | D14: Banco | E14: Descrição | F14: Tipo | H14: Und | I14: Quant. | J14: Valor Unit | K14: Total
B15: Composição | C15: 103689 | D15: SINAPI | E15: FORNECIMENTO E INSTALAÇÃO DE PLACA DE OBRA COM CHAPA GALVANIZADA E ESTRUTURA DE MADEIRA. AF_03/2022_PS | F15: Sinalização Vertical Viária | H15: m² | I15: 1 | J15: 455.88 | K15: 455.88
B16: Composição Auxiliar | C16: 88316 | D16: SINAPI | E16: SERVENTE COM ENCARGOS COMPLEMENTARES | F16: Livro SINAPI: Cálculos e Parâmetros | H16: H | I16: 1.1186 | J16: 20.74 | K16: 23.19
B17: Composição Auxiliar | C17: 102234 | D17: SINAPI | E17: PINTURA IMUNIZANTE PARA MADEIRA, 2 DEMÃOS. AF_01/2021 | F17: Pintura em Madeira | H17: m² | I17: 0.5 | J17: 22.5 | K17: 11.25
B18: Composição Auxiliar | C18: 88262 | D18: SINAPI | E18: CARPINTEIRO DE FORMAS COM ENCARGOS COMPLEMENTARES | F18: Livro SINAPI: Cálculos e Parâmetros | H18: H | I18: 0.3729 | J18: 25.35 | K18: 9.45
B19: Insumo | C19: 00005069 | D19: SINAPI | E19: PREGO DE ACO POLIDO COM CABECA 17 X 27 (2 1/2 X 11) | F19: Material | H19: KG | I19: 0.0132 | J19: 20.63 | K19: 0.27
B20: Insumo | C20: 00004813 | D20: SINAPI | E20: PLACA DE OBRA (PARA CONSTRUCAO CIVIL) EM CHAPA GALVANIZADA *N. 22*, ADESIVADA, DE *2,4 X 1,2* M (SEM POSTES PARA FIXACAO) | F20: Material | H20: m² | I20: 1 | J20: 400 | K20: 400
B21: Insumo | C21: 00004509 | D21: SINAPI | E21: SARRAFO *2,5 X 10* CM EM PINUS, MISTA OU EQUIVALENTE DA REGIAO - BRUTA | F21: Material | H21: M | I21: 3.2083 | J21: 3.52 | K21: 11.29
B22: Insumo | C22: 00005065 | D22: SINAPI | E22: PREGO DE ACO POLIDO COM CABECA 10 X 10 (7/8 X 17) | F22: Material | H22: KG | I22: 0.0113 | J22: 38.51 | K22: 0.43
F23: MO sem LS => | G23: 13.46 | H23: LS => | I23: 14.48 | J23: MO com LS => | K23: 27.94
F24: Valor do BDI => | G24: 113.97 | I24: Valor com BDI => | K24: 569.85
B26: 1.2 | C26: Código | D26: Banco | E26: Descrição | F26: Tipo | H26: Und | I26: Quant. | J26: Valor Unit | K26: Total
B27: Composição | C27: 0101001131 | D27: AGESUL | E27: TAPUME COM TELHA TRAPEZOIDAL EM ACO GALVANIZADO, ESP=0,50MM, ESTRUTURA EM MADEIRA NAO APARELHADA (REAPROVEITAMENTO DA TELHA DE 3X), INCLUSO PINTURA LATEX EXTERNAMENTE | F27: CANTEIRO DE OBRAS | H27: m² | I27: 1 | J27: 74.92 | K27: 74.92
B28: Insumo | C28: 1669 | D28: AGESUL | E28: CONCRETO MAGRO PARA LASTRO, TRACO 1:4,5:4,5 (EM MASSA SECA DE CIMENTO/ AREIA MEDIA/ BRITA 1) - PREPARO MANUAL. AF_05/2021 - SINAPI -94974 | F28: Material | H28: m³ | I28: 0.0012 | J28: 436.25 | K28: 0.52
B29: Insumo | C29: 1023 | D29: AGESUL | E29: CAIBRO NAO APARELHADO *5 X 6* CM, EM MACARANDUBA/MASSARANDUBA, ANGELIM OU EQUIVALENTE DA REGIAO - BRUTA - SINAPI -00004430 | F29: Material | H29: M | I29: 1.2273 | J29: 13.7 | K29: 16.81
B30: Insumo | C30: 4003 | D30: AGESUL | E30: CARPINTEIRO DE FORMAS COM ENCARGOS COMPLEMENTARES - SINAPI -88262 | F30: Mão de Obra | H30: H | I30: 0.5691 | J30: 25.35 | K30: 14.42
B31: Insumo | C31: 4031 | D31: AGESUL | E31: AJUDANTE DE CARPINTEIRO COM ENCARGOS COMPLEMENTARES - SINAPI -88239 | F31: Mão de Obra | H31: H | I31: 0.1897 | J31: 21.06 | K31: 3.99
B32: Insumo | C32: 1747 | D32: AGESUL | E32: PINTURA LATEX ACRILICA ECONÔMICA, APLICACAO MANUAL EM PAREDES, DUAS DEMAOS. AF_04/2023 - SINAPI -104641 | F32: Material | H32: m² | I32: 1 | J32: 8.71 | K32: 8.71
B33: Insumo | C33: 8540 | D33: AGESUL | E33: TELHA TRAPEZOIDAL EM ACO ZINCADO, SEM PINTURA, ALTURA DE APROXIMADAMENTE 40 MM, ESPESSURA DE 0,50 MM E LARGURA UTIL DE 980 MM - SINAPI -00007243 | F33: Material | H33: m² | I33: 0.35 | J33: 49.84 | K33: 17.44
B34: Insumo | C34: 1664 | D34: AGESUL | E34: TABUA *2,5 X 30 CM EM PINUS, MISTA OU EQUIVALENTE DA REGIAO - BRUTA - SINAPI -00006212 | F34: Material | H34: M | I34: 1 | J34: 11.5 | K34: 11.5
B35: Insumo | C35: 1631 | D35: AGESUL | E35: SERRA CIRCULAR DE BANCADA COM MOTOR ELETRICO POTENCIA DE 5HP, COM COIFA PARA DISCO 10" - CHI DIURNO. AF_08/2015 - SINAPI -91693 | F35: Material | H35: CHI | I35: 0.0191 | J35: 28.9 | K35: 0.55
B36: Insumo | C36: 1630 | D36: AGESUL | E36: SERRA CIRCULAR DE BANCADA COM MOTOR ELETRICO POTENCIA DE 5HP, COM COIFA PARA DISCO 10" - CHP DIURNO. AF_08/2015 - SINAPI -91692 | F36: Material | H36: CHP | I36: 0.0044 | J36: 30.46 | K36: 0.13
B37: Insumo | C37: 7433 | D37: AGESUL | E37: PREGO DE ACO POLIDO COM CABECA 18 X 27 (2 1/2 X 10) - SINAPI -00005061 | F37: Material | H37: KG | I37: 0.0428 | J37: 19.9 | K37: 0.85
F38: MO sem LS => | G38: 8.87 | H38: LS => | I38: 9.54 | J38: MO com LS => | K38: 18.41
F39: Valor do BDI => | G39: 18.73 | I39: Valor com BDI => | K39: 93.65
B41: 1.3 | C41: Código | D41: Banco | E41: Descrição | F41: Tipo | H41: Und | I41: Quant. | J41: Valor Unit | K41: Total
B42: Composição | C42: 2001004006 | D42: AGESUL | E42: LOCACAO MENSAL DE ANDAIME TUBULAR METALICO TIPO TORRE, COM LARGURA DE 1,00 ATE 1,50M E H=1,00M, INCLUSO A PRIMEIRA MONTAGEM E DESMONTAGEM | F42: SERVICOS COMPLEMENTARES | H42: M | I42: 1 | J42: 54.56 | K42: 54.56
B43: Insumo | C43: 4057 | D43: AGESUL | E43: MONTADOR DE ESTRUTURA METALICA COM ENCARGOS COMPLEMENTARES - SINAPI -88278 | F43: Mão de Obra | H43: H | I43: 0.402 | J43: 28.38 | K43: 11.4
B44: Insumo | C44: 2756 | D44: AGESUL | E44: TRANSPORTE HORIZONTAL MANUAL, DE TUBO DE ACO CARBONO LEVE OU MEDIO, PRETO OU GALVANIZADO, COM DIAMETRO MAIOR QUE 32 MM E MENOR OU IGUAL A 65 MM (UNIDADE: MXKM). AF_07/2019 - SINAPI -100251 | F44: Material | H44: MXKM | I44: 0.402 | J44: 12.68 | K44: 5.09
B45: Insumo | C45: 4014 | D45: AGESUL | E45: SERVENTE COM ENCARGOS COMPLEMENTARES - SINAPI -88316 | F45: Mão de Obra | H45: H | I45: 0.1 | J45: 20.74 | K45: 2.07
B46: Insumo | C46: 1509 | D46: AGESUL | E46: LOCACAO DE ANDAIME METALICO TUBULAR DE ENCAIXE, TIPO DE TORRE, CADA PAINEL COM LARGURA DE 1 ATE 1,5 M E ALTURA DE *1,00* M, INCLUINDO DIAGONAL, BARRAS DE LIGACAO, SAPATAS OU RODIZIOS E DEMAIS ITENS NECESSARIOS A MONTAGEM (NAO INCLUI INSTALACAO) - SINAPI -00010527 | F46: Material | H46: MXME | I46: 1 | J46: 36 | K46: 36
F47: MO sem LS => | G47: 6.49 | H47: LS => | I47: 6.98 | J47: MO com LS => | K47: 13.47
...

Sheet 4 -Cronograma Físico Financeiro
C3: ='1 - Orçamento Resumido'!E3 -> PREFEITURA MUNICIPAL DE RIO BRILHANTE | G3: BANCOS:
C4: ='1 - Orçamento Resumido'!E4 -> RUA THAYDE NOGUEIRA, Nº 1033, CENTRO | E4: ENCARGOS SOCIAIS | G4: ='1 - Orçamento Resumido'!K4 -> SINAP 06/2025 - MS
C5: ='1 - Orçamento Resumido'!E5 -> CNPJ: 03.681.582/0001-07 | E5: ='1 - Orçamento Resumido'!G5 -> SEM DESONERAÇÃO | G5: ='1 - Orçamento Resumido'!K5 -> AGESUL 06/2025
C6: {='1 - Orçamento Resumido'!E6:F7} -> OBRA: REFORMA ESF ANTÔNIO APARECIDO BITENCOURT | D6: 0
C7: 0 | D7: 0 | E7: ='1 - Orçamento Resumido'!G7 -> HORISTA: 107,52% | G7: ='1 - Orçamento Resumido'!K7 -> BDI: 25,00%
C8: {='1 - Orçamento Resumido'!E8:F8} -> LOCAL: RUA 16 DE JUNHO, 692 DISTRITO DE PRUDÊNCIO THOMAZ - RIO BRILHANTE - MS | D8: 0 | E8: ='1 - Orçamento Resumido'!G8 -> MENSALISTA: 64,8%
B10: CRONOGRAMA FÍSICO FINANCEIRO
B11: Item | C11: Descrição | G11: Total Por Etapa | H11: 30 DIAS | I11: 60 DIAS | J11: 90 DIAS
B12: 1 | C12: SERVIÇOS PRELIMINARES | G12: 100,00% 14.410,05 | H12: 86,00% 12.392,64 | I12: 7,00% 1.008,70 | J12: 7,00% 1.008,70
B13: 2 | C13: DEMOLIÇÕES E RETIRADAS | G13: 100,00% 25.339,92 | H13: 100,00% 25.339,92
B14: 3 | C14: INFRAESTRUTURA | G14: 100,00% 17.776,17 | H14: 100,00% 17.776,17
B15: 4 | C15: SUPRAESTRUTURA | G15: 100,00% 11.326,82 | H15: 50,00% 5.663,41 | I15: 50,00% 5.663,41
B16: 5 | C16: ALVENARIA | G16: 100,00% 40.425,09 | H16: 40,00% 16.170,04 | I16: 60,00% 24.255,05
B17: 6 | C17: INSTALAÇÕES HIDROSSANITÁRIAS | G17: 100,00% 39.357,75 | H17: 60,00% 23.614,65 | I17: 40,00% 15.743,10
B18: 7 | C18: INSTALAÇÕES ELÉTRICAS | G18: 100,00% 60.909,60 | H18: 60,00% 36.545,76 | I18: 20,00% 12.181,92 | J18: 20,00% 12.181,92
B19: 8 | C19: ESQUADRIAS E FERRAGENS | G19: 100,00% 74.033,67 | I19: 40,00% 29.613,47 | J19: 60,00% 44.420,20
B20: 9 | C20: REVESTIMENTO | G20: 100,00% 71.046,50 | I20: 20,00% 14.209,30 | J20: 80,00% 56.837,20
B21: 10 | C21: PINTURA | G21: 100,00% 99.089,64 | I21: 30,00% 29.726,89 | J21: 70,00% 69.362,75
B22: 11 | C22: COBERTURA | G22: 100,00% 141.856,35 | H22: 60,00% 85.113,81 | I22: 40,00% 56.742,54
B23: 12 | C23: LOUÇAS, PEDRAS E METAIS | G23: 100,00% 14.294,49 | I23: 20,00% 2.858,90 | J23: 80,00% 11.435,59
B24: 13 | C24: PTS | G24: 100,00% 6.096,28 | J24: 100,00% 6.096,28
B25: 14 | C25: SERVIÇOS COMPLEMENTARES | G25: 100,00% 49.487,35 | H25: 20,00% 9.897,47 | I25: 40,00% 19.794,94 | J25: 40,00% 19.794,94
B26: 15 | C26: SERVIÇOS FINAIS | G26: 100,00% 2.023,00 | J26: 100,00% 2.023,00
B27: 16 | C27: ADMINISTRAÇÃO LOCAL | G27: 100,00% 31.481,41 | H27: 33,33% 10.492,75 | I27: 33,33% 10.492,75 | J27: 33,34% 10.495,90
B28: Porcentagem | H28: 34,77% | I28: 31,8% | J28: 33,43%
B29: Custo | H29: 243.006,62 | I29: 222.290,97 | J29: 233.656,48
B30: Porcentagem Acumulado | H30: 34,77% | I30: 66,57% | J30: 100,0%
B31: Custo Acumulado | H31: 243.006,62 | I31: 465.297,59 | J31: 698.954,09

Sheet 5 - Memória de Cálculo
D3: ='1 - Orçamento Resumido'!E3 -> PREFEITURA MUNICIPAL DE RIO BRILHANTE | G3: BANCOS:
D4: ='1 - Orçamento Resumido'!E4 -> RUA THAYDE NOGUEIRA, Nº 1033, CENTRO | F4: ENCARGOS SOCIAIS | G4: ='1 - Orçamento Resumido'!K4 -> SINAP 06/2025 - MS
D5: ='1 - Orçamento Resumido'!E5 -> CNPJ: 03.681.582/0001-07 | F5: ='[1]1 - Orçamento Resumido'!G5 -> SEM DESONERAÇÃO | G5: ='1 - Orçamento Resumido'!K5 -> AGESUL 06/2025
D6: ='1 - Orçamento Resumido'!E6 -> OBRA: REFORMA ESF ANTÔNIO APARECIDO BITENCOURT
F7: ='1 - Orçamento Resumido'!G7 -> HORISTA: 107,52% | G7: ='1 - Orçamento Resumido'!K7 -> BDI: 25,00%
D8: ='1 - Orçamento Resumido'!E8 -> LOCAL: RUA 16 DE JUNHO, 692 DISTRITO DE PRUDÊNCIO THOMAZ - RIO BRILHANTE - MS | F8: ='1 - Orçamento Resumido'!G8 -> MENSALISTA: 64,8%
B10: MEMÓRIA DE CÁLCULO
B11: Item | C11: Código | D11: Banco | E11: Descrição | F11: Und | G11: Quant. | H11: Valor Unit | I11: Valor Unit com BDI | J11: Total | K11: Peso (%)
B12: 1 | E12: SERVIÇOS PRELIMINARES | G12: 1 | I12: 14410.05 | J12: 14410.05 | K12: 0.02061659
B13: 1.1 | C13: 103689 | D13: SINAPI | E13: FORNECIMENTO E INSTALAÇÃO DE PLACA DE OBRA COM CHAPA GALVANIZADA E ESTRUTURA DE MADEIRA. AF_03/2022_PS | F13: m² | G13: 8 | H13: 455.88 | I13: 569.85 | J13: 4558.8 | K13: 0.0065223168
B14: Local | E14: Descrição | F14: Fórmula | J14: Quantidade
E15: Altura x comprimento | F15: 2*4 | J15: 8
B16: 1.2 | C16: 0101001131 | D16: AGESUL | E16: TAPUME COM TELHA TRAPEZOIDAL EM ACO GALVANIZADO, ESP=0,50MM, ESTRUTURA EM MADEIRA NAO APARELHADA (REAPROVEITAMENTO DA TELHA DE 3X), INCLUSO PINTURA LATEX EXTERNAMENTE | F16: m² | G16: 42.8 | H16: 74.92 | I16: 93.65 | J16: 4008.22 | K16: 0.005734597
B17: Local | E17: Descrição | F17: Fórmula | J17: Quantidade
E18: Conforme Projeto Arquitetônico, serviços preliminares, ARQ 06/06 | F18: 42,80 | J18: 42.8
B19: 1.3 | C19: 2001004006 | D19: AGESUL | E19: LOCACAO MENSAL DE ANDAIME TUBULAR METALICO TIPO TORRE, COM LARGURA DE 1,00 ATE 1,50M E H=1,00M, INCLUSO A PRIMEIRA MONTAGEM E DESMONTAGEM | F19: M | G19: 27 | H19: 54.56 | I19: 68.2 | J19: 1841.4 | K19: 0.0026345078
B20: Local | E20: Descrição | F20: Fórmula | J20: Quantidade
E21: Prevista conforme demanda de serviços, altura x qtde torre x meses | F21: 3*3*3 | J21: 27
B22: 1.4 | C22: 0101001181 | D22: AGESUL | E22: LOCACAO DE CONTAINER PARA DEPOSITO DE (2,30 X 6,00)M, ALT. 2,50M, SEM DIVISORIAS INTERNAS E SEM SANITARIO, EXC TRANSP/CARGA/DESCARGA | F22: MES | G22: 3 | H22: 705.85 | I22: 882.31 | J22: 2646.93 | K22: 0.0037869869
B23: Local | E23: Descrição | F23: Fórmula | J23: Quantidade
E24: Conforme cronograma de execução | F24: 3 | J24: 3
B25: 1.5 | C25: 0101001196 | D25: AGESUL | E25: MOBILIZACAO E DESMOBILIZACAO DE CONTAINER | F25: UN | G25: 1 | H25: 1083.76 | I25: 1354.7 | J25: 1354.7 | K25: 0.0019381817
B26: Local | E26: Descrição | F26: Fórmula | J26: Quantidade
E27: Conforme necessidade da obra. | F27: 1 | J27: 1
B28: 2 | E28: DEMOLIÇÕES E RETIRADAS | G28: 1 | I28: 25339.92 | J28: 25339.92 | K28: 0.036254055
B29: 2.1 | C29: 97625 | D29: SINAPI | E29: DEMOLIÇÃO DE ALVENARIA PARA QUALQUER TIPO DE BLOCO, DE FORMA MECANIZADA, SEM REAPROVEITAMENTO. AF_09/2023 | F29: m³ | G29: 21.561 | H29: 50.16 | I29: 62.7 | J29: 1351.87 | K29: 0.0019341328
B30: Local | E30: Descrição | F30: Fórmula | J30: Quantidade
E31: Conforme Projeto Arquitetônico, prancha ARQ 02/06, quantitativo a demolir | F31: 143,74*0,15 | J31: 21.561
B32: 2.2 | C32: 0201001048 | D32: AGESUL | E32: DEMOLICAO DE PISO CERAMICO, DE FORMA MECANIZADA, SEM REAPROVEITAMENRO | F32: m² | G32: 275.13 | H32: 7.15 | I32: 8.93 | J32: 2456.91 | K32: 0.0035151236
B33: Local | E33: Descrição | F33: Fórmula | J33: Quantidade
E34: Conforme Projeto Arquitetônico, prancha ARQ 02/06, quantitativo a demolir | F34: 275,13 | J34: 275.13
B35: 2.3 | C35: 97629 | D35: SINAPI | E35: DEMOLIÇÃO DE LAJES, EM CONCRETO ARMADO, DE FORMA MECANIZADA COM MARTELETE, SEM REAPROVEITAMENTO. AF_09/2023 | F35: m³ | G35: 3.996 | H35: 88.59 | I35: 110.73 | J35: 442.47 | K35: 0.00063304587
B36: Local | E36: Descrição | F36: Fórmula | J36: Quantidade
E37: Conforme Projeto Arquitetônico, prancha ARQ 02/06, quantitativo a demolir | F37: 26,64*0,15 | J37: 3.996
B38: 2.4 | C38: 0201004084 | D38: AGESUL | E38: RETIRADA DE BALCAO E BANCADAS DE GRANITO, SEM REAPROVEITAMENTO | F38: m² | G38: 0.5 | H38: 46.49 | I38: 58.11 | J38: 29.05 | K38: 4.15621e-05
B39: Local | E39: Descrição | F39: Fórmula | J39: Quantidade
E40: Conforme Projeto Arquitetônico, prancha ARQ 02/06, quantitativo a demolir | F40: 0,50 | J40: 0.5
B41: 2.5 | C41: 97663 | D41: SINAPI | E41: REMOÇÃO DE LOUÇAS, DE FORMA MANUAL, SEM REAPROVEITAMENTO. AF_09/2023 | F41: UN | G41: 13 | H41: 12.11 | I41: 15.13 | J41: 196.69 | K41: 0.00028140618
B42: Local | E42: Descrição | F42: Fórmula | J42: Quantidade
E43: Conforme Projeto Arquitetônico, prancha ARQ 02/06, quantitativo a demolir | F43: 1+6+6 | J43: 13
...
