Workbook
Name Tabela10: #REF!
Name Tabela4: #REF!
Name Tabela55: #REF!
Name un: [1]Composições_SICRO!#REF!
Name un: [1]Composições_SICRO!#REF!
Name un: Capa!#REF!
Name un: [1]Composições_SICRO!#REF!
Name un: [1]Composições_SICRO!#REF!
Name un: Dados!#REF!
Name un: [1]Composições_SICRO!#REF!
Name un: [1]Composições_SICRO!#REF!
Name un: [1]Composições_SICRO!#REF!
Name un: [1]Composições_SICRO!#REF!
Name un: [1]Composições_SICRO!#REF!
Name un: Orçamento!#REF!
Name un: Resumo_Orçamento!#REF!
Name un: [1]Composições_SICRO!#REF!

Sheet Capa
D9: PLANILHA ORÇAMENTÁRIA E COMPOSIÇÕES DE CUSTOS
D24: PROJETO EXECUTIVO DE ENGENHARIA, ESTUDOS E ORÇAMENTOS PARA CONSTRUÇÃO DE PONTE RODOVIÁRIA EM CONCRETO ARMADO SOBRE O CÓRREGO IRETAN, ESTRADA VICINAL 14ª LINHA (LADO NASCENTE), COORDENADAS: 22°14'28.18"S, 54º04'37.28"O, LOCALIZADA NO MUNICÍPIO DE DEODÁPOLIS/MS
A54: MUNICÍPIO: | I54: =Dados!$I$5 -> DEODÁPOLIS/MS
A55: RODOVIA/ESTRADA: | I55: =Dados!I6:AR6 -> ESTRADA VICINAL 14ª LINHA (LADO NASCENTE)
A56: LOCAL: | I56: =Dados!I7:AR7 -> PONTE SOBRE O CÓRREGO IRETAN
A57: COORDENADAS UTM: | I57: =Dados!I8 -> 22°14'28.18"S, 54º04'37.28"O | AI57: ÁREA: | AO57: =Dados!AO8:AP8 -> 90 | AQ57: m²
A58: COMPRIMENTO: | I58: 60 | K58: m
A59: LARGURA: | I59: 6 | K59: m
A60: BDI: | I60: MATERIAL | L60: =Dados!$L$11 -> 0.1527 | O60: SERVIÇO | R60: =Dados!$R$11 -> 0.2391 | AI60: PRAZO DE EXECUÇÃO: | AO60: =Dados!$AO$11 -> 120 | AQ60: dias
A61: SISTEMA/REFERÊNCIA: | I61: =Dados!$I$12 -> SEM DESONERAÇÃO SICRO (JANEIRO/2026) | U61: =Dados!$U$12 -> NÃO DESONERADO SINAPI (JANEIRO/2026)

Sheet Dados
A4: OBJETO: | I4: CONSTRUÇÃO DE PONTE RODOVIÁRIA EM CONCRETO ARMADO
A5: MUNICÍPIO: | I5: DEODÁPOLIS/MS
A6: RODOVIA/ESTRADA: | I6: ESTRADA VICINAL 14ª LINHA (LADO NASCENTE)
A7: LOCAL: | I7: PONTE SOBRE O CÓRREGO IRETAN
A8: COORDENADAS: | I8: 22°14'28.18"S, 54º04'37.28"O | AI8: ÁREA: | AO8: =I9*I10 -> 90 | AQ8: m²
A9: COMPRIMENTO: | I9: 15 | K9: m
A10: LARGURA: | I10: 6 | K10: m
A11: BDI: | I11: INSUMO | L11: =BDI!D22/100 -> 0.1527 | O11: SERVIÇO | R11: =BDI!H22/100 -> 0.2391 | AI11: PRAZO DE EXECUÇÃO: | AO11: 120 | AQ11: dias
A12: SISTEMA/REFERÊNCIA: | I12: SEM DESONERAÇÃO SICRO (JANEIRO/2026) | U12: NÃO DESONERADO SINAPI (JANEIRO/2026)
A15: ESCONSIDADE: | I15: 0º
A16: INCLINAÇÃO: | I16: 0º
A19: DISTÂNCIA DE TRANSPORTE
A20: ITEM | I20: DESLOCAMENTO | Y20: RODOVIA PAVIMENTADA | AE20: REVESTIMENTO PRIMÁRIO | AK20: LEITO NATURAL
A21: MOBILIZAÇÃO: | I21: Campo Grande/MS ao Canteiro de Obras | Y21: =264-AK21 -> 256.8 | AB21: Km | AE21: 0 | AH21: Km | AK21: 7.2 | AN21: Km
A22: MATERIAIS BÁSICOS:
A23: CIMENTO: | I23: Material entregue no Canteiro de Obras | Y23: =Cotações!$AZ$45 -> 0 | AB23: Km | AE23: 0 | AH23: Km | AK23: =Cotações!$AT$45 -> 0 | AN23: Km
A24: AÇO CA-50: | I24: Dourados/MS ao Canteiro de Obras | Y24: =Cotações!$AZ$19 -> 0 | AB24: Km | AE24: =AE21 -> 0 | AH24: Km | AK24: =Cotações!$AT$19 -> 0 | AN24: Km
A25: MADEIRA: | I25: Deodápolis/MS ao Canteiro de Obras | Y25: ='Canteiro Id'!AK21 -> 7.3 | AB25: Km | AE25: =AE24 -> 0 | AH25: Km | AK25: ='Canteiro Id'!AK22 -> 7.2 | AN25: Km
A26: MATERIAIS AGREGADOS:
A27: AREIA: | I27: Naviraí/MS ao Canteiro de Obras | Y27: =Cotações!#REF! -> #REF! | AB27: Km | AE27: 0 | AH27: Km | AK27: =Cotações!#REF! -> #REF! | AN27: Km
A28: BRITA 1: | I28: Itaporã/MS ao Canteiro de Obras | Y28: =Cotações!$AZ$34 -> 106.8 | AB28: Km | AE28: 0 | AH28: Km | AK28: =Cotações!$AT$34 -> 11.2 | AN28: Km
A29: BRITA 2: | I29: Itaporã/MS ao Canteiro de Obras | Y29: =Cotações!$AZ$41 -> 106.8 | AB29: Km | AE29: 0 | AH29: Km | AK29: =Cotações!$AT$41 -> 11.2 | AN29: Km

Sheet Resumo_Orçamento
A4: OBJETO: | I4: =IF(Dados!I4="","",Dados!I4) -> CONSTRUÇÃO DE PONTE RODOVIÁRIA EM CONCRETO ARMADO
A5: =Dados!A5 -> MUNICÍPIO: | I5: =IF(Dados!I5="","",Dados!I5) -> DEODÁPOLIS/MS
A6: =Dados!A6 -> RODOVIA/ESTRADA: | I6: =IF(Dados!I6="","",Dados!I6) -> ESTRADA VICINAL 14ª LINHA (LADO NASCENTE)
A7: =Dados!A7 -> LOCAL: | I7: =IF(Dados!I7="","",Dados!I7) -> PONTE SOBRE O CÓRREGO IRETAN
A8: =Dados!A8 -> COORDENADAS: | I8: =IF(Dados!I8="","",Dados!I8) -> 22°14'28.18"S, 54º04'37.28"O | AI8: =Dados!AI8 -> ÁREA: | AO8: =IF(Dados!AO8="","",Dados!AO8) -> 90 | AQ8: m²
A9: =Dados!A9 -> COMPRIMENTO: | I9: =IF(Dados!I9="","",Dados!I9) -> 15 | K9: m
A10: =Dados!A10 -> LARGURA: | I10: =IF(Dados!I10="","",Dados!I10) -> 6 | K10: m
A11: BDI: | I11: =Dados!I11 -> INSUMO | L11: =IF(Dados!L11="","",Dados!L11) -> 0.1527 | O11: =Dados!O11 -> SERVIÇO | R11: =IF(Dados!R11="","",Dados!R11) -> 0.2391 | AI11: =Dados!AI11 -> PRAZO DE EXECUÇÃO: | AO11: =IF(Dados!AO11="","",Dados!AO11) -> 120 | AQ11: dias
A12: SISTEMA/REFERÊNCIA: | I12: =IF(Dados!I12="","",Dados!I12) -> SEM DESONERAÇÃO SICRO (JANEIRO/2026) | V12: =IF(Dados!U12="","",Dados!U12) -> NÃO DESONERADO SINAPI (JANEIRO/2026)
A14: RESUMO DA PLANILHA ORÇAMENTÁRIA
A15: Item | C15: Fonte | F15: Código | I15: Descrição | AN15: Preço Total
A16: =Orçamento!A16 -> 6 | I16: =Orçamento!I16 -> SERVIÇOS PRELIMINARES | AS16: Serv. Prel. (%)
I17: =CONCATENATE("TOTAL - ",I16) -> TOTAL - SERVIÇOS PRELIMINARES | AN17: =Orçamento!AO16 -> 39778.03 | AS17: =AN17/AO27 -> 0.043393909
A18: 7 | I18: =Orçamento!I21 -> MOBILIZAÇÃO E DESMOBILIZAÇÃO | AS18: Mob.e Desmob (%)
I19: =CONCATENATE("TOTAL - ",I18) -> TOTAL - MOBILIZAÇÃO E DESMOBILIZAÇÃO | AN19: =Orçamento!AO21 -> 119515.07 | AS19: =AN19/AO$27 -> 0.13037916
I20: =Orçamento!I26 -> PONTE SOBRE O CÓRREGO IRETAN | AS20: Infraestrutura (%)
A21: 1 | I21: =Orçamento!I27 -> INFRAESTRUTURA | AN21: =Orçamento!AO27 -> 124150.6 | AS21: =AN21/AO$27 -> 0.13543606
A22: 2 | I22: =Orçamento!I40 -> MESOESTRUTURA | AN22: =Orçamento!AO40 -> 285180.89 | AS22: =AN22/AO$27 -> 0.31110424
A23: 3 | I23: =Orçamento!I82 -> SUPERESTRUTURA | AN23: =Orçamento!AO82 -> 243729.62 | AS23: =AN23/AO$27 -> 0.26588499
A24: 4 | I24: =Orçamento!I115 -> SERVIÇOS COMPLEMENTARES | AN24: =Orçamento!AO115 -> 11857.28 | AS24: =AN24/AO$27 -> 0.012935123
A25: 5 | I25: =Orçamento!I124 -> ADMINISTRAÇÃO LOCAL | AS25: Adm. Local (%)
I26: =CONCATENATE("TOTAL - ",I25) -> TOTAL - ADMINISTRAÇÃO LOCAL | AN26: =Orçamento!AO124 -> 92461.63 | AS26: =AN26/AO$27 -> 0.10086652
I27: TOTAL GERAL | AO27: =AN17+AN19+SUM(AN21:AR24)+AN26 -> 916673.12
I28: CUSTO / m² | AO28: =$AO$27/$AO$8 -> 10185.257
H253: B.D.I. (20,70%):

Sheet Orçamento
A4: OBJETO: | I4: CONSTRUÇÃO DE PONTE RODOVIÁRIA EM CONCRETO ARMADO
A5: =Dados!A5 -> MUNICÍPIO: | I5: DEODÁPOLIS/MS
A6: =Dados!A6 -> RODOVIA/ESTRADA: | I6: ESTRADA VICINAL 14ª LINHA (LADO NASCENTE)
A7: =Dados!A7 -> LOCAL: | I7: PONTE SOBRE O CÓRREGO IRETAN
A8: =Dados!A8 -> COORDENADAS: | I8: 22°14'28.18"S, 54º04'37.28"O | AI8: =Dados!AI8 -> ÁREA: | AO8: =IF(Dados!AO8="","",Dados!AO8) -> 90 | AQ8: m²
A9: =Dados!A9 -> COMPRIMENTO: | I9: 15 | K9: m
A10: =Dados!A10 -> LARGURA: | I10: 6 | K10: m
A11: BDI: | I11: INSUMO | L11: 0.1527 | O11: SERVIÇO | R11: 0.2391 | AI11: =Dados!AI11 -> PRAZO DE EXECUÇÃO: | AO11: =IF(Dados!AO11="","",Dados!AO11) -> 120 | AQ11: dias
A12: SISTEMA/REFERÊNCIA: | I12: SEM DESONERAÇÃO SICRO (JANEIRO/2026) | V12: NÃO DESONERADO SINAPI (JANEIRO/2026)
A14: PLANILHA ORÇAMENTÁRIA
A15: Item | C15: Fonte | F15: Código | I15: Descrição | AD15: DMT | AF15: Un. | AH15: Quantidade | AK15: Preço Unitário | AO15: Preço Total
A16: 6 | I16: SERVIÇOS PRELIMINARES | AO16: =SUM(AO17,AO19) -> 39778.03
A17: =CONCATENATE(A16,".1") -> 6.1 | I17: CANTEIRO DE OBRAS | AO17: =SUM(AO18) -> 35230.43
A18: =CONCATENATE(A17,".1") -> 6.1.1 | C18: COMPOSIÇÃO | F18: IMT0000099 | I18: Instalação dos canteiros de obras e acampamentos | AF18: un | AH18: =Memória_Orçamento!K21 -> 1 | AK18: =ROUND('Canteiro Qtd'!AA68,2) -> 35230.43 | AO18: =IF(F18="","",ROUND((AH18*AK18),2)) -> 35230.43 | AS18: ok | AU18: =ROUND('Canteiro Qtd'!AA66,2) -> 28432.27 | AV18: =ROUND(AH18*AU18,2) -> 28432.27
A19: =CONCATENATE(A16,".2") -> 6.2 | I19: PLACA DA OBRA | AO19: =SUM(AO20) -> 4547.6
A20: =CONCATENATE(A19,".1") -> 6.2.1 | C20: SINAPI | F20: 103689 | I20: Fornecimento e instalação de placa de obra com chapa galvanizada e estrutura de madeira - AF_03/2022_PS | AF20: m² | AH20: =Memória_Orçamento!K34 -> 8 | AK20: =IF(F20="","",ROUND('Composições Principais'!L$97*(1+$R$11),2)) -> 568.45 | AO20: =IF(F20="","",ROUND((AH20*AK20),2)) -> 4547.6 | AS20: ok | AU20: =ROUND((AK20/(1+$R$11)),2) -> 458.76 | AV20: =ROUND(AH20*AU20,2) -> 3670.08
A21: 7 | I21: MOBILIZAÇÃO E DESMOBILIZAÇÃO | AO21: =SUM(AO22) -> 119515.07
A22: =CONCATENATE(A21,".1") -> 7.1 | I22: MOBILIZAÇÃO E DESMOBILIZAÇÃO | AO22: =SUM(AO23:AR25) -> 119515.07
A23: =CONCATENATE(A22,".1") -> 7.1.1 | C23: COMPOSIÇÃO | F23: IMT0000156 | I23: Mobilização e desmobilização de equipamentos | AF23: un | AH23: =Memória_Orçamento!K47 -> 1 | AK23: ='Mobilização EQP'!BO57 -> 98375.79 | AO23: =IF(F23="","",ROUND((AH23*AK23),2)) -> 98375.79 | AS23: ok | AU23: =ROUND((AK23/(1+$R$11)),2) -> 79392.94 | AV23: =ROUND(AH23*AU23,2) -> 79392.94 | AX23: =AO23/AH23 -> 98375.79
A24: =CONCATENATE(A22,".3") -> 7.1.3 | C24: COMPOSIÇÃO | F24: IMT9900195 | I24: Mobilização de pessoal e debandas | AF24: un | AH24: =Memória_Orçamento!K60 -> 4 | AK24: =IF(F24="","",ROUND('Composições Principais'!L$182*(1+$R$11),2)) -> 2642.41 | AO24: =IF(F24="","",ROUND((AH24*AK24),2)) -> 10569.64 | AS24: ok | AU24: =ROUND((AK24/(1+$R$11)),2) -> 2132.52 | AV24: =ROUND(AH24*AU24,2) -> 8530.08 | AX24: =AO24/AH24 -> 2642.41
A25: =CONCATENATE(A22,".4") -> 7.1.4 | C25: COMPOSIÇÃO | F25: IMT9900196 | I25: Desmobilização de pessoal e debandas | AF25: un | AH25: =Memória_Orçamento!K73 -> 4 | AK25: =IF(F25="","",ROUND('Composições Principais'!L$267*(1+$R$11),2)) -> 2642.41 | AO25: =IF(F25="","",ROUND((AH25*AK25),2)) -> 10569.64 | AS25: ok | AU25: =ROUND((AK25/(1+$R$11)),2) -> 2132.52 | AV25: =ROUND(AH25*AU25,2) -> 8530.08 | AY25: =AK25 -> 2642.41
A26: 0 | I26: PONTE SOBRE O CÓRREGO IRETAN | AO26: =SUM(AO27,AO40,AO82,AO115) -> 664918.39
A27: 1 | I27: INFRAESTRUTURA | AO27: =SUM(AO28,A34,AO34) -> 124150.6
A28: =CONCATENATE(A$27,".1") -> 1.1 | I28: FUNDAÇÃO - ESTACAS METÁLICAS + REFORÇO DAS ESTACAS (ENCONTRO 01 E ALAS) | AO28: =SUM(AO29:AR33) -> 62022.73
A29: =CONCATENATE(A28,".1") -> 1.1.1 | C29: SICRO | F29: 5502109 | I29: Escavação, carga e transporte de material de 1ª categoria - DMT de 50 a 200 m - caminho de serviço em leito natural - com escavadeira e caminhão basculante de 14 m³ | AF29: m³ | AH29: =Memória_Orçamento!K119 -> 57.6 | AK29: =IF(F29="","",ROUND('Composições Principais'!L$352*(1+$R$11),2)) -> 8.17 | AO29: =IF(F29="","",ROUND((AH29*AK29),2)) -> 470.59 | AS29: ok | AU29: =ROUND((AK29/(1+$R$11)),2) -> 6.59 | AV29: =ROUND(AH29*AU29,2) -> 379.58
A30: =CONCATENATE(A28,".2") -> 1.1.2 | C30: SICRO | F30: 5502109 | I30: Escavação, carga e transporte de material de 1ª categoria - DMT de 50 a 200 m - caminho de serviço em leito natural - com escavadeira e caminhão basculante de 14 m³ | AF30: m³ | AH30: =Memória_Orçamento!K170 -> 91.04 | AK30: =IF(F30="","",ROUND('Composições Principais'!L$352*(1+$R$11),2)) -> 8.17 | AO30: =IF(F30="","",ROUND((AH30*AK30),2)) -> 743.8 | AS30: ok | AU30: =ROUND((AK30/(1+$R$11)),2) -> 6.59 | AV30: =ROUND(AH30*AU30,2) -> 599.95
A31: =CONCATENATE(A28,".3") -> 1.1.3 | C31: SICRO | F31: 407819 | I31: Armação em aço CA-50 - fornecimento, preparo e colocação | AF31: kg | AH31: =Memória_Orçamento!K202 -> 81.4 | AK31: =IF(F31="","",ROUND('Composições Principais'!L$522*(1+$R$11),2)) -> 15.96 | AO31: =IF(F31="","",ROUND((AH31*AK31),2)) -> 1299.14 | AS31: ok | AU31: =ROUND((AK31/(1+$R$11)),2) -> 12.88 | AV31: =ROUND(AH31*AU31,2) -> 1048.43
A32: =CONCATENATE(A28,".4") -> 1.1.4 | C32: SICRO | F32: 2306113 | I32: Estacas trilho TR 68 - fornecimento e cravação | AF32: m | AH32: =Memória_Orçamento!K214 -> 120 | AK32: =IF(F32="","",ROUND('Composições Principais'!L$607*(1+$R$11),2)) -> 486.85 | AO32: =IF(F32="","",ROUND((AH32*AK32),2)) -> 58422 | AS32: ok | AU32: =ROUND((AK32/(1+$R$11)),2) -> 392.91 | AV32: =ROUND(AH32*AU32,2) -> 47149.2
A33: =CONCATENATE(A28,".5") -> 1.1.5 | C33: SICRO | F33: 2003864 | I33: Esgotamento de água com bomba submersa | AF33: h | AH33: =Memória_Orçamento!K226 -> 60 | AK33: =IF(F33="","",ROUND('Composições Principais'!L$437*(1+$R$11),2)) -> 18.12 | AO33: =IF(F33="","",ROUND((AH33*AK33),2)) -> 1087.2 | AS33: ok | AU33: =ROUND((AK33/(1+$R$11)),2) -> 14.62 | AV33: =ROUND(AH33*AU33,2) -> 877.2
A34: =CONCATENATE(A$27,".2") -> 1.2 | I34: FUNDAÇÃO - ESTACAS METÁLICAS + REFORÇO DAS ESTACAS (ENCONTRO 02 E ALAS) | AO34: =SUM(AO35:AR39) -> 62127.87
A35: =CONCATENATE(A34,".1") -> 1.2.1 | C35: SICRO | F35: 5502109 | I35: Escavação, carga e transporte de material de 1ª categoria - DMT de 50 a 200 m - caminho de serviço em leito natural - com escavadeira e caminhão basculante de 14 m³ | AF35: m³ | AH35: =Memória_Orçamento!K275 -> 57.6 | AK35: =IF(F35="","",ROUND('Composições Principais'!L$352*(1+$R$11),2)) -> 8.17 | AO35: =IF(F35="","",ROUND((AH35*AK35),2)) -> 470.59 | AS35: ok | AU35: =ROUND((AK35/(1+$R$11)),2) -> 6.59 | AV35: =ROUND(AH35*AU35,2) -> 379.58
A36: =CONCATENATE(A34,".2") -> 1.2.2 | C36: SICRO | F36: 5502109 | I36: Escavação, carga e transporte de material de 1ª categoria - DMT de 50 a 200 m - caminho de serviço em leito natural - com escavadeira e caminhão basculante de 14 m³ | AF36: m³ | AH36: =Memória_Orçamento!K326 -> 103.91 | AK36: =IF(F36="","",ROUND('Composições Principais'!L$352*(1+$R$11),2)) -> 8.17 | AO36: =IF(F36="","",ROUND((AH36*AK36),2)) -> 848.94 | AS36: ok | AU36: =ROUND((AK36/(1+$R$11)),2) -> 6.59 | AV36: =ROUND(AH36*AU36,2) -> 684.77
A37: =CONCATENATE(A34,".3") -> 1.2.3 | C37: SICRO | F37: 407819 | I37: Armação em aço CA-50 - fornecimento, preparo e colocação | AF37: kg | AH37: =Memória_Orçamento!K358 -> 81.4 | AK37: =IF(F37="","",ROUND('Composições Principais'!L$522*(1+$R$11),2)) -> 15.96 | AO37: =IF(F37="","",ROUND((AH37*AK37),2)) -> 1299.14 | AS37: ok | AU37: =ROUND((AK37/(1+$R$11)),2) -> 12.88 | AV37: =ROUND(AH37*AU37,2) -> 1048.43
A38: =CONCATENATE(A34,".4") -> 1.2.4 | C38: SICRO | F38: 2306113 | I38: Estacas trilho TR 68 - fornecimento e cravação | AF38: m | AH38: =Memória_Orçamento!K370 -> 120 | AK38: =IF(F38="","",ROUND('Composições Principais'!L$607*(1+$R$11),2)) -> 486.85 | AO38: =IF(F38="","",ROUND((AH38*AK38),2)) -> 58422 | AS38: ok | AU38: =ROUND((AK38/(1+$R$11)),2) -> 392.91 | AV38: =ROUND(AH38*AU38,2) -> 47149.2
A39: =CONCATENATE(A34,".5") -> 1.2.5 | C39: SICRO | F39: 2003864 | I39: Esgotamento de água com bomba submersa | AF39: h | AH39: =Memória_Orçamento!K382 -> 60 | AK39: =IF(F39="","",ROUND('Composições Principais'!L$437*(1+$R$11),2)) -> 18.12 | AO39: =IF(F39="","",ROUND((AH39*AK39),2)) -> 1087.2 | AS39: ok | AU39: =ROUND((AK39/(1+$R$11)),2) -> 14.62 | AV39: =ROUND(AH39*AU39,2) -> 877.2
A40: 2 | I40: MESOESTRUTURA | AO40: =SUM(AO41,AO50,AO59,AO66,AO73,AO75,AO77) -> 285180.89
A41: =CONCATENATE(A40,".1") -> 2.1 | I41: ENCONTROS/CORTINAS 01 + ALAS + CONSOLOS | AO41: =SUM(AO42:AR49) -> 123459.9
A42: =CONCATENATE(A41,".1") -> 2.1.1 | C42: SICRO | F42: 1107900 | I42: Concreto fck = 30 Mpa - confecção em betoneira e lançamento manual - areia e brita comerciais | AF42: m³ | AH42: =Memória_Orçamento!K428 -> 33.62 | AK42: =IF(F42="","",ROUND('Composições Principais'!L$692*(1+$R$11),2)) -> 1310.99 | AO42: =IF(F42="","",ROUND((AH42*AK42),2)) -> 44075.48 | AS42: ok | AU42: =ROUND((AK42/(1+$R$11)),2) -> 1058.02 | AV42: =ROUND(AH42*AU42,2) -> 35570.63
A43: =CONCATENATE(A41,".2") -> 2.1.2 | C43: SICRO | F43: 1106057 | I43: Concreto magro - confecção em betoneira e lançamento manual - areia e brita comerciais | AF43: m³ | AH43: =Memória_Orçamento!K468 -> 0.42 | AK43: =IF(F43="","",ROUND('Composições Principais'!L$1202*(1+$R$11),2)) -> 1213.64 | AO43: =IF(F43="","",ROUND((AH43*AK43),2)) -> 509.73 | AS43: ok | AU43: =ROUND((AK43/(1+$R$11)),2) -> 979.45 | AV43: =ROUND(AH43*AU43,2) -> 411.37
A44: =CONCATENATE(A41,".3") -> 2.1.3 | C44: SICRO | F44: 3108000 | I44: Formas de compensado resinado 12 mm - uso geral - utilização de 2 vezes - confecção, instalação e retirada | AF44: m² | AH44: =Memória_Orçamento!K514 -> 166.62 | AK44: =IF(F44="","",ROUND('Composições Principais'!L$862*(1+$R$11),2)) -> 108.67 | AO44: =IF(F44="","",ROUND((AH44*AK44),2)) -> 18106.6 | AS44: ok | AU44: =ROUND((AK44/(1+$R$11)),2) -> 87.7 | AV44: =ROUND(AH44*AU44,2) -> 14612.57
...

Sheet Memória_Orçamento
A2: PONTE: | G2: Ponte sobre o Córrego Iretan
A3: RODOVIA/ESTRADA: | G3: Estrada Vicinal 14ª Linha
A4: TRECHO: | G4: Entrº MS-178 (B) / Entrº MS-185 - Código trecho: 339EMS0606
A5: SUB-TRECHO: | G5: Entrº BR-267 (Maracaju) - Ponte sobre o Rio Santa Maria
A6: MUNICÍPIO: | G6: Deodápolis/MS
A8: QUANTITATIVOS - MEMÓRIA DE CÁLCULO
A10: 6.1.1. - Instalação do Canteiro de Obras
A12: CANTEIRO DE OBRAS
A13: N. de Canteiros (un.) | E13: Número de Obras (un.) | Y13: Quantidade de Canteiros (un)
A15: 1 | E15: 1 | Y15: =A15*E15 -> 1
A16: Ncanteiro = (Número de Canteiros)*(Número de Obras) = 1,00 un
K18: Resumo - Item 6.1.1.
K19: Instalação do Canteiro de Obras (un)
K21: =ROUNDUP(Y15,2) -> 1
A23: 6.2.1. - Placa de Obra em Chapa de Aço Galvanizado
A25: PLACA DE OBRA
A26: A (m) | E26: B (m) | I26: Quantidade de Placas (un.) | Y26: Área de Placa (m²)
A27: Comprimento | E27: Altura
A28: 4 | E28: 2 | I28: 1 | Y28: =$A28*$E28*$I28 -> 8
A29: Placa de Obra = A*B*(Quantidade de Placas) = 8,00m²
K31: Resumo - Item 6.2.1.
K32: Placa de Obra (m²)
K34: =ROUND(Y28,2) -> 8
A36: 7.1.1. - Mobilização de Desmobilização de Equipamentos
A38: MOBILIZAÇÃO E DESMOBILIZAÇÃO
A39: N. de Mob. e Desmob. (un.) | E39: Número de Obras (un.) | Y39: Mob. e Desmob. (un)
A41: 1 | E41: 1 | Y41: =A41*E41 -> 1
A42: Nmob_equip = (Número de Mobilização e Desmobilização)*(Número de Obras) = 1,00 un
K44: Resumo - Item 7.1.1.
K45: Mobilização e Desmobilização de Equipamentos (un)
K47: =ROUNDUP(Y41,2) -> 1
A49: 7.1.2. - Mobilização de Pessoal e Debandas
A51: MOBILIZAÇÃO DE PESSOAL E DEBANDAS
A52: Prazo da Obra (mês) | E52: Número de Obras (un.) | Y52: Mob. de Pessoal (un)
A54: =Orçamento!AO$11/30 -> 4 | E54: 1 | Y54: =A54*E54 -> 4
A55: Nmob_mo = (Prazo da Obra)*(Número de Obras) = 4,00 un
K57: Resumo - Item 7.1.2.
K58: Mobilização de Pessoal e Debandas (un)
K60: =ROUNDUP(Y54,2) -> 4
A62: 7.1.3. - Desmobilização de Pessoal e Debandas
...

Sheet Cronograma
A4: OBJETO: | I4: =IF(Dados!I4="","",Dados!I4) -> CONSTRUÇÃO DE PONTE RODOVIÁRIA EM CONCRETO ARMADO
A5: =Dados!A5 -> MUNICÍPIO: | I5: =IF(Dados!I5="","",Dados!I5) -> DEODÁPOLIS/MS
A6: =Dados!A6 -> RODOVIA/ESTRADA: | I6: =IF(Dados!I6="","",Dados!I6) -> ESTRADA VICINAL 14ª LINHA (LADO NASCENTE)
A7: =Dados!A7 -> LOCAL: | I7: =IF(Dados!I7="","",Dados!I7) -> PONTE SOBRE O CÓRREGO IRETAN
A8: =Dados!A8 -> COORDENADAS: | I8: =IF(Dados!I8="","",Dados!I8) -> 22°14'28.18"S, 54º04'37.28"O | BJ8: ÁREA: | BQ8: =IF(Dados!AO8="","",Dados!AO8) -> 90 | BS8: m²
A9: =Dados!A9 -> COMPRIMENTO: | I9: =IF(Dados!I9="","",Dados!I9) -> 15 | K9: m
A10: =Dados!A10 -> LARGURA: | I10: =IF(Dados!I10="","",Dados!I10) -> 6 | K10: m
A11: BDI: | I11: =Dados!I11 -> INSUMO | L11: =IF(Dados!L11="","",Dados!L11) -> 0.1527 | O11: =Dados!O11 -> SERVIÇO | R11: =IF(Dados!R11="","",Dados!R11) -> 0.2391 | BJ11: PRAZO DE EXECUÇÃO: | BQ11: =IF(Dados!AO11="","",Dados!AO11) -> 120 | BS11: dias
A12: SISTEMA/REFERÊNCIA: | I12: =IF(Dados!I12="","",Dados!I12) -> SEM DESONERAÇÃO SICRO (JANEIRO/2026) | V12: =IF(Dados!U12="","",Dados!U12) -> NÃO DESONERADO SINAPI (JANEIRO/2026)
A14: CRONOGRAMA FÍSICO-FINANCEIRO
A15: ITEM | C15: FONTE | F15: CÓDIGO | I15: DESCRIÇÃO | AB15: PREÇO TOTAL | AH15: % | AK15: 1º MÊS (30 DIAS) | AQ15: % | AT15: 2º MÊS (30 DIAS) | AZ15: % | BC15: 3º MÊS (30 DIAS) | BI15: % | BL15: 4º MÊS (30 DIAS) | BR15: %
A16: 6 | I16: =Orçamento!I16 -> SERVIÇOS PRELIMINARES | AB16: =SUM(AB17:AG18) -> 39778.03 | AH16: 1 | AK16: =SUM(AK17:AP18) -> 39778.03 | AQ16: =AK16/$AB16 -> 1 | AT16: =SUM(AT17:AY18) -> 0 | AZ16: =AT16/$AB16 -> 0 | BC16: =SUM(BC17:BH18) -> 0 | BI16: =BC16/$AB16 -> 0 | BL16: =SUM(BL17:BQ18) -> 0 | BR16: =BL16/$AB16 -> 0
A17: 6.1 | I17: =Orçamento!I17 -> CANTEIRO DE OBRAS | AB17: =Orçamento!AO17 -> 35230.43 | AK17: =IF(AQ17="","",$AB17*AQ17) -> 35230.43 | AQ17: 1 | AT17: =IF(AZ17="","",$AB17*AZ17) | BC17: =IF(BI17="","",$AB17*BI17) | BL17: =IF(BR17="","",$AB17*BR17)
A18: 6.2 | I18: =Orçamento!I19 -> PLACA DA OBRA | AB18: =Orçamento!AO19 -> 4547.6 | AK18: =IF(AQ18="","",$AB18*AQ18) -> 4547.6 | AQ18: 1 | AT18: =IF(AZ18="","",$AB18*AZ18) | BC18: =IF(BI18="","",$AB18*BI18) | BL18: =IF(BR18="","",$AB18*BR18)
A19: 7 | I19: =Orçamento!I21 -> MOBILIZAÇÃO E DESMOBILIZAÇÃO | AB19: =SUM(AB20) -> 119515.07 | AH19: 1 | AK19: =SUM(AK20) -> 54472.715 | AQ19: =AK19/$AB19 -> 0.45578114 | AT19: =SUM(AT20) -> 5284.82 | AZ19: =AT19/$AB19 -> 0.044218859 | BC19: =SUM(BC20) -> 5284.82 | BI19: =BC19/$AB19 -> 0.044218859 | BL19: =SUM(BL20) -> 54472.715 | BR19: =BL19/$AB19 -> 0.45578114
A20: 7.1 | I20: =Orçamento!I22 -> MOBILIZAÇÃO E DESMOBILIZAÇÃO | AB20: =Orçamento!AO22 -> 119515.07 | AK20: =IF(AQ20="","",$AB20*AQ20) -> 54472.715 | AQ20: =(1-AZ20-BI20)/2 -> 0.45578114 | AT20: =IF(AZ20="","",$AB20*AZ20) -> 5284.82 | AZ20: =(Orçamento!AY25+Orçamento!AX24)/Cronograma!AB20 -> 0.044218859 | BC20: =IF(BI20="","",$AB20*BI20) -> 5284.82 | BI20: =AZ20 -> 0.044218859 | BL20: =IF(BR20="","",$AB20*BR20) -> 54472.715 | BR20: =AQ20 -> 0.45578114
I21: =Orçamento!I26 -> PONTE SOBRE O CÓRREGO IRETAN | AB21: =AB22+AB25+AB33+AB40 -> 664918.39 | AH21: 1 | AK21: =AK22+AK25+AK33+AK40 -> 103206.87 | AQ21: =AK21/$AB21 -> 0.15521735 | AT21: =AT22+AT25+AT33+AT40 -> 235671.45 | AZ21: =AT21/$AB21 -> 0.35443665 | BC21: =BC22+BC25+BC33+BC40 -> 221063.21 | BI21: =BC21/$AB21 -> 0.33246668 | BL21: =BL22+BL25+BL33+BL40 -> 104976.87 | BR21: =BL21/$AB21 -> 0.15787932
A22: 1 | I22: =Orçamento!I27 -> INFRAESTRUTURA | AB22: =SUM(AB23:AG24) -> 124150.6 | AH22: 1 | AK22: =SUM(AK23:AP24) -> 77554.697 | AQ22: =AK22/$AB22 -> 0.62468242 | AT22: =SUM(AT23:AY24) -> 46595.902 | AZ22: =AT22/$AB22 -> 0.37531758 | BC22: =SUM(BC23:BH24) -> 0 | BI22: =BC22/$AB22 -> 0 | BL22: =SUM(BL23:BQ24) -> 0 | BR22: =BL22/$AB22 -> 0
A23: 1.1 | I23: =Orçamento!I28 -> FUNDAÇÃO - ESTACAS METÁLICAS + REFORÇO DAS ESTACAS (ENCONTRO 01 E ALAS) | AB23: =Orçamento!AO28 -> 62022.73 | AK23: =IF(AQ23="","",$AB23*AQ23) -> 62022.73 | AQ23: 1 | AT23: =IF(AZ23="","",$AB23*AZ23) | BC23: =IF(BI23="","",$AB23*BI23) | BL23: =IF(BR23="","",$AB23*BR23)
A24: 1.2 | I24: =VLOOKUP(A24,Orçamento!A$16:AC$149,9) -> FUNDAÇÃO - ESTACAS METÁLICAS + REFORÇO DAS ESTACAS (ENCONTRO 02 E ALAS) | AB24: =VLOOKUP(A24,Orçamento!A$16:AR$149,41) -> 62127.87 | AK24: =IF(AQ24="","",$AB24*AQ24) -> 15531.968 | AQ24: 0.25 | AT24: =IF(AZ24="","",$AB24*AZ24) -> 46595.902 | AZ24: =1-AQ24 -> 0.75 | BC24: =IF(BI24="","",$AB24*BI24) | BL24: =IF(BR24="","",$AB24*BR24)
A25: 2 | I25: =VLOOKUP(A25,Orçamento!A$16:AC$149,9) -> MESOESTRUTURA | AB25: =SUM(AB26:AG32) -> 285180.89 | AH25: 1 | AK25: =SUM(AK26:AP32) -> 0 | AQ25: =AK25/$AB25 -> 0 | AT25: =SUM(AT26:AY32) -> 123459.9 | AZ25: =AT25/$AB25 -> 0.43291786 | BC25: =SUM(BC26:BH32) -> 161720.99 | BI25: =BC25/$AB25 -> 0.56708214 | BL25: =SUM(BL26:BQ32) -> 0 | BR25: =BL25/$AB25 -> 0
A26: 2.1 | I26: =VLOOKUP(A26,Orçamento!A$16:AC$149,9) -> ENCONTROS/CORTINAS 01 + ALAS + CONSOLOS | AB26: =VLOOKUP(A26,Orçamento!A$16:AR$149,41) -> 123459.9 | AK26: =IF(AQ26="","",$AB26*AQ26) | AT26: =IF(AZ26="","",$AB26*AZ26) -> 123459.9 | AZ26: 1 | BC26: =IF(BI26="","",$AB26*BI26) | BL26: =IF(BR26="","",$AB26*BR26)
A27: 2.2 | I27: =VLOOKUP(A27,Orçamento!A$16:AC$149,9) -> ENCONTROS/CORTINAS 02 + ALAS + CONSOLOS | AB27: =VLOOKUP(A27,Orçamento!A$16:AR$149,41) -> 123606.44 | AK27: =IF(AQ27="","",$AB27*AQ27) | AT27: =IF(AZ27="","",$AB27*AZ27) | BC27: =IF(BI27="","",$AB27*BI27) -> 123606.44 | BI27: =1-AZ27 -> 1 | BL27: =IF(BR27="","",$AB27*BR27)
A28: 2.3 | I28: =VLOOKUP(A28,Orçamento!A$16:AC$149,9) -> PLACA DE ATRITO 01 | AB28: =VLOOKUP(A28,Orçamento!A$16:AR$149,41) -> 12622.98 | AK28: =IF(AQ28="","",$AB28*AQ28) | AT28: =IF(AZ28="","",$AB28*AZ28) | BC28: =IF(BI28="","",$AB28*BI28) -> 12622.98 | BI28: =1-AZ28 -> 1 | BL28: =IF(BR28="","",$AB28*BR28)
A29: 2.4 | I29: =VLOOKUP(A29,Orçamento!A$16:AC$149,9) -> PLACA DE ATRITO 02 | AB29: =VLOOKUP(A29,Orçamento!A$16:AR$149,41) -> 12879.6 | AK29: =IF(AQ29="","",$AB29*AQ29) | AT29: =IF(AZ29="","",$AB29*AZ29) | BC29: =IF(BI29="","",$AB29*BI29) -> 12879.6 | BI29: =1-AZ29 -> 1 | BL29: =IF(BR29="","",$AB29*BR29)
A30: 2.5 | I30: =VLOOKUP(A30,Orçamento!A$16:AC$149,9) -> TIRANTES (PLACA DE ATRITO 01) | AB30: =VLOOKUP(A30,Orçamento!A$16:AR$149,41) -> 4843.5 | AK30: =IF(AQ30="","",$AB30*AQ30) | AT30: =IF(AZ30="","",$AB30*AZ30) | BC30: =IF(BI30="","",$AB30*BI30) -> 4843.5 | BI30: =1-AZ30 -> 1 | BL30: =IF(BR30="","",$AB30*BR30)
A31: 2.6 | I31: =VLOOKUP(A31,Orçamento!A$16:AC$149,9) -> TIRANTES (PLACA DE ATRITO 02) | AB31: =VLOOKUP(A31,Orçamento!A$16:AR$149,41) -> 4843.5 | AK31: =IF(AQ31="","",$AB31*AQ31) | AT31: =IF(AZ31="","",$AB31*AZ31) | BC31: =IF(BI31="","",$AB31*BI31) -> 4843.5 | BI31: =BI28 -> 1 | BL31: =IF(BR31="","",$AB31*BR31)
A32: 2.7 | I32: =VLOOKUP(A32,Orçamento!A$16:AC$149,9) -> ARTICULAÇÃO FREYSSINET | AB32: =VLOOKUP(A32,Orçamento!A$16:AR$149,41) -> 2924.97 | AK32: =IF(AQ32="","",$AB32*AQ32) | AT32: =IF(AZ32="","",$AB32*AZ32) | BC32: =IF(BI32="","",$AB32*BI32) -> 2924.97 | BI32: =BI31 -> 1 | BL32: =IF(BR32="","",$AB32*BR32)
A33: 3 | I33: =VLOOKUP(A33,Orçamento!A$16:AC$149,9) -> SUPERESTRUTURA | AB33: =SUM(AB34:AG39) -> 243729.62 | AH33: 1 | AK33: =SUM(AK34:AP39) -> 25652.17 | AQ33: =AK33/$AB33 -> 0.10524847 | AT33: =SUM(AT34:AY39) -> 64130.425 | AZ33: =AT33/$AB33 -> 0.26312118 | BC33: =SUM(BC34:BH39) -> 55654.435 | BI33: =BC33/$AB33 -> 0.22834498 | BL33: =SUM(BL34:BQ39) -> 98292.59 | BR33: =BL33/$AB33 -> 0.40328537
A34: 3.1 | I34: =VLOOKUP(A34,Orçamento!A$16:AC$149,9) -> LAJE DO TABULEIRO | AB34: =VLOOKUP(A34,Orçamento!A$16:AR$149,41) -> 38202.3 | AK34: =IF(AQ34="","",$AB34*AQ34) | AT34: =IF(AZ34="","",$AB34*AZ34) | BC34: =IF(BI34="","",$AB34*BI34) | BL34: =IF(BR34="","",$AB34*BR34) -> 38202.3 | BR34: 1
A35: 3.2 | I35: =VLOOKUP(A35,Orçamento!A$16:AC$149,9) -> TRANSVERSINA DOS ENCONTROS + CONSOLOS | AB35: =VLOOKUP(A35,Orçamento!A$16:AR$149,41) -> 17176.18 | AK35: =IF(AQ35="","",$AB35*AQ35) | AT35: =IF(AZ35="","",$AB35*AZ35) | BC35: =IF(BI35="","",$AB35*BI35) -> 17176.18 | BI35: 1 | BL35: =IF(BR35="","",$AB35*BR35)
A36: 3.3 | I36: =VLOOKUP(A36,Orçamento!A$16:AC$149,9) -> BARREIRAS DE CONCRETO (TIPO NEW JERSEY) | AB36: =VLOOKUP(A36,Orçamento!A$16:AR$149,41) -> 10783.61 | AK36: =IF(AQ36="","",$AB36*AQ36) | AT36: =IF(AZ36="","",$AB36*AZ36) | BC36: =IF(BI36="","",$AB36*BI36) | BL36: =IF(BR36="","",$AB36*BR36) -> 10783.61 | BR36: 1
A37: 3.4 | I37: =VLOOKUP(A37,Orçamento!A$16:AC$149,9) -> VIGA LONGARINA PRÉ-MOLDADA | AB37: =VLOOKUP(A37,Orçamento!A$16:AR$149,41) -> 123437.25 | AK37: =IF(AQ37="","",$AB37*AQ37) -> 24687.45 | AQ37: 0.2 | AT37: =IF(AZ37="","",$AB37*AZ37) -> 61718.625 | AZ37: 0.5 | BC37: =IF(BI37="","",$AB37*BI37) -> 37031.175 | BI37: 0.3 | BL37: =IF(BR37="","",$AB37*BR37)
A38: 3.5 | I38: =VLOOKUP(A38,Orçamento!A$16:AC$149,9) -> PLACA DE APROXIMAÇÃO | AB38: =VLOOKUP(A38,Orçamento!A$16:AR$149,41) -> 49306.68 | AK38: =IF(AQ38="","",$AB38*AQ38) | AT38: =IF(AZ38="","",$AB38*AZ38) | BC38: =IF(BI38="","",$AB38*BI38) | BL38: =IF(BR38="","",$AB38*BR38) -> 49306.68 | BR38: 1
A39: 3.6 | I39: =VLOOKUP(A39,Orçamento!A$16:AC$149,9) -> BERÇO DE CONCRETO PARA VIGA LONGARINA | AB39: =VLOOKUP(A39,Orçamento!A$16:AR$149,41) -> 4823.6 | AK39: =IF(AQ39="","",$AB39*AQ39) -> 964.72 | AQ39: 0.2 | AT39: =IF(AZ39="","",$AB39*AZ39) -> 2411.8 | AZ39: 0.5 | BC39: =IF(BI39="","",$AB39*BI39) -> 1447.08 | BI39: 0.3 | BL39: =IF(BR39="","",$AB39*BR39)
A40: 4 | I40: =VLOOKUP(A40,Orçamento!A$16:AC$149,9) -> SERVIÇOS COMPLEMENTARES | AB40: =SUM(AB41:AG43) -> 11857.28 | AH40: 1 | AK40: =SUM(AK41:AP43) -> 0 | AQ40: =AK40/$AB40 -> 0 | AT40: =SUM(AT41:AY43) -> 1485.22 | AZ40: =AT40/$AB40 -> 0.12525807 | BC40: =SUM(BC41:BH43) -> 3687.784 | BI40: =BC40/$AB40 -> 0.31101433 | BL40: =SUM(BL41:BQ43) -> 6684.276 | BR40: =BL40/$AB40 -> 0.5637276
A41: 4.2 | I41: =VLOOKUP(A41,Orçamento!A$16:AC$149,9) -> SINALIZAÇÃO E SEGURANÇA | AB41: =VLOOKUP(A41,Orçamento!A$16:AR$149,41) -> 9219.46 | AK41: =IF(AQ41="","",$AB41*AQ41) | AT41: =IF(AZ41="","",$AB41*AZ41) | BC41: =IF(BI41="","",$AB41*BI41) -> 3687.784 | BI41: 0.4 | BL41: =IF(BR41="","",$AB41*BR41) -> 5531.676 | BR41: =1-BI41 -> 0.6
A42: 4.3 | I42: =VLOOKUP(A42,Orçamento!A$16:AC$149,9) -> DRENAGEM | AB42: =VLOOKUP(A42,Orçamento!A$16:AR$149,41) -> 1152.6 | AK42: =IF(AQ42="","",$AB42*AQ42) | AT42: =IF(AZ42="","",$AB42*AZ42) | BC42: =IF(BI42="","",$AB42*BI42) | BL42: =IF(BR42="","",$AB42*BR42) -> 1152.6 | BR42: 1
A43: 4.4 | I43: =VLOOKUP(A43,Orçamento!A$16:AC$149,9) -> ESCAVAÇÃO (ABERTURA DO CANAL DO RIO) | AB43: =VLOOKUP(A43,Orçamento!A$16:AR$149,41) -> 1485.22 | AK43: =IF(AQ43="","",$AB43*AQ43) | AT43: =IF(AZ43="","",$AB43*AZ43) -> 1485.22 | AZ43: 1 | BC43: =IF(BI43="","",$AB43*BI43) | BL43: =IF(BR43="","",$AB43*BR43)
A44: 5 | I44: =Orçamento!I124 -> ADMINISTRAÇÃO LOCAL | AB44: =SUM(AB45) -> 92461.63 | AH44: 1 | AK44: =SUM(AK45) -> 25907.749 | AQ44: =AK44/$AB44 -> 0.2802 | AT44: =SUM(AT45) -> 24881.425 | AZ44: =AT44/$AB44 -> 0.2691 | BC44: =SUM(BC45) -> 23855.101 | BI44: =BC44/$AB44 -> 0.258 | BL44: =SUM(BL45) -> 17817.356 | BR44: =BL44/$AB44 -> 0.1927
...

Sheet Curva ABC Serviços
A4: OBJETO: | I4: =IF(Dados!I4="","",Dados!I4) -> CONSTRUÇÃO DE PONTE RODOVIÁRIA EM CONCRETO ARMADO
A5: =Dados!A5 -> MUNICÍPIO: | I5: =IF(Dados!I5="","",Dados!I5) -> DEODÁPOLIS/MS
A6: =Dados!A6 -> RODOVIA/ESTRADA: | I6: =IF(Dados!I6="","",Dados!I6) -> ESTRADA VICINAL 14ª LINHA (LADO NASCENTE)
A7: =Dados!A7 -> LOCAL: | I7: =IF(Dados!I7="","",Dados!I7) -> PONTE SOBRE O CÓRREGO IRETAN
A8: =Dados!A8 -> COORDENADAS: | I8: =IF(Dados!I8="","",Dados!I8) -> 22°14'28.18"S, 54º04'37.28"O | BA8: =Dados!AI8 -> ÁREA: | BH8: =IF(Dados!AO8="","",Dados!AO8) -> 90 | BJ8: m²
A9: =Dados!A9 -> COMPRIMENTO: | I9: =IF(Dados!I9="","",Dados!I9) -> 15 | K9: m
A10: =Dados!A10 -> LARGURA: | I10: =IF(Dados!I10="","",Dados!I10) -> 6 | K10: m
A11: BDI: | I11: =Dados!I11 -> INSUMO | L11: =IF(Dados!L11="","",Dados!L11) -> 0.1527 | O11: =Dados!O11 -> SERVIÇO | R11: =IF(Dados!R11="","",Dados!R11) -> 0.2391 | BA11: =Dados!AI11 -> PRAZO DE EXECUÇÃO: | BH11: =IF(Dados!AO11="","",Dados!AO11) -> 120 | BJ11: dias
A12: SISTEMA/REFERÊNCIA: | I12: =IF(Dados!I12="","",Dados!I12) -> SEM DESONERAÇÃO SICRO (JANEIRO/2026) | V12: =IF(Dados!U12="","",Dados!U12) -> NÃO DESONERADO SINAPI (JANEIRO/2026)
A14: CRONOGRAMA FÍSICO-FINANCEIRO
A15: ITEM | C15: FONTE | F15: CÓDIGO | I15: DESCRIÇÃO | AB15: UNID. | AE15: QUANTIDADE | AK15: PREÇO UNITÁRIO | AQ15: PREÇO TOTAL | AW15: % | AZ15: % ACUM. | BC15: CLASSIFICAÇÃO
A16: 1.1 | F16: 407819 | I16: Armação em aço CA-50 - fornecimento, preparo e colocação | AB16: m³ | AE16: =SUMIF(Orçamento!F$18:F$149,'Curva ABC Serviços'!F16:F16,Orçamento!AH$18:AH$149) -> 13606.7 | AK16: =AQ16/AE16 -> 15.959998 | AQ16: =SUMIF(Orçamento!F:H,F16,Orçamento!AO:AO) -> 217162.91 | AW16: =AQ16/$AQ$53 -> 0.23690332 | AZ16: =AW16 -> 0.23690332 | BC16: =IF(AZ16<0.8,"A",IF(AZ16<0.95,"B","C")) -> A
A17: 1.2 | F17: 1107900 | I17: Concreto fck = 30 Mpa - confecção em betoneira e lançamento manual - areia e brita comerciais | AB17: m³ | AE17: =SUMIF(Orçamento!F$18:F$149,'Curva ABC Serviços'!F17:F17,Orçamento!AH$18:AH$149) -> 116.24 | AK17: =AQ17/AE17 -> 1310.9898 | AQ17: =SUMIF(Orçamento!F:H,F17,Orçamento!AO:AO) -> 152389.46 | AW17: =AQ17/$AQ$53 -> 0.16624188 | AZ17: =AW17+AZ16 -> 0.4031452 | BC17: =IF(AZ17<0.8,"A",IF(AZ17<0.95,"B","C")) -> A
A18: 1.3 | F18: 2306113 | I18: Estacas trilho TR 68 - fornecimento e cravação | AB18: m | AE18: =SUMIF(Orçamento!F$18:F$149,'Curva ABC Serviços'!F18:F18,Orçamento!AH$18:AH$149) -> 240 | AK18: =AQ18/AE18 -> 486.85 | AQ18: =SUMIF(Orçamento!F:H,F18,Orçamento!AO:AO) -> 116844 | AW18: =AQ18/$AQ$53 -> 0.12746528 | AZ18: =AW18+AZ17 -> 0.53061049 | BC18: =IF(AZ18<0.8,"A",IF(AZ18<0.95,"B","C")) -> A
A19: 1.4 | F19: IMT0000156 | I19: Mobilização e desmobilização de equipamentos | AB19: un | AE19: =SUMIF(Orçamento!F$18:F$149,'Curva ABC Serviços'!F19:F19,Orçamento!AH$18:AH$149) -> 1 | AK19: =AQ19/AE19 -> 98375.79 | AQ19: =SUMIF(Orçamento!F:H,F19,Orçamento!AO:AO) -> 98375.79 | AW19: =AQ19/$AQ$53 -> 0.10731829 | AZ19: =AW19+AZ18 -> 0.63792877 | BC19: =IF(AZ19<0.8,"A",IF(AZ19<0.95,"B","C")) -> A
A20: 1.5 | F20: 3108000 | I20: Formas de compensado resinado 12 mm - uso geral - utilização de 2 vezes - confecção, instalação e retirada | AB20: m² | AE20: =SUMIF(Orçamento!F$18:F$149,'Curva ABC Serviços'!F20:F20,Orçamento!AH$18:AH$149) -> 647.66 | AK20: =AQ20/AE20 -> 108.67001 | AQ20: =SUMIF(Orçamento!F:H,F20,Orçamento!AO:AO) -> 70381.22 | AW20: =AQ20/$AQ$53 -> 0.076778972 | AZ20: =AW20+AZ19 -> 0.71470775 | BC20: =IF(AZ20<0.8,"A",IF(AZ20<0.95,"B","C")) -> A
A21: 1.6 | F21: IMT0000099 | I21: Instalação dos canteiros de obras e acampamentos | AB21: un | AE21: =SUMIF(Orçamento!F$18:F$149,'Curva ABC Serviços'!F21:F21,Orçamento!AH$18:AH$149) -> 1 | AK21: =AQ21/AE21 -> 35230.43 | AQ21: =SUMIF(Orçamento!F:H,F21,Orçamento!AO:AO) -> 35230.43 | AW21: =AQ21/$AQ$53 -> 0.038432926 | AZ21: =AW21+AZ20 -> 0.75314067 | BC21: =IF(AZ21<0.8,"A",IF(AZ21<0.95,"B","C")) -> A
A22: 1.7 | F22: 1107908 | I22: Concreto fck = 40 MPa - confecção em betoneira e lançamento manual - areia e brita comerciais | AB22: m³ | AE22: =SUMIF(Orçamento!F$18:F$149,'Curva ABC Serviços'!F22:F22,Orçamento!AH$18:AH$149) -> 21.65 | AK22: =AQ22/AE22 -> 1399.63 | AQ22: =SUMIF(Orçamento!F:H,F22,Orçamento!AO:AO) -> 30301.99 | AW22: =AQ22/$AQ$53 -> 0.033056484 | AZ22: =AW22+AZ21 -> 0.78619716 | BC22: =IF(AZ22<0.8,"A",IF(AZ22<0.95,"B","C")) -> A
A23: 1.8 | F23: P9827 | I23: Vigia - mensalista | AB23: mês | AE23: =SUMIF(Orçamento!F$18:F$149,'Curva ABC Serviços'!F23:F23,Orçamento!AH$18:AH$149) -> 4 | AK23: =AQ23/AE23 -> 6645.69 | AQ23: =SUMIF(Orçamento!F:H,F23,Orçamento!AO:AO) -> 26582.76 | AW23: =AQ23/$AQ$53 -> 0.02899917 | AZ23: =AW23+AZ22 -> 0.81519633 | BC23: =IF(AZ23<0.8,"A",IF(AZ23<0.95,"B","C")) -> B
A24: 1.9 | F24: 3806420 | I24: Lançamento de viga pré-moldada de até 500 kN com utilização de guindaste | AB24: un | AE24: =SUMIF(Orçamento!F$18:F$149,'Curva ABC Serviços'!F24:F24,Orçamento!AH$18:AH$149) -> 4 | AK24: =AQ24/AE24 -> 5233.09 | AQ24: =SUMIF(Orçamento!F:H,F24,Orçamento!AO:AO) -> 20932.36 | AW24: =AQ24/$AQ$53 -> 0.022835141 | AZ24: =AW24+AZ23 -> 0.83803147 | BC24: =IF(AZ24<0.8,"A",IF(AZ24<0.95,"B","C")) -> B
A25: 1.10 | F25: P9876 | I25: Técnico de segurança do trabalho - mensalista | AB25: mês | AE25: =SUMIF(Orçamento!F$18:F$149,'Curva ABC Serviços'!F25:F25,Orçamento!AH$18:AH$149) -> 2 | AK25: =AQ25/AE25 -> 9710.84 | AQ25: =SUMIF(Orçamento!F:H,F25,Orçamento!AO:AO) -> 19421.68 | AW25: =AQ25/$AQ$53 -> 0.021187138 | AZ25: =AW25+AZ24 -> 0.85921861 | BC25: =IF(AZ25<0.8,"A",IF(AZ25<0.95,"B","C")) -> B
A26: 1.11 | F26: E9093 | I26: Veículo leve - 53 kW (sem motorista) | AB26: mês | AE26: =SUMIF(Orçamento!F$18:F$149,'Curva ABC Serviços'!F26:F26,Orçamento!AH$18:AH$149) -> 4 | AK26: =AQ26/AE26 -> 3215.9 | AQ26: =SUMIF(Orçamento!F:H,F26,Orçamento!AO:AO) -> 12863.6 | AW26: =AQ26/$AQ$53 -> 0.014032919 | AZ26: =AW26+AZ25 -> 0.87325153 | BC26: =IF(AZ26<0.8,"A",IF(AZ26<0.95,"B","C")) -> B
A27: 1.12 | F27: IMT9900195 | I27: Mobilização de pessoal e debandas | AB27: un | AE27: =SUMIF(Orçamento!F$18:F$149,'Curva ABC Serviços'!F27:F27,Orçamento!AH$18:AH$149) -> 4 | AK27: =AQ27/AE27 -> 2642.41 | AQ27: =SUMIF(Orçamento!F:H,F27,Orçamento!AO:AO) -> 10569.64 | AW27: =AQ27/$AQ$53 -> 0.011530435 | AZ27: =AW27+AZ26 -> 0.88478196 | BC27: =IF(AZ27<0.8,"A",IF(AZ27<0.95,"B","C")) -> B
A28: 1.13 | F28: IMT9900196 | I28: Desmobilização de pessoal e debandas | AB28: un | AE28: =SUMIF(Orçamento!F$18:F$149,'Curva ABC Serviços'!F28:F28,Orçamento!AH$18:AH$149) -> 4 | AK28: =AQ28/AE28 -> 2642.41 | AQ28: =SUMIF(Orçamento!F:H,F28,Orçamento!AO:AO) -> 10569.64 | AW28: =AQ28/$AQ$53 -> 0.011530435 | AZ28: =AW28+AZ27 -> 0.8963124 | BC28: =IF(AZ28<0.8,"A",IF(AZ28<0.95,"B","C")) -> B
A29: 1.14 | F29: 1106057 | I29: Concreto magro - confecção em betoneira e lançamento manual - areia e brita comerciais | AB29: m³ | AE29: =SUMIF(Orçamento!F$18:F$149,'Curva ABC Serviços'!F29:F29,Orçamento!AH$18:AH$149) -> 8.54 | AK29: =AQ29/AE29 -> 1213.6417 | AQ29: =SUMIF(Orçamento!F:H,F29,Orçamento!AO:AO) -> 10364.5 | AW29: =AQ29/$AQ$53 -> 0.011306648 | AZ29: =AW29+AZ28 -> 0.90761904 | BC29: =IF(AZ29<0.8,"A",IF(AZ29<0.95,"B","C")) -> B
A30: 1.15 | F30: AGC5030001 | I30: Tirante | AB30: un | AE30: =SUMIF(Orçamento!F$18:F$149,'Curva ABC Serviços'!F30:F30,Orçamento!AH$18:AH$149) -> 10 | AK30: =AQ30/AE30 -> 968.7 | AQ30: =SUMIF(Orçamento!F:H,F30,Orçamento!AO:AO) -> 9687 | AW30: =AQ30/$AQ$53 -> 0.010567562 | AZ30: =AW30+AZ29 -> 0.91818661 | BC30: =IF(AZ30<0.8,"A",IF(AZ30<0.95,"B","C")) -> B
A31: 1.16 | F31: 3806429 | I31: Plataforma de trabalho em aço tubular apoiada no solo - altura de 4 a 6 m - utilização de 100 vezes - fornecimento, instalação e retirada | AB31: m³ | AE31: =SUMIF(Orçamento!F$18:F$149,'Curva ABC Serviços'!F31:F31,Orçamento!AH$18:AH$149) -> 379.68 | AK31: =AQ31/AE31 -> 24.760008 | AQ31: =SUMIF(Orçamento!F:H,F31,Orçamento!AO:AO) -> 9400.88 | AW31: =AQ31/$AQ$53 -> 0.010255433 | AZ31: =AW31+AZ30 -> 0.92844204 | BC31: =IF(AZ31<0.8,"A",IF(AZ31<0.95,"B","C")) -> B
A32: 1.17 | F32: P9812 | I32: Engenheiro - mensalista | AB32: mês | AE32: =SUMIF(Orçamento!F$18:F$149,'Curva ABC Serviços'!F32:F32,Orçamento!AH$18:AH$149) -> 0.25 | AK32: =AQ32/AE32 -> 34344.12 | AQ32: =SUMIF(Orçamento!F:H,F32,Orçamento!AO:AO) -> 8586.03 | AW32: =AQ32/$AQ$53 -> 0.0093665122 | AZ32: =AW32+AZ31 -> 0.93780855 | BC32: =IF(AZ32<0.8,"A",IF(AZ32<0.95,"B","C")) -> B
A33: 1.18 | F33: P9806 | I33: Auxiliar administrativo - mensalista | AB33: mês | AE33: =SUMIF(Orçamento!F$18:F$149,'Curva ABC Serviços'!F33:F33,Orçamento!AH$18:AH$149) -> 1 | AK33: =AQ33/AE33 -> 6401.81 | AQ33: =SUMIF(Orçamento!F:H,F33,Orçamento!AO:AO) -> 6401.81 | AW33: =AQ33/$AQ$53 -> 0.0069837436 | AZ33: =AW33+AZ32 -> 0.94479229 | BC33: =IF(AZ33<0.8,"A",IF(AZ33<0.95,"B","C")) -> B
A34: 1.19 | F34: 5213571 | I34: Placa de aço - película I + III - fornecimento e implantação | AB34: m² | AE34: =SUMIF(Orçamento!F$18:F$149,'Curva ABC Serviços'!F34:F34,Orçamento!AH$18:AH$149) -> 10.17 | AK34: =AQ34/AE34 -> 601.93019 | AQ34: =SUMIF(Orçamento!F:H,F34,Orçamento!AO:AO) -> 6121.63 | AW34: =AQ34/$AQ$53 -> 0.0066780948 | AZ34: =AW34+AZ33 -> 0.95147039 | BC34: =IF(AZ34<0.8,"A",IF(AZ34<0.95,"B","C")) -> C
A35: 1.20 | F35: 407820 | I35: Armação em aço CA-60 - fornecimento, preparo e colocação | AB35: kg | AE35: =SUMIF(Orçamento!F$18:F$149,'Curva ABC Serviços'!F35:F35,Orçamento!AH$18:AH$149) -> 260.8 | AK35: =AQ35/AE35 -> 18.410008 | AQ35: =SUMIF(Orçamento!F:H,F35,Orçamento!AO:AO) -> 4801.33 | AW35: =AQ35/$AQ$53 -> 0.0052377777 | AZ35: =AW35+AZ34 -> 0.95670817 | BC35: =IF(AZ35<0.8,"A",IF(AZ35<0.95,"B","C")) -> C
A36: 1.21 | F36: 5502109 | I36: Escavação, carga e transporte de material de 1ª categoria - DMT de 50 a 200 m - caminho de serviço em leito natural - com escavadeira e caminhão basculante de 14 m³ | AB36: m³ | AE36: =SUMIF(Orçamento!F$18:F$149,'Curva ABC Serviços'!F36:F36,Orçamento!AH$18:AH$149) -> 579.25 | AK36: =AQ36/AE36 -> 8.1699784 | AQ36: =SUMIF(Orçamento!F:H,F36,Orçamento!AO:AO) -> 4732.46 | AW36: =AQ36/$AQ$53 -> 0.0051626473 | AZ36: =AW36+AZ35 -> 0.96187081 | BC36: =IF(AZ36<0.8,"A",IF(AZ36<0.95,"B","C")) -> C
A37: 1.22 | F37: E9125 | I37: Veículo tipo van furgão com capacidade de 1,38 t - 100 kW | AB37: mês | AE37: =SUMIF(Orçamento!F$18:F$149,'Curva ABC Serviços'!F37:F37,Orçamento!AH$18:AH$149) -> 0.33 | AK37: =AQ37/AE37 -> 14142.455 | AQ37: =SUMIF(Orçamento!F:H,F37,Orçamento!AO:AO) -> 4667.01 | AW37: =AQ37/$AQ$53 -> 0.0050912478 | AZ37: =AW37+AZ36 -> 0.96696206 | BC37: =IF(AZ37<0.8,"A",IF(AZ37<0.95,"B","C")) -> C
A38: 1.23 | F38: 103689 | I38: Fornecimento e instalação de placa de obra com chapa galvanizada e estrutura de madeira - AF_03/2022_PS | AB38: m² | AE38: =SUMIF(Orçamento!F$18:F$149,'Curva ABC Serviços'!F38:F38,Orçamento!AH$18:AH$149) -> 8 | AK38: =AQ38/AE38 -> 568.45 | AQ38: =SUMIF(Orçamento!F:H,F38,Orçamento!AO:AO) -> 4547.6 | AW38: =AQ38/$AQ$53 -> 0.0049609833 | AZ38: =AW38+AZ37 -> 0.97192304 | BC38: =IF(AZ38<0.8,"A",IF(AZ38<0.95,"B","C")) -> C
A39: 1.24 | I39: Despesas diversas | AB39: un | AE39: =Orçamento!AH149 -> 1 | AK39: =AQ39/AE39 -> 4402.93 | AQ39: =Orçamento!AO149 -> 4402.93 | AW39: =AQ39/$AQ$53 -> 0.0048031625 | AZ39: =AW39+AZ38 -> 0.97672621 | BC39: =IF(AZ39<0.8,"A",IF(AZ39<0.95,"B","C")) -> C
A40: 1.25 | F40: 5216111 | I40: Suporte para placa de sinalização em madeira de lei tratada 8 x 8 cm - fornecimento e implantação | AB40: un | AE40: =SUMIF(Orçamento!F$18:F$149,'Curva ABC Serviços'!F40:F40,Orçamento!AH$18:AH$149) -> 18 | AK40: =AQ40/AE40 -> 165.26 | AQ40: =SUMIF(Orçamento!F:H,F40,Orçamento!AO:AO) -> 2974.68 | AW40: =AQ40/$AQ$53 -> 0.0032450826 | AZ40: =AW40+AZ39 -> 0.97997129 | BC40: =IF(AZ40<0.8,"A",IF(AZ40<0.95,"B","C")) -> C
A41: 1.26 | F41: P9950 | I41: Auxiliar de topografia - mensalista | AB41: mês | AE41: =SUMIF(Orçamento!F$18:F$149,'Curva ABC Serviços'!F41:F41,Orçamento!AH$18:AH$149) -> 0.4 | AK41: =AQ41/AE41 -> 6779.6 | AQ41: =SUMIF(Orçamento!F:H,F41,Orçamento!AO:AO) -> 2711.84 | AW41: =AQ41/$AQ$53 -> 0.0029583501 | AZ41: =AW41+AZ40 -> 0.98292964 | BC41: =IF(AZ41<0.8,"A",IF(AZ41<0.95,"B","C")) -> C
A42: 1.27 | F42: 4815671 | I42: Reaterro e compactação com soquete vibratório | AB42: m³ | AE42: =SUMIF(Orçamento!F$18:F$149,'Curva ABC Serviços'!F42:F42,Orçamento!AH$18:AH$149) -> 108.89 | AK42: =AQ42/AE42 -> 24.769951 | AQ42: =SUMIF(Orçamento!F:H,F42,Orçamento!AO:AO) -> 2697.2 | AW42: =AQ42/$AQ$53 -> 0.0029423793 | AZ42: =AW42+AZ41 -> 0.98587202 | BC42: =IF(AZ42<0.8,"A",IF(AZ42<0.95,"B","C")) -> C
A43: 1.28 | I43: Manutenção do canteiro de obras e acampamentos | AB43: mês | AE43: =Orçamento!AH147 -> 2 | AK43: =AQ43/AE43 -> 1220.76 | AQ43: =Orçamento!AO147 -> 2441.52 | AW43: =AQ43/$AQ$53 -> 0.0026634576 | AZ43: =AW43+AZ42 -> 0.98853548 | BC43: =IF(AZ43<0.8,"A",IF(AZ43<0.95,"B","C")) -> C
A44: 1.29 | F44: 2003864 | I44: Esgotamento de água com bomba submersa | AB44: h | AE44: =SUMIF(Orçamento!F$18:F$149,'Curva ABC Serviços'!F44:F44,Orçamento!AH$18:AH$149) -> 120 | AK44: =AQ44/AE44 -> 18.12 | AQ44: =SUMIF(Orçamento!F:H,F44,Orçamento!AO:AO) -> 2174.4 | AW44: =AQ44/$AQ$53 -> 0.002372056 | AZ44: =AW44+AZ43 -> 0.99090753 | BC44: =IF(AZ44<0.8,"A",IF(AZ44<0.95,"B","C")) -> C
...

Sheet Canteiro Id
A4: OBJETO: | I4: =IF(Dados!I4="","",Dados!I4) -> CONSTRUÇÃO DE PONTE RODOVIÁRIA EM CONCRETO ARMADO
A5: =Dados!A5 -> MUNICÍPIO: | I5: =IF(Dados!I5="","",Dados!I5) -> DEODÁPOLIS/MS
A6: =Dados!A6 -> RODOVIA/ESTRADA: | I6: =IF(Dados!I6="","",Dados!I6) -> ESTRADA VICINAL 14ª LINHA (LADO NASCENTE)
A7: =Dados!A7 -> LOCAL: | I7: =IF(Dados!I7="","",Dados!I7) -> PONTE SOBRE O CÓRREGO IRETAN
A8: =Dados!A8 -> COORDENADAS: | I8: =IF(Dados!I8="","",Dados!I8) -> 22°14'28.18"S, 54º04'37.28"O | AI8: =Dados!AI8 -> ÁREA: | AO8: =IF(Dados!AO8="","",Dados!AO8) -> 90 | AQ8: m²
A9: =Dados!A9 -> COMPRIMENTO: | I9: =IF(Dados!I9="","",Dados!I9) -> 15 | K9: m
A10: =Dados!A10 -> LARGURA: | I10: =IF(Dados!I10="","",Dados!I10) -> 6 | K10: m
A11: BDI: | I11: =Dados!I11 -> INSUMO | L11: =IF(Dados!L11="","",Dados!L11) -> 0.1527 | O11: =Dados!O11 -> SERVIÇO | R11: =IF(Dados!R11="","",Dados!R11) -> 0.2391 | AI11: =Dados!AI11 -> PRAZO DE EXECUÇÃO: | AO11: =IF(Dados!AO11="","",Dados!AO11) -> 120 | AQ11: dias
A12: SISTEMA/REFERÊNCIA: | I12: =IF(Dados!I12="","",Dados!I12) -> SEM DESONERAÇÃO SICRO (JANEIRO/2026) | V12: =IF(Dados!U12="","",Dados!U12) -> NÃO DESONERADO SINAPI (JANEIRO/2026)
A14: CANTEIRO DE OBRAS - IDENTIFICAÇÃO
A15: A - PREMISSAS DA OBRA:
A16: =CONCATENATE("1 - ",I4,", CONFORME CRONOGRAMA DE OBRAS, EM ",AO11," DIAS") -> 1 - CONSTRUÇÃO DE PONTE RODOVIÁRIA EM CONCRETO ARMADO, CONFORME CRONOGRAMA DE OBRAS, EM 120 DIAS
A17: 2 - MÃO DE OBRA ORDINÁRA MÉDIA NO PERÍODO DO EMPREENDIMENTO: | AK17: =LARGE('Histograma MO'!646:646,1) -> 15 | AM17: (FUNCIONÁRIOS/MÊS)
A18: 3 - MÃO DE OBRA PARCELA FIXA DA ADMINISTRAÇÃO LOCAL: | AK18: =SUM('Adm Local'!Y19:Z19,'Adm Local'!Y30:Z30) -> 3 | AM18: (FUNCIONÁRIOS/MÊS)
A19: 4 - MÃO DE OBRA PARCELA VINCULADA DA ADMINISTRAÇÃO LOCAL: | AK19: =SUM('Adm Local'!Y45:Z46,'Adm Local'!Y55:Z55) -> 4 | AM19: (FUNCIONÁRIOS/MÊS)
A20: 5 - MÃO DE OBRA PARCELA VARIÁVEL DA ADMINISTRAÇÃO LOCAL: | AK20: =SUM('Adm Local'!Y68:Z69) -> 3 | AM20: (FUNCIONÁRIOS/MÊS)
A21: DISTÂNCIA ENTRE O CANTEIRO E A CIDADE MAIS PRÓXIMA (PAVIMENTADO): | AK21: =14.5-AK22 -> 7.3 | AM21: km
A22: DISTÂNCIA ENTRE O CANTEIRO E A CIDADE MAIS PRÓXIMA (NÃO PAVIMENTADO): | AK22: 7.2 | AM22: km
A23: UNIDADE DA FEDERAÇÃO: | AK23: MATO GROSSO DO SUL
A24: MÊS-BASE: | AK24: 46023
A25: B - CLASSIFICAÇÃO DA OBRA: VER TABELA 02 - CLASSIFICAÇÃO DAS FAMÍLIAS DE SERVIÇOS NAS OBRAS DE ARTE ESPECIAIS
A34: CONSTRUÇÃO DE OBRA DE ARTE ESPECIAL DE PEQUENO PORTE (150,00m / ano)
A35: C - CARACTERIZAÇÃO DA MÃO DE OBRA: ITEM 9.4 - QUANTIDADE DE FUNCIONÁRIOS NOS CANTEIROS, DEVE-SE APLICAR O COEFICIENTE DE 1,33 SOBRE A MÃO DE OBRA ORDINÁRIA E A PARCELA VARIÁVEL DA ADMINISTRAÇÃO LOCAL PARA DETERMINAÇÃO DA QUANTIDADE MÁXIMA DE FUNCIONÁRIOS/MÊS
A36: NÚMERO DE FUNCIONÁRIOS DA MÃO DE OBRA ORDINÁRIA NO MÊS DE PICO (Nmo)
A37: =CONCATENATE("Nmo = ",AK17," =") -> Nmo = 15 = | J37: =ROUND(AK17,0) -> 15 | M37: FUNCIONÁRIOS/MÊS
A38: NÚMERO DE FUNCIONÁRIOS DA PARCELA VARIÁVEL NO MÊS DE PICO (Npv)
A39: =CONCATENATE("Npv = 1,33 x ",AK20," =") -> Npv = 1,33 x 3 = | J39: =ROUND(1.33*AK20,0) -> 4 | M39: FUNCIONÁRIOS/MÊS
A40: NÚMERO DE FUNCIONÁRIOS DA PARCELA FIXA DA ADMINISTRAÇÃO LOCAL (Npf)
A41: Npf = | J41: =AK18 -> 3 | M41: FUNCIONÁRIOS/MÊS
A42: NÚMERO DE FUNCIONÁRIOS DAS PARCELAS FIXA E VINCULADA (Npf-v)
A43: Npf-v = | J43: =AK18+AK19 -> 7 | M43: FUNCIONÁRIOS/MÊS
A44: NÚMERO DE FUNCIONÁRIOS ALOJADOS NO CANTEIRO DE OBRAS (Nfa)
A45: Nfa = | J45: =ROUND(0.5*(J37+J39)+J43,0) -> 17 | M45: FUNCIONÁRIOS/MÊS
A46: NÚMERO MÁXIMO DE FUNCIONÁRIOS (Nmax)
A47: Nmax = | J47: =J37+J39+J43 -> 26 | M47: FUNCIONÁRIOS/MÊS
A48: D - FATOR DE PRODUÇÃO DE CONSTRUÇÃO (k1)
A49: PADRÃO DE CONSTRUÇÃO PROVISÓRIO | AJ49: k1 = | AM49: 0.8
A50: D - FATOR DE MOBILIÁRIO E APARELHAGEM (k2): VER TABELA 76 - FATOR DE AJUSTE DE MOBILIÁRIO E APARELHAGEM DAS INSTALAÇÕES DOS CANTEIROS-TIPO
A57: CONSTRUÇÃO OU RECUPERAÇÃO, REFORÇO E ALARGAMENTO DE OBRAS DE ARTE ESPECIAIS DE PEQUENO PORTE | AJ57: k2 = | AM57: 1.33
A58: E - FATOR DE DISTÂNCIA DO CANTEIRO AOS CENTROS FORNECEDORES (k3) : VER TABELA 59 - FATORES DE AJUSTE DA DISTÂNCIA DO CANTEIRO AOS CENTROS FORNECEDORES
...

Sheet Canteiro Qtd
A4: OBJETO: | I4: =IF(Dados!I4="","",Dados!I4) -> CONSTRUÇÃO DE PONTE RODOVIÁRIA EM CONCRETO ARMADO
A5: =Dados!A5 -> MUNICÍPIO: | I5: =IF(Dados!I5="","",Dados!I5) -> DEODÁPOLIS/MS
A6: =Dados!A6 -> RODOVIA/ESTRADA: | I6: =IF(Dados!I6="","",Dados!I6) -> ESTRADA VICINAL 14ª LINHA (LADO NASCENTE)
A7: =Dados!A7 -> LOCAL: | I7: =IF(Dados!I7="","",Dados!I7) -> PONTE SOBRE O CÓRREGO IRETAN
A8: =Dados!A8 -> COORDENADAS: | I8: =IF(Dados!I8="","",Dados!I8) -> 22°14'28.18"S, 54º04'37.28"O | AI8: =Dados!AI8 -> ÁREA: | AO8: =IF(Dados!AO8="","",Dados!AO8) -> 90 | AQ8: m²
A9: =Dados!A9 -> COMPRIMENTO: | I9: =IF(Dados!I9="","",Dados!I9) -> 15 | K9: m
A10: =Dados!A10 -> LARGURA: | I10: =IF(Dados!I10="","",Dados!I10) -> 6 | K10: m
A11: BDI: | I11: =Dados!I11 -> INSUMO | L11: =IF(Dados!L11="","",Dados!L11) -> 0.1527 | O11: =Dados!O11 -> SERVIÇO | R11: =IF(Dados!R11="","",Dados!R11) -> 0.2391 | AI11: =Dados!AI11 -> PRAZO DE EXECUÇÃO: | AO11: =IF(Dados!AO11="","",Dados!AO11) -> 120 | AQ11: dias
A12: SISTEMA/REFERÊNCIA: | I12: =IF(Dados!I12="","",Dados!I12) -> SEM DESONERAÇÃO SICRO (JANEIRO/2026) | V12: =IF(Dados!U12="","",Dados!U12) -> NÃO DESONERADO SINAPI (JANEIRO/2026)
A14: CANTEIRO DE OBRAS - QUANTIFICAÇÃO
A15: F - DIMENSIONAMENTO DAS INSTALAÇÕES COM UTILIZAÇÃO DE CONTAINER (CCi x QCi)
A16: INSTALAÇÕES | I16: CONTAINER | Z16: CÓD. | AD16: Qtde | AF16: ÁREA DE REF. | AI16: V. AQUISIÇÃO | AN16: CUSTO
A17: ESCRITÓRIO | I17: =+VLOOKUP(Z17,Materiais!A:D,2,"falso") -> Contêiner com revestimento térmico, janela e banheiro - L = 2,44 m e C = 6,09 m (1 TEU) | Z17: M0059 | AD17: 1 | AF17: =ROUND(2.44*6.09,2)*AD17 -> 14.86 | AI17: =IF(Z17="","",+VLOOKUP(Z17,Materiais!A:D,4,"falso")) -> 58283.063 | AN17: =IF(AI17="","",(AI17*AD17)) -> 58283.063 | AS17: =CONCATENATE("PARCELAS FIXA E VINCULADA = ",'Canteiro Id'!AK18," + ",'Canteiro Id'!AK19," = ",'Canteiro Id'!AK18+'Canteiro Id'!AK19) -> PARCELAS FIXA E VINCULADA = 3 + 4 = 7 | AV17: 1
A18: SEÇÃO TÉCNICA | I18: =+VLOOKUP(Z18,Materiais!A:D,2,"falso") -> Contêiner com revestimento térmico, janela e banheiro - L = 2,44 m e C = 6,09 m (1 TEU) | Z18: M0059 | AD18: 1 | AF18: =ROUND(2.44*6.09,2)*AD18 -> 14.86 | AI18: =IF(Z18="","",+VLOOKUP(Z18,Materiais!A:D,4,"falso")) -> 58283.063 | AN18: =IF(AI18="","",(AI18*AD18)) -> 58283.063 | AV18: 2
A19: ALMOXARIFADO E DEPÓSITO DE CIMENTO | I19: =+VLOOKUP(Z19,Materiais!A:D,2,"falso") -> Contêiner com janela - L = 2,44 m e C = 6,09 m (1 TEU) | Z19: M0042 | AD19: 1 | AF19: =ROUND(2.44*6.09,2)*AD19 -> 14.86 | AI19: =IF(Z19="","",+VLOOKUP(Z19,Materiais!A:D,4,"falso")) -> 36836.045 | AN19: =IF(AI19="","",(AI19*AD19)) -> 36836.045
A20: LOCAL PARA REFEIÇÃO | I20: =+VLOOKUP(Z20,Materiais!A:D,2,"falso") -> Contêiner com janela e 2 banheiros - L = 4,88 m e C = 6,09 m (1 TEU duplo) | Z20: M0058 | AD20: 1 | AF20: =ROUND(4.88*6.09,2)*AD20 -> 29.72 | AI20: =IF(Z20="","",+VLOOKUP(Z20,Materiais!A:D,4,"falso")) -> 132070.63 | AN20: =IF(AI20="","",(AI20*AD20)) -> 132070.63
A21: COZINHA | I21: =+VLOOKUP(Z21,Materiais!A:D,2,"falso") -> Contêiner com janela - L = 4,88 m e C = 6,09 m (1 TEU duplo) | Z21: M0057 | AD21: 1 | AF21: =ROUND(4.88*6.09,2)*AD21 -> 29.72 | AI21: =IF(Z21="","",+VLOOKUP(Z21,Materiais!A:D,4,"falso")) -> 127045.6 | AN21: =IF(AI21="","",(AI21*AD21)) -> 127045.6
A22: ALOJAMENTO | I22: =+VLOOKUP(Z22,Materiais!A:D,2,"falso") -> Contêiner com revestimento térmico, janela e banheiro - L = 2,44 m e C = 6,09 m (1 TEU) | Z22: M0059 | AD22: =ROUND('Canteiro Id'!AK17*0.5/6+1,0) -> 2 | AF22: =ROUND(2.44*6.09,2)*AD22 -> 29.72 | AI22: =IF(Z22="","",+VLOOKUP(Z22,Materiais!A:D,4,"falso")) -> 58283.063 | AN22: =IF(AI22="","",(AI22*AD22)) -> 116566.13
A23: INSTALAÇÕES SANITÁRIAS E VESTIÁRIO | I23: =+VLOOKUP(Z23,Materiais!A:D,2,"falso") -> Contêiner com 2 banheiros - L = 2,44 m e C = 6,09 m (1 TEU) | Z23: M0041 | AD23: 1 | AF23: =ROUND(2.44*6.09,2)*AD23 -> 14.86 | AI23: =IF(Z23="","",+VLOOKUP(Z23,Materiais!A:D,4,"falso")) -> 90298.939 | AN23: =IF(AI23="","",(AI23*AD23)) -> 90298.939
A24: AMBULATÓRIO | I24: =+VLOOKUP(Z24,Materiais!A:D,2,"falso") -> Contêiner com revestimento térmico, janela e banheiro - L = 2,44 m e C = 6,09 m (1 TEU) | Z24: M0059 | AD24: 1 | AF24: =ROUND(2.44*6.09,2)*AD24 -> 14.86 | AI24: =IF(Z24="","",+VLOOKUP(Z24,Materiais!A:D,4,"falso")) -> 58283.063 | AN24: =IF(AI24="","",(AI24*AD24)) -> 58283.063
A25: LABORATÓRIO | I25: =+VLOOKUP(Z25,Materiais!A:D,2,"falso") -> Contêiner com janela - L = 2,44 m e C = 6,09 m (1 TEU) | Z25: M0042 | AD25: 1 | AF25: =ROUND(2.44*6.09,2)*AD25 -> 14.86 | AI25: =IF(Z25="","",+VLOOKUP(Z25,Materiais!A:D,4,"falso")) -> 36836.045 | AN25: =IF(AI25="","",(AI25*AD25)) -> 36836.045
A26: GUARITA | I26: =+VLOOKUP(Z26,Materiais!A:D,2,"falso") -> Contêiner com 3 janelas para guarita - L = 2,44 m e C = 3,05 m (1/2 TEU) | Z26: M0071 | AD26: 1 | AF26: =ROUND(2.44*3.05,2)*AD26 -> 7.44 | AI26: =IF(Z26="","",+VLOOKUP(Z26,Materiais!A:D,4,"falso")) -> 40370.514 | AN26: =IF(AI26="","",(AI26*AD26)) -> 40370.514
A27: TOTAL = | AD27: =ROUND(SUM(AD17:AE26),0) -> 11 | AF27: =SUM(AF17:AH26) -> 185.76 | AI27: CCO = | AN27: =ROUND(SUM(AN17:AR26),2) -> 754873.09
A28: G. - CANTEIRO PRINCIPAL - CONSTRUÇÃO DE OBRA DE ARTE ESPECIAL DE PEQUENO PORTE
A29: G.1 - DIMENSIONAMENTO DAS ÁREAS VARIÁVEIS | Z29: EQUAÇÕES DE DIMENSIONAMENTO DAS ÁREAS | AJ29: CÁLCULO
A30: ESCRITÓRIO E SEÇÃO TÉCNICA | Z30: Ae-st = 57,95 + 4,5 X (Npf-v) | AJ30: =ROUND(57.95+4.5*'Canteiro Id'!J43,2) -> 89.45
A31: REFEITÓRIO E COZINHA | Z31: ALr-c = 1,55 X 50%(Nmax) | AJ31: =ROUND(1.55*(0.5*'Canteiro Id'!J47),2) -> 20.15
A32: ALOJAMENTOS E RESIDÊNCIAS | Z32: Aal = 3,11 X 50%(Nmo + Npv) | AJ32: =ROUND(3.11*0.5*('Canteiro Id'!J37+'Canteiro Id'!J39),2) -> 29.55
A33: INSTALAÇÕES SANITÁRIAS E VESTIÁRIO | Z33: AI-v = 0,77 X (Nmo + Npv) | AJ33: =ROUND(0.77*('Canteiro Id'!J37+'Canteiro Id'!J39),2) -> 14.63
A34: INSTALAÇÕES ADICIONAIS | Z34: Aamb = 0,25 X (Nmax) | AJ34: =ROUND(0.25*'Canteiro Id'!J47,2) -> 6.5
A35: RESIDÊNCIAS | Z35: Ares = 8,46 X (Npf-v) | AJ35: =ROUND(8.46*('Canteiro Id'!J43),2) -> 59.22
A36: G.2 - ÁREAS FIXAS DE REFERÊNCIA DO CANTEIRO PRINCIPAL: INSTALAÇÕES E ÁREA DE REFERÊNCIA PARA O CANTEIRO DE OBRA DE ARTE ESPECIAIS
A37: ÁREAS COBERTAS
A38: ÁREA TOTAL DO TERRENO (VER TABELA 74 - RELAÇÃO ENTRE AS ÁREAS COBERTAS EDIFICADAS E AS ÁREAS TOTAIS DOS TERRENOS NOS CANTEIROS-TIPOS DE INTERVENÇÕES PONTUAIS)
A44: OBRA DE CONSTRUÇÃO DE OBRA DE ARTE ESPECIAL DE PEQUENO PORTE => | AB44: 0.234
A45: =CONCATENATE("ÁREA TOTAL DE REFERÊNCIA DO TERRENO = ",AF27,"/0,234 =") -> ÁREA TOTAL DE REFERÊNCIA DO TERRENO = 185,76/0,234 = | AB45: =ROUND((AF27)/AB44,2) -> 793.85 | AF45: m²
A46: =CONCATENATE("ÁREAS DESCOBERTAS = ",AB45," - ",AF27," =") -> ÁREAS DESCOBERTAS = 793,85 - 185,76 = | AB46: =AB45-X56 -> 608.09 | AF46: m²
A47: FEAT = | AB47: 0.0097
A48: G.3 - CUSTO DAS INSTALAÇÕES COM UTILIZAÇÃO DE CONTAINER (ΣCCi x QCi)
A49: Qtde | C49: DESCRIÇÃO | T49: CÓD. | X49: ÁREA DE REF. | AA49: CUSTO MENSAL | AF49: UTILIZAÇÃO | AN49: CUSTO TOTAL
...

Sheet MC Transporte
A4: OBJETO: | I4: =IF(Dados!I4="","",Dados!I4) -> CONSTRUÇÃO DE PONTE RODOVIÁRIA EM CONCRETO ARMADO
A5: =Dados!A5 -> MUNICÍPIO: | I5: =IF(Dados!I5="","",Dados!I5) -> DEODÁPOLIS/MS
A6: =Dados!A6 -> RODOVIA/ESTRADA: | I6: =IF(Dados!I6="","",Dados!I6) -> ESTRADA VICINAL 14ª LINHA (LADO NASCENTE)
A7: =Dados!A7 -> LOCAL: | I7: =IF(Dados!I7="","",Dados!I7) -> PONTE SOBRE O CÓRREGO IRETAN
A8: =Dados!A8 -> COORDENADAS: | I8: =IF(Dados!I8="","",Dados!I8) -> 22°14'28.18"S, 54º04'37.28"O | BA8: =Dados!AI8 -> ÁREA: | BH8: =IF(Dados!AO8="","",Dados!AO8) -> 90 | BJ8: m²
A9: =Dados!A9 -> COMPRIMENTO: | I9: =IF(Dados!I9="","",Dados!I9) -> 15 | K9: m
A10: =Dados!A10 -> LARGURA: | I10: =IF(Dados!I10="","",Dados!I10) -> 6 | K10: m
A11: BDI: | I11: =Dados!I11 -> INSUMO | L11: =IF(Dados!L11="","",Dados!L11) -> 0.1527 | O11: =Dados!O11 -> SERVIÇO | R11: =IF(Dados!R11="","",Dados!R11) -> 0.2391 | BA11: =Dados!AI11 -> PRAZO DE EXECUÇÃO: | BH11: =IF(Dados!AO11="","",Dados!AO11) -> 120 | BJ11: dias
A12: SISTEMA/REFERÊNCIA: | I12: =IF(Dados!I12="","",Dados!I12) -> SEM DESONERAÇÃO SICRO (JANEIRO/2026) | V12: =IF(Dados!U12="","",Dados!U12) -> NÃO DESONERADO SINAPI (JANEIRO/2026)
A14: 1. CÁLCULO DO MOMENTO DE TRANSPORTE
A15: ITEM | C15: FONTE | F15: CÓDIGO | I15: DESCRIÇÃO DO EQUIPAMENTO | AB15: QTDE. | AE15: UNID. | AH15: T/UNID. | AK15: DMT | AT15: TOTAL | BC15: DESLOCAMENTO - ORIGEM
AK16: ROD. PAV. | AN16: REVEST. PRIMÁRIO | AQ16: TERRENO NATURAL | AT16: ROD. PAV. | AW16: REVEST. PRIMÁRIO | AZ16: TERRENO NATURAL
AK17: KM | AN17: KM | AQ17: KM | AT17: TKM | AW17: TKM | AZ17: TKM
A18: 1.1. | I18: MATERIAL BÁSICO
A19: 1.1.1 | C19: 1106057 | F19: M0424 | I19: CIMENTO - CONCRETO MAGRO | AB19: =Orçamento!AF157 -> 8.54 | AE19: m³ | AH19: 0.28053 | AK19: =Dados!$Y$23 -> 0 | AN19: 0 | AQ19: =Dados!$AK$23 -> 0 | AT19: =ROUND(($AB19*$AH19*AK19),3) -> 0 | AW19: =ROUND(($AB19*$AH19*AN19),3) -> 0 | AZ19: =ROUND(($AB19*$AH19*AQ19),3) -> 0 | BC19: =Dados!$I$23 -> Material entregue no Canteiro de Obras
A20: 1.1.2 | C20: 1107900 | F20: M0424 | I20: CIMENTO - CONCRETO FCK 30MPA | AB20: =Orçamento!AF167 -> 116.24 | AE20: m³ | AH20: 0.35237 | AK20: =Dados!$Y$23 -> 0 | AN20: =Dados!AE25 -> 0 | AQ20: =Dados!$AK$23 -> 0 | AT20: =ROUND(($AB20*$AH20*AK20),3) -> 0 | AW20: =ROUND(($AB20*$AH20*AN20),3) -> 0 | AZ20: =ROUND(($AB20*$AH20*AQ20),3) -> 0 | BC20: =Dados!$I$23 -> Material entregue no Canteiro de Obras
A21: 1.1.3 | C21: 1107908 | F21: M0424 | I21: CIMENTO - CONCRETO FCK 40MPA | AB21: =Orçamento!AF171 -> 21.65 | AE21: m³ | AH21: 0.44005 | AK21: =Dados!$Y$23 -> 0 | AN21: =Dados!AE24 -> 0 | AQ21: =Dados!$AK$23 -> 0 | AT21: =ROUND(($AB21*$AH21*AK21),3) -> 0 | AW21: =ROUND(($AB21*$AH21*AN21),3) -> 0 | AZ21: =ROUND(($AB21*$AH21*AQ21),3) -> 0 | BC21: =Dados!$I$23 -> Material entregue no Canteiro de Obras
A22: 1.1.4 | C22: 407819 | F22: M0004 | I22: AÇO CA-50 | AB22: =Orçamento!AF179 -> 13606.7 | AE22: m³ | AH22: 0.0011 | AK22: =Dados!$Y$24 -> 0 | AN22: =Dados!AE23 -> 0 | AQ22: =Dados!$AK$24 -> 0 | AT22: =ROUND(($AB22*$AH22*AK22),3) -> 0 | AW22: =ROUND(($AB22*$AH22*AN22),3) -> 0 | AZ22: =ROUND(($AB22*$AH22*AQ22),3) -> 0 | BC22: =Dados!$I$24 -> Dourados/MS ao Canteiro de Obras
A23: 1.1.5 | C23: 3108000 | I23: FORMA - MADEIRA | AB23: =Orçamento!AF181 -> 647.66 | AE23: m² | AH23: 0.02258 | AK23: =Dados!$Y$25 -> 7.3 | AN23: =Dados!AE24 -> 0 | AQ23: =Dados!$AK$25 -> 7.2 | AT23: =ROUND(($AB23*$AH23*AK23),3) -> 106.756 | AW23: =ROUND(($AB23*$AH23*AN23),3) -> 0 | AZ23: =ROUND(($AB23*$AH23*AQ23),3) -> 105.294 | BC23: =Dados!$I$25 -> Deodápolis/MS ao Canteiro de Obras
A24: SUB-TOTAL (MATERIAL BÁSICO) | AT24: =SUM(AT19:AV23) -> 106.756 | AW24: =SUM(AW19:AY23) -> 0 | AZ24: =SUM(AZ19:BB23) -> 105.294
A25: 1.2. | I25: MATERIAL AGREGADO
A26: 1.2.1 | C26: =C19 -> 1106057 | F26: M0082 | I26: AREIA - CONCRETO MAGRO | AB26: =AB$19 -> 8.54 | AE26: m³ | AH26: 0.89922 | AK26: =Dados!$Y$27 -> #REF! | AN26: 0 | AQ26: =Dados!$AK$27 -> #REF! | AT26: =ROUND(($AB26*$AH26*AK26),3) -> #REF! | AW26: =ROUND(($AB26*$AH26*AN26),3) -> 0 | AZ26: =ROUND(($AB26*$AH26*AQ26),3) -> #REF! | BC26: =Dados!$I$27 -> Naviraí/MS ao Canteiro de Obras
A27: 1.2.2 | C27: =C26 -> 1106057 | F27: M0192 | I27: BRITA 2 - CONCRETO MAGRO | AB27: =AB26 -> 8.54 | AE27: m³ | AH27: 1.10262 | AK27: =Dados!$Y$29 -> 106.8 | AN27: 0 | AQ27: =Dados!$AK$29 -> 11.2 | AT27: =ROUND(($AB27*$AH27*AK27),3) -> 1005.669 | AW27: =ROUND(($AB27*$AH27*AN27),3) -> 0 | AZ27: =ROUND(($AB27*$AH27*AQ27),3) -> 105.463 | BC27: =Dados!$I$29 -> Itaporã/MS ao Canteiro de Obras
A28: 1.2.3 | C28: =C20 -> 1107900 | F28: M0082 | I28: AREIA - CONCRETO FCK 30 MPA | AB28: =AB20 -> 116.24 | AE28: m³ | AH28: 0.89045 | AK28: =Dados!$Y$27 -> #REF! | AN28: 0 | AQ28: =Dados!$AK$27 -> #REF! | AT28: =ROUND(($AB28*$AH28*AK28),3) -> #REF! | AW28: =ROUND(($AB28*$AH28*AN28),3) -> 0 | AZ28: =ROUND(($AB28*$AH28*AQ28),3) -> #REF! | BC28: =Dados!$I$27 -> Naviraí/MS ao Canteiro de Obras
A29: 1.2.4 | C29: =C28 -> 1107900 | F29: M0191 | I29: BRITA 1 - CONCRETO FCK 30 MPA | AB29: =AB28 -> 116.24 | AE29: m³ | AH29: 0.55131 | AK29: =Dados!$Y$28 -> 106.8 | AN29: 0 | AQ29: =Dados!$AK$28 -> 11.2 | AT29: =ROUND(($AB29*$AH29*AK29),3) -> 6844.201 | AW29: =ROUND(($AB29*$AH29*AN29),3) -> 0 | AZ29: =ROUND(($AB29*$AH29*AQ29),3) -> 717.744 | BC29: =Dados!$I$28 -> Itaporã/MS ao Canteiro de Obras
A30: 1.2.5 | C30: =C29 -> 1107900 | F30: M0192 | I30: BRITA 2 - CONCRETO FCK 30 MPA | AB30: =AB29 -> 116.24 | AE30: m³ | AH30: 0.55131 | AK30: =Dados!$Y$29 -> 106.8 | AN30: 0 | AQ30: =Dados!$AK$29 -> 11.2 | AT30: =ROUND(($AB30*$AH30*AK30),3) -> 6844.201 | AW30: =ROUND(($AB30*$AH30*AN30),3) -> 0 | AZ30: =ROUND(($AB30*$AH30*AQ30),3) -> 717.744 | BC30: =Dados!$I$29 -> Itaporã/MS ao Canteiro de Obras
A31: 1.2.6 | C31: =C21 -> 1107908 | F31: M0082 | I31: AREIA - CONCRETO FCK 40 MPA | AB31: =AB21 -> 21.65 | AE31: m³ | AH31: 0.81605 | AK31: =Dados!$Y$27 -> #REF! | AN31: 0 | AQ31: =Dados!$AK$27 -> #REF! | AT31: =ROUND(($AB31*$AH31*AK31),3) -> #REF! | AW31: =ROUND(($AB31*$AH31*AN31),3) -> 0 | AZ31: =ROUND(($AB31*$AH31*AQ31),3) -> #REF! | BC31: =Dados!$I$27 -> Naviraí/MS ao Canteiro de Obras
