Workbook
Name Perfis: !#REF!
Name Serviços: !#REF!

Sheet Estimativa_-_ITEM 1
A1: Planilha Simplificada para Estimativa do Valor Mensal do Serviço
A2: ITEM 1 | C2: Categoria de Posto de Trabalho
C3: Perfil | D3: Salário de referência (A) | E3: Fator-K | F3: Quantidade (B) | G3: Custo unitário mensal do Perfil (C) | H3: Custo total mensal por Perfil (D = C x B) | I3: Custo por serviço | K3: Custo total 12 Meses | L3: Custo total 24 Meses
B4: GOVERNANÇA DE SERVIÇOS DE TIC | C4: Analista de suporte computacional Júnior | D4: 3890.77 | E4: 2.25 | F4: 2 | G4: =IFERROR((D4*E4),"") -> 8754.2325 | H4: =IFERROR((G4*F4),"") -> 17508.465 | K4: =H4*12 -> 210101.58 | L4: =H4*24 -> 420203.16
C5: Analista de suporte computacional Pleno | D5: 5433.33 | E5: 2.15 | F5: 1 | G5: =IFERROR((D5*E5),"") -> 11681.659 | H5: =IFERROR((G5*F5),"") -> 11681.659 | K5: =H5*12 -> 140179.91 | L5: =H5*24 -> 280359.83
C6: Analista de suporte computacional Sênior | D6: 8675.61 | E6: 2.06 | F6: 1 | G6: =IFERROR((D6*E6),"") -> 17871.757 | H6: =IFERROR((G6*F6),"") -> 17871.757 | K6: =H6*12 -> 214461.08 | L6: =H6*24 -> 428922.16
B7: OPERAÇÃO DE DATACENTER | C7: Analista de suporte computacional Pleno | D7: 5433.33 | E7: 2.25 | F7: 3 | G7: =IFERROR((D7*E7),"") -> 12224.993 | H7: =IFERROR((G7*F7),"") -> 36674.978 | K7: =H7*12 -> 440099.73 | L7: =H7*24 -> 880199.46
C8: Analista de suporte computacional Sênior | D8: 8675.61 | E8: 2.15 | F8: 1 | G8: =IFERROR((D8*E8),"") -> 18652.561 | H8: =IFERROR((G8*F8),"") -> 18652.561 | K8: =H8*12 -> 223830.74 | L8: =H8*24 -> 447661.48
B9: SUSTENTAÇÃO DE APLICAÇÕES E BANCO DE DADOS | C9: Administrador de sistemas operacionais Pleno | D9: 6589.79 | E9: 2.11 | F9: 1 | G9: =IFERROR((D9*E9),"") -> 13904.457 | H9: =IFERROR((G9*F9),"") -> 13904.457 | K9: =H9*12 -> 166853.48 | L9: =H9*24 -> 333706.97
C10: Administrador de sistemas operacionais Sênior | D10: 10109.23 | E10: 2.03 | F10: 1 | G10: =IFERROR((D10*E10),"") -> 20521.737 | H10: =IFERROR((G10*F10),"") -> 20521.737 | K10: =H10*12 -> 246260.84 | L10: =H10*24 -> 492521.69
C11: Analista de sistemas de automação - Pleno | D11: 9008.23 | E11: 2.05 | F11: 2 | G11: =IFERROR((D11*E11),"") -> 18466.871 | H11: =IFERROR((G11*F11),"") -> 36933.743 | K11: =H11*12 -> 443204.92 | L11: =H11*24 -> 886409.83
C12: Administrador de banco de dados - Pleno | D12: 6894.28 | E12: 2.1 | F12: 1 | G12: =IFERROR((D12*E12),"") -> 14477.988 | H12: =IFERROR((G12*F12),"") -> 14477.988 | K12: =H12*12 -> 173735.86 | L12: =H12*24 -> 347471.71
C13: Administrador de banco de dados - Sênior | D13: 11112.49 | E13: 2.02 | F13: 1 | G13: =IFERROR((D13*E13),"") -> 22447.23 | H13: =IFERROR((G13*F13),"") -> 22447.23 | K13: =H13*12 -> 269366.76 | L13: =H13*24 -> 538733.52
B14: INFRAESTRUTURA DE REDES E CONECTIVIDADE | C14: Analista de redes e de comunicação de dados Pleno | D14: 7597.66 | E14: 2.08 | F14: 1 | G14: =IFERROR((D14*E14),"") -> 15803.133 | H14: =IFERROR((G14*F14),"") -> 15803.133 | K14: =H14*12 -> 189637.59 | L14: =H14*24 -> 379275.19
C15: Analista de redes e de comunicação de dados Sênior | D15: 10750 | E15: 2.03 | F15: 1 | G15: =IFERROR((D15*E15),"") -> 21822.5 | H15: =IFERROR((G15*F15),"") -> 21822.5 | K15: =H15*12 -> 261870 | L15: =H15*24 -> 523740
B16: CIBERSEGURANÇA | C16: Administrador em segurança da informação - Júnior | D16: 7168 | E16: 2.09 | F16: 4 | G16: =IFERROR((D16*E16),"") -> 14981.12 | H16: =IFERROR((G16*F16),"") -> 59924.48 | K16: =H16*12 -> 719093.76 | L16: =H16*24 -> 1438187.5
C17: Administrador em segurança da informação - Pleno | D17: 9997.48 | E17: 2.04 | F17: 4 | G17: =IFERROR((D17*E17),"") -> 20394.859 | H17: =IFERROR((G17*F17),"") -> 81579.437 | K17: =H17*12 -> 978953.24 | L17: =H17*24 -> 1957906.5
C18: Administrador em segurança da informação - Sênior | D18: 15586.67 | E18: 1.99 | F18: 2 | G18: =IFERROR((D18*E18),"") -> 31017.473 | H18: =IFERROR((G18*F18),"") -> 62034.947 | K18: =H18*12 -> 744419.36 | L18: =H18*24 -> 1488838.7
B19: GERENCIAMENTO E EXECUÇÃO DE SERVIÇOS NEGOCIAIS DITEC | C19: Desenvolvedor de sistemas de tecnologia da informação Pleno | D19: 11349.54 | E19: 2.02 | F19: 1 | G19: =IFERROR((D19*E19),"") -> 22926.071 | H19: =IFERROR((G19*F19),"") -> 22926.071 | K19: =H19*12 -> 275112.85 | L19: =H19*24 -> 550225.7
C20: Administrador em segurança da informação - Pleno | D20: 9997.48 | E20: 2.04 | F20: 2 | G20: =IFERROR((D20*E20),"") -> 20394.859 | H20: =IFERROR((G20*F20),"") -> 40789.718 | K20: =H20*12 -> 489476.62 | L20: =H20*24 -> 978953.24
B21: GERENCIAMENTO E EXECUÇÃO DE SERVIÇOS NEGOCIAIS DAFN | C21: Analista de sistemas de automação - Pleno | D21: 9008.23 | E21: 2.05 | F21: 2 | G21: =IFERROR((D21*E21),"") -> 18466.871 | H21: =IFERROR((G21*F21),"") -> 36933.743 | K21: =H21*12 -> 443204.92 | L21: =H21*24 -> 886409.83
C22: Administrador de banco de dados - Sênior | D22: 11112.49 | E22: 2.02 | F22: 1 | G22: =IFERROR((D22*E22),"") -> 22447.23 | H22: =IFERROR((G22*F22),"") -> 22447.23 | K22: =H22*12 -> 269366.76 | L22: =H22*24 -> 538733.52
C23: Administrador em segurança da informação - Júnior | D23: 7168 | E23: 2.09 | F23: 1 | G23: =IFERROR((D23*E23),"") -> 14981.12 | H23: =IFERROR((G23*F23),"") -> 14981.12 | K23: =H23*12 -> 179773.44 | L23: =H23*24 -> 359546.88
C24: Administrador em segurança da informação - Pleno | D24: 9997.48 | E24: 2.04 | F24: 1 | G24: =IFERROR((D24*E24),"") -> 20394.859 | H24: =IFERROR((G24*F24),"") -> 20394.859 | K24: =H24*12 -> 244738.31 | L24: =H24*24 -> 489476.62
D25: Quantitativo Total Equipe | F25: =SUM(F4:F24) -> 34 | G25: Custo Total mensal (F) | H25: =IFERROR(SUM(H4:H24),"") -> 610311.81 | I25: =IFERROR(SUM(I4:I21),"") -> 0 | J25: =IFERROR(SUM(J4:J21),"") -> 0 | K25: =IFERROR(SUM(K4:K21),"") -> 6629863.2 | L25: =IFERROR(SUM(L4:L21),"") -> 13259726
A28: Outros itens de custo
A29: ID | C29: Descrição | D29: Custo mensal (E)
A30: 1 | B30: OPERAÇÃO DE DATACENTER | C30: Custo total mensal das Horas de Sobreaviso | D30: ='sobreaviso_hora-extra_ITEM1'!E23 -> 13674.704
A31: 2 | C31: Custo total mensal das Horas de Horas Extra - Dias da Semana | D31: ='sobreaviso_hora-extra_ITEM1'!E29 -> 2416.6503
A32: 3 | B32: INFRAESTRUTURA DE REDES E CONECTIVIDADE | C32: Custo total mensal das Horas de Sobreaviso | D32: ='sobreaviso_hora-extra_ITEM1'!E24 -> 18599.034
A33: 4 | C33: Custo total mensal das Horas de Horas Extra - Dias da Semana | D33: ='sobreaviso_hora-extra_ITEM1'!E30 -> 3286.8983
C34: Custo mensal Total Outros Itens (G) | D34: =IFERROR(SUM(D30:D33),"") -> 37977.287
C36: =CONCATENATE("Valor Mensal de Referência do ",$A$2) -> Valor Mensal de Referência do ITEM 1 | D36: =TRUNC(H25+D34,2) -> 648289.09
L42: 190192
L43: 120184.49
L44: =L42+L43 -> 310376.49

Sheet sobreaviso_hora-extra_ITEM1
A1: Equipe Técnica | B1: Janela Padrão | C1: Horas mensais de Sobreaviso = (22 dias úteis X horas fora da janela padrão, mais 8 dias não úteis x 24 horas) | D1: Quantidade total de perfis por Equipe Técnica em sobre aviso | E1: Custo total mensal por Equipe Técnica
A2: OPERAÇÃO DE DATACENTER | B2: 09:00 às 18:00 horas X 5 dias | C2: =(22*15)+(8*24) -> 522 | D2: 4 | E2: =E7+E8 -> 55327.539
A3: INFRAESTRUTURA DE REDES E CONECTIVIDADE | B3: 09:00 às 18:00 horas X 5 dias | C3: =(22*15)+(8*24) -> 522 | D3: 2 | E3: =E9+E10 -> 37625.633
A4: TOTAL | C4: =SUM(C3) -> 522 | D4: =SUM(D3) -> 2 | E4: =SUM(E2,E3) -> 92953.172
J5: Requisição | L5: Incidente | N5: Mudança | T5: Requisição | V5: Incidente | X5: Mudança
A6: Equipe Técnica | B6: Perfil | C6: Quantidade (B) | D6: Custo unitário mensal do Perfil (C) | E6: Custo total mensal por Perfil (D = C x B) | I6: Mês/Ano | J6: 2024 | K6: 2025 | L6: 2024 | M6: 2025 | N6: 2024 | O6: 2025 | P6: Total Geral Mês | S6: Mês/Ano | T6: 2024 | U6: 2025 | V6: 2024 | W6: 2025 | X6: 2024 | Y6: 2025 | Z6: Total Geral Mês
A7: OPERAÇÃO DE DATACENTER | B7: ASUPCOMP-02 | C7: ='Estimativa_-_ITEM 1'!F7 -> 3 | D7: ='Estimativa_-_ITEM 1'!G7 -> 12224.993 | E7: =D7*C7 -> 36674.978 | I7: Janeiro | J7: 0 | K7: 0.23611111 | L7: 0 | M7: 0 | N7: 0 | O7: 0 | P7: =SUM(J7:O7) -> 0.23611111 | S7: Janeiro | T7: 0 | U7: 5.6 | V7: 0 | W7: 0 | X7: 0 | Y7: 0 | Z7: =SUM(T7:Y7) -> 5.6
B8: ASUPCOMP-03 | C8: ='Estimativa_-_ITEM 1'!F8 -> 1 | D8: ='Estimativa_-_ITEM 1'!G8 -> 18652.561 | E8: =D8*C8 -> 18652.561 | I8: Fevereiro | J8: 0.12083333 | K8: 0 | L8: 0 | M8: 0 | N8: 0.83333333 | O8: 0 | P8: =SUM(J8:O8) -> 0.95416667 | S8: Fevereiro | T8: 2.9 | U8: 0 | V8: 0 | W8: 0 | X8: 0 | Y8: 0 | Z8: =SUM(T8:Y8) -> 2.9
A9: INFRAESTRUTURA DE REDES E CONECTIVIDADE | B9: ARED-02 | C9: ='Estimativa_-_ITEM 1'!F14 -> 1 | D9: ='Estimativa_-_ITEM 1'!G14 -> 15803.133 | E9: =D9*C9 -> 15803.133 | I9: Março | J9: 0 | K9: 0 | L9: 0.14583333 | M9: 0 | N9: 0.41666667 | O9: 0 | P9: =SUM(J9:O9) -> 0.5625 | S9: Março | T9: 0 | U9: 0 | V9: 3.5 | W9: 0 | X9: 10 | Y9: 0 | Z9: =SUM(T9:Y9) -> 13.5
B10: ARED-03 | C10: ='Estimativa_-_ITEM 1'!F15 -> 1 | D10: ='Estimativa_-_ITEM 1'!G15 -> 21822.5 | E10: =D10*C10 -> 21822.5 | I10: Abril | J10: 0.11527778 | K10: 0.17013889 | L10: 0 | M10: 0 | N10: 0.33333333 | O10: 0 | P10: =SUM(J10:O10) -> 0.61875 | S10: Abril | T10: 2.8 | U10: 4.1 | V10: 0 | W10: 0 | X10: 8 | Y10: 0 | Z10: =SUM(T10:Y10) -> 14.9
B11: TOTAL | E11: =SUM(E7:E10) -> 92953.172 | I11: Maio | J11: 0 | K11: 0 | L11: 0.65138889 | M11: 0 | N11: 0.26388889 | O11: 0 | P11: =SUM(J11:O11) -> 0.91527778 | S11: Maio | T11: 0 | U11: 0 | V11: 15.6 | W11: 0 | X11: 6.4 | Y11: 0 | Z11: =SUM(T11:Y11) -> 22
I12: Junho | J12: 0 | K12: 0.69722222 | L12: 0 | M12: 0.054166667 | N12: 0 | O12: 0 | P12: =SUM(J12:O12) -> 0.75138889 | S12: Junho | T12: 0 | U12: 16.7 | V12: 0 | W12: 1.3 | X12: 0 | Y12: 0 | Z12: =SUM(T12:Y12) -> 18
I13: Julho | J13: 0 | K13: 0.58333333 | L13: 0 | M13: 0 | N13: 1.125 | O13: 0.16666667 | P13: =SUM(J13:O13) -> 1.875 | S13: Julho | T13: 0 | U13: 14 | V13: 0 | W13: 0 | X13: 23 | Y13: 4 | Z13: =SUM(T13:Y13) -> 41
I14: Agosto | J14: 0 | K14: 0.54861111 | L14: 0.79027778 | M14: 0 | N14: 0.62361111 | O14: 0.44722222 | P14: =SUM(J14:O14) -> 2.4097222 | S14: Agosto | T14: 0 | U14: 13.2 | V14: 18.9 | W14: 0 | X14: 14.9 | Y14: 10.7 | Z14: =SUM(T14:Y14) -> 57.7
B15: Custo médio da hora de serviço das categorias de serviços que possuem sobreaviso | I15: Setembro | J15: 0 | K15: 0 | L15: 0.17083333 | M15: 0 | N15: 0.12083333 | O15: 0 | P15: =SUM(J15:O15) -> 0.29166667 | S15: Setembro | T15: 0 | U15: 0 | V15: 4.1 | W15: 0 | X15: 2.8 | Y15: 0 | Z15: =SUM(T15:Y15) -> 6.9
A16: Equipe Técnica | B16: Custo total mensal das EQUIPE TÉCNICA (A) | C16: Quantidade total de perfis por EQUIPE TÉCNICA (B) | D16: Total de horas mensais por perfil considerando 22 dias úteis ( C ) | E16: Custo médio da hora de serviço (D = A / (B x C) | I16: Outubro | J16: 0.3375 | K16: 0.3125 | L16: 0 | M16: 0.1875 | N16: 0 | O16: 0.068055556 | P16: =SUM(J16:O16) -> 0.90555556 | S16: Outubro | T16: 8.1 | U16: 7.5 | V16: 0 | W16: 4.5 | X16: 0 | Y16: 1.6 | Z16: =SUM(T16:Y16) -> 21.7
A17: OPERAÇÃO DE DATACENTER | B17: =E2 -> 55327.539 | C17: 4 | D17: =22*8 -> 176 | E17: =B17/(C17*D17) -> 78.590254 | I17: Novembro | J17: 0 | K17: 0.48055556 | L17: 0 | M17: 0.15138889 | N17: 0 | O17: 0.24027778 | P17: =SUM(J17:O17) -> 0.87222222 | S17: Novembro | T17: 0 | U17: 11.5 | V17: 0 | W17: 3.6 | X17: 0 | Y17: 5.8 | Z17: =SUM(T17:Y17) -> 20.9
A18: INFRAESTRUTURA DE REDES E CONECTIVIDADE | B18: =E3 -> 37625.633 | C18: 2 | D18: =22*8 -> 176 | E18: =B18/(C18*D18) -> 106.891 | I18: Dezembro | J18: 0 | K18: 0 | L18: 0.87916667 | M18: 0 | N18: 0 | O18: 0 | P18: =SUM(J18:O18) -> 0.87916667 | S18: Dezembro | T18: 0 | U18: 0 | V18: 21.1 | W18: 0 | X18: 0 | Y18: 0 | Z18: =SUM(T18:Y18) -> 21.1
A19: TOTAL | B19: =SUM(B17:B18) -> 92953.172 | C19: =SUM(C17:C18) -> 6 | J19: 0 | P19: =AVERAGE(P7:P18) -> 0.93929398 | S19: Média | Z19: =AVERAGE(Z7:Z18) -> 20.516667
B21: Custo total mensal das Horas de Sobreaviso
A22: Equipe Técnica | B22: Custo médio da hora de serviço (D) | C22: Total de horas de sobreaviso mensais (F) | D22: Fator de sobreaviso - 1/3 de hora (G) | E22: Custo total mensal das horas de sobreaviso (H = D x F x G)
A23: OPERAÇÃO DE DATACENTER | B23: =$E$17 -> 78.590254 | C23: =C2 -> 522 | D23: 0.33333333 | E23: =B23*C23*D23 -> 13674.704
A24: INFRAESTRUTURA DE REDES E CONECTIVIDADE | B24: =$E$18 -> 106.891 | C24: =C3 -> 522 | D24: 0.33333333 | E24: =B24*C24*D24 -> 18599.034
D25: TOTAL | E25: =SUM(E23:E24) -> 32273.739
B27: Custo total mensal das Horas Extras - Dias da Semana
A28: Equipe Técnica | B28: Custo médio da hora de serviço (D) | C28: Média de horas extras no período de 2024/2025 (I), | D28: Fator de hora extra- 1,5 hora (J) | E28: Custo total mensal das horas extras (L = D x I x J)
A29: OPERAÇÃO DE DATACENTER | B29: =$E$17 -> 78.590254 | C29: 20.5 | D29: 1.5 | E29: =B29*C29*D29 -> 2416.6503
A30: INFRAESTRUTURA DE REDES E CONECTIVIDADE | B30: =$E$18 -> 106.891 | C30: 20.5 | D30: 1.5 | E30: =B30*C30*D30 -> 3286.8983
D31: TOTAL | E31: =SUM(E29:E30) -> 5703.5486

Sheet Resumo
F12: VALOR Estimados
A13: ITEM | B13: DESCRIÇÃO | C13: CATSER | D13: UNIDADE DE MEDIDA | E13: Qtde. | F13: MENSAL | G13: 12 meses | H13: 24 meses
A14: 1 | B14: Serviços técnicos especializados de sustentação de infraestrutura crítica de TI | C14: 27014 | D14: Unidade Mensal | E14: 24 | F14: ='Estimativa_-_ITEM 1'!D36 -> 648289.09 | G14: =F14*12 -> 7779469.1 | H14: =F14*24 -> 15558938
A15: TOTAL | F15: =F14 -> 648289.09 | G15: =G14 -> 7779469.1 | H15: =H14 -> 15558938
G17: Ano 01 | H17: Ano 02 | I17: TOTAL 24 MESES
G18: =G15 -> 7779469.1 | H18: =G18 -> 7779469.1 | I18: =G18+H18 -> 15558938
F19: Correção ICTI (4,45%) | G19: 0 | H19: =H18*4.45% -> 346186.37 | I19: =G19+H19 -> 346186.37
G20: =G18+G19 -> 7779469.1 | H20: =H18+H19 -> 8125655.5 | I20: =G20+H20 -> 15905125
B22: Elementos de Custo Valores | C22: Referência | D22: Valor (R$)
B23: Estimativa de Custo Total Estimado da Equipe para o ITEM 01 | C23: Tabela 11.04 | D23: ='Estimativa_-_ITEM 1'!H25 -> 610311.81
B24: Custo total mensal das Horas de Sobreaviso ITEM 01 | C24: Tabela 11.07 | D24: ='sobreaviso_hora-extra_ITEM1'!E25 -> 32273.739
B25: Custo total mensal das Horas Extras ITEM 01 | C25: Tabela 11.09 | D25: ='sobreaviso_hora-extra_ITEM1'!E31 -> 5703.5486
D26: =SUM(D23:D25) -> 648289.1
