Workbook
Name AreaTeste: #REF!
Name AreaTeste: #REF!
Name AreaTeste: #REF!
Name AreaTeste2: #REF!
Name AreaTeste2: #REF!
Name AreaTeste2: #REF!
Name CélulaInicioPlanilha: #REF!
Name CélulaInicioPlanilha: #REF!
Name CélulaInicioPlanilha: #REF!
Name CélulaResumo: #REF!
Name CélulaResumo: #REF!
Name CélulaResumo: #REF!
Name Excel_BuiltIn_Print_Area_1_1: #REF!
Name Excel_BuiltIn_Print_Area_1_1: #REF!
Name Excel_BuiltIn_Print_Area_1_1: #REF!
Name Excel_BuiltIn_Print_Area_2: #REF!
Name Excel_BuiltIn_Print_Area_2: #REF!
Name Excel_BuiltIn_Print_Area_2: #REF!

Sheet RESUMO
A1: PREFEITURA MUNICIPAL DE XINGUARA CNPJ N°. 04.144.150/0001-20
A3: Cliente: | B3: ='Orçamento Sintético'!B3 -> PREFEITURA MUNICIPAL DE XINGUARA
A4: ='Memória de Cálculo'!A4 -> Responsavel: | B4: ='Orçamento Sintético'!B4 -> OSVALDO DE OLIVEIRA ASSUNÇÃO JUNIOR
A5: Objeto: | B5: ='Orçamento Sintético'!B5 -> MANUTENÇÃO E RECUPERAÇÃO DE VIAS URBANAS COM TAPA BURACOS
A6: Endereço: | B6: ='Orçamento Sintético'!B6 -> VIAS DE XINGUARA-PA
A7: Data: | B7: ='Orçamento Sintético'!B7 -> 06 DE ABRIL DE 2026
C8: Bancos | E8: B.D.I. | F8: Encargos Sociais
C9: ='Orçamento Sintético'!E9 -> SINAPI - 02/2026 - Pará SICRO3 - 10/2025 - Pará SEDOP - 03/2026 - Pará | E9: ='Orçamento Sintético'!G9 -> 0.2846 | F9: ='Orçamento Sintético'!H9 -> Desonerado: embutido nos preços unitário dos insumos de mão de obra, de acordo com as bases.
A10: Planilha Orçamentária Resumida
A11: Item | B11: Descrição | H11: Total | I11: Peso (%)
A12: 1 | B12: ADMINISTRAÇÃO E SERVIÇOS PRELIMINARES | H12: 127870.8 | I12: 0.033686251
A13: 2 | B13: TAPA BURACO - CBUQ | H13: 1652358 | I13: 0.43529677
A14: 3 | B14: TAPA BURACO - BLOCO SEXTAVADO | H14: 2015705.6 | I14: 0.53101697
E16: Total sem BDI | G16: 2955150
E17: Total do BDI | G17: 840784.44
E18: Total Geral | G18: 3795934.4
A19: _______________________________________________________________ ROGÉRIO FERREIRA MOREIRA ENGENHEIROCIVIL CREA/PA: 1523651180

Sheet Orçamento Sintético
A1: PREFEITURA MUNICIPAL DE XINGUARA CNPJ N°. 04.144.150/0001-20
A3: Cliente: | B3: PREFEITURA MUNICIPAL DE XINGUARA
A4: ='Memória de Cálculo'!A4 -> Responsavel: | B4: OSVALDO DE OLIVEIRA ASSUNÇÃO JUNIOR
A5: Objeto: | B5: MANUTENÇÃO E RECUPERAÇÃO DE VIAS URBANAS COM TAPA BURACOS
A6: Endereço: | B6: VIAS DE XINGUARA-PA
A7: Data: | B7: 06 DE ABRIL DE 2026
E8: Bancos | G8: B.D.I. | H8: Encargos Sociais
E9: SINAPI - 02/2026 - Pará SICRO3 - 10/2025 - Pará SEDOP - 03/2026 - Pará | G9: 0.2846 | H9: Desonerado: embutido nos preços unitário dos insumos de mão de obra, de acordo com as bases.
A10: Item | B10: Código | C10: Banco | D10: Descrição | E10: Und | F10: Quant. | G10: Valor Unit | H10: Valor Unit com BDI | I10: Total | J10: Peso (%)
A11: 1 | D11: ADMINISTRAÇÃO E SERVIÇOS PRELIMINARES | I11: 127870.8 | J11: 0.033686251
A12: 1.1 | B12: 011340 | C12: SEDOP | D12: Placa de obra em lona com plotagem de gráfica | E12: m² | F12: 12 | G12: 207.93 | H12: 267.1 | I12: 3205.2 | J12: 0.00084437708
A13: 1.2 | B13: 90777 | C13: SINAPI | D13: ENGENHEIRO CIVIL DE OBRA JUNIOR COM ENCARGOS COMPLEMENTARES | E13: H | F13: 480 | G13: 137.06 | H13: 176.06 | I13: 84508.8 | J13: 0.022262977
A14: 1.3 | B14: 90776 | C14: SINAPI | D14: ENCARREGADO GERAL COM ENCARGOS COMPLEMENTARES | E14: H | F14: 960 | G14: 32.57 | H14: 41.83 | I14: 40156.8 | J14: 0.010578897
A15: 2 | D15: TAPA BURACO - CBUQ | I15: 1652358 | J15: 0.43529677
A16: 2.1 | B16: 97636 | C16: SINAPI | D16: DEMOLIÇÃO PARCIAL DE PAVIMENTO ASFÁLTICO, DE FORMA MECANIZADA, SEM REAPROVEITAMENTO. AF_09/2023 | E16: m² | F16: 6000 | G16: 23.03 | H16: 29.58 | I16: 177480 | J16: 0.046755286
A17: 2.2 | B17: 100982 | C17: SINAPI | D17: CARGA, MANOBRA E DESCARGA DE ENTULHO EM CAMINHÃO BASCULANTE 10 M³ - CARGA COM ESCAVADEIRA HIDRÁULICA (CAÇAMBA DE 0,80 M³ / 111 HP) E DESCARGA LIVRE (UNIDADE: M3). AF_02/2026 | E17: m³ | F17: 600 | G17: 9.42 | H17: 12.1 | I17: 7260 | J17: 0.0019125726
A18: 2.3 | B18: 99814 | C18: SINAPI | D18: LIMPEZA DE SUPERFÍCIE PISO OU PAREDE COM JATO DE ALTA PRESSÃO. AF_10/2025 | E18: m² | F18: 6000 | G18: 1.81 | H18: 2.32 | I18: 13920 | J18: 0.0036670813
A19: 2.7 | B19: 104387 | C19: SINAPI | D19: EXECUÇÃO DE TAPA BURACO COM APLICAÇÃO DE CONCRETO ASFÁLTICO (AQUISIÇÃO EM USINA) E PINTURA DE LIGAÇÃO. AF_12/2020 | E19: m³ | F19: 300 | G19: 3760.99 | H19: 4831.36 | I19: 1449408 | J19: 0.38183168
A20: 2.8 | B20: 95426 | C20: SINAPI | D20: TRANSPORTE COM CAMINHÃO BASCULANTE DE 18 M³, EM VIA URBANA EM REVESTIMENTO PRIMÁRIO (UNIDADE: M3XKM). AF_02/2026 | E20: M3XKM | F20: 1500 | G20: 2.23 | H20: 2.86 | I20: 4290 | J20: 0.0011301565
A21: 3 | D21: TAPA BURACO - BLOCO SEXTAVADO | I21: 2015705.6 | J21: 0.53101697
A22: 3.1 | B22: 97636 | C22: SINAPI | D22: DEMOLIÇÃO PARCIAL DE PAVIMENTO ASFÁLTICO, DE FORMA MECANIZADA, SEM REAPROVEITAMENTO. AF_09/2023 | E22: m² | F22: 12000 | G22: 23.03 | H22: 29.58 | I22: 354960 | J22: 0.093510573
A23: 3.2 | B23: 100982 | C23: SINAPI | D23: CARGA, MANOBRA E DESCARGA DE ENTULHO EM CAMINHÃO BASCULANTE 10 M³ - CARGA COM ESCAVADEIRA HIDRÁULICA (CAÇAMBA DE 0,80 M³ / 111 HP) E DESCARGA LIVRE (UNIDADE: M3). AF_02/2026 | E23: m³ | F23: 1200 | G23: 9.42 | H23: 12.1 | I23: 14520 | J23: 0.0038251451
A24: 3.3 | B24: 99814 | C24: SINAPI | D24: LIMPEZA DE SUPERFÍCIE PISO OU PAREDE COM JATO DE ALTA PRESSÃO. AF_10/2025 | E24: m² | F24: 12000 | G24: 1.81 | H24: 2.32 | I24: 27840 | J24: 0.0073341626
A25: 3.4 | B25: 92394 | C25: SINAPI | D25: EXECUÇÃO DE PAVIMENTO EM PISO INTERTRAVADO, COM BLOCO SEXTAVADO DE 25 X 25 CM, ESPESSURA 8 CM. AF_10/2022 | E25: m² | F25: 12000 | G25: 104.44 | H25: 134.16 | I25: 1609920 | J25: 0.42411692
A26: 3.5 | B26: 95426 | C26: SINAPI | D26: TRANSPORTE COM CAMINHÃO BASCULANTE DE 18 M³, EM VIA URBANA EM REVESTIMENTO PRIMÁRIO (UNIDADE: M3XKM). AF_02/2026 | E26: M3XKM | F26: 2960 | G26: 2.23 | H26: 2.86 | I26: 8465.6 | J26: 0.0022301755
F28: Total sem BDI | H28: 2955150
F29: Total do BDI | H29: 840784.44
F30: Total Geral | H30: 3795934.4
A31: =RESUMO!A19 -> _______________________________________________________________ ROGÉRIO FERREIRA MOREIRA ENGENHEIROCIVIL CREA/PA: 1523651180

Sheet Memória de Cálculo
A1: PREFEITURA MUNICIPAL DE XINGUARA CNPJ N°. 04.144.150/0001-20
A3: Cliente: | B3: ='Orçamento Sintético'!B3 -> PREFEITURA MUNICIPAL DE XINGUARA
A4: Responsavel: | B4: ='Orçamento Sintético'!B4 -> OSVALDO DE OLIVEIRA ASSUNÇÃO JUNIOR
A5: Objeto: | B5: ='Orçamento Sintético'!B5 -> MANUTENÇÃO E RECUPERAÇÃO DE VIAS URBANAS COM TAPA BURACOS
A6: Endereço: | B6: ='Orçamento Sintético'!B6 -> VIAS DE XINGUARA-PA
A7: Data: | B7: ='Orçamento Sintético'!B7 -> 06 DE ABRIL DE 2026
A8: Memória de Cálculo
A9: Item | B9: Descrição | C9: Und | D9: Quant. | E9: Memória de Cálculo
A10: 1 | B10: ADMINISTRAÇÃO E SERVIÇOS PRELIMINARES
A11: 1.1 | B11: Placa de obra em lona com plotagem de gráfica | C11: m² | D11: 12,0 | E11: = 2,0 placas de obras de 3,0 m de largura x 2,0 m de altura.
A12: 1.2 | B12: ENGENHEIRO CIVIL DE OBRA JUNIOR COM ENCARGOS COMPLEMENTARES | C12: H | D12: 240,0 | E12: = 1hora por dia x 5 dias x 4 semanas = 240 Horas
A13: 1.3 | B13: ENCARREGADO GERAL COM ENCARGOS COMPLEMENTARES | C13: H | D13: 480,0 | E13: = 2 horas x 5 dias x 4 semanas x 3 meses = 480 horas
A14: 2 | B14: TAPA BURACO - CBUQ
A15: 2.1 | B15: DEMOLIÇÃO PARCIAL DE PAVIMENTO ASFÁLTICO, DE FORMA MECANIZADA, SEM REAPROVEITAMENTO. AF_09/2023 | C15: m² | D15: 6.000,0 | E15: = Área total
A16: 2.2 | B16: CARGA, MANOBRA E DESCARGA DE ENTULHO EM CAMINHÃO BASCULANTE 10 M³ - CARGA COM ESCAVADEIRA HIDRÁULICA (CAÇAMBA DE 0,80 M³ / 111 HP) E DESCARGA LIVRE (UNIDADE: M3). AF_07/2020 | C16: m³ | D16: 600,0 | E16: = Área total 6000,0 m² x 0,10 de espessura.
A17: 2.3 | B17: LIMPEZA DE SUPERFÍCIE COM JATO DE ALTA PRESSÃO. AF_04/2019 | C17: m² | D17: 6.000,0 | E17: = Limpeza total do local.
A18: 2.7 | B18: EXECUÇÃO DE TAPA BURACO COM APLICAÇÃO DE CONCRETO ASFÁLTICO (AQUISIÇÃO EM USINA) E PINTURA DE LIGAÇÃO. AF_12/2020 | C18: m³ | D18: 300,0 | E18: = Área total 6000,0 m² x 0,05 de espessura.
A19: 2.8 | B19: TRANSPORTE COM CAMINHÃO BASCULANTE DE 18 M³, EM VIA URBANA EM REVESTIMENTO PRIMÁRIO (UNIDADE: M3XKM). AF_07/2020 | C19: M3XKM | D19: 1.500,0 | E19: = Área total de 6000 m² /10 x 2,5
A20: 3 | B20: TAPA BURACO - BLOCO SEXTAVADO
A21: 3.1 | B21: DEMOLIÇÃO PARCIAL DE PAVIMENTO ASFÁLTICO, DE FORMA MECANIZADA, SEM REAPROVEITAMENTO. AF_09/2023 | C21: m² | D21: 6.000,0 | E21: = Área total
A22: 3.2 | B22: CARGA, MANOBRA E DESCARGA DE ENTULHO EM CAMINHÃO BASCULANTE 10 M³ - CARGA COM ESCAVADEIRA HIDRÁULICA (CAÇAMBA DE 0,80 M³ / 111 HP) E DESCARGA LIVRE (UNIDADE: M3). AF_07/2020 | C22: m³ | D22: 600,0 | E22: = Área total 12000,0 m² x 0,10 de espessura.
A23: 3.3 | B23: LIMPEZA DE SUPERFÍCIE COM JATO DE ALTA PRESSÃO. AF_04/2019 | C23: m² | D23: 6.000,0 | E23: = Limpeza total.
A24: 3.4 | B24: EXECUÇÃO DE PAVIMENTO EM PISO INTERTRAVADO, COM BLOCO SEXTAVADO DE 25 X 25 CM, ESPESSURA 8 CM. AF_10/2022 | C24: m² | D24: 6.000,0 | E24: = Área total
A25: 3.5 | B25: TRANSPORTE COM CAMINHÃO BASCULANTE DE 18 M³, EM VIA URBANA EM REVESTIMENTO PRIMÁRIO (UNIDADE: M3XKM). AF_07/2020 | C25: M3XKM | D25: 1.480,0 | E25: = Área total de 12000 m² /12,50 x 3,083
A26: =RESUMO!A19 -> _______________________________________________________________ ROGÉRIO FERREIRA MOREIRA ENGENHEIROCIVIL CREA/PA: 1523651180

Sheet Cronograma
A1: PREFEITURA MUNICIPAL DE XINGUARA CNPJ N°. 04.144.150/0001-20
A3: Cliente: | B3: ='Memória de Cálculo'!B3 -> PREFEITURA MUNICIPAL DE XINGUARA
A4: ='Memória de Cálculo'!A4 -> Responsavel: | B4: ='Memória de Cálculo'!B4 -> OSVALDO DE OLIVEIRA ASSUNÇÃO JUNIOR
A5: Objeto: | B5: ='Orçamento Sintético'!B5 -> MANUTENÇÃO E RECUPERAÇÃO DE VIAS URBANAS COM TAPA BURACOS
A6: Endereço: | B6: ='Orçamento Sintético'!B6 -> VIAS DE XINGUARA-PA
A7: Data: | B7: ='Orçamento Sintético'!B7 -> 06 DE ABRIL DE 2026
C9: Bancos | D9: B.D.I. | E9: Encargos Sociais
C10: ='Orçamento Sintético'!E9 -> SINAPI - 02/2026 - Pará SICRO3 - 10/2025 - Pará SEDOP - 03/2026 - Pará | D10: ='Orçamento Sintético'!G9 -> 0.2846 | E10: ='Orçamento Sintético'!H9 -> Desonerado: embutido nos preços unitário dos insumos de mão de obra, de acordo com as bases.
A11: Cronograma Físico e Financeiro
A12: Item | B12: Descrição | C12: Total Por Etapa | D12: 60 DIAS | E12: 120 DIAS | F12: 180 DIAS | G12: 240 DIAS | H12: 300 DIAS | I12: 360 DIAS
A13: 1 | B13: ADMINISTRAÇÃO E SERVIÇOS PRELIMINARES | C13: 100,00% 127.870,80 | D13: 17,00% 21.738,04 | E13: 17,00% 21.738,04 | F13: 17,00% 21.738,04 | G13: 17,00% 21.738,04 | H13: 17,00% 21.738,04 | I13: 15,00% 19.180,62
A14: 2 | B14: TAPA BURACO - CBUQ | C14: 100,00% 1.652.358,00 | D14: 17,00% 280.900,86 | E14: 17,00% 280.900,86 | F14: 17,00% 280.900,86 | G14: 17,00% 280.900,86 | H14: 17,00% 280.900,86 | I14: 15,00% 247.853,70
A15: 3 | B15: TAPA BURACO - BLOCO SEXTAVADO | C15: 100,00% 2.015.705,60 | D15: 17,00% 342.669,95 | E15: 17,00% 342.669,95 | F15: 17,00% 342.669,95 | G15: 17,00% 342.669,95 | H15: 17,00% 342.669,95 | I15: 15,00% 302.355,84
A16: Porcentagem | D16: 17,0% | E16: 17,0% | F16: 17,0% | G16: 17,0% | H16: 17,0% | I16: 15,0%
A17: Custo | D17: 645.308,84 | E17: 645.308,84 | F17: 645.308,84 | G17: 645.308,84 | H17: 645.308,84 | I17: 569.390,16
A18: Porcentagem Acumulado | D18: 17,0% | E18: 34,0% | F18: 51,0% | G18: 68,0% | H18: 85,0% | I18: 100,0%
A19: Custo Acumulado | D19: 645.308,84 | E19: 1.290.617,68 | F19: 1.935.926,52 | G19: 2.581.235,36 | H19: 3.226.544,20 | I19: 3.795.934,40
A20: =RESUMO!A19 -> _______________________________________________________________ ROGÉRIO FERREIRA MOREIRA ENGENHEIROCIVIL CREA/PA: 1523651180

Sheet CPU
A1: PREFEITURA MUNICIPAL DE XINGUARA CNPJ N°. 04.144.150/0001-20
A3: Cliente: | B3: ='Memória de Cálculo'!B3 -> PREFEITURA MUNICIPAL DE XINGUARA
A4: ='Memória de Cálculo'!A4 -> Responsavel: | B4: ='Memória de Cálculo'!B4 -> OSVALDO DE OLIVEIRA ASSUNÇÃO JUNIOR
A5: Objeto: | B5: ='Orçamento Sintético'!B5 -> MANUTENÇÃO E RECUPERAÇÃO DE VIAS URBANAS COM TAPA BURACOS
A6: Endereço: | B6: ='Orçamento Sintético'!B6 -> VIAS DE XINGUARA-PA
A7: Data: | B7: ='Orçamento Sintético'!B7 -> 06 DE ABRIL DE 2026
E8: Bancos | G8: B.D.I. | I8: Encargos Sociais
E9: =RESUMO!C9 -> SINAPI - 02/2026 - Pará SICRO3 - 10/2025 - Pará SEDOP - 03/2026 - Pará | G9: ='Orçamento Sintético'!G9 -> 0.2846 | I9: ='Orçamento Sintético'!H9 -> Desonerado: embutido nos preços unitário dos insumos de mão de obra, de acordo com as bases.
A10: Composições Principais
A11: 1.1 | B11: Código | C11: Banco | D11: Descrição | E11: Tipo | G11: Und | H11: Quant. | I11: Valor Unit | J11: Total
A12: Composição | B12: 011340 | C12: SEDOP | D12: Placa de obra em lona com plotagem de gráfica | E12: 0 | G12: m² | H12: 1 | I12: 207.93 | J12: 207.93
A13: Composição Auxiliar | B13: 280013 | C13: SEDOP | D13: CARPINTEIRO COM ENCARGOS COMPLEMENTARES | E13: 0 | G13: h | H13: 0.4 | I13: 32.21 | J13: 12.88
A14: Composição Auxiliar | B14: 280026 | C14: SEDOP | D14: SERVENTE COM ENCARGOS COMPLEMENTARES | E14: 0 | G14: h | H14: 0.4 | I14: 26.88 | J14: 10.75
A15: Insumo | B15: D00475 | C15: SEDOP | D15: Lona com plotagem de gráfica | E15: Material | G15: m² | H15: 1 | I15: 90 | J15: 90
A16: Insumo | B16: D00084 | C16: SEDOP | D16: Prego 1 1/2"x13 | E16: Material | G16: kg | H16: 0.1 | I16: 20.5314 | J16: 2.05
A17: Insumo | B17: D00281 | C17: SEDOP | D17: Pernamanca 3" x 2" 4 m - madeira branca | E17: Material | G17: Dz | H17: 0.41 | I17: 225.02 | J17: 92.25
E18: MO sem LS => | F18: 7.7122231 | G18: LS => | H18: 7.78 | I18: MO com LS => | J18: 15.49
E19: Valor do BDI => | F19: 59.17 | H19: Valor com BDI => | J19: 267.1
A21: 1.2 | B21: Código | C21: Banco | D21: Descrição | E21: Tipo | G21: Und | H21: Quant. | I21: Valor Unit | J21: Total
A22: Composição | B22: 90777 | C22: SINAPI | D22: ENGENHEIRO CIVIL DE OBRA JUNIOR COM ENCARGOS COMPLEMENTARES | E22: Livro SINAPI: Cálculos e Parâmetros | G22: H | H22: 1 | I22: 137.06 | J22: 137.06
A23: Composição Auxiliar | B23: 95402 | C23: SINAPI | D23: CURSO DE CAPACITAÇÃO PARA ENGENHEIRO CIVIL DE OBRA JÚNIOR (ENCARGOS COMPLEMENTARES) - HORISTA | E23: Livro SINAPI: Cálculos e Parâmetros | G23: H | H23: 1 | I23: 1.87 | J23: 1.87
A24: Insumo | B24: 00002706 | C24: SINAPI | D24: ENGENHEIRO CIVIL DE OBRA JUNIOR (HORISTA) | E24: Mão de Obra | G24: H | H24: 1 | I24: 127.3 | J24: 127.3
A25: Insumo | B25: 00037370 | C25: SINAPI | D25: ALIMENTACAO - HORISTA (COLETADO CAIXA - ENCARGOS COMPLEMENTARES) | E25: Material | G25: H | H25: 1 | I25: 5.15 | J25: 5.15
A26: Insumo | B26: 00037372 | C26: SINAPI | D26: EXAMES - HORISTA (COLETADO CAIXA - ENCARGOS COMPLEMENTARES) | E26: Material | G26: H | H26: 1 | I26: 1.51 | J26: 1.51
A27: Insumo | B27: 00037373 | C27: SINAPI | D27: SEGURO - HORISTA (COLETADO CAIXA - ENCARGOS COMPLEMENTARES) | E27: Material | G27: H | H27: 1 | I27: 0.11 | J27: 0.11
A28: Insumo | B28: 00043462 | C28: SINAPI | D28: FERRAMENTAS - FAMILIA ENGENHEIRO CIVIL - HORISTA (ENCARGOS COMPLEMENTARES - COLETADO CAIXA) | E28: Material | G28: H | H28: 1 | I28: 0.02 | J28: 0.02
A29: Insumo | B29: 00043486 | C29: SINAPI | D29: EPI - FAMILIA ENGENHEIRO CIVIL - HORISTA (ENCARGOS COMPLEMENTARES - COLETADO CAIXA) | E29: Material | G29: H | H29: 1 | I29: 1.1 | J29: 1.1
E30: MO sem LS => | F30: 64.311675 | G30: LS => | H30: 64.86 | I30: MO com LS => | J30: 129.17
E31: Valor do BDI => | F31: 39 | H31: Valor com BDI => | J31: 176.06
A33: 1.3 | B33: Código | C33: Banco | D33: Descrição | E33: Tipo | G33: Und | H33: Quant. | I33: Valor Unit | J33: Total
A34: Composição | B34: 90776 | C34: SINAPI | D34: ENCARREGADO GERAL COM ENCARGOS COMPLEMENTARES | E34: Livro SINAPI: Cálculos e Parâmetros | G34: H | H34: 1 | I34: 32.57 | J34: 32.57
A35: Composição Auxiliar | B35: 95401 | C35: SINAPI | D35: CURSO DE CAPACITAÇÃO PARA ENCARREGADO GERAL (ENCARGOS COMPLEMENTARES) - HORISTA | E35: Livro SINAPI: Cálculos e Parâmetros | G35: H | H35: 1 | I35: 0.47 | J35: 0.47
A36: Insumo | B36: 00004083 | C36: SINAPI | D36: ENCARREGADO GERAL DE OBRAS (HORISTA) | E36: Mão de Obra | G36: H | H36: 1 | I36: 22.5 | J36: 22.5
A37: Insumo | B37: 00037370 | C37: SINAPI | D37: ALIMENTACAO - HORISTA (COLETADO CAIXA - ENCARGOS COMPLEMENTARES) | E37: Material | G37: H | H37: 1 | I37: 5.15 | J37: 5.15
A38: Insumo | B38: 00037371 | C38: SINAPI | D38: TRANSPORTE - HORISTA (COLETADO CAIXA - ENCARGOS COMPLEMENTARES) | E38: Material | G38: H | H38: 1 | I38: 1.19 | J38: 1.19
A39: Insumo | B39: 00037372 | C39: SINAPI | D39: EXAMES - HORISTA (COLETADO CAIXA - ENCARGOS COMPLEMENTARES) | E39: Material | G39: H | H39: 1 | I39: 1.51 | J39: 1.51
A40: Insumo | B40: 00037373 | C40: SINAPI | D40: SEGURO - HORISTA (COLETADO CAIXA - ENCARGOS COMPLEMENTARES) | E40: Material | G40: H | H40: 1 | I40: 0.11 | J40: 0.11
A41: Insumo | B41: 00043463 | C41: SINAPI | D41: FERRAMENTAS - FAMILIA ENCARREGADO GERAL - HORISTA (ENCARGOS COMPLEMENTARES - COLETADO CAIXA) | E41: Material | G41: H | H41: 1 | I41: 0.11 | J41: 0.11
A42: Insumo | B42: 00043487 | C42: SINAPI | D42: EPI - FAMILIA ENCARREGADO GERAL - HORISTA (ENCARGOS COMPLEMENTARES - COLETADO CAIXA) | E42: Material | G42: H | H42: 1 | I42: 1.53 | J42: 1.53
E43: MO sem LS => | F43: 11.436395 | G43: LS => | H43: 11.53 | I43: MO com LS => | J43: 22.97
...

Sheet BDI
A1: PREFEITURA MUNICIPAL DE XINGUARA CNPJ N°. 04.144.150/0001-20
A2: Cliente: | B2: ='Memória de Cálculo'!B3 -> PREFEITURA MUNICIPAL DE XINGUARA
A3: ='Memória de Cálculo'!A4 -> Responsavel: | B3: ='Memória de Cálculo'!B4 -> OSVALDO DE OLIVEIRA ASSUNÇÃO JUNIOR
A4: Objeto: | B4: ='Orçamento Sintético'!B5 -> MANUTENÇÃO E RECUPERAÇÃO DE VIAS URBANAS COM TAPA BURACOS
A5: Endereço: | B5: ='Orçamento Sintético'!B6 -> VIAS DE XINGUARA-PA
A6: ='[1]Orçamento Sintético'!A7 -> Data: | B6: ='Orçamento Sintético'!B7 -> 06 DE ABRIL DE 2026
A35: =RESUMO!A19 -> _______________________________________________________________ ROGÉRIO FERREIRA MOREIRA ENGENHEIROCIVIL CREA/PA: 1523651180
D67: JOÃO CALANDRINI DE SÁ AZEVEDO NETO ESP. EM PROJETOS, EXECUÇÃO E DESEMPENHO DE ESTRUTURAS E FUNDAÇÕES ESP. EM ENGENHARIA DE SEGURANÇA DO TRABALHO RT CALANDRINI E DANTAS LTDA CREA/PA: 1515893081
J74: #VALUE!

Sheet ENCARGOS
A1: PREFEITURA MUNICIPAL DE XINGUARA CNPJ N°. 04.144.150/0001-20
A2: Cliente: | B2: ='Memória de Cálculo'!B3 -> PREFEITURA MUNICIPAL DE XINGUARA
A3: ='Memória de Cálculo'!A4 -> Responsavel: | B3: ='Memória de Cálculo'!B4 -> OSVALDO DE OLIVEIRA ASSUNÇÃO JUNIOR
A4: Objeto: | B4: ='Orçamento Sintético'!B5 -> MANUTENÇÃO E RECUPERAÇÃO DE VIAS URBANAS COM TAPA BURACOS
A5: Endereço: | B5: ='Orçamento Sintético'!B6 -> VIAS DE XINGUARA-PA
A6: ='[1]Orçamento Sintético'!A7 -> Data: | B6: ='Orçamento Sintético'!B7 -> 06 DE ABRIL DE 2026
A7: =RESUMO!A19 -> _______________________________________________________________ ROGÉRIO FERREIRA MOREIRA ENGENHEIROCIVIL CREA/PA: 1523651180
D71: JOÃO CALANDRINI DE SÁ AZEVEDO NETO ESP. EM PROJETOS, EXECUÇÃO E DESEMPENHO DE ESTRUTURAS E FUNDAÇÕES ESP. EM ENGENHARIA DE SEGURANÇA DO TRABALHO RT CALANDRINI E DANTAS LTDA CREA/PA: 1515893081
J78: #VALUE!
