Workbook
Name \0: #REF!
Name \a: #REF!
Name \c: [1]PLMUSEU!#REF!
Name \d: '[2]Bm 8'!#REF!
Name \f: #N/A
Name \I: #REF!
Name \p: #N/A
Name \q: '[2]Bm 8'!#REF!
Name \S: [3]COMPOS1!#REF!
Name \x: [1]PLMUSEU!#REF!
Name \y: #REF!
Name \z: [1]PLMUSEU!#REF!
Name ______BOR1: '[2]Bm 8'!#REF!
Name ______PL1: #REF!
Name _____PL1: #REF!
Name ____Ele200502: #REF!
Name ____Ele200609: #REF!
Name ____PL1: #REF!
Name ____pv2: #REF!
Name ____pv3: #REF!
Name ____REV5: #REF!
Name ____Ser200506: #REF!
Name ____Ser200705: #REF!
Name ____Ser200712: #REF!
Name ____Ser201104: #REF!
Name ____TR2: #REF!
Name ____TR5: #REF!
Name ___BOR1: '[2]Bm 8'!#REF!
Name ___Ele200502: #REF!
Name ___Ele200609: #REF!
Name ___MDO1: [4]INSUMOS!$C$8
Name ___MDO2: [5]INSUMOS!$C$6
Name ___PL1: #REF!
Name ___pv2: #REF!
Name ___pv3: #REF!
Name ___R: #REF!
Name ___REV5: #REF!
Name ___Ser200506: #REF!
Name ___Ser200705: #REF!
Name ___Ser200712: #REF!
Name ___Ser201104: #REF!
Name ___tab1: #REF!
Name ___TR2: #REF!
Name ___TR5: #REF!
Name __BDI1: [7]Dados!#REF!
Name __BOR1: '[2]Bm 8'!#REF!
Name __Ele200502: #REF!
Name __Ele200609: #REF!
Name __MDO1: [4]INSUMOS!$C$8
Name __MDO2: [5]INSUMOS!$C$6
Name __PL1: #REF!
Name __pv2: #REF!
Name __pv3: #REF!
Name __R: #REF!
Name __REV5: #REF!
Name __Ser200506: #REF!
Name __Ser200705: #REF!
Name __Ser200712: #REF!
Name __Ser201104: #REF!
Name __tab1: #REF!

Sheet RESUMO
A1: ESTADO DO PARÁ
A2: PREFEITURA MUNICIPAL DE XIINGUARA-PA
A3: CNPJ 04.144.150/0001-20
A4: ADM. 2025/2028
A6: Cliente: | B6: PREFEITURA MUNICIPAL DE XINGUARA
A7: Adm: | B7: OSVALDO DE OLIVEIRA ASSUNÇÃO JUNIOR
A8: Objeto: | B8: CONSTRUÇÃO DE UMA PONTE DE CONCRETO NA VICINAL BARREIRO PRETO
A9: Endereço: | B9: MUNICIPIO DE XINGUARA-PA, ZONA RURAL
A10: Data: | B10: 46106
D11: Bancos | F11: B.D.I. | G11: Encargos Sociais
D12: SINAPI - 04/2026 - Pará SICRO3 - 01/2026 - Pará | F12: 0.2467 | G12: Não Desonerado: embutido nos preços unitário dos insumos de mão de obra, de acordo com as bases.
A13: ORÇAMENTO RESUMIDO
A14: Item | B14: Descrição | G14: Total | H14: Peso (%)
A15: 1 | B15: ADMINISTRAÇÃO LOCAL DA OBRA | G15: 28413.76 | H15: 0.052926737
A16: 2 | B16: MOBILIZAÇÃO E DESMOBILIZAÇÃO | G16: 9777.31 | H16: 0.018212342
A17: 3 | B17: PONTE BARREIRO PRETO (16,00 x 4,80 x 5,00) | G17: 498659.71 | H17: 0.92886092
E19: Total sem BDI | G19: 430649.83
E20: Total do BDI | G20: 106200.95
E21: Total Geral | G21: 536850.78

Sheet ORÇAMENTO SINTETICO
A1: =RESUMO!A1 -> ESTADO DO PARÁ
A2: =RESUMO!A2 -> PREFEITURA MUNICIPAL DE XIINGUARA-PA
A3: =RESUMO!A3 -> CNPJ 04.144.150/0001-20
A4: =RESUMO!A4 -> ADM. 2025/2028
A6: Cliente: | B6: =RESUMO!B6 -> PREFEITURA MUNICIPAL DE XINGUARA
A7: Adm: | B7: =RESUMO!B7 -> OSVALDO DE OLIVEIRA ASSUNÇÃO JUNIOR
A8: Objeto: | B8: =RESUMO!B8 -> CONSTRUÇÃO DE UMA PONTE DE CONCRETO NA VICINAL BARREIRO PRETO
A9: Endereço: | B9: =RESUMO!B9 -> MUNICIPIO DE XINGUARA-PA, ZONA RURAL
A10: Data: | B10: =RESUMO!B10 -> 46106
A11: Legenda
A12: Composição
A13: Insumo
E14: Bancos | G14: B.D.I. | I14: Encargos Sociais
E15: =RESUMO!$D$12 -> SINAPI - 04/2026 - Pará SICRO3 - 01/2026 - Pará | G15: =RESUMO!F12 -> 0.2467 | I15: =RESUMO!G12 -> Não Desonerado: embutido nos preços unitário dos insumos de mão de obra, de acordo com as bases.
A16: Orçamento Sintético
A17: Item | B17: Código | C17: Banco | D17: Descrição | E17: Und | F17: Quant. | G17: Valor Unit | H17: Valor Unit com BDI | I17: Total | J17: Peso (%)
A18: 1 | D18: ADMINISTRAÇÃO LOCAL DA OBRA | I18: 28413.76 | J18: 0.052926737
A19: 1.1 | B19: 0204 | C19: Próprio | D19: ADMINISTRAÇÃO LOCAL DA OBRA | E19: mês | F19: 4 | G19: 5697.8 | H19: 7103.44 | I19: 28413.76 | J19: 0.052926737
A20: 2 | D20: MOBILIZAÇÃO E DESMOBILIZAÇÃO | I20: 9777.31 | J20: 0.018212342
A21: 2.1 | B21: 0208 | C21: Próprio | D21: MOBILIZAÇÃO E DESMOBILIZAÇÃO PONTES | E21: UND | F21: 1 | G21: 7842.56 | H21: 9777.31 | I21: 9777.31 | J21: 0.018212342
A22: 3 | D22: PONTE BARREIRO PRETO (16,00 x 4,80 x 5,00) | I22: 498659.71 | J22: 0.92886092
A23: 3.1 | D23: SERVIÇOS PRELIMINARES | I23: 8959.68 | J23: 0.01668933
A24: 3.1.1 | B24: 103689 | C24: SINAPI | D24: FORNECIMENTO E INSTALAÇÃO DE PLACA DE OBRA COM CHAPA GALVANIZADA E ESTRUTURA DE MADEIRA. AF_03/2022_PS | E24: m² | F24: 6.48 | G24: 507.2 | H24: 632.32 | I24: 4097.43 | J24: 0.0076323443
A25: 3.1.2 | B25: 5213465 | C25: SICRO3 | D25: Placa de advertência em aço, lado de 0,80 m - película retrorrefletiva tipo I + SI - fornecimento e implantação | E25: un | F25: 6 | G25: 503.51 | H25: 627.72 | I25: 3766.32 | J25: 0.0070155808
A26: 3.1.3 | B26: CPU124 | C26: Próprio | D26: Locação da obra a aparelho | E26: m² | F26: 76.8 | G26: 11.45 | H26: 14.27 | I26: 1095.93 | J26: 0.0020414052
A27: 3.2 | D27: CANTEIRO DE OBRAS | I27: 13807.7 | J27: 0.02571981
A28: 3.2.1 | B28: 101498 | C28: SINAPI | D28: ENTRADA DE ENERGIA ELÉTRICA, AÉREA, BIFÁSICA, COM CAIXA DE SOBREPOR, CABO DE 16 MM2 E DISJUNTOR DIN 50A (NÃO INCLUSO O POSTE DE CONCRETO). AF_12/2025 | E28: UN | F28: 1 | G28: 2291.69 | H28: 2857.04 | I28: 2857.04 | J28: 0.0053218513
A29: 3.2.2 | B29: CPU125 | C29: Próprio | D29: EXECUÇÃO DE ALMOXARIFADO EM CANTEIRO DE OBRA EM CHAPA DE MADEIRA COMPENSADA, INCLUSO PRATELEIRAS. AF_02/2016 | E29: m² | F29: 9 | G29: 975.97 | H29: 1216.74 | I29: 10950.66 | J29: 0.020397959
A30: 3.3 | D30: MOVIMENTAÇÃO DE TERRA | I30: 8745.66 | J30: 0.016290672
A31: 3.3.1 | B31: 98525 | C31: SINAPI | D31: LIMPEZA MECANIZADA DE CAMADA VEGETAL, VEGETAÇÃO E PEQUENAS ÁRVORES (DIÂMETRO DE TRONCO MENOR QUE 0,20 M), COM TRATOR DE ESTEIRAS. AF_03/2024 | E31: m² | F31: 400 | G31: 0.73 | H31: 0.91 | I31: 364 | J31: 0.00067802826
A32: 3.3.2 | B32: 100983 | C32: SINAPI | D32: CARGA, MANOBRA E DESCARGA DE ENTULHO EM CAMINHÃO BASCULANTE 14 M³ - CARGA COM ESCAVADEIRA HIDRÁULICA (CAÇAMBA DE 0,80 M³ / 111 HP) E DESCARGA LIVRE (UNIDADE: M3). AF_02/2026 | E32: m³ | F32: 80 | G32: 10.04 | H32: 12.51 | I32: 1000.8 | J32: 0.0018642052
A33: 3.3.3 | B33: 93592 | C33: SINAPI | D33: TRANSPORTE COM CAMINHÃO BASCULANTE DE 14 M³, EM VIA URBANA EM REVESTIMENTO PRIMÁRIO (UNIDADE: M3XKM). AF_02/2026 | E33: M3XKM | F33: 400 | G33: 2.83 | H33: 3.52 | I33: 1408 | J33: 0.0026227027
A34: 3.3.4 | B34: 4805757 | C34: SICRO3 | D34: Escavação mecânica de vala em material de 1ª categoria | E34: m³ | F34: 377.1 | G34: 7.36 | H34: 9.17 | I34: 3458 | J34: 0.0064412685
A35: 3.3.5 | B35: 5915407 | C35: SICRO3 | D35: Carga, manobra e descarga de agregados ou solos em caminhão basculante de 10 m³ - carga com carregadeira de 3,40 m³ e descarga livre | E35: t | F35: 651.52 | G35: 3.1 | H35: 3.86 | I35: 2514.86 | J35: 0.0046844674
A36: 3.4 | D36: ALAS - CABECEIRAS DE CONCRETO | I36: 196978.4 | J36: 0.36691462
A37: 3.4.1 | B37: 2306113 | C37: SICRO3 | D37: Estaca trilho TR 68 - fornecimento e cravação | E37: m | F37: 168 | G37: 427.59 | H37: 533.07 | I37: 89555.76 | J37: 0.16681686
A38: 3.4.2 | B38: 100343 | C38: SINAPI | D38: ARMAÇÃO DE CORTINA DE CONTENÇÃO EM CONCRETO ARMADO, COM AÇO CA-50 DE 8 MM - MONTAGEM. AF_11/2024 | E38: KG | F38: 1104.94 | G38: 15.41 | H38: 19.21 | I38: 21225.89 | J38: 0.039537784
A39: 3.4.3 | B39: 100346 | C39: SINAPI | D39: ARMAÇÃO DE CORTINA DE CONTENÇÃO EM CONCRETO ARMADO, COM AÇO CA-50 DE 16 MM - MONTAGEM. AF_11/2024 | E39: KG | F39: 74.73 | G39: 9.1 | H39: 11.34 | I39: 847.43 | J39: 0.0015785206
A40: 3.4.4 | B40: 100344 | C40: SINAPI | D40: ARMAÇÃO DE CORTINA DE CONTENÇÃO EM CONCRETO ARMADO, COM AÇO CA-50 DE 10 MM - MONTAGEM. AF_11/2024 | E40: KG | F40: 408.31 | G40: 12.45 | H40: 15.52 | I40: 6336.97 | J40: 0.011803969
A41: 3.4.5 | B41: 100341 | C41: SINAPI | D41: FABRICAÇÃO, MONTAGEM E DESMONTAGEM DE FÔRMA PARA CORTINA DE CONTENÇÃO, EM CHAPA DE MADEIRA COMPENSADA PLASTIFICADA, E = 18 MM, 10 UTILIZAÇÕES. AF_11/2024 | E41: m² | F41: 289.08 | G41: 45.55 | H41: 56.78 | I41: 16413.96 | J41: 0.030574529
...

Sheet CPU
A1: =[77]RESUMO!A1 -> ESTADO DO PARÁ
A2: =[77]RESUMO!A2 -> PREFEITURA MUNICIPAL DE XINGUARA-PA
A3: =[77]RESUMO!A3 -> CNPJ 04.144.150/0001-20
A4: =[77]RESUMO!A4 -> ADM. 2025/2028
A6: =('[78]Memória de Cálculo'!A6) -> Cliente: | B6: =RESUMO!B6 -> PREFEITURA MUNICIPAL DE XINGUARA
A7: =('[78]Memória de Cálculo'!A7) -> Adm: | B7: =RESUMO!B7 -> OSVALDO DE OLIVEIRA ASSUNÇÃO JUNIOR
A8: =('[78]Memória de Cálculo'!A8) -> Objeto: | B8: =RESUMO!B8 -> CONSTRUÇÃO DE UMA PONTE DE CONCRETO NA VICINAL BARREIRO PRETO
A9: =('[78]Memória de Cálculo'!A9) -> Endereço: | B9: =RESUMO!B9 -> MUNICIPIO DE XINGUARA-PA, ZONA RURAL
A10: Data: | B10: =RESUMO!B10 -> 46106
E11: Bancos | G11: B.D.I. | I11: Encargos Sociais
E12: =RESUMO!D12 -> SINAPI - 04/2026 - Pará SICRO3 - 01/2026 - Pará | G12: =RESUMO!F12 -> 0.2467 | I12: =RESUMO!G12 -> Não Desonerado: embutido nos preços unitário dos insumos de mão de obra, de acordo com as bases.
A13: Composições Principais
A14: 1.1 | B14: Código | C14: Banco | D14: Descrição | E14: Tipo | G14: Und | H14: Quant. | I14: Valor Unit | J14: Total
A15: Composição | B15: 0204 | C15: Próprio | D15: ADMINISTRAÇÃO LOCAL DA OBRA | E15: SERT - SERVIÇOS TÉCNICOS | G15: mês | H15: 1 | I15: 5697.8 | J15: 5697.8
A16: Composição Auxiliar | B16: 90777 | C16: SINAPI | D16: ENGENHEIRO CIVIL DE OBRA JUNIOR COM ENCARGOS COMPLEMENTARES | E16: Livro SINAPI: Cálculos e Parâmetros | G16: H | H16: 20 | I16: 147.33 | J16: 2946.6
A17: Composição Auxiliar | B17: 90776 | C17: SINAPI | D17: ENCARREGADO GERAL COM ENCARGOS COMPLEMENTARES | E17: Livro SINAPI: Cálculos e Parâmetros | G17: H | H17: 80 | I17: 34.39 | J17: 2751.2
E18: MO sem LS => | F18: 4772 | G18: LS => | H18: 0 | I18: MO com LS => | J18: 4772
E19: Valor do BDI => | F19: 1405.64 | H19: Valor com BDI => | J19: 7103.44
A21: 2.1 | B21: Código | C21: Banco | D21: Descrição | E21: Tipo | G21: Und | H21: Quant. | I21: Valor Unit | J21: Total
A22: Composição | B22: 0208 | C22: Próprio | D22: MOBILIZAÇÃO E DESMOBILIZAÇÃO PONTES | E22: SEDI - SERVIÇOS DIVERSOS | G22: UND | H22: 1 | I22: 7842.56 | J22: 7842.56
A23: Composição Auxiliar | B23: 0206 | C23: Próprio | D23: MOBILIZAÇÃO PONTES | E23: SEDI - SERVIÇOS DIVERSOS | G23: UND | H23: 1 | I23: 3921.28 | J23: 3921.28
A24: Composição Auxiliar | B24: 0207 | C24: Próprio | D24: DESMOBILIZAÇÃO PONTES | E24: SEDI - SERVIÇOS DIVERSOS | G24: UND | H24: 1 | I24: 3921.28 | J24: 3921.28
E25: MO sem LS => | F25: 1462.24 | G25: LS => | H25: 0 | I25: MO com LS => | J25: 1462.24
E26: Valor do BDI => | F26: 1934.75 | H26: Valor com BDI => | J26: 9777.31
A28: 3.1.3 | B28: Código | C28: Banco | D28: Descrição | E28: Tipo | G28: Und | H28: Quant. | I28: Valor Unit | J28: Total
A29: Composição | B29: CPU124 | C29: Próprio | D29: Locação da obra a aparelho | E29: SEDOP | G29: m² | H29: 1 | I29: 11.45 | J29: 11.45
A30: Composição Auxiliar | B30: 88262 | C30: SINAPI | D30: CARPINTEIRO DE FORMAS COM ENCARGOS COMPLEMENTARES | E30: Livro SINAPI: Cálculos e Parâmetros | G30: H | H30: 0.05 | I30: 32.14 | J30: 1.6
A31: Composição Auxiliar | B31: 88316 | C31: SINAPI | D31: SERVENTE COM ENCARGOS COMPLEMENTARES | E31: Livro SINAPI: Cálculos e Parâmetros | G31: H | H31: 0.18 | I31: 26.88 | J31: 4.83
A32: Composição Auxiliar | B32: 90781 | C32: SINAPI | D32: TOPOGRAFO COM ENCARGOS COMPLEMENTARES | E32: Livro SINAPI: Cálculos e Parâmetros | G32: H | H32: 0.07 | I32: 33.6 | J32: 2.35
A33: Insumo | B33: 00043132 | C33: SINAPI | D33: ARAME RECOZIDO 16 BWG, D = 1,65 MM (0,016 KG/M) OU 18 BWG, D = 1,25 MM (0,01 KG/M) | E33: Material | G33: KG | H33: 0.002 | I33: 24.08 | J33: 0.04
A34: Insumo | B34: 00004006 | C34: SINAPI | D34: MADEIRA SERRADA EM PINUS, MISTA OU EQUIVALENTE DA REGIAO - BRUTA | E34: Material | G34: m³ | H34: 0.001 | I34: 2584.52 | J34: 2.58
A35: Insumo | B35: 00005078 | C35: SINAPI | D35: PREGO DE ACO POLIDO COM CABECA 16 X 27 (2 1/2 X 12) | E35: Material | G35: KG | H35: 0.003 | I35: 18.7 | J35: 0.05
E36: MO sem LS => | F36: 5.79 | G36: LS => | H36: 0 | I36: MO com LS => | J36: 5.79
E37: Valor do BDI => | F37: 2.82 | H37: Valor com BDI => | J37: 14.27
A39: 3.2.2 | B39: Código | C39: Banco | D39: Descrição | E39: Tipo | G39: Und | H39: Quant. | I39: Valor Unit | J39: Total
A40: Composição | B40: CPU125 | C40: Próprio | D40: EXECUÇÃO DE ALMOXARIFADO EM CANTEIRO DE OBRA EM CHAPA DE MADEIRA COMPENSADA, INCLUSO PRATELEIRAS. AF_02/2016 | E40: CANT - CANTEIRO DE OBRAS | G40: m² | H40: 1 | I40: 975.97 | J40: 975.97
A41: Composição Auxiliar | B41: 88262 | C41: SINAPI | D41: CARPINTEIRO DE FORMAS COM ENCARGOS COMPLEMENTARES | E41: Livro SINAPI: Cálculos e Parâmetros | G41: H | H41: 0.9794 | I41: 32.14 | J41: 31.47
A42: Composição Auxiliar | B42: 88489 | C42: SINAPI | D42: PINTURA LÁTEX ACRÍLICA PREMIUM, APLICAÇÃO MANUAL EM PAREDES, DUAS DEMÃOS. AF_04/2023 | E42: Pintura Interna | G42: m² | H42: 3.7457 | I42: 15.32 | J42: 57.38
A43: Composição Auxiliar | B43: 91170 | C43: SINAPI | D43: FIXAÇÃO DE TUBOS HORIZONTAIS DE PVC ÁGUA, PVC ESGOTO, PVC ÁGUA PLUVIAL, CPVC, PPR, COBRE OU AÇO, DIÂMETROS MENORES OU IGUAIS A 40 MM, COM ABRAÇADEIRA METÁLICA RÍGIDA TIPO U PERFIL 1 1/4", FIXADA EM PERFILADO EM LAJE. AF_09/2023_PS | E43: Rasgos e Fixações | G43: M | H43: 0.2518 | I43: 10.48 | J43: 2.63
A44: Composição Auxiliar | B44: 91173 | C44: SINAPI | D44: FIXAÇÃO DE TUBOS VERTICAIS DE PVC ÁGUA, PVC ESGOTO, PVC ÁGUA PLUVIAL, CPVC, PPR, COBRE OU AÇO, DIÂMETROS MENORES OU IGUAIS A 40 MM, COM ABRAÇADEIRA METÁLICA RÍGIDA TIPO U PERFIL 1 1/4", FIXADA EM PERFILADO EM PAREDE. AF_09/2023_PS | E44: Rasgos e Fixações | G44: M | H44: 0.2266 | I44: 3.9 | J44: 0.88
...

Sheet MEMORIA DE CALCULO
A1: ESTADO DO PARÁ
A2: PREFEITURA MUNICIPAL DE XINGUARA
A3: CNPJ 04.144.150/0001-20
A4: ADM. 2025/2028
A6: Cliente: | B6: =RESUMO!$B$6 -> PREFEITURA MUNICIPAL DE XINGUARA
A7: Adm: | B7: =RESUMO!$B$7 -> OSVALDO DE OLIVEIRA ASSUNÇÃO JUNIOR
A8: Objeto: | B8: =RESUMO!$B$8 -> CONSTRUÇÃO DE UMA PONTE DE CONCRETO NA VICINAL BARREIRO PRETO
A9: Endereço: | B9: =RESUMO!$B$9 -> MUNICIPIO DE XINGUARA-PA, ZONA RURAL
A10: Data: | B10: =RESUMO!$B$10 -> 46106
A12: Memória de Cálculo
A13: Item | B13: Descrição | C13: Und | D13: Quant. | E13: Memória de Cálculo
A14: 1 | B14: ADMINISTRAÇÃO LOCAL DA OBRA
A15: 1.1 | B15: ADMINISTRAÇÃO LOCAL DA OBRA | C15: mês | D15: 4 | E15: = Conforme cronograma da obra
A16: 2 | B16: MOBILIZAÇÃO E DESMOBILIZAÇÃO
A17: 2.1 | B17: MOBILIZAÇÃO E DESMOBILIZAÇÃO PONTES | C17: UND | D17: 1,0 | E17: = 01 unidade para mobilizar e desmobilizar
A18: 3 | B18: PONTE BARREIRO PRETO (16,00 x 4,80 x 5,00)
A19: 3.1 | B19: SERVIÇOS PRELIMINARES
A20: 3.1.1 | B20: FORNECIMENTO E INSTALAÇÃO DE PLACA DE OBRA COM CHAPA GALVANIZADA E ESTRUTURA DE MADEIRA. AF_03/2022_PS | C20: m² | D20: 6,48 | E20: = 3,60 m de comprimento x 1,80 m de altura
A21: 3.1.2 | B21: Placa de advertência em aço, lado de 0,80 m - película retrorrefletiva tipo I + SI - fornecimento e implantação | C21: un | D21: 6,0 | E21: = 3 unidades de placa para sinalização para cada lado da via
A22: 3.1.3 | B22: Locação da obra a aparelho | C22: m² | D22: 76,8 | E22: = Conforme extensão da ponte de 16m comprimento x 4,8m de largura
A23: 3.2 | B23: CANTEIRO DE OBRAS
A24: 3.2.1 | B24: ENTRADA DE ENERGIA ELÉTRICA, AÉREA, BIFÁSICA, COM CAIXA DE SOBREPOR, CABO DE 16 MM2 E DISJUNTOR DIN 50A (NÃO INCLUSO O POSTE DE CONCRETO). AF_12/2025 | C24: UN | D24: 1,0 | E24: = 01 unidade para o almoxarifado
A25: 3.2.2 | B25: EXECUÇÃO DE ALMOXARIFADO EM CANTEIRO DE OBRA EM CHAPA DE MADEIRA COMPENSADA, INCLUSO PRATELEIRAS. AF_02/2016 | C25: m² | D25: 9,0 | E25: = Almoxarifado de 3m de comprimento x 3m de largura
A26: 3.3 | B26: MOVIMENTAÇÃO DE TERRA
A27: 3.3.1 | B27: LIMPEZA MECANIZADA DE CAMADA VEGETAL, VEGETAÇÃO E PEQUENAS ÁRVORES (DIÂMETRO DE TRONCO MENOR QUE 0,20 M), COM TRATOR DE ESTEIRAS. AF_03/2024 | C27: m² | D27: 400,0 | E27: = Limpeza do canteiro = 20m x 20m = 400 m²
A28: 3.3.2 | B28: CARGA, MANOBRA E DESCARGA DE ENTULHO EM CAMINHÃO BASCULANTE 14 M³ - CARGA COM ESCAVADEIRA HIDRÁULICA (CAÇAMBA DE 0,80 M³ / 111 HP) E DESCARGA LIVRE (UNIDADE: M3). AF_02/2026 | C28: m³ | D28: 80,0 | E28: = Limpeza do canteiro = 20m x 20m = 400 m² x 20cm de espessura
A29: 3.3.3 | B29: TRANSPORTE COM CAMINHÃO BASCULANTE DE 14 M³, EM VIA URBANA EM REVESTIMENTO PRIMÁRIO (UNIDADE: M3XKM). AF_02/2026 | C29: M3XKM | D29: 400,0 | E29: = Limpeza do canteiro = 20m x 20m = 400 m² x 20cm de espessura = 80 x 5km distancia
A30: 3.3.4 | B30: Escavação mecânica de vala em material de 1ª categoria | C30: m³ | D30: 377,1 | E30: = CABECEIRA = 37,23 (afastamento de 2 metros onde será implantado a cabeceira x 5m de altura x 2 lados = 372,3 m³ Blocos = 5m de comprimento x 0,60m de largura x 0,80 altura = 2,4 m³ x 2 blocos = 4,8 m³ Total escavação = 377,1 m³
A31: 3.3.5 | B31: Carga, manobra e descarga de agregados ou solos em caminhão basculante de 10 m³ - carga com carregadeira de 3,40 m³ e descarga livre | C31: t | D31: 651,52 | E31: = Total escavação = 372,3 m³ x peso especifico 1,4 + 25% empolamento = 651,52 toneladas
A32: 3.4 | B32: ALAS - CABECEIRAS DE CONCRETO
A33: 3.4.1 | B33: Estaca trilho TR 68 - fornecimento e cravação | C33: m | D33: 168,0 | E33: = 14 estacas x 6 metros de profundidade x 2 cabeceiras = 168 metros de estaca
A34: 3.4.2 | B34: ARMAÇÃO DE CORTINA DE CONTENÇÃO EM CONCRETO ARMADO, COM AÇO CA-50 DE 8 MM - MONTAGEM. AF_11/2024 | C34: KG | D34: 1.104,94 | E34: = Conforme lista de material do projeto (identificação ARMAÇÃO ALA + ARMAÇÃO CORTINA de 8 mm)
A35: 3.4.3 | B35: ARMAÇÃO DE CORTINA DE CONTENÇÃO EM CONCRETO ARMADO, COM AÇO CA-50 DE 16 MM - MONTAGEM. AF_11/2024 | C35: KG | D35: 74,73 | E35: = Conforme lista de material do projeto (identificação ARMAÇÃO ALA + ARMAÇÃO CORTINA de 16 mm)
A36: 3.4.4 | B36: ARMAÇÃO DE CORTINA DE CONTENÇÃO EM CONCRETO ARMADO, COM AÇO CA-50 DE 10 MM - MONTAGEM. AF_11/2024 | C36: KG | D36: 408,31 | E36: = Conforme lista de material do projeto (identificação ARMAÇÃO ALA + ARMAÇÃO CORTINA de 10 mm)
A37: 3.4.5 | B37: FABRICAÇÃO, MONTAGEM E DESMONTAGEM DE FÔRMA PARA CORTINA DE CONTENÇÃO, EM CHAPA DE MADEIRA COMPENSADA PLASTIFICADA, E = 18 MM, 10 UTILIZAÇÕES. AF_11/2024 | C37: m² | D37: 289,08 | E37: = Lateral ala 22,26 m² x 2 faces x 4 alas = 178,08 m² + Face frontal 5 m x 0,25 x 4 alas = 5 m² + Cortina 5m altura x 5,30 largura x 2 faces x 2 cortinas = 106 m² Total = 178,08 + 5 + 106 = 289,08 m²
A38: 3.4.6 | B38: CONCRETO FCK = 30MPA, TRAÇO 1:1,9:2,3 (EM MASSA SECA DE CIMENTO/ AREIA MÉDIA/ SEIXO ROLADO) - PREPARO MECÂNICO COM BETONEIRA 600 L. AF_05/2021 | C38: m³ | D38: 42,61 | E38: = Ala 22,26 m² x 0,30m de espessura x 4 alas = 26,71 m³ Cortina 5m altura x 5,30m largura x 0,30 espessura x 2 cortinas = 15,9 m³ Total = 26,71 m³ + 15,9 m³ = 42,61 m³
A39: 3.4.7 | B39: ARRASAMENTO MECÂNICO DE ESTACA METÁLICA, PERFIL LAMINADO TIPO H - FAMÍLIA 310. AF_05/2021 | C39: UN | D39: 28,0 | E39: = 14 estacas para cada cabeceira = 14 x 2 = 28
A40: 3.4.8 | B40: GRUPO GERADOR REBOCÁVEL, POTÊNCIA 66 KVA, MOTOR A DIESEL - CHP DIURNO. AF_03/2016 | C40: CHP | D40: 176,0 | E40: = 8 horas por dia x 5,5 dias na semana x 4 semanas no mês x 1 mes
A41: 3.5 | B41: MESOESTRUTURA
A42: 3.5.1 | B42: BLOCOS DOS PILARES
...

Sheet CRONOGRAMA
A1: =RESUMO!A1 -> ESTADO DO PARÁ
A2: =RESUMO!A2 -> PREFEITURA MUNICIPAL DE XIINGUARA-PA
A3: =RESUMO!A3 -> CNPJ 04.144.150/0001-20
A4: =RESUMO!A4 -> ADM. 2025/2028
A6: Cliente: | B6: =RESUMO!B6 -> PREFEITURA MUNICIPAL DE XINGUARA
A7: Adm: | B7: =RESUMO!B7 -> OSVALDO DE OLIVEIRA ASSUNÇÃO JUNIOR
A8: Objeto: | B8: =RESUMO!B8 -> CONSTRUÇÃO DE UMA PONTE DE CONCRETO NA VICINAL BARREIRO PRETO
A9: Endereço: | B9: =RESUMO!B9 -> MUNICIPIO DE XINGUARA-PA, ZONA RURAL
A10: Data: | B10: =RESUMO!B10 -> 46106
C11: Bancos | D11: B.D.I. | E11: Encargos Sociais
C12: =RESUMO!D12 -> SINAPI - 04/2026 - Pará SICRO3 - 01/2026 - Pará | D12: =RESUMO!F12 -> 0.2467 | E12: =RESUMO!G12 -> Não Desonerado: embutido nos preços unitário dos insumos de mão de obra, de acordo com as bases.
A13: Cronograma Físico e Financeiro
A14: Item | B14: Descrição | C14: Total Por Etapa | D14: 30 DIAS | E14: 60 DIAS | F14: 90 DIAS | G14: 120 DIAS
A15: 1 | B15: ADMINISTRAÇÃO LOCAL DA OBRA | C15: 100,00% 28.413,76 | D15: 20,58% 5.847,55 | E15: 29,42% 8.359,33 | F15: 29,42% 8.359,33 | G15: 20,58% 5.847,55
A16: 2 | B16: MOBILIZAÇÃO E DESMOBILIZAÇÃO | C16: 100,00% 9.777,31 | D16: 50,00% 4.888,66 | G16: 50,00% 4.888,66
A17: 3 | B17: PONTE BARREIRO PRETO (16,00 x 4,80 x 5,00) | C17: 100,00% 498.659,71 | D17: 20,00% 99.731,94 | E17: 30,00% 149.597,91 | F17: 30,00% 149.597,91 | G17: 20,00% 99.731,94
A18: Porcentagem | D18: 20,58% | E18: 29,42% | F18: 29,42% | G18: 20,58%
A19: Custo | D19: 110.468,14 | E19: 157.957,24 | F19: 157.957,24 | G19: 110.468,14
A20: Porcentagem Acumulado | D20: 20,58% | E20: 50,0% | F20: 79,42% | G20: 100,0%
A21: Custo Acumulado | D21: 110.468,14 | E21: 268.425,38 | F21: 426.382,62 | G21: 536.850,78

Sheet BDI
A1: =RESUMO!A1 -> ESTADO DO PARÁ
A2: =RESUMO!A2 -> PREFEITURA MUNICIPAL DE XIINGUARA-PA
A3: =RESUMO!A3 -> CNPJ 04.144.150/0001-20
A4: =RESUMO!A4 -> ADM. 2025/2028
A5: CLIENTE: | B5: =RESUMO!B6 -> PREFEITURA MUNICIPAL DE XINGUARA
A6: ADMIN: | B6: =RESUMO!B7 -> OSVALDO DE OLIVEIRA ASSUNÇÃO JUNIOR
A7: OBJETO: | B7: =RESUMO!B8 -> CONSTRUÇÃO DE UMA PONTE DE CONCRETO NA VICINAL BARREIRO PRETO
A8: ENDEREÇO: | B8: =RESUMO!B9 -> MUNICIPIO DE XINGUARA-PA, ZONA RURAL
A9: DATA: | B9: =RESUMO!B10 -> 46106
A11: COMPOSIÇÃO DE BONIFICAÇÕES DE DESPESAS INDIRETAS (B.D.I)
B186: Alvenaria tijolo de barro a cutelo
B187: Chapisco de cimento e areia no trago 1:3
B188: Reboco com argamassa 1:6:Adit. Plast.
B189: PVA interna c/ massa acrilica e selador
B190: Impermeabilizagao asfaltica para concreto e alvenaria (3 demaos)
B191: ARGILA OU BARRO PARA ATERRO/REATERRO (COM TRANSPORTE ATE 10 KM)
B192: COMPACTACAO MANUAL DE ATERRO 1a CAT CAMADA 15 cm

Sheet ENCARGOS
A1: =RESUMO!A1 -> ESTADO DO PARÁ
A2: =RESUMO!A2 -> PREFEITURA MUNICIPAL DE XIINGUARA-PA
A3: =RESUMO!A3 -> CNPJ 04.144.150/0001-20
A4: =RESUMO!A4 -> ADM. 2025/2028
A5: CLIENTE: | B5: =RESUMO!B6 -> PREFEITURA MUNICIPAL DE XINGUARA
A6: ADMIN: | B6: =RESUMO!B7 -> OSVALDO DE OLIVEIRA ASSUNÇÃO JUNIOR
A7: OBJETO: | B7: =RESUMO!B8 -> CONSTRUÇÃO DE UMA PONTE DE CONCRETO NA VICINAL BARREIRO PRETO
A8: ENDEREÇO: | B8: =RESUMO!B9 -> MUNICIPIO DE XINGUARA-PA, ZONA RURAL
A9: DATA: | B9: =RESUMO!B10 -> 46106
A11: ENCARGOS SOCIAIS
B186: Alvenaria tijolo de barro a cutelo
B187: Chapisco de cimento e areia no trago 1:3
B188: Reboco com argamassa 1:6:Adit. Plast.
B189: PVA interna c/ massa acrilica e selador
B190: Impermeabilizagao asfaltica para concreto e alvenaria (3 demaos)
B191: ARGILA OU BARRO PARA ATERRO/REATERRO (COM TRANSPORTE ATE 10 KM)
B192: COMPACTACAO MANUAL DE ATERRO 1a CAT CAMADA 15 cm

Sheet CURVA ABC INSUMOS
A1: =RESUMO!$A$1 -> ESTADO DO PARÁ
A2: =RESUMO!$A$2 -> PREFEITURA MUNICIPAL DE XIINGUARA-PA
A3: =RESUMO!$A$3 -> CNPJ 04.144.150/0001-20
A4: =RESUMO!$A$4 -> ADM. 2025/2028
A6: =('[79]Memória de Cálculo'!A6) -> Cliente: | B6: =RESUMO!$B$6 -> PREFEITURA MUNICIPAL DE XINGUARA
A7: =('[79]Memória de Cálculo'!A7) -> Adm: | B7: =RESUMO!$B$7 -> OSVALDO DE OLIVEIRA ASSUNÇÃO JUNIOR
A8: =('[79]Memória de Cálculo'!A8) -> Objeto: | B8: =RESUMO!$B$8 -> CONSTRUÇÃO DE UMA PONTE DE CONCRETO NA VICINAL BARREIRO PRETO
A9: =('[79]Memória de Cálculo'!A9) -> Endereço: | B9: =RESUMO!$B$9 -> MUNICIPIO DE XINGUARA-PA, ZONA RURAL
A10: Data: | B10: =RESUMO!$B$10 -> 46106
D11: Bancos | F11: B.D.I. | H11: Encargos Sociais
D12: =RESUMO!$D$12 -> SINAPI - 04/2026 - Pará SICRO3 - 01/2026 - Pará | F12: =RESUMO!$F$12 -> 0.2467 | H12: =RESUMO!$G$12 -> Não Desonerado: embutido nos preços unitário dos insumos de mão de obra, de acordo com as bases.
A13: Curva ABC de Insumos
A15: Código | B15: Banco | C15: Descrição | D15: Tipo | E15: Und | F15: Quantidade | H15: Valor Unitário | J15: Total | M15: Peso | N15: Valor Acumulado | O15: Peso Acumulado
F16: Operativa | G16: Improdutiva | H16: Operativa | I16: Improdutiva | J16: Operativa | K16: Improdutiva | L16: Geral
A17: M1606 | B17: SICRO3 | C17: Trilho TR68 em aço-carbono usado | D17: Material | E17: kg | F17: 14.601,6000000 | H17: 6,83 | J17: 99.728,93 | L17: 99728.928 | M17: 18,58% | N17: 99728.928 | O17: 18,58%
A18: 00001379 | B18: SINAPI | C18: CIMENTO PORTLAND COMPOSTO CP II-32 | D18: Material | E18: KG | F18: 44.309,6313229 | H18: 1,34 | J18: 59.374,91 | L18: 59374.906 | M18: 11,06% | N18: 159103.83 | O18: 29,64%
A19: 00004221 | B19: SINAPI | C19: OLEO DIESEL COMBUSTIVEL COMUM METROPOLITANO S-10 OU S-500 | D19: Material | E19: L | F19: 3.002,2321434 | H19: 9,33 | J19: 28.010,83 | L19: 28010.826 | M19: 5,22% | N19: 187114.66 | O19: 34,85%
A20: 00000033 | B20: SINAPI | C20: ACO CA-50, 8,0 MM, VERGALHAO | D20: Material | E20: KG | F20: 2.347,8981000 | H20: 10,03 | J20: 23.549,42 | L20: 23549.418 | M20: 4,39% | N20: 210664.08 | O20: 39,24%
A21: 00000034 | B21: SINAPI | C21: ACO CA-50, 10,0 MM, VERGALHAO | D21: Material | E21: KG | F21: 2.406,6354000 | H21: 9,44 | J21: 22.718,64 | L21: 22718.638 | M21: 4,23% | N21: 233382.72 | O21: 43,47%
A22: E9094 | B22: SICRO3 | C22: Guindaste móvel sobre pneus com 6 eixos com capacidade máxima de 350 t - 450 kW | D22: Equipamento | E22: H | F22: 6,7470124 | G22: 0,0000000 | H22: 2.997,85 | I22: 1.636,09 | J22: 20.226,53 | K22: 0,00 | L22: 20226.531 | M22: 3,77% | N22: 253609.25 | O22: 47,24%
A23: 00001358 | B23: SINAPI | C23: CHAPA/PAINEL DE MADEIRA COMPENSADA RESINADA (MADEIRITE RESINADO ROSA) PARA FORMA DE CONCRETO, DE 2200 X 1100 MM, E = 17 MM | D23: Material | E23: m² | F23: 235,8543040 | H23: 69,49 | J23: 16.389,52 | L23: 16389.516 | M23: 3,05% | N23: 269998.76 | O23: 50,29%
A24: 00001213 | B24: SINAPI | C24: CARPINTEIRO DE FORMAS OU OFICIAL (HORISTA) | D24: Mão de Obra | E24: H | F24: 557,1757333 | H24: 27,32 | J24: 15.222,04 | L24: 15222.041 | M24: 2,84% | N24: 285220.8 | O24: 53,13%
A25: 00004734 | B25: SINAPI | C25: SEIXO ROLADO PARA APLICACAO EM CONCRETO (POSTO PEDREIRA/FORNECEDOR, SEM FRETE) | D25: Material | E25: m³ | F25: 62,4755600 | H25: 234,08 | J25: 14.624,28 | L25: 14624.279 | M25: 2,72% | N25: 299845.08 | O25: 55,85%
A26: 00037370 | B26: SINAPI | C26: ALIMENTACAO - HORISTA (COLETADO CAIXA - ENCARGOS COMPLEMENTARES) | D26: Material | E26: H | F26: 2.228,6286554 | H26: 6,42 | J26: 14.307,80 | L26: 14307.796 | M26: 2,67% | N26: 314152.88 | O26: 58,52%
A27: 00002706 | B27: SINAPI | C27: ENGENHEIRO CIVIL DE OBRA JUNIOR (HORISTA) | D27: Mão de Obra | E27: H | F27: 81,1808000 | H27: 171,32 | J27: 13.907,89 | L27: 13907.895 | M27: 2,59% | N27: 328060.77 | O27: 61,11%
A28: 00001345 | B28: SINAPI | C28: CHAPA/PAINEL DE MADEIRA COMPENSADA PLASTIFICADA (MADEIRITE PLASTIFICADO) PARA FORMA DE CONCRETO, DE 2200 X 1100 MM, E = *17* MM | D28: Material | E28: m² | F28: 116,7082780 | H28: 117,68 | J28: 13.734,23 | L28: 13734.23 | M28: 2,56% | N28: 341795 | O28: 63,67%
A29: 00000378 | B29: SINAPI | C29: ARMADOR (HORISTA) | D29: Mão de Obra | E29: H | F29: 457,9697888 | H29: 27,32 | J29: 12.511,73 | L29: 12511.735 | M29: 2,33% | N29: 354306.74 | O29: 66,00%
A30: E9502 | B30: SICRO3 | C30: Bate-estaca de gravidade para 6 t - 119 kW | D30: Equipamento | E30: H | F30: 26,0240904 | G30: 0,0000000 | H30: 453,67 | I30: 232,66 | J30: 11.806,35 | K30: 0,00 | L30: 11806.349 | M30: 2,20% | N30: 366113.09 | O30: 68,20%
A31: P9824 | B31: SICRO3 | C31: Servente | D31: Mão de Obra | E31: h | F31: 396,9334885 | H31: 29,63 | J31: 11.761,14 | L31: 11761.139 | M31: 2,19% | N31: 377874.23 | O31: 70,39%
A32: 00043056 | B32: SINAPI | C32: ACO CA-50, 20,0 MM OU 25,0 MM, VERGALHAO | D32: Material | E32: KG | F32: 1.214,4534000 | H32: 9,43 | J32: 11.452,30 | L32: 11452.296 | M32: 2,13% | N32: 389326.52 | O32: 72,52%
A33: 00000370 | B33: SINAPI | C33: AREIA MEDIA - POSTO JAZIDA/FORNECEDOR (RETIRADO NA JAZIDA, SEM TRANSPORTE) | D33: Material | E33: m³ | F33: 73,6536274 | H33: 149,60 | J33: 11.018,58 | L33: 11018.583 | M33: 2,05% | N33: 400345.1 | O33: 74,57%
A34: 00004083 | B34: SINAPI | C34: ENCARREGADO GERAL DE OBRAS (HORISTA) | D34: Mão de Obra | E34: H | F34: 326,7840000 | H34: 30,26 | J34: 9.888,48 | L34: 9888.4838 | M34: 1,84% | N34: 410233.59 | O34: 76,41%
A35: 00004517 | B35: SINAPI | C35: SARRAFO *2,5 X 7,5* CM EM PINUS, MISTA OU EQUIVALENTE DA REGIAO - BRUTA | D35: Material | E35: M | F35: 1.898,5999580 | H35: 5,01 | J35: 9.511,99 | L35: 9511.9858 | M35: 1,77% | N35: 419745.57 | O35: 78,19%
A36: 00043055 | B36: SINAPI | C36: ACO CA-50, 12,5 MM OU 16,0 MM, VERGALHAO | D36: Material | E36: KG | F36: 1.154,7219000 | H36: 8,19 | J36: 9.457,17 | L36: 9457.1724 | M36: 1,76% | N36: 429202.75 | O36: 79,95%
A37: 00045311 | B37: SINAPI | C37: LAJE EM PAINEL TRELICADO MACICO L=25 CM, PTM-16, COM TRELICA DE 12 CM, PARA PISO, UNIDIRECIONAL, SOBRECARGA DE 350 KGF/M2, VAO ATE 6,0 M, EXCLUSO CONCRETO (SEM COLOCACAO) | D37: Material | E37: m² | F37: 76,8000000 | H37: 113,62 | J37: 8.726,02 | L37: 8726.016 | M37: 1,63% | N37: 437928.76 | O37: 81,57%
A38: 00004491 | B38: SINAPI | C38: PONTALETE *7,5 X 7,5* CM EM PINUS, MISTA OU EQUIVALENTE DA REGIAO - BRUTA | D38: Material | E38: M | F38: 518,2204013 | H38: 14,31 | J38: 7.415,73 | L38: 7415.7339 | M38: 1,38% | N38: 445344.5 | O38: 82,95%
A39: 00006111 | B39: SINAPI | C39: SERVENTE DE OBRAS (HORISTA) | D39: Mão de Obra | E39: H | F39: 344,8184979 | H39: 20,15 | J39: 6.948,09 | L39: 6948.0927 | M39: 1,29% | N39: 452292.59 | O39: 84,25%
A40: 00043132 | B40: SINAPI | C40: ARAME RECOZIDO 16 BWG, D = 1,65 MM (0,016 KG/M) OU 18 BWG, D = 1,25 MM (0,01 KG/M) | D40: Material | E40: KG | F40: 160,6756000 | H40: 30,02 | J40: 4.823,48 | L40: 4823.4815 | M40: 0,90% | N40: 457116.07 | O40: 85,15%
A41: 00037372 | B41: SINAPI | C41: EXAMES - HORISTA (COLETADO CAIXA - ENCARGOS COMPLEMENTARES) | D41: Material | E41: H | F41: 2.228,6286554 | H41: 1,88 | J41: 4.189,82 | L41: 4189.8219 | M41: 0,78% | N41: 461305.89 | O41: 85,93%
A42: 00037666 | B42: SINAPI | C42: OPERADOR DE BETONEIRA ESTACIONARIA / MISTURADOR (HORISTA) | D42: Mão de Obra | E42: H | F42: 137,9783188 | H42: 25,70 | J42: 3.546,04 | L42: 3546.0428 | M42: 0,66% | N42: 464851.94 | O42: 86,59%
...

Sheet CURVA ABC SERVIÇOS
A1: =RESUMO!$A$1 -> ESTADO DO PARÁ
A2: =RESUMO!$A$2 -> PREFEITURA MUNICIPAL DE XIINGUARA-PA
A3: =RESUMO!$A$3 -> CNPJ 04.144.150/0001-20
A4: =RESUMO!$A$4 -> ADM. 2025/2028
A6: =[79]RESUMO!A6 -> Cliente: | B6: =RESUMO!$B$6 -> PREFEITURA MUNICIPAL DE XINGUARA
A7: =[79]RESUMO!A7 -> Adm: | B7: =RESUMO!$B$7 -> OSVALDO DE OLIVEIRA ASSUNÇÃO JUNIOR
A8: =[79]RESUMO!A8 -> Objeto: | B8: =RESUMO!$B$8 -> CONSTRUÇÃO DE UMA PONTE DE CONCRETO NA VICINAL BARREIRO PRETO
A9: =[79]RESUMO!A9 -> Endereço: | B9: =RESUMO!$B$9 -> MUNICIPIO DE XINGUARA-PA, ZONA RURAL
A10: =[79]RESUMO!A10 -> Data: | B10: =RESUMO!$B$10 -> 46106
D11: Bancos | G11: B.D.I. | I11: Encargos Sociais
D12: =RESUMO!$D$12 -> SINAPI - 04/2026 - Pará SICRO3 - 01/2026 - Pará | G12: =RESUMO!$F$12 -> 0.2467 | I12: =RESUMO!$G$12 -> Não Desonerado: embutido nos preços unitário dos insumos de mão de obra, de acordo com as bases.
A13: Curva ABC de Serviços
A14: Código | B14: Banco | C14: Descrição | D14: Tipo | E14: Und | F14: Quant. | G14: Valor Unit | H14: Total | I14: Peso (%) | J14: Peso Acumulado (%)
A15: 2306113 | B15: SICRO3 | C15: Estaca trilho TR 68 - fornecimento e cravação | E15: m | F15: 216,0 | G15: 533,07 | H15: 115.143,12 | I15: 21,45 | J15: 21,45
A16: 102483 | B16: SINAPI | C16: CONCRETO FCK = 30MPA, TRAÇO 1:1,9:2,3 (EM MASSA SECA DE CIMENTO/ AREIA MÉDIA/ SEIXO ROLADO) - PREPARO MECÂNICO COM BETONEIRA 600 L. AF_05/2021 | D16: Produção de Concreto | E16: m³ | F16: 103,78 | G16: 940,38 | H16: 97.592,63 | I16: 18,18 | J16: 39,63
A17: 0204 | B17: Próprio | C17: ADMINISTRAÇÃO LOCAL DA OBRA | D17: SERT - SERVIÇOS TÉCNICOS | E17: mês | F17: 4,0 | G17: 7.103,44 | H17: 28.413,76 | I17: 5,29 | J17: 44,92
A18: 92265 | B18: SINAPI | C18: FABRICAÇÃO DE FÔRMA PARA VIGAS, EM CHAPA DE MADEIRA COMPENSADA RESINADA, E = 17 MM. AF_09/2020 | D18: Fôrmas para Estruturas de Concreto Armado | E18: m² | F18: 153,6 | G18: 176,00 | H18: 27.033,60 | I18: 5,04 | J18: 49,95
A19: 100343 | B19: SINAPI | C19: ARMAÇÃO DE CORTINA DE CONTENÇÃO EM CONCRETO ARMADO, COM AÇO CA-50 DE 8 MM - MONTAGEM. AF_11/2024 | D19: Estruturas de Contenção - Perfis Pranchados, Cortinas e Muros de Arrimo | E19: KG | F19: 1.104,94 | G19: 19,21 | H19: 21.225,89 | I19: 3,95 | J19: 53,91
A20: 3806420 | B20: SICRO3 | C20: Lançamento de viga pré-moldada de até 500 kN com utilização de guindaste | E20: un | F20: 4,0 | G20: 5.297,61 | H20: 21.190,44 | I20: 3,95 | J20: 57,86
A21: 93421 | B21: SINAPI | C21: GRUPO GERADOR REBOCÁVEL, POTÊNCIA 66 KVA, MOTOR A DIESEL - CHP DIURNO. AF_03/2016 | D21: Custos Horários Produtivo e Improdutivo dos Equipamentos | E21: CHP | F21: 176,0 | G21: 117,11 | H21: 20.611,36 | I21: 3,84 | J21: 61,70
A22: 100341 | B22: SINAPI | C22: FABRICAÇÃO, MONTAGEM E DESMONTAGEM DE FÔRMA PARA CORTINA DE CONTENÇÃO, EM CHAPA DE MADEIRA COMPENSADA PLASTIFICADA, E = 18 MM, 10 UTILIZAÇÕES. AF_11/2024 | D22: Estruturas de Contenção - Perfis Pranchados, Cortinas e Muros de Arrimo | E22: m² | F22: 289,08 | G22: 56,78 | H22: 16.413,96 | I22: 3,06 | J22: 64,75
A23: 92264 | B23: SINAPI | C23: FABRICAÇÃO DE FÔRMA PARA PILARES E ESTRUTURAS SIMILARES, EM CHAPA DE MADEIRA COMPENSADA PLASTIFICADA, E = 18 MM. AF_09/2020 | D23: Fôrmas para Estruturas de Concreto Armado | E23: m² | F23: 46,85 | G23: 310,55 | H23: 14.549,26 | I23: 2,71 | J23: 67,46
A24: 92765 | B24: SINAPI | C24: ARMAÇÃO DE PILAR OU VIGA DE ESTRUTURA CONVENCIONAL DE CONCRETO ARMADO UTILIZANDO AÇO CA-50 DE 20,0 MM - MONTAGEM. AF_06/2022 | D24: Armação para Estruturas de Concreto Armado | E24: KG | F24: 1.065,31 | G24: 12,25 | H24: 13.050,04 | I24: 2,43 | J24: 69,89
A25: 92771 | B25: SINAPI | C25: ARMAÇÃO DE LAJE DE ESTRUTURA CONVENCIONAL DE CONCRETO ARMADO UTILIZANDO AÇO CA-50 DE 10,0 MM - MONTAGEM. AF_06/2022 | D25: Armação para Estruturas de Concreto Armado | E25: KG | F25: 975,35 | G25: 12,89 | H25: 12.572,26 | I25: 2,34 | J25: 72,24
A26: 0202 | B26: Próprio | C26: FORNECIMENTO E MONTAGEM DE PRÉ-LAJE TRELIÇADA PRÉ-FABRICADAS TR-16, MEDIDAS 0,25x2,30, ESPESSURA 5CM, COM BARRA DE REFORÇO 8mm INCLUSO IÇAMENTO COM GUINDASTE. (REFERENCIA SINAPI 97723) | D26: Estruturas Pré-Fabricadas e Pré-Moldadas | E26: m³ | F26: 3,84 | G26: 3.104,50 | H26: 11.921,28 | I26: 2,22 | J26: 74,46
A27: 4815671 | B27: SICRO3 | C27: Reaterro e compactação com soquete vibratório | E27: m³ | F27: 471,37 | G27: 25,29 | H27: 11.920,94 | I27: 2,22 | J27: 76,68
A28: CPU125 | B28: Próprio | C28: EXECUÇÃO DE ALMOXARIFADO EM CANTEIRO DE OBRA EM CHAPA DE MADEIRA COMPENSADA, INCLUSO PRATELEIRAS. AF_02/2016 | D28: CANT - CANTEIRO DE OBRAS | E28: m² | F28: 9,0 | G28: 1.216,74 | H28: 10.950,66 | I28: 2,04 | J28: 78,72
A29: 0208 | B29: Próprio | C29: MOBILIZAÇÃO E DESMOBILIZAÇÃO PONTES | D29: SEDI - SERVIÇOS DIVERSOS | E29: UND | F29: 1,0 | G29: 9.777,31 | H29: 9.777,31 | I29: 1,82 | J29: 80,54
A30: 92761 | B30: SINAPI | C30: ARMAÇÃO DE PILAR OU VIGA DE ESTRUTURA CONVENCIONAL DE CONCRETO ARMADO UTILIZANDO AÇO CA-50 DE 8,0 MM - MONTAGEM. AF_06/2022 | D30: Armação para Estruturas de Concreto Armado | E30: KG | F30: 578,6 | G30: 15,39 | H30: 8.904,65 | I30: 1,66 | J30: 82,20
A31: 92263 | B31: SINAPI | C31: FABRICAÇÃO DE FÔRMA PARA PILARES E ESTRUTURAS SIMILARES, EM CHAPA DE MADEIRA COMPENSADA RESINADA, E = 17 MM. AF_09/2020 | D31: Fôrmas para Estruturas de Concreto Armado | E31: m² | F31: 34,62 | G31: 246,16 | H31: 8.522,05 | I31: 1,59 | J31: 83,78
A32: 92764 | B32: SINAPI | C32: ARMAÇÃO DE PILAR OU VIGA DE ESTRUTURA CONVENCIONAL DE CONCRETO ARMADO UTILIZANDO AÇO CA-50 DE 16,0 MM - MONTAGEM. AF_06/2022 | D32: Armação para Estruturas de Concreto Armado | E32: KG | F32: 686,75 | G32: 10,87 | H32: 7.464,97 | I32: 1,39 | J32: 85,17
A33: 92762 | B33: SINAPI | C33: ARMAÇÃO DE PILAR OU VIGA DE ESTRUTURA CONVENCIONAL DE CONCRETO ARMADO UTILIZANDO AÇO CA-50 DE 10,0 MM - MONTAGEM. AF_06/2022 | D33: Armação para Estruturas de Concreto Armado | E33: KG | F33: 546,17 | G33: 13,55 | H33: 7.400,60 | I33: 1,38 | J33: 86,55
A34: 100950 | B34: SINAPI | C34: TRANSPORTE COM CAMINHÃO CARROCERIA COM GUINDAUTO (MUNCK), MOMENTO MÁXIMO DE CARGA 11,7 TM, EM VIA URBANA EM LEITO NATURAL (UNIDADE: TXKM). AF_02/2026 | D34: Transporte, Carga e Descarga de Materiais | E34: TXKM | F34: 1.105,92 | G34: 6,17 | H34: 6.823,52 | I34: 1,27 | J34: 87,82
A35: 100344 | B35: SINAPI | C35: ARMAÇÃO DE CORTINA DE CONTENÇÃO EM CONCRETO ARMADO, COM AÇO CA-50 DE 10 MM - MONTAGEM. AF_11/2024 | D35: Estruturas de Contenção - Perfis Pranchados, Cortinas e Muros de Arrimo | E35: KG | F35: 408,31 | G35: 15,52 | H35: 6.336,97 | I35: 1,18 | J35: 89,00
A36: 92453 | B36: SINAPI | C36: MONTAGEM E DESMONTAGEM DE FÔRMA DE VIGA, ESCORAMENTO COM GARFO DE MADEIRA, PÉ-DIREITO DUPLO, EM CHAPA DE MADEIRA RESINADA, 4 UTILIZAÇÕES. AF_09/2020 | D36: Fôrmas para Estruturas de Concreto Armado | E36: m² | F36: 16,0 | G36: 361,55 | H36: 5.784,80 | I36: 1,08 | J36: 90,08
A37: 5915407 | B37: SICRO3 | C37: Carga, manobra e descarga de agregados ou solos em caminhão basculante de 10 m³ - carga com carregadeira de 3,40 m³ e descarga livre | E37: t | F37: 1.311,44 | G37: 3,86 | H37: 5.062,15 | I37: 0,94 | J37: 91,02
A38: 96546 | B38: SINAPI | C38: ARMAÇÃO DE BLOCO UTILIZANDO AÇO CA-50 DE 10 MM - MONTAGEM. AF_01/2024 | D38: Fundações Rasas (Blocos, Sapatas, Vigas Baldrame) | E38: KG | F38: 238,31 | G38: 17,94 | H38: 4.275,28 | I38: 0,80 | J38: 91,82
A39: 103689 | B39: SINAPI | C39: FORNECIMENTO E INSTALAÇÃO DE PLACA DE OBRA COM CHAPA GALVANIZADA E ESTRUTURA DE MADEIRA. AF_03/2022_PS | D39: Sinalização Vertical Viária | E39: m² | F39: 6,48 | G39: 632,32 | H39: 4.097,43 | I39: 0,76 | J39: 92,58
A40: 5214003 | B40: SICRO3 | C40: Pintura de setas e zebrados com termoplástico por aspersão - espessura de 1,5 mm | E40: m² | F40: 50,85 | G40: 78,64 | H40: 3.998,84 | I40: 0,74 | J40: 93,33
A41: 92770 | B41: SINAPI | C41: ARMAÇÃO DE LAJE DE ESTRUTURA CONVENCIONAL DE CONCRETO ARMADO UTILIZANDO AÇO CA-50 DE 8,0 MM - MONTAGEM. AF_06/2022 | D41: Armação para Estruturas de Concreto Armado | E41: KG | F41: 261,8 | G41: 14,67 | H41: 3.840,60 | I41: 0,72 | J41: 94,04
...
