Workbook
Name AbaDeprec: #REF!
Name AbaRemun: #REF!

Sheet SUMARIO
B6: SUMÁRIO
B8: 1. RESUMO
B10: 2. DADOS DE ENTRADA
B12: 3. PREÇOS UNITÁRIOS
B14: 4. COLETA COMUM
B16: 5. COLETA SELETIVA
B18: 6. DISPOSIÇÃO FINAL DE REJEITOS
B20: 7. COLETA E DISPOSIÇÃO FINAL DE VOLUMOSOS
B22: 8. ADMINISTRAÇÃO LOCAL

Sheet 1. RESUMO
A7: PLANILHA RESUMO
A8: SERVIÇOS | B8: UN. | C8: QUANTIDADE | D8: PREÇO UNITÁRIO (R$) | E8: PREÇO TOTAL MENSAL (R$) | F8: PREÇO TOTAL ANUAL(R$) | G8: PREÇO TOTAL DO CONTRATO ANOS (R$)
A9: LOTE 1
A10: COLETA COMUM | B10: EQUIPE | C10: 1 | D10: 23636.99 | E10: 23636.99 | F10: 283643.88 | G10: 1134575.5
A11: COLETA SELETIVA | B11: EQUIPE | C11: 1 | D11: 11423.15 | E11: 11423.15 | F11: 137077.8 | G11: 548311.2
A12: DISPOSIÇÃO FINAL DE REJEITOS | B12: UNIDADE | C12: 1 | D12: 7437.19 | E12: 7437.19 | F12: 89246.28 | G12: 356985.12
A13: COLETA E DISPOSIÇÃO FINAL DE VOLUMOSOS | B13: EQUIPE | C13: 1 | D13: 5204.22 | E13: 5204.22 | F13: 62450.64 | G13: 249802.56
D14: TOTAL | E14: 47701.55 | F14: 572418.6 | G14: 2289674.4
D15: 47701.55
A16: Anos de contrato: | B16: 4
A18: COLETA COMUM | B18: EQUIPE | C18: 1 | D18: 23636.99 | E18: 23636.99 | F18: 283643.88 | G18: 1134575.5
A19: COLETA SELETIVA | B19: EQUIPE | C19: 1 | D19: 11423.15 | E19: 11423.15 | F19: 137077.8 | G19: 548311.2
A20: DISPOSIÇÃO FINAL DE REJEITOS | B20: UNIDADE | C20: 1 | D20: 7437.19 | E20: 7437.19 | F20: 89246.28 | G20: 356985.12
A21: COLETA E DISPOSIÇÃO FINAL DE VOLUMOSOS | B21: EQUIPE | C21: 1 | D21: 5046.44 | E21: 5046.44 | F21: 60557.28 | G21: 242229.12
D22: TOTAL | E22: 47543.77 | F22: 570525.24 | G22: 2282101
E24: 157.78
H25: 7573.44

Sheet 2. DADOS DE ENTRADA
A6: 1 | B6: Insalubridade
B7: Cargo | C7: Insalubridade | D7: Base de Cálculo
A8: 1.1 | B8: Motorista Diurno | C8: 0.2 | D8: 1
A9: 1.1 | B9: Motorista Noturno | C9: 0.2 | D9: 1
A10: 1.1 | B10: Coletor Diurno | C10: 0.4 | D10: 2
A11: 1.1 | B11: Coletor Noturno | C11: 0.4 | D11: 2
A12: 1.1 | B12: Encarregado de Operação | C12: 0.2 | D12: 2
A13: 1.1 | B13: Educador Ambiental | C13: 0 | D13: 0
A14: 1.1 | B14: Encarregado de Operação Diurno | C14: 0.2 | D14: 2
A15: 1.1 | B15: Operador de Máquina Diurno | C15: 0.2 | D15: 1
A16: 1.1 | B16: Ajudante | C16: 0.4 | D16: 2
A17: 1.1 | B17: Vigia Diurno | C17: 0.2 | D17: 2
A18: 1.1 | B18: Vigia Noturno | C18: 0.2 | D18: 2
A20: 2 | B20: Número de Equipes
B21: Coleta comum e seletiva
A22: 2 | C22: COLETA COMUM | E22: COLETA SELETIVA | G22: COLETA VOLUMOSOS
B23: Cargo | C23: Coleta Diurna Turno 1 | D23: Reserva Técnica Diurno | E23: Coleta Diurno Turno 1 | F23: Reserva técnica Diurno Seletivo | G23: Coleta Diurna Turno 1 | H23: Reserva Técnica Diurno
A24: 2.2 | B24: Motorista Diurno | C24: 1 | E24: 1 | G24: 1
A25: 2.2 | B25: Motorista Noturno
A26: 2.2 | B26: Coletor Diurno | C26: 2 | E26: 2 | G26: 1
A27: 2.2 | B27: Coletor Noturno
A28: 2.2 | B28: Operador de Máquina Diurno
A29: 2.2 | B29: Vigia Diurno
A30: 2.2 | B30: Vigia Noturno
A32: 2.1 | B32: Encarregados e Fiscais
B34: Cargo | C34: Coleta Conv. | D34: Coleta Seletiva | H34: Transbordo | I34: Volumosos
A35: 2.1.1 | B35: Encarregado de Operação
A36: 2.1.1 | B36: Educador Ambiental
A37: 2.1.1 | B37: Fiscal de Operação Noturno
A38: 2.1.1 | B38: Encarregado de Operação Diurno | C38: 0 | D38: 0
A39: 2.1.1 | B39: Operador de Máquina Diurno
A40: 2.1.1 | B40: Vigia Diurno
A41: 2.1.1 | B41: Vigia Noturno
A43: 3 | B43: Hora Extra 50% | D43: COLETA COMUM | F43: COLETA SELETIVA | H43: Transbordo | J43: Volumosos
B44: Cargo | C44: Hora Extra 50% | D44: Número de horas | E44: Número de horas (22h as 05h) | F44: Número de horas | G44: Número de horas (22h as 05h) | H44: Número de horas | I44: Número de horas (22h as 05h) | J44: Número de horas | K44: Número de horas (22h as 05h)
A45: 3.1 | B45: Motorista Diurno | C45: 0.5 | D45: 0 | F45: 0 | H45: 0 | J45: 0
A46: 3.1 | B46: Motorista Noturno | C46: 0.5 | D46: 0 | F46: 0 | H46: 0 | J46: 0
A47: 3.1 | B47: Motorista Noturno | C47: 0.5 | D47: - | E47: 0 | F47: - | G47: 0 | H47: - | I47: 0 | J47: - | K47: 0
A48: 3.1 | B48: Coletor Diurno | C48: 0.5 | D48: 0 | F48: 0 | H48: 0 | J48: 0
A49: 3.1 | B49: Coletor Noturno | C49: 0.5 | D49: 0 | F49: 0 | H49: 0 | J49: 0
...

Sheet 3. PREÇOS UNITÁRIOS
A6: PREÇOS UNITÁRIOS
A7: Itens | B7: Itens | C7: Unidade | D7: Preço (R$) | E7: Referência
A8: 1 | B8: Equipamento de Proteção Individual/uniformes
A9: 1.1 | B9: Jaqueta refletiva | C9: un. | D9: 207.59667 | E9: Paineis de Preços Públicos
A10: 1.2 | B10: Calça | C10: un. | D10: 50.566667 | E10: Paineis de Preços Públicos
A11: 1.3 | B11: Camisa | C11: un. | D11: 28.633333 | E11: Paineis de Preços Públicos
A12: 1.4 | B12: Calçado | C12: un. | D12: 37.116667 | E12: Paineis de Preços Públicos
A13: 1.5 | B13: Boné | C13: un. | D13: 30.863333 | E13: Paineis de Preços Públicos
A14: 1.6 | B14: Colete fiscal | C14: un. | D14: 38.006667 | E14: Paineis de Preços Públicos
A15: 1.7 | B15: Capa de chuva | C15: un. | D15: 18.72 | E15: Paineis de Preços Públicos
A16: 1.8 | B16: Luva | C16: un. | D16: 21.496667 | E16: Paineis de Preços Públicos
A17: 1.9 | B17: Óculos de sol/incolor | C17: un. | D17: 3.06 | E17: Paineis de Preços Públicos
A18: 1.10 | B18: Protetor solar | C18: un. | D18: 26.906667 | E18: Paineis de Preços Públicos
A19: 1.11 | B19: Meia cano longo | C19: un. | D19: 8.6333333 | E19: Paineis de Preços Públicos
A20: 1.12 | B20: Higienização | C20: un. | D20: 4.02 | E20: Cotação
A21: 2 | B21: Salário
A22: 2.1 | B22: Salário Mínimo | C22: mês | D22: 1621 | E22: Gov.
B23: Piso categoria
A24: 2.2 | B24: Motorista de estrada piso da categoria | C24: mês | D24: 2578 | E24: Convenção Coletiva
A25: 2.3 | B25: Motorista coletor de lixo urbano piso da categoria | C25: mês | D25: 2428 | E25: Convenção Coletiva
A26: 2.4 | B26: Coletor piso da categoria | C26: mês | D26: 2082.31 | E26: Convenção Coletiva
A27: 2.5 | B27: Operador de Máquina piso da categoria | C27: mês | D27: 2276 | E27: Convenção Coletiva
A28: 2.6 | B28: Ajudante piso da categoria | C28: mês | D28: 2082.31 | E28: Convenção Coletiva
A29: 2.7 | B29: Vigia piso da categoria | C29: mês | D29: 2551.5 | E29: Convenção Coletiva
B30: Salários adotados | F30: 1
A31: 2.8 | B31: Motorista de estrada | C31: mês | D31: 2578 | E31: Convenção Coletiva
A32: 2.9 | B32: Motorista coletor de lixo urbano | C32: mês | D32: 2428 | E32: Convenção Coletiva
A33: 2.10 | B33: Coletor | C33: mês | D33: 2082.31 | E33: Convenção Coletiva
A34: 2.11 | B34: Operador de Máquina | C34: mês | D34: 2276 | E34: Convenção Coletiva
A35: 2.12 | B35: Ajudante piso da categoria | C35: mês | D35: 2082.31 | E35: Convenção Coletiva
A36: 2.13 | B36: Vigia | C36: mês | D36: 2551.5 | E36: Convenção Coletiva
A37: 2.14 | B37: Encarregado de operação | C37: mês | D37: 4217.35 | E37: Base de preço RAIS
A38: 2.15 | B38: Gerente | C38: mês | D38: 5090.93 | E38: Base de preço RAIS
A39: 2.16 | B39: Auxiliar administrativo | C39: mês | D39: 1955 | E39: Convenção Coletiva
A40: 2.1 | B40: Benefícios
A41: 2.1.1 | B41: Vale transporte | C41: mês | D41: 0 | E41: Município
A42: 2.1.2 | B42: Vale refeição coletor | C42: dia | D42: 21.9915 | E42: Convenção Coletiva
A43: 2.1.3 | B43: Auxílio lanche coletor | C43: dia | D43: 10.9917 | E43: Convenção Coletiva
A44: 2.1.4 | B44: Beneficio Coletor (Plano de Benefício Familiar) | C44: mês | D44: 25.52 | E44: Convenção Coletiva
A45: 2.1.5 | B45: Vale refeição motorista | C45: dia | D45: 18.8 | E45: Convenção Coletiva
...

Sheet 4. COLETA COMUM
C7: PLANILHA DE COMPOSIÇÃO DE PREÇOS COLETA COMUM
C8: item | D8: Discriminação | E8: Unidade | F8: Quantidade | G8: R$ unitário | H8: R$ total
C9: 1. | D9: Mão de Obra Direta
C11: 1.1 | D11: Motorista diurno
A13: 5.1 | C13: 1.1.1 | D13: Horas normais | E13: hora | F13: 220 | G13: 11.036364 | H13: 2428
A14: 1.1 | C14: 1.1.2 | D14: Salário mínimo nacional | E14: R$ | G14: 1621 | H14: 0
A15: 1.1 | C15: 1.1.3 | D15: Adicional de Insalubridade | E15: % | F15: 0.2 | G15: 1621 | H15: 324.2
H16: 2752.2
A17: 3.1 | C17: 1.1.4 | D17: Hora Extra 50% | E17: hora | F17: 0 | G17: 16.554545 | H17: 0
A18: 4.1 | C18: 1.1.5 | D18: Hora Extra 100% | E18: hora | F18: 0 | G18: 22.072727 | H18: 0
C19: 1.1.6 | D19: Descanso semanal remunerado (DSR) - hora extra | E19: R$ | G19: 0 | H19: 0
G20: Sub Total | H20: 2752.2
A21: 9.1 | C21: 1.1.7 | D21: Encargos sociais | E21: % | F21: 0.6929 | G21: 2752.2 | H21: 1906.9994
G22: Sub Total | H22: 4659.1994
A23: 2.2 | C23: 1.1.8 | D23: Número de motoristas | E23: homem | F23: 1 | G23: 4659.1994 | H23: 4659.1994
A24: 2.2 | C24: 1.1.9 | D24: Reserva técnica | E24: homem | F24: 0 | G24: 4659.1994 | H24: 0
A25: 7.1 | B25: 2.1.1 | C25: 1.1.10 | D25: Vale transporte (Excedente de 6% do valor do salário base) | E25: un. | F25: 52 | G25: 0 | H25: 0
A26: 8.1 | C26: 1.1.11 | D26: Vale alimentação | E26: un. | F26: 26 | G26: 18.8 | H26: 488.8
C27: 1.1.12 | D27: Cesta básica | E27: un. | F27: 1 | G27: 120 | H27: 120
C28: 1.1.13 | D28: Seguro Vida | E28: un. | F28: 1 | G28: 18.28 | H28: 18.28
C29: 1.1.14 | D29: Valor Total dos Benefícios | E29: un. | F29: 1 | G29: 627.08 | H29: 627.08
G30: Total Motorista diurno | H30: 5286.2794
C32: 1.2 | D32: Coletor diurno
A34: 5.1 | C34: 1.2.1 | D34: Horas normais | E34: hora | F34: 220 | G34: 9.4650455 | H34: 2082.31
A35: 1.1 | C35: 1.2.2 | D35: Salário mínimo nacional | E35: R$ | G35: 1621 | H35: 0
A36: 1.1 | C36: 1.2.3 | D36: Adicional de Insalubridade | E36: % | F36: 0.4 | G36: 2082.31 | H36: 832.924
H37: 2915.234
A38: 3.1 | C38: 1.2.4 | D38: Hora Extra 50% | E38: hora | F38: 0 | G38: 14.197568 | H38: 0
A39: 4.1 | C39: 1.2.5 | D39: Hora Extra 100% | E39: hora | F39: 0 | G39: 18.930091 | H39: 0
C40: 1.2.6 | D40: Descanso semanal remunerado (DSR) - hora extra | E40: R$ | G40: 0 | H40: 0
G41: Sub Total | H41: 2915.234
A42: 9.1 | C42: 1.2.7 | D42: Encargos sociais | E42: % | F42: 0.6903 | G42: 2915.234 | H42: 2012.386
G43: Sub Total | H43: 4927.62
A44: 2.2 | C44: 1.2.8 | D44: Número de coletores | E44: homem | F44: 2 | G44: 4927.62 | H44: 9855.2401
A45: 2.2 | C45: 1.2.9 | D45: Reserva técnica | E45: homem | F45: 0 | G45: 4927.62 | H45: 0
A46: 7.1 | B46: 2.1.1 | C46: 1.2.10 | D46: Vale transporte (Excedente de 6% do valor do salário base) | E46: un. | F46: 52 | G46: 0 | H46: 0
A47: 8.1 | C47: 1.2.11 | D47: Vale alimentação + Vale Lanche | E47: un. | F47: 26 | G47: 32.9832 | H47: 857.5632
C48: 1.2.12 | D48: Plano de Benefício Familiar | E48: homem | F48: 1 | G48: 25.52 | H48: 25.52
A49: 2.2 | C49: 1.2.13 | D49: Valor Total dos Benefícios | E49: homem | F49: 2 | G49: 883.0832 | H49: 1766.1664
G50: Total Coletor diurno | H50: 11621.406
...

Sheet 5. COLETA SELETIVA
B7: PLANILHA DE COMPOSIÇÃO DE PREÇOS COLETA SELETIVA
B8: item | C8: Discriminação | D8: Unidade | E8: Quantidade | F8: R$ unitário | G8: R$ total
B9: 1. | C9: Mão de Obra Direta
B11: 1.1 | C11: Motorista diurno
A13: 5.1 | B13: 1.1.1 | C13: Horas normais | D13: hora | E13: 220 | F13: 11.036364 | G13: 2428
A14: 1.1 | B14: 1.1.2 | C14: Salário mínimo nacional | D14: R$ | F14: 1621 | G14: 0
A15: 1.1 | B15: 1.1.3 | C15: Adicional de Insalubridade | D15: % | E15: 0.2 | F15: 1621 | G15: 324.2
G16: 2752.2
A17: 3.1 | B17: 1.1.4 | C17: Hora Extra 50% | D17: hora | E17: 0 | F17: 16.554545 | G17: 0
A18: 4.1 | B18: 1.1.5 | C18: Hora Extra 100% | D18: hora | E18: 0 | F18: 22.072727 | G18: 0
B19: 1.1.6 | C19: Descanso semanal remunerado (DSR) - hora extra | D19: R$ | F19: 0 | G19: 0
F20: Sub Total | G20: 2752.2
A21: 9.1 | B21: 1.1.7 | C21: Encargos sociais | D21: % | E21: 0.6929 | F21: 2752.2 | G21: 1906.9994
F22: Sub Total | G22: 4659.1994
A23: 2.2 | B23: 1.1.8 | C23: Número de motoristas | D23: homem | E23: 1 | F23: 4659.1994 | G23: 4659.1994
A24: 2.2 | B24: 1.1.9 | C24: Reserva técnica | D24: homem | E24: 0 | F24: 4659.1994 | G24: 0
A25: 7.1 | B25: 1.1.10 | C25: Vale transporte (Excedente de 6% do valor do salário base) | D25: un. | E25: 52 | F25: 0 | G25: 0
A26: 8.1 | B26: 1.1.11 | C26: Vale alimentação | D26: un. | E26: 26 | F26: 18.8 | G26: 488.8
B27: 1.1.12 | C27: Cesta básica | D27: homem | E27: 1 | F27: 120 | G27: 120
B28: 1.1.13 | C28: Seguro de Vida | D28: un. | E28: 1 | F28: 18.28 | G28: 18.28
B29: 1.1.14 | C29: Valor Total dos Benefícios | D29: un. | E29: 1 | F29: 627.08 | G29: 627.08
F30: Total Motorista diurno | G30: 5286.2794
B32: 1.2 | C32: Coletor diurno
A34: 5.1 | B34: 1.2.1 | C34: Horas normais | D34: hora | E34: 220 | F34: 9.4650455 | G34: 2082.31
A35: 1.1 | B35: 1.2.2 | C35: Salário mínimo nacional | D35: R$ | F35: 1621 | G35: 0
A36: 1.1 | B36: 1.2.3 | C36: Adicional de Insalubridade | D36: % | E36: 0.4 | F36: 2082.31 | G36: 832.924
G37: 2915.234
A38: 3.1 | B38: 1.2.4 | C38: Hora Extra 50% | D38: hora | E38: 0 | F38: 14.197568 | G38: 0
A39: 4.1 | B39: 1.2.5 | C39: Hora Extra 100% | D39: hora | E39: 0 | F39: 18.930091 | G39: 0
B40: 1.2.6 | C40: Descanso semanal remunerado (DSR) - hora extra | D40: R$ | F40: 0 | G40: 0
F41: Sub Total | G41: 2915.234
A42: 9.1 | B42: 1.2.7 | C42: Encargos sociais | D42: % | E42: 0.6903 | F42: 2915.234 | G42: 2012.386
F43: Sub Total | G43: 4927.62
A44: 2.2 | B44: 1.2.8 | C44: Número de coletores | D44: homem | E44: 2 | F44: 4927.62 | G44: 9855.2401
A45: 2.2 | B45: 1.2.9 | C45: Reserva técnica | D45: homem | E45: 0 | F45: 4927.62 | G45: 0
A46: 7.1 | B46: 1.2.10 | C46: Vale transporte (Excedente de 6% do valor do salário base) | D46: un. | E46: 52 | F46: 0 | G46: 0
A47: 8.1 | B47: 1.2.11 | C47: Vale alimentação + Vale Lanche | D47: un. | E47: 26 | F47: 32.9832 | G47: 857.5632
B48: 1.2.12 | C48: Plano de Benefício Familiar | D48: homem | E48: 1 | F48: 25.52 | G48: 25.52
B49: 1.2.13 | C49: Valor Total dos Benefícios | D49: un. | E49: 2 | F49: 883.0832 | G49: 1766.1664
F50: Total Coletor diurno | G50: 11621.406
...

Sheet 6. DISPOSIÇÃO FINAL DE REJEITOS
B7: PLANILHA DE COMPOSIÇÃO DE PREÇOS PARA DISPOSIÇÃO FINAL
B8: item | C8: Discriminação | D8: Unidade | E8: Quantidade | F8: R$ unitário | G8: R$ total
B9: 1 | C9: Disposição final
B10: 1.1 | C10: Disposição final de rejeitos | D10: ton | E10: 29.735 | F10: 196 | H10: 5828.06
C11: Total dos Custos Diretos | H11: 5828.06
B13: 2 | C13: Bonificações e Despesas Indiretas (BDI)
B14: item | C14: Discriminação | D14: Unidade | E14: Valor | F14: R$ total
B15: 2.1 | C15: Administração Central (AC) | D15: % | E15: 0.0508
B16: 2.2 | C16: Despesas Financeiras (DF) | D16: % | E16: 0.0099
B17: 2.3 | C17: Seguros, Riscos e Garantias (S) | D17: % | E17: 0.0133
B18: 2.4 | C18: ISS | D18: % | E18: 0.03
B19: 2.5 | C19: PIS E COFINS | D19: % | E19: 0.0365
B20: 2.6 | C20: Lucro (L) | D20: % | E20: 0.1085
B21: 2.7 | C21: BDI ADOTADO | D21: % | E21: 0.2761
C22: Total de bonificações e despesas indiretas (BDI) | F22: 1609.1274
C25: Total Geral Mensal | F25: 7437.19
C26: Quantidade (unidade / mês) | F26: 1
C27: Preço Unitário (R$ / unidade) | F27: 7437.19

Sheet 7. VOLUMOSOS
B7: PLANILHA DE COMPOSIÇÃO DE PREÇOS COLETA VOLUMOSOS
B8: item | C8: Discriminação | D8: Unidade | E8: Quantidade | F8: R$ unitário | G8: R$ total
B9: 1. | C9: Mão de Obra Direta
B11: 1.1 | C11: Motorista diurno
A13: 5.1 | B13: 1.1.1 | C13: Horas normais | D13: hora | E13: 220 | F13: 11.036364 | G13: 2428
A14: 1.1 | B14: 1.1.2 | C14: Salário mínimo nacional | D14: R$ | F14: 1621 | G14: 0
A15: 1.1 | B15: 1.1.3 | C15: Adicional de Insalubridade | D15: % | E15: 0.2 | F15: 1621 | G15: 324.2
G16: 2752.2
A17: 3.1 | B17: 1.1.4 | C17: Hora Extra 50% | D17: hora | E17: 0 | F17: 16.554545 | G17: 0
A18: 4.1 | B18: 1.1.5 | C18: Hora Extra 100% | D18: hora | E18: 0 | F18: 22.072727 | G18: 0
B19: 1.1.6 | C19: Descanso semanal remunerado (DSR) - hora extra | D19: R$ | F19: 0 | G19: 0
F20: Sub Total | G20: 2752.2
A21: 9.1 | B21: 1.1.7 | C21: Encargos sociais | D21: % | E21: 0.6929 | F21: 2752.2 | G21: 1906.9994
F22: Sub Total | G22: 4659.1994
A23: 2.2 | B23: 1.1.8 | C23: Número de motoristas | D23: homem | E23: 1 | F23: 4659.1994 | G23: 4659.1994
A24: 2.2 | B24: 1.1.9 | C24: Reserva técnica | D24: homem | E24: 0 | F24: 4659.1994 | G24: 0
A25: 7.1 | B25: 1.1.10 | C25: Vale transporte (Excedente de 6% do valor do salário base) | D25: un. | E25: 52 | F25: 0 | G25: 0
A26: 8.1 | B26: 1.1.11 | C26: Vale alimentação | D26: un. | E26: 26 | F26: 18.8 | G26: 488.8
B27: 1.1.12 | C27: Cesta básica | D27: homem | E27: 1 | F27: 120 | G27: 120
B28: 1.1.13 | C28: Seguro de Vida | D28: un. | E28: 1 | F28: 18.28 | G28: 18.28
B29: 1.1.14 | C29: Valor Total dos Benefícios | D29: un. | E29: 1 | F29: 627.08 | G29: 627.08
F30: Total Motorista diurno | G30: 5286.2794
B32: 1.2 | C32: Coletor diurno
A34: 5.1 | B34: 1.2.1 | C34: Horas normais | D34: hora | E34: 220 | F34: 9.4650455 | G34: 2082.31
A35: 1.1 | B35: 1.2.2 | C35: Salário mínimo nacional | D35: R$ | F35: 1621 | G35: 0
A36: 1.1 | B36: 1.2.3 | C36: Adicional de Insalubridade | D36: % | E36: 0.4 | F36: 2082.31 | G36: 832.924
G37: 2915.234
A38: 3.1 | B38: 1.2.4 | C38: Hora Extra 50% | D38: hora | E38: 0 | F38: 14.197568 | G38: 0
A39: 4.1 | B39: 1.2.5 | C39: Hora Extra 100% | D39: hora | E39: 0 | F39: 18.930091 | G39: 0
B40: 1.2.6 | C40: Descanso semanal remunerado (DSR) - hora extra | D40: R$ | F40: 0 | G40: 0
F41: Sub Total | G41: 2915.234
A42: 9.1 | B42: 1.2.7 | C42: Encargos sociais | D42: % | E42: 0.6903 | F42: 2915.234 | G42: 2012.386
F43: Sub Total | G43: 4927.62
A44: 2.2 | B44: 1.2.8 | C44: Número de coletores | D44: homem | E44: 1 | F44: 4927.62 | G44: 4927.62
A45: 2.2 | B45: 1.2.9 | C45: Reserva técnica | D45: homem | E45: 0 | F45: 4927.62 | G45: 0
A46: 7.1 | B46: 1.2.10 | C46: Vale transporte (Excedente de 6% do valor do salário base) | D46: un. | E46: 52 | F46: 0 | G46: 0
A47: 8.1 | B47: 1.2.11 | C47: Vale alimentação + Vale Lanche | D47: un. | E47: 26 | F47: 32.9832 | G47: 857.5632
B48: 1.2.12 | C48: Plano de Benefício Familiar | D48: homem | E48: 1 | F48: 25.52 | G48: 25.52
B49: 1.2.13 | C49: Valor Total dos Benefícios | D49: un. | E49: 1 | F49: 883.0832 | G49: 883.0832
F50: Total Coletor diurno | G50: 5810.7032
...

Sheet 8. ADMINISTRAÇÃO LOCAL
C8: Despesas administrativas locais
C9: Descrição | D9: Despesas Administrativas (R$) | E9: Despesas Administrativas com fator de utilização (R$)
C10: Locação do imóvel | D10: 5000 | E10: 909.09091
C11: Água, luz , telefone, internet | D11: 818.21181 | E11: 148.76578
C12: Telefones celulares | D12: 570 | E12: 103.63636
C13: Despesas com pessoal adm (salários, encargos, benefícios) | D13: 13182.215 | E13: 2396.7663
C14: Despesas gerais (limpeza, material de expediente e diversos) | D14: 1081 | E14: 196.54545
C15: TOTAL | D15: 20651.427 | E15: 3754.8049
C18: Distribuição para cada serviço
C19: Serviço | D19: Valor (R$) | E19: Percentual (%)
C20: Coleta Comum | D20: 1877.4024 | E20: 0.5
C21: Coleta Seletiva | D21: 1314.1817 | E21: 0.35
C22: Volumosos | D22: 563.22073 | E22: 0.15
D23: 3754.8049 | E23: 1

Sheet PESSOAL ADM 
B7: PLANILHA DE COMPOSIÇÃO DE PREÇOS ADMINISTRATIVO
B8: item | C8: Discriminação | D8: Unidade | E8: Quantidade | F8: R$ unitário | G8: R$ total
B10: 1 | C10: Gerente
B11: 1.1 | C11: Horas normais | D11: hora | E11: 220 | F11: 23.140591 | G11: 5090.93
F12: Sub Total | G12: 5090.93
B13: 1.2 | C13: Encargos sociais | D13: % | E13: 0.6929 | F13: 5090.93 | G13: 3527.5054
F14: Sub Total | G14: 8618.4354
B15: 1.3 | C15: Número de coordenador | D15: homem | E15: 1 | F15: 8618.4354 | G15: 8618.4354
B16: 1.4 | C16: Vale transporte (Excedente de 6% do valor do salário base) | D16: un. | E16: 52 | F16: 0 | G16: 0
B17: 1.5 | C17: Vale alimentação | D17: un. | E17: 26 | F17: 18.8 | G17: 488.8
B18: 1.6 | C18: Cesta básica | D18: homem | E18: 1 | F18: 120 | G18: 120
B19: 1.7 | C19: Seguro de vida | D19: homem | E19: 1 | F19: 18.28 | G19: 18.28
F20: Total | G20: 9245.5154
B22: 1.3 | C22: Motorista noturno
B24: 1.3.0 | C24: Horas normais | D24: hora | E24: 0 | F24: #DIV/0! | G24: #DIV/0!
B25: 1.3.0 | C25: Adicional noturno | D25: % | E25: 0
B26: 1.3.0 | C26: Adicional noturno (horas trabalhadas) | D26: hora | E26: 0
B27: 1.3.1 | C27: Adicional noturno (horas contabilizadas) | D27: hora | E27: 0 | F27: #DIV/0! | G27: #DIV/0!
B29: 1.3.1 | C29: Salário mínimo nacional | D29: R$ | F29: 1621 | G29: 0
B30: 1.3.1 | C30: Base de cálculo de insalubridade | E30: 1
B31: 1.3.1 | C31: Adicional de Insalubridade | D31: % | E31: 0 | F31: #DIV/0! | G31: #DIV/0!
G32: #DIV/0!
B33: 1.3.1 | C33: Hora Extra 50% | D33: hora | E33: 0 | F33: #DIV/0! | G33: #DIV/0!
C34: Hora Extra 50% noturna | D34: hora | E34: 0 | F34: #DIV/0! | G34: #DIV/0!
B35: 1.3.1 | C35: Hora Extra 100% | D35: hora | E35: 0 | F35: #DIV/0! | G35: #DIV/0!
B36: 1.3.1 | C36: Hora Extra 100% noturna | D36: hora | E36: 0 | F36: #DIV/0! | G36: #DIV/0!
B37: 1.3.1 | C37: Descanso semanal remunerado (DSR) - hora extra | D37: R$ | F37: #DIV/0! | G37: #DIV/0!
F38: Sub Total | G38: #DIV/0!
B39: 1.3.1 | C39: Encargos sociais | D39: % | E39: 0 | F39: #DIV/0! | G39: #DIV/0!
F40: Sub Total | G40: #DIV/0!
B41: 1.3.1 | C41: Número de motoristas | D41: homem | E41: 0 | F41: #DIV/0! | G41: #DIV/0!
B42: 1.3.1 | C42: Reserva técnica | D42: homem | E42: 0 | F42: #DIV/0! | G42: #DIV/0!
B43: 1.3.2 | C43: Vale transporte (Excedente de 6% do valor do salário base) | D43: un. | E43: 0 | F43: 0 | G43: #DIV/0!
B44: 1.3.2 | C44: Número de motoristas - com reserva | D44: homem | E44: 0 | F44: #DIV/0! | G44: #DIV/0!
B45: 1.3.3 | C45: Vale alimentação | D45: un. | E45: 0 | F45: 18.8 | G45: 0
B46: 1.3.4 | C46: Número de motoristas - com reserva | D46: homem | E46: 0 | F46: 0 | G46: 0
B47: 1.3.5 | C47: Cesta básica | D47: homem | E47: 0 | F47: 120 | G47: 0
F48: Total Motorista noturno | G48: #DIV/0!
B50: 1.4 | C50: Coletor noturno
B51: 2 | C51: Auxiliar Administrativo
...

Sheet ORÇAMENTOS
A2: COLETA CONVENCIONAL
A3: VEÍCULO / EQUIPAMENTO | B3: DESCRIÇÃO | D3: PREÇO ADOTADO (R$) | E3: FIPE | F3: USIMECA | G3: DAMAEQ | H3: PLANALTO | I3: SITE | J3: PREÇO MÉDIO
A4: Caminhão | B4: Atego 1719 4x2 2p (diesel)(E6) | C4: zero km | D4: 535854 | E4: 535854 | J4: 535854
A5: Caçamba Compactadora | B5: Caçamba Coletora Compactadora 15m³ | C5: 15m³ | D5: 236866.67 | F5: 247000 | G5: 250000 | H5: 267600 | J5: 254866.67
A6: Coleta Mecanizada | B6: Dispositivo hidráulico com braços | C6: - | D6: 18666.667 | F6: 18000 | G6: 22000 | H6: 18000 | J6: 19333.333
A9: MECANIZADA
A10: VEÍCULO / EQUIPAMENTO | B10: DESCRIÇÃO | E10: FIPE | F10: USIMECA | G10: DAMAEQ | H10: PLANALTO | I10: SITE/COTAÇÃO | J10: PREÇO MÉDIO
A11: Veículo | B11: HR 2.5 4WD Diesel | C11: zero km | D11: 180823 | E11: 180823 | J11: 180823
A12: Equipamento | B12: Mini Guindaste - Extensor prolongador lança Mini, Sapata dupla CMG11 | D12: 42508 | J12: 42508
A13: Container | B13: Contêiner 1000 L | C13: 1m³ | D13: 1960 | G13: 2500 | H13: 1919.25 | J13: 2209.625
A15: COLETA SELETIVA
A16: VEÍCULO / EQUIPAMENTO | B16: DESCRIÇÃO | E16: FIPE | F16: USIMECA | G16: DAMAEQ | H16: PLANALTO | I16: SITE | J16: PREÇO MÉDIO
A17: Caminhão | B17: Atego 1719 4x2 2p (diesel)(E6) | C17: zero km | D17: 535854 | E17: 535854 | J17: 535854
A18: Caçamba Compactadora | B18: Caçamba Coletora Compactadora 15m³ | C18: 15m³ | D18: 236866.67 | F18: 247000 | G18: 250000 | H18: 267600 | J18: 254866.67
A19: Coleta Mecanizada | B19: Dispositivo hidráulico com braços | C19: - | D19: 18666.667 | F19: 18000 | G19: 22000 | H19: 18000 | J19: 19333.333
A21: FROTA AUXILIAR
A22: VEÍCULO / EQUIPAMENTO | B22: DESCRIÇÃO | E22: FIPE
A23: Veículo utilitário | B23: Strada Endurance 1.3 Flex 8V CS Plus | C23: zero km | D23: 110530 | E23: 110530
A24: Veículo utilitário | B24: Strada Endurance 1.3 Flex 8V CS Plus | C24: zero km | D24: 115638 | E24: 115638
A25: Veículo utilitário | B25: Strada Endurance 1.3 Flex 8V CS Plus | C25: zero km | D25: 115639 | E25: 115639
A26: Veículo utilitário | B26: Strada Endurance 1.3 Flex 8V CS Plus | C26: zero km | D26: 115640 | E26: 115640
A27: Veículo utilitário | B27: Strada Endurance 1.3 Flex 8V CS Plus | C27: zero km | D27: 115641 | E27: 115641
A28: Veículo utilitário | B28: Strada Endurance 1.3 Flex 8V CS Plus | C28: zero km | D28: 115642 | E28: 115642
A29: Moto | B29: CG 160 START | C29: zero km | D29: 20694 | E29: 20694
A31: COLETA VOLUMOSOS
A32: VEÍCULO / EQUIPAMENTO | B32: DESCRIÇÃO | D32: PREÇO 1 | E32: PREÇO 2 | F32: PREÇO 3
A33: Chassi - Atego 2433 6x2 | B33: unidade | D33: 635856 | G33: 635856
A34: Caçamba de 30m³ com equi. Roll On Roll Off e Munck | B34: unidade | D34: 316496.67 | G34: 316496.67
A35: Caçamba Estacionária 5m³ | B35: unidade | D35: 7850 | E35: 6652.35 | G35: 7251.175
A38: LICENCIAMENTO
A39: DESCRIÇÃO | D39: PREÇO 1 | E39: PREÇO 2 | F39: PREÇO 3 | G39: PREÇO MÉDIO
A40: Seguro contra terceiros | B40: unidade | D40: 5008.85 | E40: 2447.33 | F40: 7859.4 | G40: 5105.1933
A42: PNEUS/SERVIÇOS
A43: DESCRIÇÃO | D43: PREÇO 1 | E43: PREÇO 2 | F43: PREÇO 3 | G43: PREÇO MÉDIO
A44: Pneu | B44: unidade | D44: 1559 | E44: 1495 | F44: 1585 | G44: 1546.3333
A45: Recapagem | B45: unidade | D45: 740 | E45: 800 | F45: 880 | G45: 806.66667
A46: Pneu dianteiro - Retro 12.5/80-18 PR | B46: unidade | D46: 1109 | E46: 1117.97 | F46: 1245.9 | G46: 1157.6233
A47: Pneu traseiro - Retro 19.5L-24 12 PR | B47: unidade | D47: 2164 | E47: 2050.9 | F47: 2039.9 | G47: 2084.9333
A48: Jogo de pneu - utilitario | B48: unidade | D48: 419.84 | E48: 231.66 | F48: 213.95 | G48: 288.48333
A49: Jogo de pneu dianteiro - moto | B49: unidade | D49: 139 | E49: 135.11 | F49: 151.93 | G49: 142.01333
...

Sheet INSAL. SEL.
B7: PLANILHA DE COMPOSIÇÃO DE PREÇOS INSALUBRIDADE COLETA SELETIVA
B8: item | C8: Discriminação | D8: Unidade | E8: Quantidade | F8: R$ unitário | G8: R$ total
B9: 1. | C9: Mão de Obra Direta
B11: 1.1 | C11: Coletor diurno
A13: 5.1 | B13: 1.1.1 | C13: Horas normais | D13: hora | E13: 220 | F13: 9.4650455 | G13: 2082.31
A14: 1.1 | B14: 1.1.2 | C14: Salário mínimo nacional | D14: R$ | F14: 1621 | G14: 0
A15: 1.1 | B15: 1.1.2 | C15: Base de cálculo de insalubridade | E15: 2
A16: 1.1 | B16: 1.1.3 | C16: Adicional de Insalubridade | D16: % | E16: 0.4 | F16: 2082.31 | G16: 832.924
G17: 2915.234
A18: 3.1 | B18: 1.1.4 | C18: Hora Extra 50% | D18: hora | E18: 0 | F18: 14.197568 | G18: 0
A19: 4.1 | B19: 1.1.5 | C19: Hora Extra 100% | D19: hora | E19: 0 | F19: 18.930091 | G19: 0
B20: 1.1.6 | C20: Descanso semanal remunerado (DSR) - hora extra | D20: R$ | F20: 0 | G20: 0
F21: Sub Total | G21: 2915.234
B23: 1.2 | C23: Coletor noturno
A25: 5.1 | B25: 1.2.1 | C25: Horas normais | D25: hora | E25: 220 | F25: 9.4650455 | G25: 2082.31
A26: 10.1 | B26: 1.2.1 | C26: Adicional noturno | D26: % | E26: 0.2
A27: 10.1 | B27: 1.2.1 | C27: Adicional noturno (horas trabalhadas) | D27: hora | E27: 0
B28: 1.2.2 | C28: Adicional noturno (horas contabilizadas) | D28: hora | E28: 0 | F28: 1.8930091 | G28: 0
A30: 1.1 | B30: 1.2.3 | C30: Salário mínimo nacional | D30: R$ | F30: 1621 | G30: 0
A31: 1.1 | B31: 1.2.3 | C31: Base de cálculo de insalubridade | E31: 2
A32: 1.1 | B32: 1.2.4 | C32: Adicional de Insalubridade | D32: % | E32: 0.4 | F32: 2082.31 | G32: 832.924
G33: 2915.234
A34: 3.1 | B34: 1.2.5 | C34: Hora Extra 50% | D34: hora | E34: 0 | F34: 14.197568 | G34: 0
A35: 3.1 | B35: 1.2.6 | C35: Hora Extra 50% noturna | D35: hora | E35: 0 | F35: 17.037082 | G35: 0
A36: 4.1 | B36: 1.2.7 | C36: Hora Extra 100% | D36: hora | E36: 0 | F36: 18.930091 | G36: 0
A37: 4.1 | B37: 1.2.8 | C37: Hora Extra 100% noturna | D37: hora | E37: 0 | F37: 22.716109 | G37: 0
B38: 1.2.9 | C38: Descanso semanal remunerado (DSR) - hora extra | D38: R$ | F38: 0 | G38: 0
F39: Sub Total | G39: 2915.234

Sheet INSAL. COM.
B7: PLANILHA DE COMPOSIÇÃO DE PREÇOS INSALUBRIDADE COLETA COMUM
B8: item | C8: Discriminação | D8: Unidade | E8: Quantidade | F8: R$ unitário | G8: R$ total
B9: 1. | C9: Mão de Obra Direta
B11: 1.1 | C11: Coletor diurno
A13: 5.1 | B13: =IF(C13="","",$B$11&"."&COUNT($F$13:F13)) -> 1.1.1 | C13: Horas normais | D13: hora | E13: =SUMIFS('2. DADOS DE ENTRADA'!C:C,'2. DADOS DE ENTRADA'!A:A,'INSAL. COM.'!A13,'2. DADOS DE ENTRADA'!B:B,'INSAL. COM.'!$C$11) -> 220 | F13: ='3. PREÇOS UNITÁRIOS'!$D$26/'INSAL. COM.'!E13 -> 9.4650455 | G13: =E13*F13 -> 2082.31
A14: 1.1 | B14: =IF(C14="","",$B$11&"."&COUNT($F$13:F14)) -> 1.1.2 | C14: Salário mínimo nacional | D14: R$ | F14: ='3. PREÇOS UNITÁRIOS'!$D$22 -> 1621 | G14: 0
A15: 1.1 | B15: =IF(C15="","",$B$11&"."&COUNT($F$13:F15)) -> 1.1.2 | C15: Base de cálculo de insalubridade | E15: =SUMIFS('2. DADOS DE ENTRADA'!D:D,'2. DADOS DE ENTRADA'!A:A,'INSAL. COM.'!A15,'2. DADOS DE ENTRADA'!B:B,'INSAL. COM.'!$C$11) -> 2
A16: 1.1 | B16: =IF(C16="","",$B$11&"."&COUNT($F$13:F16)) -> 1.1.3 | C16: Adicional de Insalubridade | D16: % | E16: =SUMIFS('2. DADOS DE ENTRADA'!C:C,'2. DADOS DE ENTRADA'!A:A,'INSAL. COM.'!A16,'2. DADOS DE ENTRADA'!B:B,'INSAL. COM.'!$C$11) -> 0.4 | F16: =IF(E15=2,SUM((G13+G18+G19+G20)),IF(E15=1,(SUM((G13+G18+G19+G20)))*F14/G13,0)) -> 2082.31 | G16: =E16*F16 -> 832.924
B17: =IF(C17="","",$B$11&"."&COUNT($F$13:F17)) | G17: =SUM(G13:G16) -> 2915.234
A18: 3.1 | B18: =IF(C18="","",$B$11&"."&COUNT($F$13:F18)) -> 1.1.4 | C18: Hora Extra 50% | D18: hora | E18: =SUMIFS('2. DADOS DE ENTRADA'!D:D,'2. DADOS DE ENTRADA'!A:A,'INSAL. COM.'!A18,'2. DADOS DE ENTRADA'!B:B,'INSAL. COM.'!C11) -> 0 | F18: =((G13)/E13)*1.5 -> 14.197568 | G18: =(E18)*F18 -> 0
A19: 4.1 | B19: =IF(C19="","",$B$11&"."&COUNT($F$13:F19)) -> 1.1.5 | C19: Hora Extra 100% | D19: hora | E19: =SUMIFS('2. DADOS DE ENTRADA'!D:D,'2. DADOS DE ENTRADA'!A:A,'INSAL. COM.'!A19,'2. DADOS DE ENTRADA'!B:B,'INSAL. COM.'!C11) -> 0 | F19: =((G13)/E13)*2 -> 18.930091 | G19: =(E19)*F19 -> 0
B20: =IF(C20="","",$B$11&"."&COUNT($F$13:F20)) -> 1.1.6 | C20: Descanso semanal remunerado (DSR) - hora extra | D20: R$ | F20: =63/302*(SUM(G18:G19)) -> 0 | G20: =F20 -> 0
B21: =IF(C21="","",$B$11&"."&COUNT($F$13:F21)) | F21: Sub Total | G21: =G17+G18+G19+G20 -> 2915.234
B22: =IF(C22="","",$B$11&"."&COUNT($F$13:F22)) | F22: Total Coletor diurno | G22: =G21 -> 2915.234
B24: 1.2 | C24: Coletor noturno
A26: 5.1 | B26: =IF(C26="","",$B$24&"."&COUNT($F$26:F26)) -> 1.2.1 | C26: Horas normais | D26: hora | E26: =SUMIFS('2. DADOS DE ENTRADA'!C:C,'2. DADOS DE ENTRADA'!A:A,'INSAL. COM.'!A26,'2. DADOS DE ENTRADA'!B:B,'INSAL. COM.'!$C$24) -> 220 | F26: ='3. PREÇOS UNITÁRIOS'!$D$26/'INSAL. COM.'!E13 -> 9.4650455 | G26: =E26*F26 -> 2082.31
A27: 10.1 | B27: =IF(C27="","",$B$24&"."&COUNT($F$26:F27)) -> 1.2.1 | C27: Adicional noturno | D27: % | E27: =SUMIFS('2. DADOS DE ENTRADA'!C:C,'2. DADOS DE ENTRADA'!A:A,'INSAL. COM.'!A27,'2. DADOS DE ENTRADA'!B:B,'INSAL. COM.'!$C$24) -> 0.2
A28: 10.1 | B28: =IF(C28="","",$B$24&"."&COUNT($F$26:F28)) -> 1.2.1 | C28: Adicional noturno (horas trabalhadas) | D28: hora | E28: =SUMIFS('2. DADOS DE ENTRADA'!D:D,'2. DADOS DE ENTRADA'!A:A,'INSAL. COM.'!A28,'2. DADOS DE ENTRADA'!B:B,'INSAL. COM.'!C24) -> 98.680357
B29: =IF(C29="","",$B$24&"."&COUNT($F$26:F29)) -> 1.2.2 | C29: Adicional noturno (horas contabilizadas) | D29: hora | E29: =E28*(8/7) -> 112.77755 | F29: =F26*E27 -> 1.8930091 | G29: =E29*F29 -> 213.48893
B30: =IF(C30="","",$B$24&"."&COUNT($F$26:F30)) | N30: v
A31: 1.1 | B31: =IF(C31="","",$B$24&"."&COUNT($F$26:F31)) -> 1.2.3 | C31: Salário mínimo nacional | D31: R$ | F31: ='3. PREÇOS UNITÁRIOS'!$D$22 -> 1621 | G31: 0
A32: 1.1 | B32: =IF(C32="","",$B$24&"."&COUNT($F$26:F32)) -> 1.2.3 | C32: Base de cálculo de insalubridade | E32: =SUMIFS('2. DADOS DE ENTRADA'!D:D,'2. DADOS DE ENTRADA'!A:A,'INSAL. COM.'!A32,'2. DADOS DE ENTRADA'!B:B,'INSAL. COM.'!$C$24) -> 2
A33: 1.1 | B33: =IF(C33="","",$B$24&"."&COUNT($F$26:F33)) -> 1.2.4 | C33: Adicional de Insalubridade | D33: % | E33: =SUMIFS('2. DADOS DE ENTRADA'!C:C,'2. DADOS DE ENTRADA'!A:A,'INSAL. COM.'!A33,'2. DADOS DE ENTRADA'!B:B,'INSAL. COM.'!$C$24) -> 0.4 | F33: =IF(E32=2,SUM((G26+G29+G35+G36+G37+G38+G39)),IF(E32=1,(SUM((G26+G29+G35+G36+G37+G38+G39)))*F31/G26,0)) -> 2295.7989 | G33: =E33*F33 -> 918.31957
B34: =IF(C34="","",$B$24&"."&COUNT($F$26:F34)) | G34: =SUM(G26:G33) -> 3214.1185
A35: 3.1 | B35: =IF(C35="","",$B$24&"."&COUNT($F$26:F35)) -> 1.2.5 | C35: Hora Extra 50% | D35: hora | E35: =SUMIFS('2. DADOS DE ENTRADA'!D:D,'2. DADOS DE ENTRADA'!A:A,'INSAL. COM.'!A35,'2. DADOS DE ENTRADA'!B:B,'INSAL. COM.'!C24) -> 0 | F35: =((G26)/E26)*1.5 -> 14.197568 | G35: =E35*F35 -> 0
A36: 3.1 | B36: =IF(C36="","",$B$24&"."&COUNT($F$26:F36)) -> 1.2.6 | C36: Hora Extra 50% noturna | D36: hora | E36: =SUMIFS('2. DADOS DE ENTRADA'!E:E,'2. DADOS DE ENTRADA'!A:A,'INSAL. COM.'!A36,'2. DADOS DE ENTRADA'!B:B,'INSAL. COM.'!C24)*(8/7) -> 0 | F36: =((G26)/E26)*1.5*1.2 -> 17.037082 | G36: =E36*F36 -> 0
A37: 4.1 | B37: =IF(C37="","",$B$24&"."&COUNT($F$26:F37)) -> 1.2.7 | C37: Hora Extra 100% | D37: hora | E37: =SUMIFS('2. DADOS DE ENTRADA'!D:D,'2. DADOS DE ENTRADA'!A:A,'INSAL. COM.'!A37,'2. DADOS DE ENTRADA'!B:B,'INSAL. COM.'!C24) -> 0 | F37: =((G26)/E26)*2 -> 18.930091 | G37: =E37*F37 -> 0
A38: 4.1 | B38: =IF(C38="","",$B$24&"."&COUNT($F$26:F38)) -> 1.2.8 | C38: Hora Extra 100% noturna | D38: hora | E38: =SUMIFS('2. DADOS DE ENTRADA'!E:E,'2. DADOS DE ENTRADA'!A:A,'INSAL. COM.'!A38,'2. DADOS DE ENTRADA'!B:B,'INSAL. COM.'!C24)*(8/7) -> 0 | F38: =(((G26)/E26*2*1.2)) -> 22.716109 | G38: =E38*F38 -> 0
B39: =IF(C39="","",$B$24&"."&COUNT($F$26:F39)) -> 1.2.9 | C39: Descanso semanal remunerado (DSR) - hora extra | D39: R$ | F39: =63/302*(SUM(G35:G38)) -> 0 | G39: =F39 -> 0
B40: =IF(C40="","",$B$24&"."&COUNT($F$26:F40)) | F40: Sub Total | G40: =G34+G35+G36+G37+G39+G38 -> 3214.1185
F41: Total Coletor noturno | G41: =G40 -> 3214.1185
