Workbook

Sheet Dados_2
B1: Item | C1: Quantidade | D1: Gaiardo E Gaiardo LTDA | E1: Dalton Confecções LTDA | F1: Elenita Ida Tumellero Conti LTDa | G1: Licitacon/PNPC | H1: Licitacon/PNPC | I1: Valor Médio Unitário | J1: Valor Total
A2: 1 | B2: Camiseta Manga Longa Tam. 1 | C2: 21 | D2: 45 | E2: 48 | F2: 40 | G2: 28 | I2: =(D2+E2+F2+G2)/4 -> 40.25 | J2: =SUM(C2*I2) -> 845.25
A3: 2 | B3: Camiseta Manga Longa Tam. 2 | C3: 21 | D3: 45 | E3: 48 | F3: 40 | G3: 39.17 | H3: 39.9 | I3: =(D3+E3+F3+G3+H3)/5 -> 42.414 | J3: =SUM(C3*I3) -> 890.694
A4: 3 | B4: Camiseta Manga Longa Tam. 4 | C4: 108 | D4: 45 | E4: 48 | F4: 40 | G4: 39.17 | H4: 39.9 | I4: =(D4+E4+F4+G4+H4)/5 -> 42.414 | J4: =SUM(C4*I4) -> 4580.712
A5: 4 | B5: Camiseta Manga Longa Tam. 6 | C5: 84 | D5: 55 | E5: 58 | F5: 50 | G5: 39.17 | H5: 39.9 | I5: =(D5+E5+F5+G5+H5)/5 -> 48.414 | J5: =SUM(C5*I5) -> 4066.776
A6: 5 | B6: Camiseta Manga Longa Tam. 8 | C6: 123 | D6: 55 | E6: 58 | F6: 50 | G6: 39.17 | H6: 39.9 | I6: =(D6+E6+F6+G6+H6)/5 -> 48.414 | J6: =SUM(C6*I6) -> 5954.922
A7: 6 | B7: Camiseta Manga Longa Tam. 10 | C7: 72 | D7: 55 | E7: 58 | F7: 50 | G7: 39.17 | H7: 46.9 | I7: =(D7+E7+F7+G7+H7)/5 -> 49.814 | J7: =SUM(C7*I7) -> 3586.608
A8: 7 | B8: Camiseta Manga Longa Tam. 12 | C8: 90 | D8: 63 | E8: 66 | F8: 58 | G8: 39.17 | H8: 46.9 | I8: =(D8+E8+F8+G8+H8)/5 -> 54.614 | J8: =SUM(C8*I8) -> 4915.26
A9: 8 | B9: Camiseta Manga Longa Tam. 14 | C9: 105 | D9: 63 | E9: 66 | F9: 58 | G9: 39.17 | H9: 46.9 | I9: =(D9+E9+F9+G9+H9)/5 -> 54.614 | J9: =SUM(C9*I9) -> 5734.47
A10: 9 | B10: Camiseta Manga Longa Tam. 16 | C10: 78 | D10: 63 | E10: 66 | F10: 58 | G10: 39.17 | H10: 46.9 | I10: =(D10+E10+F10+G10+H10)/5 -> 54.614 | J10: =SUM(C10*I10) -> 4259.892
A11: 10 | B11: Camiseta Manga Longa Tam. P | C11: 78 | D11: 80 | E11: 83 | F11: 75 | G11: 39.17 | H11: 35.49 | I11: =(D11+E11+F11+G11+H11)/5 -> 62.532 | J11: =SUM(C11*I11) -> 4877.496
A12: 11 | B12: Camiseta Manga Longa Tam. M | C12: 102 | D12: 80 | E12: 83 | F12: 75 | G12: 39.17 | H12: 35.49 | I12: =(D12+E12+F12+G12+H12)/5 -> 62.532 | J12: =SUM(C12*I12) -> 6378.264
A13: 12 | B13: Camiseta Manga Longa Tam. G | C13: 21 | F13: 75 | G13: 39.17 | H13: 35.49 | I13: =(F13+G13+H13)/3 -> 49.886667 | J13: =SUM(C13*I13) -> 1047.62
A14: 13 | B14: Camiseta Manga Longa Tam. GG | C14: 18 | F14: 75 | G14: 39.17 | H14: 35.49 | I14: =(F14+G14+H14)/3 -> 49.886667 | J14: =SUM(C14*I14) -> 897.96
A15: 14 | B15: Camiseta Manga Curta Tam. 1 | C15: 33 | D15: 40 | E15: 43 | F15: 35 | G15: 29 | I15: =(D15+E15+F15+G15)/4 -> 36.75 | J15: =SUM(C15*I15) -> 1212.75
A16: 15 | B16: Camiseta Manga Curta Tam. 2 | C16: 33 | D16: 40 | E16: 43 | F16: 35 | G16: 34.33 | H16: 29 | I16: =(D16+E16+F16+G16+H16)/5 -> 36.266 | J16: =SUM(C16*I16) -> 1196.778
A17: 16 | B17: Camiseta Manga Curta Tam. 4 | C17: 186 | D17: 40 | E17: 43 | F17: 35 | G17: 34.33 | H17: 29 | I17: =(D17+E17+F17+G17+H17)/5 -> 36.266 | J17: =SUM(C17*I17) -> 6745.476
A18: 17 | B18: Camiseta Manga Curta Tam. 6 | C18: 153 | D18: 45 | E18: 48 | F18: 40 | G18: 34.33 | H18: 29 | I18: =(D18+E18+F18+G18+H18)/5 -> 39.266 | J18: =SUM(C18*I18) -> 6007.698
A19: 18 | B19: Camiseta Manga Curta Tam. 8 | C19: 231 | D19: 45 | E19: 48 | F19: 40 | G19: 34.33 | H19: 29 | I19: =(D19+E19+F19+G19+H19)/5 -> 39.266 | J19: =SUM(C19*I19) -> 9070.446
A20: 19 | B20: Camiseta Manga Curta Tam. 10 | C20: 129 | D20: 45 | E20: 48 | F20: 40 | G20: 34.33 | H20: 35 | I20: =(D20+E20+F20+G20+H20)/5 -> 40.466 | J20: =SUM(C20*I20) -> 5220.114
A21: 20 | B21: Camiseta Manga Curta Tam. 12 | C21: 150 | D21: 53 | E21: 56 | F21: 48 | G21: 34.33 | H21: 35 | I21: =(D21+E21+F21+G21+H21)/5 -> 45.266 | J21: =SUM(C21*I21) -> 6789.9
A22: 21 | B22: Camiseta Manga Curta Tam. 14 | C22: 135 | D22: 53 | E22: 56 | F22: 48 | G22: 34.33 | H22: 35 | I22: =(D22+E22+F22+G22+H22)/5 -> 45.266 | J22: =SUM(C22*I22) -> 6110.91
A23: 22 | B23: Camiseta Manga Curta Tam. 16 | C23: 132 | D23: 53 | E23: 56 | F23: 48 | G23: 34.33 | H23: 35 | I23: =(D23+E23+F23+G23+H23)/5 -> 45.266 | J23: =SUM(C23*I23) -> 5975.112
A24: 23 | B24: Camiseta Manga Curta Tam. P | C24: 132 | D24: 63 | E24: 66 | F24: 58 | G24: 34.33 | H24: 34.9 | I24: =(D24+E24+F24+G24+H24)/5 -> 51.246 | J24: =SUM(C24*I24) -> 6764.472
A25: 24 | B25: Camiseta Manga Curta Tam. M | C25: 180 | D25: 63 | E25: 66 | F25: 58 | G25: 34.33 | H25: 34.9 | I25: =(D25+E25+F25+G25+H25)/5 -> 51.246 | J25: =SUM(C25*I25) -> 9224.28
A26: 25 | B26: Camiseta Manga Curta Tam. G | C26: 33 | D26: 63 | F26: 58 | G26: 34.33 | H26: 34.9 | I26: =(D26+F26+G26+H26)/4 -> 47.5575 | J26: =SUM(C26*I26) -> 1569.3975
A27: 26 | B27: Camiseta Manga Curta Tam. GG | C27: 27 | D27: 63 | F27: 58 | G27: 34.33 | H27: 34.9 | I27: =(D27+F27+G27+H27)/4 -> 47.5575 | J27: =SUM(C27*I27) -> 1284.0525
A28: 27 | B28: Bermuda Masculina Tam. 1 | C28: 24 | D28: 53 | E28: 56 | F28: 48 | H28: 41.9 | I28: =(D28+E28+F28+H28)/4 -> 49.725 | J28: =SUM(C28*I28) -> 1193.4
A29: 28 | B29: Bermuda Masculina Tam. 2 | C29: 24 | D29: 53 | E29: 56 | F29: 48 | G29: 47 | H29: 41.9 | I29: =(D29+E29+F29+G29+H29)/5 -> 49.18 | J29: =SUM(C29*I29) -> 1180.32
A30: 29 | B30: Bermuda Masculina Tam. 4 | C30: 86 | D30: 53 | E30: 56 | F30: 48 | G30: 47 | H30: 41.9 | I30: =(D30+E30+F30+G30+H30)/5 -> 49.18 | J30: =SUM(C30*I30) -> 4229.48
A31: 30 | B31: Bermuda Masculina Tam. 6 | C31: 56 | D31: 61 | E31: 64 | F31: 56 | G31: 47 | H31: 41.9 | I31: =(D31+E31+F31+G31+H31)/5 -> 53.98 | J31: =SUM(C31*I31) -> 3022.88
A32: 31 | B32: Bermuda Masculina Tam. 8 | C32: 76 | D32: 61 | E32: 64 | F32: 56 | G32: 47 | H32: 41.9 | I32: =(D32+E32+F32+G32+H32)/5 -> 53.98 | J32: =SUM(C32*I32) -> 4102.48
A33: 32 | B33: Bermuda Masculina Tam. 10 | C33: 48 | D33: 61 | E33: 64 | F33: 56 | G33: 47 | H33: 41.9 | I33: =(D33+E33+F33+G33+H33)/5 -> 53.98 | J33: =SUM(C33*I33) -> 2591.04
A34: 33 | B34: Bermuda Masculina Tam. 12 | C34: 62 | D34: 77 | E34: 80 | F34: 72 | G34: 47 | H34: 41.9 | I34: =(D34+E34+F34+G34+H34)/5 -> 63.58 | J34: =SUM(C34*I34) -> 3941.96
A35: 34 | B35: Bermuda Masculina Tam. 14 | C35: 57 | D35: 77 | E35: 80 | F35: 72 | G35: 47 | H35: 41.9 | I35: =(D35+E35+F35+G35+H35)/5 -> 63.58 | J35: =SUM(C35*I35) -> 3624.06
A36: 35 | B36: Bermuda Masculina Tam. 16 | C36: 85 | D36: 77 | E36: 80 | F36: 72 | G36: 47 | H36: 41.9 | I36: =(D36+E36+F36+G36+H36)/5 -> 63.58 | J36: =SUM(C36*I36) -> 5404.3
A37: 36 | B37: Bermuda Masculina Tam. P | C37: 69 | D37: 104 | E37: 107 | F37: 99 | G37: 47 | H37: 41.9 | I37: =(D37+E37+F37+G37+H37)/5 -> 79.78 | J37: =SUM(C37*I37) -> 5504.82
A38: 37 | B38: Bermuda Masculina Tam. M | C38: 45 | D38: 104 | E38: 107 | F38: 99 | G38: 47 | H38: 41.9 | I38: =(D38+E38+F38+G38+H38)/5 -> 79.78 | J38: =SUM(C38*I38) -> 3590.1
A39: 38 | B39: Bermuda Masculina Tam. G | C39: 24 | D39: 104 | F39: 99 | G39: 47 | H39: 41.9 | I39: =(D39+F39+G39+H39)/4 -> 72.975 | J39: =SUM(C39*I39) -> 1751.4
A40: 39 | B40: Bermuda Masculina Tam. GG | C40: 15 | D40: 104 | F40: 99 | G40: 47 | H40: 41.9 | I40: =(D40+F40+G40+H40)/4 -> 72.975 | J40: =SUM(C40*I40) -> 1094.625
A41: 40 | B41: Calça Masculina Tam. 1 | C41: 18 | D41: 56 | E41: 59 | F41: 51 | G41: 31.95 | I41: =(D41+E41+F41+G41)/4 -> 49.4875 | J41: =SUM(C41*I41) -> 890.775
A42: 41 | B42: Calça Masculina Tam. 2 | C42: 18 | D42: 56 | E42: 59 | F42: 51 | G42: 59.67 | I42: =(D42+E42+F42+G42)/4 -> 56.4175 | J42: =SUM(C42*I42) -> 1015.515
A43: 42 | B43: Calça Masculina Tam. 4 | C43: 63 | D43: 56 | E43: 59 | F43: 51 | G43: 59.67 | H43: 59.19 | I43: =(D43+E43+F43+G43+H43)/5 -> 56.972 | J43: =SUM(C43*I43) -> 3589.236
A44: 43 | B44: Calça Masculina Tam. 6 | C44: 42 | D44: 65 | E44: 68 | F44: 60 | G44: 59.67 | H44: 59.19 | I44: =(D44+E44+F44+G44+H44)/5 -> 62.372 | J44: =SUM(C44*I44) -> 2619.624
A45: 44 | B45: Calça Masculina Tam. 8 | C45: 57 | D45: 65 | E45: 68 | F45: 60 | G45: 59.67 | H45: 59.19 | I45: =(D45+E45+F45+G45+H45)/5 -> 62.372 | J45: =SUM(C45*I45) -> 3555.204
A46: 45 | B46: Calça Masculina Tam. 10 | C46: 36 | D46: 65 | E46: 68 | F46: 60 | G46: 59.67 | H46: 59.19 | I46: =(D46+E46+F46+G46+H46)/5 -> 62.372 | J46: =SUM(C46*I46) -> 2245.392
A47: 46 | B47: Calça Masculina Tam. 12 | C47: 51 | D47: 82 | E47: 85 | F47: 77 | G47: 59.67 | H47: 59.19 | I47: =(D47+E47+F47+G47+H47)/5 -> 72.572 | J47: =SUM(C47*I47) -> 3701.172
A48: 47 | B48: Calça Masculina Tam. 14 | C48: 48 | D48: 82 | E48: 85 | F48: 77 | G48: 59.67 | H48: 59.19 | I48: =(D48+E48+F48+G48+H48)/5 -> 72.572 | J48: =SUM(C48*I48) -> 3483.456
A49: 48 | B49: Calça Masculina Tam. 16 | C49: 75 | D49: 82 | E49: 85 | F49: 77 | G49: 59.67 | H49: 59.19 | I49: =(D49+E49+F49+G49+H49)/5 -> 72.572 | J49: =SUM(C49*I49) -> 5442.9
A50: 49 | B50: Calça Masculina Tam. P | C50: 60 | D50: 113 | E50: 116 | F50: 108 | G50: 59.67 | H50: 59.19 | I50: =(D50+E50+F50+G50+H50)/5 -> 91.172 | J50: =SUM(C50*I50) -> 5470.32
A51: 50 | B51: Calça Masculina Tam. M | C51: 39 | D51: 113 | E51: 116 | F51: 108 | G51: 59.67 | H51: 59.19 | I51: =(D51+E51+F51+G51+H51)/5 -> 91.172 | J51: =SUM(C51*I51) -> 3555.708
A52: 51 | B52: Calça Masculina Tam. G | C52: 24 | D52: 113 | E52: 116 | F52: 108 | G52: 59.67 | H52: 59.19 | I52: =(D52+E52+F52+G52+H52)/5 -> 91.172 | J52: =SUM(C52*I52) -> 2188.128
A53: 52 | B53: Calça Masculina Tam. GG | C53: 15 | D53: 113 | E53: 116 | F53: 108 | G53: 59.67 | H53: 59.19 | I53: =(D53+E53+F53+G53+H53)/5 -> 91.172 | J53: =SUM(C53*I53) -> 1367.58
A54: 53 | B54: Calça Legging Feminina Tam. 1 | C54: 21 | D54: 58 | E54: 61 | F54: 53 | G54: 61.9 | I54: =(D54+E54+F54+G54)/4 -> 58.475 | J54: =SUM(C54*I54) -> 1227.975
A55: 54 | B55: Calça Legging Feminina Tam. 2 | C55: 15 | D55: 58 | E55: 61 | F55: 53 | G55: 61.9 | I55: =(D55+E55+F55+G55)/4 -> 58.475 | J55: =SUM(C55*I55) -> 877.125
A56: 55 | B56: Calça Legging Feminina Tam. 4 | C56: 81 | D56: 58 | E56: 61 | F56: 53 | G56: 61.9 | H56: 65.52 | I56: =(D56+E56+F56+G56+H56)/5 -> 59.884 | J56: =SUM(C56*I56) -> 4850.604
A57: 56 | B57: Calça Legging Feminina Tam. 6 | C57: 42 | D57: 72 | E57: 75 | F57: 67 | G57: 61.9 | H57: 65.52 | I57: =(D57+E57+F57+G57+H57)/5 -> 68.284 | J57: =SUM(C57*I57) -> 2867.928
A58: 57 | B58: Calça Legging Feminina Tam. 8 | C58: 60 | D58: 72 | E58: 75 | F58: 67 | G58: 61.9 | H58: 65.52 | I58: =(D58+E58+F58+G58+H58)/5 -> 68.284 | J58: =SUM(C58*I58) -> 4097.04
A59: 58 | B59: Calça Legging Feminina Tam. 10 | C59: 33 | D59: 72 | E59: 75 | F59: 67 | G59: 61.9 | H59: 65.52 | I59: =(D59+E59+F59+G59+H59)/5 -> 68.284 | J59: =SUM(C59*I59) -> 2253.372
A60: 59 | B60: Calça Legging Feminina Tam. 12 | C60: 54 | D60: 90 | E60: 93 | F60: 85 | G60: 61.9 | H60: 65.52 | I60: =(D60+E60+F60+G60+H60)/5 -> 79.084 | J60: =SUM(C60*I60) -> 4270.536
A61: 60 | B61: Calça Legging Feminina Tam. 14 | C61: 66 | D61: 90 | E61: 93 | F61: 85 | G61: 61.9 | H61: 65.52 | I61: =(D61+E61+F61+G61+H61)/5 -> 79.084 | J61: =SUM(C61*I61) -> 5219.544
A62: 61 | B62: Calça Legging Feminina Tam. 16 | C62: 66 | D62: 90 | E62: 93 | F62: 85 | G62: 61.9 | H62: 65.52 | I62: =(D62+E62+F62+G62+H62)/5 -> 79.084 | J62: =SUM(C62*I62) -> 5219.544
A63: 62 | B63: Calça Legging Feminina Tam. P | C63: 27 | D63: 107 | E63: 110 | F63: 102 | G63: 61.9 | H63: 65.52 | I63: =(D63+E63+F63+G63+H63)/5 -> 89.284 | J63: =SUM(C63*I63) -> 2410.668
A64: 63 | B64: Calça Legging Feminina Tam. M | C64: 36 | D64: 107 | E64: 110 | F64: 102 | G64: 61.9 | H64: 65.52 | I64: =(D64+E64+F64+G64+H64)/5 -> 89.284 | J64: =SUM(C64*I64) -> 3214.224
A65: 64 | B65: Calça Legging Feminina Tam. G | C65: 30 | D65: 107 | E65: 110 | F65: 102 | G65: 61.9 | H65: 65.52 | I65: =(D65+E65+F65+G65+H65)/5 -> 89.284 | J65: =SUM(C65*I65) -> 2678.52
A66: 65 | B66: Shorts Saia Feminino Tam. 1 | C66: 21 | D66: 73 | E66: 76 | F66: 68 | G66: 29 | H66: 35 | I66: =(D66+E66+F66+G66+H66)/5 -> 56.2 | J66: =SUM(C66*I66) -> 1180.2
A67: 66 | B67: Shorts Saia Feminino Tam. 2 | C67: 15 | D67: 73 | E67: 76 | F67: 68 | G67: 29 | H67: 35 | I67: =(D67+E67+F67+G67+H67)/5 -> 56.2 | J67: =SUM(C67*I67) -> 843
... A71: 70 | B71: Shorts Saia Feminino Tam. 10 | C71: 33 | D71: 94 | E71: 97 | F71: 89 | G71: 29 | H71: 35 | I71: =(D71+E71+F71+G71+H71)/5 -> 68.8 | J71: =SUM(C71*I71) -> 2270.4
A72: 71 | B72: Shorts Saia Feminino Tam. 12 | C72: 42 | E72: 117 | F72: 109 | G72: 29 | H72: 35 | I72: =(E72+F72+G72+H72)/4 -> 72.5 | J72: =SUM(C72*I72) -> 3045
A73: 72 | B73: Shorts Saia Feminino Tam. 14 | C73: 54 | E73: 117 | F73: 109 | G73: 30.99 | H73: 35 | I73: =(E73+F73+G73+H73)/4 -> 72.9975 | J73: =SUM(C73*I73) -> 3941.865
A74: 73 | B74: Shorts Saia Feminino Tam. 16 | C74: 42 | E74: 117 | F74: 109 | G74: 30.99 | H74: 35 | I74: =(E74+F74+G74+H74)/4 -> 72.9975 | J74: =SUM(C74*I74) -> 3065.895
A75: 74 | B75: Bermuda Legging Feminina Tam. 1 | C75: 21 | E75: 49 | F75: 41 | G75: 28 | H75: 27 | I75: =(E75+F75+G75+H75)/4 -> 36.25 | J75: =SUM(C75*I75) -> 761.25
A76: 75 | B76: Bermuda Legging Feminina Tam. 2 | C76: 15 | E76: 49 | F76: 41 | G76: 28 | H76: 27 | I76: =(E76+F76+G76+H76)/4 -> 36.25 | J76: =SUM(C76*I76) -> 543.75
A77: 76 | B77: Bermuda Legging Feminina Tam. 4 | C77: 81 | E77: 49 | F77: 41 | G77: 30 | H77: 27 | I77: =(E77+F77+G77+H77)/4 -> 36.75 | J77: =SUM(C77*I77) -> 2976.75
A78: 77 | B78: Bermuda Legging Feminina Tam. 6 | C78: 42 | E78: 60 | F78: 52 | G78: 30 | H78: 27 | I78: =(E78+F78+G78+H78)/4 -> 42.25 | J78: =SUM(C78*I78) -> 1774.5
A79: 78 | B79: Bermuda Legging Feminina Tam. 8 | C79: 60 | E79: 60 | F79: 52 | G79: 35 | H79: 27 | I79: =(E79+F79+G79+H79)/4 -> 43.5 | J79: =SUM(C79*I79) -> 2610
A80: 79 | B80: Bermuda Legging Feminina Tam. 10 | C80: 33 | E80: 60 | F80: 52 | G80: 35 | H80: 28 | I80: =(E80+F80+G80+H80)/4 -> 43.75 | J80: =SUM(C80*I80) -> 1443.75
A81: 80 | B81: Bermuda Legging Feminina Tam. 12 | C81: 54 | D81: 73 | E81: 76 | F81: 68 | G81: 38 | H81: 28 | I81: =(D81+E81+F81+G81+H81)/5 -> 56.6 | J81: =SUM(C81*I81) -> 3056.4
A82: 81 | B82: Bermuda Legging Feminina Tam. 14 | C82: 66 | D82: 73 | E82: 76 | F82: 68 | G82: 42 | H82: 28 | I82: =(D82+E82+F82+G82+H82)/5 -> 57.4 | J82: =SUM(C82*I82) -> 3788.4
A83: 82 | B83: Bermuda Legging Feminina Tam. 16 | C83: 66 | D83: 73 | E83: 76 | F83: 68 | G83: 42 | H83: 28 | I83: =(D83+E83+F83+G83+H83)/5 -> 57.4 | J83: =SUM(C83*I83) -> 3788.4
A84: 83 | B84: Bermuda Legging Feminina Tam. P | C84: 27 | D84: 88 | E84: 91 | F84: 83 | G84: 55 | H84: 29 | I84: =(D84+E84+F84+G84+H84)/5 -> 69.2 | J84: =SUM(C84*I84) -> 1868.4
A85: 84 | B85: Bermuda Legging Feminina Tam. M | C85: 36 | D85: 88 | E85: 91 | F85: 83 | G85: 55 | H85: 29 | I85: =(D85+E85+F85+G85+H85)/5 -> 69.2 | J85: =SUM(C85*I85) -> 2491.2
A86: 85 | B86: Bermuda Legging Feminina Tam. G | C86: 30 | D86: 88 | E86: 91 | F86: 83 | G86: 55 | H86: 29 | I86: =(D86+E86+F86+G86+H86)/5 -> 69.2 | J86: =SUM(C86*I86) -> 2076
A87: 86 | B87: Jaqueta Tam. 1 | C87: 21 | E87: 103 | F87: 95 | G87: 70 | H87: 90.4 | I87: =(E87+F87+G87+H87)/4 -> 89.6 | J87: =SUM(C87*I87) -> 1881.6
A88: 87 | B88: Jaqueta Tam. 2 | C88: 21 | E88: 103 | F88: 95 | G88: 70 | H88: 90.4 | I88: =(E88+F88+G88+H88)/4 -> 89.6 | J88: =SUM(C88*I88) -> 1881.6
A89: 88 | B89: Jaqueta Tam. 4 | C89: 106 | E89: 103 | F89: 95 | G89: 75 | H89: 90.4 | I89: =(E89+F89+G89+H89)/4 -> 90.85 | J89: =SUM(C89*I89) -> 9630.1
A90: 89 | B90: Jaqueta Tam. 6 | C90: 84 | E90: 123 | F90: 115 | G90: 75 | H90: 90.4 | I90: =(E90+F90+G90+H90)/4 -> 100.85 | J90: =SUM(C90*I90) -> 8471.4
A91: 90 | B91: Jaqueta Tam. 8 | C91: 123 | E91: 123 | F91: 115 | G91: 78 | H91: 103.63 | I91: =(E91+F91+G91+H91)/4 -> 104.9075 | J91: =SUM(C91*I91) -> 12903.622
A92: 91 | B92: Jaqueta Tam. 10 | C92: 72 | E92: 123 | F92: 115 | G92: 78 | H92: 103.63 | I92: =(E92+F92+G92+H92)/4 -> 104.9075 | J92: =SUM(C92*I92) -> 7553.34
A93: 92 | B93: Jaqueta Tam. 12 | C93: 90 | D93: 144 | E93: 147 | F93: 139 | G93: 78 | H93: 113.55 | I93: =(D93+E93+F93+G93+H93)/5 -> 124.31 | J93: =SUM(C93*I93) -> 11187.9
A94: 93 | B94: Jaqueta Tam. 14 | C94: 87 | D94: 144 | E94: 147 | F94: 139 | G94: 78 | H94: 113.55 | I94: =(D94+E94+F94+G94+H94)/5 -> 124.31 | J94: =SUM(C94*I94) -> 10814.97
A95: 94 | B95: Jaqueta Tam. 16 | C95: 78 | D95: 144 | E95: 147 | F95: 139 | G95: 78 | H95: 113.55 | I95: =(D95+E95+F95+G95+H95)/5 -> 124.31 | J95: =SUM(C95*I95) -> 9696.18
A96: 95 | B96: Jaqueta Tam. P | C96: 78 | D96: 160 | E96: 163 | F96: 155 | G96: 90 | H96: 127.88 | I96: =(D96+E96+F96+G96+H96)/5 -> 139.176 | J96: =SUM(C96*I96) -> 10855.728
A97: 96 | B97: Jaqueta Tam. M | C97: 102 | D97: 160 | E97: 163 | F97: 155 | G97: 90 | H97: 127.88 | I97: =(D97+E97+F97+G97+H97)/5 -> 139.176 | J97: =SUM(C97*I97) -> 14195.952
A98: 97 | B98: Jaqueta Tam. G | C98: 21 | D98: 160 | F98: 155 | G98: 90 | H98: 127.88 | I98: =(D98+F98+G98+H98)/4 -> 133.22 | J98: =SUM(C98*I98) -> 2797.62
A99: 98 | B99: Jaqueta Tam. GG | C99: 18 | D99: 160 | F99: 155 | G99: 95 | H99: 133.4 | I99: =(D99+F99+G99+H99)/4 -> 135.85 | J99: =SUM(C99*I99) -> 2445.3
A100: Total= | J100: =SUM(J2:J99) -> 392160.54

Sheet Dados
A1: QUADRO COMPARATIVO DE PREÇOS - INSIRA APENAS OS DADOS COLETADOS
A2: ITEM | B2: DESCRIÇÃO DETALHADA DO ITEM | C2: 1º PARÂM. | D2: 2º PARÂM. | E2: 3º PARÂM. | F2: 4º PARÂM. | G2: 5º PARÂM. | H2: 6º PARÂM.
C3: Gaiardo E Gaiardo LTDA | D3: Dalton Confecções LTDA | E3: Elenita Ida Tumellero Conti LTDa | F3: Licitacon/PNPC | G3: Licitacon/PNPC | H3: Valor Médio
A4: 1 | B4: Camiseta Manga Longa Tam. 1 | C4: 45 | D4: 48 | E4: 40 | F4: 28 | H4: =(C4+D4+E4+F4)/4 -> 40.25
A5: 2 | B5: Camiseta Manga Longa Tam. 2 | C5: 45 | D5: 48 | E5: 40 | F5: 39.17 | G5: 39.9 | H5: =(C5+D5+E5+F5+G5)/5 -> 42.414
A6: 3 | B6: Camiseta Manga Longa Tam. 4 | C6: 45 | D6: 48 | E6: 40 | F6: 39.17 | G6: 39.9 | H6: =(C6+D6+E6+F6+G6)/5 -> 42.414
A7: 4 | B7: Camiseta Manga Longa Tam. 6 | C7: 55 | D7: 58 | E7: 50 | F7: 39.17 | G7: 39.9 | H7: =(C7+D7+E7+F7+G7)/5 -> 48.414
A8: 5 | B8: Camiseta Manga Longa Tam. 8 | C8: 55 | D8: 58 | E8: 50 | F8: 39.17 | G8: 39.9 | H8: =(C8+D8+E8+F8+G8)/5 -> 48.414
A9: 6 | B9: Camiseta Manga Longa Tam. 10 | C9: 55 | D9: 58 | E9: 50 | F9: 39.17 | G9: 46.9 | H9: =(C9+D9+E9+F9+G9)/5 -> 49.814
A10: 7 | B10: Camiseta Manga Longa Tam. 12 | C10: 63 | D10: 66 | E10: 58 | F10: 39.17 | G10: 46.9 | H10: =(C10+D10+E10+F10+G10)/5 -> 54.614
A11: 8 | B11: Camiseta Manga Longa Tam. 14 | C11: 63 | D11: 66 | E11: 58 | F11: 39.17 | G11: 46.9 | H11: =(C11+D11+E11+F11+G11)/5 -> 54.614
A12: 9 | B12: Camiseta Manga Longa Tam. 16 | C12: 63 | D12: 66 | E12: 58 | F12: 39.17 | G12: 46.9 | H12: =(C12+D12+E12+F12+G12)/5 -> 54.614
A13: 10 | B13: Camiseta Manga Longa Tam. P | C13: 80 | D13: 83 | E13: 75 | F13: 39.17 | G13: 35.49 | H13: =(C13+D13+E13+F13+G13)/5 -> 62.532
A14: 11 | B14: Camiseta Manga Longa Tam. M | C14: 80 | D14: 83 | E14: 75 | F14: 39.17 | G14: 35.49 | H14: =(C14+D14+E14+F14+G14)/5 -> 62.532
A15: 12 | B15: Camiseta Manga Longa Tam. G | E15: 75 | F15: 39.17 | G15: 35.49 | H15: =(E15+F15+G15)/3 -> 49.886667
A16: 13 | B16: Camiseta Manga Longa Tam. GG | E16: 75 | F16: 39.17 | G16: 35.49 | H16: =(E16+F16+G16)/3 -> 49.886667
A17: 14 | B17: Camiseta Manga Curta Tam. 1 | C17: 40 | D17: 43 | E17: 35 | F17: 29 | H17: =(C17+D17+E17+F17)/4 -> 36.75
A18: 15 | B18: Camiseta Manga Curta Tam. 2 | C18: 40 | D18: 43 | E18: 35 | F18: 34.33 | G18: 29 | H18: =(C18+D18+E18+F18+G18)/5 -> 36.266
A19: 16 | B19: Camiseta Manga Curta Tam. 4 | C19: 40 | D19: 43 | E19: 35 | F19: 34.33 | G19: 29 | H19: =(C19+D19+E19+F19+G19)/5 -> 36.266
A20: 17 | B20: Camiseta Manga Curta Tam. 6 | C20: 45 | D20: 48 | E20: 40 | F20: 34.33 | G20: 29 | H20: =(C20+D20+E20+F20+G20)/5 -> 39.266
A21: 18 | B21: Camiseta Manga Curta Tam. 8 | C21: 45 | D21: 48 | E21: 40 | F21: 34.33 | G21: 29 | H21: =(C21+D21+E21+F21+G21)/5 -> 39.266
A22: 19 | B22: Camiseta Manga Curta Tam. 10 | C22: 45 | D22: 48 | E22: 40 | F22: 34.33 | G22: 35 | H22: =(C22+D22+E22+F22+G22)/5 -> 40.466
A23: 20 | B23: Camiseta Manga Curta Tam. 12 | C23: 53 | D23: 56 | E23: 48 | F23: 34.33 | G23: 35 | H23: =(C23+D23+E23+F23+G23)/5 -> 45.266
A24: 21 | B24: Camiseta Manga Curta Tam. 14 | C24: 53 | D24: 56 | E24: 48 | F24: 34.33 | G24: 35 | H24: =(C24+D24+E24+F24+G24)/5 -> 45.266
A25: 22 | B25: Camiseta Manga Curta Tam. 16 | C25: 53 | D25: 56 | E25: 48 | F25: 34.33 | G25: 35 | H25: =(C25+D25+E25+F25+G25)/5 -> 45.266
A26: 23 | B26: Camiseta Manga Curta Tam. P | C26: 63 | D26: 66 | E26: 58 | F26: 34.33 | G26: 34.9 | H26: =(C26+D26+E26+F26+G26)/5 -> 51.246
A27: 24 | B27: Camiseta Manga Curta Tam. M | C27: 63 | D27: 66 | E27: 58 | F27: 34.33 | G27: 34.9 | H27: =(C27+D27+E27+F27+G27)/5 -> 51.246
A28: 25 | B28: Camiseta Manga Curta Tam. G | C28: 63 | E28: 58 | F28: 34.33 | G28: 34.9 | H28: =(C28+E28+F28+G28)/4 -> 47.5575
A29: 26 | B29: Camiseta Manga Curta Tam. GG | C29: 63 | E29: 58 | F29: 34.33 | G29: 34.9 | H29: =(C29+E29+F29+G29)/4 -> 47.5575
A30: 27 | B30: Bermuda Masculina Tam. 1 | C30: 53 | D30: 56 | E30: 48 | G30: 41.9 | H30: =(C30+D30+E30+G30)/4 -> 49.725
A31: 28 | B31: Bermuda Masculina Tam. 2 | C31: 53 | D31: 56 | E31: 48 | F31: 47 | G31: 41.9 | H31: =(C31+D31+E31+F31+G31)/5 -> 49.18
A32: 29 | B32: Bermuda Masculina Tam. 4 | C32: 53 | D32: 56 | E32: 48 | F32: 47 | G32: 41.9 | H32: =(C32+D32+E32+F32+G32)/5 -> 49.18
A33: 30 | B33: Bermuda Masculina Tam. 6 | C33: 61 | D33: 64 | E33: 56 | F33: 47 | G33: 41.9 | H33: =(C33+D33+E33+F33+G33)/5 -> 53.98
A34: 31 | B34: Bermuda Masculina Tam. 8 | C34: 61 | D34: 64 | E34: 56 | F34: 47 | G34: 41.9 | H34: =(C34+D34+E34+F34+G34)/5 -> 53.98
A35: 32 | B35: Bermuda Masculina Tam. 10 | C35: 61 | D35: 64 | E35: 56 | F35: 47 | G35: 41.9 | H35: =(C35+D35+E35+F35+G35)/5 -> 53.98
A36: 33 | B36: Bermuda Masculina Tam. 12 | C36: 77 | D36: 80 | E36: 72 | F36: 47 | G36: 41.9 | H36: =(C36+D36+E36+F36+G36)/5 -> 63.58
A37: 34 | B37: Bermuda Masculina Tam. 14 | C37: 77 | D37: 80 | E37: 72 | F37: 47 | G37: 41.9 | H37: =(C37+D37+E37+F37+G37)/5 -> 63.58
A38: 35 | B38: Bermuda Masculina Tam. 16 | C38: 77 | D38: 80 | E38: 72 | F38: 47 | G38: 41.9 | H38: =(C38+D38+E38+F38+G38)/5 -> 63.58
A39: 36 | B39: Bermuda Masculina Tam. P | C39: 104 | D39: 107 | E39: 99 | F39: 47 | G39: 41.9 | H39: =(C39+D39+E39+F39+G39)/5 -> 79.78
A40: 37 | B40: Bermuda Masculina Tam. M | C40: 104 | D40: 107 | E40: 99 | F40: 47 | G40: 41.9 | H40: =(C40+D40+E40+F40+G40)/5 -> 79.78
A41: 38 | B41: Bermuda Masculina Tam. G | C41: 104 | E41: 99 | F41: 47 | G41: 41.9 | H41: =(C41+E41+F41+G41)/4 -> 72.975
A42: 39 | B42: Bermuda Masculina Tam. GG | C42: 104 | E42: 99 | F42: 47 | G42: 41.9 | H42: =(C42+E42+F42+G42)/4 -> 72.975
A43: 40 | B43: Calça Masculina Tam. 1 | C43: 56 | D43: 59 | E43: 51 | F43: 31.95 | H43: =(C43+D43+E43+F43)/4 -> 49.4875
A44: 41 | B44: Calça Masculina Tam. 2 | C44: 56 | D44: 59 | E44: 51 | F44: 59.67 | H44: =(C44+D44+E44+F44)/4 -> 56.4175
A45: 42 | B45: Calça Masculina Tam. 4 | C45: 56 | D45: 59 | E45: 51 | F45: 59.67 | G45: 59.19 | H45: =(C45+D45+E45+F45+G45)/5 -> 56.972
A46: 43 | B46: Calça Masculina Tam. 6 | C46: 65 | D46: 68 | E46: 60 | F46: 59.67 | G46: 59.19 | H46: =(C46+D46+E46+F46+G46)/5 -> 62.372
A47: 44 | B47: Calça Masculina Tam. 8 | C47: 65 | D47: 68 | E47: 60 | F47: 59.67 | G47: 59.19 | H47: =(C47+D47+E47+F47+G47)/5 -> 62.372
A48: 45 | B48: Calça Masculina Tam. 10 | C48: 65 | D48: 68 | E48: 60 | F48: 59.67 | G48: 59.19 | H48: =(C48+D48+E48+F48+G48)/5 -> 62.372
A49: 46 | B49: Calça Masculina Tam. 12 | C49: 82 | D49: 85 | E49: 77 | F49: 59.67 | G49: 59.19 | H49: =(C49+D49+E49+F49+G49)/5 -> 72.572
A50: 47 | B50: Calça Masculina Tam. 14 | C50: 82 | D50: 85 | E50: 77 | F50: 59.67 | G50: 59.19 | H50: =(C50+D50+E50+F50+G50)/5 -> 72.572
A51: 48 | B51: Calça Masculina Tam. 16 | C51: 82 | D51: 85 | E51: 77 | F51: 59.67 | G51: 59.19 | H51: =(C51+D51+E51+F51+G51)/5 -> 72.572
A52: 49 | B52: Calça Masculina Tam. P | C52: 113 | D52: 116 | E52: 108 | F52: 59.67 | G52: 59.19 | H52: =(C52+D52+E52+F52+G52)/5 -> 91.172
A53: 50 | B53: Calça Masculina Tam. M | C53: 113 | D53: 116 | E53: 108 | F53: 59.67 | G53: 59.19 | H53: =(C53+D53+E53+F53+G53)/5 -> 91.172
A54: 51 | B54: Calça Masculina Tam. G | C54: 113 | D54: 116 | E54: 108 | F54: 59.67 | G54: 59.19 | H54: =(C54+D54+E54+F54+G54)/5 -> 91.172
A55: 52 | B55: Calça Masculina Tam. GG | C55: 113 | D55: 116 | E55: 108 | F55: 59.67 | G55: 59.19 | H55: =(C55+D55+E55+F55+G55)/5 -> 91.172
A56: 53 | B56: Calça Legging Feminina Tam. 1 | C56: 58 | D56: 61 | E56: 53 | F56: 61.9 | H56: =(C56+D56+E56+F56)/4 -> 58.475
A57: 54 | B57: Calça Legging Feminina Tam. 2 | C57: 58 | D57: 61 | E57: 53 | F57: 61.9 | H57: =(C57+D57+E57+F57)/4 -> 58.475
A58: 55 | B58: Calça Legging Feminina Tam. 4 | C58: 58 | D58: 61 | E58: 53 | F58: 61.9 | G58: 65.52 | H58: =(C58+D58+E58+F58+G58)/5 -> 59.884
A59: 56 | B59: Calça Legging Feminina Tam. 6 | C59: 72 | D59: 75 | E59: 67 | F59: 61.9 | G59: 65.52 | H59: =(C59+D59+E59+F59+G59)/5 -> 68.284
A60: 57 | B60: Calça Legging Feminina Tam. 8 | C60: 72 | D60: 75 | E60: 67 | F60: 61.9 | G60: 65.52 | H60: =(C60+D60+E60+F60+G60)/5 -> 68.284
A61: 58 | B61: Calça Legging Feminina Tam. 10 | C61: 72 | D61: 75 | E61: 67 | F61: 61.9 | G61: 65.52 | H61: =(C61+D61+E61+F61+G61)/5 -> 68.284
A62: 59 | B62: Calça Legging Feminina Tam. 12 | C62: 90 | D62: 93 | E62: 85 | F62: 61.9 | G62: 65.52 | H62: =(C62+D62+E62+F62+G62)/5 -> 79.084
A63: 60 | B63: Calça Legging Feminina Tam. 14 | C63: 90 | D63: 93 | E63: 85 | F63: 61.9 | G63: 65.52 | H63: =(C63+D63+E63+F63+G63)/5 -> 79.084
A64: 61 | B64: Calça Legging Feminina Tam. 16 | C64: 90 | D64: 93 | E64: 85 | F64: 61.9 | G64: 65.52 | H64: =(C64+D64+E64+F64+G64)/5 -> 79.084
A65: 62 | B65: Calça Legging Feminina Tam. P | C65: 107 | D65: 110 | E65: 102 | F65: 61.9 | G65: 65.52 | H65: =(C65+D65+E65+F65+G65)/5 -> 89.284
A66: 63 | B66: Calça Legging Feminina Tam. M | C66: 107 | D66: 110 | E66: 102 | F66: 61.9 | G66: 65.52 | H66: =(C66+D66+E66+F66+G66)/5 -> 89.284
A67: 64 | B67: Calça Legging Feminina Tam. G | C67: 107 | D67: 110 | E67: 102 | F67: 61.9 | G67: 65.52 | H67: =(C67+D67+E67+F67+G67)/5 -> 89.284
A68: 65 | B68: Shorts Saia Feminino Tam. 1 | C68: 73 | D68: 76 | E68: 68 | F68: 29 | G68: 35 | H68: =(C68+D68+E68+F68+G68)/5 -> 56.2
A69: 66 | B69: Shorts Saia Feminino Tam. 2 | C69: 73 | D69: 76 | E69: 68 | F69: 29 | G69: 35 | H69: =(C69+D69+E69+F69+G69)/5 -> 56.2
... A73: 70 | B73: Shorts Saia Feminino Tam. 10 | C73: 94 | D73: 97 | E73: 89 | F73: 29 | G73: 35 | H73: =(C73+D73+E73+F73+G73)/5 -> 68.8
A74: 71 | B74: Shorts Saia Feminino Tam. 12 | D74: 117 | E74: 109 | F74: 29 | G74: 35 | H74: =(D74+E74+F74+G74)/4 -> 72.5
A75: 72 | B75: Shorts Saia Feminino Tam. 14 | D75: 117 | E75: 109 | F75: 30.99 | G75: 35 | H75: =(D75+E75+F75+G75)/4 -> 72.9975
A76: 73 | B76: Shorts Saia Feminino Tam. 16 | D76: 117 | E76: 109 | F76: 30.99 | G76: 35 | H76: =(D76+E76+F76+G76)/4 -> 72.9975
A77: 74 | B77: Bermuda Legging Feminina Tam. 1 | D77: 49 | E77: 41 | F77: 28 | G77: 27 | H77: =(D77+E77+F77+G77)/4 -> 36.25
A78: 75 | B78: Bermuda Legging Feminina Tam. 2 | D78: 49 | E78: 41 | F78: 28 | G78: 27 | H78: =(D78+E78+F78+G78)/4 -> 36.25
A79: 76 | B79: Bermuda Legging Feminina Tam. 4 | D79: 49 | E79: 41 | F79: 30 | G79: 27 | H79: =(D79+E79+F79+G79)/4 -> 36.75
A80: 77 | B80: Bermuda Legging Feminina Tam. 6 | D80: 60 | E80: 52 | F80: 30 | G80: 27 | H80: =(D80+E80+F80+G80)/4 -> 42.25
A81: 78 | B81: Bermuda Legging Feminina Tam. 8 | D81: 60 | E81: 52 | F81: 35 | G81: 27 | H81: =(D81+E81+F81+G81)/4 -> 43.5
A82: 79 | B82: Bermuda Legging Feminina Tam. 10 | D82: 60 | E82: 52 | F82: 35 | G82: 28 | H82: =(D82+E82+F82+G82)/4 -> 43.75
A83: 80 | B83: Bermuda Legging Feminina Tam. 12 | C83: 73 | D83: 76 | E83: 68 | F83: 38 | G83: 28 | H83: =(C83+D83+E83+F83+G83)/5 -> 56.6
A84: 81 | B84: Bermuda Legging Feminina Tam. 14 | C84: 73 | D84: 76 | E84: 68 | F84: 42 | G84: 28 | H84: =(C84+D84+E84+F84+G84)/5 -> 57.4
A85: 82 | B85: Bermuda Legging Feminina Tam. 16 | C85: 73 | D85: 76 | E85: 68 | F85: 42 | G85: 28 | H85: =(C85+D85+E85+F85+G85)/5 -> 57.4
A86: 83 | B86: Bermuda Legging Feminina Tam. P | C86: 88 | D86: 91 | E86: 83 | F86: 55 | G86: 29 | H86: =(C86+D86+E86+F86+G86)/5 -> 69.2
A87: 84 | B87: Bermuda Legging Feminina Tam. M | C87: 88 | D87: 91 | E87: 83 | F87: 55 | G87: 29 | H87: =(C87+D87+E87+F87+G87)/5 -> 69.2
A88: 85 | B88: Bermuda Legging Feminina Tam. G | C88: 88 | D88: 91 | E88: 83 | F88: 55 | G88: 29 | H88: =(C88+D88+E88+F88+G88)/5 -> 69.2
A89: 86 | B89: Jaqueta Tam. 1 | D89: 103 | E89: 95 | F89: 70 | G89: 90.4 | H89: =(D89+E89+F89+G89)/4 -> 89.6
A90: 87 | B90: Jaqueta Tam. 2 | D90: 103 | E90: 95 | F90: 70 | G90: 90.4 | H90: =(D90+E90+F90+G90)/4 -> 89.6
A91: 88 | B91: Jaqueta Tam. 4 | D91: 103 | E91: 95 | F91: 75 | G91: 90.4 | H91: =(D91+E91+F91+G91)/4 -> 90.85
A92: 89 | B92: Jaqueta Tam. 6 | D92: 123 | E92: 115 | F92: 75 | G92: 90.4 | H92: =(D92+E92+F92+G92)/4 -> 100.85
A93: 90 | B93: Jaqueta Tam. 8 | D93: 123 | E93: 115 | F93: 78 | G93: 103.63 | H93: =(D93+E93+F93+G93)/4 -> 104.9075
A94: 91 | B94: Jaqueta Tam. 10 | D94: 123 | E94: 115 | F94: 78 | G94: 103.63 | H94: =(D94+E94+F94+G94)/4 -> 104.9075
A95: 92 | B95: Jaqueta Tam. 12 | C95: 144 | D95: 147 | E95: 139 | F95: 78 | G95: 113.55 | H95: =(C95+D95+E95+F95+G95)/5 -> 124.31
A96: 93 | B96: Jaqueta Tam. 14 | C96: 144 | D96: 147 | E96: 139 | F96: 78 | G96: 113.55 | H96: =(C96+D96+E96+F96+G96)/5 -> 124.31
A97: 94 | B97: Jaqueta Tam. 16 | C97: 144 | D97: 147 | E97: 139 | F97: 78 | G97: 113.55 | H97: =(C97+D97+E97+F97+G97)/5 -> 124.31
A98: 95 | B98: Jaqueta Tam. P | C98: 160 | D98: 163 | E98: 155 | F98: 90 | G98: 127.88 | H98: =(C98+D98+E98+F98+G98)/5 -> 139.176
A99: 96 | B99: Jaqueta Tam. M | C99: 160 | D99: 163 | E99: 155 | F99: 90 | G99: 127.88 | H99: =(C99+D99+E99+F99+G99)/5 -> 139.176
A100: 97 | B100: Jaqueta Tam. G | C100: 160 | E100: 155 | F100: 90 | G100: 127.88 | H100: =(C100+E100+F100+G100)/4 -> 133.22
A101: 98 | B101: Jaqueta Tam. GG | C101: 160 | E101: 155 | F101: 95 | G101: 133.4 | H101: =(C101+E101+F101+G101)/4 -> 135.85

Sheet Saneamento
A1: QUADRO COMPARATIVO DE PREÇOS - SANEAMENTO DA MÉDIA
A2: ITEM | B2: DESCRIÇÃO DETALHADA DO ITEM | C2: 1º PARÂM. | D2: 2º PARÂM. | E2: 3º PARÂM. | F2: 4º PARÂM. | G2: 5º PARÂM. | H2: 6º PARÂM. | I2: 7º PARÂM. | J2: 8º PARÂM. | K2: 9º PARÂM. | L2: 10º PARÂM. | M2: 11º PARÂM. | N2: 12º PARÂM. | O2: 13º PARÂM. | P2: 14º PARÂM. | Q2: 15º PARÂM. | R2: 16º PARÂM. | S2: 17º PARÂM. | T2: 18º PARÂM. | U2: 19º PARÂM. | V2: 20º PARÂM. | W2: MÉDIA | X2: MEDIANA | Y2: MENOR VALOR | Z2: MAIOR VALOR | AA2: COEFICIENTE DE VARIAÇÃO
C3: =IF(Dados!C3>=1,Dados!C3,"") -> Gaiardo E Gaiardo LTDA | D3: =IF(Dados!D3>=1,Dados!D3,"") -> Dalton Confecções LTDA | E3: =IF(Dados!E3>=1,Dados!E3,"") -> Elenita Ida Tumellero Conti LTDa | F3: =IF(Dados!F3>=1,Dados!F3,"") -> Licitacon/PNPC | G3: =IF(Dados!G3>=1,Dados!G3,"") -> Licitacon/PNPC | H3: =IF(Dados!H3>=1,Dados!H3,"") -> Valor Médio | I3: =IF(#REF!>=1,#REF!,"") -> #REF! | J3: =IF(#REF!>=1,#REF!,"") -> #REF! | K3: =IF(#REF!>=1,#REF!,"") -> #REF! | L3: =IF(#REF!>=1,#REF!,"") -> #REF! | M3: =IF(#REF!>=1,#REF!,"") -> #REF! | N3: =IF(#REF!>=1,#REF!,"") -> #REF! | O3: =IF(#REF!>=1,#REF!,"") -> #REF! | P3: =IF(#REF!>=1,#REF!,"") -> #REF! | ... V3: =IF(#REF!>=1,#REF!,"") -> #REF!
A4: =IF(Dados!A4>=1,Dados!A4,"") -> 1 | B4: =IF(Dados!B4>=1,Dados!B4,"") -> Camiseta Manga Longa Tam. 1 | C4: =IF(Dados!C4>=1,Dados!C4,"") -> 45 | D4: =IF(Dados!D4>=1,Dados!D4,"") -> 48 | E4: =IF(Dados!E4>=1,Dados!E4,"") -> 40 | F4: =IF(Dados!F4>=1,Dados!F4,"") -> 28 | G4: =IF(Dados!G4>=1,Dados!G4,"") | I4: =IF(#REF!>=1,#REF!,"") -> #REF! | J4: =IF(#REF!>=1,#REF!,"") -> #REF! | K4: =IF(#REF!>=1,#REF!,"") -> #REF! | L4: =IF(#REF!>=1,#REF!,"") -> #REF! | M4: =IF(#REF!>=1,#REF!,"") -> #REF! | N4: =IF(#REF!>=1,#REF!,"") -> #REF! | O4: =IF(#REF!>=1,#REF!,"") -> #REF! | P4: =IF(#REF!>=1,#REF!,"") -> #REF! | ... V4: =IF(#REF!>=1,#REF!,"") -> #REF! | W4: =IFERROR(AVERAGE(C4:V4),"") | X4: =IFERROR(MEDIAN(C4:V4),"") | Y4: =IFERROR(SMALL(C4:V4,1),"") | Z4: =IFERROR(LARGE(C4:V4,1),"") | AA4: =IFERROR(_xlfn.STDEV.P(C4:V4)/W4,"")
A5: =IF(Dados!A7>=1,Dados!A7,"") -> 4 | B5: =IF(Dados!B7>=1,Dados!B7,"") -> Camiseta Manga Longa Tam. 6 | C5: =IF(Dados!C7>=1,Dados!C7,"") -> 55 | D5: =IF(Dados!D7>=1,Dados!D7,"") -> 58 | E5: =IF(Dados!E7>=1,Dados!E7,"") -> 50 | F5: =IF(Dados!F7>=1,Dados!F7,"") -> 39.17 | G5: =IF(Dados!G7>=1,Dados!G7,"") -> 39.9 | I5: =IF(#REF!>=1,#REF!,"") -> #REF! | J5: =IF(#REF!>=1,#REF!,"") -> #REF! | K5: =IF(#REF!>=1,#REF!,"") -> #REF! | L5: =IF(#REF!>=1,#REF!,"") -> #REF! | M5: =IF(#REF!>=1,#REF!,"") -> #REF! | N5: =IF(#REF!>=1,#REF!,"") -> #REF! | O5: =IF(#REF!>=1,#REF!,"") -> #REF! | P5: =IF(#REF!>=1,#REF!,"") -> #REF! | ... V5: =IF(#REF!>=1,#REF!,"") -> #REF! | W5: =IFERROR(AVERAGE(C5:V5),"") | X5: =IFERROR(MEDIAN(C5:V5),"") | Y5: =IFERROR(SMALL(C5:V5,1),"") | Z5: =IFERROR(LARGE(C5:V5,1),"") | AA5: =IFERROR(_xlfn.STDEV.P(C5:V5)/W5,"")
A6: =IF(Dados!A10>=1,Dados!A10,"") -> 7 | B6: =IF(Dados!B10>=1,Dados!B10,"") -> Camiseta Manga Longa Tam. 12 | C6: =IF(Dados!C10>=1,Dados!C10,"") -> 63 | D6: =IF(Dados!D10>=1,Dados!D10,"") -> 66 | E6: =IF(Dados!E10>=1,Dados!E10,"") -> 58 | F6: =IF(Dados!F10>=1,Dados!F10,"") -> 39.17 | G6: =IF(Dados!G10>=1,Dados!G10,"") -> 46.9 | I6: =IF(#REF!>=1,#REF!,"") -> #REF! | J6: =IF(#REF!>=1,#REF!,"") -> #REF! | K6: =IF(#REF!>=1,#REF!,"") -> #REF! | L6: =IF(#REF!>=1,#REF!,"") -> #REF! | M6: =IF(#REF!>=1,#REF!,"") -> #REF! | N6: =IF(#REF!>=1,#REF!,"") -> #REF! | O6: =IF(#REF!>=1,#REF!,"") -> #REF! | P6: =IF(#REF!>=1,#REF!,"") -> #REF! | ... V6: =IF(#REF!>=1,#REF!,"") -> #REF! | W6: =IFERROR(AVERAGE(C6:V6),"") | X6: =IFERROR(MEDIAN(C6:V6),"") | Y6: =IFERROR(SMALL(C6:V6,1),"") | Z6: =IFERROR(LARGE(C6:V6,1),"") | AA6: =IFERROR(_xlfn.STDEV.P(C6:V6)/W6,"")
A7: =IF(Dados!A13>=1,Dados!A13,"") -> 10 | B7: =IF(Dados!B13>=1,Dados!B13,"") -> Camiseta Manga Longa Tam. P | C7: =IF(Dados!C13>=1,Dados!C13,"") -> 80 | D7: =IF(Dados!D13>=1,Dados!D13,"") -> 83 | E7: =IF(Dados!E13>=1,Dados!E13,"") -> 75 | F7: =IF(Dados!F13>=1,Dados!F13,"") -> 39.17 | G7: =IF(Dados!G13>=1,Dados!G13,"") -> 35.49 | I7: =IF(#REF!>=1,#REF!,"") -> #REF! | J7: =IF(#REF!>=1,#REF!,"") -> #REF! | K7: =IF(#REF!>=1,#REF!,"") -> #REF! | L7: =IF(#REF!>=1,#REF!,"") -> #REF! | M7: =IF(#REF!>=1,#REF!,"") -> #REF! | N7: =IF(#REF!>=1,#REF!,"") -> #REF! | O7: =IF(#REF!>=1,#REF!,"") -> #REF! | P7: =IF(#REF!>=1,#REF!,"") -> #REF! | ... V7: =IF(#REF!>=1,#REF!,"") -> #REF! | W7: =IFERROR(AVERAGE(C7:V7),"") | X7: =IFERROR(MEDIAN(C7:V7),"") | Y7: =IFERROR(SMALL(C7:V7,1),"") | Z7: =IFERROR(LARGE(C7:V7,1),"") | AA7: =IFERROR(_xlfn.STDEV.P(C7:V7)/W7,"")
A8: =IF(Dados!A17>=1,Dados!A17,"") -> 14 | B8: =IF(Dados!B17>=1,Dados!B17,"") -> Camiseta Manga Curta Tam. 1 | C8: =IF(Dados!C17>=1,Dados!C17,"") -> 40 | D8: =IF(Dados!D17>=1,Dados!D17,"") -> 43 | E8: =IF(Dados!E17>=1,Dados!E17,"") -> 35 | F8: =IF(Dados!F17>=1,Dados!F17,"") -> 29 | G8: =IF(Dados!G17>=1,Dados!G17,"") | I8: =IF(#REF!>=1,#REF!,"") -> #REF! | J8: =IF(#REF!>=1,#REF!,"") -> #REF! | K8: =IF(#REF!>=1,#REF!,"") -> #REF! | L8: =IF(#REF!>=1,#REF!,"") -> #REF! | M8: =IF(#REF!>=1,#REF!,"") -> #REF! | N8: =IF(#REF!>=1,#REF!,"") -> #REF! | O8: =IF(#REF!>=1,#REF!,"") -> #REF! | P8: =IF(#REF!>=1,#REF!,"") -> #REF! | ... V8: =IF(#REF!>=1,#REF!,"") -> #REF! | W8: =IFERROR(AVERAGE(C8:V8),"") | X8: =IFERROR(MEDIAN(C8:V8),"") | Y8: =IFERROR(SMALL(C8:V8,1),"") | Z8: =IFERROR(LARGE(C8:V8,1),"") | AA8: =IFERROR(_xlfn.STDEV.P(C8:V8)/W8,"")
A9: =IF(Dados!A20>=1,Dados!A20,"") -> 17 | B9: =IF(Dados!B20>=1,Dados!B20,"") -> Camiseta Manga Curta Tam. 6 | C9: =IF(Dados!C20>=1,Dados!C20,"") -> 45 | D9: =IF(Dados!D20>=1,Dados!D20,"") -> 48 | E9: =IF(Dados!E20>=1,Dados!E20,"") -> 40 | F9: =IF(Dados!F20>=1,Dados!F20,"") -> 34.33 | G9: =IF(Dados!G20>=1,Dados!G20,"") -> 29 | I9: =IF(#REF!>=1,#REF!,"") -> #REF! | J9: =IF(#REF!>=1,#REF!,"") -> #REF! | K9: =IF(#REF!>=1,#REF!,"") -> #REF! | L9: =IF(#REF!>=1,#REF!,"") -> #REF! | M9: =IF(#REF!>=1,#REF!,"") -> #REF! | N9: =IF(#REF!>=1,#REF!,"") -> #REF! | O9: =IF(#REF!>=1,#REF!,"") -> #REF! | P9: =IF(#REF!>=1,#REF!,"") -> #REF! | ... V9: =IF(#REF!>=1,#REF!,"") -> #REF! | W9: =IFERROR(AVERAGE(C9:V9),"") | X9: =IFERROR(MEDIAN(C9:V9),"") | Y9: =IFERROR(SMALL(C9:V9,1),"") | Z9: =IFERROR(LARGE(C9:V9,1),"") | AA9: =IFERROR(_xlfn.STDEV.P(C9:V9)/W9,"")
A10: =IF(Dados!A23>=1,Dados!A23,"") -> 20 | B10: =IF(Dados!B23>=1,Dados!B23,"") -> Camiseta Manga Curta Tam. 12 | C10: =IF(Dados!C23>=1,Dados!C23,"") -> 53 | D10: =IF(Dados!D23>=1,Dados!D23,"") -> 56 | E10: =IF(Dados!E23>=1,Dados!E23,"") -> 48 | F10: =IF(Dados!F23>=1,Dados!F23,"") -> 34.33 | G10: =IF(Dados!G23>=1,Dados!G23,"") -> 35 | I10: =IF(#REF!>=1,#REF!,"") -> #REF! | J10: =IF(#REF!>=1,#REF!,"") -> #REF! | K10: =IF(#REF!>=1,#REF!,"") -> #REF! | L10: =IF(#REF!>=1,#REF!,"") -> #REF! | M10: =IF(#REF!>=1,#REF!,"") -> #REF! | N10: =IF(#REF!>=1,#REF!,"") -> #REF! | O10: =IF(#REF!>=1,#REF!,"") -> #REF! | P10: =IF(#REF!>=1,#REF!,"") -> #REF! | ... V10: =IF(#REF!>=1,#REF!,"") -> #REF! | W10: =IFERROR(AVERAGE(C10:V10),"") | X10: =IFERROR(MEDIAN(C10:V10),"") | Y10: =IFERROR(SMALL(C10:V10,1),"") | Z10: =IFERROR(LARGE(C10:V10,1),"") | AA10: =IFERROR(_xlfn.STDEV.P(C10:V10)/W10,"")
A11: =IF(Dados!A26>=1,Dados!A26,"") -> 23 | B11: =IF(Dados!B26>=1,Dados!B26,"") -> Camiseta Manga Curta Tam. P | C11: =IF(Dados!C26>=1,Dados!C26,"") -> 63 | D11: =IF(Dados!D26>=1,Dados!D26,"") -> 66 | E11: =IF(Dados!E26>=1,Dados!E26,"") -> 58 | F11: =IF(Dados!F26>=1,Dados!F26,"") -> 34.33 | G11: =IF(Dados!G26>=1,Dados!G26,"") -> 34.9 | H11: =Dados!H26 -> 51.246 | I11: =IF(#REF!>=1,#REF!,"") -> #REF! | J11: =IF(#REF!>=1,#REF!,"") -> #REF! | K11: =IF(#REF!>=1,#REF!,"") -> #REF! | L11: =IF(#REF!>=1,#REF!,"") -> #REF! | M11: =IF(#REF!>=1,#REF!,"") -> #REF! | N11: =IF(#REF!>=1,#REF!,"") -> #REF! | O11: =IF(#REF!>=1,#REF!,"") -> #REF! | P11: =IF(#REF!>=1,#REF!,"") -> #REF! | ... V11: =IF(#REF!>=1,#REF!,"") -> #REF! | W11: =IFERROR(AVERAGE(C11:V11),"") | X11: =IFERROR(MEDIAN(C11:V11),"") | Y11: =IFERROR(SMALL(C11:V11,1),"") | Z11: =IFERROR(LARGE(C11:V11,1),"") | AA11: =IFERROR(_xlfn.STDEV.P(C11:V11)/W11,"")
A12: =IF(Dados!A30>=1,Dados!A30,"") -> 27 | B12: =IF(Dados!B30>=1,Dados!B30,"") -> Bermuda Masculina Tam. 1 | C12: =IF(Dados!C30>=1,Dados!C30,"") -> 53 | D12: =IF(Dados!D30>=1,Dados!D30,"") -> 56 | E12: =IF(Dados!E30>=1,Dados!E30,"") -> 48 | F12: =IF(Dados!F30>=1,Dados!F30,"") | G12: =IF(Dados!G30>=1,Dados!G30,"") -> 41.9 | I12: =IF(#REF!>=1,#REF!,"") -> #REF! | J12: =IF(#REF!>=1,#REF!,"") -> #REF! | K12: =IF(#REF!>=1,#REF!,"") -> #REF! | L12: =IF(#REF!>=1,#REF!,"") -> #REF! | M12: =IF(#REF!>=1,#REF!,"") -> #REF! | N12: =IF(#REF!>=1,#REF!,"") -> #REF! | O12: =IF(#REF!>=1,#REF!,"") -> #REF! | P12: =IF(#REF!>=1,#REF!,"") -> #REF! | ... V12: =IF(#REF!>=1,#REF!,"") -> #REF! | W12: =IFERROR(AVERAGE(C12:V12),"") | X12: =IFERROR(MEDIAN(C12:V12),"") | Y12: =IFERROR(SMALL(C12:V12,1),"") | Z12: =IFERROR(LARGE(C12:V12,1),"") | AA12: =IFERROR(_xlfn.STDEV.P(C12:V12)/W12,"")
A13: =IF(Dados!A33>=1,Dados!A33,"") -> 30 | B13: =IF(Dados!B33>=1,Dados!B33,"") -> Bermuda Masculina Tam. 6 | C13: =IF(Dados!C33>=1,Dados!C33,"") -> 61 | D13: =IF(Dados!D33>=1,Dados!D33,"") -> 64 | E13: =IF(Dados!E33>=1,Dados!E33,"") -> 56 | F13: =IF(Dados!F33>=1,Dados!F33,"") -> 47 | G13: =IF(Dados!G33>=1,Dados!G33,"") -> 41.9 | I13: =IF(#REF!>=1,#REF!,"") -> #REF! | J13: =IF(#REF!>=1,#REF!,"") -> #REF! | K13: =IF(#REF!>=1,#REF!,"") -> #REF! | L13: =IF(#REF!>=1,#REF!,"") -> #REF! | M13: =IF(#REF!>=1,#REF!,"") -> #REF! | N13: =IF(#REF!>=1,#REF!,"") -> #REF! | O13: =IF(#REF!>=1,#REF!,"") -> #REF! | P13: =IF(#REF!>=1,#REF!,"") -> #REF! | ... V13: =IF(#REF!>=1,#REF!,"") -> #REF! | W13: =IFERROR(AVERAGE(C13:V13),"") | X13: =IFERROR(MEDIAN(C13:V13),"") | Y13: =IFERROR(SMALL(C13:V13,1),"") | Z13: =IFERROR(LARGE(C13:V13,1),"") | AA13: =IFERROR(_xlfn.STDEV.P(C13:V13)/W13,"")
A14: =IF(Dados!A36>=1,Dados!A36,"") -> 33 | B14: =IF(Dados!B36>=1,Dados!B36,"") -> Bermuda Masculina Tam. 12 | C14: =IF(Dados!C36>=1,Dados!C36,"") -> 77 | D14: =IF(Dados!D36>=1,Dados!D36,"") -> 80 | E14: =IF(Dados!E36>=1,Dados!E36,"") -> 72 | F14: =IF(Dados!F36>=1,Dados!F36,"") -> 47 | G14: =IF(Dados!G36>=1,Dados!G36,"") -> 41.9 | H14: =Dados!H36 -> 63.58 | I14: =IF(#REF!>=1,#REF!,"") -> #REF! | J14: =IF(#REF!>=1,#REF!,"") -> #REF! | K14: =IF(#REF!>=1,#REF!,"") -> #REF! | L14: =IF(#REF!>=1,#REF!,"") -> #REF! | M14: =IF(#REF!>=1,#REF!,"") -> #REF! | N14: =IF(#REF!>=1,#REF!,"") -> #REF! | O14: =IF(#REF!>=1,#REF!,"") -> #REF! | P14: =IF(#REF!>=1,#REF!,"") -> #REF! | ... V14: =IF(#REF!>=1,#REF!,"") -> #REF! | W14: =IFERROR(AVERAGE(C14:V14),"") | X14: =IFERROR(MEDIAN(C14:V14),"") | Y14: =IFERROR(SMALL(C14:V14,1),"") | Z14: =IFERROR(LARGE(C14:V14,1),"") | AA14: =IFERROR(_xlfn.STDEV.P(C14:V14)/W14,"")
A15: =IF(Dados!A39>=1,Dados!A39,"") -> 36 | B15: =IF(Dados!B39>=1,Dados!B39,"") -> Bermuda Masculina Tam. P | C15: =IF(Dados!C39>=1,Dados!C39,"") -> 104 | D15: =IF(Dados!D39>=1,Dados!D39,"") -> 107 | E15: =IF(Dados!E39>=1,Dados!E39,"") -> 99 | F15: =IF(Dados!F39>=1,Dados!F39,"") -> 47 | G15: =IF(Dados!G39>=1,Dados!G39,"") -> 41.9 | I15: =IF(#REF!>=1,#REF!,"") -> #REF! | J15: =IF(#REF!>=1,#REF!,"") -> #REF! | K15: =IF(#REF!>=1,#REF!,"") -> #REF! | L15: =IF(#REF!>=1,#REF!,"") -> #REF! | M15: =IF(#REF!>=1,#REF!,"") -> #REF! | N15: =IF(#REF!>=1,#REF!,"") -> #REF! | O15: =IF(#REF!>=1,#REF!,"") -> #REF! | P15: =IF(#REF!>=1,#REF!,"") -> #REF! | ... V15: =IF(#REF!>=1,#REF!,"") -> #REF! | W15: =IFERROR(AVERAGE(C15:V15),"") | X15: =IFERROR(MEDIAN(C15:V15),"") | Y15: =IFERROR(SMALL(C15:V15,1),"") | Z15: =IFERROR(LARGE(C15:V15,1),"") | AA15: =IFERROR(_xlfn.STDEV.P(C15:V15)/W15,"")
A16: =IF(Dados!A43>=1,Dados!A43,"") -> 40 | B16: =IF(Dados!B43>=1,Dados!B43,"") -> Calça Masculina Tam. 1 | C16: =IF(Dados!C43>=1,Dados!C43,"") -> 56 | D16: =IF(Dados!D43>=1,Dados!D43,"") -> 59 | E16: =IF(Dados!E43>=1,Dados!E43,"") -> 51 | F16: =IF(Dados!F43>=1,Dados!F43,"") -> 31.95 | G16: =IF(Dados!G43>=1,Dados!G43,"") | J16: =IF(#REF!>=1,#REF!,"") -> #REF! | K16: =IF(#REF!>=1,#REF!,"") -> #REF! | L16: =IF(#REF!>=1,#REF!,"") -> #REF! | M16: =IF(#REF!>=1,#REF!,"") -> #REF! | N16: =IF(#REF!>=1,#REF!,"") -> #REF! | O16: =IF(#REF!>=1,#REF!,"") -> #REF! | P16: =IF(#REF!>=1,#REF!,"") -> #REF! | Q16: =IF(#REF!>=1,#REF!,"") -> #REF! | ... V16: =IF(#REF!>=1,#REF!,"") -> #REF! | W16: =IFERROR(AVERAGE(C16:V16),"") | X16: =IFERROR(MEDIAN(C16:V16),"") | Y16: =IFERROR(SMALL(C16:V16,1),"") | Z16: =IFERROR(LARGE(C16:V16,1),"") | AA16: =IFERROR(_xlfn.STDEV.P(C16:V16)/W16,"")
A17: =IF(Dados!A46>=1,Dados!A46,"") -> 43 | B17: =IF(Dados!B46>=1,Dados!B46,"") -> Calça Masculina Tam. 6 | C17: =IF(Dados!C46>=1,Dados!C46,"") -> 65 | D17: =IF(Dados!D46>=1,Dados!D46,"") -> 68 | E17: =IF(Dados!E46>=1,Dados!E46,"") -> 60 | F17: =IF(Dados!F46>=1,Dados!F46,"") -> 59.67 | G17: =IF(Dados!G46>=1,Dados!G46,"") -> 59.19 | I17: =IF(#REF!>=1,#REF!,"") -> #REF! | J17: =IF(#REF!>=1,#REF!,"") -> #REF! | K17: =IF(#REF!>=1,#REF!,"") -> #REF! | L17: =IF(#REF!>=1,#REF!,"") -> #REF! | M17: =IF(#REF!>=1,#REF!,"") -> #REF! | N17: =IF(#REF!>=1,#REF!,"") -> #REF! | O17: =IF(#REF!>=1,#REF!,"") -> #REF! | P17: =IF(#REF!>=1,#REF!,"") -> #REF! | ... V17: =IF(#REF!>=1,#REF!,"") -> #REF! | W17: =IFERROR(AVERAGE(C17:V17),"") | X17: =IFERROR(MEDIAN(C17:V17),"") | Y17: =IFERROR(SMALL(C17:V17,1),"") | Z17: =IFERROR(LARGE(C17:V17,1),"") | AA17: =IFERROR(_xlfn.STDEV.P(C17:V17)/W17,"")
A18: =IF(Dados!A49>=1,Dados!A49,"") -> 46 | B18: =IF(Dados!B49>=1,Dados!B49,"") -> Calça Masculina Tam. 12 | C18: =IF(Dados!C49>=1,Dados!C49,"") -> 82 | D18: =IF(Dados!D49>=1,Dados!D49,"") -> 85 | E18: =IF(Dados!E49>=1,Dados!E49,"") -> 77 | F18: =IF(Dados!F49>=1,Dados!F49,"") -> 59.67 | G18: =IF(Dados!G49>=1,Dados!G49,"") -> 59.19 | I18: =IF(#REF!>=1,#REF!,"") -> #REF! | J18: =IF(#REF!>=1,#REF!,"") -> #REF! | K18: =IF(#REF!>=1,#REF!,"") -> #REF! | L18: =IF(#REF!>=1,#REF!,"") -> #REF! | M18: =IF(#REF!>=1,#REF!,"") -> #REF! | N18: =IF(#REF!>=1,#REF!,"") -> #REF! | O18: =IF(#REF!>=1,#REF!,"") -> #REF! | P18: =IF(#REF!>=1,#REF!,"") -> #REF! | ... V18: =IF(#REF!>=1,#REF!,"") -> #REF! | W18: =IFERROR(AVERAGE(C18:V18),"") | X18: =IFERROR(MEDIAN(C18:V18),"") | Y18: =IFERROR(SMALL(C18:V18,1),"") | Z18: =IFERROR(LARGE(C18:V18,1),"") | AA18: =IFERROR(_xlfn.STDEV.P(C18:V18)/W18,"")
A19: =IF(Dados!A52>=1,Dados!A52,"") -> 49 | B19: =IF(Dados!B52>=1,Dados!B52,"") -> Calça Masculina Tam. P | C19: =IF(Dados!C52>=1,Dados!C52,"") -> 113 | D19: =IF(Dados!D52>=1,Dados!D52,"") -> 116 | E19: =IF(Dados!E52>=1,Dados!E52,"") -> 108 | F19: =IF(Dados!F52>=1,Dados!F52,"") -> 59.67 | G19: =IF(Dados!G52>=1,Dados!G52,"") -> 59.19 | H19: =Dados!H52 -> 91.172 | I19: =IF(#REF!>=1,#REF!,"") -> #REF! | J19: =IF(#REF!>=1,#REF!,"") -> #REF! | K19: =IF(#REF!>=1,#REF!,"") -> #REF! | L19: =IF(#REF!>=1,#REF!,"") -> #REF! | M19: =IF(#REF!>=1,#REF!,"") -> #REF! | N19: =IF(#REF!>=1,#REF!,"") -> #REF! | O19: =IF(#REF!>=1,#REF!,"") -> #REF! | P19: =IF(#REF!>=1,#REF!,"") -> #REF! | ... V19: =IF(#REF!>=1,#REF!,"") -> #REF! | W19: =IFERROR(AVERAGE(C19:V19),"") | X19: =IFERROR(MEDIAN(C19:V19),"") | Y19: =IFERROR(SMALL(C19:V19,1),"") | Z19: =IFERROR(LARGE(C19:V19,1),"") | AA19: =IFERROR(_xlfn.STDEV.P(C19:V19)/W19,"")
A20: =IF(Dados!A56>=1,Dados!A56,"") -> 53 | B20: =IF(Dados!B56>=1,Dados!B56,"") -> Calça Legging Feminina Tam. 1 | C20: =IF(Dados!C56>=1,Dados!C56,"") -> 58 | D20: =IF(Dados!D56>=1,Dados!D56,"") -> 61 | E20: =IF(Dados!E56>=1,Dados!E56,"") -> 53 | F20: =IF(Dados!F56>=1,Dados!F56,"") -> 61.9 | G20: =IF(Dados!G56>=1,Dados!G56,"") | H20: =Dados!H56 -> 58.475 | I20: =IF(#REF!>=1,#REF!,"") -> #REF! | J20: =IF(#REF!>=1,#REF!,"") -> #REF! | K20: =IF(#REF!>=1,#REF!,"") -> #REF! | L20: =IF(#REF!>=1,#REF!,"") -> #REF! | M20: =IF(#REF!>=1,#REF!,"") -> #REF! | N20: =IF(#REF!>=1,#REF!,"") -> #REF! | O20: =IF(#REF!>=1,#REF!,"") -> #REF! | P20: =IF(#REF!>=1,#REF!,"") -> #REF! | ... V20: =IF(#REF!>=1,#REF!,"") -> #REF! | W20: =IFERROR(AVERAGE(C20:V20),"") | X20: =IFERROR(MEDIAN(C20:V20),"") | Y20: =IFERROR(SMALL(C20:V20,1),"") | Z20: =IFERROR(LARGE(C20:V20,1),"") | AA20: =IFERROR(_xlfn.STDEV.P(C20:V20)/W20,"")
A21: =IF(Dados!A59>=1,Dados!A59,"") -> 56 | B21: =IF(Dados!B59>=1,Dados!B59,"") -> Calça Legging Feminina Tam. 6 | C21: =IF(Dados!C59>=1,Dados!C59,"") -> 72 | D21: =IF(Dados!D59>=1,Dados!D59,"") -> 75 | E21: =IF(Dados!E59>=1,Dados!E59,"") -> 67 | F21: =IF(Dados!F59>=1,Dados!F59,"") -> 61.9 | G21: =IF(Dados!G59>=1,Dados!G59,"") -> 65.52 | H21: =Dados!H59 -> 68.284 | I21: =IF(#REF!>=1,#REF!,"") -> #REF! | J21: =IF(#REF!>=1,#REF!,"") -> #REF! | K21: =IF(#REF!>=1,#REF!,"") -> #REF! | L21: =IF(#REF!>=1,#REF!,"") -> #REF! | M21: =IF(#REF!>=1,#REF!,"") -> #REF! | N21: =IF(#REF!>=1,#REF!,"") -> #REF! | O21: =IF(#REF!>=1,#REF!,"") -> #REF! | P21: =IF(#REF!>=1,#REF!,"") -> #REF! | ... V21: =IF(#REF!>=1,#REF!,"") -> #REF! | W21: =IFERROR(AVERAGE(C21:V21),"") | X21: =IFERROR(MEDIAN(C21:V21),"") | Y21: =IFERROR(SMALL(C21:V21,1),"") | Z21: =IFERROR(LARGE(C21:V21,1),"") | AA21: =IFERROR(_xlfn.STDEV.P(C21:V21)/W21,"")
A22: =IF(Dados!A62>=1,Dados!A62,"") -> 59 | B22: =IF(Dados!B62>=1,Dados!B62,"") -> Calça Legging Feminina Tam. 12 | C22: =IF(Dados!C62>=1,Dados!C62,"") -> 90 | D22: =IF(Dados!D62>=1,Dados!D62,"") -> 93 | E22: =IF(Dados!E62>=1,Dados!E62,"") -> 85 | F22: =IF(Dados!F62>=1,Dados!F62,"") -> 61.9 | G22: =IF(Dados!G62>=1,Dados!G62,"") -> 65.52 | H22: =Dados!H62 -> 79.084 | I22: =IF(#REF!>=1,#REF!,"") -> #REF! | J22: =IF(#REF!>=1,#REF!,"") -> #REF! | K22: =IF(#REF!>=1,#REF!,"") -> #REF! | L22: =IF(#REF!>=1,#REF!,"") -> #REF! | M22: =IF(#REF!>=1,#REF!,"") -> #REF! | N22: =IF(#REF!>=1,#REF!,"") -> #REF! | O22: =IF(#REF!>=1,#REF!,"") -> #REF! | P22: =IF(#REF!>=1,#REF!,"") -> #REF! | ... V22: =IF(#REF!>=1,#REF!,"") -> #REF! | W22: =IFERROR(AVERAGE(C22:V22),"") | X22: =IFERROR(MEDIAN(C22:V22),"") | Y22: =IFERROR(SMALL(C22:V22,1),"") | Z22: =IFERROR(LARGE(C22:V22,1),"") | AA22: =IFERROR(_xlfn.STDEV.P(C22:V22)/W22,"")
A23: =IF(Dados!A65>=1,Dados!A65,"") -> 62 | B23: =IF(Dados!B65>=1,Dados!B65,"") -> Calça Legging Feminina Tam. P | C23: =IF(Dados!C65>=1,Dados!C65,"") -> 107 | D23: =IF(Dados!D65>=1,Dados!D65,"") -> 110 | E23: =IF(Dados!E65>=1,Dados!E65,"") -> 102 | F23: =IF(Dados!F65>=1,Dados!F65,"") -> 61.9 | G23: =IF(Dados!G65>=1,Dados!G65,"") -> 65.52 | I23: =IF(#REF!>=1,#REF!,"") -> #REF! | J23: =IF(#REF!>=1,#REF!,"") -> #REF! | K23: =IF(#REF!>=1,#REF!,"") -> #REF! | L23: =IF(#REF!>=1,#REF!,"") -> #REF! | M23: =IF(#REF!>=1,#REF!,"") -> #REF! | N23: =IF(#REF!>=1,#REF!,"") -> #REF! | O23: =IF(#REF!>=1,#REF!,"") -> #REF! | P23: =IF(#REF!>=1,#REF!,"") -> #REF! | ... V23: =IF(#REF!>=1,#REF!,"") -> #REF! | W23: =IFERROR(AVERAGE(C23:V23),"") | X23: =IFERROR(MEDIAN(C23:V23),"") | Y23: =IFERROR(SMALL(C23:V23,1),"") | Z23: =IFERROR(LARGE(C23:V23,1),"") | AA23: =IFERROR(_xlfn.STDEV.P(C23:V23)/W23,"")
A24: =IF(Dados!A68>=1,Dados!A68,"") -> 65 | B24: =IF(Dados!B68>=1,Dados!B68,"") -> Shorts Saia Feminino Tam. 1 | C24: =IF(Dados!C68>=1,Dados!C68,"") -> 73 | D24: =IF(Dados!D68>=1,Dados!D68,"") -> 76 | F24: =IF(Dados!F69>=1,Dados!F69,"") -> 29 | G24: =IF(Dados!G68>=1,Dados!G68,"") -> 35 | I24: =IF(#REF!>=1,#REF!,"") -> #REF! | J24: =IF(#REF!>=1,#REF!,"") -> #REF! | K24: =IF(#REF!>=1,#REF!,"") -> #REF! | L24: =IF(#REF!>=1,#REF!,"") -> #REF! | M24: =IF(#REF!>=1,#REF!,"") -> #REF! | N24: =IF(#REF!>=1,#REF!,"") -> #REF! | O24: =IF(#REF!>=1,#REF!,"") -> #REF! | P24: =IF(#REF!>=1,#REF!,"") -> #REF! | ... V24: =IF(#REF!>=1,#REF!,"") -> #REF! | W24: =IFERROR(AVERAGE(C24:V24),"") | X24: =IFERROR(MEDIAN(C24:V24),"") | Y24: =IFERROR(SMALL(C24:V24,1),"") | Z24: =IFERROR(LARGE(C24:V24,1),"") | AA24: =IFERROR(_xlfn.STDEV.P(C24:V24)/W24,"")
A25: =IF(Dados!A71>=1,Dados!A71,"") -> 68 | B25: =IF(Dados!B71>=1,Dados!B71,"") -> Shorts Saia Feminino Tam. 6 | C25: =IF(Dados!C71>=1,Dados!C71,"") -> 94 | D25: =IF(Dados!D71>=1,Dados!D71,"") -> 97 | E25: =IF(Dados!E71>=1,Dados!E71,"") -> 89 | F25: =IF(Dados!F72>=1,Dados!F72,"") -> 29 | G25: =IF(Dados!G71>=1,Dados!G71,"") -> 35 | H25: =Dados!H71 -> 68.8 | I25: =IF(#REF!>=1,#REF!,"") -> #REF! | J25: =IF(#REF!>=1,#REF!,"") -> #REF! | K25: =IF(#REF!>=1,#REF!,"") -> #REF! | L25: =IF(#REF!>=1,#REF!,"") -> #REF! | M25: =IF(#REF!>=1,#REF!,"") -> #REF! | N25: =IF(#REF!>=1,#REF!,"") -> #REF! | O25: =IF(#REF!>=1,#REF!,"") -> #REF! | P25: =IF(#REF!>=1,#REF!,"") -> #REF! | ... V25: =IF(#REF!>=1,#REF!,"") -> #REF! | W25: =IFERROR(AVERAGE(C25:V25),"") | X25: =IFERROR(MEDIAN(C25:V25),"") | Y25: =IFERROR(SMALL(C25:V25,1),"") | Z25: =IFERROR(LARGE(C25:V25,1),"") | AA25: =IFERROR(_xlfn.STDEV.P(C25:V25)/W25,"")
A26: =IF(Dados!A74>=1,Dados!A74,"") -> 71 | B26: =IF(Dados!B74>=1,Dados!B74,"") -> Shorts Saia Feminino Tam. 12 | C26: =IF(Dados!C74>=1,Dados!C74,"") | D26: =IF(Dados!D74>=1,Dados!D74,"") -> 117 | E26: =IF(Dados!E74>=1,Dados!E74,"") -> 109 | F26: =IF(Dados!F75>=1,Dados!F75,"") -> 30.99 | G26: =IF(Dados!G74>=1,Dados!G74,"") -> 35 | I26: =IF(#REF!>=1,#REF!,"") -> #REF! | J26: =IF(#REF!>=1,#REF!,"") -> #REF! | K26: =IF(#REF!>=1,#REF!,"") -> #REF! | L26: =IF(#REF!>=1,#REF!,"") -> #REF! | M26: =IF(#REF!>=1,#REF!,"") -> #REF! | N26: =IF(#REF!>=1,#REF!,"") -> #REF! | O26: =IF(#REF!>=1,#REF!,"") -> #REF! | P26: =IF(#REF!>=1,#REF!,"") -> #REF! | ... V26: =IF(#REF!>=1,#REF!,"") -> #REF! | W26: =IFERROR(AVERAGE(C26:V26),"") | X26: =IFERROR(MEDIAN(C26:V26),"") | Y26: =IFERROR(SMALL(C26:V26,1),"") | Z26: =IFERROR(LARGE(C26:V26,1),"") | AA26: =IFERROR(_xlfn.STDEV.P(C26:V26)/W26,"")
A27: =IF(#REF!>=1,#REF!,"") -> #REF! | B27: =IF(#REF!>=1,#REF!,"") -> #REF! | C27: =IF(#REF!>=1,#REF!,"") -> #REF! | D27: =IF(#REF!>=1,#REF!,"") -> #REF! | E27: =IF(#REF!>=1,#REF!,"") -> #REF! | F27: =IF(#REF!>=1,#REF!,"") -> #REF! | G27: =IF(#REF!>=1,#REF!,"") -> #REF! | I27: =IF(#REF!>=1,#REF!,"") -> #REF! | J27: =IF(#REF!>=1,#REF!,"") -> #REF! | K27: =IF(#REF!>=1,#REF!,"") -> #REF! | L27: =IF(#REF!>=1,#REF!,"") -> #REF! | M27: =IF(#REF!>=1,#REF!,"") -> #REF! | N27: =IF(#REF!>=1,#REF!,"") -> #REF! | O27: =IF(#REF!>=1,#REF!,"") -> #REF! | P27: =IF(#REF!>=1,#REF!,"") -> #REF! | ... V27: =IF(#REF!>=1,#REF!,"") -> #REF! | W27: =IFERROR(AVERAGE(C27:V27),"") | X27: =IFERROR(MEDIAN(C27:V27),"") | Y27: =IFERROR(SMALL(C27:V27,1),"") | Z27: =IFERROR(LARGE(C27:V27,1),"") | AA27: =IFERROR(_xlfn.STDEV.P(C27:V27)/W27,"")
A28: =IF(Dados!A77>=1,Dados!A77,"") -> 74 | B28: =IF(Dados!B77>=1,Dados!B77,"") -> Bermuda Legging Feminina Tam. 1 | C28: =IF(Dados!C77>=1,Dados!C77,"") | D28: =IF(Dados!D77>=1,Dados!D77,"") -> 49 | E28: =IF(Dados!E77>=1,Dados!E77,"") -> 41 | F28: =IF(Dados!F77>=1,Dados!F77,"") -> 28 | G28: =IF(Dados!G77>=1,Dados!G77,"") -> 27 | I28: =IF(#REF!>=1,#REF!,"") -> #REF! | J28: =IF(#REF!>=1,#REF!,"") -> #REF! | K28: =IF(#REF!>=1,#REF!,"") -> #REF! | L28: =IF(#REF!>=1,#REF!,"") -> #REF! | M28: =IF(#REF!>=1,#REF!,"") -> #REF! | N28: =IF(#REF!>=1,#REF!,"") -> #REF! | O28: =IF(#REF!>=1,#REF!,"") -> #REF! | P28: =IF(#REF!>=1,#REF!,"") -> #REF! | ... V28: =IF(#REF!>=1,#REF!,"") -> #REF! | W28: =IFERROR(AVERAGE(C28:V28),"") | X28: =IFERROR(MEDIAN(C28:V28),"") | Y28: =IFERROR(SMALL(C28:V28,1),"") | Z28: =IFERROR(LARGE(C28:V28,1),"") | AA28: =IFERROR(_xlfn.STDEV.P(C28:V28)/W28,"")
A29: =IF(Dados!A80>=1,Dados!A80,"") -> 77 | B29: =IF(Dados!B80>=1,Dados!B80,"") -> Bermuda Legging Feminina Tam. 6 | C29: =IF(Dados!C80>=1,Dados!C80,"") | D29: =IF(Dados!D80>=1,Dados!D80,"") -> 60 | E29: =IF(Dados!E80>=1,Dados!E80,"") -> 52 | F29: =IF(Dados!F80>=1,Dados!F80,"") -> 30 | G29: =IF(Dados!G80>=1,Dados!G80,"") -> 27 | I29: =IF(#REF!>=1,#REF!,"") -> #REF! | J29: =IF(#REF!>=1,#REF!,"") -> #REF! | K29: =IF(#REF!>=1,#REF!,"") -> #REF! | L29: =IF(#REF!>=1,#REF!,"") -> #REF! | M29: =IF(#REF!>=1,#REF!,"") -> #REF! | N29: =IF(#REF!>=1,#REF!,"") -> #REF! | O29: =IF(#REF!>=1,#REF!,"") -> #REF! | P29: =IF(#REF!>=1,#REF!,"") -> #REF! | ... V29: =IF(#REF!>=1,#REF!,"") -> #REF! | W29: =IFERROR(AVERAGE(C29:V29),"") | X29: =IFERROR(MEDIAN(C29:V29),"") | Y29: =IFERROR(SMALL(C29:V29,1),"") | Z29: =IFERROR(LARGE(C29:V29,1),"") | AA29: =IFERROR(_xlfn.STDEV.P(C29:V29)/W29,"")
A30: =IF(Dados!A83>=1,Dados!A83,"") -> 80 | B30: =IF(Dados!B83>=1,Dados!B83,"") -> Bermuda Legging Feminina Tam. 12 | C30: =IF(Dados!C83>=1,Dados!C83,"") -> 73 | D30: =IF(Dados!D83>=1,Dados!D83,"") -> 76 | E30: =IF(Dados!E83>=1,Dados!E83,"") -> 68 | F30: =IF(Dados!F83>=1,Dados!F83,"") -> 38 | G30: =IF(Dados!G83>=1,Dados!G83,"") -> 28 | I30: =IF(#REF!>=1,#REF!,"") -> #REF! | J30: =IF(#REF!>=1,#REF!,"") -> #REF! | K30: =IF(#REF!>=1,#REF!,"") -> #REF! | L30: =IF(#REF!>=1,#REF!,"") -> #REF! | M30: =IF(#REF!>=1,#REF!,"") -> #REF! | N30: =IF(#REF!>=1,#REF!,"") -> #REF! | O30: =IF(#REF!>=1,#REF!,"") -> #REF! | P30: =IF(#REF!>=1,#REF!,"") -> #REF! | ... V30: =IF(#REF!>=1,#REF!,"") -> #REF! | W30: =IFERROR(AVERAGE(C30:V30),"") | X30: =IFERROR(MEDIAN(C30:V30),"") | Y30: =IFERROR(SMALL(C30:V30,1),"") | Z30: =IFERROR(LARGE(C30:V30,1),"") | AA30: =IFERROR(_xlfn.STDEV.P(C30:V30)/W30,"")
A31: =IF(Dados!A86>=1,Dados!A86,"") -> 83 | B31: =IF(Dados!B86>=1,Dados!B86,"") -> Bermuda Legging Feminina Tam. P | C31: =IF(Dados!C86>=1,Dados!C86,"") -> 88 | D31: =IF(Dados!D86>=1,Dados!D86,"") -> 91 | E31: =IF(Dados!E86>=1,Dados!E86,"") -> 83 | F31: =IF(Dados!F86>=1,Dados!F86,"") -> 55 | G31: =IF(Dados!G86>=1,Dados!G86,"") -> 29 | I31: =IF(#REF!>=1,#REF!,"") -> #REF! | J31: =IF(#REF!>=1,#REF!,"") -> #REF! | K31: =IF(#REF!>=1,#REF!,"") -> #REF! | L31: =IF(#REF!>=1,#REF!,"") -> #REF! | M31: =IF(#REF!>=1,#REF!,"") -> #REF! | N31: =IF(#REF!>=1,#REF!,"") -> #REF! | O31: =IF(#REF!>=1,#REF!,"") -> #REF! | P31: =IF(#REF!>=1,#REF!,"") -> #REF! | ... V31: =IF(#REF!>=1,#REF!,"") -> #REF! | W31: =IFERROR(AVERAGE(C31:V31),"") | X31: =IFERROR(MEDIAN(C31:V31),"") | Y31: =IFERROR(SMALL(C31:V31,1),"") | Z31: =IFERROR(LARGE(C31:V31,1),"") | AA31: =IFERROR(_xlfn.STDEV.P(C31:V31)/W31,"")
A32: =IF(Dados!A89>=1,Dados!A89,"") -> 86 | B32: =IF(Dados!B89>=1,Dados!B89,"") -> Jaqueta Tam. 1 | C32: =IF(Dados!C89>=1,Dados!C89,"") | D32: =IF(Dados!D89>=1,Dados!D89,"") -> 103 | E32: =IF(Dados!E89>=1,Dados!E89,"") -> 95 | F32: =IF(Dados!F89>=1,Dados!F89,"") -> 70 | G32: =IF(Dados!G89>=1,Dados!G89,"") -> 90.4 | I32: =IF(#REF!>=1,#REF!,"") -> #REF! | J32: =IF(#REF!>=1,#REF!,"") -> #REF! | K32: =IF(#REF!>=1,#REF!,"") -> #REF! | L32: =IF(#REF!>=1,#REF!,"") -> #REF! | M32: =IF(#REF!>=1,#REF!,"") -> #REF! | N32: =IF(#REF!>=1,#REF!,"") -> #REF! | O32: =IF(#REF!>=1,#REF!,"") -> #REF! | P32: =IF(#REF!>=1,#REF!,"") -> #REF! | ... V32: =IF(#REF!>=1,#REF!,"") -> #REF! | W32: =IFERROR(AVERAGE(C32:V32),"") | X32: =IFERROR(MEDIAN(C32:V32),"") | Y32: =IFERROR(SMALL(C32:V32,1),"") | Z32: =IFERROR(LARGE(C32:V32,1),"") | AA32: =IFERROR(_xlfn.STDEV.P(C32:V32)/W32,"")
A33: =IF(Dados!A92>=1,Dados!A92,"") -> 89 | B33: =IF(Dados!B92>=1,Dados!B92,"") -> Jaqueta Tam. 6 | C33: =IF(Dados!C92>=1,Dados!C92,"") | D33: =IF(Dados!D92>=1,Dados!D92,"") -> 123 | E33: =IF(Dados!E92>=1,Dados!E92,"") -> 115 | F33: =IF(Dados!F92>=1,Dados!F92,"") -> 75 | G33: =IF(Dados!G92>=1,Dados!G92,"") -> 90.4 | I33: =IF(#REF!>=1,#REF!,"") -> #REF! | J33: =IF(#REF!>=1,#REF!,"") -> #REF! | K33: =IF(#REF!>=1,#REF!,"") -> #REF! | L33: =IF(#REF!>=1,#REF!,"") -> #REF! | M33: =IF(#REF!>=1,#REF!,"") -> #REF! | N33: =IF(#REF!>=1,#REF!,"") -> #REF! | O33: =IF(#REF!>=1,#REF!,"") -> #REF! | P33: =IF(#REF!>=1,#REF!,"") -> #REF! | ... V33: =IF(#REF!>=1,#REF!,"") -> #REF! | W33: =IFERROR(AVERAGE(C33:V33),"") | X33: =IFERROR(MEDIAN(C33:V33),"") | Y33: =IFERROR(SMALL(C33:V33,1),"") | Z33: =IFERROR(LARGE(C33:V33,1),"") | AA33: =IFERROR(_xlfn.STDEV.P(C33:V33)/W33,"")
A34: =IF(Dados!A95>=1,Dados!A95,"") -> 92 | B34: =IF(Dados!B95>=1,Dados!B95,"") -> Jaqueta Tam. 12 | C34: =IF(Dados!C95>=1,Dados!C95,"") -> 144 | D34: =IF(Dados!D95>=1,Dados!D95,"") -> 147 | E34: =IF(Dados!E95>=1,Dados!E95,"") -> 139 | F34: =IF(Dados!F95>=1,Dados!F95,"") -> 78 | G34: =IF(Dados!G95>=1,Dados!G95,"") -> 113.55 | I34: =IF(#REF!>=1,#REF!,"") -> #REF! | J34: =IF(#REF!>=1,#REF!,"") -> #REF! | K34: =IF(#REF!>=1,#REF!,"") -> #REF! | L34: =IF(#REF!>=1,#REF!,"") -> #REF! | M34: =IF(#REF!>=1,#REF!,"") -> #REF! | N34: =IF(#REF!>=1,#REF!,"") -> #REF! | O34: =IF(#REF!>=1,#REF!,"") -> #REF! | P34: =IF(#REF!>=1,#REF!,"") -> #REF! | ... V34: =IF(#REF!>=1,#REF!,"") -> #REF! | W34: =IFERROR(AVERAGE(C34:V34),"") | X34: =IFERROR(MEDIAN(C34:V34),"") | Y34: =IFERROR(SMALL(C34:V34,1),"") | Z34: =IFERROR(LARGE(C34:V34,1),"") | AA34: =IFERROR(_xlfn.STDEV.P(C34:V34)/W34,"")
A35: =IF(Dados!A98>=1,Dados!A98,"") -> 95 | B35: =IF(Dados!B98>=1,Dados!B98,"") -> Jaqueta Tam. P | C35: =IF(Dados!C98>=1,Dados!C98,"") -> 160 | D35: =IF(Dados!D98>=1,Dados!D98,"") -> 163 | E35: =IF(Dados!E98>=1,Dados!E98,"") -> 155 | F35: =IF(Dados!F98>=1,Dados!F98,"") -> 90 | G35: =IF(Dados!G98>=1,Dados!G98,"") -> 127.88 | I35: =IF(#REF!>=1,#REF!,"") -> #REF! | J35: =IF(#REF!>=1,#REF!,"") -> #REF! | K35: =IF(#REF!>=1,#REF!,"") -> #REF! | L35: =IF(#REF!>=1,#REF!,"") -> #REF! | M35: =IF(#REF!>=1,#REF!,"") -> #REF! | N35: =IF(#REF!>=1,#REF!,"") -> #REF! | O35: =IF(#REF!>=1,#REF!,"") -> #REF! | P35: =IF(#REF!>=1,#REF!,"") -> #REF! | ... V35: =IF(#REF!>=1,#REF!,"") -> #REF! | W35: =IFERROR(AVERAGE(C35:V35),"") | X35: =IFERROR(MEDIAN(C35:V35),"") | Y35: =IFERROR(SMALL(C35:V35,1),"") | Z35: =IFERROR(LARGE(C35:V35,1),"") | AA35: =IFERROR(_xlfn.STDEV.P(C35:V35)/W35,"")
A36: =IF(Dados!A100>=1,Dados!A100,"") -> 97 | B36: =IF(Dados!B100>=1,Dados!B100,"") -> Jaqueta Tam. G | C36: =IF(Dados!C100>=1,Dados!C100,"") -> 160 | D36: =IF(Dados!D100>=1,Dados!D100,"") | E36: =IF(Dados!E100>=1,Dados!E100,"") -> 155 | F36: =IF(Dados!F100>=1,Dados!F100,"") -> 90 | G36: =IF(Dados!G100>=1,Dados!G100,"") -> 127.88 | I36: =IF(#REF!>=1,#REF!,"") -> #REF! | J36: =IF(#REF!>=1,#REF!,"") -> #REF! | K36: =IF(#REF!>=1,#REF!,"") -> #REF! | L36: =IF(#REF!>=1,#REF!,"") -> #REF! | M36: =IF(#REF!>=1,#REF!,"") -> #REF! | N36: =IF(#REF!>=1,#REF!,"") -> #REF! | O36: =IF(#REF!>=1,#REF!,"") -> #REF! | P36: =IF(#REF!>=1,#REF!,"") -> #REF! | ... V36: =IF(#REF!>=1,#REF!,"") -> #REF! | W36: =IFERROR(AVERAGE(C36:V36),"") | X36: =IFERROR(MEDIAN(C36:V36),"") | Y36: =IFERROR(SMALL(C36:V36,1),"") | Z36: =IFERROR(LARGE(C36:V36,1),"") | AA36: =IFERROR(_xlfn.STDEV.P(C36:V36)/W36,"")
A37: =IF(#REF!>=1,#REF!,"") -> #REF! | B37: =IF(#REF!>=1,#REF!,"") -> #REF! | C37: =IF(#REF!>=1,#REF!,"") -> #REF! | D37: =IF(#REF!>=1,#REF!,"") -> #REF! | E37: =IF(#REF!>=1,#REF!,"") -> #REF! | F37: =IF(#REF!>=1,#REF!,"") -> #REF! | G37: =IF(#REF!>=1,#REF!,"") -> #REF! | I37: =IF(#REF!>=1,#REF!,"") -> #REF! | J37: =IF(#REF!>=1,#REF!,"") -> #REF! | K37: =IF(#REF!>=1,#REF!,"") -> #REF! | L37: =IF(#REF!>=1,#REF!,"") -> #REF! | M37: =IF(#REF!>=1,#REF!,"") -> #REF! | N37: =IF(#REF!>=1,#REF!,"") -> #REF! | O37: =IF(#REF!>=1,#REF!,"") -> #REF! | P37: =IF(#REF!>=1,#REF!,"") -> #REF! | ... V37: =IF(#REF!>=1,#REF!,"") -> #REF! | W37: =IFERROR(AVERAGE(C37:V37),"") | X37: =IFERROR(MEDIAN(C37:V37),"") | Y37: =IFERROR(SMALL(C37:V37,1),"") | Z37: =IFERROR(LARGE(C37:V37,1),"") | AA37: =IFERROR(_xlfn.STDEV.P(C37:V37)/W37,"")
A38: =IF(#REF!>=1,#REF!,"") -> #REF! | B38: =IF(#REF!>=1,#REF!,"") -> #REF! | C38: =IF(#REF!>=1,#REF!,"") -> #REF! | D38: =IF(#REF!>=1,#REF!,"") -> #REF! | E38: =IF(#REF!>=1,#REF!,"") -> #REF! | F38: =IF(#REF!>=1,#REF!,"") -> #REF! | G38: =IF(#REF!>=1,#REF!,"") -> #REF! | I38: =IF(#REF!>=1,#REF!,"") -> #REF! | J38: =IF(#REF!>=1,#REF!,"") -> #REF! | K38: =IF(#REF!>=1,#REF!,"") -> #REF! | L38: =IF(#REF!>=1,#REF!,"") -> #REF! | M38: =IF(#REF!>=1,#REF!,"") -> #REF! | N38: =IF(#REF!>=1,#REF!,"") -> #REF! | O38: =IF(#REF!>=1,#REF!,"") -> #REF! | P38: =IF(#REF!>=1,#REF!,"") -> #REF! | ... V38: =IF(#REF!>=1,#REF!,"") -> #REF! | W38: =IFERROR(AVERAGE(C38:V38),"") | X38: =IFERROR(MEDIAN(C38:V38),"") | Y38: =IFERROR(SMALL(C38:V38,1),"") | Z38: =IFERROR(LARGE(C38:V38,1),"") | AA38: =IFERROR(_xlfn.STDEV.P(C38:V38)/W38,"")
A39: =IF(#REF!>=1,#REF!,"") -> #REF! | B39: =IF(#REF!>=1,#REF!,"") -> #REF! | C39: =IF(#REF!>=1,#REF!,"") -> #REF! | D39: =IF(#REF!>=1,#REF!,"") -> #REF! | E39: =IF(#REF!>=1,#REF!,"") -> #REF! | F39: =IF(#REF!>=1,#REF!,"") -> #REF! | G39: =IF(#REF!>=1,#REF!,"") -> #REF! | H39: =IF(#REF!>=1,#REF!,"") -> #REF! | ... V39: =IF(#REF!>=1,#REF!,"") -> #REF! | W39: =IFERROR(AVERAGE(C39:V39),"") | X39: =IFERROR(MEDIAN(C39:V39),"") | Y39: =IFERROR(SMALL(C39:V39,1),"") | Z39: =IFERROR(LARGE(C39:V39,1),"") | AA39: =IFERROR(_xlfn.STDEV.P(C39:V39)/W39,"")
A40: =IF(#REF!>=1,#REF!,"") -> #REF! | B40: =IF(#REF!>=1,#REF!,"") -> #REF! | C40: =IF(#REF!>=1,#REF!,"") -> #REF! | D40: =IF(#REF!>=1,#REF!,"") -> #REF! | E40: =IF(#REF!>=1,#REF!,"") -> #REF! | F40: =IF(#REF!>=1,#REF!,"") -> #REF! | G40: =IF(#REF!>=1,#REF!,"") -> #REF! | H40: =IF(#REF!>=1,#REF!,"") -> #REF! | ... V40: =IF(#REF!>=1,#REF!,"") -> #REF! | W40: =IFERROR(AVERAGE(C40:V40),"") | X40: =IFERROR(MEDIAN(C40:V40),"") | Y40: =IFERROR(SMALL(C40:V40,1),"") | Z40: =IFERROR(LARGE(C40:V40,1),"") | AA40: =IFERROR(_xlfn.STDEV.P(C40:V40)/W40,"")
A41: =IF(#REF!>=1,#REF!,"") -> #REF! | B41: =IF(#REF!>=1,#REF!,"") -> #REF! | C41: =IF(#REF!>=1,#REF!,"") -> #REF! | D41: =IF(#REF!>=1,#REF!,"") -> #REF! | E41: =IF(#REF!>=1,#REF!,"") -> #REF! | F41: =IF(#REF!>=1,#REF!,"") -> #REF! | G41: =IF(#REF!>=1,#REF!,"") -> #REF! | H41: =IF(#REF!>=1,#REF!,"") -> #REF! | ... R41: =IF(#REF!>=1,#REF!,"") -> #REF! | T41: =IF(#REF!>=1,#REF!,"") -> #REF! | U41: =IF(#REF!>=1,#REF!,"") -> #REF! | V41: =IF(#REF!>=1,#REF!,"") -> #REF! | W41: =IFERROR(AVERAGE(C41:V41),"") | X41: =IFERROR(MEDIAN(C41:V41),"") | Y41: =IFERROR(SMALL(C41:V41,1),"") | Z41: =IFERROR(LARGE(C41:V41,1),"") | AA41: =IFERROR(_xlfn.STDEV.P(C41:V41)/W41,"")
A42: =IF(#REF!>=1,#REF!,"") -> #REF! | B42: =IF(#REF!>=1,#REF!,"") -> #REF! | C42: =IF(#REF!>=1,#REF!,"") -> #REF! | D42: =IF(#REF!>=1,#REF!,"") -> #REF! | E42: =IF(#REF!>=1,#REF!,"") -> #REF! | F42: =IF(#REF!>=1,#REF!,"") -> #REF! | G42: =IF(#REF!>=1,#REF!,"") -> #REF! | H42: =IF(#REF!>=1,#REF!,"") -> #REF! | ... V42: =IF(#REF!>=1,#REF!,"") -> #REF! | W42: =IFERROR(AVERAGE(C42:V42),"") | X42: =IFERROR(MEDIAN(C42:V42),"") | Y42: =IFERROR(SMALL(C42:V42,1),"") | Z42: =IFERROR(LARGE(C42:V42,1),"") | AA42: =IFERROR(_xlfn.STDEV.P(C42:V42)/W42,"")
A43: =IF(#REF!>=1,#REF!,"") -> #REF! | B43: =IF(#REF!>=1,#REF!,"") -> #REF! | C43: =IF(#REF!>=1,#REF!,"") -> #REF! | D43: =IF(#REF!>=1,#REF!,"") -> #REF! | E43: =IF(#REF!>=1,#REF!,"") -> #REF! | F43: =IF(#REF!>=1,#REF!,"") -> #REF! | G43: =IF(#REF!>=1,#REF!,"") -> #REF! | H43: =IF(#REF!>=1,#REF!,"") -> #REF! | ... V43: =IF(#REF!>=1,#REF!,"") -> #REF! | W43: =IFERROR(AVERAGE(C43:V43),"") | X43: =IFERROR(MEDIAN(C43:V43),"") | Y43: =IFERROR(SMALL(C43:V43,1),"") | Z43: =IFERROR(LARGE(C43:V43,1),"") | AA43: =IFERROR(_xlfn.STDEV.P(C43:V43)/W43,"")
A44: =IF(#REF!>=1,#REF!,"") -> #REF! | B44: =IF(#REF!>=1,#REF!,"") -> #REF! | C44: =IF(#REF!>=1,#REF!,"") -> #REF! | D44: =IF(#REF!>=1,#REF!,"") -> #REF! | E44: =IF(#REF!>=1,#REF!,"") -> #REF! | F44: =IF(#REF!>=1,#REF!,"") -> #REF! | G44: =IF(#REF!>=1,#REF!,"") -> #REF! | H44: =IF(#REF!>=1,#REF!,"") -> #REF! | ... V44: =IF(#REF!>=1,#REF!,"") -> #REF! | W44: =IFERROR(AVERAGE(C44:V44),"") | X44: =IFERROR(MEDIAN(C44:V44),"") | Y44: =IFERROR(SMALL(C44:V44,1),"") | Z44: =IFERROR(LARGE(C44:V44,1),"") | AA44: =IFERROR(_xlfn.STDEV.P(C44:V44)/W44,"")
A45: =IF(#REF!>=1,#REF!,"") -> #REF! | B45: =IF(#REF!>=1,#REF!,"") -> #REF! | C45: =IF(#REF!>=1,#REF!,"") -> #REF! | D45: =IF(#REF!>=1,#REF!,"") -> #REF! | E45: =IF(#REF!>=1,#REF!,"") -> #REF! | F45: =IF(#REF!>=1,#REF!,"") -> #REF! | G45: =IF(#REF!>=1,#REF!,"") -> #REF! | H45: =IF(#REF!>=1,#REF!,"") -> #REF! | ... V45: =IF(#REF!>=1,#REF!,"") -> #REF! | W45: =IFERROR(AVERAGE(C45:V45),"") | X45: =IFERROR(MEDIAN(C45:V45),"") | Y45: =IFERROR(SMALL(C45:V45,1),"") | Z45: =IFERROR(LARGE(C45:V45,1),"") | AA45: =IFERROR(_xlfn.STDEV.P(C45:V45)/W45,"")
A46: =IF(#REF!>=1,#REF!,"") -> #REF! | B46: =IF(#REF!>=1,#REF!,"") -> #REF! | C46: =IF(#REF!>=1,#REF!,"") -> #REF! | D46: =IF(#REF!>=1,#REF!,"") -> #REF! | E46: =IF(#REF!>=1,#REF!,"") -> #REF! | F46: =IF(#REF!>=1,#REF!,"") -> #REF! | G46: =IF(#REF!>=1,#REF!,"") -> #REF! | H46: =IF(#REF!>=1,#REF!,"") -> #REF! | ... V46: =IF(#REF!>=1,#REF!,"") -> #REF! | W46: =IFERROR(AVERAGE(C46:V46),"") | X46: =IFERROR(MEDIAN(C46:V46),"") | Y46: =IFERROR(SMALL(C46:V46,1),"") | Z46: =IFERROR(LARGE(C46:V46,1),"") | AA46: =IFERROR(_xlfn.STDEV.P(C46:V46)/W46,"")
A47: =IF(#REF!>=1,#REF!,"") -> #REF! | B47: =IF(#REF!>=1,#REF!,"") -> #REF! | C47: =IF(#REF!>=1,#REF!,"") -> #REF! | D47: =IF(#REF!>=1,#REF!,"") -> #REF! | E47: =IF(#REF!>=1,#REF!,"") -> #REF! | F47: =IF(#REF!>=1,#REF!,"") -> #REF! | G47: =IF(#REF!>=1,#REF!,"") -> #REF! | H47: =IF(#REF!>=1,#REF!,"") -> #REF! | ... V47: =IF(#REF!>=1,#REF!,"") -> #REF! | W47: =IFERROR(AVERAGE(C47:V47),"") | X47: =IFERROR(MEDIAN(C47:V47),"") | Y47: =IFERROR(SMALL(C47:V47,1),"") | Z47: =IFERROR(LARGE(C47:V47,1),"") | AA47: =IFERROR(_xlfn.STDEV.P(C47:V47)/W47,"")
A48: =IF(#REF!>=1,#REF!,"") -> #REF! | B48: =IF(#REF!>=1,#REF!,"") -> #REF! | C48: =IF(#REF!>=1,#REF!,"") -> #REF! | D48: =IF(#REF!>=1,#REF!,"") -> #REF! | F48: =IF(#REF!>=1,#REF!,"") -> #REF! | G48: =IF(#REF!>=1,#REF!,"") -> #REF! | H48: =IF(#REF!>=1,#REF!,"") -> #REF! | I48: =IF(#REF!>=1,#REF!,"") -> #REF! | J48: =IF(#REF!>=1,#REF!,"") -> #REF! | K48: =IF(#REF!>=1,#REF!,"") -> #REF! | L48: =IF(#REF!>=1,#REF!,"") -> #REF! | M48: =IF(#REF!>=1,#REF!,"") -> #REF! | ... V48: =IF(#REF!>=1,#REF!,"") -> #REF! | W48: =IFERROR(AVERAGE(C48:V48),"") | X48: =IFERROR(MEDIAN(C48:V48),"") | Y48: =IFERROR(SMALL(C48:V48,1),"") | Z48: =IFERROR(LARGE(C48:V48,1),"") | AA48: =IFERROR(_xlfn.STDEV.P(C48:V48)/W48,"")
A49: =IF(#REF!>=1,#REF!,"") -> #REF! | B49: =IF(#REF!>=1,#REF!,"") -> #REF! | C49: =IF(#REF!>=1,#REF!,"") -> #REF! | D49: =IF(#REF!>=1,#REF!,"") -> #REF! | E49: =IF(#REF!>=1,#REF!,"") -> #REF! | F49: =IF(#REF!>=1,#REF!,"") -> #REF! | G49: =IF(#REF!>=1,#REF!,"") -> #REF! | H49: =IF(#REF!>=1,#REF!,"") -> #REF! | ... V49: =IF(#REF!>=1,#REF!,"") -> #REF! | W49: =IFERROR(AVERAGE(C49:V49),"") | X49: =IFERROR(MEDIAN(C49:V49),"") | Y49: =IFERROR(SMALL(C49:V49,1),"") | Z49: =IFERROR(LARGE(C49:V49,1),"") | AA49: =IFERROR(_xlfn.STDEV.P(C49:V49)/W49,"")
A50: =IF(#REF!>=1,#REF!,"") -> #REF! | B50: =IF(#REF!>=1,#REF!,"") -> #REF! | C50: =IF(#REF!>=1,#REF!,"") -> #REF! | D50: =IF(#REF!>=1,#REF!,"") -> #REF! | E50: =IF(#REF!>=1,#REF!,"") -> #REF! | F50: =IF(#REF!>=1,#REF!,"") -> #REF! | G50: =IF(#REF!>=1,#REF!,"") -> #REF! | H50: =IF(#REF!>=1,#REF!,"") -> #REF! | ... V50: =IF(#REF!>=1,#REF!,"") -> #REF! | W50: =IFERROR(AVERAGE(C50:V50),"") | X50: =IFERROR(MEDIAN(C50:V50),"") | Y50: =IFERROR(SMALL(C50:V50,1),"") | Z50: =IFERROR(LARGE(C50:V50,1),"") | AA50: =IFERROR(_xlfn.STDEV.P(C50:V50)/W50,"")
A51: =IF(#REF!>=1,#REF!,"") -> #REF! | B51: =IF(#REF!>=1,#REF!,"") -> #REF! | C51: =IF(#REF!>=1,#REF!,"") -> #REF! | D51: =IF(#REF!>=1,#REF!,"") -> #REF! | E51: =IF(#REF!>=1,#REF!,"") -> #REF! | F51: =IF(#REF!>=1,#REF!,"") -> #REF! | G51: =IF(#REF!>=1,#REF!,"") -> #REF! | H51: =IF(#REF!>=1,#REF!,"") -> #REF! | ... V51: =IF(#REF!>=1,#REF!,"") -> #REF! | W51: =IFERROR(AVERAGE(C51:V51),"") | X51: =IFERROR(MEDIAN(C51:V51),"") | Y51: =IFERROR(SMALL(C51:V51,1),"") | Z51: =IFERROR(LARGE(C51:V51,1),"") | AA51: =IFERROR(_xlfn.STDEV.P(C51:V51)/W51,"")
A52: =IF(#REF!>=1,#REF!,"") -> #REF! | B52: =IF(#REF!>=1,#REF!,"") -> #REF! | C52: =IF(#REF!>=1,#REF!,"") -> #REF! | D52: =IF(#REF!>=1,#REF!,"") -> #REF! | E52: =IF(#REF!>=1,#REF!,"") -> #REF! | F52: =IF(#REF!>=1,#REF!,"") -> #REF! | G52: =IF(#REF!>=1,#REF!,"") -> #REF! | H52: =IF(#REF!>=1,#REF!,"") -> #REF! | ... V52: =IF(#REF!>=1,#REF!,"") -> #REF! | W52: =IFERROR(AVERAGE(C52:V52),"") | X52: =IFERROR(MEDIAN(C52:V52),"") | Y52: =IFERROR(SMALL(C52:V52,1),"") | Z52: =IFERROR(LARGE(C52:V52,1),"") | AA52: =IFERROR(_xlfn.STDEV.P(C52:V52)/W52,"")
A53: =IF(#REF!>=1,#REF!,"") -> #REF! | B53: =IF(#REF!>=1,#REF!,"") -> #REF! | C53: =IF(#REF!>=1,#REF!,"") -> #REF! | D53: =IF(#REF!>=1,#REF!,"") -> #REF! | E53: =IF(#REF!>=1,#REF!,"") -> #REF! | F53: =IF(#REF!>=1,#REF!,"") -> #REF! | G53: =IF(#REF!>=1,#REF!,"") -> #REF! | H53: =IF(#REF!>=1,#REF!,"") -> #REF! | ... V53: =IF(#REF!>=1,#REF!,"") -> #REF! | W53: =IFERROR(AVERAGE(C53:V53),"") | X53: =IFERROR(MEDIAN(C53:V53),"") | Y53: =IFERROR(SMALL(C53:V53,1),"") | Z53: =IFERROR(LARGE(C53:V53,1),"") | AA53: =IFERROR(_xlfn.STDEV.P(C53:V53)/W53,"")
A54: =IF(#REF!>=1,#REF!,"") -> #REF! | B54: =IF(#REF!>=1,#REF!,"") -> #REF! | C54: =IF(#REF!>=1,#REF!,"") -> #REF! | D54: =IF(#REF!>=1,#REF!,"") -> #REF! | E54: =IF(#REF!>=1,#REF!,"") -> #REF! | F54: =IF(#REF!>=1,#REF!,"") -> #REF! | G54: =IF(#REF!>=1,#REF!,"") -> #REF! | H54: =IF(#REF!>=1,#REF!,"") -> #REF! | ... V54: =IF(#REF!>=1,#REF!,"") -> #REF! | W54: =IFERROR(AVERAGE(C54:V54),"") | X54: =IFERROR(MEDIAN(C54:V54),"") | Y54: =IFERROR(SMALL(C54:V54,1),"") | Z54: =IFERROR(LARGE(C54:V54,1),"") | AA54: =IFERROR(_xlfn.STDEV.P(C54:V54)/W54,"")
A55: =IF(#REF!>=1,#REF!,"") -> #REF! | B55: =IF(#REF!>=1,#REF!,"") -> #REF! | C55: =IF(#REF!>=1,#REF!,"") -> #REF! | D55: =IF(#REF!>=1,#REF!,"") -> #REF! | E55: =IF(#REF!>=1,#REF!,"") -> #REF! | F55: =IF(#REF!>=1,#REF!,"") -> #REF! | G55: =IF(#REF!>=1,#REF!,"") -> #REF! | H55: =IF(#REF!>=1,#REF!,"") -> #REF! | ... P55: =IF(#REF!>=1,#REF!,"") -> #REF! | R55: =IF(#REF!>=1,#REF!,"") -> #REF! | S55: =IF(#REF!>=1,#REF!,"") -> #REF! | T55: =IF(#REF!>=1,#REF!,"") -> #REF! | U55: =IF(#REF!>=1,#REF!,"") -> #REF! | V55: =IF(#REF!>=1,#REF!,"") -> #REF! | W55: =IFERROR(AVERAGE(C55:V55),"") | X55: =IFERROR(MEDIAN(C55:V55),"") | Y55: =IFERROR(SMALL(C55:V55,1),"") | Z55: =IFERROR(LARGE(C55:V55,1),"") | AA55: =IFERROR(_xlfn.STDEV.P(C55:V55)/W55,"")
A56: =IF(#REF!>=1,#REF!,"") -> #REF! | B56: =IF(#REF!>=1,#REF!,"") -> #REF! | C56: =IF(#REF!>=1,#REF!,"") -> #REF! | D56: =IF(#REF!>=1,#REF!,"") -> #REF! | E56: =IF(#REF!>=1,#REF!,"") -> #REF! | F56: =IF(#REF!>=1,#REF!,"") -> #REF! | G56: =IF(#REF!>=1,#REF!,"") -> #REF! | H56: =IF(#REF!>=1,#REF!,"") -> #REF! | ... P56: =IF(#REF!>=1,#REF!,"") -> #REF! | R56: =IF(#REF!>=1,#REF!,"") -> #REF! | S56: =IF(#REF!>=1,#REF!,"") -> #REF! | T56: =IF(#REF!>=1,#REF!,"") -> #REF! | U56: =IF(#REF!>=1,#REF!,"") -> #REF! | V56: =IF(#REF!>=1,#REF!,"") -> #REF! | W56: =IFERROR(AVERAGE(C56:V56),"") | X56: =IFERROR(MEDIAN(C56:V56),"") | Y56: =IFERROR(SMALL(C56:V56,1),"") | Z56: =IFERROR(LARGE(C56:V56,1),"") | AA56: =IFERROR(_xlfn.STDEV.P(C56:V56)/W56,"")
A57: =IF(#REF!>=1,#REF!,"") -> #REF! | B57: =IF(#REF!>=1,#REF!,"") -> #REF! | C57: =IF(#REF!>=1,#REF!,"") -> #REF! | D57: =IF(#REF!>=1,#REF!,"") -> #REF! | E57: =IF(#REF!>=1,#REF!,"") -> #REF! | F57: =IF(#REF!>=1,#REF!,"") -> #REF! | G57: =IF(#REF!>=1,#REF!,"") -> #REF! | H57: =IF(#REF!>=1,#REF!,"") -> #REF! | ... V57: =IF(#REF!>=1,#REF!,"") -> #REF! | W57: =IFERROR(AVERAGE(C57:V57),"") | X57: =IFERROR(MEDIAN(C57:V57),"") | Y57: =IFERROR(SMALL(C57:V57,1),"") | Z57: =IFERROR(LARGE(C57:V57,1),"") | AA57: =IFERROR(_xlfn.STDEV.P(C57:V57)/W57,"")
A58: =IF(#REF!>=1,#REF!,"") -> #REF! | B58: =IF(#REF!>=1,#REF!,"") -> #REF! | C58: =IF(#REF!>=1,#REF!,"") -> #REF! | D58: =IF(#REF!>=1,#REF!,"") -> #REF! | E58: =IF(#REF!>=1,#REF!,"") -> #REF! | F58: =IF(#REF!>=1,#REF!,"") -> #REF! | G58: =IF(#REF!>=1,#REF!,"") -> #REF! | H58: =IF(#REF!>=1,#REF!,"") -> #REF! | ... V58: =IF(#REF!>=1,#REF!,"") -> #REF! | W58: =IFERROR(AVERAGE(C58:V58),"") | X58: =IFERROR(MEDIAN(C58:V58),"") | Y58: =IFERROR(SMALL(C58:V58,1),"") | Z58: =IFERROR(LARGE(C58:V58,1),"") | AA58: =IFERROR(_xlfn.STDEV.P(C58:V58)/W58,"")
A59: =IF(#REF!>=1,#REF!,"") -> #REF! | B59: =IF(#REF!>=1,#REF!,"") -> #REF! | C59: =IF(#REF!>=1,#REF!,"") -> #REF! | D59: =IF(#REF!>=1,#REF!,"") -> #REF! | E59: =IF(#REF!>=1,#REF!,"") -> #REF! | F59: =IF(#REF!>=1,#REF!,"") -> #REF! | G59: =IF(#REF!>=1,#REF!,"") -> #REF! | H59: =IF(#REF!>=1,#REF!,"") -> #REF! | ... V59: =IF(#REF!>=1,#REF!,"") -> #REF! | W59: =IFERROR(AVERAGE(C59:V59),"") | X59: =IFERROR(MEDIAN(C59:V59),"") | Y59: =IFERROR(SMALL(C59:V59,1),"") | Z59: =IFERROR(LARGE(C59:V59,1),"") | AA59: =IFERROR(_xlfn.STDEV.P(C59:V59)/W59,"")
A60: =IF(#REF!>=1,#REF!,"") -> #REF! | B60: =IF(#REF!>=1,#REF!,"") -> #REF! | C60: =IF(#REF!>=1,#REF!,"") -> #REF! | D60: =IF(#REF!>=1,#REF!,"") -> #REF! | E60: =IF(#REF!>=1,#REF!,"") -> #REF! | F60: =IF(#REF!>=1,#REF!,"") -> #REF! | G60: =IF(#REF!>=1,#REF!,"") -> #REF! | H60: =IF(#REF!>=1,#REF!,"") -> #REF! | ... V60: =IF(#REF!>=1,#REF!,"") -> #REF! | W60: =IFERROR(AVERAGE(C60:V60),"") | X60: =IFERROR(MEDIAN(C60:V60),"") | Y60: =IFERROR(SMALL(C60:V60,1),"") | Z60: =IFERROR(LARGE(C60:V60,1),"") | AA60: =IFERROR(_xlfn.STDEV.P(C60:V60)/W60,"")
A61: =IF(#REF!>=1,#REF!,"") -> #REF! | B61: =IF(#REF!>=1,#REF!,"") -> #REF! | C61: =IF(#REF!>=1,#REF!,"") -> #REF! | D61: =IF(#REF!>=1,#REF!,"") -> #REF! | E61: =IF(#REF!>=1,#REF!,"") -> #REF! | F61: =IF(#REF!>=1,#REF!,"") -> #REF! | G61: =IF(#REF!>=1,#REF!,"") -> #REF! | H61: =IF(#REF!>=1,#REF!,"") -> #REF! | ... V61: =IF(#REF!>=1,#REF!,"") -> #REF! | W61: =IFERROR(AVERAGE(C61:V61),"") | X61: =IFERROR(MEDIAN(C61:V61),"") | Y61: =IFERROR(SMALL(C61:V61,1),"") | Z61: =IFERROR(LARGE(C61:V61,1),"") | AA61: =IFERROR(_xlfn.STDEV.P(C61:V61)/W61,"")
A62: =IF(#REF!>=1,#REF!,"") -> #REF! | B62: =IF(#REF!>=1,#REF!,"") -> #REF! | C62: =IF(#REF!>=1,#REF!,"") -> #REF! | D62: =IF(#REF!>=1,#REF!,"") -> #REF! | E62: =IF(#REF!>=1,#REF!,"") -> #REF! | F62: =IF(#REF!>=1,#REF!,"") -> #REF! | G62: =IF(#REF!>=1,#REF!,"") -> #REF! | H62: =IF(#REF!>=1,#REF!,"") -> #REF! | ... V62: =IF(#REF!>=1,#REF!,"") -> #REF! | W62: =IFERROR(AVERAGE(C62:V62),"") | X62: =IFERROR(MEDIAN(C62:V62),"") | Y62: =IFERROR(SMALL(C62:V62,1),"") | Z62: =IFERROR(LARGE(C62:V62,1),"") | AA62: =IFERROR(_xlfn.STDEV.P(C62:V62)/W62,"")
A63: =IF(#REF!>=1,#REF!,"") -> #REF! | B63: =IF(#REF!>=1,#REF!,"") -> #REF! | C63: =IF(#REF!>=1,#REF!,"") -> #REF! | D63: =IF(#REF!>=1,#REF!,"") -> #REF! | E63: =IF(#REF!>=1,#REF!,"") -> #REF! | F63: =IF(#REF!>=1,#REF!,"") -> #REF! | G63: =IF(#REF!>=1,#REF!,"") -> #REF! | H63: =IF(#REF!>=1,#REF!,"") -> #REF! | ... V63: =IF(#REF!>=1,#REF!,"") -> #REF! | W63: =IFERROR(AVERAGE(C63:V63),"") | X63: =IFERROR(MEDIAN(C63:V63),"") | Y63: =IFERROR(SMALL(C63:V63,1),"") | Z63: =IFERROR(LARGE(C63:V63,1),"") | AA63: =IFERROR(_xlfn.STDEV.P(C63:V63)/W63,"")
A64: =IF(#REF!>=1,#REF!,"") -> #REF! | B64: =IF(#REF!>=1,#REF!,"") -> #REF! | C64: =IF(#REF!>=1,#REF!,"") -> #REF! | D64: =IF(#REF!>=1,#REF!,"") -> #REF! | E64: =IF(#REF!>=1,#REF!,"") -> #REF! | F64: =IF(#REF!>=1,#REF!,"") -> #REF! | G64: =IF(#REF!>=1,#REF!,"") -> #REF! | H64: =IF(#REF!>=1,#REF!,"") -> #REF! | ... V64: =IF(#REF!>=1,#REF!,"") -> #REF! | W64: =IFERROR(AVERAGE(C64:V64),"") | X64: =IFERROR(MEDIAN(C64:V64),"") | Y64: =IFERROR(SMALL(C64:V64,1),"") | Z64: =IFERROR(LARGE(C64:V64,1),"") | AA64: =IFERROR(_xlfn.STDEV.P(C64:V64)/W64,"")
A65: =IF(#REF!>=1,#REF!,"") -> #REF! | B65: =IF(#REF!>=1,#REF!,"") -> #REF! | C65: =IF(#REF!>=1,#REF!,"") -> #REF! | D65: =IF(#REF!>=1,#REF!,"") -> #REF! | E65: =IF(#REF!>=1,#REF!,"") -> #REF! | F65: =IF(#REF!>=1,#REF!,"") -> #REF! | G65: =IF(#REF!>=1,#REF!,"") -> #REF! | H65: =IF(#REF!>=1,#REF!,"") -> #REF! | ... V65: =IF(#REF!>=1,#REF!,"") -> #REF! | W65: =IFERROR(AVERAGE(C65:V65),"") | X65: =IFERROR(MEDIAN(C65:V65),"") | Y65: =IFERROR(SMALL(C65:V65,1),"") | Z65: =IFERROR(LARGE(C65:V65,1),"") | AA65: =IFERROR(_xlfn.STDEV.P(C65:V65)/W65,"")
A66: =IF(#REF!>=1,#REF!,"") -> #REF! | B66: =IF(#REF!>=1,#REF!,"") -> #REF! | C66: =IF(#REF!>=1,#REF!,"") -> #REF! | D66: =IF(#REF!>=1,#REF!,"") -> #REF! | E66: =IF(#REF!>=1,#REF!,"") -> #REF! | F66: =IF(#REF!>=1,#REF!,"") -> #REF! | G66: =IF(#REF!>=1,#REF!,"") -> #REF! | H66: =IF(#REF!>=1,#REF!,"") -> #REF! | ... V66: =IF(#REF!>=1,#REF!,"") -> #REF! | W66: =IFERROR(AVERAGE(C66:V66),"") | X66: =IFERROR(MEDIAN(C66:V66),"") | Y66: =IFERROR(SMALL(C66:V66,1),"") | Z66: =IFERROR(LARGE(C66:V66,1),"") | AA66: =IFERROR(_xlfn.STDEV.P(C66:V66)/W66,"")
A67: =IF(#REF!>=1,#REF!,"") -> #REF! | B67: =IF(#REF!>=1,#REF!,"") -> #REF! | C67: =IF(#REF!>=1,#REF!,"") -> #REF! | D67: =IF(#REF!>=1,#REF!,"") -> #REF! | E67: =IF(#REF!>=1,#REF!,"") -> #REF! | F67: =IF(#REF!>=1,#REF!,"") -> #REF! | G67: =IF(#REF!>=1,#REF!,"") -> #REF! | H67: =IF(#REF!>=1,#REF!,"") -> #REF! | ... V67: =IF(#REF!>=1,#REF!,"") -> #REF! | W67: =IFERROR(AVERAGE(C67:V67),"") | X67: =IFERROR(MEDIAN(C67:V67),"") | Y67: =IFERROR(SMALL(C67:V67,1),"") | Z67: =IFERROR(LARGE(C67:V67,1),"") | AA67: =IFERROR(_xlfn.STDEV.P(C67:V67)/W67,"")
A68: =IF(#REF!>=1,#REF!,"") -> #REF! | B68: =IF(#REF!>=1,#REF!,"") -> #REF! | C68: =IF(#REF!>=1,#REF!,"") -> #REF! | D68: =IF(#REF!>=1,#REF!,"") -> #REF! | E68: =IF(#REF!>=1,#REF!,"") -> #REF! | F68: =IF(#REF!>=1,#REF!,"") -> #REF! | G68: =IF(#REF!>=1,#REF!,"") -> #REF! | H68: =IF(#REF!>=1,#REF!,"") -> #REF! | ... V68: =IF(#REF!>=1,#REF!,"") -> #REF! | W68: =IFERROR(AVERAGE(C68:V68),"") | X68: =IFERROR(MEDIAN(C68:V68),"") | Y68: =IFERROR(SMALL(C68:V68,1),"") | Z68: =IFERROR(LARGE(C68:V68,1),"") | AA68: =IFERROR(_xlfn.STDEV.P(C68:V68)/W68,"")
... A503: =IF(#REF!>=1,#REF!,"") -> #REF! | B503: =IF(#REF!>=1,#REF!,"") -> #REF! | C503: =IF(#REF!>=1,#REF!,"") -> #REF! | D503: =IF(#REF!>=1,#REF!,"") -> #REF! | E503: =IF(#REF!>=1,#REF!,"") -> #REF! | F503: =IF(#REF!>=1,#REF!,"") -> #REF! | G503: =IF(#REF!>=1,#REF!,"") -> #REF! | H503: =IF(#REF!>=1,#REF!,"") -> #REF! | ... V503: =IF(#REF!>=1,#REF!,"") -> #REF! | W503: =IFERROR(AVERAGE(C503:V503),"") | X503: =IFERROR(MEDIAN(C503:V503),"") | Y503: =IFERROR(SMALL(C503:V503,1),"") | Z503: =IFERROR(LARGE(C503:V503,1),"") | AA503: =IFERROR(_xlfn.STDEV.P(C503:V503)/W503,"")

Sheet Impressão
A1: QUADRO COMPARATIVO DE PREÇOS
A2: ITEM | B2: DESCRIÇÃO DETALHADA DO ITEM | C2: 1º PARÂM. | D2: 2º PARÂM. | E2: 3º PARÂM. | F2: 4º PARÂM. | G2: 5º PARÂM. | H2: 6º PARÂM. | I2: 7º PARÂM. | J2: 8º PARÂM. | K2: 9º PARÂM. | L2: 10º PARÂM. | M2: 11º PARÂM. | N2: 12º PARÂM. | O2: 13º PARÂM. | P2: 14º PARÂM. | Q2: 15º PARÂM. | R2: 16º PARÂM. | S2: 17º PARÂM. | T2: 18º PARÂM. | U2: 19º PARÂM. | V2: 20º PARÂM. | W2: MÉDIA | X2: MEDIANA | Y2: MENOR VALOR | Z2: MAIOR VALOR | AA2: COEFICIENTE DE VARIAÇÃO
C3: =IF(Dados!C3>=1,Dados!C3,"") -> Gaiardo E Gaiardo LTDA | D3: =IF(Dados!D3>=1,Dados!D3,"") -> Dalton Confecções LTDA | E3: =IF(Dados!E3>=1,Dados!E3,"") -> Elenita Ida Tumellero Conti LTDa | F3: =IF(Dados!F3>=1,Dados!F3,"") -> Licitacon/PNPC | G3: =IF(Dados!G3>=1,Dados!G3,"") -> Licitacon/PNPC | H3: =IF(Dados!H3>=1,Dados!H3,"") -> Valor Médio | I3: =IF(#REF!>=1,#REF!,"") -> #REF! | J3: =IF(#REF!>=1,#REF!,"") -> #REF! | K3: =IF(#REF!>=1,#REF!,"") -> #REF! | L3: =IF(#REF!>=1,#REF!,"") -> #REF! | M3: =IF(#REF!>=1,#REF!,"") -> #REF! | N3: =IF(#REF!>=1,#REF!,"") -> #REF! | O3: =IF(#REF!>=1,#REF!,"") -> #REF! | P3: =IF(#REF!>=1,#REF!,"") -> #REF! | ... V3: =IF(#REF!>=1,#REF!,"") -> #REF!
A4: =IF(Dados!A4>=1,Dados!A4,"") -> 1 | B4: =IF(Dados!B4>=1,Dados!B4,"") -> Camiseta Manga Longa Tam. 1 | C4: =IF('Fórmula Mágica'!C4="VERDADEIRO",Dados!C4,Dados!C4) -> 45 | D4: =IF('Fórmula Mágica'!D4="VERDADEIRO",Dados!D4,Dados!D4) -> 48 | E4: =IF('Fórmula Mágica'!E4="VERDADEIRO",Dados!E4,Dados!E4) -> 40 | F4: =IF('Fórmula Mágica'!F4="VERDADEIRO",Dados!F4,Dados!F4) -> 28 | G4: =IF('Fórmula Mágica'!G4="VERDADEIRO",Dados!G4,Dados!G4) -> 0 | H4: =IF('Fórmula Mágica'!H4="VERDADEIRO",Dados!H4,Dados!H4) -> 40.25 | I4: =IF('Fórmula Mágica'!I4="VERDADEIRO",#REF!,#REF!) -> #REF! | J4: =IF('Fórmula Mágica'!J4="VERDADEIRO",#REF!,#REF!) -> #REF! | K4: =IF('Fórmula Mágica'!K4="VERDADEIRO",#REF!,#REF!) -> #REF! | L4: =IF('Fórmula Mágica'!L4="VERDADEIRO",#REF!,#REF!) -> #REF! | M4: =IF('Fórmula Mágica'!M4="VERDADEIRO",#REF!,#REF!) -> #REF! | N4: =IF('Fórmula Mágica'!N4="VERDADEIRO",#REF!,#REF!) -> #REF! | O4: =IF('Fórmula Mágica'!O4="VERDADEIRO",#REF!,#REF!) -> #REF! | P4: =IF('Fórmula Mágica'!P4="VERDADEIRO",#REF!,#REF!) -> #REF! | ... V4: =IF('Fórmula Mágica'!V4="VERDADEIRO",#REF!,#REF!) -> #REF! | W4: =Saneamento!W4 | X4: =Saneamento!X4 | Y4: =Saneamento!Y4 | Z4: =Saneamento!Z4 | AA4: =Saneamento!AA4 | AB4: OK
A5: =IF(Dados!A7>=1,Dados!A7,"") -> 4 | B5: =IF(Dados!B7>=1,Dados!B7,"") -> Camiseta Manga Longa Tam. 6 | C5: =IF('Fórmula Mágica'!C5="VERDADEIRO",Dados!C7,Dados!C7) -> 55 | D5: =IF('Fórmula Mágica'!D5="VERDADEIRO",Dados!D7,Dados!D7) -> 58 | E5: =IF('Fórmula Mágica'!E5="VERDADEIRO",Dados!E7,Dados!E7) -> 50 | F5: =IF('Fórmula Mágica'!F5="VERDADEIRO",Dados!F7,Dados!F7) -> 39.17 | G5: =IF('Fórmula Mágica'!G5="VERDADEIRO",Dados!G7,Dados!G7) -> 39.9 | H5: =IF('Fórmula Mágica'!H5="VERDADEIRO",Dados!H7,Dados!H7) -> 48.414 | I5: =IF('Fórmula Mágica'!I5="VERDADEIRO",#REF!,#REF!) -> #REF! | J5: =IF('Fórmula Mágica'!J5="VERDADEIRO",#REF!,#REF!) -> #REF! | K5: =IF('Fórmula Mágica'!K5="VERDADEIRO",#REF!,#REF!) -> #REF! | L5: =IF('Fórmula Mágica'!L5="VERDADEIRO",#REF!,#REF!) -> #REF! | M5: =IF('Fórmula Mágica'!M5="VERDADEIRO",#REF!,#REF!) -> #REF! | N5: =IF('Fórmula Mágica'!N5="VERDADEIRO",#REF!,#REF!) -> #REF! | O5: =IF('Fórmula Mágica'!O5="VERDADEIRO",#REF!,#REF!) -> #REF! | P5: =IF('Fórmula Mágica'!P5="VERDADEIRO",#REF!,#REF!) -> #REF! | ... V5: =IF('Fórmula Mágica'!V5="VERDADEIRO",#REF!,#REF!) -> #REF! | W5: =Saneamento!W5 | X5: =Saneamento!X5 | Y5: =Saneamento!Y5 | Z5: =Saneamento!Z5 | AA5: =Saneamento!AA5 | AB5: OK
A6: =IF(Dados!A10>=1,Dados!A10,"") -> 7 | B6: =IF(Dados!B10>=1,Dados!B10,"") -> Camiseta Manga Longa Tam. 12 | C6: =IF('Fórmula Mágica'!C6="VERDADEIRO",Dados!C10,Dados!C10) -> 63 | D6: =IF('Fórmula Mágica'!D6="VERDADEIRO",Dados!D10,Dados!D10) -> 66 | E6: =IF('Fórmula Mágica'!E6="VERDADEIRO",Dados!E10,Dados!E10) -> 58 | F6: =IF('Fórmula Mágica'!F6="VERDADEIRO",Dados!F10,Dados!F10) -> 39.17 | G6: =IF('Fórmula Mágica'!G6="VERDADEIRO",Dados!G10,Dados!G10) -> 46.9 | H6: =IF('Fórmula Mágica'!H6="VERDADEIRO",Dados!H10,Dados!H10) -> 54.614 | I6: =IF('Fórmula Mágica'!I6="VERDADEIRO",#REF!,#REF!) -> #REF! | J6: =IF('Fórmula Mágica'!J6="VERDADEIRO",#REF!,#REF!) -> #REF! | K6: =IF('Fórmula Mágica'!K6="VERDADEIRO",#REF!,#REF!) -> #REF! | L6: =IF('Fórmula Mágica'!L6="VERDADEIRO",#REF!,#REF!) -> #REF! | M6: =IF('Fórmula Mágica'!M6="VERDADEIRO",#REF!,#REF!) -> #REF! | N6: =IF('Fórmula Mágica'!N6="VERDADEIRO",#REF!,#REF!) -> #REF! | O6: =IF('Fórmula Mágica'!O6="VERDADEIRO",#REF!,#REF!) -> #REF! | P6: =IF('Fórmula Mágica'!P6="VERDADEIRO",#REF!,#REF!) -> #REF! | ... V6: =IF('Fórmula Mágica'!V6="VERDADEIRO",#REF!,#REF!) -> #REF! | W6: =Saneamento!W6 | X6: =Saneamento!X6 | Y6: =Saneamento!Y6 | Z6: =Saneamento!Z6 | AA6: =Saneamento!AA6 | AB6: OK
A7: =IF(Dados!A13>=1,Dados!A13,"") -> 10 | B7: =IF(Dados!B13>=1,Dados!B13,"") -> Camiseta Manga Longa Tam. P | C7: =IF('Fórmula Mágica'!C7="VERDADEIRO",Dados!C13,Dados!C13) -> 80 | D7: =IF('Fórmula Mágica'!D7="VERDADEIRO",Dados!D13,Dados!D13) -> 83 | E7: =IF('Fórmula Mágica'!E7="VERDADEIRO",Dados!E13,Dados!E13) -> 75 | F7: =IF('Fórmula Mágica'!F7="VERDADEIRO",Dados!F13,Dados!F13) -> 39.17 | G7: =IF('Fórmula Mágica'!G7="VERDADEIRO",Dados!G13,Dados!G13) -> 35.49 | H7: =IF('Fórmula Mágica'!H7="VERDADEIRO",Dados!H13,Dados!H13) -> 62.532 | I7: =IF('Fórmula Mágica'!I7="VERDADEIRO",#REF!,#REF!) -> #REF! | J7: =IF('Fórmula Mágica'!J7="VERDADEIRO",#REF!,#REF!) -> #REF! | K7: =IF('Fórmula Mágica'!K7="VERDADEIRO",#REF!,#REF!) -> #REF! | L7: =IF('Fórmula Mágica'!L7="VERDADEIRO",#REF!,#REF!) -> #REF! | M7: =IF('Fórmula Mágica'!M7="VERDADEIRO",#REF!,#REF!) -> #REF! | N7: =IF('Fórmula Mágica'!N7="VERDADEIRO",#REF!,#REF!) -> #REF! | O7: =IF('Fórmula Mágica'!O7="VERDADEIRO",#REF!,#REF!) -> #REF! | P7: =IF('Fórmula Mágica'!P7="VERDADEIRO",#REF!,#REF!) -> #REF! | ... V7: =IF('Fórmula Mágica'!V7="VERDADEIRO",#REF!,#REF!) -> #REF! | W7: =Saneamento!W7 | X7: =Saneamento!X7 | Y7: =Saneamento!Y7 | Z7: =Saneamento!Z7 | AA7: =Saneamento!AA7 | AB7: OK | AC7: =IF(AA7="","","")
A8: =IF(Dados!A17>=1,Dados!A17,"") -> 14 | B8: =IF(Dados!B17>=1,Dados!B17,"") -> Camiseta Manga Curta Tam. 1 | C8: =IF('Fórmula Mágica'!C8="VERDADEIRO",Dados!C17,Dados!C17) -> 40 | D8: =IF('Fórmula Mágica'!D8="VERDADEIRO",Dados!D17,Dados!D17) -> 43 | E8: =IF('Fórmula Mágica'!E8="VERDADEIRO",Dados!E17,Dados!E17) -> 35 | F8: =IF('Fórmula Mágica'!F8="VERDADEIRO",Dados!F17,Dados!F17) -> 29 | G8: =IF('Fórmula Mágica'!G8="VERDADEIRO",Dados!G17,Dados!G17) -> 0 | H8: =IF('Fórmula Mágica'!H8="VERDADEIRO",Dados!H17,Dados!H17) -> 36.75 | I8: =IF('Fórmula Mágica'!I8="VERDADEIRO",#REF!,#REF!) -> #REF! | J8: =IF('Fórmula Mágica'!J8="VERDADEIRO",#REF!,#REF!) -> #REF! | K8: =IF('Fórmula Mágica'!K8="VERDADEIRO",#REF!,#REF!) -> #REF! | L8: =IF('Fórmula Mágica'!L8="VERDADEIRO",#REF!,#REF!) -> #REF! | M8: =IF('Fórmula Mágica'!M8="VERDADEIRO",#REF!,#REF!) -> #REF! | N8: =IF('Fórmula Mágica'!N8="VERDADEIRO",#REF!,#REF!) -> #REF! | O8: =IF('Fórmula Mágica'!O8="VERDADEIRO",#REF!,#REF!) -> #REF! | P8: =IF('Fórmula Mágica'!P8="VERDADEIRO",#REF!,#REF!) -> #REF! | ... V8: =IF('Fórmula Mágica'!V8="VERDADEIRO",#REF!,#REF!) -> #REF! | W8: =Saneamento!W8 | X8: =Saneamento!X8 | Y8: =Saneamento!Y8 | Z8: =Saneamento!Z8 | AA8: =Saneamento!AA8 | AB8: OK
A9: =IF(Dados!A20>=1,Dados!A20,"") -> 17 | B9: =IF(Dados!B20>=1,Dados!B20,"") -> Camiseta Manga Curta Tam. 6 | C9: =IF('Fórmula Mágica'!C9="VERDADEIRO",Dados!C20,Dados!C20) -> 45 | D9: =IF('Fórmula Mágica'!D9="VERDADEIRO",Dados!D20,Dados!D20) -> 48 | E9: =IF('Fórmula Mágica'!E9="VERDADEIRO",Dados!E20,Dados!E20) -> 40 | F9: =IF('Fórmula Mágica'!F9="VERDADEIRO",Dados!F20,Dados!F20) -> 34.33 | G9: =IF('Fórmula Mágica'!G9="VERDADEIRO",Dados!G20,Dados!G20) -> 29 | H9: =IF('Fórmula Mágica'!H9="VERDADEIRO",Dados!H20,Dados!H20) -> 39.266 | I9: =IF('Fórmula Mágica'!I9="VERDADEIRO",#REF!,#REF!) -> #REF! | J9: =IF('Fórmula Mágica'!J9="VERDADEIRO",#REF!,#REF!) -> #REF! | K9: =IF('Fórmula Mágica'!K9="VERDADEIRO",#REF!,#REF!) -> #REF! | L9: =IF('Fórmula Mágica'!L9="VERDADEIRO",#REF!,#REF!) -> #REF! | M9: =IF('Fórmula Mágica'!M9="VERDADEIRO",#REF!,#REF!) -> #REF! | N9: =IF('Fórmula Mágica'!N9="VERDADEIRO",#REF!,#REF!) -> #REF! | O9: =IF('Fórmula Mágica'!O9="VERDADEIRO",#REF!,#REF!) -> #REF! | P9: =IF('Fórmula Mágica'!P9="VERDADEIRO",#REF!,#REF!) -> #REF! | ... V9: =IF('Fórmula Mágica'!V9="VERDADEIRO",#REF!,#REF!) -> #REF! | W9: =Saneamento!W9 | X9: =Saneamento!X9 | Y9: =Saneamento!Y9 | Z9: =Saneamento!Z9 | AA9: =Saneamento!AA9 | AB9: OK
A10: =IF(Dados!A23>=1,Dados!A23,"") -> 20 | B10: =IF(Dados!B23>=1,Dados!B23,"") -> Camiseta Manga Curta Tam. 12 | C10: =IF('Fórmula Mágica'!C10="VERDADEIRO",Dados!C23,Dados!C23) -> 53 | D10: =IF('Fórmula Mágica'!D10="VERDADEIRO",Dados!D23,Dados!D23) -> 56 | E10: =IF('Fórmula Mágica'!E10="VERDADEIRO",Dados!E23,Dados!E23) -> 48 | F10: =IF('Fórmula Mágica'!F10="VERDADEIRO",Dados!F23,Dados!F23) -> 34.33 | G10: =IF('Fórmula Mágica'!G10="VERDADEIRO",Dados!G23,Dados!G23) -> 35 | H10: =IF('Fórmula Mágica'!H10="VERDADEIRO",Dados!H23,Dados!H23) -> 45.266 | I10: =IF('Fórmula Mágica'!I10="VERDADEIRO",#REF!,#REF!) -> #REF! | J10: =IF('Fórmula Mágica'!J10="VERDADEIRO",#REF!,#REF!) -> #REF! | K10: =IF('Fórmula Mágica'!K10="VERDADEIRO",#REF!,#REF!) -> #REF! | L10: =IF('Fórmula Mágica'!L10="VERDADEIRO",#REF!,#REF!) -> #REF! | M10: =IF('Fórmula Mágica'!M10="VERDADEIRO",#REF!,#REF!) -> #REF! | N10: =IF('Fórmula Mágica'!N10="VERDADEIRO",#REF!,#REF!) -> #REF! | O10: =IF('Fórmula Mágica'!O10="VERDADEIRO",#REF!,#REF!) -> #REF! | P10: =IF('Fórmula Mágica'!P10="VERDADEIRO",#REF!,#REF!) -> #REF! | ... V10: =IF('Fórmula Mágica'!V10="VERDADEIRO",#REF!,#REF!) -> #REF! | W10: =Saneamento!W10 | X10: =Saneamento!X10 | Y10: =Saneamento!Y10 | Z10: =Saneamento!Z10 | AA10: =Saneamento!AA10 | AB10: OK
A11: =IF(Dados!A26>=1,Dados!A26,"") -> 23 | B11: =IF(Dados!B26>=1,Dados!B26,"") -> Camiseta Manga Curta Tam. P | C11: =IF('Fórmula Mágica'!C11="VERDADEIRO",Dados!C26,Dados!C26) -> 63 | D11: =IF('Fórmula Mágica'!D11="VERDADEIRO",Dados!D26,Dados!D26) -> 66 | E11: =IF('Fórmula Mágica'!E11="VERDADEIRO",Dados!E26,Dados!E26) -> 58 | F11: =IF('Fórmula Mágica'!F11="VERDADEIRO",Dados!F26,Dados!F26) -> 34.33 | G11: =IF('Fórmula Mágica'!G11="VERDADEIRO",Dados!G26,Dados!G26) -> 34.9 | H11: =IF('Fórmula Mágica'!H11="VERDADEIRO",Dados!H26,Dados!H26) -> 51.246 | I11: =IF('Fórmula Mágica'!I11="VERDADEIRO",#REF!,#REF!) -> #REF! | J11: =IF('Fórmula Mágica'!J11="VERDADEIRO",#REF!,#REF!) -> #REF! | K11: =IF('Fórmula Mágica'!K11="VERDADEIRO",#REF!,#REF!) -> #REF! | L11: =IF('Fórmula Mágica'!L11="VERDADEIRO",#REF!,#REF!) -> #REF! | M11: =IF('Fórmula Mágica'!M11="VERDADEIRO",#REF!,#REF!) -> #REF! | N11: =IF('Fórmula Mágica'!N11="VERDADEIRO",#REF!,#REF!) -> #REF! | O11: =IF('Fórmula Mágica'!O11="VERDADEIRO",#REF!,#REF!) -> #REF! | P11: =IF('Fórmula Mágica'!P11="VERDADEIRO",#REF!,#REF!) -> #REF! | ... V11: =IF('Fórmula Mágica'!V11="VERDADEIRO",#REF!,#REF!) -> #REF! | W11: =Saneamento!W11 | X11: =Saneamento!X11 | Y11: =Saneamento!Y11 | Z11: =Saneamento!Z11 | AA11: =Saneamento!AA11 | AB11: OK
A12: =IF(Dados!A30>=1,Dados!A30,"") -> 27 | B12: =IF(Dados!B30>=1,Dados!B30,"") -> Bermuda Masculina Tam. 1 | C12: =IF('Fórmula Mágica'!C12="VERDADEIRO",Dados!C30,Dados!C30) -> 53 | D12: =IF('Fórmula Mágica'!D12="VERDADEIRO",Dados!D30,Dados!D30) -> 56 | E12: =IF('Fórmula Mágica'!E12="VERDADEIRO",Dados!E30,Dados!E30) -> 48 | F12: =IF('Fórmula Mágica'!F12="VERDADEIRO",Dados!F30,Dados!F30) -> 0 | G12: =IF('Fórmula Mágica'!G12="VERDADEIRO",Dados!G30,Dados!G30) -> 41.9 | H12: =IF('Fórmula Mágica'!H12="VERDADEIRO",Dados!H30,Dados!H30) -> 49.725 | I12: =IF('Fórmula Mágica'!I12="VERDADEIRO",#REF!,#REF!) -> #REF! | J12: =IF('Fórmula Mágica'!J12="VERDADEIRO",#REF!,#REF!) -> #REF! | K12: =IF('Fórmula Mágica'!K12="VERDADEIRO",#REF!,#REF!) -> #REF! | L12: =IF('Fórmula Mágica'!L12="VERDADEIRO",#REF!,#REF!) -> #REF! | M12: =IF('Fórmula Mágica'!M12="VERDADEIRO",#REF!,#REF!) -> #REF! | N12: =IF('Fórmula Mágica'!N12="VERDADEIRO",#REF!,#REF!) -> #REF! | O12: =IF('Fórmula Mágica'!O12="VERDADEIRO",#REF!,#REF!) -> #REF! | P12: =IF('Fórmula Mágica'!P12="VERDADEIRO",#REF!,#REF!) -> #REF! | ... V12: =IF('Fórmula Mágica'!V12="VERDADEIRO",#REF!,#REF!) -> #REF! | W12: =Saneamento!W12 | X12: =Saneamento!X12 | Y12: =Saneamento!Y12 | Z12: =Saneamento!Z12 | AA12: =Saneamento!AA12 | AB12: OK
A13: =IF(Dados!A33>=1,Dados!A33,"") -> 30 | B13: =IF(Dados!B33>=1,Dados!B33,"") -> Bermuda Masculina Tam. 6 | C13: =IF('Fórmula Mágica'!C13="VERDADEIRO",Dados!C33,Dados!C33) -> 61 | D13: =IF('Fórmula Mágica'!D13="VERDADEIRO",Dados!D33,Dados!D33) -> 64 | E13: =IF('Fórmula Mágica'!E13="VERDADEIRO",Dados!E33,Dados!E33) -> 56 | F13: =IF('Fórmula Mágica'!F13="VERDADEIRO",Dados!F33,Dados!F33) -> 47 | G13: =IF('Fórmula Mágica'!G13="VERDADEIRO",Dados!G33,Dados!G33) -> 41.9 | H13: =IF('Fórmula Mágica'!H13="VERDADEIRO",Dados!H33,Dados!H33) -> 53.98 | I13: =IF('Fórmula Mágica'!I13="VERDADEIRO",#REF!,#REF!) -> #REF! | J13: =IF('Fórmula Mágica'!J13="VERDADEIRO",#REF!,#REF!) -> #REF! | K13: =IF('Fórmula Mágica'!K13="VERDADEIRO",#REF!,#REF!) -> #REF! | L13: =IF('Fórmula Mágica'!L13="VERDADEIRO",#REF!,#REF!) -> #REF! | M13: =IF('Fórmula Mágica'!M13="VERDADEIRO",#REF!,#REF!) -> #REF! | N13: =IF('Fórmula Mágica'!N13="VERDADEIRO",#REF!,#REF!) -> #REF! | O13: =IF('Fórmula Mágica'!O13="VERDADEIRO",#REF!,#REF!) -> #REF! | P13: =IF('Fórmula Mágica'!P13="VERDADEIRO",#REF!,#REF!) -> #REF! | ... V13: =IF('Fórmula Mágica'!V13="VERDADEIRO",#REF!,#REF!) -> #REF! | W13: =Saneamento!W13 | X13: =Saneamento!X13 | Y13: =Saneamento!Y13 | Z13: =Saneamento!Z13 | AA13: =Saneamento!AA13 | AB13: OK
A14: =IF(Dados!A36>=1,Dados!A36,"") -> 33 | B14: =IF(Dados!B36>=1,Dados!B36,"") -> Bermuda Masculina Tam. 12 | C14: =IF('Fórmula Mágica'!C14="VERDADEIRO",Dados!C36,Dados!C36) -> 77 | D14: =IF('Fórmula Mágica'!D14="VERDADEIRO",Dados!D36,Dados!D36) -> 80 | E14: =IF('Fórmula Mágica'!E14="VERDADEIRO",Dados!E36,Dados!E36) -> 72 | F14: =IF('Fórmula Mágica'!F14="VERDADEIRO",Dados!F36,Dados!F36) -> 47 | G14: =IF('Fórmula Mágica'!G14="VERDADEIRO",Dados!G36,Dados!G36) -> 41.9 | H14: =IF('Fórmula Mágica'!H14="VERDADEIRO",Dados!H36,Dados!H36) -> 63.58 | I14: =IF('Fórmula Mágica'!I14="VERDADEIRO",#REF!,#REF!) -> #REF! | J14: =IF('Fórmula Mágica'!J14="VERDADEIRO",#REF!,#REF!) -> #REF! | K14: =IF('Fórmula Mágica'!K14="VERDADEIRO",#REF!,#REF!) -> #REF! | L14: =IF('Fórmula Mágica'!L14="VERDADEIRO",#REF!,#REF!) -> #REF! | M14: =IF('Fórmula Mágica'!M14="VERDADEIRO",#REF!,#REF!) -> #REF! | N14: =IF('Fórmula Mágica'!N14="VERDADEIRO",#REF!,#REF!) -> #REF! | O14: =IF('Fórmula Mágica'!O14="VERDADEIRO",#REF!,#REF!) -> #REF! | P14: =IF('Fórmula Mágica'!P14="VERDADEIRO",#REF!,#REF!) -> #REF! | ... V14: =IF('Fórmula Mágica'!V14="VERDADEIRO",#REF!,#REF!) -> #REF! | W14: =Saneamento!W14 | X14: =Saneamento!X14 | Y14: =Saneamento!Y14 | Z14: =Saneamento!Z14 | AA14: =Saneamento!AA14 | AB14: OK
A15: =IF(Dados!A39>=1,Dados!A39,"") -> 36 | B15: =IF(Dados!B39>=1,Dados!B39,"") -> Bermuda Masculina Tam. P | C15: =IF('Fórmula Mágica'!C15="VERDADEIRO",Dados!C39,Dados!C39) -> 104 | D15: =IF('Fórmula Mágica'!D15="VERDADEIRO",Dados!D39,Dados!D39) -> 107 | E15: =IF('Fórmula Mágica'!E15="VERDADEIRO",Dados!E39,Dados!E39) -> 99 | F15: =IF('Fórmula Mágica'!F15="VERDADEIRO",Dados!F39,Dados!F39) -> 47 | G15: =IF('Fórmula Mágica'!G15="VERDADEIRO",Dados!G39,Dados!G39) -> 41.9 | H15: =IF('Fórmula Mágica'!H15="VERDADEIRO",Dados!H39,Dados!H39) -> 79.78 | I15: =IF('Fórmula Mágica'!I15="VERDADEIRO",#REF!,#REF!) -> #REF! | J15: =IF('Fórmula Mágica'!J15="VERDADEIRO",#REF!,#REF!) -> #REF! | K15: =IF('Fórmula Mágica'!K15="VERDADEIRO",#REF!,#REF!) -> #REF! | L15: =IF('Fórmula Mágica'!L15="VERDADEIRO",#REF!,#REF!) -> #REF! | M15: =IF('Fórmula Mágica'!M15="VERDADEIRO",#REF!,#REF!) -> #REF! | N15: =IF('Fórmula Mágica'!N15="VERDADEIRO",#REF!,#REF!) -> #REF! | O15: =IF('Fórmula Mágica'!O15="VERDADEIRO",#REF!,#REF!) -> #REF! | P15: =IF('Fórmula Mágica'!P15="VERDADEIRO",#REF!,#REF!) -> #REF! | ... V15: =IF('Fórmula Mágica'!V15="VERDADEIRO",#REF!,#REF!) -> #REF! | W15: =Saneamento!W15 | X15: =Saneamento!X15 | Y15: =Saneamento!Y15 | Z15: =Saneamento!Z15 | AA15: =Saneamento!AA15 | AB15: OK
A16: =IF(Dados!A43>=1,Dados!A43,"") -> 40 | B16: =IF(Dados!B43>=1,Dados!B43,"") -> Calça Masculina Tam. 1 | C16: =IF('Fórmula Mágica'!C16="VERDADEIRO",Dados!C43,Dados!C43) -> 56 | D16: =IF('Fórmula Mágica'!D16="VERDADEIRO",Dados!D43,Dados!D43) -> 59 | E16: =IF('Fórmula Mágica'!E16="VERDADEIRO",Dados!E43,Dados!E43) -> 51 | F16: =IF('Fórmula Mágica'!F16="VERDADEIRO",Dados!F43,Dados!F43) -> 31.95 | G16: =IF('Fórmula Mágica'!G16="VERDADEIRO",Dados!G43,Dados!G43) -> 0 | H16: =IF('Fórmula Mágica'!H16="VERDADEIRO",Dados!H43,Dados!H43) -> 49.4875 | I16: =IF('Fórmula Mágica'!I16="VERDADEIRO",#REF!,#REF!) -> #REF! | J16: =IF('Fórmula Mágica'!J16="VERDADEIRO",#REF!,#REF!) -> #REF! | K16: =IF('Fórmula Mágica'!K16="VERDADEIRO",#REF!,#REF!) -> #REF! | L16: =IF('Fórmula Mágica'!L16="VERDADEIRO",#REF!,#REF!) -> #REF! | M16: =IF('Fórmula Mágica'!M16="VERDADEIRO",#REF!,#REF!) -> #REF! | N16: =IF('Fórmula Mágica'!N16="VERDADEIRO",#REF!,#REF!) -> #REF! | O16: =IF('Fórmula Mágica'!O16="VERDADEIRO",#REF!,#REF!) -> #REF! | P16: =IF('Fórmula Mágica'!P16="VERDADEIRO",#REF!,#REF!) -> #REF! | ... V16: =IF('Fórmula Mágica'!V16="VERDADEIRO",#REF!,#REF!) -> #REF! | W16: =Saneamento!W16 | X16: =Saneamento!X16 | Y16: =Saneamento!Y16 | Z16: =Saneamento!Z16 | AA16: =Saneamento!AA16 | AB16: ok
A17: =IF(Dados!A46>=1,Dados!A46,"") -> 43 | B17: =IF(Dados!B46>=1,Dados!B46,"") -> Calça Masculina Tam. 6 | C17: =IF('Fórmula Mágica'!C17="VERDADEIRO",Dados!C46,Dados!C46) -> 65 | D17: =IF('Fórmula Mágica'!D17="VERDADEIRO",Dados!D46,Dados!D46) -> 68 | E17: =IF('Fórmula Mágica'!E17="VERDADEIRO",Dados!E46,Dados!E46) -> 60 | F17: =IF('Fórmula Mágica'!F17="VERDADEIRO",Dados!F46,Dados!F46) -> 59.67 | G17: =IF('Fórmula Mágica'!G17="VERDADEIRO",Dados!G46,Dados!G46) -> 59.19 | H17: =IF('Fórmula Mágica'!H17="VERDADEIRO",Dados!H46,Dados!H46) -> 62.372 | I17: =IF('Fórmula Mágica'!I17="VERDADEIRO",#REF!,#REF!) -> #REF! | J17: =IF('Fórmula Mágica'!J17="VERDADEIRO",#REF!,#REF!) -> #REF! | K17: =IF('Fórmula Mágica'!K17="VERDADEIRO",#REF!,#REF!) -> #REF! | L17: =IF('Fórmula Mágica'!L17="VERDADEIRO",#REF!,#REF!) -> #REF! | M17: =IF('Fórmula Mágica'!M17="VERDADEIRO",#REF!,#REF!) -> #REF! | N17: =IF('Fórmula Mágica'!N17="VERDADEIRO",#REF!,#REF!) -> #REF! | O17: =IF('Fórmula Mágica'!O17="VERDADEIRO",#REF!,#REF!) -> #REF! | P17: =IF('Fórmula Mágica'!P17="VERDADEIRO",#REF!,#REF!) -> #REF! | ... V17: =IF('Fórmula Mágica'!V17="VERDADEIRO",#REF!,#REF!) -> #REF! | W17: =Saneamento!W17 | X17: =Saneamento!X17 | Y17: =Saneamento!Y17 | Z17: =Saneamento!Z17 | AA17: =Saneamento!AA17 | AB17: OK
A18: =IF(Dados!A49>=1,Dados!A49,"") -> 46 | B18: =IF(Dados!B49>=1,Dados!B49,"") -> Calça Masculina Tam. 12 | C18: =IF('Fórmula Mágica'!C18="VERDADEIRO",Dados!C49,Dados!C49) -> 82 | D18: =IF('Fórmula Mágica'!D18="VERDADEIRO",Dados!D49,Dados!D49) -> 85 | E18: =IF('Fórmula Mágica'!E18="VERDADEIRO",Dados!E49,Dados!E49) -> 77 | F18: =IF('Fórmula Mágica'!F18="VERDADEIRO",Dados!F49,Dados!F49) -> 59.67 | G18: =IF('Fórmula Mágica'!G18="VERDADEIRO",Dados!G49,Dados!G49) -> 59.19 | H18: =IF('Fórmula Mágica'!H18="VERDADEIRO",Dados!H49,Dados!H49) -> 72.572 | I18: =IF('Fórmula Mágica'!I18="VERDADEIRO",#REF!,#REF!) -> #REF! | J18: =IF('Fórmula Mágica'!J18="VERDADEIRO",#REF!,#REF!) -> #REF! | K18: =IF('Fórmula Mágica'!K18="VERDADEIRO",#REF!,#REF!) -> #REF! | L18: =IF('Fórmula Mágica'!L18="VERDADEIRO",#REF!,#REF!) -> #REF! | M18: =IF('Fórmula Mágica'!M18="VERDADEIRO",#REF!,#REF!) -> #REF! | N18: =IF('Fórmula Mágica'!N18="VERDADEIRO",#REF!,#REF!) -> #REF! | O18: =IF('Fórmula Mágica'!O18="VERDADEIRO",#REF!,#REF!) -> #REF! | P18: =IF('Fórmula Mágica'!P18="VERDADEIRO",#REF!,#REF!) -> #REF! | ... V18: =IF('Fórmula Mágica'!V18="VERDADEIRO",#REF!,#REF!) -> #REF! | W18: =Saneamento!W18 | X18: =Saneamento!X18 | Y18: =Saneamento!Y18 | Z18: =Saneamento!Z18 | AA18: =Saneamento!AA18 | AB18: OK
A19: =IF(Dados!A52>=1,Dados!A52,"") -> 49 | B19: =IF(Dados!B52>=1,Dados!B52,"") -> Calça Masculina Tam. P | C19: =IF('Fórmula Mágica'!C19="VERDADEIRO",Dados!C52,Dados!C52) -> 113 | D19: =IF('Fórmula Mágica'!D19="VERDADEIRO",Dados!D52,Dados!D52) -> 116 | E19: =IF('Fórmula Mágica'!E19="VERDADEIRO",Dados!E52,Dados!E52) -> 108 | F19: =IF('Fórmula Mágica'!F19="VERDADEIRO",Dados!F52,Dados!F52) -> 59.67 | G19: =IF('Fórmula Mágica'!G19="VERDADEIRO",Dados!G52,Dados!G52) -> 59.19 | H19: =IF('Fórmula Mágica'!H19="VERDADEIRO",Dados!H52,Dados!H52) -> 91.172 | I19: =IF('Fórmula Mágica'!I19="VERDADEIRO",#REF!,#REF!) -> #REF! | J19: =IF('Fórmula Mágica'!J19="VERDADEIRO",#REF!,#REF!) -> #REF! | K19: =IF('Fórmula Mágica'!K19="VERDADEIRO",#REF!,#REF!) -> #REF! | L19: =IF('Fórmula Mágica'!L19="VERDADEIRO",#REF!,#REF!) -> #REF! | M19: =IF('Fórmula Mágica'!M19="VERDADEIRO",#REF!,#REF!) -> #REF! | N19: =IF('Fórmula Mágica'!N19="VERDADEIRO",#REF!,#REF!) -> #REF! | O19: =IF('Fórmula Mágica'!O19="VERDADEIRO",#REF!,#REF!) -> #REF! | P19: =IF('Fórmula Mágica'!P19="VERDADEIRO",#REF!,#REF!) -> #REF! | ... V19: =IF('Fórmula Mágica'!V19="VERDADEIRO",#REF!,#REF!) -> #REF! | W19: =Saneamento!W19 | X19: =Saneamento!X19 | Y19: =Saneamento!Y19 | Z19: =Saneamento!Z19 | AA19: =Saneamento!AA19 | AB19: OK
A20: =IF(Dados!A56>=1,Dados!A56,"") -> 53 | B20: =IF(Dados!B56>=1,Dados!B56,"") -> Calça Legging Feminina Tam. 1 | C20: =IF('Fórmula Mágica'!C20="VERDADEIRO",Dados!C56,Dados!C56) -> 58 | D20: =IF('Fórmula Mágica'!D20="VERDADEIRO",Dados!D56,Dados!D56) -> 61 | E20: =IF('Fórmula Mágica'!E20="VERDADEIRO",Dados!E56,Dados!E56) -> 53 | F20: =IF('Fórmula Mágica'!F20="VERDADEIRO",Dados!F56,Dados!F56) -> 61.9 | G20: =IF('Fórmula Mágica'!G20="VERDADEIRO",Dados!G56,Dados!G56) -> 0 | H20: =IF('Fórmula Mágica'!H20="VERDADEIRO",Dados!H56,Dados!H56) -> 58.475 | I20: =IF('Fórmula Mágica'!I20="VERDADEIRO",#REF!,#REF!) -> #REF! | J20: =IF('Fórmula Mágica'!J20="VERDADEIRO",#REF!,#REF!) -> #REF! | K20: =IF('Fórmula Mágica'!K20="VERDADEIRO",#REF!,#REF!) -> #REF! | L20: =IF('Fórmula Mágica'!L20="VERDADEIRO",#REF!,#REF!) -> #REF! | M20: =IF('Fórmula Mágica'!M20="VERDADEIRO",#REF!,#REF!) -> #REF! | N20: =IF('Fórmula Mágica'!N20="VERDADEIRO",#REF!,#REF!) -> #REF! | O20: =IF('Fórmula Mágica'!O20="VERDADEIRO",#REF!,#REF!) -> #REF! | P20: =IF('Fórmula Mágica'!P20="VERDADEIRO",#REF!,#REF!) -> #REF! | ... V20: =IF('Fórmula Mágica'!V20="VERDADEIRO",#REF!,#REF!) -> #REF! | W20: =Saneamento!W20 | X20: =Saneamento!X20 | Y20: =Saneamento!Y20 | Z20: =Saneamento!Z20 | AA20: =Saneamento!AA20 | AB20: OK
A21: =IF(Dados!A59>=1,Dados!A59,"") -> 56 | B21: =IF(Dados!B59>=1,Dados!B59,"") -> Calça Legging Feminina Tam. 6 | C21: =IF('Fórmula Mágica'!C21="VERDADEIRO",Dados!C59,Dados!C59) -> 72 | D21: =IF('Fórmula Mágica'!D21="VERDADEIRO",Dados!D59,Dados!D59) -> 75 | E21: =IF('Fórmula Mágica'!E21="VERDADEIRO",Dados!E59,Dados!E59) -> 67 | F21: =IF('Fórmula Mágica'!F21="VERDADEIRO",Dados!F59,Dados!F59) -> 61.9 | G21: =IF('Fórmula Mágica'!G21="VERDADEIRO",Dados!G59,Dados!G59) -> 65.52 | H21: =IF('Fórmula Mágica'!H21="VERDADEIRO",Dados!H59,Dados!H59) -> 68.284 | I21: =IF('Fórmula Mágica'!I21="VERDADEIRO",#REF!,#REF!) -> #REF! | J21: =IF('Fórmula Mágica'!J21="VERDADEIRO",#REF!,#REF!) -> #REF! | K21: =IF('Fórmula Mágica'!K21="VERDADEIRO",#REF!,#REF!) -> #REF! | L21: =IF('Fórmula Mágica'!L21="VERDADEIRO",#REF!,#REF!) -> #REF! | M21: =IF('Fórmula Mágica'!M21="VERDADEIRO",#REF!,#REF!) -> #REF! | N21: =IF('Fórmula Mágica'!N21="VERDADEIRO",#REF!,#REF!) -> #REF! | O21: =IF('Fórmula Mágica'!O21="VERDADEIRO",#REF!,#REF!) -> #REF! | P21: =IF('Fórmula Mágica'!P21="VERDADEIRO",#REF!,#REF!) -> #REF! | ... V21: =IF('Fórmula Mágica'!V21="VERDADEIRO",#REF!,#REF!) -> #REF! | W21: =Saneamento!W21 | X21: =Saneamento!X21 | Y21: =Saneamento!Y21 | Z21: =Saneamento!Z21 | AA21: =Saneamento!AA21 | AB21: OK
A22: =IF(Dados!A62>=1,Dados!A62,"") -> 59 | B22: =IF(Dados!B62>=1,Dados!B62,"") -> Calça Legging Feminina Tam. 12 | C22: =IF('Fórmula Mágica'!C22="VERDADEIRO",Dados!C62,Dados!C62) -> 90 | D22: =IF('Fórmula Mágica'!D22="VERDADEIRO",Dados!D62,Dados!D62) -> 93 | E22: =IF('Fórmula Mágica'!E22="VERDADEIRO",Dados!E62,Dados!E62) -> 85 | F22: =IF('Fórmula Mágica'!F22="VERDADEIRO",Dados!F62,Dados!F62) -> 61.9 | G22: =IF('Fórmula Mágica'!G22="VERDADEIRO",Dados!G62,Dados!G62) -> 65.52 | H22: =IF('Fórmula Mágica'!H22="VERDADEIRO",Dados!H62,Dados!H62) -> 79.084 | I22: =IF('Fórmula Mágica'!I22="VERDADEIRO",#REF!,#REF!) -> #REF! | J22: =IF('Fórmula Mágica'!J22="VERDADEIRO",#REF!,#REF!) -> #REF! | K22: =IF('Fórmula Mágica'!K22="VERDADEIRO",#REF!,#REF!) -> #REF! | L22: =IF('Fórmula Mágica'!L22="VERDADEIRO",#REF!,#REF!) -> #REF! | M22: =IF('Fórmula Mágica'!M22="VERDADEIRO",#REF!,#REF!) -> #REF! | N22: =IF('Fórmula Mágica'!N22="VERDADEIRO",#REF!,#REF!) -> #REF! | O22: =IF('Fórmula Mágica'!O22="VERDADEIRO",#REF!,#REF!) -> #REF! | P22: =IF('Fórmula Mágica'!P22="VERDADEIRO",#REF!,#REF!) -> #REF! | ... V22: =IF('Fórmula Mágica'!V22="VERDADEIRO",#REF!,#REF!) -> #REF! | W22: =Saneamento!W22 | X22: =Saneamento!X22 | Y22: =Saneamento!Y22 | Z22: =Saneamento!Z22 | AA22: =Saneamento!AA22 | AB22: OK
A23: =IF(Dados!A65>=1,Dados!A65,"") -> 62 | B23: =IF(Dados!B65>=1,Dados!B65,"") -> Calça Legging Feminina Tam. P | C23: =IF('Fórmula Mágica'!C23="VERDADEIRO",Dados!C65,Dados!C65) -> 107 | D23: =IF('Fórmula Mágica'!D23="VERDADEIRO",Dados!D65,Dados!D65) -> 110 | E23: =IF('Fórmula Mágica'!E23="VERDADEIRO",Dados!E65,Dados!E65) -> 102 | F23: =IF('Fórmula Mágica'!F23="VERDADEIRO",Dados!F65,Dados!F65) -> 61.9 | G23: =IF('Fórmula Mágica'!G23="VERDADEIRO",Dados!G65,Dados!G65) -> 65.52 | H23: =IF('Fórmula Mágica'!H23="VERDADEIRO",Dados!H65,Dados!H65) -> 89.284 | I23: =IF('Fórmula Mágica'!I23="VERDADEIRO",#REF!,#REF!) -> #REF! | J23: =IF('Fórmula Mágica'!J23="VERDADEIRO",#REF!,#REF!) -> #REF! | K23: =IF('Fórmula Mágica'!K23="VERDADEIRO",#REF!,#REF!) -> #REF! | L23: =IF('Fórmula Mágica'!L23="VERDADEIRO",#REF!,#REF!) -> #REF! | M23: =IF('Fórmula Mágica'!M23="VERDADEIRO",#REF!,#REF!) -> #REF! | N23: =IF('Fórmula Mágica'!N23="VERDADEIRO",#REF!,#REF!) -> #REF! | O23: =IF('Fórmula Mágica'!O23="VERDADEIRO",#REF!,#REF!) -> #REF! | P23: =IF('Fórmula Mágica'!P23="VERDADEIRO",#REF!,#REF!) -> #REF! | ... V23: =IF('Fórmula Mágica'!V23="VERDADEIRO",#REF!,#REF!) -> #REF! | W23: =Saneamento!W23 | X23: =Saneamento!X23 | Y23: =Saneamento!Y23 | Z23: =Saneamento!Z23 | AA23: =Saneamento!AA23 | AC23: 2 ORÇ
A24: =IF(Dados!A68>=1,Dados!A68,"") -> 65 | B24: =IF(Dados!B68>=1,Dados!B68,"") -> Shorts Saia Feminino Tam. 1 | C24: =IF('Fórmula Mágica'!C24="VERDADEIRO",Dados!C68,Dados!C68) -> 73 | D24: =IF('Fórmula Mágica'!D24="VERDADEIRO",Dados!D68,Dados!D68) -> 76 | E24: =IF('Fórmula Mágica'!E24="VERDADEIRO",Dados!E68,Dados!E68) -> 68 | F24: =IF('Fórmula Mágica'!F24="VERDADEIRO",Dados!F69,Dados!F69) -> 29 | G24: =IF('Fórmula Mágica'!G24="VERDADEIRO",Dados!G68,Dados!G68) -> 35 | H24: =IF('Fórmula Mágica'!H24="VERDADEIRO",Dados!H68,Dados!H68) -> 56.2 | I24: =IF('Fórmula Mágica'!I24="VERDADEIRO",#REF!,#REF!) -> #REF! | J24: =IF('Fórmula Mágica'!J24="VERDADEIRO",#REF!,#REF!) -> #REF! | K24: =IF('Fórmula Mágica'!K24="VERDADEIRO",#REF!,#REF!) -> #REF! | L24: =IF('Fórmula Mágica'!L24="VERDADEIRO",#REF!,#REF!) -> #REF! | M24: =IF('Fórmula Mágica'!M24="VERDADEIRO",#REF!,#REF!) -> #REF! | N24: =IF('Fórmula Mágica'!N24="VERDADEIRO",#REF!,#REF!) -> #REF! | O24: =IF('Fórmula Mágica'!O24="VERDADEIRO",#REF!,#REF!) -> #REF! | P24: =IF('Fórmula Mágica'!P24="VERDADEIRO",#REF!,#REF!) -> #REF! | ... V24: =IF('Fórmula Mágica'!V24="VERDADEIRO",#REF!,#REF!) -> #REF! | W24: =Saneamento!W24 | X24: =Saneamento!X24 | Y24: =Saneamento!Y24 | Z24: =Saneamento!Z24 | AA24: =Saneamento!AA24 | AC24: 2 ORÇ
A25: =IF(Dados!A71>=1,Dados!A71,"") -> 68 | B25: =IF(Dados!B71>=1,Dados!B71,"") -> Shorts Saia Feminino Tam. 6 | C25: =IF('Fórmula Mágica'!C25="VERDADEIRO",Dados!C71,Dados!C71) -> 94 | D25: =IF('Fórmula Mágica'!D25="VERDADEIRO",Dados!D71,Dados!D71) -> 97 | E25: =IF('Fórmula Mágica'!E25="VERDADEIRO",Dados!E71,Dados!E71) -> 89 | F25: =IF('Fórmula Mágica'!F25="VERDADEIRO",Dados!F72,Dados!F72) -> 29 | G25: =IF('Fórmula Mágica'!G25="VERDADEIRO",Dados!G71,Dados!G71) -> 35 | H25: =IF('Fórmula Mágica'!H25="VERDADEIRO",Dados!H71,Dados!H71) -> 68.8 | I25: =IF('Fórmula Mágica'!I25="VERDADEIRO",#REF!,#REF!) -> #REF! | J25: =IF('Fórmula Mágica'!J25="VERDADEIRO",#REF!,#REF!) -> #REF! | K25: =IF('Fórmula Mágica'!K25="VERDADEIRO",#REF!,#REF!) -> #REF! | L25: =IF('Fórmula Mágica'!L25="VERDADEIRO",#REF!,#REF!) -> #REF! | M25: =IF('Fórmula Mágica'!M25="VERDADEIRO",#REF!,#REF!) -> #REF! | N25: =IF('Fórmula Mágica'!N25="VERDADEIRO",#REF!,#REF!) -> #REF! | O25: =IF('Fórmula Mágica'!O25="VERDADEIRO",#REF!,#REF!) -> #REF! | P25: =IF('Fórmula Mágica'!P25="VERDADEIRO",#REF!,#REF!) -> #REF! | ... V25: =IF('Fórmula Mágica'!V25="VERDADEIRO",#REF!,#REF!) -> #REF! | W25: =Saneamento!W25 | X25: =Saneamento!X25 | Y25: =Saneamento!Y25 | Z25: =Saneamento!Z25 | AA25: =Saneamento!AA25 | AB25: OK
A26: =IF(Dados!A74>=1,Dados!A74,"") -> 71 | B26: =IF(Dados!B74>=1,Dados!B74,"") -> Shorts Saia Feminino Tam. 12 | C26: =IF('Fórmula Mágica'!C26="VERDADEIRO",Dados!C74,Dados!C74) -> 0 | D26: =IF('Fórmula Mágica'!D26="VERDADEIRO",Dados!D74,Dados!D74) -> 117 | E26: =IF('Fórmula Mágica'!E26="VERDADEIRO",Dados!E74,Dados!E74) -> 109 | F26: =IF('Fórmula Mágica'!F26="VERDADEIRO",Dados!F75,Dados!F75) -> 30.99 | G26: =IF('Fórmula Mágica'!G26="VERDADEIRO",Dados!G74,Dados!G74) -> 35 | H26: =IF('Fórmula Mágica'!H26="VERDADEIRO",Dados!H74,Dados!H74) -> 72.5 | I26: =IF('Fórmula Mágica'!I26="VERDADEIRO",#REF!,#REF!) -> #REF! | J26: =IF('Fórmula Mágica'!J26="VERDADEIRO",#REF!,#REF!) -> #REF! | K26: =IF('Fórmula Mágica'!K26="VERDADEIRO",#REF!,#REF!) -> #REF! | L26: =IF('Fórmula Mágica'!L26="VERDADEIRO",#REF!,#REF!) -> #REF! | M26: =IF('Fórmula Mágica'!M26="VERDADEIRO",#REF!,#REF!) -> #REF! | N26: =IF('Fórmula Mágica'!N26="VERDADEIRO",#REF!,#REF!) -> #REF! | O26: =IF('Fórmula Mágica'!O26="VERDADEIRO",#REF!,#REF!) -> #REF! | P26: =IF('Fórmula Mágica'!P26="VERDADEIRO",#REF!,#REF!) -> #REF! | ... V26: =IF('Fórmula Mágica'!V26="VERDADEIRO",#REF!,#REF!) -> #REF! | W26: =Saneamento!W26 | X26: =Saneamento!X26 | Y26: =Saneamento!Y26 | Z26: =Saneamento!Z26 | AA26: =Saneamento!AA26 | AB26: OK
A27: =IF(#REF!>=1,#REF!,"") -> #REF! | B27: =IF(#REF!>=1,#REF!,"") -> #REF! | C27: =IF('Fórmula Mágica'!C27="VERDADEIRO",#REF!,#REF!) -> #REF! | D27: =IF('Fórmula Mágica'!D27="VERDADEIRO",#REF!,#REF!) -> #REF! | E27: =IF('Fórmula Mágica'!E27="VERDADEIRO",#REF!,#REF!) -> #REF! | F27: =IF('Fórmula Mágica'!F27="VERDADEIRO",#REF!,#REF!) -> #REF! | G27: =IF('Fórmula Mágica'!G27="VERDADEIRO",#REF!,#REF!) -> #REF! | H27: =IF('Fórmula Mágica'!H27="VERDADEIRO",#REF!,#REF!) -> #REF! | I27: =IF('Fórmula Mágica'!I27="VERDADEIRO",#REF!,#REF!) -> #REF! | J27: =IF('Fórmula Mágica'!J27="VERDADEIRO",#REF!,#REF!) -> #REF! | ... V27: =IF('Fórmula Mágica'!V27="VERDADEIRO",#REF!,#REF!) -> #REF! | W27: =Saneamento!W27 | X27: =Saneamento!X27 | Y27: =Saneamento!Y27 | Z27: =Saneamento!Z27 | AA27: =Saneamento!AA27 | AB27: OK
A28: =IF(Dados!A77>=1,Dados!A77,"") -> 74 | B28: =IF(Dados!B77>=1,Dados!B77,"") -> Bermuda Legging Feminina Tam. 1 | C28: =IF('Fórmula Mágica'!C28="VERDADEIRO",Dados!C77,Dados!C77) -> 0 | D28: =IF('Fórmula Mágica'!D28="VERDADEIRO",Dados!D77,Dados!D77) -> 49 | E28: =IF('Fórmula Mágica'!E28="VERDADEIRO",Dados!E77,Dados!E77) -> 41 | F28: =IF('Fórmula Mágica'!F28="VERDADEIRO",Dados!F77,Dados!F77) -> 28 | G28: =IF('Fórmula Mágica'!G28="VERDADEIRO",Dados!G77,Dados!G77) -> 27 | H28: =IF('Fórmula Mágica'!H28="VERDADEIRO",Dados!H77,Dados!H77) -> 36.25 | I28: =IF('Fórmula Mágica'!I28="VERDADEIRO",#REF!,#REF!) -> #REF! | J28: =IF('Fórmula Mágica'!J28="VERDADEIRO",#REF!,#REF!) -> #REF! | K28: =IF('Fórmula Mágica'!K28="VERDADEIRO",#REF!,#REF!) -> #REF! | L28: =IF('Fórmula Mágica'!L28="VERDADEIRO",#REF!,#REF!) -> #REF! | M28: =IF('Fórmula Mágica'!M28="VERDADEIRO",#REF!,#REF!) -> #REF! | N28: =IF('Fórmula Mágica'!N28="VERDADEIRO",#REF!,#REF!) -> #REF! | O28: =IF('Fórmula Mágica'!O28="VERDADEIRO",#REF!,#REF!) -> #REF! | P28: =IF('Fórmula Mágica'!P28="VERDADEIRO",#REF!,#REF!) -> #REF! | ... V28: =IF('Fórmula Mágica'!V28="VERDADEIRO",#REF!,#REF!) -> #REF! | W28: =Saneamento!W28 | X28: =Saneamento!X28 | Y28: =Saneamento!Y28 | Z28: =Saneamento!Z28 | AA28: =Saneamento!AA28 | AB28: OK
A29: =IF(Dados!A80>=1,Dados!A80,"") -> 77 | B29: =IF(Dados!B80>=1,Dados!B80,"") -> Bermuda Legging Feminina Tam. 6 | C29: =IF('Fórmula Mágica'!C29="VERDADEIRO",Dados!C80,Dados!C80) -> 0 | D29: =IF('Fórmula Mágica'!D29="VERDADEIRO",Dados!D80,Dados!D80) -> 60 | E29: =IF('Fórmula Mágica'!E29="VERDADEIRO",Dados!E80,Dados!E80) -> 52 | F29: =IF('Fórmula Mágica'!F29="VERDADEIRO",Dados!F80,Dados!F80) -> 30 | G29: =IF('Fórmula Mágica'!G29="VERDADEIRO",Dados!G80,Dados!G80) -> 27 | H29: =IF('Fórmula Mágica'!H29="VERDADEIRO",Dados!H80,Dados!H80) -> 42.25 | I29: =IF('Fórmula Mágica'!I29="VERDADEIRO",#REF!,#REF!) -> #REF! | J29: =IF('Fórmula Mágica'!J29="VERDADEIRO",#REF!,#REF!) -> #REF! | K29: =IF('Fórmula Mágica'!K29="VERDADEIRO",#REF!,#REF!) -> #REF! | L29: =IF('Fórmula Mágica'!L29="VERDADEIRO",#REF!,#REF!) -> #REF! | M29: =IF('Fórmula Mágica'!M29="VERDADEIRO",#REF!,#REF!) -> #REF! | N29: =IF('Fórmula Mágica'!N29="VERDADEIRO",#REF!,#REF!) -> #REF! | O29: =IF('Fórmula Mágica'!O29="VERDADEIRO",#REF!,#REF!) -> #REF! | P29: =IF('Fórmula Mágica'!P29="VERDADEIRO",#REF!,#REF!) -> #REF! | ... V29: =IF('Fórmula Mágica'!V29="VERDADEIRO",#REF!,#REF!) -> #REF! | W29: =Saneamento!W29 | X29: =Saneamento!X29 | Y29: =Saneamento!Y29 | Z29: =Saneamento!Z29 | AA29: =Saneamento!AA29 | AB29: OK
A30: =IF(Dados!A83>=1,Dados!A83,"") -> 80 | B30: =IF(Dados!B83>=1,Dados!B83,"") -> Bermuda Legging Feminina Tam. 12 | C30: =IF('Fórmula Mágica'!C30="VERDADEIRO",Dados!C83,Dados!C83) -> 73 | D30: =IF('Fórmula Mágica'!D30="VERDADEIRO",Dados!D83,Dados!D83) -> 76 | E30: =IF('Fórmula Mágica'!E30="VERDADEIRO",Dados!E83,Dados!E83) -> 68 | F30: =IF('Fórmula Mágica'!F30="VERDADEIRO",Dados!F83,Dados!F83) -> 38 | G30: =IF('Fórmula Mágica'!G30="VERDADEIRO",Dados!G83,Dados!G83) -> 28 | H30: =IF('Fórmula Mágica'!H30="VERDADEIRO",Dados!H83,Dados!H83) -> 56.6 | I30: =IF('Fórmula Mágica'!I30="VERDADEIRO",#REF!,#REF!) -> #REF! | J30: =IF('Fórmula Mágica'!J30="VERDADEIRO",#REF!,#REF!) -> #REF! | K30: =IF('Fórmula Mágica'!K30="VERDADEIRO",#REF!,#REF!) -> #REF! | L30: =IF('Fórmula Mágica'!L30="VERDADEIRO",#REF!,#REF!) -> #REF! | M30: =IF('Fórmula Mágica'!M30="VERDADEIRO",#REF!,#REF!) -> #REF! | N30: =IF('Fórmula Mágica'!N30="VERDADEIRO",#REF!,#REF!) -> #REF! | O30: =IF('Fórmula Mágica'!O30="VERDADEIRO",#REF!,#REF!) -> #REF! | P30: =IF('Fórmula Mágica'!P30="VERDADEIRO",#REF!,#REF!) -> #REF! | ... V30: =IF('Fórmula Mágica'!V30="VERDADEIRO",#REF!,#REF!) -> #REF! | W30: =Saneamento!W30 | X30: =Saneamento!X30 | Y30: =Saneamento!Y30 | Z30: =Saneamento!Z30 | AA30: =Saneamento!AA30 | AB30: OK
A31: =IF(Dados!A86>=1,Dados!A86,"") -> 83 | B31: =IF(Dados!B86>=1,Dados!B86,"") -> Bermuda Legging Feminina Tam. P | C31: =IF('Fórmula Mágica'!C31="VERDADEIRO",Dados!C86,Dados!C86) -> 88 | D31: =IF('Fórmula Mágica'!D31="VERDADEIRO",Dados!D86,Dados!D86) -> 91 | E31: =IF('Fórmula Mágica'!E31="VERDADEIRO",Dados!E86,Dados!E86) -> 83 | F31: =IF('Fórmula Mágica'!F31="VERDADEIRO",Dados!F86,Dados!F86) -> 55 | G31: =IF('Fórmula Mágica'!G31="VERDADEIRO",Dados!G86,Dados!G86) -> 29 | H31: =IF('Fórmula Mágica'!H31="VERDADEIRO",Dados!H86,Dados!H86) -> 69.2 | I31: =IF('Fórmula Mágica'!I31="VERDADEIRO",#REF!,#REF!) -> #REF! | J31: =IF('Fórmula Mágica'!J31="VERDADEIRO",#REF!,#REF!) -> #REF! | K31: =IF('Fórmula Mágica'!K31="VERDADEIRO",#REF!,#REF!) -> #REF! | L31: =IF('Fórmula Mágica'!L31="VERDADEIRO",#REF!,#REF!) -> #REF! | M31: =IF('Fórmula Mágica'!M31="VERDADEIRO",#REF!,#REF!) -> #REF! | N31: =IF('Fórmula Mágica'!N31="VERDADEIRO",#REF!,#REF!) -> #REF! | O31: =IF('Fórmula Mágica'!O31="VERDADEIRO",#REF!,#REF!) -> #REF! | P31: =IF('Fórmula Mágica'!P31="VERDADEIRO",#REF!,#REF!) -> #REF! | ... V31: =IF('Fórmula Mágica'!V31="VERDADEIRO",#REF!,#REF!) -> #REF! | W31: =Saneamento!W31 | X31: =Saneamento!X31 | Y31: =Saneamento!Y31 | Z31: =Saneamento!Z31 | AA31: =Saneamento!AA31
A32: =IF(Dados!A89>=1,Dados!A89,"") -> 86 | B32: =IF(Dados!B89>=1,Dados!B89,"") -> Jaqueta Tam. 1 | C32: =IF('Fórmula Mágica'!C32="VERDADEIRO",Dados!C89,Dados!C89) -> 0 | D32: =IF('Fórmula Mágica'!D32="VERDADEIRO",Dados!D89,Dados!D89) -> 103 | E32: =IF('Fórmula Mágica'!E32="VERDADEIRO",Dados!E89,Dados!E89) -> 95 | F32: =IF('Fórmula Mágica'!F32="VERDADEIRO",Dados!F89,Dados!F89) -> 70 | G32: =IF('Fórmula Mágica'!G32="VERDADEIRO",Dados!G89,Dados!G89) -> 90.4 | H32: =IF('Fórmula Mágica'!H32="VERDADEIRO",Dados!H89,Dados!H89) -> 89.6 | I32: =IF('Fórmula Mágica'!I32="VERDADEIRO",#REF!,#REF!) -> #REF! | J32: =IF('Fórmula Mágica'!J32="VERDADEIRO",#REF!,#REF!) -> #REF! | K32: =IF('Fórmula Mágica'!K32="VERDADEIRO",#REF!,#REF!) -> #REF! | L32: =IF('Fórmula Mágica'!L32="VERDADEIRO",#REF!,#REF!) -> #REF! | M32: =IF('Fórmula Mágica'!M32="VERDADEIRO",#REF!,#REF!) -> #REF! | N32: =IF('Fórmula Mágica'!N32="VERDADEIRO",#REF!,#REF!) -> #REF! | O32: =IF('Fórmula Mágica'!O32="VERDADEIRO",#REF!,#REF!) -> #REF! | P32: =IF('Fórmula Mágica'!P32="VERDADEIRO",#REF!,#REF!) -> #REF! | ... V32: =IF('Fórmula Mágica'!V32="VERDADEIRO",#REF!,#REF!) -> #REF! | W32: =Saneamento!W32 | X32: =Saneamento!X32 | Y32: =Saneamento!Y32 | Z32: =Saneamento!Z32 | AA32: =Saneamento!AA32 | AB32: OK
A33: =IF(Dados!A92>=1,Dados!A92,"") -> 89 | B33: =IF(Dados!B92>=1,Dados!B92,"") -> Jaqueta Tam. 6 | C33: =IF('Fórmula Mágica'!C33="VERDADEIRO",Dados!C92,Dados!C92) -> 0 | D33: =IF('Fórmula Mágica'!D33="VERDADEIRO",Dados!D92,Dados!D92) -> 123 | E33: =IF('Fórmula Mágica'!E33="VERDADEIRO",Dados!E92,Dados!E92) -> 115 | F33: =IF('Fórmula Mágica'!F33="VERDADEIRO",Dados!F92,Dados!F92) -> 75 | G33: =IF('Fórmula Mágica'!G33="VERDADEIRO",Dados!G92,Dados!G92) -> 90.4 | H33: =IF('Fórmula Mágica'!H33="VERDADEIRO",Dados!H92,Dados!H92) -> 100.85 | I33: =IF('Fórmula Mágica'!I33="VERDADEIRO",#REF!,#REF!) -> #REF! | J33: =IF('Fórmula Mágica'!J33="VERDADEIRO",#REF!,#REF!) -> #REF! | K33: =IF('Fórmula Mágica'!K33="VERDADEIRO",#REF!,#REF!) -> #REF! | L33: =IF('Fórmula Mágica'!L33="VERDADEIRO",#REF!,#REF!) -> #REF! | M33: =IF('Fórmula Mágica'!M33="VERDADEIRO",#REF!,#REF!) -> #REF! | N33: =IF('Fórmula Mágica'!N33="VERDADEIRO",#REF!,#REF!) -> #REF! | O33: =IF('Fórmula Mágica'!O33="VERDADEIRO",#REF!,#REF!) -> #REF! | P33: =IF('Fórmula Mágica'!P33="VERDADEIRO",#REF!,#REF!) -> #REF! | ... V33: =IF('Fórmula Mágica'!V33="VERDADEIRO",#REF!,#REF!) -> #REF! | W33: =Saneamento!W33 | X33: =Saneamento!X33 | Y33: =Saneamento!Y33 | Z33: =Saneamento!Z33 | AA33: =Saneamento!AA33 | AB33: OK
A34: =IF(Dados!A95>=1,Dados!A95,"") -> 92 | B34: =IF(Dados!B95>=1,Dados!B95,"") -> Jaqueta Tam. 12 | C34: =IF('Fórmula Mágica'!C34="VERDADEIRO",Dados!C95,Dados!C95) -> 144 | D34: =IF('Fórmula Mágica'!D34="VERDADEIRO",Dados!D95,Dados!D95) -> 147 | E34: =IF('Fórmula Mágica'!E34="VERDADEIRO",Dados!E95,Dados!E95) -> 139 | F34: =IF('Fórmula Mágica'!F34="VERDADEIRO",Dados!F95,Dados!F95) -> 78 | G34: =IF('Fórmula Mágica'!G34="VERDADEIRO",Dados!G95,Dados!G95) -> 113.55 | H34: =IF('Fórmula Mágica'!H34="VERDADEIRO",Dados!H95,Dados!H95) -> 124.31 | I34: =IF('Fórmula Mágica'!I34="VERDADEIRO",#REF!,#REF!) -> #REF! | J34: =IF('Fórmula Mágica'!J34="VERDADEIRO",#REF!,#REF!) -> #REF! | K34: =IF('Fórmula Mágica'!K34="VERDADEIRO",#REF!,#REF!) -> #REF! | L34: =IF('Fórmula Mágica'!L34="VERDADEIRO",#REF!,#REF!) -> #REF! | M34: =IF('Fórmula Mágica'!M34="VERDADEIRO",#REF!,#REF!) -> #REF! | N34: =IF('Fórmula Mágica'!N34="VERDADEIRO",#REF!,#REF!) -> #REF! | O34: =IF('Fórmula Mágica'!O34="VERDADEIRO",#REF!,#REF!) -> #REF! | P34: =IF('Fórmula Mágica'!P34="VERDADEIRO",#REF!,#REF!) -> #REF! | ... V34: =IF('Fórmula Mágica'!V34="VERDADEIRO",#REF!,#REF!) -> #REF! | W34: =Saneamento!W34 | X34: =Saneamento!X34 | Y34: =Saneamento!Y34 | Z34: =Saneamento!Z34 | AA34: =Saneamento!AA34 | AB34: OK
A35: =IF(Dados!A98>=1,Dados!A98,"") -> 95 | B35: =IF(Dados!B98>=1,Dados!B98,"") -> Jaqueta Tam. P | C35: =IF('Fórmula Mágica'!C35="VERDADEIRO",Dados!C98,Dados!C98) -> 160 | D35: =IF('Fórmula Mágica'!D35="VERDADEIRO",Dados!D98,Dados!D98) -> 163 | E35: =IF('Fórmula Mágica'!E35="VERDADEIRO",Dados!E98,Dados!E98) -> 155 | F35: =IF('Fórmula Mágica'!F35="VERDADEIRO",Dados!F98,Dados!F98) -> 90 | G35: =IF('Fórmula Mágica'!G35="VERDADEIRO",Dados!G98,Dados!G98) -> 127.88 | H35: =IF('Fórmula Mágica'!H35="VERDADEIRO",Dados!H98,Dados!H98) -> 139.176 | I35: =IF('Fórmula Mágica'!I35="VERDADEIRO",#REF!,#REF!) -> #REF! | J35: =IF('Fórmula Mágica'!J35="VERDADEIRO",#REF!,#REF!) -> #REF! | K35: =IF('Fórmula Mágica'!K35="VERDADEIRO",#REF!,#REF!) -> #REF! | L35: =IF('Fórmula Mágica'!L35="VERDADEIRO",#REF!,#REF!) -> #REF! | M35: =IF('Fórmula Mágica'!M35="VERDADEIRO",#REF!,#REF!) -> #REF! | N35: =IF('Fórmula Mágica'!N35="VERDADEIRO",#REF!,#REF!) -> #REF! | O35: =IF('Fórmula Mágica'!O35="VERDADEIRO",#REF!,#REF!) -> #REF! | P35: =IF('Fórmula Mágica'!P35="VERDADEIRO",#REF!,#REF!) -> #REF! | ... V35: =IF('Fórmula Mágica'!V35="VERDADEIRO",#REF!,#REF!) -> #REF! | W35: =Saneamento!W35 | X35: =Saneamento!X35 | Y35: =Saneamento!Y35 | Z35: =Saneamento!Z35 | AA35: =Saneamento!AA35 | AB35: OK
A36: =IF(Dados!A100>=1,Dados!A100,"") -> 97 | B36: =IF(Dados!B100>=1,Dados!B100,"") -> Jaqueta Tam. G | C36: =IF('Fórmula Mágica'!C36="VERDADEIRO",Dados!C100,Dados!C100) -> 160 | D36: =IF('Fórmula Mágica'!D36="VERDADEIRO",Dados!D100,Dados!D100) -> 0 | E36: =IF('Fórmula Mágica'!E36="VERDADEIRO",Dados!E100,Dados!E100) -> 155 | F36: =IF('Fórmula Mágica'!F36="VERDADEIRO",Dados!F100,Dados!F100) -> 90 | G36: =IF('Fórmula Mágica'!G36="VERDADEIRO",Dados!G100,Dados!G100) -> 127.88 | H36: =IF('Fórmula Mágica'!H36="VERDADEIRO",Dados!H100,Dados!H100) -> 133.22 | I36: =IF('Fórmula Mágica'!I36="VERDADEIRO",#REF!,#REF!) -> #REF! | J36: =IF('Fórmula Mágica'!J36="VERDADEIRO",#REF!,#REF!) -> #REF! | K36: =IF('Fórmula Mágica'!K36="VERDADEIRO",#REF!,#REF!) -> #REF! | L36: =IF('Fórmula Mágica'!L36="VERDADEIRO",#REF!,#REF!) -> #REF! | M36: =IF('Fórmula Mágica'!M36="VERDADEIRO",#REF!,#REF!) -> #REF! | N36: =IF('Fórmula Mágica'!N36="VERDADEIRO",#REF!,#REF!) -> #REF! | O36: =IF('Fórmula Mágica'!O36="VERDADEIRO",#REF!,#REF!) -> #REF! | P36: =IF('Fórmula Mágica'!P36="VERDADEIRO",#REF!,#REF!) -> #REF! | ... V36: =IF('Fórmula Mágica'!V36="VERDADEIRO",#REF!,#REF!) -> #REF! | W36: =Saneamento!W36 | X36: =Saneamento!X36 | Y36: =Saneamento!Y36 | Z36: =Saneamento!Z36 | AA36: =Saneamento!AA36 | AB36: OK
A37: =IF(#REF!>=1,#REF!,"") -> #REF! | B37: =IF(#REF!>=1,#REF!,"") -> #REF! | C37: =IF('Fórmula Mágica'!C37="VERDADEIRO",#REF!,#REF!) -> #REF! | D37: =IF('Fórmula Mágica'!D37="VERDADEIRO",#REF!,#REF!) -> #REF! | E37: =IF('Fórmula Mágica'!E37="VERDADEIRO",#REF!,#REF!) -> #REF! | F37: =IF('Fórmula Mágica'!F37="VERDADEIRO",#REF!,#REF!) -> #REF! | G37: =IF('Fórmula Mágica'!G37="VERDADEIRO",#REF!,#REF!) -> #REF! | H37: =IF('Fórmula Mágica'!H37="VERDADEIRO",#REF!,#REF!) -> #REF! | I37: =IF('Fórmula Mágica'!I37="VERDADEIRO",#REF!,#REF!) -> #REF! | J37: =IF('Fórmula Mágica'!J37="VERDADEIRO",#REF!,#REF!) -> #REF! | ... V37: =IF('Fórmula Mágica'!V37="VERDADEIRO",#REF!,#REF!) -> #REF! | W37: =Saneamento!W37 | X37: =Saneamento!X37 | Y37: =Saneamento!Y37 | Z37: =Saneamento!Z37 | AA37: =Saneamento!AA37 | AB37: OK
A38: =IF(#REF!>=1,#REF!,"") -> #REF! | B38: =IF(#REF!>=1,#REF!,"") -> #REF! | C38: =IF('Fórmula Mágica'!C38="VERDADEIRO",#REF!,#REF!) -> #REF! | D38: =IF('Fórmula Mágica'!D38="VERDADEIRO",#REF!,#REF!) -> #REF! | E38: =IF('Fórmula Mágica'!E38="VERDADEIRO",#REF!,#REF!) -> #REF! | F38: =IF('Fórmula Mágica'!F38="VERDADEIRO",#REF!,#REF!) -> #REF! | G38: =IF('Fórmula Mágica'!G38="VERDADEIRO",#REF!,#REF!) -> #REF! | H38: =IF('Fórmula Mágica'!H38="VERDADEIRO",#REF!,#REF!) -> #REF! | I38: =IF('Fórmula Mágica'!I38="VERDADEIRO",#REF!,#REF!) -> #REF! | J38: =IF('Fórmula Mágica'!J38="VERDADEIRO",#REF!,#REF!) -> #REF! | ... V38: =IF('Fórmula Mágica'!V38="VERDADEIRO",#REF!,#REF!) -> #REF! | W38: =Saneamento!W38 | X38: =Saneamento!X38 | Y38: =Saneamento!Y38 | Z38: =Saneamento!Z38 | AA38: =Saneamento!AA38 | AB38: OK
A39: =IF(#REF!>=1,#REF!,"") -> #REF! | B39: =IF(#REF!>=1,#REF!,"") -> #REF! | C39: =IF('Fórmula Mágica'!C39="VERDADEIRO",#REF!,#REF!) -> #REF! | D39: =IF('Fórmula Mágica'!D39="VERDADEIRO",#REF!,#REF!) -> #REF! | E39: =IF('Fórmula Mágica'!E39="VERDADEIRO",#REF!,#REF!) -> #REF! | F39: =IF('Fórmula Mágica'!F39="VERDADEIRO",#REF!,#REF!) -> #REF! | G39: =IF('Fórmula Mágica'!G39="VERDADEIRO",#REF!,#REF!) -> #REF! | H39: =IF('Fórmula Mágica'!H39="VERDADEIRO",#REF!,#REF!) -> #REF! | I39: =IF('Fórmula Mágica'!I39="VERDADEIRO",#REF!,#REF!) -> #REF! | J39: =IF('Fórmula Mágica'!J39="VERDADEIRO",#REF!,#REF!) -> #REF! | ... V39: =IF('Fórmula Mágica'!V39="VERDADEIRO",#REF!,#REF!) -> #REF! | W39: =Saneamento!W39 | X39: =Saneamento!X39 | Y39: =Saneamento!Y39 | Z39: =Saneamento!Z39 | AA39: =Saneamento!AA39 | AB39: OK
A40: =IF(#REF!>=1,#REF!,"") -> #REF! | B40: =IF(#REF!>=1,#REF!,"") -> #REF! | C40: =IF('Fórmula Mágica'!C40="VERDADEIRO",#REF!,#REF!) -> #REF! | D40: =IF('Fórmula Mágica'!D40="VERDADEIRO",#REF!,#REF!) -> #REF! | E40: =IF('Fórmula Mágica'!E40="VERDADEIRO",#REF!,#REF!) -> #REF! | F40: =IF('Fórmula Mágica'!F40="VERDADEIRO",#REF!,#REF!) -> #REF! | G40: =IF('Fórmula Mágica'!G40="VERDADEIRO",#REF!,#REF!) -> #REF! | H40: =IF('Fórmula Mágica'!H40="VERDADEIRO",#REF!,#REF!) -> #REF! | I40: =IF('Fórmula Mágica'!I40="VERDADEIRO",#REF!,#REF!) -> #REF! | J40: =IF('Fórmula Mágica'!J40="VERDADEIRO",#REF!,#REF!) -> #REF! | ... V40: =IF('Fórmula Mágica'!V40="VERDADEIRO",#REF!,#REF!) -> #REF! | W40: =Saneamento!W40 | X40: =Saneamento!X40 | Y40: =Saneamento!Y40 | Z40: =Saneamento!Z40 | AA40: =Saneamento!AA40 | AB40: OK
A41: =IF(#REF!>=1,#REF!,"") -> #REF! | B41: =IF(#REF!>=1,#REF!,"") -> #REF! | C41: =IF('Fórmula Mágica'!C41="VERDADEIRO",#REF!,#REF!) -> #REF! | D41: =IF('Fórmula Mágica'!D41="VERDADEIRO",#REF!,#REF!) -> #REF! | E41: =IF('Fórmula Mágica'!E41="VERDADEIRO",#REF!,#REF!) -> #REF! | F41: =IF('Fórmula Mágica'!F41="VERDADEIRO",#REF!,#REF!) -> #REF! | G41: =IF('Fórmula Mágica'!G41="VERDADEIRO",#REF!,#REF!) -> #REF! | H41: =IF('Fórmula Mágica'!H41="VERDADEIRO",#REF!,#REF!) -> #REF! | I41: =IF('Fórmula Mágica'!I41="VERDADEIRO",#REF!,#REF!) -> #REF! | J41: =IF('Fórmula Mágica'!J41="VERDADEIRO",#REF!,#REF!) -> #REF! | ... V41: =IF('Fórmula Mágica'!V41="VERDADEIRO",#REF!,#REF!) -> #REF! | W41: =Saneamento!W41 | X41: =Saneamento!X41 | Y41: =Saneamento!Y41 | Z41: =Saneamento!Z41 | AA41: =Saneamento!AA41 | AB41: OK
A42: =IF(#REF!>=1,#REF!,"") -> #REF! | B42: =IF(#REF!>=1,#REF!,"") -> #REF! | C42: =IF('Fórmula Mágica'!C42="VERDADEIRO",#REF!,#REF!) -> #REF! | D42: =IF('Fórmula Mágica'!D42="VERDADEIRO",#REF!,#REF!) -> #REF! | E42: =IF('Fórmula Mágica'!E42="VERDADEIRO",#REF!,#REF!) -> #REF! | F42: =IF('Fórmula Mágica'!F42="VERDADEIRO",#REF!,#REF!) -> #REF! | G42: =IF('Fórmula Mágica'!G42="VERDADEIRO",#REF!,#REF!) -> #REF! | H42: =IF('Fórmula Mágica'!H42="VERDADEIRO",#REF!,#REF!) -> #REF! | I42: =IF('Fórmula Mágica'!I42="VERDADEIRO",#REF!,#REF!) -> #REF! | J42: =IF('Fórmula Mágica'!J42="VERDADEIRO",#REF!,#REF!) -> #REF! | ... V42: =IF('Fórmula Mágica'!V42="VERDADEIRO",#REF!,#REF!) -> #REF! | W42: =Saneamento!W42 | X42: =Saneamento!X42 | Y42: =Saneamento!Y42 | Z42: =Saneamento!Z42 | AA42: =Saneamento!AA42 | AB42: OK
A43: =IF(#REF!>=1,#REF!,"") -> #REF! | B43: =IF(#REF!>=1,#REF!,"") -> #REF! | C43: =IF('Fórmula Mágica'!C43="VERDADEIRO",#REF!,#REF!) -> #REF! | D43: =IF('Fórmula Mágica'!D43="VERDADEIRO",#REF!,#REF!) -> #REF! | E43: =IF('Fórmula Mágica'!E43="VERDADEIRO",#REF!,#REF!) -> #REF! | F43: =IF('Fórmula Mágica'!F43="VERDADEIRO",#REF!,#REF!) -> #REF! | G43: =IF('Fórmula Mágica'!G43="VERDADEIRO",#REF!,#REF!) -> #REF! | H43: =IF('Fórmula Mágica'!H43="VERDADEIRO",#REF!,#REF!) -> #REF! | I43: =IF('Fórmula Mágica'!I43="VERDADEIRO",#REF!,#REF!) -> #REF! | J43: =IF('Fórmula Mágica'!J43="VERDADEIRO",#REF!,#REF!) -> #REF! | ... V43: =IF('Fórmula Mágica'!V43="VERDADEIRO",#REF!,#REF!) -> #REF! | W43: =Saneamento!W43 | X43: =Saneamento!X43 | Y43: =Saneamento!Y43 | Z43: =Saneamento!Z43 | AA43: =Saneamento!AA43 | AB43: OK
A44: =IF(#REF!>=1,#REF!,"") -> #REF! | B44: =IF(#REF!>=1,#REF!,"") -> #REF! | C44: =IF('Fórmula Mágica'!C44="VERDADEIRO",#REF!,#REF!) -> #REF! | D44: =IF('Fórmula Mágica'!D44="VERDADEIRO",#REF!,#REF!) -> #REF! | E44: =IF('Fórmula Mágica'!E44="VERDADEIRO",#REF!,#REF!) -> #REF! | F44: =IF('Fórmula Mágica'!F44="VERDADEIRO",#REF!,#REF!) -> #REF! | G44: =IF('Fórmula Mágica'!G44="VERDADEIRO",#REF!,#REF!) -> #REF! | H44: =IF('Fórmula Mágica'!H44="VERDADEIRO",#REF!,#REF!) -> #REF! | I44: =IF('Fórmula Mágica'!I44="VERDADEIRO",#REF!,#REF!) -> #REF! | J44: =IF('Fórmula Mágica'!J44="VERDADEIRO",#REF!,#REF!) -> #REF! | ... V44: =IF('Fórmula Mágica'!V44="VERDADEIRO",#REF!,#REF!) -> #REF! | W44: =Saneamento!W44 | X44: =Saneamento!X44 | Y44: =Saneamento!Y44 | Z44: =Saneamento!Z44 | AA44: =Saneamento!AA44 | AB44: OK
A45: =IF(#REF!>=1,#REF!,"") -> #REF! | B45: =IF(#REF!>=1,#REF!,"") -> #REF! | C45: =IF('Fórmula Mágica'!C45="VERDADEIRO",#REF!,#REF!) -> #REF! | D45: =IF('Fórmula Mágica'!D45="VERDADEIRO",#REF!,#REF!) -> #REF! | E45: =IF('Fórmula Mágica'!E45="VERDADEIRO",#REF!,#REF!) -> #REF! | F45: =IF('Fórmula Mágica'!F45="VERDADEIRO",#REF!,#REF!) -> #REF! | G45: =IF('Fórmula Mágica'!G45="VERDADEIRO",#REF!,#REF!) -> #REF! | H45: =IF('Fórmula Mágica'!H45="VERDADEIRO",#REF!,#REF!) -> #REF! | I45: =IF('Fórmula Mágica'!I45="VERDADEIRO",#REF!,#REF!) -> #REF! | J45: =IF('Fórmula Mágica'!J45="VERDADEIRO",#REF!,#REF!) -> #REF! | ... V45: =IF('Fórmula Mágica'!V45="VERDADEIRO",#REF!,#REF!) -> #REF! | W45: =Saneamento!W45 | X45: =Saneamento!X45 | Y45: =Saneamento!Y45 | Z45: =Saneamento!Z45 | AA45: =Saneamento!AA45 | AB45: OK
A46: =IF(#REF!>=1,#REF!,"") -> #REF! | B46: =IF(#REF!>=1,#REF!,"") -> #REF! | C46: =IF('Fórmula Mágica'!C46="VERDADEIRO",#REF!,#REF!) -> #REF! | D46: =IF('Fórmula Mágica'!D46="VERDADEIRO",#REF!,#REF!) -> #REF! | E46: =IF('Fórmula Mágica'!E46="VERDADEIRO",#REF!,#REF!) -> #REF! | F46: =IF('Fórmula Mágica'!F46="VERDADEIRO",#REF!,#REF!) -> #REF! | G46: =IF('Fórmula Mágica'!G46="VERDADEIRO",#REF!,#REF!) -> #REF! | H46: =IF('Fórmula Mágica'!H46="VERDADEIRO",#REF!,#REF!) -> #REF! | I46: =IF('Fórmula Mágica'!I46="VERDADEIRO",#REF!,#REF!) -> #REF! | J46: =IF('Fórmula Mágica'!J46="VERDADEIRO",#REF!,#REF!) -> #REF! | ... V46: =IF('Fórmula Mágica'!V46="VERDADEIRO",#REF!,#REF!) -> #REF! | W46: =Saneamento!W46 | X46: =Saneamento!X46 | Y46: =Saneamento!Y46 | Z46: =Saneamento!Z46 | AA46: =Saneamento!AA46 | AB46: OK
A47: =IF(#REF!>=1,#REF!,"") -> #REF! | B47: =IF(#REF!>=1,#REF!,"") -> #REF! | C47: =IF('Fórmula Mágica'!C47="VERDADEIRO",#REF!,#REF!) -> #REF! | D47: =IF('Fórmula Mágica'!D47="VERDADEIRO",#REF!,#REF!) -> #REF! | E47: =IF('Fórmula Mágica'!E47="VERDADEIRO",#REF!,#REF!) -> #REF! | F47: =IF('Fórmula Mágica'!F47="VERDADEIRO",#REF!,#REF!) -> #REF! | G47: =IF('Fórmula Mágica'!G47="VERDADEIRO",#REF!,#REF!) -> #REF! | H47: =IF('Fórmula Mágica'!H47="VERDADEIRO",#REF!,#REF!) -> #REF! | I47: =IF('Fórmula Mágica'!I47="VERDADEIRO",#REF!,#REF!) -> #REF! | J47: =IF('Fórmula Mágica'!J47="VERDADEIRO",#REF!,#REF!) -> #REF! | ... V47: =IF('Fórmula Mágica'!V47="VERDADEIRO",#REF!,#REF!) -> #REF! | W47: =Saneamento!W47 | X47: =Saneamento!X47 | Y47: =Saneamento!Y47 | Z47: =Saneamento!Z47 | AA47: =Saneamento!AA47 | AB47: OK
A48: =IF(#REF!>=1,#REF!,"") -> #REF! | B48: =IF(#REF!>=1,#REF!,"") -> #REF! | C48: =IF('Fórmula Mágica'!C48="VERDADEIRO",#REF!,#REF!) -> #REF! | D48: =IF('Fórmula Mágica'!D48="VERDADEIRO",#REF!,#REF!) -> #REF! | E48: =IF('Fórmula Mágica'!E48="VERDADEIRO",#REF!,#REF!) -> #REF! | F48: =IF('Fórmula Mágica'!F48="VERDADEIRO",#REF!,#REF!) -> #REF! | G48: =IF('Fórmula Mágica'!G48="VERDADEIRO",#REF!,#REF!) -> #REF! | H48: =IF('Fórmula Mágica'!H48="VERDADEIRO",#REF!,#REF!) -> #REF! | I48: =IF('Fórmula Mágica'!I48="VERDADEIRO",#REF!,#REF!) -> #REF! | J48: =IF('Fórmula Mágica'!J48="VERDADEIRO",#REF!,#REF!) -> #REF! | ... V48: =IF('Fórmula Mágica'!V48="VERDADEIRO",#REF!,#REF!) -> #REF! | W48: =Saneamento!W48 | X48: =Saneamento!X48 | Y48: =Saneamento!Y48 | Z48: =Saneamento!Z48 | AA48: =Saneamento!AA48
A49: =IF(#REF!>=1,#REF!,"") -> #REF! | B49: =IF(#REF!>=1,#REF!,"") -> #REF! | C49: =IF('Fórmula Mágica'!C49="VERDADEIRO",#REF!,#REF!) -> #REF! | D49: =IF('Fórmula Mágica'!D49="VERDADEIRO",#REF!,#REF!) -> #REF! | E49: =IF('Fórmula Mágica'!E49="VERDADEIRO",#REF!,#REF!) -> #REF! | F49: =IF('Fórmula Mágica'!F49="VERDADEIRO",#REF!,#REF!) -> #REF! | G49: =IF('Fórmula Mágica'!G49="VERDADEIRO",#REF!,#REF!) -> #REF! | H49: =IF('Fórmula Mágica'!H49="VERDADEIRO",#REF!,#REF!) -> #REF! | I49: =IF('Fórmula Mágica'!I49="VERDADEIRO",#REF!,#REF!) -> #REF! | J49: =IF('Fórmula Mágica'!J49="VERDADEIRO",#REF!,#REF!) -> #REF! | ... V49: =IF('Fórmula Mágica'!V49="VERDADEIRO",#REF!,#REF!) -> #REF! | W49: =Saneamento!W49 | X49: =Saneamento!X49 | Y49: =Saneamento!Y49 | Z49: =Saneamento!Z49 | AA49: =Saneamento!AA49 | AB49: OK
A50: =IF(#REF!>=1,#REF!,"") -> #REF! | B50: =IF(#REF!>=1,#REF!,"") -> #REF! | C50: =IF('Fórmula Mágica'!C50="VERDADEIRO",#REF!,#REF!) -> #REF! | D50: =IF('Fórmula Mágica'!D50="VERDADEIRO",#REF!,#REF!) -> #REF! | E50: =IF('Fórmula Mágica'!E50="VERDADEIRO",#REF!,#REF!) -> #REF! | F50: =IF('Fórmula Mágica'!F50="VERDADEIRO",#REF!,#REF!) -> #REF! | G50: =IF('Fórmula Mágica'!G50="VERDADEIRO",#REF!,#REF!) -> #REF! | H50: =IF('Fórmula Mágica'!H50="VERDADEIRO",#REF!,#REF!) -> #REF! | I50: =IF('Fórmula Mágica'!I50="VERDADEIRO",#REF!,#REF!) -> #REF! | J50: =IF('Fórmula Mágica'!J50="VERDADEIRO",#REF!,#REF!) -> #REF! | ... V50: =IF('Fórmula Mágica'!V50="VERDADEIRO",#REF!,#REF!) -> #REF! | W50: =Saneamento!W50 | X50: =Saneamento!X50 | Y50: =Saneamento!Y50 | Z50: =Saneamento!Z50 | AA50: =Saneamento!AA50 | AB50: OK
A51: =IF(#REF!>=1,#REF!,"") -> #REF! | B51: =IF(#REF!>=1,#REF!,"") -> #REF! | C51: =IF('Fórmula Mágica'!C51="VERDADEIRO",#REF!,#REF!) -> #REF! | D51: =IF('Fórmula Mágica'!D51="VERDADEIRO",#REF!,#REF!) -> #REF! | E51: =IF('Fórmula Mágica'!E51="VERDADEIRO",#REF!,#REF!) -> #REF! | F51: =IF('Fórmula Mágica'!F51="VERDADEIRO",#REF!,#REF!) -> #REF! | G51: =IF('Fórmula Mágica'!G51="VERDADEIRO",#REF!,#REF!) -> #REF! | H51: =IF('Fórmula Mágica'!H51="VERDADEIRO",#REF!,#REF!) -> #REF! | I51: =IF('Fórmula Mágica'!I51="VERDADEIRO",#REF!,#REF!) -> #REF! | J51: =IF('Fórmula Mágica'!J51="VERDADEIRO",#REF!,#REF!) -> #REF! | ... V51: =IF('Fórmula Mágica'!V51="VERDADEIRO",#REF!,#REF!) -> #REF! | W51: =Saneamento!W51 | X51: =Saneamento!X51 | Y51: =Saneamento!Y51 | Z51: =Saneamento!Z51 | AA51: =Saneamento!AA51
A52: =IF(#REF!>=1,#REF!,"") -> #REF! | B52: =IF(#REF!>=1,#REF!,"") -> #REF! | C52: =IF('Fórmula Mágica'!C52="VERDADEIRO",#REF!,#REF!) -> #REF! | D52: =IF('Fórmula Mágica'!D52="VERDADEIRO",#REF!,#REF!) -> #REF! | E52: =IF('Fórmula Mágica'!E52="VERDADEIRO",#REF!,#REF!) -> #REF! | F52: =IF('Fórmula Mágica'!F52="VERDADEIRO",#REF!,#REF!) -> #REF! | G52: =IF('Fórmula Mágica'!G52="VERDADEIRO",#REF!,#REF!) -> #REF! | H52: =IF('Fórmula Mágica'!H52="VERDADEIRO",#REF!,#REF!) -> #REF! | I52: =IF('Fórmula Mágica'!I52="VERDADEIRO",#REF!,#REF!) -> #REF! | J52: =IF('Fórmula Mágica'!J52="VERDADEIRO",#REF!,#REF!) -> #REF! | ... V52: =IF('Fórmula Mágica'!V52="VERDADEIRO",#REF!,#REF!) -> #REF! | W52: =Saneamento!W52 | X52: =Saneamento!X52 | Y52: =Saneamento!Y52 | Z52: =Saneamento!Z52 | AA52: =Saneamento!AA52 | AB52: OK
A53: =IF(#REF!>=1,#REF!,"") -> #REF! | B53: =IF(#REF!>=1,#REF!,"") -> #REF! | C53: =IF('Fórmula Mágica'!C53="VERDADEIRO",#REF!,#REF!) -> #REF! | D53: =IF('Fórmula Mágica'!D53="VERDADEIRO",#REF!,#REF!) -> #REF! | E53: =IF('Fórmula Mágica'!E53="VERDADEIRO",#REF!,#REF!) -> #REF! | F53: =IF('Fórmula Mágica'!F53="VERDADEIRO",#REF!,#REF!) -> #REF! | G53: =IF('Fórmula Mágica'!G53="VERDADEIRO",#REF!,#REF!) -> #REF! | H53: =IF('Fórmula Mágica'!H53="VERDADEIRO",#REF!,#REF!) -> #REF! | I53: =IF('Fórmula Mágica'!I53="VERDADEIRO",#REF!,#REF!) -> #REF! | J53: =IF('Fórmula Mágica'!J53="VERDADEIRO",#REF!,#REF!) -> #REF! | ... V53: =IF('Fórmula Mágica'!V53="VERDADEIRO",#REF!,#REF!) -> #REF! | W53: =Saneamento!W53 | X53: =Saneamento!X53 | Y53: =Saneamento!Y53 | Z53: =Saneamento!Z53 | AA53: =Saneamento!AA53 | AB53: OK
A54: =IF(#REF!>=1,#REF!,"") -> #REF! | B54: =IF(#REF!>=1,#REF!,"") -> #REF! | C54: =IF('Fórmula Mágica'!C54="VERDADEIRO",#REF!,#REF!) -> #REF! | D54: =IF('Fórmula Mágica'!D54="VERDADEIRO",#REF!,#REF!) -> #REF! | E54: =IF('Fórmula Mágica'!E54="VERDADEIRO",#REF!,#REF!) -> #REF! | F54: =IF('Fórmula Mágica'!F54="VERDADEIRO",#REF!,#REF!) -> #REF! | G54: =IF('Fórmula Mágica'!G54="VERDADEIRO",#REF!,#REF!) -> #REF! | H54: =IF('Fórmula Mágica'!H54="VERDADEIRO",#REF!,#REF!) -> #REF! | I54: =IF('Fórmula Mágica'!I54="VERDADEIRO",#REF!,#REF!) -> #REF! | J54: =IF('Fórmula Mágica'!J54="VERDADEIRO",#REF!,#REF!) -> #REF! | ... V54: =IF('Fórmula Mágica'!V54="VERDADEIRO",#REF!,#REF!) -> #REF! | W54: =Saneamento!W54 | X54: =Saneamento!X54 | Y54: =Saneamento!Y54 | Z54: =Saneamento!Z54 | AA54: =Saneamento!AA54 | AB54: OK
A55: =IF(#REF!>=1,#REF!,"") -> #REF! | B55: =IF(#REF!>=1,#REF!,"") -> #REF! | C55: =IF('Fórmula Mágica'!C55="VERDADEIRO",#REF!,#REF!) -> #REF! | D55: =IF('Fórmula Mágica'!D55="VERDADEIRO",#REF!,#REF!) -> #REF! | E55: =IF('Fórmula Mágica'!E55="VERDADEIRO",#REF!,#REF!) -> #REF! | F55: =IF('Fórmula Mágica'!F55="VERDADEIRO",#REF!,#REF!) -> #REF! | G55: =IF('Fórmula Mágica'!G55="VERDADEIRO",#REF!,#REF!) -> #REF! | H55: =IF('Fórmula Mágica'!H55="VERDADEIRO",#REF!,#REF!) -> #REF! | I55: =IF('Fórmula Mágica'!I55="VERDADEIRO",#REF!,#REF!) -> #REF! | J55: =IF('Fórmula Mágica'!J55="VERDADEIRO",#REF!,#REF!) -> #REF! | ... P55: =IF('Fórmula Mágica'!P55="VERDADEIRO",#REF!,#REF!) -> #REF! | R55: =IF('Fórmula Mágica'!R55="VERDADEIRO",#REF!,#REF!) -> #REF! | S55: =IF('Fórmula Mágica'!S55="VERDADEIRO",#REF!,#REF!) -> #REF! | T55: =IF('Fórmula Mágica'!T55="VERDADEIRO",#REF!,#REF!) -> #REF! | U55: =IF('Fórmula Mágica'!U55="VERDADEIRO",#REF!,#REF!) -> #REF! | V55: =IF('Fórmula Mágica'!V55="VERDADEIRO",#REF!,#REF!) -> #REF! | W55: =AVERAGE(R55:U55) -> #REF! | X55: =Saneamento!X55 | Y55: =Saneamento!Y55 | Z55: =Saneamento!Z55 | AA55: =Saneamento!AA55 | AB55: OK
A56: =IF(#REF!>=1,#REF!,"") -> #REF! | B56: =IF(#REF!>=1,#REF!,"") -> #REF! | C56: =IF('Fórmula Mágica'!C56="VERDADEIRO",#REF!,#REF!) -> #REF! | D56: =IF('Fórmula Mágica'!D56="VERDADEIRO",#REF!,#REF!) -> #REF! | E56: =IF('Fórmula Mágica'!E56="VERDADEIRO",#REF!,#REF!) -> #REF! | F56: =IF('Fórmula Mágica'!F56="VERDADEIRO",#REF!,#REF!) -> #REF! | G56: =IF('Fórmula Mágica'!G56="VERDADEIRO",#REF!,#REF!) -> #REF! | H56: =IF('Fórmula Mágica'!H56="VERDADEIRO",#REF!,#REF!) -> #REF! | I56: =IF('Fórmula Mágica'!I56="VERDADEIRO",#REF!,#REF!) -> #REF! | J56: =IF('Fórmula Mágica'!J56="VERDADEIRO",#REF!,#REF!) -> #REF! | ... V56: =IF('Fórmula Mágica'!V56="VERDADEIRO",#REF!,#REF!) -> #REF! | W56: =Saneamento!W56 | X56: =Saneamento!X56 | Y56: =Saneamento!Y56 | Z56: =Saneamento!Z56 | AA56: =Saneamento!AA56 | AB56: OK
A57: =IF(#REF!>=1,#REF!,"") -> #REF! | B57: =IF(#REF!>=1,#REF!,"") -> #REF! | C57: =IF('Fórmula Mágica'!C57="VERDADEIRO",#REF!,#REF!) -> #REF! | D57: =IF('Fórmula Mágica'!D57="VERDADEIRO",#REF!,#REF!) -> #REF! | E57: =IF('Fórmula Mágica'!E57="VERDADEIRO",#REF!,#REF!) -> #REF! | F57: =IF('Fórmula Mágica'!F57="VERDADEIRO",#REF!,#REF!) -> #REF! | G57: =IF('Fórmula Mágica'!G57="VERDADEIRO",#REF!,#REF!) -> #REF! | H57: =IF('Fórmula Mágica'!H57="VERDADEIRO",#REF!,#REF!) -> #REF! | I57: =IF('Fórmula Mágica'!I57="VERDADEIRO",#REF!,#REF!) -> #REF! | J57: =IF('Fórmula Mágica'!J57="VERDADEIRO",#REF!,#REF!) -> #REF! | ... V57: =IF('Fórmula Mágica'!V57="VERDADEIRO",#REF!,#REF!) -> #REF! | W57: =Saneamento!W57 | X57: =Saneamento!X57 | Y57: =Saneamento!Y57 | Z57: =Saneamento!Z57 | AA57: =Saneamento!AA57
A58: =IF(#REF!>=1,#REF!,"") -> #REF! | B58: =IF(#REF!>=1,#REF!,"") -> #REF! | C58: =IF('Fórmula Mágica'!C58="VERDADEIRO",#REF!,#REF!) -> #REF! | D58: =IF('Fórmula Mágica'!D58="VERDADEIRO",#REF!,#REF!) -> #REF! | E58: =IF('Fórmula Mágica'!E58="VERDADEIRO",#REF!,#REF!) -> #REF! | F58: =IF('Fórmula Mágica'!F58="VERDADEIRO",#REF!,#REF!) -> #REF! | G58: =IF('Fórmula Mágica'!G58="VERDADEIRO",#REF!,#REF!) -> #REF! | H58: =IF('Fórmula Mágica'!H58="VERDADEIRO",#REF!,#REF!) -> #REF! | I58: =IF('Fórmula Mágica'!I58="VERDADEIRO",#REF!,#REF!) -> #REF! | J58: =IF('Fórmula Mágica'!J58="VERDADEIRO",#REF!,#REF!) -> #REF! | ... V58: =IF('Fórmula Mágica'!V58="VERDADEIRO",#REF!,#REF!) -> #REF! | W58: =Saneamento!W58 | X58: =Saneamento!X58 | Y58: =Saneamento!Y58 | Z58: =Saneamento!Z58 | AA58: =Saneamento!AA58 | AB58: OK
A59: =IF(#REF!>=1,#REF!,"") -> #REF! | B59: =IF(#REF!>=1,#REF!,"") -> #REF! | C59: =IF('Fórmula Mágica'!C59="VERDADEIRO",#REF!,#REF!) -> #REF! | D59: =IF('Fórmula Mágica'!D59="VERDADEIRO",#REF!,#REF!) -> #REF! | E59: =IF('Fórmula Mágica'!E59="VERDADEIRO",#REF!,#REF!) -> #REF! | F59: =IF('Fórmula Mágica'!F59="VERDADEIRO",#REF!,#REF!) -> #REF! | G59: =IF('Fórmula Mágica'!G59="VERDADEIRO",#REF!,#REF!) -> #REF! | H59: =IF('Fórmula Mágica'!H59="VERDADEIRO",#REF!,#REF!) -> #REF! | I59: =IF('Fórmula Mágica'!I59="VERDADEIRO",#REF!,#REF!) -> #REF! | J59: =IF('Fórmula Mágica'!J59="VERDADEIRO",#REF!,#REF!) -> #REF! | ... V59: =IF('Fórmula Mágica'!V59="VERDADEIRO",#REF!,#REF!) -> #REF! | W59: =Saneamento!W59 | X59: =Saneamento!X59 | Y59: =Saneamento!Y59 | Z59: =Saneamento!Z59 | AA59: =Saneamento!AA59 | AB59: OK
A60: =IF(#REF!>=1,#REF!,"") -> #REF! | B60: =IF(#REF!>=1,#REF!,"") -> #REF! | C60: =IF('Fórmula Mágica'!C60="VERDADEIRO",#REF!,#REF!) -> #REF! | D60: =IF('Fórmula Mágica'!D60="VERDADEIRO",#REF!,#REF!) -> #REF! | E60: =IF('Fórmula Mágica'!E60="VERDADEIRO",#REF!,#REF!) -> #REF! | F60: =IF('Fórmula Mágica'!F60="VERDADEIRO",#REF!,#REF!) -> #REF! | G60: =IF('Fórmula Mágica'!G60="VERDADEIRO",#REF!,#REF!) -> #REF! | H60: =IF('Fórmula Mágica'!H60="VERDADEIRO",#REF!,#REF!) -> #REF! | I60: =IF('Fórmula Mágica'!I60="VERDADEIRO",#REF!,#REF!) -> #REF! | J60: =IF('Fórmula Mágica'!J60="VERDADEIRO",#REF!,#REF!) -> #REF! | ... V60: =IF('Fórmula Mágica'!V60="VERDADEIRO",#REF!,#REF!) -> #REF! | W60: =Saneamento!W60 | X60: =Saneamento!X60 | Y60: =Saneamento!Y60 | Z60: =Saneamento!Z60 | AA60: =Saneamento!AA60 | AB60: OK
A61: =IF(#REF!>=1,#REF!,"") -> #REF! | B61: =IF(#REF!>=1,#REF!,"") -> #REF! | C61: =IF('Fórmula Mágica'!C61="VERDADEIRO",#REF!,#REF!) -> #REF! | D61: =IF('Fórmula Mágica'!D61="VERDADEIRO",#REF!,#REF!) -> #REF! | E61: =IF('Fórmula Mágica'!E61="VERDADEIRO",#REF!,#REF!) -> #REF! | F61: =IF('Fórmula Mágica'!F61="VERDADEIRO",#REF!,#REF!) -> #REF! | G61: =IF('Fórmula Mágica'!G61="VERDADEIRO",#REF!,#REF!) -> #REF! | H61: =IF('Fórmula Mágica'!H61="VERDADEIRO",#REF!,#REF!) -> #REF! | I61: =IF('Fórmula Mágica'!I61="VERDADEIRO",#REF!,#REF!) -> #REF! | J61: =IF('Fórmula Mágica'!J61="VERDADEIRO",#REF!,#REF!) -> #REF! | ... V61: =IF('Fórmula Mágica'!V61="VERDADEIRO",#REF!,#REF!) -> #REF! | W61: =Saneamento!W61 | X61: =Saneamento!X61 | Y61: =Saneamento!Y61 | Z61: =Saneamento!Z61 | AA61: =Saneamento!AA61
A62: =IF(#REF!>=1,#REF!,"") -> #REF! | B62: =IF(#REF!>=1,#REF!,"") -> #REF! | C62: =IF('Fórmula Mágica'!C62="VERDADEIRO",#REF!,#REF!) -> #REF! | D62: =IF('Fórmula Mágica'!D62="VERDADEIRO",#REF!,#REF!) -> #REF! | E62: =IF('Fórmula Mágica'!E62="VERDADEIRO",#REF!,#REF!) -> #REF! | F62: =IF('Fórmula Mágica'!F62="VERDADEIRO",#REF!,#REF!) -> #REF! | G62: =IF('Fórmula Mágica'!G62="VERDADEIRO",#REF!,#REF!) -> #REF! | H62: =IF('Fórmula Mágica'!H62="VERDADEIRO",#REF!,#REF!) -> #REF! | I62: =IF('Fórmula Mágica'!I62="VERDADEIRO",#REF!,#REF!) -> #REF! | J62: =IF('Fórmula Mágica'!J62="VERDADEIRO",#REF!,#REF!) -> #REF! | ... V62: =IF('Fórmula Mágica'!V62="VERDADEIRO",#REF!,#REF!) -> #REF! | W62: =Saneamento!W62 | X62: =Saneamento!X62 | Y62: =Saneamento!Y62 | Z62: =Saneamento!Z62 | AA62: =Saneamento!AA62
A63: =IF(#REF!>=1,#REF!,"") -> #REF! | B63: =IF(#REF!>=1,#REF!,"") -> #REF! | C63: =IF('Fórmula Mágica'!C63="VERDADEIRO",#REF!,#REF!) -> #REF! | D63: =IF('Fórmula Mágica'!D63="VERDADEIRO",#REF!,#REF!) -> #REF! | E63: =IF('Fórmula Mágica'!E63="VERDADEIRO",#REF!,#REF!) -> #REF! | F63: =IF('Fórmula Mágica'!F63="VERDADEIRO",#REF!,#REF!) -> #REF! | G63: =IF('Fórmula Mágica'!G63="VERDADEIRO",#REF!,#REF!) -> #REF! | H63: =IF('Fórmula Mágica'!H63="VERDADEIRO",#REF!,#REF!) -> #REF! | I63: =IF('Fórmula Mágica'!I63="VERDADEIRO",#REF!,#REF!) -> #REF! | J63: =IF('Fórmula Mágica'!J63="VERDADEIRO",#REF!,#REF!) -> #REF! | ... V63: =IF('Fórmula Mágica'!V63="VERDADEIRO",#REF!,#REF!) -> #REF! | W63: =Saneamento!W63 | X63: =Saneamento!X63 | Y63: =Saneamento!Y63 | Z63: =Saneamento!Z63 | AA63: =Saneamento!AA63
A64: =IF(#REF!>=1,#REF!,"") -> #REF! | B64: =IF(#REF!>=1,#REF!,"") -> #REF! | C64: =IF('Fórmula Mágica'!C64="VERDADEIRO",#REF!,#REF!) -> #REF! | D64: =IF('Fórmula Mágica'!D64="VERDADEIRO",#REF!,#REF!) -> #REF! | E64: =IF('Fórmula Mágica'!E64="VERDADEIRO",#REF!,#REF!) -> #REF! | F64: =IF('Fórmula Mágica'!F64="VERDADEIRO",#REF!,#REF!) -> #REF! | G64: =IF('Fórmula Mágica'!G64="VERDADEIRO",#REF!,#REF!) -> #REF! | H64: =IF('Fórmula Mágica'!H64="VERDADEIRO",#REF!,#REF!) -> #REF! | I64: =IF('Fórmula Mágica'!I64="VERDADEIRO",#REF!,#REF!) -> #REF! | J64: =IF('Fórmula Mágica'!J64="VERDADEIRO",#REF!,#REF!) -> #REF! | ... V64: =IF('Fórmula Mágica'!V64="VERDADEIRO",#REF!,#REF!) -> #REF! | W64: =Saneamento!W64 | X64: =Saneamento!X64 | Y64: =Saneamento!Y64 | Z64: =Saneamento!Z64 | AA64: =Saneamento!AA64 | AB64: OK
A65: =IF(#REF!>=1,#REF!,"") -> #REF! | B65: =IF(#REF!>=1,#REF!,"") -> #REF! | C65: =IF('Fórmula Mágica'!C65="VERDADEIRO",#REF!,#REF!) -> #REF! | D65: =IF('Fórmula Mágica'!D65="VERDADEIRO",#REF!,#REF!) -> #REF! | E65: =IF('Fórmula Mágica'!E65="VERDADEIRO",#REF!,#REF!) -> #REF! | F65: =IF('Fórmula Mágica'!F65="VERDADEIRO",#REF!,#REF!) -> #REF! | G65: =IF('Fórmula Mágica'!G65="VERDADEIRO",#REF!,#REF!) -> #REF! | H65: =IF('Fórmula Mágica'!H65="VERDADEIRO",#REF!,#REF!) -> #REF! | I65: =IF('Fórmula Mágica'!I65="VERDADEIRO",#REF!,#REF!) -> #REF! | J65: =IF('Fórmula Mágica'!J65="VERDADEIRO",#REF!,#REF!) -> #REF! | ... V65: =IF('Fórmula Mágica'!V65="VERDADEIRO",#REF!,#REF!) -> #REF! | W65: =Saneamento!W65 | X65: =Saneamento!X65 | Y65: =Saneamento!Y65 | Z65: =Saneamento!Z65 | AA65: =Saneamento!AA65 | AB65: OK
A66: =IF(#REF!>=1,#REF!,"") -> #REF! | B66: =IF(#REF!>=1,#REF!,"") -> #REF! | C66: =IF('Fórmula Mágica'!C66="VERDADEIRO",#REF!,#REF!) -> #REF! | D66: =IF('Fórmula Mágica'!D66="VERDADEIRO",#REF!,#REF!) -> #REF! | E66: =IF('Fórmula Mágica'!E66="VERDADEIRO",#REF!,#REF!) -> #REF! | F66: =IF('Fórmula Mágica'!F66="VERDADEIRO",#REF!,#REF!) -> #REF! | G66: =IF('Fórmula Mágica'!G66="VERDADEIRO",#REF!,#REF!) -> #REF! | H66: =IF('Fórmula Mágica'!H66="VERDADEIRO",#REF!,#REF!) -> #REF! | I66: =IF('Fórmula Mágica'!I66="VERDADEIRO",#REF!,#REF!) -> #REF! | J66: =IF('Fórmula Mágica'!J66="VERDADEIRO",#REF!,#REF!) -> #REF! | ... V66: =IF('Fórmula Mágica'!V66="VERDADEIRO",#REF!,#REF!) -> #REF! | W66: =Saneamento!W66 | X66: =Saneamento!X66 | Y66: =Saneamento!Y66 | Z66: =Saneamento!Z66 | AA66: =Saneamento!AA66 | AB66: OK
A67: =IF(#REF!>=1,#REF!,"") -> #REF! | B67: =IF(#REF!>=1,#REF!,"") -> #REF! | C67: =IF('Fórmula Mágica'!C67="VERDADEIRO",#REF!,#REF!) -> #REF! | D67: =IF('Fórmula Mágica'!D67="VERDADEIRO",#REF!,#REF!) -> #REF! | E67: =IF('Fórmula Mágica'!E67="VERDADEIRO",#REF!,#REF!) -> #REF! | F67: =IF('Fórmula Mágica'!F67="VERDADEIRO",#REF!,#REF!) -> #REF! | G67: =IF('Fórmula Mágica'!G67="VERDADEIRO",#REF!,#REF!) -> #REF! | H67: =IF('Fórmula Mágica'!H67="VERDADEIRO",#REF!,#REF!) -> #REF! | I67: =IF('Fórmula Mágica'!I67="VERDADEIRO",#REF!,#REF!) -> #REF! | J67: =IF('Fórmula Mágica'!J67="VERDADEIRO",#REF!,#REF!) -> #REF! | ... V67: =IF('Fórmula Mágica'!V67="VERDADEIRO",#REF!,#REF!) -> #REF! | W67: =Saneamento!W67 | X67: =Saneamento!X67 | Y67: =Saneamento!Y67 | Z67: =Saneamento!Z67 | AA67: =Saneamento!AA67 | AB67: OK
A68: =IF(#REF!>=1,#REF!,"") -> #REF! | B68: =IF(#REF!>=1,#REF!,"") -> #REF! | C68: =IF('Fórmula Mágica'!C68="VERDADEIRO",#REF!,#REF!) -> #REF! | D68: =IF('Fórmula Mágica'!D68="VERDADEIRO",#REF!,#REF!) -> #REF! | E68: =IF('Fórmula Mágica'!E68="VERDADEIRO",#REF!,#REF!) -> #REF! | F68: =IF('Fórmula Mágica'!F68="VERDADEIRO",#REF!,#REF!) -> #REF! | G68: =IF('Fórmula Mágica'!G68="VERDADEIRO",#REF!,#REF!) -> #REF! | H68: =IF('Fórmula Mágica'!H68="VERDADEIRO",#REF!,#REF!) -> #REF! | I68: =IF('Fórmula Mágica'!I68="VERDADEIRO",#REF!,#REF!) -> #REF! | J68: =IF('Fórmula Mágica'!J68="VERDADEIRO",#REF!,#REF!) -> #REF! | ... V68: =IF('Fórmula Mágica'!V68="VERDADEIRO",#REF!,#REF!) -> #REF! | W68: =Saneamento!W68 | X68: =Saneamento!X68 | Y68: =Saneamento!Y68 | Z68: =Saneamento!Z68 | AA68: =Saneamento!AA68 | AB68: OK
A69: =IF(#REF!>=1,#REF!,"") -> #REF! | B69: =IF(#REF!>=1,#REF!,"") -> #REF! | C69: =IF('Fórmula Mágica'!C69="VERDADEIRO",#REF!,#REF!) -> #REF! | D69: =IF('Fórmula Mágica'!D69="VERDADEIRO",#REF!,#REF!) -> #REF! | E69: =IF('Fórmula Mágica'!E69="VERDADEIRO",#REF!,#REF!) -> #REF! | F69: =IF('Fórmula Mágica'!F69="VERDADEIRO",#REF!,#REF!) -> #REF! | G69: =IF('Fórmula Mágica'!G69="VERDADEIRO",#REF!,#REF!) -> #REF! | H69: =IF('Fórmula Mágica'!H69="VERDADEIRO",#REF!,#REF!) -> #REF! | I69: =IF('Fórmula Mágica'!I69="VERDADEIRO",#REF!,#REF!) -> #REF! | J69: =IF('Fórmula Mágica'!J69="VERDADEIRO",#REF!,#REF!) -> #REF! | ... V69: =IF('Fórmula Mágica'!V69="VERDADEIRO",#REF!,#REF!) -> #REF! | W69: =Saneamento!W69 | X69: =Saneamento!X69 | Y69: =Saneamento!Y69 | Z69: =Saneamento!Z69 | AA69: =Saneamento!AA69 | AC69: 1 ORÇ
A70: =IF(#REF!>=1,#REF!,"") -> #REF! | B70: =IF(#REF!>=1,#REF!,"") -> #REF! | C70: =IF('Fórmula Mágica'!C70="VERDADEIRO",#REF!,#REF!) -> #REF! | D70: =IF('Fórmula Mágica'!D70="VERDADEIRO",#REF!,#REF!) -> #REF! | E70: =IF('Fórmula Mágica'!E70="VERDADEIRO",#REF!,#REF!) -> #REF! | F70: =IF('Fórmula Mágica'!F70="VERDADEIRO",#REF!,#REF!) -> #REF! | G70: =IF('Fórmula Mágica'!G70="VERDADEIRO",#REF!,#REF!) -> #REF! | H70: =IF('Fórmula Mágica'!H70="VERDADEIRO",#REF!,#REF!) -> #REF! | I70: =IF('Fórmula Mágica'!I70="VERDADEIRO",#REF!,#REF!) -> #REF! | J70: =IF('Fórmula Mágica'!J70="VERDADEIRO",#REF!,#REF!) -> #REF! | ... V70: =IF('Fórmula Mágica'!V70="VERDADEIRO",#REF!,#REF!) -> #REF! | W70: =Saneamento!W70 | X70: =Saneamento!X70 | Y70: =Saneamento!Y70 | Z70: =Saneamento!Z70 | AA70: =Saneamento!AA70 | AB70: OK
A71: =IF(#REF!>=1,#REF!,"") -> #REF! | B71: =IF(#REF!>=1,#REF!,"") -> #REF! | C71: =IF('Fórmula Mágica'!C71="VERDADEIRO",#REF!,#REF!) -> #REF! | D71: =IF('Fórmula Mágica'!D71="VERDADEIRO",#REF!,#REF!) -> #REF! | E71: =IF('Fórmula Mágica'!E71="VERDADEIRO",#REF!,#REF!) -> #REF! | F71: =IF('Fórmula Mágica'!F71="VERDADEIRO",#REF!,#REF!) -> #REF! | G71: =IF('Fórmula Mágica'!G71="VERDADEIRO",#REF!,#REF!) -> #REF! | H71: =IF('Fórmula Mágica'!H71="VERDADEIRO",#REF!,#REF!) -> #REF! | I71: =IF('Fórmula Mágica'!I71="VERDADEIRO",#REF!,#REF!) -> #REF! | J71: =IF('Fórmula Mágica'!J71="VERDADEIRO",#REF!,#REF!) -> #REF! | ... V71: =IF('Fórmula Mágica'!V71="VERDADEIRO",#REF!,#REF!) -> #REF! | W71: =Saneamento!W71 | X71: =Saneamento!X71 | Y71: =Saneamento!Y71 | Z71: =Saneamento!Z71 | AA71: =Saneamento!AA71 | AB71: OK
A72: =IF(#REF!>=1,#REF!,"") -> #REF! | B72: =IF(#REF!>=1,#REF!,"") -> #REF! | C72: =IF('Fórmula Mágica'!C72="VERDADEIRO",#REF!,#REF!) -> #REF! | D72: =IF('Fórmula Mágica'!D72="VERDADEIRO",#REF!,#REF!) -> #REF! | E72: =IF('Fórmula Mágica'!E72="VERDADEIRO",#REF!,#REF!) -> #REF! | F72: =IF('Fórmula Mágica'!F72="VERDADEIRO",#REF!,#REF!) -> #REF! | G72: =IF('Fórmula Mágica'!G72="VERDADEIRO",#REF!,#REF!) -> #REF! | H72: =IF('Fórmula Mágica'!H72="VERDADEIRO",#REF!,#REF!) -> #REF! | I72: =IF('Fórmula Mágica'!I72="VERDADEIRO",#REF!,#REF!) -> #REF! | J72: =IF('Fórmula Mágica'!J72="VERDADEIRO",#REF!,#REF!) -> #REF! | ... V72: =IF('Fórmula Mágica'!V72="VERDADEIRO",#REF!,#REF!) -> #REF! | W72: =Saneamento!W72 | X72: =Saneamento!X72 | Y72: =Saneamento!Y72 | Z72: =Saneamento!Z72 | AA72: =Saneamento!AA72 | AB72: OK
A73: =IF(#REF!>=1,#REF!,"") -> #REF! | B73: =IF(#REF!>=1,#REF!,"") -> #REF! | C73: =IF('Fórmula Mágica'!C73="VERDADEIRO",#REF!,#REF!) -> #REF! | D73: =IF('Fórmula Mágica'!D73="VERDADEIRO",#REF!,#REF!) -> #REF! | E73: =IF('Fórmula Mágica'!E73="VERDADEIRO",#REF!,#REF!) -> #REF! | F73: =IF('Fórmula Mágica'!F73="VERDADEIRO",#REF!,#REF!) -> #REF! | G73: =IF('Fórmula Mágica'!G73="VERDADEIRO",#REF!,#REF!) -> #REF! | H73: =IF('Fórmula Mágica'!H73="VERDADEIRO",#REF!,#REF!) -> #REF! | I73: =IF('Fórmula Mágica'!I73="VERDADEIRO",#REF!,#REF!) -> #REF! | J73: =IF('Fórmula Mágica'!J73="VERDADEIRO",#REF!,#REF!) -> #REF! | ... V73: =IF('Fórmula Mágica'!V73="VERDADEIRO",#REF!,#REF!) -> #REF! | W73: =Saneamento!W73 | X73: =Saneamento!X73 | Y73: =Saneamento!Y73 | Z73: =Saneamento!Z73 | AA73: =Saneamento!AA73 | AB73: OK
A74: =IF(#REF!>=1,#REF!,"") -> #REF! | B74: =IF(#REF!>=1,#REF!,"") -> #REF! | C74: =IF('Fórmula Mágica'!C74="VERDADEIRO",#REF!,#REF!) -> #REF! | D74: =IF('Fórmula Mágica'!D74="VERDADEIRO",#REF!,#REF!) -> #REF! | E74: =IF('Fórmula Mágica'!E74="VERDADEIRO",#REF!,#REF!) -> #REF! | F74: =IF('Fórmula Mágica'!F74="VERDADEIRO",#REF!,#REF!) -> #REF! | G74: =IF('Fórmula Mágica'!G74="VERDADEIRO",#REF!,#REF!) -> #REF! | H74: =IF('Fórmula Mágica'!H74="VERDADEIRO",#REF!,#REF!) -> #REF! | I74: =IF('Fórmula Mágica'!I74="VERDADEIRO",#REF!,#REF!) -> #REF! | J74: =IF('Fórmula Mágica'!J74="VERDADEIRO",#REF!,#REF!) -> #REF! | ... V74: =IF('Fórmula Mágica'!V74="VERDADEIRO",#REF!,#REF!) -> #REF! | W74: =Saneamento!W74 | X74: =Saneamento!X74 | Y74: =Saneamento!Y74 | Z74: =Saneamento!Z74 | AA74: =Saneamento!AA74 | AB74: OK
A75: =IF(#REF!>=1,#REF!,"") -> #REF! | B75: =IF(#REF!>=1,#REF!,"") -> #REF! | C75: =IF('Fórmula Mágica'!C75="VERDADEIRO",#REF!,#REF!) -> #REF! | D75: =IF('Fórmula Mágica'!D75="VERDADEIRO",#REF!,#REF!) -> #REF! | E75: =IF('Fórmula Mágica'!E75="VERDADEIRO",#REF!,#REF!) -> #REF! | F75: =IF('Fórmula Mágica'!F75="VERDADEIRO",#REF!,#REF!) -> #REF! | G75: =IF('Fórmula Mágica'!G75="VERDADEIRO",#REF!,#REF!) -> #REF! | H75: =IF('Fórmula Mágica'!H75="VERDADEIRO",#REF!,#REF!) -> #REF! | I75: =IF('Fórmula Mágica'!I75="VERDADEIRO",#REF!,#REF!) -> #REF! | J75: =IF('Fórmula Mágica'!J75="VERDADEIRO",#REF!,#REF!) -> #REF! | ... V75: =IF('Fórmula Mágica'!V75="VERDADEIRO",#REF!,#REF!) -> #REF! | W75: =Saneamento!W75 | X75: =Saneamento!X75 | Y75: =Saneamento!Y75 | Z75: =Saneamento!Z75 | AA75: =Saneamento!AA75 | AB75: OK
A76: =IF(#REF!>=1,#REF!,"") -> #REF! | B76: =IF(#REF!>=1,#REF!,"") -> #REF! | C76: =IF('Fórmula Mágica'!C76="VERDADEIRO",#REF!,#REF!) -> #REF! | D76: =IF('Fórmula Mágica'!D76="VERDADEIRO",#REF!,#REF!) -> #REF! | E76: =IF('Fórmula Mágica'!E76="VERDADEIRO",#REF!,#REF!) -> #REF! | F76: =IF('Fórmula Mágica'!F76="VERDADEIRO",#REF!,#REF!) -> #REF! | G76: =IF('Fórmula Mágica'!G76="VERDADEIRO",#REF!,#REF!) -> #REF! | H76: =IF('Fórmula Mágica'!H76="VERDADEIRO",#REF!,#REF!) -> #REF! | I76: =IF('Fórmula Mágica'!I76="VERDADEIRO",#REF!,#REF!) -> #REF! | J76: =IF('Fórmula Mágica'!J76="VERDADEIRO",#REF!,#REF!) -> #REF! | ... V76: =IF('Fórmula Mágica'!V76="VERDADEIRO",#REF!,#REF!) -> #REF! | W76: =Saneamento!W76 | X76: =Saneamento!X76 | Y76: =Saneamento!Y76 | Z76: =Saneamento!Z76 | AA76: =Saneamento!AA76 | AB76: OK
A77: =IF(#REF!>=1,#REF!,"") -> #REF! | B77: =IF(#REF!>=1,#REF!,"") -> #REF! | C77: =IF('Fórmula Mágica'!C77="VERDADEIRO",#REF!,#REF!) -> #REF! | D77: =IF('Fórmula Mágica'!D77="VERDADEIRO",#REF!,#REF!) -> #REF! | E77: =IF('Fórmula Mágica'!E77="VERDADEIRO",#REF!,#REF!) -> #REF! | F77: =IF('Fórmula Mágica'!F77="VERDADEIRO",#REF!,#REF!) -> #REF! | G77: =IF('Fórmula Mágica'!G77="VERDADEIRO",#REF!,#REF!) -> #REF! | H77: =IF('Fórmula Mágica'!H77="VERDADEIRO",#REF!,#REF!) -> #REF! | I77: =IF('Fórmula Mágica'!I77="VERDADEIRO",#REF!,#REF!) -> #REF! | J77: =IF('Fórmula Mágica'!J77="VERDADEIRO",#REF!,#REF!) -> #REF! | ... V77: =IF('Fórmula Mágica'!V77="VERDADEIRO",#REF!,#REF!) -> #REF! | W77: =Saneamento!W77 | X77: =Saneamento!X77 | Y77: =Saneamento!Y77 | Z77: =Saneamento!Z77 | AA77: =Saneamento!AA77 | AB77: OK
A78: =IF(#REF!>=1,#REF!,"") -> #REF! | B78: =IF(#REF!>=1,#REF!,"") -> #REF! | C78: =IF('Fórmula Mágica'!C78="VERDADEIRO",#REF!,#REF!) -> #REF! | D78: =IF('Fórmula Mágica'!D78="VERDADEIRO",#REF!,#REF!) -> #REF! | E78: =IF('Fórmula Mágica'!E78="VERDADEIRO",#REF!,#REF!) -> #REF! | F78: =IF('Fórmula Mágica'!F78="VERDADEIRO",#REF!,#REF!) -> #REF! | G78: =IF('Fórmula Mágica'!G78="VERDADEIRO",#REF!,#REF!) -> #REF! | H78: =IF('Fórmula Mágica'!H78="VERDADEIRO",#REF!,#REF!) -> #REF! | I78: =IF('Fórmula Mágica'!I78="VERDADEIRO",#REF!,#REF!) -> #REF! | J78: =IF('Fórmula Mágica'!J78="VERDADEIRO",#REF!,#REF!) -> #REF! | ... V78: =IF('Fórmula Mágica'!V78="VERDADEIRO",#REF!,#REF!) -> #REF! | W78: =Saneamento!W78 | X78: =Saneamento!X78 | Y78: =Saneamento!Y78 | Z78: =Saneamento!Z78 | AA78: =Saneamento!AA78 | AB78: OK
A79: =IF(#REF!>=1,#REF!,"") -> #REF! | B79: =IF(#REF!>=1,#REF!,"") -> #REF! | C79: =IF('Fórmula Mágica'!C79="VERDADEIRO",#REF!,#REF!) -> #REF! | D79: =IF('Fórmula Mágica'!D79="VERDADEIRO",#REF!,#REF!) -> #REF! | E79: =IF('Fórmula Mágica'!E79="VERDADEIRO",#REF!,#REF!) -> #REF! | F79: =IF('Fórmula Mágica'!F79="VERDADEIRO",#REF!,#REF!) -> #REF! | G79: =IF('Fórmula Mágica'!G79="VERDADEIRO",#REF!,#REF!) -> #REF! | H79: =IF('Fórmula Mágica'!H79="VERDADEIRO",#REF!,#REF!) -> #REF! | I79: =IF('Fórmula Mágica'!I79="VERDADEIRO",#REF!,#REF!) -> #REF! | J79: =IF('Fórmula Mágica'!J79="VERDADEIRO",#REF!,#REF!) -> #REF! | ... V79: =IF('Fórmula Mágica'!V79="VERDADEIRO",#REF!,#REF!) -> #REF! | W79: =Saneamento!W79 | X79: =Saneamento!X79 | Y79: =Saneamento!Y79 | Z79: =Saneamento!Z79 | AA79: =Saneamento!AA79 | AB79: OK
A80: =IF(#REF!>=1,#REF!,"") -> #REF! | B80: =IF(#REF!>=1,#REF!,"") -> #REF! | C80: =IF('Fórmula Mágica'!C80="VERDADEIRO",#REF!,#REF!) -> #REF! | D80: =IF('Fórmula Mágica'!D80="VERDADEIRO",#REF!,#REF!) -> #REF! | E80: =IF('Fórmula Mágica'!E80="VERDADEIRO",#REF!,#REF!) -> #REF! | F80: =IF('Fórmula Mágica'!F80="VERDADEIRO",#REF!,#REF!) -> #REF! | G80: =IF('Fórmula Mágica'!G80="VERDADEIRO",#REF!,#REF!) -> #REF! | H80: =IF('Fórmula Mágica'!H80="VERDADEIRO",#REF!,#REF!) -> #REF! | I80: =IF('Fórmula Mágica'!I80="VERDADEIRO",#REF!,#REF!) -> #REF! | J80: =IF('Fórmula Mágica'!J80="VERDADEIRO",#REF!,#REF!) -> #REF! | ... V80: =IF('Fórmula Mágica'!V80="VERDADEIRO",#REF!,#REF!) -> #REF! | W80: =Saneamento!W80 | X80: =Saneamento!X80 | Y80: =Saneamento!Y80 | Z80: =Saneamento!Z80 | AA80: =Saneamento!AA80 | AB80: OK
A81: =IF(#REF!>=1,#REF!,"") -> #REF! | B81: =IF(#REF!>=1,#REF!,"") -> #REF! | C81: =IF('Fórmula Mágica'!C81="VERDADEIRO",#REF!,#REF!) -> #REF! | D81: =IF('Fórmula Mágica'!D81="VERDADEIRO",#REF!,#REF!) -> #REF! | E81: =IF('Fórmula Mágica'!E81="VERDADEIRO",#REF!,#REF!) -> #REF! | F81: =IF('Fórmula Mágica'!F81="VERDADEIRO",#REF!,#REF!) -> #REF! | G81: =IF('Fórmula Mágica'!G81="VERDADEIRO",#REF!,#REF!) -> #REF! | H81: =IF('Fórmula Mágica'!H81="VERDADEIRO",#REF!,#REF!) -> #REF! | I81: =IF('Fórmula Mágica'!I81="VERDADEIRO",#REF!,#REF!) -> #REF! | J81: =IF('Fórmula Mágica'!J81="VERDADEIRO",#REF!,#REF!) -> #REF! | ... V81: =IF('Fórmula Mágica'!V81="VERDADEIRO",#REF!,#REF!) -> #REF! | W81: =Saneamento!W81 | X81: =Saneamento!X81 | Y81: =Saneamento!Y81 | Z81: =Saneamento!Z81 | AA81: =Saneamento!AA81
A82: =IF(#REF!>=1,#REF!,"") -> #REF! | B82: =IF(#REF!>=1,#REF!,"") -> #REF! | C82: =IF('Fórmula Mágica'!C82="VERDADEIRO",#REF!,#REF!) -> #REF! | D82: =IF('Fórmula Mágica'!D82="VERDADEIRO",#REF!,#REF!) -> #REF! | E82: =IF('Fórmula Mágica'!E82="VERDADEIRO",#REF!,#REF!) -> #REF! | F82: =IF('Fórmula Mágica'!F82="VERDADEIRO",#REF!,#REF!) -> #REF! | G82: =IF('Fórmula Mágica'!G82="VERDADEIRO",#REF!,#REF!) -> #REF! | H82: =IF('Fórmula Mágica'!H82="VERDADEIRO",#REF!,#REF!) -> #REF! | I82: =IF('Fórmula Mágica'!I82="VERDADEIRO",#REF!,#REF!) -> #REF! | J82: =IF('Fórmula Mágica'!J82="VERDADEIRO",#REF!,#REF!) -> #REF! | ... V82: =IF('Fórmula Mágica'!V82="VERDADEIRO",#REF!,#REF!) -> #REF! | W82: =Saneamento!W82 | X82: =Saneamento!X82 | Y82: =Saneamento!Y82 | Z82: =Saneamento!Z82 | AA82: =Saneamento!AA82
A83: =IF(#REF!>=1,#REF!,"") -> #REF! | B83: =IF(#REF!>=1,#REF!,"") -> #REF! | C83: =IF('Fórmula Mágica'!C83="VERDADEIRO",#REF!,#REF!) -> #REF! | D83: =IF('Fórmula Mágica'!D83="VERDADEIRO",#REF!,#REF!) -> #REF! | E83: =IF('Fórmula Mágica'!E83="VERDADEIRO",#REF!,#REF!) -> #REF! | F83: =IF('Fórmula Mágica'!F83="VERDADEIRO",#REF!,#REF!) -> #REF! | G83: =IF('Fórmula Mágica'!G83="VERDADEIRO",#REF!,#REF!) -> #REF! | H83: =IF('Fórmula Mágica'!H83="VERDADEIRO",#REF!,#REF!) -> #REF! | I83: =IF('Fórmula Mágica'!I83="VERDADEIRO",#REF!,#REF!) -> #REF! | J83: =IF('Fórmula Mágica'!J83="VERDADEIRO",#REF!,#REF!) -> #REF! | ... V83: =IF('Fórmula Mágica'!V83="VERDADEIRO",#REF!,#REF!) -> #REF! | W83: =Saneamento!W83 | X83: =Saneamento!X83 | Y83: =Saneamento!Y83 | Z83: =Saneamento!Z83 | AA83: =Saneamento!AA83
A84: =IF(#REF!>=1,#REF!,"") -> #REF! | B84: =IF(#REF!>=1,#REF!,"") -> #REF! | C84: =IF('Fórmula Mágica'!C84="VERDADEIRO",#REF!,#REF!) -> #REF! | D84: =IF('Fórmula Mágica'!D84="VERDADEIRO",#REF!,#REF!) -> #REF! | E84: =IF('Fórmula Mágica'!E84="VERDADEIRO",#REF!,#REF!) -> #REF! | F84: =IF('Fórmula Mágica'!F84="VERDADEIRO",#REF!,#REF!) -> #REF! | G84: =IF('Fórmula Mágica'!G84="VERDADEIRO",#REF!,#REF!) -> #REF! | H84: =IF('Fórmula Mágica'!H84="VERDADEIRO",#REF!,#REF!) -> #REF! | I84: =IF('Fórmula Mágica'!I84="VERDADEIRO",#REF!,#REF!) -> #REF! | J84: =IF('Fórmula Mágica'!J84="VERDADEIRO",#REF!,#REF!) -> #REF! | ... V84: =IF('Fórmula Mágica'!V84="VERDADEIRO",#REF!,#REF!) -> #REF! | W84: =Saneamento!W84 | X84: =Saneamento!X84 | Y84: =Saneamento!Y84 | Z84: =Saneamento!Z84 | AA84: =Saneamento!AA84
A85: =IF(#REF!>=1,#REF!,"") -> #REF! | B85: =IF(#REF!>=1,#REF!,"") -> #REF! | C85: =IF('Fórmula Mágica'!C85="VERDADEIRO",#REF!,#REF!) -> #REF! | D85: =IF('Fórmula Mágica'!D85="VERDADEIRO",#REF!,#REF!) -> #REF! | E85: =IF('Fórmula Mágica'!E85="VERDADEIRO",#REF!,#REF!) -> #REF! | F85: =IF('Fórmula Mágica'!F85="VERDADEIRO",#REF!,#REF!) -> #REF! | G85: =IF('Fórmula Mágica'!G85="VERDADEIRO",#REF!,#REF!) -> #REF! | H85: =IF('Fórmula Mágica'!H85="VERDADEIRO",#REF!,#REF!) -> #REF! | I85: =IF('Fórmula Mágica'!I85="VERDADEIRO",#REF!,#REF!) -> #REF! | J85: =IF('Fórmula Mágica'!J85="VERDADEIRO",#REF!,#REF!) -> #REF! | ... V85: =IF('Fórmula Mágica'!V85="VERDADEIRO",#REF!,#REF!) -> #REF! | W85: =Saneamento!W85 | X85: =Saneamento!X85 | Y85: =Saneamento!Y85 | Z85: =Saneamento!Z85 | AA85: =Saneamento!AA85
A86: =IF(#REF!>=1,#REF!,"") -> #REF! | B86: =IF(#REF!>=1,#REF!,"") -> #REF! | C86: =IF('Fórmula Mágica'!C86="VERDADEIRO",#REF!,#REF!) -> #REF! | D86: =IF('Fórmula Mágica'!D86="VERDADEIRO",#REF!,#REF!) -> #REF! | E86: =IF('Fórmula Mágica'!E86="VERDADEIRO",#REF!,#REF!) -> #REF! | F86: =IF('Fórmula Mágica'!F86="VERDADEIRO",#REF!,#REF!) -> #REF! | G86: =IF('Fórmula Mágica'!G86="VERDADEIRO",#REF!,#REF!) -> #REF! | H86: =IF('Fórmula Mágica'!H86="VERDADEIRO",#REF!,#REF!) -> #REF! | I86: =IF('Fórmula Mágica'!I86="VERDADEIRO",#REF!,#REF!) -> #REF! | J86: =IF('Fórmula Mágica'!J86="VERDADEIRO",#REF!,#REF!) -> #REF! | ... V86: =IF('Fórmula Mágica'!V86="VERDADEIRO",#REF!,#REF!) -> #REF! | W86: =Saneamento!W86 | X86: =Saneamento!X86 | Y86: =Saneamento!Y86 | Z86: =Saneamento!Z86 | AA86: =Saneamento!AA86
A87: =IF(#REF!>=1,#REF!,"") -> #REF! | B87: =IF(#REF!>=1,#REF!,"") -> #REF! | C87: =IF('Fórmula Mágica'!C87="VERDADEIRO",#REF!,#REF!) -> #REF! | D87: =IF('Fórmula Mágica'!D87="VERDADEIRO",#REF!,#REF!) -> #REF! | E87: =IF('Fórmula Mágica'!E87="VERDADEIRO",#REF!,#REF!) -> #REF! | F87: =IF('Fórmula Mágica'!F87="VERDADEIRO",#REF!,#REF!) -> #REF! | G87: =IF('Fórmula Mágica'!G87="VERDADEIRO",#REF!,#REF!) -> #REF! | H87: =IF('Fórmula Mágica'!H87="VERDADEIRO",#REF!,#REF!) -> #REF! | I87: =IF('Fórmula Mágica'!I87="VERDADEIRO",#REF!,#REF!) -> #REF! | J87: =IF('Fórmula Mágica'!J87="VERDADEIRO",#REF!,#REF!) -> #REF! | ... V87: =IF('Fórmula Mágica'!V87="VERDADEIRO",#REF!,#REF!) -> #REF! | W87: =Saneamento!W87 | X87: =Saneamento!X87 | Y87: =Saneamento!Y87 | Z87: =Saneamento!Z87 | AA87: =Saneamento!AA87
A88: =IF(#REF!>=1,#REF!,"") -> #REF! | B88: =IF(#REF!>=1,#REF!,"") -> #REF! | C88: =IF('Fórmula Mágica'!C88="VERDADEIRO",#REF!,#REF!) -> #REF! | D88: =IF('Fórmula Mágica'!D88="VERDADEIRO",#REF!,#REF!) -> #REF! | E88: =IF('Fórmula Mágica'!E88="VERDADEIRO",#REF!,#REF!) -> #REF! | F88: =IF('Fórmula Mágica'!F88="VERDADEIRO",#REF!,#REF!) -> #REF! | G88: =IF('Fórmula Mágica'!G88="VERDADEIRO",#REF!,#REF!) -> #REF! | H88: =IF('Fórmula Mágica'!H88="VERDADEIRO",#REF!,#REF!) -> #REF! | I88: =IF('Fórmula Mágica'!I88="VERDADEIRO",#REF!,#REF!) -> #REF! | J88: =IF('Fórmula Mágica'!J88="VERDADEIRO",#REF!,#REF!) -> #REF! | ... V88: =IF('Fórmula Mágica'!V88="VERDADEIRO",#REF!,#REF!) -> #REF! | W88: =Saneamento!W88 | X88: =Saneamento!X88 | Y88: =Saneamento!Y88 | Z88: =Saneamento!Z88 | AA88: =Saneamento!AA88
A89: =IF(#REF!>=1,#REF!,"") -> #REF! | B89: =IF(#REF!>=1,#REF!,"") -> #REF! | C89: =IF('Fórmula Mágica'!C89="VERDADEIRO",#REF!,#REF!) -> #REF! | D89: =IF('Fórmula Mágica'!D89="VERDADEIRO",#REF!,#REF!) -> #REF! | E89: =IF('Fórmula Mágica'!E89="VERDADEIRO",#REF!,#REF!) -> #REF! | F89: =IF('Fórmula Mágica'!F89="VERDADEIRO",#REF!,#REF!) -> #REF! | G89: =IF('Fórmula Mágica'!G89="VERDADEIRO",#REF!,#REF!) -> #REF! | H89: =IF('Fórmula Mágica'!H89="VERDADEIRO",#REF!,#REF!) -> #REF! | I89: =IF('Fórmula Mágica'!I89="VERDADEIRO",#REF!,#REF!) -> #REF! | J89: =IF('Fórmula Mágica'!J89="VERDADEIRO",#REF!,#REF!) -> #REF! | ... V89: =IF('Fórmula Mágica'!V89="VERDADEIRO",#REF!,#REF!) -> #REF! | W89: =Saneamento!W89 | X89: =Saneamento!X89 | Y89: =Saneamento!Y89 | Z89: =Saneamento!Z89 | AA89: =Saneamento!AA89
A90: =IF(#REF!>=1,#REF!,"") -> #REF! | B90: =IF(#REF!>=1,#REF!,"") -> #REF! | C90: =IF('Fórmula Mágica'!C90="VERDADEIRO",#REF!,#REF!) -> #REF! | D90: =IF('Fórmula Mágica'!D90="VERDADEIRO",#REF!,#REF!) -> #REF! | E90: =IF('Fórmula Mágica'!E90="VERDADEIRO",#REF!,#REF!) -> #REF! | F90: =IF('Fórmula Mágica'!F90="VERDADEIRO",#REF!,#REF!) -> #REF! | G90: =IF('Fórmula Mágica'!G90="VERDADEIRO",#REF!,#REF!) -> #REF! | H90: =IF('Fórmula Mágica'!H90="VERDADEIRO",#REF!,#REF!) -> #REF! | I90: =IF('Fórmula Mágica'!I90="VERDADEIRO",#REF!,#REF!) -> #REF! | J90: =IF('Fórmula Mágica'!J90="VERDADEIRO",#REF!,#REF!) -> #REF! | ... V90: =IF('Fórmula Mágica'!V90="VERDADEIRO",#REF!,#REF!) -> #REF! | W90: =Saneamento!W90 | X90: =Saneamento!X90 | Y90: =Saneamento!Y90 | Z90: =Saneamento!Z90 | AA90: =Saneamento!AA90
A91: =IF(#REF!>=1,#REF!,"") -> #REF! | B91: =IF(#REF!>=1,#REF!,"") -> #REF! | C91: =IF('Fórmula Mágica'!C91="VERDADEIRO",#REF!,#REF!) -> #REF! | D91: =IF('Fórmula Mágica'!D91="VERDADEIRO",#REF!,#REF!) -> #REF! | E91: =IF('Fórmula Mágica'!E91="VERDADEIRO",#REF!,#REF!) -> #REF! | F91: =IF('Fórmula Mágica'!F91="VERDADEIRO",#REF!,#REF!) -> #REF! | G91: =IF('Fórmula Mágica'!G91="VERDADEIRO",#REF!,#REF!) -> #REF! | H91: =IF('Fórmula Mágica'!H91="VERDADEIRO",#REF!,#REF!) -> #REF! | I91: =IF('Fórmula Mágica'!I91="VERDADEIRO",#REF!,#REF!) -> #REF! | J91: =IF('Fórmula Mágica'!J91="VERDADEIRO",#REF!,#REF!) -> #REF! | ... V91: =IF('Fórmula Mágica'!V91="VERDADEIRO",#REF!,#REF!) -> #REF! | W91: =Saneamento!W91 | X91: =Saneamento!X91 | Y91: =Saneamento!Y91 | Z91: =Saneamento!Z91 | AA91: =Saneamento!AA91
A92: =IF(#REF!>=1,#REF!,"") -> #REF! | B92: =IF(#REF!>=1,#REF!,"") -> #REF! | C92: =IF('Fórmula Mágica'!C92="VERDADEIRO",#REF!,#REF!) -> #REF! | D92: =IF('Fórmula Mágica'!D92="VERDADEIRO",#REF!,#REF!) -> #REF! | E92: =IF('Fórmula Mágica'!E92="VERDADEIRO",#REF!,#REF!) -> #REF! | F92: =IF('Fórmula Mágica'!F92="VERDADEIRO",#REF!,#REF!) -> #REF! | G92: =IF('Fórmula Mágica'!G92="VERDADEIRO",#REF!,#REF!) -> #REF! | H92: =IF('Fórmula Mágica'!H92="VERDADEIRO",#REF!,#REF!) -> #REF! | I92: =IF('Fórmula Mágica'!I92="VERDADEIRO",#REF!,#REF!) -> #REF! | J92: =IF('Fórmula Mágica'!J92="VERDADEIRO",#REF!,#REF!) -> #REF! | ... V92: =IF('Fórmula Mágica'!V92="VERDADEIRO",#REF!,#REF!) -> #REF! | W92: =Saneamento!W92 | X92: =Saneamento!X92 | Y92: =Saneamento!Y92 | Z92: =Saneamento!Z92 | AA92: =Saneamento!AA92
... A503: =IF(#REF!>=1,#REF!,"") -> #REF! | B503: =IF(#REF!>=1,#REF!,"") -> #REF! | C503: =IF('Fórmula Mágica'!C503="VERDADEIRO",#REF!,#REF!) -> #REF! | D503: =IF('Fórmula Mágica'!D503="VERDADEIRO",#REF!,#REF!) -> #REF! | E503: =IF('Fórmula Mágica'!E503="VERDADEIRO",#REF!,#REF!) -> #REF! | F503: =IF('Fórmula Mágica'!F503="VERDADEIRO",#REF!,#REF!) -> #REF! | G503: =IF('Fórmula Mágica'!G503="VERDADEIRO",#REF!,#REF!) -> #REF! | H503: =IF('Fórmula Mágica'!H503="VERDADEIRO",#REF!,#REF!) -> #REF! | I503: =IF('Fórmula Mágica'!I503="VERDADEIRO",#REF!,#REF!) -> #REF! | J503: =IF('Fórmula Mágica'!J503="VERDADEIRO",#REF!,#REF!) -> #REF! | ... V503: =IF('Fórmula Mágica'!V503="VERDADEIRO",#REF!,#REF!) -> #REF! | W503: =Saneamento!W503 | X503: =Saneamento!X503 | Y503: =Saneamento!Y503 | Z503: =Saneamento!Z503 | AA503: =Saneamento!AA503
A506: DATA: | B506: 46097
A507: MÉTODO DE CÁLCULO PARA OBTENÇÃO DO PREÇO ESTIMADO: | D507: média
A509: Informações adicionais:
A510: Constam em anexo os orçamentos, contratos e demais documentos utilizados na pesquisa
A511: A pesquisa de preços considerou os contratos/orçamentos assinados nos últimos 12 meses.
A512: Os preços de aquisição foram definidos mediante pesquisa de mercado, observando-se a metodologia estabelecida no Art. 8º da LEI MUNICIPAL Nº 1.728, DE 03/02/2026. Inicialmente, o preço foi apurado através da média de, no mínimo, três fornecedores em âmbito local, priorizando-se a feira de alimentos da agricultura familiar de Cruzaltense. Na impossibilidade da obtenção de preços locais, utilizaram-se sucessivamente referências territoriais (Licitacon/mercado regional) e, em caráter residual, referências em âmbito nacional (PNCP).
A513: Para a definição do preço estimado desta contratação, foram desconsiderados os orçamentos que apresentaram valores discrepantes. O descarte desses valores é necessário para evitar que o preço de referência seja distorcido por orçamentos excessivamente altos ou baixos. A medida garante que o valor final seja justo e exequível, atendendo ao princípio da economicidade. Dessa forma, a base de cálculo final conta apenas com os preços que apresentam homogeneidade entre si, garantindo maior fidedignidade ao valor estimado.
...

Sheet QUANT
A1: Anexo I – Planilha dos produtos e valores | N1: PAA | O1: PAA | P1: Eventos | Q1: Horto | R1: Quantidade total
A2: ITEM | B2: PRODUTO | C2: UNIDADE DE MEDIDA | D2: DESCRIÇÃO | E2: PREÇO MÉDIO | F2: EDUCAÇÃO | G2: AÇÃO SOCIAL | H2: EVENTOS | I2: HORTO | J2: QUANT. TOTAL | K2: TOTAL | N2: Educação | O2: Assistência
A3: 1 | B3: =Impressão!B4 -> Camiseta Manga Longa Tam. 1 | C3: KG | D3: Camiseta manga longa em m/m PV premium maxxi (65% PES 35% CV anti piling, gramatura 185.00 g/m2) corpo cor azul celeste, com as mangas em azul marinho, punho nas mangas e gola em ribana PV elast premium (64% PES 32% CV 4% PUE gramatura 260.00 g/m2) na cor azul marinho, com estampa em DTF (direct to film) pequena no lado esquerdo do peito, com medida entre 8 a 10 cm de diâmetro (sendo a estampa a logo da escola Osório Duque Estrada) | E3: =Impressão!W4 | F3: 50 | J3: =SUM(Tabela1[[#This Row],[EDUCAÇÃO]:[HORTO]]) -> 50 | K3: =Tabela1[[#This Row],[PREÇO MÉDIO]]*Tabela1[[#This Row],[QUANT. TOTAL]] -> #VALUE! | N3: 50 | R3: =SUM(N3:Q3) -> 50 | T3: =Tabela1[[#This Row],[QUANT. TOTAL]]-R3 -> 0
A4: 2 | B4: =Impressão!B5 -> Camiseta Manga Longa Tam. 6 | C4: KG | D4: Obtido da cana de açúcar, com aspecto, cor, cheiro e sabor próprios, com teor de sacarose mínimo de 98,5%, sem fermentação, isento de sujidades, parasitas e de enxofre. Acondicionado em pacote de 05 kg. Embalagem primária deve conter marca, data de fabricação, lote, data de validade, ingredientes e informações nutricionais, deve estar íntegra e não violada. Embalagem secundária plástica e resistente ou em caixas próprias para este fim, livre de sujidades. Prazo de validade mínimo de 6 meses a partir da data de entrega. +1 | E4: =Impressão!W5 | F4: 50 | G4: 5 | J4: =SUM(Tabela1[[#This Row],[EDUCAÇÃO]:[HORTO]]) -> 55 | K4: =Tabela1[[#This Row],[PREÇO MÉDIO]]*Tabela1[[#This Row],[QUANT. TOTAL]] -> #VALUE! | N4: 50 | O4: 5 | R4: =SUM(N4:Q4) -> 55 | T4: =Tabela1[[#This Row],[QUANT. TOTAL]]-R4 -> 0
A5: 3 | B5: =Impressão!B6 -> Camiseta Manga Longa Tam. 12 | C5: KG | D5: Obtido da raiz da planta Curcuma longa, em pó, de coloração amarela característica, aroma e sabor próprios. O produto deve ser de 1ª qualidade, estar isento de sujidades, parasitas, larvas, umidade excessiva e materiais estranhos à sua composição. Não deve conter adição de corantes artificiais, conservantes ou outros pós vegetais. Acondicionado em embalagem primária atóxica, transparente, hermeticamente fechada, garantindo a integridade do produto. A embalagem deve conter rótulo com identificação da marca, dados do fabricante, lista de ingredientes, informação nutricional, peso líquido, número do lote, data de fabricação e prazo de validade mínimo de 6 meses a partir da entrega. | E5: =Impressão!W6 | I5: 100 | J5: =SUM(Tabela1[[#This Row],[EDUCAÇÃO]:[HORTO]]) -> 100 | K5: =Tabela1[[#This Row],[PREÇO MÉDIO]]*Tabela1[[#This Row],[QUANT. TOTAL]] -> #VALUE! | Q5: 100 | R5: =SUM(N5:Q5) -> 100 | T5: =Tabela1[[#This Row],[QUANT. TOTAL]]-R5 -> 0
A6: 4 | B6: =Impressão!B7 -> Camiseta Manga Longa Tam. P | C6: KG | D6: Recheado com frango, sal e tempero verde. Isento de mofo, odores e substâncias estranhas. Embalagem plástica resistente, com 1kg. O produto deverá ser rotulado com: identificação do produto, data de fabricação, ingredientes e prazo de validade. O produto deve ser entregue congelado e em recipiente adequado (isopor ou caixa térmica), devidamente higienizado, sem panos, papel, toalhas ou similares no seu interior. | E6: =Impressão!W7 | F6: 40 | J6: =SUM(Tabela1[[#This Row],[EDUCAÇÃO]:[HORTO]]) -> 40 | K6: =Tabela1[[#This Row],[PREÇO MÉDIO]]*Tabela1[[#This Row],[QUANT. TOTAL]] -> #VALUE! | N6: 40 | R6: =SUM(N6:Q6) -> 40 | T6: =Tabela1[[#This Row],[QUANT. TOTAL]]-R6 -> 0
A7: 5 | B7: =Impressão!B8 -> Camiseta Manga Curta Tam. 1 | C7: UN | D7: Grãos descascados, crus, sem pele ou com pele (conforme requisição). Devem ser de 1ª qualidade, com coloração típica e uniforme, textura firme e aspecto brilhante. O produto deve estar isento de ranço, mofo, sujidades, larvas, fragmentos de casca ou qualquer material estranho à sua composição. Aroma e sabor próprios. Acondicionado em embalagem plástica primária (pacote), atóxica, transparente e resistente, fechada para garantir a conservação e crocância. O rótulo deve conter obrigatoriamente: identificação do fabricante/distribuidor, informação nutricional, peso líquido de 500g, lote, data de fabricação e prazo de validade mínimo de 6 meses a partir da data de entrega. | E7: =Impressão!W8 | G7: 40 | J7: =SUM(Tabela1[[#This Row],[EDUCAÇÃO]:[HORTO]]) -> 40 | K7: =Tabela1[[#This Row],[PREÇO MÉDIO]]*Tabela1[[#This Row],[QUANT. TOTAL]] -> #VALUE! | O7: 40 | R7: =SUM(N7:Q7) -> 40 | T7: =Tabela1[[#This Row],[QUANT. TOTAL]]-R7 -> 0
A8: 6 | B8: =Impressão!B9 -> Camiseta Manga Curta Tam. 6 | C8: UN | D8: Longo fino, constituído de grãos inteiros, com umidade permitida em lei, isento de sujidades, materiais estranhos, parasitas e larvas. Embalagem primária atóxica, transparente, apresentando marca, procedência, data de fabricação, lote, validade, informação nutricional. Embalagem secundária plástica e resistente ou em caixas próprias para este fim, livre de sujidades. Prazo de validade mínimo de 6 meses a partir da data de entrega. Deverá apresentar registro no ministério da agricultura. Embalagem 5kg. | E8: =Impressão!W9 | G8: 100 | J8: =SUM(Tabela1[[#This Row],[EDUCAÇÃO]:[HORTO]]) -> 100 | K8: =Tabela1[[#This Row],[PREÇO MÉDIO]]*Tabela1[[#This Row],[QUANT. TOTAL]] -> #VALUE! | O8: 100 | R8: =SUM(N8:Q8) -> 100 | T8: =Tabela1[[#This Row],[QUANT. TOTAL]]-R8 -> 0
A9: 7 | B9: =Impressão!B10 -> Camiseta Manga Curta Tam. 12 | C9: KG | D9: Fruta in natura, espécie caturra. Características: Frescos, aroma e cor da espécie e variedade, tamanho médio, grau de maturação adequado para a manipulação e transporte, livre de enfermidades, insetos e sujidades. Não deve estar danificada por qualquer lesão de origem física ou mecânica que afete sua aparência e qualidade. Embalagem: O produto deverá estar acondicionado em embalagem plástica flexível, atóxica, resistente e transparente. +1 | E9: =Impressão!W10 | F9: 300 | G9: 200 | J9: =SUM(Tabela1[[#This Row],[EDUCAÇÃO]:[HORTO]]) -> 500 | K9: =Tabela1[[#This Row],[PREÇO MÉDIO]]*Tabela1[[#This Row],[QUANT. TOTAL]] -> #VALUE! | N9: 300 | O9: 200 | R9: =SUM(N9:Q9) -> 500 | T9: =Tabela1[[#This Row],[QUANT. TOTAL]]-R9 -> 0
A10: 8 | B10: =Impressão!B11 -> Camiseta Manga Curta Tam. P | C10: KG | D10: Legume in natura. Características: De 1ª qualidade, tamanho médio e uniforme, lisa, graúda, firme, intacta, sem lesões de origem física ou mecânica, livre de brotos. Embalagem: Acondicionada em sacos de juta ou em embalagem plástica, flexível, atóxica, resistente, transparente. | E10: =Impressão!W11 | F10: 300 | J10: =SUM(Tabela1[[#This Row],[EDUCAÇÃO]:[HORTO]]) -> 300 | K10: =Tabela1[[#This Row],[PREÇO MÉDIO]]*Tabela1[[#This Row],[QUANT. TOTAL]] -> #VALUE! | N10: 300 | R10: =SUM(N10:Q10) -> 300 | T10: =Tabela1[[#This Row],[QUANT. TOTAL]]-R10 -> 0
A11: 9 | B11: =Impressão!B12 -> Bermuda Masculina Tam. 1 | C11: KG | D11: Banha suína refinada, obtida através da fusão de tecidos adiposos de suínos, de consistência pastosa a sólida em temperatura ambiente. Cor branca a levemente amarelada, odor e sabor característicos, isenta de ranço e substâncias estranhas. Embalagem plástica de 1kg, atóxica e lacrada. Rótulo com carimbo de Inspeção Sanitária (SIF, SIE ou SIM), informação nutricional e validade. | E11: =Impressão!W12 | G11: 40 | I11: 100 | J11: =SUM(Tabela1[[#This Row],[EDUCAÇÃO]:[HORTO]]) -> 140 | K11: =Tabela1[[#This Row],[PREÇO MÉDIO]]*Tabela1[[#This Row],[QUANT. TOTAL]] -> #VALUE! | O11: 40 | Q11: 100 | R11: =SUM(N11:Q11) -> 140 | T11: =Tabela1[[#This Row],[QUANT. TOTAL]]-R11 -> 0
A12: 10 | B12: =Impressão!B13 -> Bermuda Masculina Tam. 6 | C12: UN | D12: Fermentada, com polpa de fruta, em sabores de coco, morango, pêssego. A embalagem deverá conter externamente os dados de identificação, procedência, informações nutricionais, número do lote, data de validade. Deverá atender as especificações técnicas da ANVISA e INMETRO. Embalagem de 900 g. Prazo de validade de no mínimo 45 dias a partir da entrega do produto. | E12: =Impressão!W13 | F12: 200 | G12: 150 | J12: =SUM(Tabela1[[#This Row],[EDUCAÇÃO]:[HORTO]]) -> 350 | K12: =Tabela1[[#This Row],[PREÇO MÉDIO]]*Tabela1[[#This Row],[QUANT. TOTAL]] -> #VALUE! | N12: 200 | O12: 150 | R12: =SUM(N12:Q12) -> 350 | T12: =Tabela1[[#This Row],[QUANT. TOTAL]]-R12 -> 0
A13: 11 | B13: =Impressão!B14 -> Bermuda Masculina Tam. 12 | C13: KG | D13: Produto in natura, de 1ª qualidade, apresentando tamanho, cor e conformação uniforme, devendo ser bem desenvolvida e madura. Deve apresentar-se íntegra, sem manchas, com polpa intacta e firme, sem danos físicos e mecânicos oriundos do manuseio e transporte, estar livre de enfermidades, insetos e sujidades. Acondicionada em caixa de papelão própria para este fim. | E13: =Impressão!W14 | I13: 50 | J13: =SUM(Tabela1[[#This Row],[EDUCAÇÃO]:[HORTO]]) -> 50 | K13: =Tabela1[[#This Row],[PREÇO MÉDIO]]*Tabela1[[#This Row],[QUANT. TOTAL]] -> #VALUE! | Q13: 50 | R13: =SUM(N13:Q13) -> 50 | T13: =Tabela1[[#This Row],[QUANT. TOTAL]]-R13 -> 0
A14: 12 | B14: =Impressão!B15 -> Bermuda Masculina Tam. P | C14: KG | D14: Produzida com matéria-prima de 1ª qualidade. Devem estar íntegras (inteiras), cor, aroma e sabor característico. Livre de sujidades e quaisquer outros materiais não pertencentes ao alimento. Serão rejeitados biscoitos mal assadas, queimados, amassadas, achatados e “embatumados” aspecto massa pesada e de características organolépticas anormais. Embalagem em material atóxico, plástico, íntegro e não violado, deve conter rótulo com descrições, data de fabricação e validade e quantidade. Devem ser acondicionadas em caixas plásticas limpas. Peso líquido: 1kg. | E14: =Impressão!W15 | F14: 110 | G14: 50 | J14: =SUM(Tabela1[[#This Row],[EDUCAÇÃO]:[HORTO]]) -> 160 | K14: =Tabela1[[#This Row],[PREÇO MÉDIO]]*Tabela1[[#This Row],[QUANT. TOTAL]] -> #VALUE! | N14: 110 | O14: 50 | R14: =SUM(N14:Q14) -> 160 | T14: =Tabela1[[#This Row],[QUANT. TOTAL]]-R14 -> 0
A15: 13 | B15: =Impressão!B16 -> Calça Masculina Tam. 1 | C15: UN | D15: Bolinha de queijo frita – 15 gramas aproximadamente | E15: =Impressão!W16 | H15: 3000 | J15: =SUM(Tabela1[[#This Row],[EDUCAÇÃO]:[HORTO]]) -> 3000 | K15: =Tabela1[[#This Row],[PREÇO MÉDIO]]*Tabela1[[#This Row],[QUANT. TOTAL]] -> #VALUE! | P15: 3000 | R15: =SUM(N15:Q15) -> 3000 | T15: =Tabela1[[#This Row],[QUANT. TOTAL]]-R15 -> 0
A16: 14 | B16: =Impressão!B17 -> Calça Masculina Tam. 6 | C16: UN | D16: Sabores diversos (ex: chocolate, baunilha, laranja, milho ou cenoura). Deve conter cobertura. Tamanho/Peso: Unidade de tamanho médio, pesando entre 800g a 1,2kg. O bolo deve apresentar-se bem assado, com textura macia, massa leve e homogênea (sem aspecto "embatumado"), cor, aroma e sabor característicos da variedade solicitada. Isento de sujidades, parasitas, bolores ou substâncias estranhas à sua composição. Acondicionado em embalagem plástica descartável (tipo boleira), atóxica e resistente, que garanta a integridade física e sanitária do produto. O rótulo deve conter obrigatoriamente: identificação do fabricante, lista de ingredientes, informação nutricional, peso líquido, data de fabricação e prazo de validade. | E16: =Impressão!W17 | H16: 200 | J16: =SUM(Tabela1[[#This Row],[EDUCAÇÃO]:[HORTO]]) -> 200 | K16: =Tabela1[[#This Row],[PREÇO MÉDIO]]*Tabela1[[#This Row],[QUANT. TOTAL]] -> #VALUE! | P16: 200 | R16: =SUM(N16:Q16) -> 200 | T16: =Tabela1[[#This Row],[QUANT. TOTAL]]-R16 -> 0
A17: 15 | B17: =Impressão!B18 -> Calça Masculina Tam. 12 | C17: UN | D17: Brigadeiro com recheios diversos – 20 gramas aprox. Sabores: Brigadeiro tradicional / Brigadeiro de Stikadinho / Brigadeiro de Ferrero / Brigadeiro de maracujá / Brigadeiro de M&M's / Brigadeiro branco / Brigadeiro de Banofee / Brigadeiro de tortinha de limão. | E17: =Impressão!W18 | H17: 5500 | J17: =SUM(Tabela1[[#This Row],[EDUCAÇÃO]:[HORTO]]) -> 5500 | K17: =Tabela1[[#This Row],[PREÇO MÉDIO]]*Tabela1[[#This Row],[QUANT. TOTAL]] -> #VALUE! | P17: 5500 | R17: =SUM(N17:Q17) -> 5500 | T17: =Tabela1[[#This Row],[QUANT. TOTAL]]-R17 -> 0
A18: 16 | B18: =Impressão!B19 -> Calça Masculina Tam. P | C18: UN | D18: De primeira qualidade, fresco, firme, intacto, coloração uniforme e sem manchas; isento de sujidades, parasitas ou larvas. Não deverá apresentar danos de origem física, mecânica ou biológica que afetem sua aparência e qualidade. Não estar amarelado e sem sinais de florescimento. Unidades de aproximadamente 300 gramas. | E18: =Impressão!W19 | F18: 400 | J18: =SUM(Tabela1[[#This Row],[EDUCAÇÃO]:[HORTO]]) -> 400 | K18: =Tabela1[[#This Row],[PREÇO MÉDIO]]*Tabela1[[#This Row],[QUANT. TOTAL]] -> #VALUE! | N18: 400 | R18: =SUM(N18:Q18) -> 400 | T18: =Tabela1[[#This Row],[QUANT. TOTAL]]-R18 -> 0
A19: 17 | B19: =Impressão!B20 -> Calça Legging Feminina Tam. 1 | C19: KG | D19: Fruta in natura, para aplicação alimentar. Características: 1ª qualidade, grau médio de amadurecimento, livre de sujidades, parasitas e larvas, apresentando tamanho, coloração uniforme, devendo ser bem desenvolvido, com polpa intacta e firme, sem danos físicos e mecânicos oriundos do manuseio e transporte. Acondicionado em embalagem plástica, flexível, atóxica, resistente, transparente e em embalagem secundária. | E19: =Impressão!W20 | G19: 50 | I19: 20 | J19: =SUM(Tabela1[[#This Row],[EDUCAÇÃO]:[HORTO]]) -> 70 | K19: =Tabela1[[#This Row],[PREÇO MÉDIO]]*Tabela1[[#This Row],[QUANT. TOTAL]] -> #VALUE! | O19: 50 | Q19: 20 | R19: =SUM(N19:Q19) -> 70 | T19: =Tabela1[[#This Row],[QUANT. TOTAL]]-R19 -> 0
A20: 18 | B20: =Impressão!B21 -> Calça Legging Feminina Tam. 6 | C20: UN | D20: In natura, para aplicação alimentar. Características: 1ª qualidade, livre de sujidades, parasitas e larvas, apresentando coloração uniforme, devendo ser bem desenvolvido, sem danos físicos e mecânicos oriundos do manuseio e transporte. Acondicionado em embalagem plástica, flexível, atóxica, resistente, transparente e em embalagem secundária. MAÇO DE 100 GRAMAS. | E20: =Impressão!W21 | G20: 100 | I20: 300 | J20: =SUM(Tabela1[[#This Row],[EDUCAÇÃO]:[HORTO]]) -> 400 | K20: =Tabela1[[#This Row],[PREÇO MÉDIO]]*Tabela1[[#This Row],[QUANT. TOTAL]] -> #VALUE! | O20: 100 | Q20: 300 | R20: =SUM(N20:Q20) -> 400 | T20: =Tabela1[[#This Row],[QUANT. TOTAL]]-R20 -> 0
A21: 19 | B21: =Impressão!B22 -> Calça Legging Feminina Tam. 12 | C21: KG | D21: Legume in natura, para aplicação alimentar. Características: 1ª qualidade, grau médio de amadurecimento, livre de sujidades, parasitas e larvas, apresentando tamanho, coloração uniforme, devendo ser bem desenvolvido, com polpa intacta e firme, sem danos físicos e mecânicos oriundos do manuseio e transporte. Acondicionado em embalagem plástica, flexível, atóxica, resistente, transparente e em embalagem secundária. | E21: =Impressão!W22 | G21: 10 | J21: =SUM(Tabela1[[#This Row],[EDUCAÇÃO]:[HORTO]]) -> 10 | K21: =Tabela1[[#This Row],[PREÇO MÉDIO]]*Tabela1[[#This Row],[QUANT. TOTAL]] -> #VALUE! | O21: 10 | R21: =SUM(N21:Q21) -> 10 | T21: =Tabela1[[#This Row],[QUANT. TOTAL]]-R21 -> 0
A22: 20 | B22: =Impressão!B23 -> Calça Legging Feminina Tam. P | C22: UN | D22: Cestinhas de coco – 25 gramas aprox. | E22: =Impressão!W23 | H22: 3000 | J22: =SUM(Tabela1[[#This Row],[EDUCAÇÃO]:[HORTO]]) -> 3000 | K22: =Tabela1[[#This Row],[PREÇO MÉDIO]]*Tabela1[[#This Row],[QUANT. TOTAL]] -> #VALUE! | P22: 3000 | R22: =SUM(N22:Q22) -> 3000 | T22: =Tabela1[[#This Row],[QUANT. TOTAL]]-R22 -> 0
A23: 21 | B23: =Impressão!B24 -> Shorts Saia Feminino Tam. 1 | C23: UN | D23: Cestinhas de frios – 25 gramas aprox. | E23: =Impressão!W24 | H23: 3000 | J23: =SUM(Tabela1[[#This Row],[EDUCAÇÃO]:[HORTO]]) -> 3000 | K23: =Tabela1[[#This Row],[PREÇO MÉDIO]]*Tabela1[[#This Row],[QUANT. TOTAL]] -> #VALUE! | P23: 3000 | R23: =SUM(N23:Q23) -> 3000 | T23: =Tabela1[[#This Row],[QUANT. TOTAL]]-R23 -> 0
A24: 22 | B24: =Impressão!B25 -> Shorts Saia Feminino Tam. 6 | C24: UN | D24: Legume in natura, espécie comum, tamanho grande, 1ª qualidade, tamanho e coloração uniformes, livre de enfermidades, materiais terrosos, insetos, sujidades, sem danos físicos e mecânicos. | E24: =Impressão!W25 | F24: 400 | J24: =SUM(Tabela1[[#This Row],[EDUCAÇÃO]:[HORTO]]) -> 400 | K24: =Tabela1[[#This Row],[PREÇO MÉDIO]]*Tabela1[[#This Row],[QUANT. TOTAL]] -> #VALUE! | N24: 400 | R24: =SUM(N24:Q24) -> 400 | T24: =Tabela1[[#This Row],[QUANT. TOTAL]]-R24 -> 0
A25: 23 | B25: =Impressão!B26 -> Shorts Saia Feminino Tam. 12 | C25: UN | D25: Coxinha de frango frita - 15 gramas cada aprox. | E25: =Impressão!W26 | H25: 3000 | J25: =SUM(Tabela1[[#This Row],[EDUCAÇÃO]:[HORTO]]) -> 3000 | K25: =Tabela1[[#This Row],[PREÇO MÉDIO]]*Tabela1[[#This Row],[QUANT. TOTAL]] -> #VALUE! | P25: 3000 | R25: =SUM(N25:Q25) -> 3000 | T25: =Tabela1[[#This Row],[QUANT. TOTAL]]-R25 -> 0
A26: 24 | B26: =Impressão!B27 -> #REF! | C26: UN | D26: Croissant assado de chocolate – 25 gramas aprox. | E26: =Impressão!W27 | H26: 3000 | J26: =SUM(Tabela1[[#This Row],[EDUCAÇÃO]:[HORTO]]) -> 3000 | K26: =Tabela1[[#This Row],[PREÇO MÉDIO]]*Tabela1[[#This Row],[QUANT. TOTAL]] -> #VALUE! | P26: 3000 | R26: =SUM(N26:Q26) -> 3000 | T26: =Tabela1[[#This Row],[QUANT. TOTAL]]-R26 -> 0
A27: 25 | B27: =Impressão!B28 -> Bermuda Legging Feminina Tam. 1 | C27: UN | D27: Croquete de carne com requeijão frito - 15 gramas aprox. | E27: =Impressão!W28 | H27: 3000 | J27: =SUM(Tabela1[[#This Row],[EDUCAÇÃO]:[HORTO]]) -> 3000 | K27: =Tabela1[[#This Row],[PREÇO MÉDIO]]*Tabela1[[#This Row],[QUANT. TOTAL]] -> #VALUE! | P27: 3000 | R27: =SUM(N27:Q27) -> 3000 | T27: =Tabela1[[#This Row],[QUANT. TOTAL]]-R27 -> 0
A28: 26 | B28: =Impressão!B29 -> Bermuda Legging Feminina Tam. 6 | C28: UN | D28: Cuca caseira simples, sem recheio, contendo no mínimo os seguintes ingredientes: farinha de trigo enriquecida com ferro e ácido fólico, açúcar, leite ou água, sal, manteiga, fermento, limão e ovos. Embalagem plástica transparente. Rótulo contendo data de fabricação, validade, lista de ingredientes, valor nutricional. Aproximadamente 850 gramas por unidade. | E28: =Impressão!W29 | F28: 85 | G28: 30 | J28: =SUM(Tabela1[[#This Row],[EDUCAÇÃO]:[HORTO]]) -> 115 | K28: =Tabela1[[#This Row],[PREÇO MÉDIO]]*Tabela1[[#This Row],[QUANT. TOTAL]] -> #VALUE! | N28: 85 | O28: 30 | R28: =SUM(N28:Q28) -> 115 | T28: =Tabela1[[#This Row],[QUANT. TOTAL]]-R28 -> 0
A29: 27 | B29: =Impressão!B30 -> Bermuda Legging Feminina Tam. 12 | C29: UN | D29: Cupcake diversos sabores, decorado, em embalagem apropriada - 100 gramas aprox. | E29: =Impressão!W30 | H29: 3000 | J29: =SUM(Tabela1[[#This Row],[EDUCAÇÃO]:[HORTO]]) -> 3000 | K29: =Tabela1[[#This Row],[PREÇO MÉDIO]]*Tabela1[[#This Row],[QUANT. TOTAL]] -> #VALUE! | P29: 3000 | R29: =SUM(N29:Q29) -> 3000 | T29: =Tabela1[[#This Row],[QUANT. TOTAL]]-R29 -> 0
A30: 28 | B30: =Impressão!B31 -> Bermuda Legging Feminina Tam. P | C30: KG | D30: Doce de frutas em embalagem de 1 kg, sabores: morango, uva e figo. Embalagem contendo informações do produto, fabricação e validade. | E30: =Impressão!W31 | F30: 30 | J30: =SUM(Tabela1[[#This Row],[EDUCAÇÃO]:[HORTO]]) -> 30 | K30: =Tabela1[[#This Row],[PREÇO MÉDIO]]*Tabela1[[#This Row],[QUANT. TOTAL]] -> #VALUE! | N30: 30 | R30: =SUM(N30:Q30) -> 30 | T30: =Tabela1[[#This Row],[QUANT. TOTAL]]-R30 -> 0
A31: 29 | B31: =Impressão!B32 -> Jaqueta Tam. 1 | C31: UN | D31: Em pasta. Ingredientes: Leite pasteurizado e açúcar. O doce de leite deverá ser fabricado com matérias-primas sãs e limpas, isentas de matéria terrosa, parasitas e em perfeito estado de conservação. Características sensoriais: Consistência cremosa ou pastosa, sem cristais perceptíveis, cor castanho caramelado, sabor e odor doce característico, sem sabores e odores estranhos. Embalagem: Potes de polietileno resistente com tampa hermeticamente fechada com lacre de proteção. Validade mínima: 08 meses a partir da data de entrega. | E31: =Impressão!W32 | F31: 20 | G31: 50 | J31: =SUM(Tabela1[[#This Row],[EDUCAÇÃO]:[HORTO]]) -> 70 | K31: =Tabela1[[#This Row],[PREÇO MÉDIO]]*Tabela1[[#This Row],[QUANT. TOTAL]] -> #VALUE! | N31: 20 | O31: 50 | R31: =SUM(N31:Q31) -> 70 | T31: =Tabela1[[#This Row],[QUANT. TOTAL]]-R31 -> 0
A32: 30 | B32: =Impressão!B33 -> Jaqueta Tam. 6 | C32: UN | D32: Empada assada – 25 gramas aprox. | E32: =Impressão!W33 | H32: 3000 | J32: =SUM(Tabela1[[#This Row],[EDUCAÇÃO]:[HORTO]]) -> 3000 | K32: =Tabela1[[#This Row],[PREÇO MÉDIO]]*Tabela1[[#This Row],[QUANT. TOTAL]] -> #VALUE! | P32: 3000 | R32: =SUM(N32:Q32) -> 3000 | T32: =Tabela1[[#This Row],[QUANT. TOTAL]]-R32 -> 0
A33: 31 | B33: =Impressão!B34 -> Jaqueta Tam. 12 | C33: UN | D33: Empada assada de legumes – 25 gramas aprox. | E33: =Impressão!W34 | H33: 3000 | J33: =SUM(Tabela1[[#This Row],[EDUCAÇÃO]:[HORTO]]) -> 3000 | K33: =Tabela1[[#This Row],[PREÇO MÉDIO]]*Tabela1[[#This Row],[QUANT. TOTAL]] -> #VALUE! | P33: 3000 | R33: =SUM(N33:Q33) -> 3000 | T33: =Tabela1[[#This Row],[QUANT. TOTAL]]-R33 -> 0
A34: 32 | B34: =Impressão!B35 -> Jaqueta Tam. P | C34: UN | D34: Peso líquido aproximado: 100g. Embalagem: deve ser acondicionada em embalagem plástica transparente, atóxica, não violada, resistente à manipulação e ao transporte e acondicionada para entrega em caixa de papelão. Deve constar na embalagem rótulo com as informações do fabricante, ingredientes, data de fabricação e validade, informação nutricional. Descrição do produto: esfira assada de frango, carne bovina ou legumes, com massa preparada à base de farinha de trigo enriquecida com ferro e ácido fólico, gordura, fermento, sal, recheada. A empada deve ser preparada com matérias-primas sãs, limpas e em perfeito estado de conservação. Não é tolerado o emprego de corantes. Deve ser rotulada conforme a legislação vigente, sem sujidades, parasitas, larvas e corpos estranhos. | E34: =Impressão!W35 | F34: 300 | G34: 300 | H34: 2000 | J34: =SUM(Tabela1[[#This Row],[EDUCAÇÃO]:[HORTO]]) -> 2600 | K34: =Tabela1[[#This Row],[PREÇO MÉDIO]]*Tabela1[[#This Row],[QUANT. TOTAL]] -> #VALUE! | N34: 300 | O34: 300 | P34: 2000 | R34: =SUM(N34:Q34) -> 2600 | T34: =Tabela1[[#This Row],[QUANT. TOTAL]]-R34 -> 0
A35: 33 | B35: =Impressão!B36 -> Jaqueta Tam. G | C35: UN | D35: Farinha de milho média, deverá estar acondicionada em saco plástico transparente, atóxico e não violado, resistente à manipulação e transporte. Isento de larvas e parasitas. Peso Líquido: 01 kg. O produto deverá apresentar validade mínima de 03 (três) meses a partir da data de entrega na escola requisitante. Deve constar na embalagem a data de fabricação, validade, procedência e informação nutricional. | E35: =Impressão!W36 | F35: 150 | G35: 8 | I35: 50 | J35: =SUM(Tabela1[[#This Row],[EDUCAÇÃO]:[HORTO]]) -> 208 | K35: =Tabela1[[#This Row],[PREÇO MÉDIO]]*Tabela1[[#This Row],[QUANT. TOTAL]] -> #VALUE! | N35: 150 | O35: 8 | Q35: 50 | R35: =SUM(N35:Q35) -> 208 | T35: =Tabela1[[#This Row],[QUANT. TOTAL]]-R35 -> 0
A36: 34 | B36: =Impressão!B37 -> #REF! | C36: KG | D36: Polpa de fruta natural de laranja, morango e uva, congeladas, preparada com frutas sãs, limpas e isentas de parasitas e detritos animais ou vegetais. Não deve conter fragmentos das partes não comestíveis da fruta, nem substâncias estranhas à sua composição normal. Deverá se apresentar acondicionada em embalagens transparentes com peso líquido de 01 kg, com informações nutricionais de acesso ao consumidor. Proveniente de estabelecimento com Selo de Inspeção Sanitária. | E36: =Impressão!W37 | F36: 600 | J36: =SUM(Tabela1[[#This Row],[EDUCAÇÃO]:[HORTO]]) -> 600 | K36: =Tabela1[[#This Row],[PREÇO MÉDIO]]*Tabela1[[#This Row],[QUANT. TOTAL]] -> #VALUE! | N36: 600 | R36: =SUM(N36:Q36) -> 600 | T36: =Tabela1[[#This Row],[QUANT. TOTAL]]-R36 -> 0
A37: 35 | B37: =Impressão!B38 -> #REF! | C37: KG | D37: Grostoli salgado frito – embalagem de 1 kg. | E37: =Impressão!W38 | H37: 300 | J37: =SUM(Tabela1[[#This Row],[EDUCAÇÃO]:[HORTO]]) -> 300 | K37: =Tabela1[[#This Row],[PREÇO MÉDIO]]*Tabela1[[#This Row],[QUANT. TOTAL]] -> #VALUE! | P37: 300 | R37: =SUM(N37:Q37) -> 300 | T37: =Tabela1[[#This Row],[QUANT. TOTAL]]-R37 -> 0
A38: 36 | B38: =Impressão!B39 -> #REF! | C38: KG | D38: Fruta in natura, para aplicação alimentar. Características: 1ª qualidade, grau médio de amadurecimento, livre de sujidades, parasitas e larvas, apresentando tamanho, coloração uniforme, devendo ser bem desenvolvido, com polpa intacta e firme, sem danos físicos e mecânicos oriundos do manuseio e transporte. Acondicionado em embalagem plástica, flexível, atóxica, resistente, transparente e em embalagem secundária. | E38: =Impressão!W39 | G38: 50 | J38: =SUM(Tabela1[[#This Row],[EDUCAÇÃO]:[HORTO]]) -> 50 | K38: =Tabela1[[#This Row],[PREÇO MÉDIO]]*Tabela1[[#This Row],[QUANT. TOTAL]] -> #VALUE! | O38: 50 | R38: =SUM(N38:Q38) -> 50 | T38: =Tabela1[[#This Row],[QUANT. TOTAL]]-R38 -> 0
A39: 37 | B39: =Impressão!B40 -> #REF! | C39: KG | D39: Com aspecto próprio, não amolecida e nem pegajosa, cor, cheiro e sabor próprios, sem manchas esverdeadas, livre de parasitas ou quaisquer substâncias que possam alterar o produto, de acordo com a legislação sanitária e ministério da agricultura. Embalagem: Contendo o nome e composição do produto, lote, data de fabricação e validade, número de registro no órgão oficial, condições de armazenamento e peso. | E39: =Impressão!W40 | F39: 200 | G39: 200 | J39: =SUM(Tabela1[[#This Row],[EDUCAÇÃO]:[HORTO]]) -> 400 | K39: =Tabela1[[#This Row],[PREÇO MÉDIO]]*Tabela1[[#This Row],[QUANT. TOTAL]] -> #VALUE! | N39: 200 | O39: 200 | R39: =SUM(N39:Q39) -> 400 | T39: =Tabela1[[#This Row],[QUANT. TOTAL]]-R39 -> 0
A40: 38 | B40: =Impressão!B41 -> #REF! | C40: KG | D40: Produto in natura, espécie vermelha, nacional, de 1ª qualidade, bem desenvolvida e madura, sem manchas, com polpa intacta e firme, sem danos físicos ou mecânicos. Acondicionada em caixa de papelão própria para este fim. | E40: =Impressão!W41 | F40: 200 | G40: 100 | J40: =SUM(Tabela1[[#This Row],[EDUCAÇÃO]:[HORTO]]) -> 300 | K40: =Tabela1[[#This Row],[PREÇO MÉDIO]]*Tabela1[[#This Row],[QUANT. TOTAL]] -> #VALUE! | N40: 200 | O40: 100 | R40: =SUM(N40:Q40) -> 300 | T40: =Tabela1[[#This Row],[QUANT. TOTAL]]-R40 -> 0
A41: 39 | B41: =Impressão!B42 -> #REF! | C41: UN | D41: Manteiga de 1ª linha cremosa, sem sal, livre de gorduras trans. Obtida da emulsão de gorduras do creme pasteurizado a partir do leite de vaca. Características: Livre de matéria terrosa, parasitos, larvas e detritos animais e vegetais, isenta de ranço, bolor e outras características indesejáveis, aspecto homogêneo, uniforme, cor amarela. Embalagem: Plástica adequada para transporte e armazenamento, atóxica, resistente, íntegra e não violada. Deve conter especificações, marca, ingredientes, informações nutricionais, data de fabricação, lote, data de validade. Validade mínima: 3 meses a partir da data de entrega. Embalagem: 1 kg. | E41: =Impressão!W42 | F41: 15 | G41: 20 | J41: =SUM(Tabela1[[#This Row],[EDUCAÇÃO]:[HORTO]]) -> 35 | K41: =Tabela1[[#This Row],[PREÇO MÉDIO]]*Tabela1[[#This Row],[QUANT. TOTAL]] -> #VALUE! | N41: 15 | O41: 20 | R41: =SUM(N41:Q41) -> 35 | T41: =Tabela1[[#This Row],[QUANT. TOTAL]]-R41 -> 0
A42: 40 | B42: =Impressão!B43 -> #REF! | C42: KG | D42: Massa caseira de diversos tipos (espaguete, macarrão, fina, tagliatelle). Composto por farinha de trigo especial, enriquecida com ferro e ácido fólico, ovos e corante natural. Deverá ser acondicionada em plástico transparente e atóxica, limpa e não violada, resistente ao transporte e manuseio e que garanta a integridade do produto até o momento do consumo. Peso Líquido: pacote com 1 kg. A embalagem deverá conter externamente os dados de identificação e procedência, informação nutricional, data de validade, quantidade do produto. | E42: =Impressão!W43 | F42: 70 | J42: =SUM(Tabela1[[#This Row],[EDUCAÇÃO]:[HORTO]]) -> 70 | K42: =Tabela1[[#This Row],[PREÇO MÉDIO]]*Tabela1[[#This Row],[QUANT. TOTAL]] -> #VALUE! | N42: 70 | R42: =SUM(N42:Q42) -> 70 | T42: =Tabela1[[#This Row],[QUANT. TOTAL]]-R42 -> 0
A43: 41 | B43: =Impressão!B44 -> #REF! | C43: KG | D43: Composto por farinha de trigo especial, enriquecida com ferro e ácido fólico, ovos e corante natural. Deverá ser acondicionada em plástico transparente e atóxica, limpa e não violada, resistente ao transporte e manuseio e que garanta a integridade do produto até o momento do consumo. Peso Líquido: pacote com 1 kg. A embalagem deverá conter externamente os dados de identificação e procedência, informação nutricional, data de validade, quantidade do produto. | E43: =Impressão!W44 | F43: 100 | J43: =SUM(Tabela1[[#This Row],[EDUCAÇÃO]:[HORTO]]) -> 100 | K43: =Tabela1[[#This Row],[PREÇO MÉDIO]]*Tabela1[[#This Row],[QUANT. TOTAL]] -> #VALUE! | N43: 100 | R43: =SUM(N43:Q43) -> 100 | T43: =Tabela1[[#This Row],[QUANT. TOTAL]]-R43 -> 0
A44: 42 | B44: =Impressão!B45 -> #REF! | C44: KG | D44: Não deve conter adição de açúcares ou outras substâncias que alterem sua composição original, bem como aditivos, contaminantes orgânicos ou inorgânicos, indícios de fermentação ou efervescência. Deve ser de aspecto líquido denso, viscoso, translúcido; de coloração levemente amarelada a castanho escuro e apresentar odor e sabor característicos. Deve ser isento de sujidades, parasitas e larvas. Apresentar-se em embalagem primária (sachês contendo 8g) e embalagem secundária pesando 1000g. O rótulo deve conter informações do produto nutricionais, ingredientes, registro no IMA, data de fabricação e validade, número do lote e informações da empresa. O produto deverá ter validade mínima de 12 meses e máxima de 24 meses a partir da entrega. | E44: =Impressão!W45 | F44: 10 | J44: =SUM(Tabela1[[#This Row],[EDUCAÇÃO]:[HORTO]]) -> 10 | K44: =Tabela1[[#This Row],[PREÇO MÉDIO]]*Tabela1[[#This Row],[QUANT. TOTAL]] -> #VALUE! | N44: 10 | R44: =SUM(N44:Q44) -> 10 | T44: =Tabela1[[#This Row],[QUANT. TOTAL]]-R44 -> 0
