Workbook

Sheet Dados_2
B1: Item | C1: Quantidade | D1: Gaiardo E Gaiardo LTDA | E1: Dalton Confecções LTDA | F1: Elenita Ida Tumellero Conti LTDa | G1: Licitacon/PNPC | H1: Licitacon/PNPC | I1: Valor Médio Unitário | J1: Valor Total
A2: 1 | B2: Camiseta Manga Longa Tam. 1 | C2: 21 | D2: 45 | E2: 48 | F2: 40 | G2: 28 | I2: =(D2+E2+F2+G2)/4 -> 40.25 | J2: =SUM(C2*I2) -> 845.25
A3: 2 | B3: Camiseta Manga Longa Tam. 2 | C3: 21 | D3: 45 | E3: 48 | F3: 40 | G3: 39.17 | H3: 39.9 | I3: =(D3+E3+F3+G3+H3)/5 -> 42.414 | J3: =SUM(C3*I3) -> 890.694
A4: 3 | B4: Camiseta Manga Longa Tam. 4 | C4: 108 | D4: 45 | E4: 48 | F4: 40 | G4: 39.17 | H4: 39.9 | I4: =(D4+E4+F4+G4+H4)/5 -> 42.414 | J4: =SUM(C4*I4) -> 4580.712
A5: 4 | B5: Camiseta Manga Longa Tam. 6 | C5: 84 | D5: 55 | E5: 58 | F5: 50 | G5: 39.17 | H5: 39.9 | I5: =(D5+E5+F5+G5+H5)/5 -> 48.414 | J5: =SUM(C5*I5) -> 4066.776
A6: 5 | B6: Camiseta Manga Longa Tam. 8 | C6: 123 | D6: 55 | E6: 58 | F6: 50 | G6: 39.17 | H6: 39.9 | I6: =(D6+E6+F6+G6+H6)/5 -> 48.414 | J6: =SUM(C6*I6) -> 5954.922
A7: 6 | B7: Camiseta Manga Longa Tam. 10 | C7: 72 | D7: 55 | E7: 58 | F7: 50 | G7: 39.17 | H7: 46.9 | I7: =(D7+E7+F7+G7+H7)/5 -> 49.814 | J7: =SUM(C7*I7) -> 3586.608
A8: 7 | B8: Camiseta Manga Longa Tam. 12 | C8: 90 | D8: 63 | E8: 66 | F8: 58 | G8: 39.17 | H8: 46.9 | I8: =(D8+E8+F8+G8+H8)/5 -> 54.614 | J8: =SUM(C8*I8) -> 4915.26
A9: 8 | B9: Camiseta Manga Longa Tam. 14 | C9: 105 | D9: 63 | E9: 66 | F9: 58 | G9: 39.17 | H9: 46.9 | I9: =(D9+E9+F9+G9+H9)/5 -> 54.614 | J9: =SUM(C9*I9) -> 5734.47
A10: 9 | B10: Camiseta Manga Longa Tam. 16 | C10: 78 | D10: 63 | E10: 66 | F10: 58 | G10: 39.17 | H10: 46.9 | I10: =(D10+E10+F10+G10+H10)/5 -> 54.614 | J10: =SUM(C10*I10) -> 4259.892
A11: 10 | B11: Camiseta Manga Longa Tam. P | C11: 78 | D11: 80 | E11: 83 | F11: 75 | G11: 39.17 | H11: 35.49 | I11: =(D11+E11+F11+G11+H11)/5 -> 62.532 | J11: =SUM(C11*I11) -> 4877.496
A12: 11 | B12: Camiseta Manga Longa Tam. M | C12: 102 | D12: 80 | E12: 83 | F12: 75 | G12: 39.17 | H12: 35.49 | I12: =(D12+E12+F12+G12+H12)/5 -> 62.532 | J12: =SUM(C12*I12) -> 6378.264
A13: 12 | B13: Camiseta Manga Longa Tam. G | C13: 21 | F13: 75 | G13: 39.17 | H13: 35.49 | I13: =(F13+G13+H13)/3 -> 49.886667 | J13: =SUM(C13*I13) -> 1047.62
A14: 13 | B14: Camiseta Manga Longa Tam. GG | C14: 18 | F14: 75 | G14: 39.17 | H14: 35.49 | I14: =(F14+G14+H14)/3 -> 49.886667 | J14: =SUM(C14*I14) -> 897.96
A15: 14 | B15: Camiseta Manga Curta Tam. 1 | C15: 33 | D15: 40 | E15: 43 | F15: 35 | G15: 29 | I15: =(D15+E15+F15+G15)/4 -> 36.75 | J15: =SUM(C15*I15) -> 1212.75
A16: 15 | B16: Camiseta Manga Curta Tam. 2 | C16: 33 | D16: 40 | E16: 43 | F16: 35 | G16: 34.33 | H16: 29 | I16: =(D16+E16+F16+G16+H16)/5 -> 36.266 | J16: =SUM(C16*I16) -> 1196.778
A17: 16 | B17: Camiseta Manga Curta Tam. 4 | C17: 186 | D17: 40 | E17: 43 | F17: 35 | G17: 34.33 | H17: 29 | I17: =(D17+E17+F17+G17+H17)/5 -> 36.266 | J17: =SUM(C17*I17) -> 6745.476
A18: 17 | B18: Camiseta Manga Curta Tam. 6 | C18: 153 | D18: 45 | E18: 48 | F18: 40 | G18: 34.33 | H18: 29 | I18: =(D18+E18+F18+G18+H18)/5 -> 39.266 | J18: =SUM(C18*I18) -> 6007.698
A19: 18 | B19: Camiseta Manga Curta Tam. 8 | C19: 231 | D19: 45 | E19: 48 | F19: 40 | G19: 34.33 | H19: 29 | I19: =(D19+E19+F19+G19+H19)/5 -> 39.266 | J19: =SUM(C19*I19) -> 9070.446
A20: 19 | B20: Camiseta Manga Curta Tam. 10 | C20: 129 | D20: 45 | E20: 48 | F20: 40 | G20: 34.33 | H20: 35 | I20: =(D20+E20+F20+G20+H20)/5 -> 40.466 | J20: =SUM(C20*I20) -> 5220.114
A21: 20 | B21: Camiseta Manga Curta Tam. 12 | C21: 150 | D21: 53 | E21: 56 | F21: 48 | G21: 34.33 | H21: 35 | I21: =(D21+E21+F21+G21+H21)/5 -> 45.266 | J21: =SUM(C21*I21) -> 6789.9
A22: 21 | B22: Camiseta Manga Curta Tam. 14 | C22: 135 | D22: 53 | E22: 56 | F22: 48 | G22: 34.33 | H22: 35 | I22: =(D22+E22+F22+G22+H22)/5 -> 45.266 | J22: =SUM(C22*I22) -> 6110.91
A23: 22 | B23: Camiseta Manga Curta Tam. 16 | C23: 132 | D23: 53 | E23: 56 | F23: 48 | G23: 34.33 | H23: 35 | I23: =(D23+E23+F23+G23+H23)/5 -> 45.266 | J23: =SUM(C23*I23) -> 5975.112
A24: 23 | B24: Camiseta Manga Curta Tam. P | C24: 132 | D24: 63 | E24: 66 | F24: 58 | G24: 34.33 | H24: 34.9 | I24: =(D24+E24+F24+G24+H24)/5 -> 51.246 | J24: =SUM(C24*I24) -> 6764.472
A25: 24 | B25: Camiseta Manga Curta Tam. M | C25: 180 | D25: 63 | E25: 66 | F25: 58 | G25: 34.33 | H25: 34.9 | I25: =(D25+E25+F25+G25+H25)/5 -> 51.246 | J25: =SUM(C25*I25) -> 9224.28
A26: 25 | B26: Camiseta Manga Curta Tam. G | C26: 33 | D26: 63 | F26: 58 | G26: 34.33 | H26: 34.9 | I26: =(D26+F26+G26+H26)/4 -> 47.5575 | J26: =SUM(C26*I26) -> 1569.3975
A27: 26 | B27: Camiseta Manga Curta Tam. GG | C27: 27 | D27: 63 | F27: 58 | G27: 34.33 | H27: 34.9 | I27: =(D27+F27+G27+H27)/4 -> 47.5575 | J27: =SUM(C27*I27) -> 1284.0525
A28: 27 | B28: Bermuda Masculina Tam. 1 | C28: 24 | D28: 53 | E28: 56 | F28: 48 | H28: 41.9 | I28: =(D28+E28+F28+H28)/4 -> 49.725 | J28: =SUM(C28*I28) -> 1193.4
A29: 28 | B29: Bermuda Masculina Tam. 2 | C29: 24 | D29: 53 | E29: 56 | F29: 48 | G29: 47 | H29: 41.9 | I29: =(D29+E29+F29+G29+H29)/5 -> 49.18 | J29: =SUM(C29*I29) -> 1180.32
A30: 29 | B30: Bermuda Masculina Tam. 4 | C30: 86 | D30: 53 | E30: 56 | F30: 48 | G30: 47 | H30: 41.9 | I30: =(D30+E30+F30+G30+H30)/5 -> 49.18 | J30: =SUM(C30*I30) -> 4229.48
A31: 30 | B31: Bermuda Masculina Tam. 6 | C31: 56 | D31: 61 | E31: 64 | F31: 56 | G31: 47 | H31: 41.9 | I31: =(D31+E31+F31+G31+H31)/5 -> 53.98 | J31: =SUM(C31*I31) -> 3022.88
A32: 31 | B32: Bermuda Masculina Tam. 8 | C32: 76 | D32: 61 | E32: 64 | F32: 56 | G32: 47 | H32: 41.9 | I32: =(D32+E32+F32+G32+H32)/5 -> 53.98 | J32: =SUM(C32*I32) -> 4102.48
A33: 32 | B33: Bermuda Masculina Tam. 10 | C33: 48 | D33: 61 | E33: 64 | F33: 56 | G33: 47 | H33: 41.9 | I33: =(D33+E33+F33+G33+H33)/5 -> 53.98 | J33: =SUM(C33*I33) -> 2591.04
A34: 33 | B34: Bermuda Masculina Tam. 12 | C34: 62 | D34: 77 | E34: 80 | F34: 72 | G34: 47 | H34: 41.9 | I34: =(D34+E34+F34+G34+H34)/5 -> 63.58 | J34: =SUM(C34*I34) -> 3941.96
A35: 34 | B35: Bermuda Masculina Tam. 14 | C35: 57 | D35: 77 | E35: 80 | F35: 72 | G35: 47 | H35: 41.9 | I35: =(D35+E35+F35+G35+H35)/5 -> 63.58 | J35: =SUM(C35*I35) -> 3624.06
A36: 35 | B36: Bermuda Masculina Tam. 16 | C36: 85 | D36: 77 | E36: 80 | F36: 72 | G36: 47 | H36: 41.9 | I36: =(D36+E36+F36+G36+H36)/5 -> 63.58 | J36: =SUM(C36*I36) -> 5404.3
A37: 36 | B37: Bermuda Masculina Tam. P | C37: 69 | D37: 104 | E37: 107 | F37: 99 | G37: 47 | H37: 41.9 | I37: =(D37+E37+F37+G37+H37)/5 -> 79.78 | J37: =SUM(C37*I37) -> 5504.82
A38: 37 | B38: Bermuda Masculina Tam. M | C38: 45 | D38: 104 | E38: 107 | F38: 99 | G38: 47 | H38: 41.9 | I38: =(D38+E38+F38+G38+H38)/5 -> 79.78 | J38: =SUM(C38*I38) -> 3590.1
A39: 38 | B39: Bermuda Masculina Tam. G | C39: 24 | D39: 104 | F39: 99 | G39: 47 | H39: 41.9 | I39: =(D39+F39+G39+H39)/4 -> 72.975 | J39: =SUM(C39*I39) -> 1751.4
A40: 39 | B40: Bermuda Masculina Tam. GG | C40: 15 | D40: 104 | F40: 99 | G40: 47 | H40: 41.9 | I40: =(D40+F40+G40+H40)/4 -> 72.975 | J40: =SUM(C40*I40) -> 1094.625
...

Sheet Dados
A1: QUADRO COMPARATIVO DE PREÇOS - INSIRA APENAS OS DADOS COLETADOS
A2: ITEM | B2: DESCRIÇÃO DETALHADA DO ITEM | C2: 1º PARÂM. | D2: 2º PARÂM. | E2: 3º PARÂM. | F2: 4º PARÂM. | G2: 5º PARÂM. | H2: 6º PARÂM.
C3: Gaiardo E Gaiardo LTDA | D3: Dalton Confecções LTDA | E3: Elenita Ida Tumellero Conti LTDa | F3: Licitacon/PNPC | G3: Licitacon/PNPC | H3: Valor Médio
A4: 1 | B4: Camiseta Manga Longa Tam. 1 | C4: 45 | D4: 48 | E4: 40 | F4: 28 | H4: =(C4+D4+E4+F4)/4 -> 40.25
A5: 2 | B5: Camiseta Manga Longa Tam. 2 | C5: 45 | D5: 48 | E5: 40 | F5: 39.17 | G5: 39.9 | H5: =(C5+D5+E5+F5+G5)/5 -> 42.414
A6: 3 | B6: Camiseta Manga Longa Tam. 4 | C6: 45 | D6: 48 | E6: 40 | F6: 39.17 | G6: 39.9 | H6: =(C6+D6+E6+F6+G6)/5 -> 42.414
A7: 4 | B7: Camiseta Manga Longa Tam. 6 | C7: 55 | D7: 58 | E7: 50 | F7: 39.17 | G7: 39.9 | H7: =(C7+D7+E7+F7+G7)/5 -> 48.414
A8: 5 | B8: Camiseta Manga Longa Tam. 8 | C8: 55 | D8: 58 | E8: 50 | F8: 39.17 | G8: 39.9 | H8: =(C8+D8+E8+F8+G8)/5 -> 48.414
A9: 6 | B9: Camiseta Manga Longa Tam. 10 | C9: 55 | D9: 58 | E9: 50 | F9: 39.17 | G9: 46.9 | H9: =(C9+D9+E9+F9+G9)/5 -> 49.814
A10: 7 | B10: Camiseta Manga Longa Tam. 12 | C10: 63 | D10: 66 | E10: 58 | F10: 39.17 | G10: 46.9 | H10: =(C10+D10+E10+F10+G10)/5 -> 54.614
A11: 8 | B11: Camiseta Manga Longa Tam. 14 | C11: 63 | D11: 66 | E11: 58 | F11: 39.17 | G11: 46.9 | H11: =(C11+D11+E11+F11+G11)/5 -> 54.614
A12: 9 | B12: Camiseta Manga Longa Tam. 16 | C12: 63 | D12: 66 | E12: 58 | F12: 39.17 | G12: 46.9 | H12: =(C12+D12+E12+F12+G12)/5 -> 54.614
A13: 10 | B13: Camiseta Manga Longa Tam. P | C13: 80 | D13: 83 | E13: 75 | F13: 39.17 | G13: 35.49 | H13: =(C13+D13+E13+F13+G13)/5 -> 62.532
A14: 11 | B14: Camiseta Manga Longa Tam. M | C14: 80 | D14: 83 | E14: 75 | F14: 39.17 | G14: 35.49 | H14: =(C14+D14+E14+F14+G14)/5 -> 62.532
A15: 12 | B15: Camiseta Manga Longa Tam. G | E15: 75 | F15: 39.17 | G15: 35.49 | H15: =(E15+F15+G15)/3 -> 49.886667
A16: 13 | B16: Camiseta Manga Longa Tam. GG | E16: 75 | F16: 39.17 | G16: 35.49 | H16: =(E16+F16+G16)/3 -> 49.886667
A17: 14 | B17: Camiseta Manga Curta Tam. 1 | C17: 40 | D17: 43 | E17: 35 | F17: 29 | H17: =(C17+D17+E17+F17)/4 -> 36.75
A18: 15 | B18: Camiseta Manga Curta Tam. 2 | C18: 40 | D18: 43 | E18: 35 | F18: 34.33 | G18: 29 | H18: =(C18+D18+E18+F18+G18)/5 -> 36.266
A19: 16 | B19: Camiseta Manga Curta Tam. 4 | C19: 40 | D19: 43 | E19: 35 | F19: 34.33 | G19: 29 | H19: =(C19+D19+E19+F19+G19)/5 -> 36.266
A20: 17 | B20: Camiseta Manga Curta Tam. 6 | C20: 45 | D20: 48 | E20: 40 | F20: 34.33 | G20: 29 | H20: =(C20+D20+E20+F20+G20)/5 -> 39.266
A21: 18 | B21: Camiseta Manga Curta Tam. 8 | C21: 45 | D21: 48 | E21: 40 | F21: 34.33 | G21: 29 | H21: =(C21+D21+E21+F21+G21)/5 -> 39.266
A22: 19 | B22: Camiseta Manga Curta Tam. 10 | C22: 45 | D22: 48 | E22: 40 | F22: 34.33 | G22: 35 | H22: =(C22+D22+E22+F22+G22)/5 -> 40.466
A23: 20 | B23: Camiseta Manga Curta Tam. 12 | C23: 53 | D23: 56 | E23: 48 | F23: 34.33 | G23: 35 | H23: =(C23+D23+E23+F23+G23)/5 -> 45.266
A24: 21 | B24: Camiseta Manga Curta Tam. 14 | C24: 53 | D24: 56 | E24: 48 | F24: 34.33 | G24: 35 | H24: =(C24+D24+E24+F24+G24)/5 -> 45.266
A25: 22 | B25: Camiseta Manga Curta Tam. 16 | C25: 53 | D25: 56 | E25: 48 | F25: 34.33 | G25: 35 | H25: =(C25+D25+E25+F25+G25)/5 -> 45.266
A26: 23 | B26: Camiseta Manga Curta Tam. P | C26: 63 | D26: 66 | E26: 58 | F26: 34.33 | G26: 34.9 | H26: =(C26+D26+E26+F26+G26)/5 -> 51.246
A27: 24 | B27: Camiseta Manga Curta Tam. M | C27: 63 | D27: 66 | E27: 58 | F27: 34.33 | G27: 34.9 | H27: =(C27+D27+E27+F27+G27)/5 -> 51.246
A28: 25 | B28: Camiseta Manga Curta Tam. G | C28: 63 | E28: 58 | F28: 34.33 | G28: 34.9 | H28: =(C28+E28+F28+G28)/4 -> 47.5575
A29: 26 | B29: Camiseta Manga Curta Tam. GG | C29: 63 | E29: 58 | F29: 34.33 | G29: 34.9 | H29: =(C29+E29+F29+G29)/4 -> 47.5575
A30: 27 | B30: Bermuda Masculina Tam. 1 | C30: 53 | D30: 56 | E30: 48 | G30: 41.9 | H30: =(C30+D30+E30+G30)/4 -> 49.725
A31: 28 | B31: Bermuda Masculina Tam. 2 | C31: 53 | D31: 56 | E31: 48 | F31: 47 | G31: 41.9 | H31: =(C31+D31+E31+F31+G31)/5 -> 49.18
A32: 29 | B32: Bermuda Masculina Tam. 4 | C32: 53 | D32: 56 | E32: 48 | F32: 47 | G32: 41.9 | H32: =(C32+D32+E32+F32+G32)/5 -> 49.18
A33: 30 | B33: Bermuda Masculina Tam. 6 | C33: 61 | D33: 64 | E33: 56 | F33: 47 | G33: 41.9 | H33: =(C33+D33+E33+F33+G33)/5 -> 53.98
A34: 31 | B34: Bermuda Masculina Tam. 8 | C34: 61 | D34: 64 | E34: 56 | F34: 47 | G34: 41.9 | H34: =(C34+D34+E34+F34+G34)/5 -> 53.98
A35: 32 | B35: Bermuda Masculina Tam. 10 | C35: 61 | D35: 64 | E35: 56 | F35: 47 | G35: 41.9 | H35: =(C35+D35+E35+F35+G35)/5 -> 53.98
A36: 33 | B36: Bermuda Masculina Tam. 12 | C36: 77 | D36: 80 | E36: 72 | F36: 47 | G36: 41.9 | H36: =(C36+D36+E36+F36+G36)/5 -> 63.58
A37: 34 | B37: Bermuda Masculina Tam. 14 | C37: 77 | D37: 80 | E37: 72 | F37: 47 | G37: 41.9 | H37: =(C37+D37+E37+F37+G37)/5 -> 63.58
A38: 35 | B38: Bermuda Masculina Tam. 16 | C38: 77 | D38: 80 | E38: 72 | F38: 47 | G38: 41.9 | H38: =(C38+D38+E38+F38+G38)/5 -> 63.58
A39: 36 | B39: Bermuda Masculina Tam. P | C39: 104 | D39: 107 | E39: 99 | F39: 47 | G39: 41.9 | H39: =(C39+D39+E39+F39+G39)/5 -> 79.78
A40: 37 | B40: Bermuda Masculina Tam. M | C40: 104 | D40: 107 | E40: 99 | F40: 47 | G40: 41.9 | H40: =(C40+D40+E40+F40+G40)/5 -> 79.78
...

Sheet Saneamento
A1: QUADRO COMPARATIVO DE PREÇOS - SANEAMENTO DA MÉDIA
A2: ITEM | B2: DESCRIÇÃO DETALHADA DO ITEM | C2: 1º PARÂM. | D2: 2º PARÂM. | E2: 3º PARÂM. | F2: 4º PARÂM. | G2: 5º PARÂM. | H2: 6º PARÂM. | I2: 7º PARÂM. | J2: 8º PARÂM. | K2: 9º PARÂM. | L2: 10º PARÂM. | M2: 11º PARÂM. | N2: 12º PARÂM. | O2: 13º PARÂM. | P2: 14º PARÂM. | Q2: 15º PARÂM. | R2: 16º PARÂM. | S2: 17º PARÂM. | T2: 18º PARÂM. | U2: 19º PARÂM. | V2: 20º PARÂM. | W2: MÉDIA | X2: MEDIANA | Y2: MENOR VALOR | Z2: MAIOR VALOR | AA2: COEFICIENTE DE VARIAÇÃO
C3: =IF(Dados!C3>=1,Dados!C3,"") -> Gaiardo E Gaiardo LTDA | D3: =IF(Dados!D3>=1,Dados!D3,"") -> Dalton Confecções LTDA | E3: =IF(Dados!E3>=1,Dados!E3,"") -> Elenita Ida Tumellero Conti LTDa | F3: =IF(Dados!F3>=1,Dados!F3,"") -> Licitacon/PNPC | G3: =IF(Dados!G3>=1,Dados!G3,"") -> Licitacon/PNPC | H3: =IF(Dados!H3>=1,Dados!H3,"") -> Valor Médio | I3: =IF(#REF!>=1,#REF!,"") -> #REF! | J3: =IF(#REF!>=1,#REF!,"") -> #REF! | K3: =IF(#REF!>=1,#REF!,"") -> #REF! | L3: =IF(#REF!>=1,#REF!,"") -> #REF! | M3: =IF(#REF!>=1,#REF!,"") -> #REF! | N3: =IF(#REF!>=1,#REF!,"") -> #REF! | O3: =IF(#REF!>=1,#REF!,"") -> #REF! | P3: =IF(#REF!>=1,#REF!,"") -> #REF! | ... V3: =IF(#REF!>=1,#REF!,"") -> #REF!
A4: =IF(Dados!A4>=1,Dados!A4,"") -> 1 | B4: =IF(Dados!B4>=1,Dados!B4,"") -> Camiseta Manga Longa Tam. 1 | C4: =IF(Dados!C4>=1,Dados!C4,"") -> 45 | D4: =IF(Dados!D4>=1,Dados!D4,"") -> 48 | E4: =IF(Dados!E4>=1,Dados!E4,"") -> 40 | F4: =IF(Dados!F4>=1,Dados!F4,"") -> 28 | G4: =IF(Dados!G4>=1,Dados!G4,"") | I4: =IF(#REF!>=1,#REF!,"") -> #REF! | J4: =IF(#REF!>=1,#REF!,"") -> #REF! | K4: =IF(#REF!>=1,#REF!,"") -> #REF! | L4: =IF(#REF!>=1,#REF!,"") -> #REF! | M4: =IF(#REF!>=1,#REF!,"") -> #REF! | N4: =IF(#REF!>=1,#REF!,"") -> #REF! | O4: =IF(#REF!>=1,#REF!,"") -> #REF! | P4: =IF(#REF!>=1,#REF!,"") -> #REF! | ... V4: =IF(#REF!>=1,#REF!,"") -> #REF! | W4: =IFERROR(AVERAGE(C4:V4),"") | X4: =IFERROR(MEDIAN(C4:V4),"") | Y4: =IFERROR(SMALL(C4:V4,1),"") | Z4: =IFERROR(LARGE(C4:V4,1),"") | AA4: =IFERROR(_xlfn.STDEV.P(C4:V4)/W4,"")
A5: =IF(Dados!A7>=1,Dados!A7,"") -> 4 | B5: =IF(Dados!B7>=1,Dados!B7,"") -> Camiseta Manga Longa Tam. 6 | C5: =IF(Dados!C7>=1,Dados!C7,"") -> 55 | D5: =IF(Dados!D7>=1,Dados!D7,"") -> 58 | E5: =IF(Dados!E7>=1,Dados!E7,"") -> 50 | F5: =IF(Dados!F7>=1,Dados!F7,"") -> 39.17 | G5: =IF(Dados!G7>=1,Dados!G7,"") -> 39.9 | I5: =IF(#REF!>=1,#REF!,"") -> #REF! | J5: =IF(#REF!>=1,#REF!,"") -> #REF! | K5: =IF(#REF!>=1,#REF!,"") -> #REF! | L5: =IF(#REF!>=1,#REF!,"") -> #REF! | M5: =IF(#REF!>=1,#REF!,"") -> #REF! | N5: =IF(#REF!>=1,#REF!,"") -> #REF! | O5: =IF(#REF!>=1,#REF!,"") -> #REF! | P5: =IF(#REF!>=1,#REF!,"") -> #REF! | ... V5: =IF(#REF!>=1,#REF!,"") -> #REF! | W5: =IFERROR(AVERAGE(C5:V5),"") | X5: =IFERROR(MEDIAN(C5:V5),"") | Y5: =IFERROR(SMALL(C5:V5,1),"") | Z5: =IFERROR(LARGE(C5:V5,1),"") | AA5: =IFERROR(_xlfn.STDEV.P(C5:V5)/W5,"")
A6: =IF(Dados!A10>=1,Dados!A10,"") -> 7 | B6: =IF(Dados!B10>=1,Dados!B10,"") -> Camiseta Manga Longa Tam. 12 | C6: =IF(Dados!C10>=1,Dados!C10,"") -> 63 | D6: =IF(Dados!D10>=1,Dados!D10,"") -> 66 | E6: =IF(Dados!E10>=1,Dados!E10,"") -> 58 | F6: =IF(Dados!F10>=1,Dados!F10,"") -> 39.17 | G6: =IF(Dados!G10>=1,Dados!G10,"") -> 46.9 | I6: =IF(#REF!>=1,#REF!,"") -> #REF! | J6: =IF(#REF!>=1,#REF!,"") -> #REF! | K6: =IF(#REF!>=1,#REF!,"") -> #REF! | L6: =IF(#REF!>=1,#REF!,"") -> #REF! | M6: =IF(#REF!>=1,#REF!,"") -> #REF! | N6: =IF(#REF!>=1,#REF!,"") -> #REF! | O6: =IF(#REF!>=1,#REF!,"") -> #REF! | P6: =IF(#REF!>=1,#REF!,"") -> #REF! | ... V6: =IF(#REF!>=1,#REF!,"") -> #REF! | W6: =IFERROR(AVERAGE(C6:V6),"") | X6: =IFERROR(MEDIAN(C6:V6),"") | Y6: =IFERROR(SMALL(C6:V6,1),"") | Z6: =IFERROR(LARGE(C6:V6,1),"") | AA6: =IFERROR(_xlfn.STDEV.P(C6:V6)/W6,"")
A7: =IF(Dados!A13>=1,Dados!A13,"") -> 10 | B7: =IF(Dados!B13>=1,Dados!B13,"") -> Camiseta Manga Longa Tam. P | C7: =IF(Dados!C13>=1,Dados!C13,"") -> 80 | D7: =IF(Dados!D13>=1,Dados!D13,"") -> 83 | E7: =IF(Dados!E13>=1,Dados!E13,"") -> 75 | F7: =IF(Dados!F13>=1,Dados!F13,"") -> 39.17 | G7: =IF(Dados!G13>=1,Dados!G13,"") -> 35.49 | I7: =IF(#REF!>=1,#REF!,"") -> #REF! | J7: =IF(#REF!>=1,#REF!,"") -> #REF! | K7: =IF(#REF!>=1,#REF!,"") -> #REF! | L7: =IF(#REF!>=1,#REF!,"") -> #REF! | M7: =IF(#REF!>=1,#REF!,"") -> #REF! | N7: =IF(#REF!>=1,#REF!,"") -> #REF! | O7: =IF(#REF!>=1,#REF!,"") -> #REF! | P7: =IF(#REF!>=1,#REF!,"") -> #REF! | ... V7: =IF(#REF!>=1,#REF!,"") -> #REF! | W7: =IFERROR(AVERAGE(C7:V7),"") | X7: =IFERROR(MEDIAN(C7:V7),"") | Y7: =IFERROR(SMALL(C7:V7,1),"") | Z7: =IFERROR(LARGE(C7:V7,1),"") | AA7: =IFERROR(_xlfn.STDEV.P(C7:V7)/W7,"")
A8: =IF(Dados!A17>=1,Dados!A17,"") -> 14 | B8: =IF(Dados!B17>=1,Dados!B17,"") -> Camiseta Manga Curta Tam. 1 | C8: =IF(Dados!C17>=1,Dados!C17,"") -> 40 | D8: =IF(Dados!D17>=1,Dados!D17,"") -> 43 | E8: =IF(Dados!E17>=1,Dados!E17,"") -> 35 | F8: =IF(Dados!F17>=1,Dados!F17,"") -> 29 | G8: =IF(Dados!G17>=1,Dados!G17,"") | I8: =IF(#REF!>=1,#REF!,"") -> #REF! | J8: =IF(#REF!>=1,#REF!,"") -> #REF! | K8: =IF(#REF!>=1,#REF!,"") -> #REF! | L8: =IF(#REF!>=1,#REF!,"") -> #REF! | M8: =IF(#REF!>=1,#REF!,"") -> #REF! | N8: =IF(#REF!>=1,#REF!,"") -> #REF! | O8: =IF(#REF!>=1,#REF!,"") -> #REF! | P8: =IF(#REF!>=1,#REF!,"") -> #REF! | ... V8: =IF(#REF!>=1,#REF!,"") -> #REF! | W8: =IFERROR(AVERAGE(C8:V8),"") | X8: =IFERROR(MEDIAN(C8:V8),"") | Y8: =IFERROR(SMALL(C8:V8,1),"") | Z8: =IFERROR(LARGE(C8:V8,1),"") | AA8: =IFERROR(_xlfn.STDEV.P(C8:V8)/W8,"")
A9: =IF(Dados!A20>=1,Dados!A20,"") -> 17 | B9: =IF(Dados!B20>=1,Dados!B20,"") -> Camiseta Manga Curta Tam. 6 | C9: =IF(Dados!C20>=1,Dados!C20,"") -> 45 | D9: =IF(Dados!D20>=1,Dados!D20,"") -> 48 | E9: =IF(Dados!E20>=1,Dados!E20,"") -> 40 | F9: =IF(Dados!F20>=1,Dados!F20,"") -> 34.33 | G9: =IF(Dados!G20>=1,Dados!G20,"") -> 29 | I9: =IF(#REF!>=1,#REF!,"") -> #REF! | J9: =IF(#REF!>=1,#REF!,"") -> #REF! | K9: =IF(#REF!>=1,#REF!,"") -> #REF! | L9: =IF(#REF!>=1,#REF!,"") -> #REF! | M9: =IF(#REF!>=1,#REF!,"") -> #REF! | N9: =IF(#REF!>=1,#REF!,"") -> #REF! | O9: =IF(#REF!>=1,#REF!,"") -> #REF! | P9: =IF(#REF!>=1,#REF!,"") -> #REF! | ... V9: =IF(#REF!>=1,#REF!,"") -> #REF! | W9: =IFERROR(AVERAGE(C9:V9),"") | X9: =IFERROR(MEDIAN(C9:V9),"") | Y9: =IFERROR(SMALL(C9:V9,1),"") | Z9: =IFERROR(LARGE(C9:V9,1),"") | AA9: =IFERROR(_xlfn.STDEV.P(C9:V9)/W9,"")
A10: =IF(Dados!A23>=1,Dados!A23,"") -> 20 | B10: =IF(Dados!B23>=1,Dados!B23,"") -> Camiseta Manga Curta Tam. 12 | C10: =IF(Dados!C23>=1,Dados!C23,"") -> 53 | D10: =IF(Dados!D23>=1,Dados!D23,"") -> 56 | E10: =IF(Dados!E23>=1,Dados!E23,"") -> 48 | F10: =IF(Dados!F23>=1,Dados!F23,"") -> 34.33 | G10: =IF(Dados!G23>=1,Dados!G23,"") -> 35 | I10: =IF(#REF!>=1,#REF!,"") -> #REF! | J10: =IF(#REF!>=1,#REF!,"") -> #REF! | K10: =IF(#REF!>=1,#REF!,"") -> #REF! | L10: =IF(#REF!>=1,#REF!,"") -> #REF! | M10: =IF(#REF!>=1,#REF!,"") -> #REF! | N10: =IF(#REF!>=1,#REF!,"") -> #REF! | O10: =IF(#REF!>=1,#REF!,"") -> #REF! | P10: =IF(#REF!>=1,#REF!,"") -> #REF! | ... V10: =IF(#REF!>=1,#REF!,"") -> #REF! | W10: =IFERROR(AVERAGE(C10:V10),"") | X10: =IFERROR(MEDIAN(C10:V10),"") | Y10: =IFERROR(SMALL(C10:V10,1),"") | Z10: =IFERROR(LARGE(C10:V10,1),"") | AA10: =IFERROR(_xlfn.STDEV.P(C10:V10)/W10,"")
A11: =IF(Dados!A26>=1,Dados!A26,"") -> 23 | B11: =IF(Dados!B26>=1,Dados!B26,"") -> Camiseta Manga Curta Tam. P | C11: =IF(Dados!C26>=1,Dados!C26,"") -> 63 | D11: =IF(Dados!D26>=1,Dados!D26,"") -> 66 | E11: =IF(Dados!E26>=1,Dados!E26,"") -> 58 | F11: =IF(Dados!F26>=1,Dados!F26,"") -> 34.33 | G11: =IF(Dados!G26>=1,Dados!G26,"") -> 34.9 | H11: =Dados!H26 -> 51.246 | I11: =IF(#REF!>=1,#REF!,"") -> #REF! | J11: =IF(#REF!>=1,#REF!,"") -> #REF! | K11: =IF(#REF!>=1,#REF!,"") -> #REF! | L11: =IF(#REF!>=1,#REF!,"") -> #REF! | M11: =IF(#REF!>=1,#REF!,"") -> #REF! | N11: =IF(#REF!>=1,#REF!,"") -> #REF! | O11: =IF(#REF!>=1,#REF!,"") -> #REF! | P11: =IF(#REF!>=1,#REF!,"") -> #REF! | ... V11: =IF(#REF!>=1,#REF!,"") -> #REF! | W11: =IFERROR(AVERAGE(C11:V11),"") | X11: =IFERROR(MEDIAN(C11:V11),"") | Y11: =IFERROR(SMALL(C11:V11,1),"") | Z11: =IFERROR(LARGE(C11:V11,1),"") | AA11: =IFERROR(_xlfn.STDEV.P(C11:V11)/W11,"")
A12: =IF(Dados!A30>=1,Dados!A30,"") -> 27 | B12: =IF(Dados!B30>=1,Dados!B30,"") -> Bermuda Masculina Tam. 1 | C12: =IF(Dados!C30>=1,Dados!C30,"") -> 53 | D12: =IF(Dados!D30>=1,Dados!D30,"") -> 56 | E12: =IF(Dados!E30>=1,Dados!E30,"") -> 48 | F12: =IF(Dados!F30>=1,Dados!F30,"") | G12: =IF(Dados!G30>=1,Dados!G30,"") -> 41.9 | I12: =IF(#REF!>=1,#REF!,"") -> #REF! | J12: =IF(#REF!>=1,#REF!,"") -> #REF! | K12: =IF(#REF!>=1,#REF!,"") -> #REF! | L12: =IF(#REF!>=1,#REF!,"") -> #REF! | M12: =IF(#REF!>=1,#REF!,"") -> #REF! | N12: =IF(#REF!>=1,#REF!,"") -> #REF! | O12: =IF(#REF!>=1,#REF!,"") -> #REF! | P12: =IF(#REF!>=1,#REF!,"") -> #REF! | ... V12: =IF(#REF!>=1,#REF!,"") -> #REF! | W12: =IFERROR(AVERAGE(C12:V12),"") | X12: =IFERROR(MEDIAN(C12:V12),"") | Y12: =IFERROR(SMALL(C12:V12,1),"") | Z12: =IFERROR(LARGE(C12:V12,1),"") | AA12: =IFERROR(_xlfn.STDEV.P(C12:V12)/W12,"")
A13: =IF(Dados!A33>=1,Dados!A33,"") -> 30 | B13: =IF(Dados!B33>=1,Dados!B33,"") -> Bermuda Masculina Tam. 6 | C13: =IF(Dados!C33>=1,Dados!C33,"") -> 61 | D13: =IF(Dados!D33>=1,Dados!D33,"") -> 64 | E13: =IF(Dados!E33>=1,Dados!E33,"") -> 56 | F13: =IF(Dados!F33>=1,Dados!F33,"") -> 47 | G13: =IF(Dados!G33>=1,Dados!G33,"") -> 41.9 | I13: =IF(#REF!>=1,#REF!,"") -> #REF! | J13: =IF(#REF!>=1,#REF!,"") -> #REF! | K13: =IF(#REF!>=1,#REF!,"") -> #REF! | L13: =IF(#REF!>=1,#REF!,"") -> #REF! | M13: =IF(#REF!>=1,#REF!,"") -> #REF! | N13: =IF(#REF!>=1,#REF!,"") -> #REF! | O13: =IF(#REF!>=1,#REF!,"") -> #REF! | P13: =IF(#REF!>=1,#REF!,"") -> #REF! | ... V13: =IF(#REF!>=1,#REF!,"") -> #REF! | W13: =IFERROR(AVERAGE(C13:V13),"") | X13: =IFERROR(MEDIAN(C13:V13),"") | Y13: =IFERROR(SMALL(C13:V13,1),"") | Z13: =IFERROR(LARGE(C13:V13,1),"") | AA13: =IFERROR(_xlfn.STDEV.P(C13:V13)/W13,"")
A14: =IF(Dados!A36>=1,Dados!A36,"") -> 33 | B14: =IF(Dados!B36>=1,Dados!B36,"") -> Bermuda Masculina Tam. 12 | C14: =IF(Dados!C36>=1,Dados!C36,"") -> 77 | D14: =IF(Dados!D36>=1,Dados!D36,"") -> 80 | E14: =IF(Dados!E36>=1,Dados!E36,"") -> 72 | F14: =IF(Dados!F36>=1,Dados!F36,"") -> 47 | G14: =IF(Dados!G36>=1,Dados!G36,"") -> 41.9 | H14: =Dados!H36 -> 63.58 | I14: =IF(#REF!>=1,#REF!,"") -> #REF! | J14: =IF(#REF!>=1,#REF!,"") -> #REF! | K14: =IF(#REF!>=1,#REF!,"") -> #REF! | L14: =IF(#REF!>=1,#REF!,"") -> #REF! | M14: =IF(#REF!>=1,#REF!,"") -> #REF! | N14: =IF(#REF!>=1,#REF!,"") -> #REF! | O14: =IF(#REF!>=1,#REF!,"") -> #REF! | P14: =IF(#REF!>=1,#REF!,"") -> #REF! | ... V14: =IF(#REF!>=1,#REF!,"") -> #REF! | W14: =IFERROR(AVERAGE(C14:V14),"") | X14: =IFERROR(MEDIAN(C14:V14),"") | Y14: =IFERROR(SMALL(C14:V14,1),"") | Z14: =IFERROR(LARGE(C14:V14,1),"") | AA14: =IFERROR(_xlfn.STDEV.P(C14:V14)/W14,"")
A15: =IF(Dados!A39>=1,Dados!A39,"") -> 36 | B15: =IF(Dados!B39>=1,Dados!B39,"") -> Bermuda Masculina Tam. P | C15: =IF(Dados!C39>=1,Dados!C39,"") -> 104 | D15: =IF(Dados!D39>=1,Dados!D39,"") -> 107 | E15: =IF(Dados!E39>=1,Dados!E39,"") -> 99 | F15: =IF(Dados!F39>=1,Dados!F39,"") -> 47 | G15: =IF(Dados!G39>=1,Dados!G39,"") -> 41.9 | I15: =IF(#REF!>=1,#REF!,"") -> #REF! | J15: =IF(#REF!>=1,#REF!,"") -> #REF! | K15: =IF(#REF!>=1,#REF!,"") -> #REF! | L15: =IF(#REF!>=1,#REF!,"") -> #REF! | M15: =IF(#REF!>=1,#REF!,"") -> #REF! | N15: =IF(#REF!>=1,#REF!,"") -> #REF! | O15: =IF(#REF!>=1,#REF!,"") -> #REF! | P15: =IF(#REF!>=1,#REF!,"") -> #REF! | ... V15: =IF(#REF!>=1,#REF!,"") -> #REF! | W15: =IFERROR(AVERAGE(C15:V15),"") | X15: =IFERROR(MEDIAN(C15:V15),"") | Y15: =IFERROR(SMALL(C15:V15,1),"") | Z15: =IFERROR(LARGE(C15:V15,1),"") | AA15: =IFERROR(_xlfn.STDEV.P(C15:V15)/W15,"")
A16: =IF(Dados!A43>=1,Dados!A43,"") -> 40 | B16: =IF(Dados!B43>=1,Dados!B43,"") -> Calça Masculina Tam. 1 | C16: =IF(Dados!C43>=1,Dados!C43,"") -> 56 | D16: =IF(Dados!D43>=1,Dados!D43,"") -> 59 | E16: =IF(Dados!E43>=1,Dados!E43,"") -> 51 | F16: =IF(Dados!F43>=1,Dados!F43,"") -> 31.95 | G16: =IF(Dados!G43>=1,Dados!G43,"") | J16: =IF(#REF!>=1,#REF!,"") -> #REF! | K16: =IF(#REF!>=1,#REF!,"") -> #REF! | L16: =IF(#REF!>=1,#REF!,"") -> #REF! | M16: =IF(#REF!>=1,#REF!,"") -> #REF! | N16: =IF(#REF!>=1,#REF!,"") -> #REF! | O16: =IF(#REF!>=1,#REF!,"") -> #REF! | P16: =IF(#REF!>=1,#REF!,"") -> #REF! | Q16: =IF(#REF!>=1,#REF!,"") -> #REF! | ... V16: =IF(#REF!>=1,#REF!,"") -> #REF! | W16: =IFERROR(AVERAGE(C16:V16),"") | X16: =IFERROR(MEDIAN(C16:V16),"") | Y16: =IFERROR(SMALL(C16:V16,1),"") | Z16: =IFERROR(LARGE(C16:V16,1),"") | AA16: =IFERROR(_xlfn.STDEV.P(C16:V16)/W16,"")
A17: =IF(Dados!A46>=1,Dados!A46,"") -> 43 | B17: =IF(Dados!B46>=1,Dados!B46,"") -> Calça Masculina Tam. 6 | C17: =IF(Dados!C46>=1,Dados!C46,"") -> 65 | D17: =IF(Dados!D46>=1,Dados!D46,"") -> 68 | E17: =IF(Dados!E46>=1,Dados!E46,"") -> 60 | F17: =IF(Dados!F46>=1,Dados!F46,"") -> 59.67 | G17: =IF(Dados!G46>=1,Dados!G46,"") -> 59.19 | I17: =IF(#REF!>=1,#REF!,"") -> #REF! | J17: =IF(#REF!>=1,#REF!,"") -> #REF! | K17: =IF(#REF!>=1,#REF!,"") -> #REF! | L17: =IF(#REF!>=1,#REF!,"") -> #REF! | M17: =IF(#REF!>=1,#REF!,"") -> #REF! | N17: =IF(#REF!>=1,#REF!,"") -> #REF! | O17: =IF(#REF!>=1,#REF!,"") -> #REF! | P17: =IF(#REF!>=1,#REF!,"") -> #REF! | ... V17: =IF(#REF!>=1,#REF!,"") -> #REF! | W17: =IFERROR(AVERAGE(C17:V17),"") | X17: =IFERROR(MEDIAN(C17:V17),"") | Y17: =IFERROR(SMALL(C17:V17,1),"") | Z17: =IFERROR(LARGE(C17:V17,1),"") | AA17: =IFERROR(_xlfn.STDEV.P(C17:V17)/W17,"")
A18: =IF(Dados!A49>=1,Dados!A49,"") -> 46 | B18: =IF(Dados!B49>=1,Dados!B49,"") -> Calça Masculina Tam. 12 | C18: =IF(Dados!C49>=1,Dados!C49,"") -> 82 | D18: =IF(Dados!D49>=1,Dados!D49,"") -> 85 | E18: =IF(Dados!E49>=1,Dados!E49,"") -> 77 | F18: =IF(Dados!F49>=1,Dados!F49,"") -> 59.67 | G18: =IF(Dados!G49>=1,Dados!G49,"") -> 59.19 | I18: =IF(#REF!>=1,#REF!,"") -> #REF! | J18: =IF(#REF!>=1,#REF!,"") -> #REF! | K18: =IF(#REF!>=1,#REF!,"") -> #REF! | L18: =IF(#REF!>=1,#REF!,"") -> #REF! | M18: =IF(#REF!>=1,#REF!,"") -> #REF! | N18: =IF(#REF!>=1,#REF!,"") -> #REF! | O18: =IF(#REF!>=1,#REF!,"") -> #REF! | P18: =IF(#REF!>=1,#REF!,"") -> #REF! | ... V18: =IF(#REF!>=1,#REF!,"") -> #REF! | W18: =IFERROR(AVERAGE(C18:V18),"") | X18: =IFERROR(MEDIAN(C18:V18),"") | Y18: =IFERROR(SMALL(C18:V18,1),"") | Z18: =IFERROR(LARGE(C18:V18,1),"") | AA18: =IFERROR(_xlfn.STDEV.P(C18:V18)/W18,"")
A19: =IF(Dados!A52>=1,Dados!A52,"") -> 49 | B19: =IF(Dados!B52>=1,Dados!B52,"") -> Calça Masculina Tam. P | C19: =IF(Dados!C52>=1,Dados!C52,"") -> 113 | D19: =IF(Dados!D52>=1,Dados!D52,"") -> 116 | E19: =IF(Dados!E52>=1,Dados!E52,"") -> 108 | F19: =IF(Dados!F52>=1,Dados!F52,"") -> 59.67 | G19: =IF(Dados!G52>=1,Dados!G52,"") -> 59.19 | H19: =Dados!H52 -> 91.172 | I19: =IF(#REF!>=1,#REF!,"") -> #REF! | J19: =IF(#REF!>=1,#REF!,"") -> #REF! | K19: =IF(#REF!>=1,#REF!,"") -> #REF! | L19: =IF(#REF!>=1,#REF!,"") -> #REF! | M19: =IF(#REF!>=1,#REF!,"") -> #REF! | N19: =IF(#REF!>=1,#REF!,"") -> #REF! | O19: =IF(#REF!>=1,#REF!,"") -> #REF! | P19: =IF(#REF!>=1,#REF!,"") -> #REF! | ... V19: =IF(#REF!>=1,#REF!,"") -> #REF! | W19: =IFERROR(AVERAGE(C19:V19),"") | X19: =IFERROR(MEDIAN(C19:V19),"") | Y19: =IFERROR(SMALL(C19:V19,1),"") | Z19: =IFERROR(LARGE(C19:V19,1),"") | AA19: =IFERROR(_xlfn.STDEV.P(C19:V19)/W19,"")
A20: =IF(Dados!A56>=1,Dados!A56,"") -> 53 | B20: =IF(Dados!B56>=1,Dados!B56,"") -> Calça Legging Feminina Tam. 1 | C20: =IF(Dados!C56>=1,Dados!C56,"") -> 58 | D20: =IF(Dados!D56>=1,Dados!D56,"") -> 61 | E20: =IF(Dados!E56>=1,Dados!E56,"") -> 53 | F20: =IF(Dados!F56>=1,Dados!F56,"") -> 61.9 | G20: =IF(Dados!G56>=1,Dados!G56,"") | H20: =Dados!H56 -> 58.475 | I20: =IF(#REF!>=1,#REF!,"") -> #REF! | J20: =IF(#REF!>=1,#REF!,"") -> #REF! | K20: =IF(#REF!>=1,#REF!,"") -> #REF! | L20: =IF(#REF!>=1,#REF!,"") -> #REF! | M20: =IF(#REF!>=1,#REF!,"") -> #REF! | N20: =IF(#REF!>=1,#REF!,"") -> #REF! | O20: =IF(#REF!>=1,#REF!,"") -> #REF! | P20: =IF(#REF!>=1,#REF!,"") -> #REF! | ... V20: =IF(#REF!>=1,#REF!,"") -> #REF! | W20: =IFERROR(AVERAGE(C20:V20),"") | X20: =IFERROR(MEDIAN(C20:V20),"") | Y20: =IFERROR(SMALL(C20:V20,1),"") | Z20: =IFERROR(LARGE(C20:V20,1),"") | AA20: =IFERROR(_xlfn.STDEV.P(C20:V20)/W20,"")
A21: =IF(Dados!A59>=1,Dados!A59,"") -> 56 | B21: =IF(Dados!B59>=1,Dados!B59,"") -> Calça Legging Feminina Tam. 6 | C21: =IF(Dados!C59>=1,Dados!C59,"") -> 72 | D21: =IF(Dados!D59>=1,Dados!D59,"") -> 75 | E21: =IF(Dados!E59>=1,Dados!E59,"") -> 67 | F21: =IF(Dados!F59>=1,Dados!F59,"") -> 61.9 | G21: =IF(Dados!G59>=1,Dados!G59,"") -> 65.52 | H21: =Dados!H59 -> 68.284 | I21: =IF(#REF!>=1,#REF!,"") -> #REF! | J21: =IF(#REF!>=1,#REF!,"") -> #REF! | K21: =IF(#REF!>=1,#REF!,"") -> #REF! | L21: =IF(#REF!>=1,#REF!,"") -> #REF! | M21: =IF(#REF!>=1,#REF!,"") -> #REF! | N21: =IF(#REF!>=1,#REF!,"") -> #REF! | O21: =IF(#REF!>=1,#REF!,"") -> #REF! | P21: =IF(#REF!>=1,#REF!,"") -> #REF! | ... V21: =IF(#REF!>=1,#REF!,"") -> #REF! | W21: =IFERROR(AVERAGE(C21:V21),"") | X21: =IFERROR(MEDIAN(C21:V21),"") | Y21: =IFERROR(SMALL(C21:V21,1),"") | Z21: =IFERROR(LARGE(C21:V21,1),"") | AA21: =IFERROR(_xlfn.STDEV.P(C21:V21)/W21,"")
A22: =IF(Dados!A62>=1,Dados!A62,"") -> 59 | B22: =IF(Dados!B62>=1,Dados!B62,"") -> Calça Legging Feminina Tam. 12 | C22: =IF(Dados!C62>=1,Dados!C62,"") -> 90 | D22: =IF(Dados!D62>=1,Dados!D62,"") -> 93 | E22: =IF(Dados!E62>=1,Dados!E62,"") -> 85 | F22: =IF(Dados!F62>=1,Dados!F62,"") -> 61.9 | G22: =IF(Dados!G62>=1,Dados!G62,"") -> 65.52 | H22: =Dados!H62 -> 79.084 | I22: =IF(#REF!>=1,#REF!,"") -> #REF! | J22: =IF(#REF!>=1,#REF!,"") -> #REF! | K22: =IF(#REF!>=1,#REF!,"") -> #REF! | L22: =IF(#REF!>=1,#REF!,"") -> #REF! | M22: =IF(#REF!>=1,#REF!,"") -> #REF! | N22: =IF(#REF!>=1,#REF!,"") -> #REF! | O22: =IF(#REF!>=1,#REF!,"") -> #REF! | P22: =IF(#REF!>=1,#REF!,"") -> #REF! | ... V22: =IF(#REF!>=1,#REF!,"") -> #REF! | W22: =IFERROR(AVERAGE(C22:V22),"") | X22: =IFERROR(MEDIAN(C22:V22),"") | Y22: =IFERROR(SMALL(C22:V22,1),"") | Z22: =IFERROR(LARGE(C22:V22,1),"") | AA22: =IFERROR(_xlfn.STDEV.P(C22:V22)/W22,"")
A23: =IF(Dados!A65>=1,Dados!A65,"") -> 62 | B23: =IF(Dados!B65>=1,Dados!B65,"") -> Calça Legging Feminina Tam. P | C23: =IF(Dados!C65>=1,Dados!C65,"") -> 107 | D23: =IF(Dados!D65>=1,Dados!D65,"") -> 110 | E23: =IF(Dados!E65>=1,Dados!E65,"") -> 102 | F23: =IF(Dados!F65>=1,Dados!F65,"") -> 61.9 | G23: =IF(Dados!G65>=1,Dados!G65,"") -> 65.52 | I23: =IF(#REF!>=1,#REF!,"") -> #REF! | J23: =IF(#REF!>=1,#REF!,"") -> #REF! | K23: =IF(#REF!>=1,#REF!,"") -> #REF! | L23: =IF(#REF!>=1,#REF!,"") -> #REF! | M23: =IF(#REF!>=1,#REF!,"") -> #REF! | N23: =IF(#REF!>=1,#REF!,"") -> #REF! | O23: =IF(#REF!>=1,#REF!,"") -> #REF! | P23: =IF(#REF!>=1,#REF!,"") -> #REF! | ... V23: =IF(#REF!>=1,#REF!,"") -> #REF! | W23: =IFERROR(AVERAGE(C23:V23),"") | X23: =IFERROR(MEDIAN(C23:V23),"") | Y23: =IFERROR(SMALL(C23:V23,1),"") | Z23: =IFERROR(LARGE(C23:V23,1),"") | AA23: =IFERROR(_xlfn.STDEV.P(C23:V23)/W23,"")
A24: =IF(Dados!A68>=1,Dados!A68,"") -> 65 | B24: =IF(Dados!B68>=1,Dados!B68,"") -> Shorts Saia Feminino Tam. 1 | C24: =IF(Dados!C68>=1,Dados!C68,"") -> 73 | D24: =IF(Dados!D68>=1,Dados!D68,"") -> 76 | F24: =IF(Dados!F69>=1,Dados!F69,"") -> 29 | G24: =IF(Dados!G68>=1,Dados!G68,"") -> 35 | I24: =IF(#REF!>=1,#REF!,"") -> #REF! | J24: =IF(#REF!>=1,#REF!,"") -> #REF! | K24: =IF(#REF!>=1,#REF!,"") -> #REF! | L24: =IF(#REF!>=1,#REF!,"") -> #REF! | M24: =IF(#REF!>=1,#REF!,"") -> #REF! | N24: =IF(#REF!>=1,#REF!,"") -> #REF! | O24: =IF(#REF!>=1,#REF!,"") -> #REF! | P24: =IF(#REF!>=1,#REF!,"") -> #REF! | ... V24: =IF(#REF!>=1,#REF!,"") -> #REF! | W24: =IFERROR(AVERAGE(C24:V24),"") | X24: =IFERROR(MEDIAN(C24:V24),"") | Y24: =IFERROR(SMALL(C24:V24,1),"") | Z24: =IFERROR(LARGE(C24:V24,1),"") | AA24: =IFERROR(_xlfn.STDEV.P(C24:V24)/W24,"")
A25: =IF(Dados!A71>=1,Dados!A71,"") -> 68 | B25: =IF(Dados!B71>=1,Dados!B71,"") -> Shorts Saia Feminino Tam. 6 | C25: =IF(Dados!C71>=1,Dados!C71,"") -> 94 | D25: =IF(Dados!D71>=1,Dados!D71,"") -> 97 | E25: =IF(Dados!E71>=1,Dados!E71,"") -> 89 | F25: =IF(Dados!F72>=1,Dados!F72,"") -> 29 | G25: =IF(Dados!G71>=1,Dados!G71,"") -> 35 | H25: =Dados!H71 -> 68.8 | I25: =IF(#REF!>=1,#REF!,"") -> #REF! | J25: =IF(#REF!>=1,#REF!,"") -> #REF! | K25: =IF(#REF!>=1,#REF!,"") -> #REF! | L25: =IF(#REF!>=1,#REF!,"") -> #REF! | M25: =IF(#REF!>=1,#REF!,"") -> #REF! | N25: =IF(#REF!>=1,#REF!,"") -> #REF! | O25: =IF(#REF!>=1,#REF!,"") -> #REF! | P25: =IF(#REF!>=1,#REF!,"") -> #REF! | ... V25: =IF(#REF!>=1,#REF!,"") -> #REF! | W25: =IFERROR(AVERAGE(C25:V25),"") | X25: =IFERROR(MEDIAN(C25:V25),"") | Y25: =IFERROR(SMALL(C25:V25,1),"") | Z25: =IFERROR(LARGE(C25:V25,1),"") | AA25: =IFERROR(_xlfn.STDEV.P(C25:V25)/W25,"")
A26: =IF(Dados!A74>=1,Dados!A74,"") -> 71 | B26: =IF(Dados!B74>=1,Dados!B74,"") -> Shorts Saia Feminino Tam. 12 | C26: =IF(Dados!C74>=1,Dados!C74,"") | D26: =IF(Dados!D74>=1,Dados!D74,"") -> 117 | E26: =IF(Dados!E74>=1,Dados!E74,"") -> 109 | F26: =IF(Dados!F75>=1,Dados!F75,"") -> 30.99 | G26: =IF(Dados!G74>=1,Dados!G74,"") -> 35 | I26: =IF(#REF!>=1,#REF!,"") -> #REF! | J26: =IF(#REF!>=1,#REF!,"") -> #REF! | K26: =IF(#REF!>=1,#REF!,"") -> #REF! | L26: =IF(#REF!>=1,#REF!,"") -> #REF! | M26: =IF(#REF!>=1,#REF!,"") -> #REF! | N26: =IF(#REF!>=1,#REF!,"") -> #REF! | O26: =IF(#REF!>=1,#REF!,"") -> #REF! | P26: =IF(#REF!>=1,#REF!,"") -> #REF! | ... V26: =IF(#REF!>=1,#REF!,"") -> #REF! | W26: =IFERROR(AVERAGE(C26:V26),"") | X26: =IFERROR(MEDIAN(C26:V26),"") | Y26: =IFERROR(SMALL(C26:V26,1),"") | Z26: =IFERROR(LARGE(C26:V26,1),"") | AA26: =IFERROR(_xlfn.STDEV.P(C26:V26)/W26,"")
A27: =IF(#REF!>=1,#REF!,"") -> #REF! | B27: =IF(#REF!>=1,#REF!,"") -> #REF! | C27: =IF(#REF!>=1,#REF!,"") -> #REF! | D27: =IF(#REF!>=1,#REF!,"") -> #REF! | E27: =IF(#REF!>=1,#REF!,"") -> #REF! | F27: =IF(#REF!>=1,#REF!,"") -> #REF! | G27: =IF(#REF!>=1,#REF!,"") -> #REF! | I27: =IF(#REF!>=1,#REF!,"") -> #REF! | J27: =IF(#REF!>=1,#REF!,"") -> #REF! | K27: =IF(#REF!>=1,#REF!,"") -> #REF! | L27: =IF(#REF!>=1,#REF!,"") -> #REF! | M27: =IF(#REF!>=1,#REF!,"") -> #REF! | N27: =IF(#REF!>=1,#REF!,"") -> #REF! | O27: =IF(#REF!>=1,#REF!,"") -> #REF! | P27: =IF(#REF!>=1,#REF!,"") -> #REF! | ... V27: =IF(#REF!>=1,#REF!,"") -> #REF! | W27: =IFERROR(AVERAGE(C27:V27),"") | X27: =IFERROR(MEDIAN(C27:V27),"") | Y27: =IFERROR(SMALL(C27:V27,1),"") | Z27: =IFERROR(LARGE(C27:V27,1),"") | AA27: =IFERROR(_xlfn.STDEV.P(C27:V27)/W27,"")
A28: =IF(Dados!A77>=1,Dados!A77,"") -> 74 | B28: =IF(Dados!B77>=1,Dados!B77,"") -> Bermuda Legging Feminina Tam. 1 | C28: =IF(Dados!C77>=1,Dados!C77,"") | D28: =IF(Dados!D77>=1,Dados!D77,"") -> 49 | E28: =IF(Dados!E77>=1,Dados!E77,"") -> 41 | F28: =IF(Dados!F77>=1,Dados!F77,"") -> 28 | G28: =IF(Dados!G77>=1,Dados!G77,"") -> 27 | I28: =IF(#REF!>=1,#REF!,"") -> #REF! | J28: =IF(#REF!>=1,#REF!,"") -> #REF! | K28: =IF(#REF!>=1,#REF!,"") -> #REF! | L28: =IF(#REF!>=1,#REF!,"") -> #REF! | M28: =IF(#REF!>=1,#REF!,"") -> #REF! | N28: =IF(#REF!>=1,#REF!,"") -> #REF! | O28: =IF(#REF!>=1,#REF!,"") -> #REF! | P28: =IF(#REF!>=1,#REF!,"") -> #REF! | ... V28: =IF(#REF!>=1,#REF!,"") -> #REF! | W28: =IFERROR(AVERAGE(C28:V28),"") | X28: =IFERROR(MEDIAN(C28:V28),"") | Y28: =IFERROR(SMALL(C28:V28,1),"") | Z28: =IFERROR(LARGE(C28:V28,1),"") | AA28: =IFERROR(_xlfn.STDEV.P(C28:V28)/W28,"")
A29: =IF(Dados!A80>=1,Dados!A80,"") -> 77 | B29: =IF(Dados!B80>=1,Dados!B80,"") -> Bermuda Legging Feminina Tam. 6 | C29: =IF(Dados!C80>=1,Dados!C80,"") | D29: =IF(Dados!D80>=1,Dados!D80,"") -> 60 | E29: =IF(Dados!E80>=1,Dados!E80,"") -> 52 | F29: =IF(Dados!F80>=1,Dados!F80,"") -> 30 | G29: =IF(Dados!G80>=1,Dados!G80,"") -> 27 | I29: =IF(#REF!>=1,#REF!,"") -> #REF! | J29: =IF(#REF!>=1,#REF!,"") -> #REF! | K29: =IF(#REF!>=1,#REF!,"") -> #REF! | L29: =IF(#REF!>=1,#REF!,"") -> #REF! | M29: =IF(#REF!>=1,#REF!,"") -> #REF! | N29: =IF(#REF!>=1,#REF!,"") -> #REF! | O29: =IF(#REF!>=1,#REF!,"") -> #REF! | P29: =IF(#REF!>=1,#REF!,"") -> #REF! | ... V29: =IF(#REF!>=1,#REF!,"") -> #REF! | W29: =IFERROR(AVERAGE(C29:V29),"") | X29: =IFERROR(MEDIAN(C29:V29),"") | Y29: =IFERROR(SMALL(C29:V29,1),"") | Z29: =IFERROR(LARGE(C29:V29,1),"") | AA29: =IFERROR(_xlfn.STDEV.P(C29:V29)/W29,"")
A30: =IF(Dados!A83>=1,Dados!A83,"") -> 80 | B30: =IF(Dados!B83>=1,Dados!B83,"") -> Bermuda Legging Feminina Tam. 12 | C30: =IF(Dados!C83>=1,Dados!C83,"") -> 73 | D30: =IF(Dados!D83>=1,Dados!D83,"") -> 76 | E30: =IF(Dados!E83>=1,Dados!E83,"") -> 68 | F30: =IF(Dados!F83>=1,Dados!F83,"") -> 38 | G30: =IF(Dados!G83>=1,Dados!G83,"") -> 28 | I30: =IF(#REF!>=1,#REF!,"") -> #REF! | J30: =IF(#REF!>=1,#REF!,"") -> #REF! | K30: =IF(#REF!>=1,#REF!,"") -> #REF! | L30: =IF(#REF!>=1,#REF!,"") -> #REF! | M30: =IF(#REF!>=1,#REF!,"") -> #REF! | N30: =IF(#REF!>=1,#REF!,"") -> #REF! | O30: =IF(#REF!>=1,#REF!,"") -> #REF! | P30: =IF(#REF!>=1,#REF!,"") -> #REF! | ... V30: =IF(#REF!>=1,#REF!,"") -> #REF! | W30: =IFERROR(AVERAGE(C30:V30),"") | X30: =IFERROR(MEDIAN(C30:V30),"") | Y30: =IFERROR(SMALL(C30:V30,1),"") | Z30: =IFERROR(LARGE(C30:V30,1),"") | AA30: =IFERROR(_xlfn.STDEV.P(C30:V30)/W30,"")
A31: =IF(Dados!A86>=1,Dados!A86,"") -> 83 | B31: =IF(Dados!B86>=1,Dados!B86,"") -> Bermuda Legging Feminina Tam. P | C31: =IF(Dados!C86>=1,Dados!C86,"") -> 88 | D31: =IF(Dados!D86>=1,Dados!D86,"") -> 91 | E31: =IF(Dados!E86>=1,Dados!E86,"") -> 83 | F31: =IF(Dados!F86>=1,Dados!F86,"") -> 55 | G31: =IF(Dados!G86>=1,Dados!G86,"") -> 29 | I31: =IF(#REF!>=1,#REF!,"") -> #REF! | J31: =IF(#REF!>=1,#REF!,"") -> #REF! | K31: =IF(#REF!>=1,#REF!,"") -> #REF! | L31: =IF(#REF!>=1,#REF!,"") -> #REF! | M31: =IF(#REF!>=1,#REF!,"") -> #REF! | N31: =IF(#REF!>=1,#REF!,"") -> #REF! | O31: =IF(#REF!>=1,#REF!,"") -> #REF! | P31: =IF(#REF!>=1,#REF!,"") -> #REF! | ... V31: =IF(#REF!>=1,#REF!,"") -> #REF! | W31: =IFERROR(AVERAGE(C31:V31),"") | X31: =IFERROR(MEDIAN(C31:V31),"") | Y31: =IFERROR(SMALL(C31:V31,1),"") | Z31: =IFERROR(LARGE(C31:V31,1),"") | AA31: =IFERROR(_xlfn.STDEV.P(C31:V31)/W31,"")
A32: =IF(Dados!A89>=1,Dados!A89,"") -> 86 | B32: =IF(Dados!B89>=1,Dados!B89,"") -> Jaqueta Tam. 1 | C32: =IF(Dados!C89>=1,Dados!C89,"") | D32: =IF(Dados!D89>=1,Dados!D89,"") -> 103 | E32: =IF(Dados!E89>=1,Dados!E89,"") -> 95 | F32: =IF(Dados!F89>=1,Dados!F89,"") -> 70 | G32: =IF(Dados!G89>=1,Dados!G89,"") -> 90.4 | I32: =IF(#REF!>=1,#REF!,"") -> #REF! | J32: =IF(#REF!>=1,#REF!,"") -> #REF! | K32: =IF(#REF!>=1,#REF!,"") -> #REF! | L32: =IF(#REF!>=1,#REF!,"") -> #REF! | M32: =IF(#REF!>=1,#REF!,"") -> #REF! | N32: =IF(#REF!>=1,#REF!,"") -> #REF! | O32: =IF(#REF!>=1,#REF!,"") -> #REF! | P32: =IF(#REF!>=1,#REF!,"") -> #REF! | ... V32: =IF(#REF!>=1,#REF!,"") -> #REF! | W32: =IFERROR(AVERAGE(C32:V32),"") | X32: =IFERROR(MEDIAN(C32:V32),"") | Y32: =IFERROR(SMALL(C32:V32,1),"") | Z32: =IFERROR(LARGE(C32:V32,1),"") | AA32: =IFERROR(_xlfn.STDEV.P(C32:V32)/W32,"")
A33: =IF(Dados!A92>=1,Dados!A92,"") -> 89 | B33: =IF(Dados!B92>=1,Dados!B92,"") -> Jaqueta Tam. 6 | C33: =IF(Dados!C92>=1,Dados!C92,"") | D33: =IF(Dados!D92>=1,Dados!D92,"") -> 123 | E33: =IF(Dados!E92>=1,Dados!E92,"") -> 115 | F33: =IF(Dados!F92>=1,Dados!F92,"") -> 75 | G33: =IF(Dados!G92>=1,Dados!G92,"") -> 90.4 | I33: =IF(#REF!>=1,#REF!,"") -> #REF! | J33: =IF(#REF!>=1,#REF!,"") -> #REF! | K33: =IF(#REF!>=1,#REF!,"") -> #REF! | L33: =IF(#REF!>=1,#REF!,"") -> #REF! | M33: =IF(#REF!>=1,#REF!,"") -> #REF! | N33: =IF(#REF!>=1,#REF!,"") -> #REF! | O33: =IF(#REF!>=1,#REF!,"") -> #REF! | P33: =IF(#REF!>=1,#REF!,"") -> #REF! | ... V33: =IF(#REF!>=1,#REF!,"") -> #REF! | W33: =IFERROR(AVERAGE(C33:V33),"") | X33: =IFERROR(MEDIAN(C33:V33),"") | Y33: =IFERROR(SMALL(C33:V33,1),"") | Z33: =IFERROR(LARGE(C33:V33,1),"") | AA33: =IFERROR(_xlfn.STDEV.P(C33:V33)/W33,"")
A34: =IF(Dados!A95>=1,Dados!A95,"") -> 92 | B34: =IF(Dados!B95>=1,Dados!B95,"") -> Jaqueta Tam. 12 | C34: =IF(Dados!C95>=1,Dados!C95,"") -> 144 | D34: =IF(Dados!D95>=1,Dados!D95,"") -> 147 | E34: =IF(Dados!E95>=1,Dados!E95,"") -> 139 | F34: =IF(Dados!F95>=1,Dados!F95,"") -> 78 | G34: =IF(Dados!G95>=1,Dados!G95,"") -> 113.55 | I34: =IF(#REF!>=1,#REF!,"") -> #REF! | J34: =IF(#REF!>=1,#REF!,"") -> #REF! | K34: =IF(#REF!>=1,#REF!,"") -> #REF! | L34: =IF(#REF!>=1,#REF!,"") -> #REF! | M34: =IF(#REF!>=1,#REF!,"") -> #REF! | N34: =IF(#REF!>=1,#REF!,"") -> #REF! | O34: =IF(#REF!>=1,#REF!,"") -> #REF! | P34: =IF(#REF!>=1,#REF!,"") -> #REF! | ... V34: =IF(#REF!>=1,#REF!,"") -> #REF! | W34: =IFERROR(AVERAGE(C34:V34),"") | X34: =IFERROR(MEDIAN(C34:V34),"") | Y34: =IFERROR(SMALL(C34:V34,1),"") | Z34: =IFERROR(LARGE(C34:V34,1),"") | AA34: =IFERROR(_xlfn.STDEV.P(C34:V34)/W34,"")
A35: =IF(Dados!A98>=1,Dados!A98,"") -> 95 | B35: =IF(Dados!B98>=1,Dados!B98,"") -> Jaqueta Tam. P | C35: =IF(Dados!C98>=1,Dados!C98,"") -> 160 | D35: =IF(Dados!D98>=1,Dados!D98,"") -> 163 | E35: =IF(Dados!E98>=1,Dados!E98,"") -> 155 | F35: =IF(Dados!F98>=1,Dados!F98,"") -> 90 | G35: =IF(Dados!G98>=1,Dados!G98,"") -> 127.88 | I35: =IF(#REF!>=1,#REF!,"") -> #REF! | J35: =IF(#REF!>=1,#REF!,"") -> #REF! | K35: =IF(#REF!>=1,#REF!,"") -> #REF! | L35: =IF(#REF!>=1,#REF!,"") -> #REF! | M35: =IF(#REF!>=1,#REF!,"") -> #REF! | N35: =IF(#REF!>=1,#REF!,"") -> #REF! | O35: =IF(#REF!>=1,#REF!,"") -> #REF! | P35: =IF(#REF!>=1,#REF!,"") -> #REF! | ... V35: =IF(#REF!>=1,#REF!,"") -> #REF! | W35: =IFERROR(AVERAGE(C35:V35),"") | X35: =IFERROR(MEDIAN(C35:V35),"") | Y35: =IFERROR(SMALL(C35:V35,1),"") | Z35: =IFERROR(LARGE(C35:V35,1),"") | AA35: =IFERROR(_xlfn.STDEV.P(C35:V35)/W35,"")
A36: =IF(Dados!A100>=1,Dados!A100,"") -> 97 | B36: =IF(Dados!B100>=1,Dados!B100,"") -> Jaqueta Tam. G | C36: =IF(Dados!C100>=1,Dados!C100,"") -> 160 | D36: =IF(Dados!D100>=1,Dados!D100,"") | E36: =IF(Dados!E100>=1,Dados!E100,"") -> 155 | F36: =IF(Dados!F100>=1,Dados!F100,"") -> 90 | G36: =IF(Dados!G100>=1,Dados!G100,"") -> 127.88 | I36: =IF(#REF!>=1,#REF!,"") -> #REF! | J36: =IF(#REF!>=1,#REF!,"") -> #REF! | K36: =IF(#REF!>=1,#REF!,"") -> #REF! | L36: =IF(#REF!>=1,#REF!,"") -> #REF! | M36: =IF(#REF!>=1,#REF!,"") -> #REF! | N36: =IF(#REF!>=1,#REF!,"") -> #REF! | O36: =IF(#REF!>=1,#REF!,"") -> #REF! | P36: =IF(#REF!>=1,#REF!,"") -> #REF! | ... V36: =IF(#REF!>=1,#REF!,"") -> #REF! | W36: =IFERROR(AVERAGE(C36:V36),"") | X36: =IFERROR(MEDIAN(C36:V36),"") | Y36: =IFERROR(SMALL(C36:V36,1),"") | Z36: =IFERROR(LARGE(C36:V36,1),"") | AA36: =IFERROR(_xlfn.STDEV.P(C36:V36)/W36,"")
A37: =IF(#REF!>=1,#REF!,"") -> #REF! | B37: =IF(#REF!>=1,#REF!,"") -> #REF! | C37: =IF(#REF!>=1,#REF!,"") -> #REF! | D37: =IF(#REF!>=1,#REF!,"") -> #REF! | E37: =IF(#REF!>=1,#REF!,"") -> #REF! | F37: =IF(#REF!>=1,#REF!,"") -> #REF! | G37: =IF(#REF!>=1,#REF!,"") -> #REF! | I37: =IF(#REF!>=1,#REF!,"") -> #REF! | J37: =IF(#REF!>=1,#REF!,"") -> #REF! | K37: =IF(#REF!>=1,#REF!,"") -> #REF! | L37: =IF(#REF!>=1,#REF!,"") -> #REF! | M37: =IF(#REF!>=1,#REF!,"") -> #REF! | N37: =IF(#REF!>=1,#REF!,"") -> #REF! | O37: =IF(#REF!>=1,#REF!,"") -> #REF! | P37: =IF(#REF!>=1,#REF!,"") -> #REF! | ... V37: =IF(#REF!>=1,#REF!,"") -> #REF! | W37: =IFERROR(AVERAGE(C37:V37),"") | X37: =IFERROR(MEDIAN(C37:V37),"") | Y37: =IFERROR(SMALL(C37:V37,1),"") | Z37: =IFERROR(LARGE(C37:V37,1),"") | AA37: =IFERROR(_xlfn.STDEV.P(C37:V37)/W37,"")
A38: =IF(#REF!>=1,#REF!,"") -> #REF! | B38: =IF(#REF!>=1,#REF!,"") -> #REF! | C38: =IF(#REF!>=1,#REF!,"") -> #REF! | D38: =IF(#REF!>=1,#REF!,"") -> #REF! | E38: =IF(#REF!>=1,#REF!,"") -> #REF! | F38: =IF(#REF!>=1,#REF!,"") -> #REF! | G38: =IF(#REF!>=1,#REF!,"") -> #REF! | I38: =IF(#REF!>=1,#REF!,"") -> #REF! | J38: =IF(#REF!>=1,#REF!,"") -> #REF! | K38: =IF(#REF!>=1,#REF!,"") -> #REF! | L38: =IF(#REF!>=1,#REF!,"") -> #REF! | M38: =IF(#REF!>=1,#REF!,"") -> #REF! | N38: =IF(#REF!>=1,#REF!,"") -> #REF! | O38: =IF(#REF!>=1,#REF!,"") -> #REF! | P38: =IF(#REF!>=1,#REF!,"") -> #REF! | ... V38: =IF(#REF!>=1,#REF!,"") -> #REF! | W38: =IFERROR(AVERAGE(C38:V38),"") | X38: =IFERROR(MEDIAN(C38:V38),"") | Y38: =IFERROR(SMALL(C38:V38,1),"") | Z38: =IFERROR(LARGE(C38:V38,1),"") | AA38: =IFERROR(_xlfn.STDEV.P(C38:V38)/W38,"")
A39: =IF(#REF!>=1,#REF!,"") -> #REF! | B39: =IF(#REF!>=1,#REF!,"") -> #REF! | C39: =IF(#REF!>=1,#REF!,"") -> #REF! | D39: =IF(#REF!>=1,#REF!,"") -> #REF! | E39: =IF(#REF!>=1,#REF!,"") -> #REF! | F39: =IF(#REF!>=1,#REF!,"") -> #REF! | G39: =IF(#REF!>=1,#REF!,"") -> #REF! | H39: =IF(#REF!>=1,#REF!,"") -> #REF! | ... V39: =IF(#REF!>=1,#REF!,"") -> #REF! | W39: =IFERROR(AVERAGE(C39:V39),"") | X39: =IFERROR(MEDIAN(C39:V39),"") | Y39: =IFERROR(SMALL(C39:V39,1),"") | Z39: =IFERROR(LARGE(C39:V39,1),"") | AA39: =IFERROR(_xlfn.STDEV.P(C39:V39)/W39,"")
A40: =IF(#REF!>=1,#REF!,"") -> #REF! | B40: =IF(#REF!>=1,#REF!,"") -> #REF! | C40: =IF(#REF!>=1,#REF!,"") -> #REF! | D40: =IF(#REF!>=1,#REF!,"") -> #REF! | E40: =IF(#REF!>=1,#REF!,"") -> #REF! | F40: =IF(#REF!>=1,#REF!,"") -> #REF! | G40: =IF(#REF!>=1,#REF!,"") -> #REF! | H40: =IF(#REF!>=1,#REF!,"") -> #REF! | ... V40: =IF(#REF!>=1,#REF!,"") -> #REF! | W40: =IFERROR(AVERAGE(C40:V40),"") | X40: =IFERROR(MEDIAN(C40:V40),"") | Y40: =IFERROR(SMALL(C40:V40,1),"") | Z40: =IFERROR(LARGE(C40:V40,1),"") | AA40: =IFERROR(_xlfn.STDEV.P(C40:V40)/W40,"")
...

Sheet Impressão
A1: QUADRO COMPARATIVO DE PREÇOS
A2: ITEM | B2: DESCRIÇÃO DETALHADA DO ITEM | C2: 1º PARÂM. | D2: 2º PARÂM. | E2: 3º PARÂM. | F2: 4º PARÂM. | G2: 5º PARÂM. | H2: 6º PARÂM. | I2: 7º PARÂM. | J2: 8º PARÂM. | K2: 9º PARÂM. | L2: 10º PARÂM. | M2: 11º PARÂM. | N2: 12º PARÂM. | O2: 13º PARÂM. | P2: 14º PARÂM. | Q2: 15º PARÂM. | R2: 16º PARÂM. | S2: 17º PARÂM. | T2: 18º PARÂM. | U2: 19º PARÂM. | V2: 20º PARÂM. | W2: MÉDIA | X2: MEDIANA | Y2: MENOR VALOR | Z2: MAIOR VALOR | AA2: COEFICIENTE DE VARIAÇÃO
C3: =IF(Dados!C3>=1,Dados!C3,"") -> Gaiardo E Gaiardo LTDA | D3: =IF(Dados!D3>=1,Dados!D3,"") -> Dalton Confecções LTDA | E3: =IF(Dados!E3>=1,Dados!E3,"") -> Elenita Ida Tumellero Conti LTDa | F3: =IF(Dados!F3>=1,Dados!F3,"") -> Licitacon/PNPC | G3: =IF(Dados!G3>=1,Dados!G3,"") -> Licitacon/PNPC | H3: =IF(Dados!H3>=1,Dados!H3,"") -> Valor Médio | I3: =IF(#REF!>=1,#REF!,"") -> #REF! | J3: =IF(#REF!>=1,#REF!,"") -> #REF! | K3: =IF(#REF!>=1,#REF!,"") -> #REF! | L3: =IF(#REF!>=1,#REF!,"") -> #REF! | M3: =IF(#REF!>=1,#REF!,"") -> #REF! | N3: =IF(#REF!>=1,#REF!,"") -> #REF! | O3: =IF(#REF!>=1,#REF!,"") -> #REF! | P3: =IF(#REF!>=1,#REF!,"") -> #REF! | ... V3: =IF(#REF!>=1,#REF!,"") -> #REF!
A4: =IF(Dados!A4>=1,Dados!A4,"") -> 1 | B4: =IF(Dados!B4>=1,Dados!B4,"") -> Camiseta Manga Longa Tam. 1 | C4: =IF('Fórmula Mágica'!C4="VERDADEIRO",Dados!C4,Dados!C4) -> 45 | D4: =IF('Fórmula Mágica'!D4="VERDADEIRO",Dados!D4,Dados!D4) -> 48 | E4: =IF('Fórmula Mágica'!E4="VERDADEIRO",Dados!E4,Dados!E4) -> 40 | F4: =IF('Fórmula Mágica'!F4="VERDADEIRO",Dados!F4,Dados!F4) -> 28 | G4: =IF('Fórmula Mágica'!G4="VERDADEIRO",Dados!G4,Dados!G4) -> 0 | H4: =IF('Fórmula Mágica'!H4="VERDADEIRO",Dados!H4,Dados!H4) -> 40.25 | I4: =IF('Fórmula Mágica'!I4="VERDADEIRO",#REF!,#REF!) -> #REF! | J4: =IF('Fórmula Mágica'!J4="VERDADEIRO",#REF!,#REF!) -> #REF! | K4: =IF('Fórmula Mágica'!K4="VERDADEIRO",#REF!,#REF!) -> #REF! | L4: =IF('Fórmula Mágica'!L4="VERDADEIRO",#REF!,#REF!) -> #REF! | M4: =IF('Fórmula Mágica'!M4="VERDADEIRO",#REF!,#REF!) -> #REF! | N4: =IF('Fórmula Mágica'!N4="VERDADEIRO",#REF!,#REF!) -> #REF! | O4: =IF('Fórmula Mágica'!O4="VERDADEIRO",#REF!,#REF!) -> #REF! | P4: =IF('Fórmula Mágica'!P4="VERDADEIRO",#REF!,#REF!) -> #REF! | ... V4: =IF('Fórmula Mágica'!V4="VERDADEIRO",#REF!,#REF!) -> #REF! | W4: =Saneamento!W4 | X4: =Saneamento!X4 | Y4: =Saneamento!Y4 | Z4: =Saneamento!Z4 | AA4: =Saneamento!AA4 | AB4: OK
A5: =IF(Dados!A7>=1,Dados!A7,"") -> 4 | B5: =IF(Dados!B7>=1,Dados!B7,"") -> Camiseta Manga Longa Tam. 6 | C5: =IF('Fórmula Mágica'!C5="VERDADEIRO",Dados!C7,Dados!C7) -> 55 | D5: =IF('Fórmula Mágica'!D5="VERDADEIRO",Dados!D7,Dados!D7) -> 58 | E5: =IF('Fórmula Mágica'!E5="VERDADEIRO",Dados!E7,Dados!E7) -> 50 | F5: =IF('Fórmula Mágica'!F5="VERDADEIRO",Dados!F7,Dados!F7) -> 39.17 | G5: =IF('Fórmula Mágica'!G5="VERDADEIRO",Dados!G7,Dados!G7) -> 39.9 | H5: =IF('Fórmula Mágica'!H5="VERDADEIRO",Dados!H7,Dados!H7) -> 48.414 | I5: =IF('Fórmula Mágica'!I5="VERDADEIRO",#REF!,#REF!) -> #REF! | J5: =IF('Fórmula Mágica'!J5="VERDADEIRO",#REF!,#REF!) -> #REF! | K5: =IF('Fórmula Mágica'!K5="VERDADEIRO",#REF!,#REF!) -> #REF! | L5: =IF('Fórmula Mágica'!L5="VERDADEIRO",#REF!,#REF!) -> #REF! | M5: =IF('Fórmula Mágica'!M5="VERDADEIRO",#REF!,#REF!) -> #REF! | N5: =IF('Fórmula Mágica'!N5="VERDADEIRO",#REF!,#REF!) -> #REF! | O5: =IF('Fórmula Mágica'!O5="VERDADEIRO",#REF!,#REF!) -> #REF! | P5: =IF('Fórmula Mágica'!P5="VERDADEIRO",#REF!,#REF!) -> #REF! | ... V5: =IF('Fórmula Mágica'!V5="VERDADEIRO",#REF!,#REF!) -> #REF! | W5: =Saneamento!W5 | X5: =Saneamento!X5 | Y5: =Saneamento!Y5 | Z5: =Saneamento!Z5 | AA5: =Saneamento!AA5 | AB5: OK
A6: =IF(Dados!A10>=1,Dados!A10,"") -> 7 | B6: =IF(Dados!B10>=1,Dados!B10,"") -> Camiseta Manga Longa Tam. 12 | C6: =IF('Fórmula Mágica'!C6="VERDADEIRO",Dados!C10,Dados!C10) -> 63 | D6: =IF('Fórmula Mágica'!D6="VERDADEIRO",Dados!D10,Dados!D10) -> 66 | E6: =IF('Fórmula Mágica'!E6="VERDADEIRO",Dados!E10,Dados!E10) -> 58 | F6: =IF('Fórmula Mágica'!F6="VERDADEIRO",Dados!F10,Dados!F10) -> 39.17 | G6: =IF('Fórmula Mágica'!G6="VERDADEIRO",Dados!G10,Dados!G10) -> 46.9 | H6: =IF('Fórmula Mágica'!H6="VERDADEIRO",Dados!H10,Dados!H10) -> 54.614 | I6: =IF('Fórmula Mágica'!I6="VERDADEIRO",#REF!,#REF!) -> #REF! | J6: =IF('Fórmula Mágica'!J6="VERDADEIRO",#REF!,#REF!) -> #REF! | K6: =IF('Fórmula Mágica'!K6="VERDADEIRO",#REF!,#REF!) -> #REF! | L6: =IF('Fórmula Mágica'!L6="VERDADEIRO",#REF!,#REF!) -> #REF! | M6: =IF('Fórmula Mágica'!M6="VERDADEIRO",#REF!,#REF!) -> #REF! | N6: =IF('Fórmula Mágica'!N6="VERDADEIRO",#REF!,#REF!) -> #REF! | O6: =IF('Fórmula Mágica'!O6="VERDADEIRO",#REF!,#REF!) -> #REF! | P6: =IF('Fórmula Mágica'!P6="VERDADEIRO",#REF!,#REF!) -> #REF! | ... V6: =IF('Fórmula Mágica'!V6="VERDADEIRO",#REF!,#REF!) -> #REF! | W6: =Saneamento!W6 | X6: =Saneamento!X6 | Y6: =Saneamento!Y6 | Z6: =Saneamento!Z6 | AA6: =Saneamento!AA6 | AB6: OK
A7: =IF(Dados!A13>=1,Dados!A13,"") -> 10 | B7: =IF(Dados!B13>=1,Dados!B13,"") -> Camiseta Manga Longa Tam. P | C7: =IF('Fórmula Mágica'!C7="VERDADEIRO",Dados!C13,Dados!C13) -> 80 | D7: =IF('Fórmula Mágica'!D7="VERDADEIRO",Dados!D13,Dados!D13) -> 83 | E7: =IF('Fórmula Mágica'!E7="VERDADEIRO",Dados!E13,Dados!E13) -> 75 | F7: =IF('Fórmula Mágica'!F7="VERDADEIRO",Dados!F13,Dados!F13) -> 39.17 | G7: =IF('Fórmula Mágica'!G7="VERDADEIRO",Dados!G13,Dados!G13) -> 35.49 | H7: =IF('Fórmula Mágica'!H7="VERDADEIRO",Dados!H13,Dados!H13) -> 62.532 | I7: =IF('Fórmula Mágica'!I7="VERDADEIRO",#REF!,#REF!) -> #REF! | J7: =IF('Fórmula Mágica'!J7="VERDADEIRO",#REF!,#REF!) -> #REF! | K7: =IF('Fórmula Mágica'!K7="VERDADEIRO",#REF!,#REF!) -> #REF! | L7: =IF('Fórmula Mágica'!L7="VERDADEIRO",#REF!,#REF!) -> #REF! | M7: =IF('Fórmula Mágica'!M7="VERDADEIRO",#REF!,#REF!) -> #REF! | N7: =IF('Fórmula Mágica'!N7="VERDADEIRO",#REF!,#REF!) -> #REF! | O7: =IF('Fórmula Mágica'!O7="VERDADEIRO",#REF!,#REF!) -> #REF! | P7: =IF('Fórmula Mágica'!P7="VERDADEIRO",#REF!,#REF!) -> #REF! | ... V7: =IF('Fórmula Mágica'!V7="VERDADEIRO",#REF!,#REF!) -> #REF! | W7: =Saneamento!W7 | X7: =Saneamento!X7 | Y7: =Saneamento!Y7 | Z7: =Saneamento!Z7 | AA7: =Saneamento!AA7 | AB7: OK | AC7: =IF(AA7="","","")
A8: =IF(Dados!A17>=1,Dados!A17,"") -> 14 | B8: =IF(Dados!B17>=1,Dados!B17,"") -> Camiseta Manga Curta Tam. 1 | C8: =IF('Fórmula Mágica'!C8="VERDADEIRO",Dados!C17,Dados!C17) -> 40 | D8: =IF('Fórmula Mágica'!D8="VERDADEIRO",Dados!D17,Dados!D17) -> 43 | E8: =IF('Fórmula Mágica'!E8="VERDADEIRO",Dados!E17,Dados!E17) -> 35 | F8: =IF('Fórmula Mágica'!F8="VERDADEIRO",Dados!F17,Dados!F17) -> 29 | G8: =IF('Fórmula Mágica'!G8="VERDADEIRO",Dados!G17,Dados!G17) -> 0 | H8: =IF('Fórmula Mágica'!H8="VERDADEIRO",Dados!H17,Dados!H17) -> 36.75 | I8: =IF('Fórmula Mágica'!I8="VERDADEIRO",#REF!,#REF!) -> #REF! | J8: =IF('Fórmula Mágica'!J8="VERDADEIRO",#REF!,#REF!) -> #REF! | K8: =IF('Fórmula Mágica'!K8="VERDADEIRO",#REF!,#REF!) -> #REF! | L8: =IF('Fórmula Mágica'!L8="VERDADEIRO",#REF!,#REF!) -> #REF! | M8: =IF('Fórmula Mágica'!M8="VERDADEIRO",#REF!,#REF!) -> #REF! | N8: =IF('Fórmula Mágica'!N8="VERDADEIRO",#REF!,#REF!) -> #REF! | O8: =IF('Fórmula Mágica'!O8="VERDADEIRO",#REF!,#REF!) -> #REF! | P8: =IF('Fórmula Mágica'!P8="VERDADEIRO",#REF!,#REF!) -> #REF! | ... V8: =IF('Fórmula Mágica'!V8="VERDADEIRO",#REF!,#REF!) -> #REF! | W8: =Saneamento!W8 | X8: =Saneamento!X8 | Y8: =Saneamento!Y8 | Z8: =Saneamento!Z8 | AA8: =Saneamento!AA8 | AB8: OK
A9: =IF(Dados!A20>=1,Dados!A20,"") -> 17 | B9: =IF(Dados!B20>=1,Dados!B20,"") -> Camiseta Manga Curta Tam. 6 | C9: =IF('Fórmula Mágica'!C9="VERDADEIRO",Dados!C20,Dados!C20) -> 45 | D9: =IF('Fórmula Mágica'!D9="VERDADEIRO",Dados!D20,Dados!D20) -> 48 | E9: =IF('Fórmula Mágica'!E9="VERDADEIRO",Dados!E20,Dados!E20) -> 40 | F9: =IF('Fórmula Mágica'!F9="VERDADEIRO",Dados!F20,Dados!F20) -> 34.33 | G9: =IF('Fórmula Mágica'!G9="VERDADEIRO",Dados!G20,Dados!G20) -> 29 | H9: =IF('Fórmula Mágica'!H9="VERDADEIRO",Dados!H20,Dados!H20) -> 39.266 | I9: =IF('Fórmula Mágica'!I9="VERDADEIRO",#REF!,#REF!) -> #REF! | J9: =IF('Fórmula Mágica'!J9="VERDADEIRO",#REF!,#REF!) -> #REF! | K9: =IF('Fórmula Mágica'!K9="VERDADEIRO",#REF!,#REF!) -> #REF! | L9: =IF('Fórmula Mágica'!L9="VERDADEIRO",#REF!,#REF!) -> #REF! | M9: =IF('Fórmula Mágica'!M9="VERDADEIRO",#REF!,#REF!) -> #REF! | N9: =IF('Fórmula Mágica'!N9="VERDADEIRO",#REF!,#REF!) -> #REF! | O9: =IF('Fórmula Mágica'!O9="VERDADEIRO",#REF!,#REF!) -> #REF! | P9: =IF('Fórmula Mágica'!P9="VERDADEIRO",#REF!,#REF!) -> #REF! | ... V9: =IF('Fórmula Mágica'!V9="VERDADEIRO",#REF!,#REF!) -> #REF! | W9: =Saneamento!W9 | X9: =Saneamento!X9 | Y9: =Saneamento!Y9 | Z9: =Saneamento!Z9 | AA9: =Saneamento!AA9 | AB9: OK
A10: =IF(Dados!A23>=1,Dados!A23,"") -> 20 | B10: =IF(Dados!B23>=1,Dados!B23,"") -> Camiseta Manga Curta Tam. 12 | C10: =IF('Fórmula Mágica'!C10="VERDADEIRO",Dados!C23,Dados!C23) -> 53 | D10: =IF('Fórmula Mágica'!D10="VERDADEIRO",Dados!D23,Dados!D23) -> 56 | E10: =IF('Fórmula Mágica'!E10="VERDADEIRO",Dados!E23,Dados!E23) -> 48 | F10: =IF('Fórmula Mágica'!F10="VERDADEIRO",Dados!F23,Dados!F23) -> 34.33 | G10: =IF('Fórmula Mágica'!G10="VERDADEIRO",Dados!G23,Dados!G23) -> 35 | H10: =IF('Fórmula Mágica'!H10="VERDADEIRO",Dados!H23,Dados!H23) -> 45.266 | I10: =IF('Fórmula Mágica'!I10="VERDADEIRO",#REF!,#REF!) -> #REF! | J10: =IF('Fórmula Mágica'!J10="VERDADEIRO",#REF!,#REF!) -> #REF! | K10: =IF('Fórmula Mágica'!K10="VERDADEIRO",#REF!,#REF!) -> #REF! | L10: =IF('Fórmula Mágica'!L10="VERDADEIRO",#REF!,#REF!) -> #REF! | M10: =IF('Fórmula Mágica'!M10="VERDADEIRO",#REF!,#REF!) -> #REF! | N10: =IF('Fórmula Mágica'!N10="VERDADEIRO",#REF!,#REF!) -> #REF! | O10: =IF('Fórmula Mágica'!O10="VERDADEIRO",#REF!,#REF!) -> #REF! | P10: =IF('Fórmula Mágica'!P10="VERDADEIRO",#REF!,#REF!) -> #REF! | ... V10: =IF('Fórmula Mágica'!V10="VERDADEIRO",#REF!,#REF!) -> #REF! | W10: =Saneamento!W10 | X10: =Saneamento!X10 | Y10: =Saneamento!Y10 | Z10: =Saneamento!Z10 | AA10: =Saneamento!AA10 | AB10: OK
A11: =IF(Dados!A26>=1,Dados!A26,"") -> 23 | B11: =IF(Dados!B26>=1,Dados!B26,"") -> Camiseta Manga Curta Tam. P | C11: =IF('Fórmula Mágica'!C11="VERDADEIRO",Dados!C26,Dados!C26) -> 63 | D11: =IF('Fórmula Mágica'!D11="VERDADEIRO",Dados!D26,Dados!D26) -> 66 | E11: =IF('Fórmula Mágica'!E11="VERDADEIRO",Dados!E26,Dados!E26) -> 58 | F11: =IF('Fórmula Mágica'!F11="VERDADEIRO",Dados!F26,Dados!F26) -> 34.33 | G11: =IF('Fórmula Mágica'!G11="VERDADEIRO",Dados!G26,Dados!G26) -> 34.9 | H11: =IF('Fórmula Mágica'!H11="VERDADEIRO",Dados!H26,Dados!H26) -> 51.246 | I11: =IF('Fórmula Mágica'!I11="VERDADEIRO",#REF!,#REF!) -> #REF! | J11: =IF('Fórmula Mágica'!J11="VERDADEIRO",#REF!,#REF!) -> #REF! | K11: =IF('Fórmula Mágica'!K11="VERDADEIRO",#REF!,#REF!) -> #REF! | L11: =IF('Fórmula Mágica'!L11="VERDADEIRO",#REF!,#REF!) -> #REF! | M11: =IF('Fórmula Mágica'!M11="VERDADEIRO",#REF!,#REF!) -> #REF! | N11: =IF('Fórmula Mágica'!N11="VERDADEIRO",#REF!,#REF!) -> #REF! | O11: =IF('Fórmula Mágica'!O11="VERDADEIRO",#REF!,#REF!) -> #REF! | P11: =IF('Fórmula Mágica'!P11="VERDADEIRO",#REF!,#REF!) -> #REF! | ... V11: =IF('Fórmula Mágica'!V11="VERDADEIRO",#REF!,#REF!) -> #REF! | W11: =Saneamento!W11 | X11: =Saneamento!X11 | Y11: =Saneamento!Y11 | Z11: =Saneamento!Z11 | AA11: =Saneamento!AA11 | AB11: OK
A12: =IF(Dados!A30>=1,Dados!A30,"") -> 27 | B12: =IF(Dados!B30>=1,Dados!B30,"") -> Bermuda Masculina Tam. 1 | C12: =IF('Fórmula Mágica'!C12="VERDADEIRO",Dados!C30,Dados!C30) -> 53 | D12: =IF('Fórmula Mágica'!D12="VERDADEIRO",Dados!D30,Dados!D30) -> 56 | E12: =IF('Fórmula Mágica'!E12="VERDADEIRO",Dados!E30,Dados!E30) -> 48 | F12: =IF('Fórmula Mágica'!F12="VERDADEIRO",Dados!F30,Dados!F30) -> 0 | G12: =IF('Fórmula Mágica'!G12="VERDADEIRO",Dados!G30,Dados!G30) -> 41.9 | H12: =IF('Fórmula Mágica'!H12="VERDADEIRO",Dados!H30,Dados!H30) -> 49.725 | I12: =IF('Fórmula Mágica'!I12="VERDADEIRO",#REF!,#REF!) -> #REF! | J12: =IF('Fórmula Mágica'!J12="VERDADEIRO",#REF!,#REF!) -> #REF! | K12: =IF('Fórmula Mágica'!K12="VERDADEIRO",#REF!,#REF!) -> #REF! | L12: =IF('Fórmula Mágica'!L12="VERDADEIRO",#REF!,#REF!) -> #REF! | M12: =IF('Fórmula Mágica'!M12="VERDADEIRO",#REF!,#REF!) -> #REF! | N12: =IF('Fórmula Mágica'!N12="VERDADEIRO",#REF!,#REF!) -> #REF! | O12: =IF('Fórmula Mágica'!O12="VERDADEIRO",#REF!,#REF!) -> #REF! | P12: =IF('Fórmula Mágica'!P12="VERDADEIRO",#REF!,#REF!) -> #REF! | ... V12: =IF('Fórmula Mágica'!V12="VERDADEIRO",#REF!,#REF!) -> #REF! | W12: =Saneamento!W12 | X12: =Saneamento!X12 | Y12: =Saneamento!Y12 | Z12: =Saneamento!Z12 | AA12: =Saneamento!AA12 | AB12: OK
A13: =IF(Dados!A33>=1,Dados!A33,"") -> 30 | B13: =IF(Dados!B33>=1,Dados!B33,"") -> Bermuda Masculina Tam. 6 | C13: =IF('Fórmula Mágica'!C13="VERDADEIRO",Dados!C33,Dados!C33) -> 61 | D13: =IF('Fórmula Mágica'!D13="VERDADEIRO",Dados!D33,Dados!D33) -> 64 | E13: =IF('Fórmula Mágica'!E13="VERDADEIRO",Dados!E33,Dados!E33) -> 56 | F13: =IF('Fórmula Mágica'!F13="VERDADEIRO",Dados!F33,Dados!F33) -> 47 | G13: =IF('Fórmula Mágica'!G13="VERDADEIRO",Dados!G33,Dados!G33) -> 41.9 | H13: =IF('Fórmula Mágica'!H13="VERDADEIRO",Dados!H33,Dados!H33) -> 53.98 | I13: =IF('Fórmula Mágica'!I13="VERDADEIRO",#REF!,#REF!) -> #REF! | J13: =IF('Fórmula Mágica'!J13="VERDADEIRO",#REF!,#REF!) -> #REF! | K13: =IF('Fórmula Mágica'!K13="VERDADEIRO",#REF!,#REF!) -> #REF! | L13: =IF('Fórmula Mágica'!L13="VERDADEIRO",#REF!,#REF!) -> #REF! | M13: =IF('Fórmula Mágica'!M13="VERDADEIRO",#REF!,#REF!) -> #REF! | N13: =IF('Fórmula Mágica'!N13="VERDADEIRO",#REF!,#REF!) -> #REF! | O13: =IF('Fórmula Mágica'!O13="VERDADEIRO",#REF!,#REF!) -> #REF! | P13: =IF('Fórmula Mágica'!P13="VERDADEIRO",#REF!,#REF!) -> #REF! | ... V13: =IF('Fórmula Mágica'!V13="VERDADEIRO",#REF!,#REF!) -> #REF! | W13: =Saneamento!W13 | X13: =Saneamento!X13 | Y13: =Saneamento!Y13 | Z13: =Saneamento!Z13 | AA13: =Saneamento!AA13 | AB13: OK
