Workbook
Name _1Excel_BuiltIn_Print_Area_1_1_1_1: IV.A!$B$25:$B$173
Name CONC: [1]Dados!$K$2:$K$40
Name Database: #REF!
Name ÉServiço: [2]II.3!$E1<>""
Name ÉServiço: [3]II.3!$E1<>""
Name Excel_BuiltIn_Print_Area_1_1_1: IV.A!$B$16:$C$156
Name Excel_BuiltIn_Print_Area_1_1_1_1: IV.A!$A$1:$M$181
Name Excel_BuiltIn_Print_Area_1_1_1_1_1: '[4]Anexo II'!$A$12:$M$287,'[4]Anexo II'!$K$286
Name Excel_BuiltIn_Print_Area_1_1_1_1_1: IV.A!$A$10:$M$176,IV.A!$K$175
Name Excel_BuiltIn_Print_Area_1_1_1_1_1_1: IV.A!$A$16:$B$156
Name Excel_BuiltIn_Print_Area_3_1: V.A!$A$10:$V$84
Name Excel_BuiltIn_Print_Area_6_1: VI.A!$A$1:$F$105
Name Excel_BuiltIn_Print_Area_7_1: VII.A!$B$141:$D$169
Name RegimeExecucao: IF([5]DADOS!$A$32="Empreitada por Preço Global ou Integral","Global","Unitário")
Name VALAS: [1]Dados!$L$2:$P$40

Sheet PREENCHIMENTO
A3: FORMA DE PREENCHIMENTO DAS PLANILHAS ELETRÔNICAS
A5: 1) O presente arquivo eletrônico é composto pelas seguintes planilhas:
A6: • PLANILHA DE ORÇAMENTO BASE – LICITANTE - ANEXO IV.A
A7: • CRONOGRAMA FÍSICO-FINANCEIRO – LICITANTE - ANEXO V.A
A8: • PLANILHA DE COMPOSIÇÕES UNITÁRIAS DE SERVIÇOS – LICITANTE - ANEXO VI.A
A9: • PLANILHA DE CUSTOS UNITÁRIOS DE INSUMOS/SERVIÇOS – LICITANTE - ANEXO VII.A
A10: • PLANILHA DE COMPOSIÇÃO DAS TAXAS DE BDI - LICITANTE - ANEXO VIII.A
A11: • PLANILHA DOS ENCARGOS SOCIAIS E TRABALHISTAS - LICITANTE - ANEXO IX.A
A13: 2) A Licitante deverá preencher todos os campos em amarelo com o valor proposto, nas seguintes planilhas, podendo iniciar o preenchimento em qualquer sequência:
A15: • PLANILHA DE ORÇAMENTO BASE – LICITANTE - ANEXO IV.A
A16: • PLANILHA DE COMPOSIÇÕES UNITÁRIAS DE SERVIÇOS – LICITANTE - ANEXO VI.A
A17: • PLANILHA DE CUSTOS UNITÁRIOS DE INSUMOS/SERVIÇOS – LICITANTE - ANEXO VII.A
... A38: 7) ANEXAR ESTE ARQUIVO ELETRÔNICO COM A FINALIDADE DE FACILITAR A ANÁLISE DA REFERIDA PROPOSTA POR PARTE DA COMISSÃO.

Sheet IV.A
A1: TIMBRE LICITANTE
A5: ANEXO IV.A - PLANILHA DE ORÇAMENTO BASE - LICITANTE
A7: EXECUÇÃO DE SERVIÇO DE REFORMA CIVIL, CONSTRUÇÕES E MANUTENÇÕES GERAIS PARA MELHORIAS NAS ÁREAS DE PROPRIEDADE E/OU DE RESPONSABILIDADE DO SEMAE.
B8: LEIS SOCIAIS HORISTA - JORNADA NORMAL | F8: =IX.A!$C$45 -> 0 | H8: DATA-BASE | L8: =TODAY() -> 46175
B9: BDI MÃO DE OBRA E SERVIÇOS | F9: =VIII.A!$C$29 -> 0
A10: ITEM | B10: SERVIÇO | C10: UNID. | D10: QUANT. | E10: PREÇO | F10: MAT | G10: SERVIÇO | H10: MO | I10: MAT | J10: SERVIÇO | K10: MO | L10: PREÇO | M10: %
E11: UNIT.(R$) | F11: R$ | G11: R$ | H11: R$ | I11: TOTAL | J11: TOTAL | K11: TOTAL | L11: TOTAL(R$)
A14: 1.0 | B14: CANTEIRO DE OBRAS | C14: SUB-TOTAL | F14: =I14 -> 0 | G14: =J14 -> 0 | H14: =K14 -> 0 | I14: =SUM(I16:I20) -> 0 | J14: =SUM(J16:J20) -> 0 | K14: =SUM(K16:K20) -> 0 | L14: =SUM(L16:L20) -> 0 | M14: =ROUND(L14/$L$174,6) -> #DIV/0!
F15: =ROUND(F14/L14,6) -> #DIV/0! | G15: =ROUND(G14/L14,6) -> #DIV/0! | H15: =ROUND(H14/L14,6) -> #DIV/0! | I15: =IF(I14=F14,"sim","nao") -> sim | J15: =IF(J14=G14,"sim","nao") -> sim | K15: =IF(K14=H14,"sim","nao") -> sim
A16: 1.1 | B16: CANTEIRO DE OBRAS (ITEM 6.0 DO TERMO DE REFERÊNCIA) | C16: GB | D16: 1 | E16: =F16+G16+H16 -> 0 | F16: =VI.A!$F$31 -> 0 | G16: =VI.A!$F$45 -> 0 | H16: =VI.A!$F$57 -> 0 | I16: =ROUND(D16*F16,2) -> 0 | J16: =ROUND(D16*G16,2) -> 0 | K16: =ROUND(D16*H16,2) -> 0 | L16: =I16+J16+K16 -> 0 | M16: =ROUND(L16/$L$174,6) -> #DIV/0!
A17: 1.2 | B17: PLACA DE IDENTIFICAÇÃO DE OBRA, CONFORME PADRÃO SEMAE (ITEM 6.8 DO TERMO DE REFERÊNCIA) | C17: M2 | D17: 90 | E17: =F17+G17+H17 -> 0 | F17: =VI.A!$F$79 -> 0 | G17: =VI.A!$F$93 -> 0 | H17: =VI.A!$F$105 -> 0 | I17: =ROUND($D$17*F17,2) -> 0 | J17: =ROUND($D$17*G17,2) -> 0 | K17: =ROUND($D$17*H17,2) -> 0 | L17: =ROUND(D17*F17,2)+ROUND(D17*G17,2)+ROUND(D17*H17,2) -> 0 | M17: =ROUND(L17/$L$174,6) -> #DIV/0!
A18: 1.3 | B18: VIGILANTE PARA ÁREAS EM OBRA | C18: H | D18: 8640 | E18: =F18+G18+H18 -> 0 | F18: =VI.A!$F$127 -> 0 | G18: =VI.A!$F$141 -> 0 | H18: =VI.A!$F$153 -> 0 | I18: =ROUND(D18*F18,2) -> 0 | J18: =ROUND(D18*G18,2) -> 0 | K18: =ROUND(D18*H18,2) -> 0 | L18: =ROUND(D18*F18,2)+ROUND(D18*G18,2)+ROUND(D18*H18,2) -> 0 | M18: =ROUND(L18/$L$174,6) -> #DIV/0!
A19: 1.4 | B19: SANITÁRIO QUÍMICO | C19: UND.MÊS | D19: 96 | E19: =F19+G19+H19 -> 0 | F19: =VI.A!$F$175 -> 0 | G19: =VI.A!$F$189 -> 0 | H19: =VI.A!$F$201 -> 0 | I19: =ROUND(D19*F19,2) -> 0 | J19: =ROUND(D19*G19,2) -> 0 | K19: =ROUND(D19*H19,2) -> 0 | L19: =ROUND(D19*F19,2)+ROUND(D19*G19,2)+ROUND(D19*H19,2) -> 0 | M19: =ROUND(L19/$L$174,6) -> #DIV/0!
A20: 1.5 | B20: CONTAINER | C20: UND.MÊS | D20: 48 | E20: =F20+G20+H20 -> 0 | F20: =VI.A!$F$223 -> 0 | G20: =VI.A!$F$237 -> 0 | H20: =VI.A!$F$249 -> 0 | I20: =ROUND(D20*F20,2) -> 0 | J20: =ROUND(D20*G20,2) -> 0 | K20: =ROUND(D20*H20,2) -> 0 | L20: =ROUND(D20*F20,2)+ROUND(D20*G20,2)+ROUND(D20*H20,2) -> 0 | M20: =ROUND(L20/$L$174,6) -> #DIV/0!
A22: 2.0 | B22: SERVIÇOS INICIAIS | C22: SUB-TOTAL | F22: =I22 -> 0 | G22: =J22 -> 0 | H22: =K22 -> 0 | I22: =SUM(I25:I41) -> 0 | J22: =SUM(J25:J41) -> 0 | K22: =SUM(K25:K41) -> 0 | L22: =SUM(L25:L41) -> 0 | M22: =ROUND(L22/$L$174,6) -> #DIV/0!
F23: =ROUND(F22/L22,6) -> #DIV/0! | G23: =ROUND(G22/L22,6) -> #DIV/0! | H23: =ROUND(H22/L22,6) -> #DIV/0! | I23: =IF(I22=F22,"sim","nao") -> sim | J23: =IF(J22=G22,"sim","nao") -> sim | K23: =IF(K22=H22,"sim","nao") -> sim
A24: 2.1 | B24: RETIRADAS E DEMOLIÇÕES - ITEM 7.1 DO TERMO DE REFERÊNCIA
A25: 2.1.1 | B25: DEMOLIÇÃO MANUAL DE CALÇADAS E PISOS CIMENTADOS | C25: M2 | D25: 1000 | E25: =F25+G25+H25 -> 0 | F25: =VI.A!$F$271 -> 0 | G25: =VI.A!$F$285 -> 0 | H25: =VI.A!$F$297 -> 0 | I25: =ROUND(D25*F25,2) -> 0 | J25: =ROUND(D25*G25,2) -> 0 | K25: =ROUND(D25*H25,2) -> 0 | L25: =ROUND(D25*F25,2)+ROUND(D25*G25,2)+ROUND(D25*H25,2) -> 0 | M25: =ROUND(L25/$L$174,6) -> #DIV/0!
A26: 2.1.2 | B26: DEMOLIÇÃO MECANIZADA DE CALÇADAS E PISOS CIMENTADOS | C26: M2 | D26: 2000 | E26: =F26+G26+H26 -> 0 | F26: =VI.A!F319 -> 0 | G26: =VI.A!F333 -> 0 | H26: =VI.A!F345 -> 0 | I26: =ROUND(D26*F26,2) -> 0 | J26: =ROUND(D26*G26,2) -> 0 | K26: =ROUND(D26*H26,2) -> 0 | L26: =ROUND(D26*F26,2)+ROUND(D26*G26,2)+ROUND(D26*H26,2) -> 0 | M26: =ROUND(L26/$L$174,6) -> #DIV/0!
A27: 2.1.3 | B27: REMOÇÃO MANUAL DE GUIAS EM CONCRETO, COM OU SEM REAPROVEITAMENTO | C27: M | D27: 1200 | E27: =F27+G27+H27 -> 0 | F27: =VI.A!$F$367 -> 0 | G27: =VI.A!$F$381 -> 0 | H27: =VI.A!$F$393 -> 0 | I27: =ROUND(D27*F27,2) -> 0 | J27: =ROUND(D27*G27,2) -> 0 | K27: =ROUND(D27*H27,2) -> 0 | L27: =ROUND(D27*F27,2)+ROUND(D27*G27,2)+ROUND(D27*H27,2) -> 0 | M27: =ROUND(L27/$L$174,6) -> #DIV/0!
A28: 2.1.4 | B28: DEMOLIÇÃO DE SARJETAS EM CONCRETO | C28: M2 | D28: 20 | E28: =F28+G28+H28 -> 0 | F28: =VI.A!$F$415 -> 0 | G28: =VI.A!$F$429 -> 0 | H28: =VI.A!$F$441 -> 0 | I28: =ROUND(D28*F28,2) -> 0 | J28: =ROUND(D28*G28,2) -> 0 | K28: =ROUND(D28*H28,2) -> 0 | L28: =ROUND(D28*F28,2)+ROUND(D28*G28,2)+ROUND(D28*H28,2) -> 0 | M28: =ROUND(L28/$L$174,6) -> #DIV/0!
A29: 2.1.5 | B29: REMOÇÃO MANUAL DE PORTÃO, GRADE DE PROTEÇÃO E ESQUADRIAS METÁLICAS EM GERAL, COM OU SEM REAPROVEITAMENTO | C29: M2 | D29: 64 | E29: =F29+G29+H29 -> 0 | F29: =VI.A!F463 -> 0 | G29: =VI.A!F477 -> 0 | H29: =VI.A!F489 -> 0 | I29: =ROUND(D29*F29,2) -> 0 | J29: =ROUND(D29*G29,2) -> 0 | K29: =ROUND(D29*H29,2) -> 0 | L29: =ROUND(D29*F29,2)+ROUND(D29*G29,2)+ROUND(D29*H29,2) -> 0 | M29: =ROUND(L29/$L$174,6) -> #DIV/0!
A30: 2.1.6 | B30: REMOÇÃO DE CALHAS, RUFOS, PINGADEIRAS E CONDUTORES VERTICAIS | C30: M | D30: 100 | E30: =F30+G30+H30 -> 0 | F30: =VI.A!$F$511 -> 0 | G30: =VI.A!$F$525 -> 0 | H30: =VI.A!$F$537 -> 0 | I30: =ROUND(D30*F30,2) -> 0 | J30: =ROUND(D30*G30,2) -> 0 | K30: =ROUND(D30*H30,2) -> 0 | L30: =ROUND(D30*F30,2)+ROUND(D30*G30,2)+ROUND(D30*H30,2) -> 0 | M30: =ROUND(L30/$L$174,6) -> #DIV/0!
A31: 2.1.7 | B31: REMOÇÃO COMPLETA DE CERCA DE ALAMBRADO COM OU SEM REAPROVEITAMENTO | C31: M | D31: 3000 | E31: =F31+G31+H31 -> 0 | F31: =VI.A!$F$559 -> 0 | G31: =VI.A!$F$573 -> 0 | H31: =VI.A!$F$585 -> 0 | I31: =ROUND(D31*F31,2) -> 0 | J31: =ROUND(D31*G31,2) -> 0 | K31: =ROUND(D31*H31,2) -> 0 | L31: =ROUND(D31*F31,2)+ROUND(D31*G31,2)+ROUND(D31*H31,2) -> 0 | M31: =ROUND(L31/$L$174,6) -> #DIV/0!
A32: 2.2 | B32: CARGA, TRANSPORTE E DESCARGA - ITEM 7.2 DO TERMO DE REFERÊNCIA
A33: 2.2.1 | B33: CARGA MANUAL DE MATERIAIS PROVENIENTES DE DEMOLIÇÕES EM GERAL | C33: M3 | D33: 50 | E33: =F33+G33+H33 -> 0 | F33: =VI.A!$F$607 -> 0 | G33: =VI.A!$F$621 -> 0 | H33: =VI.A!$F$633 -> 0 | I33: =ROUND(D33*F33,2) -> 0 | J33: =ROUND(D33*G33,2) -> 0 | K33: =ROUND(D33*H33,2) -> 0 | L33: =ROUND(D33*F33,2)+ROUND(D33*G33,2)+ROUND(D33*H33,2) -> 0 | M33: =ROUND(L33/$L$174,6) -> #DIV/0!
A34: 2.2.2 | B34: CARGA MECANIZADA DE MATERIAIS PROVENIENTES DE DEMOLIÇÕES EM GERAL | C34: M3 | D34: 300 | E34: =F34+G34+H34 -> 0 | F34: =VI.A!$F$655 -> 0 | G34: =VI.A!$F$669 -> 0 | H34: =VI.A!$F$681 -> 0 | I34: =ROUND(D34*F34,2) -> 0 | J34: =ROUND(D34*G34,2) -> 0 | K34: =ROUND(D34*H34,2) -> 0 | L34: =ROUND(D34*F34,2)+ROUND(D34*G34,2)+ROUND(D34*H34,2) -> 0 | M34: =ROUND(L34/$L$174,6) -> #DIV/0!
A35: 2.2.3 | B35: BOTA-FORA E DESCARGA DE MATERIAIS PROVENIENTES DE DEMOLIÇÕES EM GERAL | C35: M3.KM | D35: 10500 | E35: =F35+G35+H35 -> 0 | F35: =VI.A!$F$703 -> 0 | G35: =VI.A!$F$717 -> 0 | H35: =VI.A!$F$729 -> 0 | I35: =ROUND(D35*F35,2) -> 0 | J35: =ROUND(D35*G35,2) -> 0 | K35: =ROUND(D35*H35,2) -> 0 | L35: =ROUND(D35*F35,2)+ROUND(D35*G35,2)+ROUND(D35*H35,2) -> 0 | M35: =ROUND(L35/$L$174,6) -> #DIV/0!
A36: 2.2.4 | B36: LOCAL LICENCIADO PARA DEPÓSITO DE BOTA FORA | C36: M3 | D36: 350 | E36: =F36+G36+H36 -> 0 | F36: =VI.A!F751 -> 0 | G36: =VI.A!F765 -> 0 | H36: =VI.A!F777 -> 0 | I36: =ROUND(D36*F36,2) -> 0 | J36: =ROUND(D36*G36,2) -> 0 | K36: =ROUND(D36*H36,2) -> 0 | L36: =ROUND(D36*F36,2)+ROUND(D36*G36,2)+ROUND(D36*H36,2) -> 0 | M36: =ROUND(L36/$L$174,6) -> #DIV/0!
A37: 2.3 | B37: SINALIZAÇÃO DE TRÂNSITO - ITEM 7.3 DO TERMO DE REFERÊNCIA
A38: 2.3.1 | B38: SINALIZAÇÃO DE OBRA COM CONE DE PVC COM PINTURA REFLEXIVA H = 0,70 M | C38: UN | D38: 12 | E38: =F38+G38+H38 -> 0 | F38: =VI.A!F799 -> 0 | G38: =VI.A!F813 -> 0 | H38: =VI.A!F825 -> 0 | I38: =ROUND(D38*F38,2) -> 0 | J38: =ROUND(D38*G38,2) -> 0 | K38: =ROUND(D38*H38,2) -> 0 | L38: =ROUND(D38*F38,2)+ROUND(D38*G38,2)+ROUND(D38*H38,2) -> 0 | M38: =ROUND(L38/$L$174,6) -> #DIV/0!
A39: 2.3.2 | B39: ISOLAMENTO DE OBRA COM TELA PLÁSTICA COM MALHA DE 5 MM | C39: M | D39: 3000 | E39: =F39+G39+H39 -> 0 | F39: =VI.A!F847 -> 0 | G39: =VI.A!F861 -> 0 | H39: =VI.A!F873 -> 0 | I39: =ROUND(D39*F39,2) -> 0 | J39: =ROUND(D39*G39,2) -> 0 | K39: =ROUND(D39*H39,2) -> 0 | L39: =ROUND(D39*F39,2)+ROUND(D39*G39,2)+ROUND(D39*H39,2) -> 0 | M39: =ROUND(L39/$L$174,6) -> #DIV/0!
A40: 2.3.3 | B40: FORNECIMENTO E MONTAGEM/INSTALAÇÃO DE PLACAS DE SINALIZAÇÃO COM PINTURA REFLETIVA PARA APROVEITAMENTO | C40: M2 | D40: 5 | E40: =F40+G40+H40 -> 0 | F40: =VI.A!F895 -> 0 | G40: =VI.A!F909 -> 0 | H40: =VI.A!F921 -> 0 | I40: =ROUND(D40*F40,2) -> 0 | J40: =ROUND(D40*G40,2) -> 0 | K40: =ROUND(D40*H40,2) -> 0 | L40: =ROUND(D40*F40,2)+ROUND(D40*G40,2)+ROUND(D40*H40,2) -> 0 | M40: =ROUND(L40/$L$174,6) -> #DIV/0!
A41: 2.3.4 | B41: SINALIZAÇÃO DE TRÂNSITO COM CAVALETE DE MADEIRA SIMPLES | C41: UN | D41: 10 | E41: =F41+G41+H41 -> 0 | F41: =VI.A!F943 -> 0 | G41: =VI.A!F957 -> 0 | H41: =VI.A!F969 -> 0 | I41: =ROUND(D41*F41,2) -> 0 | J41: =ROUND(D41*G41,2) -> 0 | K41: =ROUND(D41*H41,2) -> 0 | L41: =ROUND(D41*F41,2)+ROUND(D41*G41,2)+ROUND(D41*H41,2) -> 0 | M41: =ROUND(L41/$L$174,6) -> #DIV/0!
A43: 3.0 | B43: FECHAMENTOS, PROTEÇÕES E ALVENARIAS EM GERAL | C43: SUB-TOTAL | F43: =I43 -> 0 | G43: =J43 -> 0 | H43: =K43 -> 0 | I43: =SUM(I46:I110) -> 0 | J43: =SUM(J46:J110) -> 0 | K43: =SUM(K46:K110) -> 0 | L43: =SUM(L46:L110) -> 0 | M43: =ROUND(L43/$L$174,6) -> #DIV/0!
F44: =ROUND(F43/L43,6) -> #DIV/0! | G44: =ROUND(G43/L43,6) -> #DIV/0! | H44: =ROUND(H43/L43,6) -> #DIV/0! | I44: =IF(I43=F43,"sim","nao") -> sim | J44: =IF(J43=G43,"sim","nao") -> sim | K44: =IF(K43=H43,"sim","nao") -> sim
A45: 3.1 | B45: PROTEÇÃO DE ÁREA DE RESERVATÓRIO - PORTÕES, ALAMBRADOS E ITENS CONSTITUINTES - ITENS 8.1.1 A 8.1.8 DO TERMO DE REFERÊNCIA
A46: 3.1.1 | B46: ALAMBRADO COM TELA DE ARAME GALVANIZADO, FIXADA EM MOURÃO DE CONCRETO ARMADO, INCLUINDO MURETA DE CONCRETO | C46: M | D46: 250 | E46: =F46+G46+H46 -> 0 | F46: =VI.A!$F$991 -> 0 | G46: =VI.A!$F$1005 -> 0 | H46: =VI.A!$F$1017 -> 0 | I46: =ROUND(D46*F46,2) -> 0 | J46: =ROUND(D46*G46,2) -> 0 | K46: =ROUND(D46*H46,2) -> 0 | L46: =ROUND(D46*F46,2)+ROUND(D46*G46,2)+ROUND(D46*H46,2) -> 0 | M46: =ROUND(L46/$L$174,6) -> #DIV/0!
A47: 3.1.2 | B47: ALTEAMENTO DE PROTEÇÃO EM ARAME COM LÂMINAS - CONCERTINA AÇO GALVANIZADO - FORNECIMENTO E INSTALAÇÃO | C47: M | D47: 3500 | E47: =F47+G47+H47 -> 0 | F47: =VI.A!F1039 -> 0 | G47: =VI.A!F1053 -> 0 | H47: =VI.A!F1065 -> 0 | I47: =ROUND(D47*F47,2) -> 0 | J47: =ROUND(D47*G47,2) -> 0 | K47: =ROUND(D47*H47,2) -> 0 | L47: =ROUND(D47*F47,2)+ROUND(D47*G47,2)+ROUND(D47*H47,2) -> 0 | M47: =ROUND(L47/$L$174,6) -> #DIV/0!
A48: 3.1.3 | B48: FORNECIMENTO E INSTALAÇÃO DE CONJUNTO DE PORTÕES DE ABRIR EM BARRA CHATA, SOB MEDIDA, COMPLETO, PADRÃO ANEXO X.I-A, PORTÃO SOCIAL (1,00 X 2,6) E PORTÃO DE VEÍCULOS (4,00 X 2,60), INCLUSIVE PILARES DE FIXAÇÃO | C48: UN | D48: 40 | E48: =F48+G48+H48 -> 0 | F48: =VI.A!F1087 -> 0 | G48: =VI.A!F1101 -> 0 | H48: =VI.A!F1113 -> 0 | I48: =ROUND(D48*F48,2) -> 0 | J48: =ROUND(D48*G48,2) -> 0 | K48: =ROUND(D48*H48,2) -> 0 | L48: =ROUND(D48*F48,2)+ROUND(D48*G48,2)+ROUND(D48*H48,2) -> 0 | M48: =ROUND(L48/$L$174,6) -> #DIV/0!
...

Sheet V.A
B1: =IV.A!A1 -> TIMBRE LICITANTE
B7: =IV.A!$A$7 -> EXECUÇÃO DE SERVIÇO DE REFORMA CIVIL, CONSTRUÇÕES E MANUTENÇÕES GERAIS PARA MELHORIAS NAS ÁREAS DE PROPRIEDADE E/OU DE RESPONSABILIDADE DO SEMAE.
B9: ANEXO V.A - CRONOGRAMA FÍSICO-FINANCEIRO - LICITANTE
E12: 1º MÊS | H12: 2ºMÊS | K12: 3º MÊS | N12: 4º MÊS | Q12: 5º MÊS | T12: 6º MÊS
E13: MAT | F13: EQUIP | G13: MO | H13: MAT | I13: EQUIP | J13: MO | K13: MAT | L13: EQUIP | M13: MO | N13: MAT | O13: EQUIP | P13: MO | Q13: MAT | R13: EQUIP | S13: MO | T13: MAT | U13: EQUIP | V13: MO
B14: =IV.A!$A$14 -> 1.0 | C14: =IV.A!$B$14 -> CANTEIRO DE OBRAS | D14: =IV.A!$L$14 -> 0 | E14: =E15+F15+G15 -> 0 | H14: =H15+I15+J15 -> 0 | K14: =K15+L15+M15 -> 0 | N14: =N15+O15+P15 -> 0 | Q14: =Q15+R15+S15 -> 0 | T14: =T15+U15+V15 -> 0 | W14: =N14+Q14+T14+K14+H14+E14 -> 0
E15: =IV.A!$F$14*0.0819/2 -> 0 | F15: =IV.A!$G$14*0.0819/2 -> 0 | G15: =IV.A!$H$14*0.0819/2 -> 0 | H15: =IV.A!$F$14*0.0842/2 -> 0 | I15: =IV.A!$G$14*0.0842/2 -> 0 | J15: =IV.A!$H$14*0.0842/2 -> 0 | K15: =IV.A!$F$14*0.0842/2 -> 0 | L15: =IV.A!$G$14*0.0842/2 -> 0 | M15: =IV.A!$H$14*0.0842/2 -> 0 | N15: =IV.A!$F$14*0.0842/2 -> 0 | O15: =IV.A!$G$14*0.0842/2 -> 0 | P15: =IV.A!$H$14*0.0842/2 -> 0 | Q15: =IV.A!$F$14*0.09/2 -> 0 | R15: =IV.A!$G$14*0.09/2 -> 0 | S15: =IV.A!$H$14*0.09/2 -> 0 | T15: =IV.A!$F$14*0.09/2 -> 0 | U15: =IV.A!$G$14*0.09/2 -> 0 | V15: =IV.A!$H$14*0.09/2 -> 0
D16: =IV.A!$M$14 -> #DIV/0! | E16: =E14/$D$51 -> #DIV/0! | H16: =H14/$D$51 -> #DIV/0! | K16: =K14/$D$51 -> #DIV/0! | N16: =N14/$D$51 -> #DIV/0! | Q16: =Q14/$D$51 -> #DIV/0! | T16: =T14/$D$51 -> #DIV/0! | W16: =W14/D14 -> #DIV/0!
B17: =IV.A!$A$22 -> 2.0 | C17: =IV.A!$B$22 -> SERVIÇOS INICIAIS | D17: =IV.A!$L$22 -> 0 | E17: =E18+F18+G18 -> 0 | H17: =H18+I18+J18 -> 0 | K17: =K18+L18+M18 -> 0 | N17: =N18+O18+P18 -> 0 | Q17: =Q18+R18+S18 -> 0 | T17: =T18+U18+V18 -> 0 | W17: =N17+Q17+T17+K17+H17+E17 -> 0
E18: =IV.A!$F$22*0.09/2 -> 0 | F18: =IV.A!$G$22*0.09/2 -> 0 | G18: =IV.A!$H$22*0.09/2 -> 0 | H18: =IV.A!$F$22*0.09/2 -> 0 | I18: =IV.A!$G$22*0.09/2 -> 0 | J18: =IV.A!$H$22*0.09/2 -> 0 | K18: =IV.A!$F$22*0.09/2 -> 0 | L18: =IV.A!$G$22*0.09/2 -> 0 | M18: =IV.A!$H$22*0.09/2 -> 0 | N18: =IV.A!$F$22*0.09/2 -> 0 | O18: =IV.A!$G$22*0.09/2 -> 0 | P18: =IV.A!$H$22*0.09/2 -> 0 | Q18: =IV.A!$F$22/12/2 -> 0 | R18: =IV.A!$G$22/12/2 -> 0 | S18: =IV.A!$H$22/12/2 -> 0 | T18: =IV.A!$F$22/12/2 -> 0 | U18: =IV.A!$G$22/12/2 -> 0 | V18: =IV.A!$H$22/12/2 -> 0
D19: =IV.A!$M$22 -> #DIV/0! | E19: =E17/$D$54 -> #DIV/0! | H19: =H17/$D$54 -> #DIV/0! | K19: =K17/$D$54 -> #DIV/0! | N19: =N17/$D$54 -> #DIV/0! | Q19: =Q17/$D$54 -> #DIV/0! | T19: =T17/$D$54 -> #DIV/0! | W19: =W17/D17 -> #DIV/0!
B20: =IV.A!$A$43 -> 3.0 | C20: =IV.A!$B$43 -> FECHAMENTOS, PROTEÇÕES E ALVENARIAS EM GERAL | D20: =IV.A!$L$43 -> 0 | E20: =E21+F21+G21 -> 0 | H20: =H21+I21+J21 -> 0 | K20: =K21+L21+M21 -> 0 | N20: =N21+O21+P21 -> 0 | Q20: =Q21+R21+S21 -> 0 | T20: =T21+U21+V21 -> 0 | W20: =N20+Q20+T20+K20+H20+E20 -> 0
E21: =IV.A!$F$43*0.09/2 -> 0 | F21: =IV.A!$G$43*0.09/2 -> 0 | G21: =IV.A!$H$43*0.09/2 -> 0 | H21: =IV.A!$F$43*0.1/2 -> 0 | I21: =IV.A!$G$43*0.1/2 -> 0 | J21: =IV.A!$H$43*0.1/2 -> 0 | K21: =IV.A!$F$43*0.11/2 -> 0 | L21: =IV.A!$G$43*0.11/2 -> 0 | M21: =IV.A!$H$43*0.11/2 -> 0 | N21: =IV.A!$F$43*0.11/2 -> 0 | O21: =IV.A!$G$43*0.11/2 -> 0 | P21: =IV.A!$H$43*0.11/2 -> 0 | Q21: =IV.A!$F$43*0.1/2 -> 0 | R21: =IV.A!$G$43*0.1/2 -> 0 | S21: =IV.A!$H$43*0.1/2 -> 0 | T21: =IV.A!$F$43*0.09/2 -> 0 | U21: =IV.A!$G$43*0.09/2 -> 0 | V21: =IV.A!$H$43*0.09/2 -> 0
D22: =IV.A!$M$43 -> #DIV/0! | E22: =E20/$D$57 -> #DIV/0! | H22: =H20/$D$57 -> #DIV/0! | K22: =K20/$D$57 -> #DIV/0! | N22: =N20/$D$57 -> #DIV/0! | Q22: =Q20/$D$57 -> #DIV/0! | T22: =T20/$D$57 -> #DIV/0! | W22: =W20/D20 -> #DIV/0!
B23: =IV.A!$A$112 -> 4.0 | C23: =IV.A!$B$112 -> FORNECIMENTO E INSTALAÇÕES HIDRAULICAS - ITEM 9.0 DO TERMO DE REFERÊNCIA | D23: =IV.A!$L$112 -> 0 | E23: =E24+F24+G24 -> 0 | H23: =H24+I24+J24 -> 0 | K23: =K24+L24+M24 -> 0 | N23: =N24+O24+P24 -> 0 | Q23: =Q24+R24+S24 -> 0 | T23: =T24+U24+V24 -> 0 | W23: =N23+Q23+T23+K23+H23+E23 -> 0
E24: =IV.A!$F$112/12/2 -> 0 | F24: =IV.A!$G$112/12/2 -> 0 | G24: =IV.A!$H$112/12/2 -> 0 | H24: =IV.A!$F$112/12/2 -> 0 | I24: =IV.A!$G$112/12/2 -> 0 | J24: =IV.A!$H$112/12/2 -> 0 | K24: =IV.A!$F$112/12/2 -> 0 | L24: =IV.A!$G$112/12/2 -> 0 | M24: =IV.A!$H$112/12/2 -> 0 | N24: =IV.A!$F$112/12/2 -> 0 | O24: =IV.A!$G$112/12/2 -> 0 | P24: =IV.A!$H$112/12/2 -> 0 | Q24: =IV.A!$F$112/12/2 -> 0 | R24: =IV.A!$G$112/12/2 -> 0 | S24: =IV.A!$H$112/12/2 -> 0 | T24: =IV.A!$F$112/12/2 -> 0 | U24: =IV.A!$G$112/12/2 -> 0 | V24: =IV.A!$H$112/12/2 -> 0
D25: =IV.A!$M$112 -> #DIV/0! | E25: =E23/$D$60 -> #DIV/0! | H25: =H23/$D$60 -> #DIV/0! | K25: =K23/$D$60 -> #DIV/0! | N25: =N23/$D$60 -> #DIV/0! | Q25: =Q23/$D$60 -> #DIV/0! | T25: =T23/$D$60 -> #DIV/0! | W25: =W23/D23 -> #DIV/0!
B26: =IV.A!$A$126 -> 5.0 | C26: =IV.A!$B$126 -> RECUPERAÇÃO E TRATAMENTO DE SUPERFÍCIES EM CONCRETO ARMADO - ITEM 10.0 DO TERMO DE REFERÊNCIA | D26: =IV.A!$L$126 -> 0 | E26: =E27+F27+G27 -> 0 | H26: =H27+I27+J27 -> 0 | K26: =K27+L27+M27 -> 0 | N26: =N27+O27+P27 -> 0 | Q26: =Q27+R27+S27 -> 0 | T26: =T27+U27+V27 -> 0 | W26: =N26+Q26+T26+K26+H26+E26 -> 0
E27: =IV.A!$F$126/12/2 -> 0 | F27: =IV.A!$G$126/12/2 -> 0 | G27: =IV.A!$H$126/12/2 -> 0 | H27: =IV.A!$F$126/12/2 -> 0 | I27: =IV.A!$G$126/12/2 -> 0 | J27: =IV.A!$H$126/12/2 -> 0 | K27: =IV.A!$F$126/12/2 -> 0 | L27: =IV.A!$G$126/12/2 -> 0 | M27: =IV.A!$H$126/12/2 -> 0 | N27: =IV.A!$F$126/12/2 -> 0 | O27: =IV.A!$G$126/12/2 -> 0 | P27: =IV.A!$H$126/12/2 -> 0 | Q27: =IV.A!$F$126/12/2 -> 0 | R27: =IV.A!$G$126/12/2 -> 0 | S27: =IV.A!$H$126/12/2 -> 0 | T27: =IV.A!$F$126/12/2 -> 0 | U27: =IV.A!$G$126/12/2 -> 0 | V27: =IV.A!$H$126/12/2 -> 0
D28: =IV.A!$M$126 -> #DIV/0! | E28: =E26/$D$63 -> #DIV/0! | H28: =H26/$D$63 -> #DIV/0! | K28: =K26/$D$63 -> #DIV/0! | N28: =N26/$D$63 -> #DIV/0! | Q28: =Q26/$D$63 -> #DIV/0! | T28: =T26/$D$63 -> #DIV/0! | W28: =W26/D26 -> #DIV/0!
B29: =IV.A!$A$134 -> 6.0 | C29: =IV.A!$B$134 -> PINTURAS - ITEM 11.0 DO TERMO DE REFERÊNCIA | D29: =IV.A!$L$134 -> 0 | E29: =E30+F30+G30 -> 0 | H29: =H30+I30+J30 -> 0 | K29: =K30+L30+M30 -> 0 | N29: =N30+O30+P30 -> 0 | Q29: =Q30+R30+S30 -> 0 | T29: =T30+U30+V30 -> 0 | W29: =N29+Q29+T29+K29+H29+E29 -> 0
E30: =IV.A!$F$134*0.085/2 -> 0 | F30: =IV.A!$G$134*0.085/2 -> 0 | G30: =IV.A!$H$134*0.085/2 -> 0 | H30: =IV.A!$F$134*0.085/2 -> 0 | I30: =IV.A!$G$134*0.085/2 -> 0 | J30: =IV.A!$H$134*0.085/2 -> 0 | K30: =IV.A!$F$134*0.085/2 -> 0 | L30: =IV.A!$G$134*0.085/2 -> 0 | M30: =IV.A!$H$134*0.085/2 -> 0 | N30: =IV.A!$F$134*0.085/2 -> 0 | O30: =IV.A!$G$134*0.085/2 -> 0 | P30: =IV.A!$H$134*0.085/2 -> 0 | Q30: =IV.A!$F$134*0.08/2 -> 0 | R30: =IV.A!$G$134*0.08/2 -> 0 | S30: =IV.A!$H$134*0.08/2 -> 0 | T30: =IV.A!$F$134*0.08/2 -> 0 | U30: =IV.A!$G$134*0.08/2 -> 0 | V30: =IV.A!$H$134*0.08/2 -> 0
D31: =IV.A!$M$134 -> #DIV/0! | E31: =E29/$D$66 -> #DIV/0! | H31: =H29/$D$66 -> #DIV/0! | K31: =K29/$D$66 -> #DIV/0! | N31: =N29/$D$66 -> #DIV/0! | Q31: =Q29/$D$66 -> #DIV/0! | T31: =T29/$D$66 -> #DIV/0! | W31: =W29/D29 -> #DIV/0!
B32: =IV.A!$A$155 -> 7.0 | C32: =IV.A!$B$155 -> SERVIÇOS COMPLEMENTARES - ITEM 12.0 DO TERMO DE REFERÊNCIA | D32: =IV.A!$L$155 -> 0 | E32: =E33+F33+G33 -> 0 | H32: =H33+I33+J33 -> 0 | K32: =K33+L33+M33 -> 0 | N32: =N33+O33+P33 -> 0 | Q32: =Q33+R33+S33 -> 0 | T32: =T33+U33+V33 -> 0 | W32: =N32+Q32+T32+K32+H32+E32 -> 0
E33: =IV.A!$F$155*0.08/2 -> 0 | F33: =IV.A!$G$155*0.08/2 -> 0 | G33: =IV.A!$H$155*0.08/2 -> 0 | H33: =IV.A!$F$155/12/2 -> 0 | I33: =IV.A!$G$155/12/2 -> 0 | J33: =IV.A!$H$155/12/2 -> 0 | K33: =IV.A!$F$155/12/2 -> 0 | L33: =IV.A!$G$155/12/2 -> 0 | M33: =IV.A!$H$155/12/2 -> 0 | N33: =IV.A!$F$155/12/2 -> 0 | O33: =IV.A!$G$155/12/2 -> 0 | P33: =IV.A!$H$155/12/2 -> 0 | Q33: =IV.A!$F$155*0.12/2 -> 0 | R33: =IV.A!$G$155*0.12/2 -> 0 | S33: =IV.A!$H$155*0.12/2 -> 0 | T33: =IV.A!$F$155*0.12/2 -> 0 | U33: =IV.A!$G$155*0.12/2 -> 0 | V33: =IV.A!$H$155*0.12/2 -> 0
D34: =IV.A!$M$155 -> #DIV/0! | E34: =E32/$D$69 -> #DIV/0! | H34: =H32/$D$69 -> #DIV/0! | K34: =K32/$D$69 -> #DIV/0! | N34: =N32/$D$69 -> #DIV/0! | Q34: =Q32/$D$69 -> #DIV/0! | T34: =T32/$D$69 -> #DIV/0! | W34: =W32/D32 -> #DIV/0!
B36: MEDIÇÃO MENSAL | D36: =D14+D17+D20+D23+D26+D29+D32 -> 0 | E36: =E37+F37+G37 -> 0 | H36: =H37+I37+J37 -> 0 | K36: =K37+L37+M37 -> 0 | N36: =N37+O37+P37 -> 0 | Q36: =Q37+R37+S37 -> 0 | T36: =T37+U37+V37 -> 0 | W36: =W14+W17+W20+W23+W26+W29+W32 -> 0
E37: =E27+E24+E21+E18+E15+E30+E33 -> 0 | F37: =F27+F24+F21+F18+F15+F30+F33 -> 0 | G37: =G27+G24+G21+G18+G15+G30+G33 -> 0 | H37: =H27+H24+H21+H18+H15+H30+H33 -> 0 | I37: =I27+I24+I21+I18+I15+I30+I33 -> 0 | J37: =J27+J24+J21+J18+J15+J30+J33 -> 0 | K37: =K27+K24+K21+K18+K15+K30+K33 -> 0 | L37: =L27+L24+L21+L18+L15+L30+L33 -> 0 | ... V37: =V27+V24+V21+V18+V15+V30+V33 -> 0
D38: =D16+D19+D22+D25+D28+D31+D34 -> #DIV/0! | E38: =ROUND(E36/$D$36,6) -> #DIV/0! | H38: =ROUND(H36/$D$36,6) -> #DIV/0! | K38: =ROUND(K36/$D$36,6) -> #DIV/0! | N38: =ROUND(N36/$D$36,6) -> #DIV/0! | Q38: =ROUND(Q36/$D$36,6) -> #DIV/0! | T38: =ROUND(T36/$D$36,6) -> #DIV/0! | W38: =ROUND(N38+Q38+T38+K38+H38+E38,6) -> #DIV/0!
B40: MEDIÇÕES MENSAIS ACUMULADAS | D40: R$ | E40: =E36 -> 0 | H40: =H36+E40 -> 0 | K40: =K36+H40 -> 0 | N40: =N36+K40 -> 0 | Q40: =Q36+N40 -> 0 | T40: =T36+Q40 -> 0
B41: MEDIÇÕES MENSAIS ACUMULADAS | D41: R$ | E41: =E37 -> 0 | F41: =F37 -> 0 | G41: =G37 -> 0 | H41: =H37+E41 -> 0 | I41: =I37+F41 -> 0 | J41: =J37+G41 -> 0 | K41: =K37+H41 -> 0 | L41: =L37+I41 -> 0 | M41: =M37+J41 -> 0 | N41: =N37+K41 -> 0 | O41: =O37+L41 -> 0 | ... V41: =V37+S41 -> 0
B42: SALDO CONTRATUAL | D42: R$ | E42: =$D$36-E40 -> 0 | H42: =$D$36-H40 -> 0 | K42: =$D$36-K40 -> 0 | N42: =$D$36-N40 -> 0 | Q42: =$D$36-Q40 -> 0 | T42: =$D$36-T40 -> 0
B43: SALDO CONTRATUAL | D43: R$ | E43: =IV.A!$L$175-E41 -> 0 | F43: =IV.A!$L$176-F41 -> 0 | G43: =IV.A!$L$177-G41 -> 0 | H43: =IV.A!$L$175-H41 -> 0 | I43: =IV.A!$L$176-I41 -> 0 | J43: =IV.A!$L$177-J41 -> 0 | K43: =IV.A!$L$175-K41 -> 0 | L43: =IV.A!$L$176-L41 -> 0 | M43: =IV.A!$L$177-M41 -> 0 | N43: =IV.A!$L$175-N41 -> 0 | O43: =IV.A!$L$176-O41 -> 0 | P43: =IV.A!$L$177-P41 -> 0 | Q43: =IV.A!$L$175-Q41 -> 0 | R43: =IV.A!$L$176-R41 -> 0 | S43: =IV.A!$L$177-S41 -> 0 | T43: =IV.A!$L$175-T41 -> 0 | U43: =IV.A!$L$176-U41 -> 0 | V43: =IV.A!$L$177-V41 -> 0
B47: =IV.A!A203 -> 0
E49: 7º MÊS | H49: 8º MÊS | K49: 9º MÊS | N49: 10º MÊS | Q49: 11º MÊS | T49: 12º MÊS
E50: MAT | F50: EQUIP | G50: MO | H50: MAT | I50: EQUIP | J50: MO | K50: MAT | L50: EQUIP | M50: MO | N50: MAT | O50: EQUIP | P50: MO | Q50: MAT | R50: EQUIP | S50: MO | T50: MAT | U50: EQUIP | V50: MO
B51: =IV.A!$A$14 -> 1.0 | C51: =IV.A!$B$14 -> CANTEIRO DE OBRAS | D51: =IV.A!$L$14 -> 0 | E51: =E52+F52+G52 -> 0 | H51: =H52+I52+J52 -> 0 | K51: =K52+L52+M52 -> 0 | N51: =N52+O52+P52 -> 0 | Q51: =Q52+R52+S52 -> 0 | T51: =T52+U52+V52 -> 0 | W51: =N51+Q51+T51+K51+H51+E51+W14 -> 0
E52: =IV.A!$F$14*0.09/2 -> 0 | F52: =IV.A!$G$14*0.09/2 -> 0 | G52: =IV.A!$H$14*0.09/2 -> 0 | H52: =IV.A!$F$14*0.0811/2 -> 0 | I52: =IV.A!$G$14*0.0811/2 -> 0 | J52: =IV.A!$H$14*0.0811/2 -> 0 | K52: =IV.A!$F$14*0.0811/2 -> 0 | L52: =IV.A!$G$14*0.0811/2 -> 0 | M52: =IV.A!$H$14*0.0811/2 -> 0 | N52: =IV.A!$F$14*0.0811/2 -> 0 | O52: =IV.A!$G$14*0.0811/2 -> 0 | P52: =IV.A!$H$14*0.0811/2 -> 0 | Q52: =IV.A!$F$14*0.0811/2 -> 0 | R52: =IV.A!$G$14*0.0811/2 -> 0 | S52: =IV.A!$H$14*0.0811/2 -> 0 | T52: =IV.A!$F$14*0.0711/2 -> 0 | U52: =IV.A!$G$14*0.0711/2 -> 0 | V52: =IV.A!$H$14*0.0711/2 -> 0
D53: =IV.A!$M$14 -> #DIV/0! | E53: =E51/$D$51 -> #DIV/0! | H53: =H51/$D$51 -> #DIV/0! | K53: =K51/$D$51 -> #DIV/0! | N53: =N51/$D$51 -> #DIV/0! | Q53: =Q51/$D$51 -> #DIV/0! | T53: =T51/$D$51 -> #DIV/0! | W53: =W51/D51 -> #DIV/0!
B54: =IV.A!$A$22 -> 2.0 | C54: =IV.A!$B$22 -> SERVIÇOS INICIAIS | D54: =IV.A!$L$22 -> 0 | E54: =E55+F55+G55 -> 0 | H54: =H55+I55+J55 -> 0 | K54: =K55+L55+M55 -> 0 | N54: =N55+O55+P55 -> 0 | Q54: =Q55+R55+S55 -> 0 | T54: =T55+U55+V55 -> 0 | W54: =N54+Q54+T54+K54+H54+E54+W17 -> 0
...

Sheet VI.A
A1: =IV.A!A1 -> TIMBRE LICITANTE
A6: =IV.A!$A$7 -> EXECUÇÃO DE SERVIÇO DE REFORMA CIVIL, CONSTRUÇÕES E MANUTENÇÕES GERAIS PARA MELHORIAS NAS ÁREAS DE PROPRIEDADE E/OU DE RESPONSABILIDADE DO SEMAE.
A7: LEIS SOCIAIS HORISTA - JORNADA NORMAL | D7: =IX.A!$C$45 -> 0 | E7: DATA-BASE: | F7: =IV.A!L8 -> 46175
A8: BDI | D8: =VIII.A!$C$29 -> 0
A9: ANEXO VI.A - PLANILHA DE COMPOSIÇÕES UNITÁRIAS DE SERVIÇOS - LICITANTE
A11: =IV.A!$A$16 -> 1.1 | B11: =IV.A!$B$16 -> CANTEIRO DE OBRAS (ITEM 6.0 DO TERMO DE REFERÊNCIA) | C11: UNIDADE: | E11: =IV.A!$C$16 -> GB | F11: =ROUND(F31+F45+F57,2) -> 0 | G11: =VLOOKUP(A11,IV.A!$A$16:$L$172,4,FALSE) -> 1 | H11: =SUM(F13:F28)+F30 -> 0 | I11: =SUM(F33:F42)+F44 -> 0 | J11: =SUM(F47:F53)+F55+F56 -> 0 | K11: =SUM(H11:J11) -> 0 | L11: =IF(K11=F11,"SIM","NÃO") -> SIM | M11: =ROUND(SUM(F13:F28),2)+ROUND(SUM(F13:F28)*C30,2)+ROUND(SUM(F33:F42)*C44,2)+ROUND(SUM(F33:F42),2)+ROUND(SUM(F47:F53)*C55,2)+ROUND((SUM(F47:F53)+ROUND(SUM(F47:F53)*C55,2))*C56,2)+ROUND(SUM(F47:F53),2) -> 0 | N11: =IF(M11=F11,"SIM","NÃO") -> SIM | O11: =VLOOKUP(A11,IV.A!$A$16:$E$172,3,FALSE) -> GB | P11: =IF(O11=E11,"SIM","NÃO") -> SIM | Q11: =ROUND(G11*F31,2)+ROUND(G11*F45,2)+ROUND(G11*F57,2) -> 0 | R11: =VLOOKUP(A11,IV.A!$A$16:$L$172,12,FALSE) -> 0 | S11: =IF(Q11=R11,"si","no") -> si | T11: =SUM(L13:L28)+SUM(L33:L42)+SUM(L47:L53) -> 21120 | U11: =(SUM(C13:C28)+SUM(C33:C42)+SUM(C47:C53))*G11 -> 21120 | V11: =IF(T11=U11,"si","no") -> si | W11: =SUM(F13:F28) -> 0 | X11: =SUM(F33:F42) -> 0 | Y11: =SUM(F47:F53) -> 0
A12: 1.0 | B12: MATERIAIS | C12: COEF | D12: UNID | E12: CUSTO UNIT (R$) | F12: TOTAL (R$)
F13: =ROUND(C13*E13,2) -> 0 | H13: =IF(A13="","",VLOOKUP(A13,VII.A!$A$10:$D$199,4,FALSE)) | I13: =IF(A13="","",IF(E13=H13,"SIM","NÃO")) | J13: =IF(A13="","",VLOOKUP(A13,VII.A!$A$10:$D$199,3,FALSE)) | K13: =IF(A13="","",IF(J13=D13,"SIM","NÃO")) | L13: =IF(C13="","",G11*C13) | M13: =IF(A13="","",VLOOKUP(A13,VII.A!$A$10:$B$199,2,FALSE)) | N13: =IF(B13="","",IF(M13=B13,"si","no"))
F14: =ROUND(C14*E14,2) -> 0 | H14: =IF(A14="","",VLOOKUP(A14,VII.A!$A$10:$D$199,4,FALSE)) | I14: =IF(A14="","",IF(E14=H14,"SIM","NÃO")) | J14: =IF(A14="","",VLOOKUP(A14,VII.A!$A$10:$D$199,3,FALSE)) | K14: =IF(A14="","",IF(J14=D14,"SIM","NÃO")) | L14: =IF(C14="","",G11*C14) | M14: =IF(A14="","",VLOOKUP(A14,VII.A!$A$10:$B$199,2,FALSE)) | N14: =IF(B14="","",IF(M14=B14,"si","no"))
F15: =ROUND(C15*E15,2) -> 0 | H15: =IF(A15="","",VLOOKUP(A15,VII.A!$A$10:$D$199,4,FALSE)) | I15: =IF(A15="","",IF(E15=H15,"SIM","NÃO")) | J15: =IF(A15="","",VLOOKUP(A15,VII.A!$A$10:$D$199,3,FALSE)) | K15: =IF(A15="","",IF(J15=D15,"SIM","NÃO")) | L15: =IF(C15="","",G11*C15) | M15: =IF(A15="","",VLOOKUP(A15,VII.A!$A$10:$B$199,2,FALSE)) | N15: =IF(B15="","",IF(M15=B15,"si","no"))
F16: =ROUND(C16*E16,2) -> 0 | H16: =IF(A16="","",VLOOKUP(A16,VII.A!$A$10:$D$199,4,FALSE)) | I16: =IF(A16="","",IF(E16=H16,"SIM","NÃO")) | J16: =IF(A16="","",VLOOKUP(A16,VII.A!$A$10:$D$199,3,FALSE)) | K16: =IF(A16="","",IF(J16=D16,"SIM","NÃO")) | L16: =IF(C16="","",G11*C16) | M16: =IF(A16="","",VLOOKUP(A16,VII.A!$A$10:$B$199,2,FALSE)) | N16: =IF(B16="","",IF(M16=B16,"si","no"))
F17: =ROUND(C17*E17,2) -> 0 | H17: =IF(A17="","",VLOOKUP(A17,VII.A!$A$10:$D$199,4,FALSE)) | I17: =IF(A17="","",IF(E17=H17,"SIM","NÃO")) | J17: =IF(A17="","",VLOOKUP(A17,VII.A!$A$10:$D$199,3,FALSE)) | K17: =IF(A17="","",IF(J17=D17,"SIM","NÃO")) | L17: =IF(C17="","",G11*C17) | M17: =IF(A17="","",VLOOKUP(A17,VII.A!$A$10:$B$199,2,FALSE)) | N17: =IF(B17="","",IF(M17=B17,"si","no"))
F18: =ROUND(C18*E18,2) -> 0 | H18: =IF(A18="","",VLOOKUP(A18,VII.A!$A$10:$D$199,4,FALSE)) | I18: =IF(A18="","",IF(E18=H18,"SIM","NÃO")) | J18: =IF(A18="","",VLOOKUP(A18,VII.A!$A$10:$D$199,3,FALSE)) | K18: =IF(A18="","",IF(J18=D18,"SIM","NÃO")) | L18: =IF(C18="","",G11*C18) | M18: =IF(A18="","",VLOOKUP(A18,VII.A!$A$10:$B$199,2,FALSE)) | N18: =IF(B18="","",IF(M18=B18,"si","no"))
F19: =ROUND(C19*E19,2) -> 0 | H19: =IF(A19="","",VLOOKUP(A19,VII.A!$A$10:$D$199,4,FALSE)) | I19: =IF(A19="","",IF(E19=H19,"SIM","NÃO")) | J19: =IF(A19="","",VLOOKUP(A19,VII.A!$A$10:$D$199,3,FALSE)) | K19: =IF(A19="","",IF(J19=D19,"SIM","NÃO")) | L19: =IF(C19="","",G11*C19) | M19: =IF(A19="","",VLOOKUP(A19,VII.A!$A$10:$B$199,2,FALSE)) | N19: =IF(B19="","",IF(M19=B19,"si","no"))
F20: =ROUND(C20*E20,2) -> 0 | H20: =IF(A20="","",VLOOKUP(A20,VII.A!$A$10:$D$199,4,FALSE)) | I20: =IF(A20="","",IF(E20=H20,"SIM","NÃO")) | J20: =IF(A20="","",VLOOKUP(A20,VII.A!$A$10:$D$199,3,FALSE)) | K20: =IF(A20="","",IF(J20=D20,"SIM","NÃO")) | L20: =IF(C20="","",G11*C20) | M20: =IF(A20="","",VLOOKUP(A20,VII.A!$A$10:$B$199,2,FALSE)) | N20: =IF(B20="","",IF(M20=B20,"si","no"))
F21: =ROUND(C21*E21,2) -> 0 | H21: =IF(A21="","",VLOOKUP(A21,VII.A!$A$10:$D$199,4,FALSE)) | I21: =IF(A21="","",IF(E21=H21,"SIM","NÃO")) | J21: =IF(A21="","",VLOOKUP(A21,VII.A!$A$10:$D$199,3,FALSE)) | K21: =IF(A21="","",IF(J21=D21,"SIM","NÃO")) | L21: =IF(C21="","",G11*C21) | M21: =IF(A21="","",VLOOKUP(A21,VII.A!$A$10:$B$199,2,FALSE)) | N21: =IF(B21="","",IF(M21=B21,"si","no"))
F22: =ROUND(C22*E22,2) -> 0 | H22: =IF(A22="","",VLOOKUP(A22,VII.A!$A$10:$D$199,4,FALSE)) | I22: =IF(A22="","",IF(E22=H22,"SIM","NÃO")) | J22: =IF(A22="","",VLOOKUP(A22,VII.A!$A$10:$D$199,3,FALSE)) | K22: =IF(A22="","",IF(J22=D22,"SIM","NÃO")) | L22: =IF(C22="","",G11*C22) | M22: =IF(A22="","",VLOOKUP(A22,VII.A!$A$10:$B$199,2,FALSE)) | N22: =IF(B22="","",IF(M22=B22,"si","no"))
F23: =ROUND(C23*E23,2) -> 0 | H23: =IF(A23="","",VLOOKUP(A23,VII.A!$A$10:$D$199,4,FALSE)) | I23: =IF(A23="","",IF(E23=H23,"SIM","NÃO")) | J23: =IF(A23="","",VLOOKUP(A23,VII.A!$A$10:$D$199,3,FALSE)) | K23: =IF(A23="","",IF(J23=D23,"SIM","NÃO")) | L23: =IF(C23="","",G11*C23) | M23: =IF(A23="","",VLOOKUP(A23,VII.A!$A$10:$B$199,2,FALSE)) | N23: =IF(B23="","",IF(M23=B23,"si","no"))
F24: =ROUND(C24*E24,2) -> 0 | H24: =IF(A24="","",VLOOKUP(A24,VII.A!$A$10:$D$199,4,FALSE)) | I24: =IF(A24="","",IF(E24=H24,"SIM","NÃO")) | J24: =IF(A24="","",VLOOKUP(A24,VII.A!$A$10:$D$199,3,FALSE)) | K24: =IF(A24="","",IF(J24=D24,"SIM","NÃO")) | L24: =IF(C24="","",G11*C24) | M24: =IF(A24="","",VLOOKUP(A24,VII.A!$A$10:$B$199,2,FALSE)) | N24: =IF(B24="","",IF(M24=B24,"si","no"))
F25: =ROUND(C25*E25,2) -> 0 | H25: =IF(A25="","",VLOOKUP(A25,VII.A!$A$10:$D$199,4,FALSE)) | I25: =IF(A25="","",IF(E25=H25,"SIM","NÃO")) | J25: =IF(A25="","",VLOOKUP(A25,VII.A!$A$10:$D$199,3,FALSE)) | K25: =IF(A25="","",IF(J25=D25,"SIM","NÃO")) | L25: =IF(C25="","",G11*C25) | M25: =IF(A25="","",VLOOKUP(A25,VII.A!$A$10:$B$199,2,FALSE)) | N25: =IF(B25="","",IF(M25=B25,"si","no"))
F26: =ROUND(C26*E26,2) -> 0 | H26: =IF(A26="","",VLOOKUP(A26,VII.A!$A$10:$D$199,4,FALSE)) | I26: =IF(A26="","",IF(E26=H26,"SIM","NÃO")) | J26: =IF(A26="","",VLOOKUP(A26,VII.A!$A$10:$D$199,3,FALSE)) | K26: =IF(A26="","",IF(J26=D26,"SIM","NÃO")) | L26: =IF(C26="","",G11*C26) | M26: =IF(A26="","",VLOOKUP(A26,VII.A!$A$10:$B$199,2,FALSE)) | N26: =IF(B26="","",IF(M26=B26,"si","no"))
F27: =ROUND(C27*E27,2) -> 0 | H27: =IF(A27="","",VLOOKUP(A27,VII.A!$A$10:$D$199,4,FALSE)) | I27: =IF(A27="","",IF(E27=H27,"SIM","NÃO")) | J27: =IF(A27="","",VLOOKUP(A27,VII.A!$A$10:$D$199,3,FALSE)) | K27: =IF(A27="","",IF(J27=D27,"SIM","NÃO")) | L27: =IF(C27="","",G11*C27) | M27: =IF(A27="","",VLOOKUP(A27,VII.A!$A$10:$B$199,2,FALSE)) | N27: =IF(B27="","",IF(M27=B27,"si","no"))
F28: =ROUND(C28*E28,2) -> 0 | H28: =IF(A28="","",VLOOKUP(A28,VII.A!$A$10:$D$199,4,FALSE)) | I28: =IF(A28="","",IF(E28=H28,"SIM","NÃO")) | J28: =IF(A28="","",VLOOKUP(A28,VII.A!$A$10:$D$199,3,FALSE)) | K28: =IF(A28="","",IF(J28=D28,"SIM","NÃO")) | L28: =IF(C28="","",G11*C28) | M28: =IF(A28="","",VLOOKUP(A28,VII.A!$A$10:$B$199,2,FALSE)) | N28: =IF(B28="","",IF(M28=B28,"si","no"))
B29: SOMA | F29: =SUM(F13:F28) -> 0
B30: BDI | C30: =$D$8 -> 0 | F30: =ROUND(F29*C30,2) -> 0
B31: TOTAL MATERIAIS | F31: =F29+F30 -> 0
A32: 2.0 | B32: EQUIPAMENTOS E SERVIÇOS TERCEIRIZADOS | C32: COEF | D32: UNID | E32: CUSTO UNIT (R$) | F32: TOTAL (R$)
A33: =VII.A!$A$145 -> 2.3 | B33: =VLOOKUP(A33,VII.A!$A$10:$G$199,2,FALSE) -> VEÍCULO LEVE 4 PORTAS - 65 A 80 CV | C33: =C48*0.2 -> 844.8 | D33: =VLOOKUP(A33,VII.A!$A$10:$G$199,3,FALSE) -> CHP | E33: =VII.A!D145 -> 0 | F33: =ROUND(C33*E33,2) -> 0 | H33: =IF(A33="","",VLOOKUP(A33,VII.A!$A$10:$D$199,4,FALSE)) -> 0 | I33: =IF(A33="","",IF(E33=H33,"SIM","NÃO")) -> SIM | J33: =IF(A33="","",VLOOKUP(A33,VII.A!$A$10:$D$199,3,FALSE)) -> CHP | K33: =IF(A33="","",IF(J33=D33,"SIM","NÃO")) -> SIM | L33: =IF(C33="","",G11*C33) -> 844.8 | M33: =IF(A33="","",VLOOKUP(A33,VII.A!$A$10:$B$199,2,FALSE)) -> VEÍCULO LEVE 4 PORTAS - 65 A 80 CV | N33: =IF(B33="","",IF(M33=B33,"si","no")) -> si
A34: =VII.A!$A$146 -> 2.4 | B34: =VLOOKUP(A34,VII.A!$A$10:$G$199,2,FALSE) -> VEÍCULO LEVE 4 PORTAS - 65 A 80 CV - À DISPOSIÇÃO | C34: =C48*0.8 -> 3379.2 | D34: =VLOOKUP(A34,VII.A!$A$10:$G$199,3,FALSE) -> CHI | E34: =VII.A!D146 -> 0 | F34: =ROUND(C34*E34,2) -> 0 | H34: =IF(A34="","",VLOOKUP(A34,VII.A!$A$10:$D$199,4,FALSE)) -> 0 | I34: =IF(A34="","",IF(E34=H34,"SIM","NÃO")) -> SIM | J34: =IF(A34="","",VLOOKUP(A34,VII.A!$A$10:$D$199,3,FALSE)) -> CHI | K34: =IF(A34="","",IF(J34=D34,"SIM","NÃO")) -> SIM | L34: =IF(C34="","",G11*C34) -> 3379.2 | M34: =IF(A34="","",VLOOKUP(A34,VII.A!$A$10:$B$199,2,FALSE)) -> VEÍCULO LEVE 4 PORTAS - 65 A 80 CV - À DISPOSIÇÃO | N34: =IF(B34="","",IF(M34=B34,"si","no")) -> si
A35: =VII.A!$A$177 -> 2.35 | B35: =VLOOKUP(A35,VII.A!$A$10:$G$199,2,FALSE) -> PICAPE LEVE CABINE SIMPLES - CARGA ÚTIL 700KG - 85 A 95CV - STRADA WORKING OU SIMILAR | C35: =C47*0.2 -> 844.8 | D35: =VLOOKUP(A35,VII.A!$A$10:$G$199,3,FALSE) -> CHP | E35: =VII.A!D177 -> 0 | F35: =ROUND(C35*E35,2) -> 0 | H35: =IF(A35="","",VLOOKUP(A35,VII.A!$A$10:$D$199,4,FALSE)) -> 0 | I35: =IF(A35="","",IF(E35=H35,"SIM","NÃO")) -> SIM | J35: =IF(A35="","",VLOOKUP(A35,VII.A!$A$10:$D$199,3,FALSE)) -> CHP | K35: =IF(A35="","",IF(J35=D35,"SIM","NÃO")) -> SIM | L35: =IF(C35="","",G11*C35) -> 844.8 | M35: =IF(A35="","",VLOOKUP(A35,VII.A!$A$10:$B$199,2,FALSE)) -> PICAPE LEVE CABINE SIMPLES - CARGA ÚTIL 700KG - 85 A 95CV - STRADA WORKING OU SIMILAR | N35: =IF(B35="","",IF(M35=B35,"si","no")) -> si
A36: =VII.A!$A$178 -> 2.36 | B36: =VLOOKUP(A36,VII.A!$A$10:$G$199,2,FALSE) -> PICAPE LEVE CABINE SIMPLES - CARGA ÚTIL 700KG - 85 A 95CV - STRADA WORKING OU SIMILAR | C36: =C47*0.8 -> 3379.2 | D36: =VLOOKUP(A36,VII.A!$A$10:$G$199,3,FALSE) -> CHI | E36: =VII.A!D178 -> 0 | F36: =ROUND(C36*E36,2) -> 0 | H36: =IF(A36="","",VLOOKUP(A36,VII.A!$A$10:$D$199,4,FALSE)) -> 0 | I36: =IF(A36="","",IF(E36=H36,"SIM","NÃO")) -> SIM | J36: =IF(A36="","",VLOOKUP(A36,VII.A!$A$10:$D$199,3,FALSE)) -> CHI | K36: =IF(A36="","",IF(J36=D36,"SIM","NÃO")) -> SIM | L36: =IF(C36="","",G11*C36) -> 3379.2 | M36: =IF(A36="","",VLOOKUP(A36,VII.A!$A$10:$B$199,2,FALSE)) -> PICAPE LEVE CABINE SIMPLES - CARGA ÚTIL 700KG - 85 A 95CV - STRADA WORKING OU SIMILAR | N36: =IF(B36="","",IF(M36=B36,"si","no")) -> si
A37: =VII.A!$A$152 -> 2.10 | B37: =VLOOKUP(A37,VII.A!$A$10:$G$199,2,FALSE) -> CAMINHÃO - CARROCERIA FIXA ABERTA DE MADEIRA COM CAPACIDADE 5 T *160CV - CHP | C37: =C47*0.2 -> 844.8 | D37: =VLOOKUP(A37,VII.A!$A$10:$G$199,3,FALSE) -> CHP | E37: =VII.A!D152 -> 0 | F37: =ROUND(C37*E37,2) -> 0 | H37: =IF(A37="","",VLOOKUP(A37,VII.A!$A$10:$D$199,4,FALSE)) -> 0 | I37: =IF(A37="","",IF(E37=H37,"SIM","NÃO")) -> SIM | J37: =IF(A37="","",VLOOKUP(A37,VII.A!$A$10:$D$199,3,FALSE)) -> CHP | K37: =IF(A37="","",IF(J37=D37,"SIM","NÃO")) -> SIM | L37: =IF(C37="","",G11*C37) -> 844.8 | M37: =IF(A37="","",VLOOKUP(A37,VII.A!$A$10:$B$199,2,FALSE)) -> CAMINHÃO - CARROCERIA FIXA ABERTA DE MADEIRA COM CAPACIDADE 5 T *160CV - CHP | N37: =IF(B37="","",IF(M37=B37,"si","no")) -> si
A38: =VII.A!$A$153 -> 2.11 | B38: =VLOOKUP(A38,VII.A!$A$10:$G$199,2,FALSE) -> CAMINHÃO - CARROCERIA FIXA ABERTA DE MADEIRA COM CAPACIDADE 5 T *160CV - CHI | C38: =C47*0.8 -> 3379.2 | D38: =VLOOKUP(A38,VII.A!$A$10:$G$199,3,FALSE) -> CHI | E38: =VII.A!D153 -> 0 | F38: =ROUND(C38*E38,2) -> 0 | H38: =IF(A38="","",VLOOKUP(A38,VII.A!$A$10:$D$199,4,FALSE)) -> 0 | I38: =IF(A38="","",IF(E38=H38,"SIM","NÃO")) -> SIM | J38: =IF(A38="","",VLOOKUP(A38,VII.A!$A$10:$D$199,3,FALSE)) -> CHI | K38: =IF(A38="","",IF(J38=D38,"SIM","NÃO")) -> SIM | L38: =IF(C38="","",G11*C38) -> 3379.2 | M38: =IF(A38="","",VLOOKUP(A38,VII.A!$A$10:$B$199,2,FALSE)) -> CAMINHÃO - CARROCERIA FIXA ABERTA DE MADEIRA COM CAPACIDADE 5 T *160CV - CHI | N38: =IF(B38="","",IF(M38=B38,"si","no")) -> si
F39: =ROUND(C39*E39,2) -> 0 | H39: =IF(A39="","",VLOOKUP(A39,VII.A!$A$10:$D$199,4,FALSE)) | I39: =IF(A39="","",IF(E39=H39,"SIM","NÃO")) | J39: =IF(A39="","",VLOOKUP(A39,VII.A!$A$10:$D$199,3,FALSE)) | K39: =IF(A39="","",IF(J39=D39,"SIM","NÃO")) | L39: =IF(C39="","",G11*C39) | M39: =IF(A39="","",VLOOKUP(A39,VII.A!$A$10:$B$199,2,FALSE)) | N39: =IF(B39="","",IF(M39=B39,"si","no"))
F40: =ROUND(C40*E40,2) -> 0 | H40: =IF(A40="","",VLOOKUP(A40,VII.A!$A$10:$D$199,4,FALSE)) | I40: =IF(A40="","",IF(E40=H40,"SIM","NÃO")) | J40: =IF(A40="","",VLOOKUP(A40,VII.A!$A$10:$D$199,3,FALSE)) | K40: =IF(A40="","",IF(J40=D40,"SIM","NÃO")) | L40: =IF(C40="","",G11*C40) | M40: =IF(A40="","",VLOOKUP(A40,VII.A!$A$10:$B$199,2,FALSE)) | N40: =IF(B40="","",IF(M40=B40,"si","no"))
F41: =ROUND(C41*E41,2) -> 0 | H41: =IF(A41="","",VLOOKUP(A41,VII.A!$A$10:$D$199,4,FALSE)) | I41: =IF(A41="","",IF(E41=H41,"SIM","NÃO")) | J41: =IF(A41="","",VLOOKUP(A41,VII.A!$A$10:$D$199,3,FALSE)) | K41: =IF(A41="","",IF(J41=D41,"SIM","NÃO")) | L41: =IF(C41="","",G11*C41) | M41: =IF(A41="","",VLOOKUP(A41,VII.A!$A$10:$B$199,2,FALSE)) | N41: =IF(B41="","",IF(M41=B41,"si","no"))
F42: =ROUND(C42*E42,2) -> 0 | H42: =IF(A42="","",VLOOKUP(A42,VII.A!$A$10:$D$199,4,FALSE)) | I42: =IF(A42="","",IF(E42=H42,"SIM","NÃO")) | J42: =IF(A42="","",VLOOKUP(A42,VII.A!$A$10:$D$199,3,FALSE)) | K42: =IF(A42="","",IF(J42=D42,"SIM","NÃO")) | L42: =IF(C42="","",G11*C42) | M42: =IF(A42="","",VLOOKUP(A42,VII.A!$A$10:$B$199,2,FALSE)) | N42: =IF(B42="","",IF(M42=B42,"si","no"))
B43: SOMA | F43: =SUM(F33:F42) -> 0
B44: BDI | C44: =$D$8 -> 0 | F44: =ROUND(C44*F43,2) -> 0
B45: TOTAL EQUIPAMENTOS E SERVIÇOS TERCEIRIZADOS | F45: =F43+F44 -> 0
...

Sheet VII.A
A1: =IV.A!A1 -> TIMBRE LICITANTE
B4: ANEXO VII.A - PLANILHA DE CUSTOS UNITÁRIOS DE INSUMOS / SERVIÇOS - LICITANTE
A5: =IV.A!$A$7 -> EXECUÇÃO DE SERVIÇO DE REFORMA CIVIL, CONSTRUÇÕES E MANUTENÇÕES GERAIS PARA MELHORIAS NAS ÁREAS DE PROPRIEDADE E/OU DE RESPONSABILIDADE DO SEMAE.
A9: 1.0 | B9: MATERIAL | C9: UN | D9: VALOR | E9: FONTE | F9: CÓDIGO | G9: DATA
A10: 1.1 | B10: AÇO CA-50 (MÉDIA DAS BITOLAS) | C10: KG | E10: SINAPI | F10: 34 | G10: =IF(TRIM(E10)="SINAPI", "01/2026",IF(TRIM(E10)="SABESP","07/2025","OUTRO")) -> 01/2026 | H10: =SUMIF(VI.A!$B$6:$B$5963,B10,VI.A!$L$6:$L$5963) -> 41551.308 | I10: =IF(H10=0,"no","si") -> si | K10: =IF(E10="SABESP","OK",VLOOKUP(F10,[6]ISD!$B$11:$F$4861,5,FALSE)) -> 6.23 | L10: =IF(D10=K10,"OK",IF(K10="OK","OK","VERIFICAR")) -> VERIFICAR | M10: =IFERROR(IF(K10="não encontrado",D10,K10),D10) -> 6.23 | N10: =_xlfn.ISFORMULA(D10) -> FALSE
A11: 1.2 | B11: ADESIVO PARA TUBO EM PVC - FRASCO 850 GR. | C11: UN | E11: SINAPI | F11: 122 | G11: =IF(TRIM(E11)="SINAPI", "01/2026",IF(TRIM(E11)="SABESP","07/2025","OUTRO")) -> 01/2026 | H11: =SUMIF(VI.A!$B$6:$B$5963,B11,VI.A!$L$6:$L$5963) -> 6.9372176 | I11: =IF(H11=0,"no","si") -> si | K11: =IF(E11="SABESP","OK",VLOOKUP(F11,[6]ISD!$B$11:$F$4861,5,FALSE)) -> 60.78 | L11: =IF(D11=K11,"OK",IF(K11="OK","OK","VERIFICAR")) -> VERIFICAR | M11: =IFERROR(IF(K11="não encontrado",D11,K11),D11) -> 60.78 | N11: =_xlfn.ISFORMULA(D11) -> FALSE
A12: 1.3 | B12: ADITIVO HIDROFUGO IMPERMEABILIZANTE DE PEGA NORMAL PARA CONCRETO E ARGAMASSA | C12: KG | E12: SABESP | F12: CV00379 | G12: =IF(TRIM(E12)="SINAPI", "01/2026",IF(TRIM(E12)="SABESP","07/2025","OUTRO")) -> 07/2025 | H12: =SUMIF(VI.A!$B$6:$B$5963,B12,VI.A!$L$6:$L$5963) -> 27 | I12: =IF(H12=0,"no","si") -> si | K12: =IF(E12="SABESP","OK",VLOOKUP(F12,[6]ISD!$B$11:$F$4861,5,FALSE)) -> OK | L12: =IF(D12=K12,"OK",IF(K12="OK","OK","VERIFICAR")) -> OK | M12: =IFERROR(IF(K12="não encontrado",D12,K12),D12) -> OK | N12: =_xlfn.ISFORMULA(D12) -> FALSE
A13: 1.4 | B13: ADITIVO ADESIVO LIQUIDO PARA ARGAMASSAS DE REVESTIMENTOS CIMENTICIOS | C13: L | E13: SINAPI | F13: 7334 | G13: =IF(TRIM(E13)="SINAPI", "01/2026",IF(TRIM(E13)="SABESP","07/2025","OUTRO")) -> 01/2026 | H13: =SUMIF(VI.A!$B$6:$B$5963,B13,VI.A!$L$6:$L$5963) -> 70.5 | I13: =IF(H13=0,"no","si") -> si | K13: =IF(E13="SABESP","OK",VLOOKUP(F13,[6]ISD!$B$11:$F$4861,5,FALSE)) -> 14.39 | L13: =IF(D13=K13,"OK",IF(K13="OK","OK","VERIFICAR")) -> VERIFICAR | M13: =IFERROR(IF(K13="não encontrado",D13,K13),D13) -> 14.39 | N13: =_xlfn.ISFORMULA(D13) -> FALSE
A14: 1.5 | B14: SOLVENTE DILUENTE A BASE DE AGUARRÁS | C14: L | E14: SINAPI | F14: 5318 | G14: =IF(TRIM(E14)="SINAPI", "01/2026",IF(TRIM(E14)="SABESP","07/2025","OUTRO")) -> 01/2026 | H14: =SUMIF(VI.A!$B$6:$B$5963,B14,VI.A!$L$6:$L$5963) -> 1330.49 | I14: =IF(H14=0,"no","si") -> si | K14: =IF(E14="SABESP","OK",VLOOKUP(F14,[6]ISD!$B$11:$F$4861,5,FALSE)) -> 25.18 | L14: =IF(D14=K14,"OK",IF(K14="OK","OK","VERIFICAR")) -> VERIFICAR | M14: =IFERROR(IF(K14="não encontrado",D14,K14),D14) -> 25.18 | N14: =_xlfn.ISFORMULA(D14) -> FALSE
A15: 1.6 | B15: ARAME FARPADO GALVANIZADO 16 BWG, CLASSE 250 | C15: M | E15: SINAPI | F15: 340 | G15: =IF(TRIM(E15)="SINAPI", "01/2026",IF(TRIM(E15)="SABESP","07/2025","OUTRO")) -> 01/2026 | H15: =SUMIF(VI.A!$B$6:$B$5963,B15,VI.A!$L$6:$L$5963) -> 750 | I15: =IF(H15=0,"no","si") -> si | K15: =IF(E15="SABESP","OK",VLOOKUP(F15,[6]ISD!$B$11:$F$4861,5,FALSE)) -> 1.19 | L15: =IF(D15=K15,"OK",IF(K15="OK","OK","VERIFICAR")) -> VERIFICAR | M15: =IFERROR(IF(K15="não encontrado",D15,K15),D15) -> 1.19 | N15: =_xlfn.ISFORMULA(D15) -> FALSE
A16: 1.7 | B16: ARAME GALVANIZADO 14 BWG (0,026 KG/M) | C16: KG | E16: SINAPI | F16: 344 | G16: =IF(TRIM(E16)="SINAPI", "01/2026",IF(TRIM(E16)="SABESP","07/2025","OUTRO")) -> 01/2026 | H16: =SUMIF(VI.A!$B$6:$B$5963,B16,VI.A!$L$6:$L$5963) -> 160 | I16: =IF(H16=0,"no","si") -> si | K16: =IF(E16="SABESP","OK",VLOOKUP(F16,[6]ISD!$B$11:$F$4861,5,FALSE)) -> 28.47 | L16: =IF(D16=K16,"OK",IF(K16="OK","OK","VERIFICAR")) -> VERIFICAR | M16: =IFERROR(IF(K16="não encontrado",D16,K16),D16) -> 28.47 | N16: =_xlfn.ISFORMULA(D16) -> FALSE
A17: 1.8 | B17: ARAME GALVANIZADO 10 BWG (0,0713 KG/M) | C17: KG | E17: SINAPI | F17: 43131 | G17: =IF(TRIM(E17)="SINAPI", "01/2026",IF(TRIM(E17)="SABESP","07/2025","OUTRO")) -> 01/2026 | H17: =SUMIF(VI.A!$B$6:$B$5963,B17,VI.A!$L$6:$L$5963) -> 14.96 | I17: =IF(H17=0,"no","si") -> si | K17: =IF(E17="SABESP","OK",VLOOKUP(F17,[6]ISD!$B$11:$F$4861,5,FALSE)) -> 25.16 | L17: =IF(D17=K17,"OK",IF(K17="OK","OK","VERIFICAR")) -> VERIFICAR | M17: =IFERROR(IF(K17="não encontrado",D17,K17),D17) -> 25.16 | N17: =_xlfn.ISFORMULA(D17) -> FALSE
A18: 1.9 | B18: ARAME RECOZIDO 18 BWG - 1,25MM - 9,60 G/M | C18: KG | E18: SINAPI | F18: 43132 | G18: =IF(TRIM(E18)="SINAPI", "01/2026",IF(TRIM(E18)="SABESP","07/2025","OUTRO")) -> 01/2026 | H18: =SUMIF(VI.A!$B$6:$B$5963,B18,VI.A!$L$6:$L$5963) -> 950.5 | I18: =IF(H18=0,"no","si") -> si | K18: =IF(E18="SABESP","OK",VLOOKUP(F18,[6]ISD!$B$11:$F$4861,5,FALSE)) -> 21.66 | L18: =IF(D18=K18,"OK",IF(K18="OK","OK","VERIFICAR")) -> VERIFICAR | M18: =IFERROR(IF(K18="não encontrado",D18,K18),D18) -> 21.66 | N18: =_xlfn.ISFORMULA(D18) -> FALSE
A19: 1.10 | B19: AREIA MÉDIA LAVADA | C19: M3 | E19: SABESP | F19: CV00182 | G19: =IF(TRIM(E19)="SINAPI", "01/2026",IF(TRIM(E19)="SABESP","07/2025","OUTRO")) -> 07/2025 | H19: =SUMIF(VI.A!$B$6:$B$5963,B19,VI.A!$L$6:$L$5963) -> 1928.5258 | I19: =IF(H19=0,"no","si") -> si | K19: =IF(E19="SABESP","OK",VLOOKUP(F19,[6]ISD!$B$11:$F$4861,5,FALSE)) -> OK | L19: =IF(D19=K19,"OK",IF(K19="OK","OK","VERIFICAR")) -> OK | M19: =IFERROR(IF(K19="não encontrado",D19,K19),D19) -> OK | N19: =_xlfn.ISFORMULA(D19) -> FALSE
A20: 1.11 | B20: ARGAMASSA COLANTE TIPO AC III | C20: KG | E20: SINAPI | F20: 37595 | G20: =IF(TRIM(E20)="SINAPI", "01/2026",IF(TRIM(E20)="SABESP","07/2025","OUTRO")) -> 01/2026 | H20: =SUMIF(VI.A!$B$6:$B$5963,B20,VI.A!$L$6:$L$5963) -> 2187 | I20: =IF(H20=0,"no","si") -> si | K20: =IF(E20="SABESP","OK",VLOOKUP(F20,[6]ISD!$B$11:$F$4861,5,FALSE)) -> 2.46 | L20: =IF(D20=K20,"OK",IF(K20="OK","OK","VERIFICAR")) -> VERIFICAR | M20: =IFERROR(IF(K20="não encontrado",D20,K20),D20) -> 2.46 | N20: =_xlfn.ISFORMULA(D20) -> FALSE
A21: 1.12 | B21: REVESTIMENTO EM CERAMICA ESMALTADA EXTRA, PEI MAIOR OU IGUAL A 4 FORMATO MAIOR A 2025CM2 | C21: M2 | E21: SINAPI | F21: 536 | G21: =IF(TRIM(E21)="SINAPI", "01/2026",IF(TRIM(E21)="SABESP","07/2025","OUTRO")) -> 01/2026 | H21: =SUMIF(VI.A!$B$6:$B$5963,B21,VI.A!$L$6:$L$5963) -> 212 | I21: =IF(H21=0,"no","si") -> si | K21: =IF(E21="SABESP","OK",VLOOKUP(F21,[6]ISD!$B$11:$F$4861,5,FALSE)) -> 26.2 | L21: =IF(D21=K21,"OK",IF(K21="OK","OK","VERIFICAR")) -> VERIFICAR | M21: =IFERROR(IF(K21="não encontrado",D21,K21),D21) -> 26.2 | N21: =_xlfn.ISFORMULA(D21) -> FALSE
A22: 1.13 | B22: BANCO DE CONCRETO PRE-FABRICADO (C=140CM E L= 35CM) | C22: UN | E22: SIURB | F22: 88185 | G22: 07-2025 | H22: =SUMIF(VI.A!$B$6:$B$5963,B22,VI.A!$L$6:$L$5963) -> 200 | I22: =IF(H22=0,"no","si") -> si | K22: 537.14 | L22: =IF(D22=K22,"OK",IF(K22="OK","OK","VERIFICAR")) -> VERIFICAR | M22: =IFERROR(IF(K22="não encontrado",D22,K22),D22) -> 537.14 | N22: =_xlfn.ISFORMULA(D22) -> FALSE
A23: 1.14 | B23: BARRA DE FERRO RETANGULAR, BARRA CHATA (QUALQUER DIMENSÃO / VALOR MÉDIO) | C23: KG | E23: SINAPI | F23: 546 | G23: =IF(TRIM(E23)="SINAPI", "01/2026",IF(TRIM(E23)="SABESP","07/2025","OUTRO")) -> 01/2026 | H23: =SUMIF(VI.A!$B$6:$B$5963,B23,VI.A!$L$6:$L$5963) -> 4580.37 | I23: =IF(H23=0,"no","si") -> si | K23: =IF(E23="SABESP","OK",VLOOKUP(F23,[6]ISD!$B$11:$F$4861,5,FALSE)) -> 9.24 | L23: =IF(D23=K23,"OK",IF(K23="OK","OK","VERIFICAR")) -> VERIFICAR | M23: =IFERROR(IF(K23="não encontrado",D23,K23),D23) -> 9.24 | N23: =_xlfn.ISFORMULA(D23) -> FALSE
A24: 1.15 | B24: BLOCO DE CONCRETO PARA VEDAÇÃO - 9 X 19 X 39 CM - CLASSE D - M-10 | C24: UN | E24: SINAPI | F24: 25071 | G24: =IF(TRIM(E24)="SINAPI", "01/2026",IF(TRIM(E24)="SABESP","07/2025","OUTRO")) -> 01/2026 | H24: =SUMIF(VI.A!$B$6:$B$5963,B24,VI.A!$L$6:$L$5963) -> 680 | I24: =IF(H24=0,"no","si") -> si | K24: =IF(E24="SABESP","OK",VLOOKUP(F24,[6]ISD!$B$11:$F$4861,5,FALSE)) -> 2.98 | L24: =IF(D24=K24,"OK",IF(K24="OK","OK","VERIFICAR")) -> VERIFICAR | M24: =IFERROR(IF(K24="não encontrado",D24,K24),D24) -> 2.98 | N24: =_xlfn.ISFORMULA(D24) -> FALSE
A25: 1.16 | B25: BUCHA DE NYLON S10 E PARAFUSO 6,10X65MM ACO ZINCADO ROSCA SOBERBA, CAB. CHATA FENDA PHILLIPS | C25: UN | E25: SINAPI | F25: 7568 | G25: =IF(TRIM(E25)="SINAPI", "01/2026",IF(TRIM(E25)="SABESP","07/2025","OUTRO")) -> 01/2026 | H25: =SUMIF(VI.A!$B$6:$B$5963,B25,VI.A!$L$6:$L$5963) -> 267.23 | I25: =IF(H25=0,"no","si") -> si | K25: =IF(E25="SABESP","OK",VLOOKUP(F25,[6]ISD!$B$11:$F$4861,5,FALSE)) -> 0.3 | L25: =IF(D25=K25,"OK",IF(K25="OK","OK","VERIFICAR")) -> VERIFICAR | M25: =IFERROR(IF(K25="não encontrado",D25,K25),D25) -> 0.3 | N25: =_xlfn.ISFORMULA(D25) -> FALSE
A26: 1.17 | B26: CADEADO SIMPLES, CORPO EM LATAO MACICO, COM LARGURA DE 50 MM E ALTURA DE APROX 40 MM, HASTE CEMENTADA EM ACO TEMPERADO COM DIAMETRO DE APROX 8,0 MM, INCLUINDO 2 CHAVES | C26: UN | E26: SINAPI | F26: 43603 | G26: =IF(TRIM(E26)="SINAPI", "01/2026",IF(TRIM(E26)="SABESP","07/2025","OUTRO")) -> 01/2026 | H26: =SUMIF(VI.A!$B$6:$B$5963,B26,VI.A!$L$6:$L$5963) -> 166 | I26: =IF(H26=0,"no","si") -> si | K26: =IF(E26="SABESP","OK",VLOOKUP(F26,[6]ISD!$B$11:$F$4861,5,FALSE)) -> 42.53 | L26: =IF(D26=K26,"OK",IF(K26="OK","OK","VERIFICAR")) -> VERIFICAR | M26: =IFERROR(IF(K26="não encontrado",D26,K26),D26) -> 42.53 | N26: =_xlfn.ISFORMULA(D26) -> FALSE
A27: 1.18 | B27: CAIXA DE LUZ "4 X 2" EM ACO ESMALTADA | C27: UN | E27: SINAPI | F27: 2556 | G27: =IF(TRIM(E27)="SINAPI", "01/2026",IF(TRIM(E27)="SABESP","07/2025","OUTRO")) -> 01/2026 | H27: =SUMIF(VI.A!$B$6:$B$5963,B27,VI.A!$L$6:$L$5963) -> 100 | I27: =IF(H27=0,"no","si") -> si | K27: =IF(E27="SABESP","OK",VLOOKUP(F27,[6]ISD!$B$11:$F$4861,5,FALSE)) -> 1.33 | L27: =IF(D27=K27,"OK",IF(K27="OK","OK","VERIFICAR")) -> VERIFICAR | M27: =IFERROR(IF(K27="não encontrado",D27,K27),D27) -> 1.33 | N27: =_xlfn.ISFORMULA(D27) -> FALSE
A28: 1.19 | B28: CAIXA SIFONADA PVC, 150 X 150 X 50 MM, COM GRELHA REDONDA BRANCA | C28: UN | E28: SINAPI | F28: 11717 | G28: =IF(TRIM(E28)="SINAPI", "01/2026",IF(TRIM(E28)="SABESP","07/2025","OUTRO")) -> 01/2026 | H28: =SUMIF(VI.A!$B$6:$B$5963,B28,VI.A!$L$6:$L$5963) -> 2 | I28: =IF(H28=0,"no","si") -> si | K28: =IF(E28="SABESP","OK",VLOOKUP(F28,[6]ISD!$B$11:$F$4861,5,FALSE)) -> 56.74 | L28: =IF(D28=K28,"OK",IF(K28="OK","OK","VERIFICAR")) -> VERIFICAR | M28: =IFERROR(IF(K28="não encontrado",D28,K28),D28) -> 56.74 | N28: =_xlfn.ISFORMULA(D28) -> FALSE
A29: 1.20 | B29: CAL HIDRATADA CH III - NBR 7175 | C29: KG | E29: SINAPI | F29: 1106 | G29: =IF(TRIM(E29)="SINAPI", "01/2026",IF(TRIM(E29)="SABESP","07/2025","OUTRO")) -> 01/2026 | H29: =SUMIF(VI.A!$B$6:$B$5963,B29,VI.A!$L$6:$L$5963) -> 21840.548 | I29: =IF(H29=0,"no","si") -> si | K29: =IF(E29="SABESP","OK",VLOOKUP(F29,[6]ISD!$B$11:$F$4861,5,FALSE)) -> 1.14 | L29: =IF(D29=K29,"OK",IF(K29="OK","OK","VERIFICAR")) -> VERIFICAR | M29: =IFERROR(IF(K29="não encontrado",D29,K29),D29) -> 1.14 | N29: =_xlfn.ISFORMULA(D29) -> FALSE
A30: 1.21 | B30: CALHA PARA AGUA FURTADA DE CHAPA DE ACO GALVANIZADA NUM 26, CORTE 50 CM | C30: M | E30: SINAPI | F30: 1118 | G30: =IF(TRIM(E30)="SINAPI", "01/2026",IF(TRIM(E30)="SABESP","07/2025","OUTRO")) -> 01/2026 | H30: =SUMIF(VI.A!$B$6:$B$5963,B30,VI.A!$L$6:$L$5963) -> 26.25 | I30: =IF(H30=0,"no","si") -> si | K30: =IF(E30="SABESP","OK",VLOOKUP(F30,[6]ISD!$B$11:$F$4861,5,FALSE)) -> 28.97 | L30: =IF(D30=K30,"OK",IF(K30="OK","OK","VERIFICAR")) -> VERIFICAR | M30: =IFERROR(IF(K30="não encontrado",D30,K30),D30) -> 28.97 | N30: =_xlfn.ISFORMULA(D30) -> FALSE
A31: 1.22 | B31: CANTONEIRA DE AÇO GALVANIZADO COM ABAS IGUAIS DE 1" X 1/8" - 25,4 X 3,17 MM - (L x E) - 1,20 KG/M | C31: M | E31: SINAPI | F31: 567 | G31: =IF(TRIM(E31)="SINAPI", "01/2026",IF(TRIM(E31)="SABESP","07/2025","OUTRO")) -> 01/2026 | H31: =SUMIF(VI.A!$B$6:$B$5963,B31,VI.A!$L$6:$L$5963) -> 300 | I31: =IF(H31=0,"no","si") -> si | K31: =IF(E31="SABESP","OK",VLOOKUP(F31,[6]ISD!$B$11:$F$4861,5,FALSE)) -> 11.72 | L31: =IF(D31=K31,"OK",IF(K31="OK","OK","VERIFICAR")) -> VERIFICAR | M31: =IFERROR(IF(K31="não encontrado",D31,K31),D31) -> 11.72 | N31: =_xlfn.ISFORMULA(D31) -> FALSE
A32: 1.23 | B32: CANTONEIRA DE AÇO ABAS IGUAIS (QUALQUER BITOLA), ESPESSURA ENTRE 1/8" E 1/4" | C32: KG | E32: SINAPI | F32: 4777 | G32: =IF(TRIM(E32)="SINAPI", "01/2026",IF(TRIM(E32)="SABESP","07/2025","OUTRO")) -> 01/2026 | H32: =SUMIF(VI.A!$B$6:$B$5963,B32,VI.A!$L$6:$L$5963) -> 1016 | I32: =IF(H32=0,"no","si") -> si | K32: =IF(E32="SABESP","OK",VLOOKUP(F32,[6]ISD!$B$11:$F$4861,5,FALSE)) -> 8.02 | L32: =IF(D32=K32,"OK",IF(K32="OK","OK","VERIFICAR")) -> VERIFICAR | M32: =IFERROR(IF(K32="não encontrado",D32,K32),D32) -> 8.02 | N32: =_xlfn.ISFORMULA(D32) -> FALSE
A33: 1.24 | B33: CERÂMICA ESMALTADA EXTRA OU 1ª QUALIDADE PARA PISO, PEI-5 | C33: M2 | E33: SINAPI | F33: 1287 | G33: =IF(TRIM(E33)="SINAPI", "01/2026",IF(TRIM(E33)="SABESP","07/2025","OUTRO")) -> 01/2026 | H33: =SUMIF(VI.A!$B$6:$B$5963,B33,VI.A!$L$6:$L$5963) -> 265 | I33: =IF(H33=0,"no","si") -> si | K33: =IF(E33="SABESP","OK",VLOOKUP(F33,[6]ISD!$B$11:$F$4861,5,FALSE)) -> 28.17 | L33: =IF(D33=K33,"OK",IF(K33="OK","OK","VERIFICAR")) -> VERIFICAR | M33: =IFERROR(IF(K33="não encontrado",D33,K33),D33) -> 28.17 | N33: =_xlfn.ISFORMULA(D33) -> FALSE
A34: 1.25 | B34: CHAPA DE AÇO - MÉDIA DAS BITOLAS | C34: KG | E34: SINAPI | F34: 1321 | G34: =IF(TRIM(E34)="SINAPI", "01/2026",IF(TRIM(E34)="SABESP","07/2025","OUTRO")) -> 01/2026 | H34: =SUMIF(VI.A!$B$6:$B$5963,B34,VI.A!$L$6:$L$5963) -> 3.28592 | I34: =IF(H34=0,"no","si") -> si | K34: =IF(E34="SABESP","OK",VLOOKUP(F34,[6]ISD!$B$11:$F$4861,5,FALSE)) -> 8.17 | L34: =IF(D34=K34,"OK",IF(K34="OK","OK","VERIFICAR")) -> VERIFICAR | M34: =IFERROR(IF(K34="não encontrado",D34,K34),D34) -> 8.17 | N34: =_xlfn.ISFORMULA(D34) -> FALSE
... A40: 1.31 | B40: CONCERTINA CLIPADA (DUPLA) EM ACO GALVANIZADO DE ALTA RESISTENCIA, ESPIRAL DE 300 MM, D = 2,76 MM | C40: M | E40: SINAPI | F40: 34348 | G40: =IF(TRIM(E40)="SINAPI", "01/2026",IF(TRIM(E40)="SABESP","07/2025","OUTRO")) -> 01/2026 | H40: =SUMIF(VI.A!$B$6:$B$5963,B40,VI.A!$L$6:$L$5963) -> 3500 | I40: =IF(H40=0,"no","si") -> si | K40: =IF(E40="SABESP","OK",VLOOKUP(F40,[6]ISD!$B$11:$F$4861,5,FALSE)) -> 22.69 | L40: =IF(D40=K40,"OK",IF(K40="OK","OK","VERIFICAR")) -> VERIFICAR | M40: =IFERROR(IF(K40="não encontrado",D40,K40),D40) -> 22.69 | N40: =_xlfn.ISFORMULA(D40) -> FALSE
A41: 1.32 | B41: CONCRETO USINADO FCK = 20,0 MPA | C41: M3 | E41: SABESP | F41: CV00198 | G41: =IF(TRIM(E41)="SINAPI", "01/2026",IF(TRIM(E41)="SABESP","07/2025","OUTRO")) -> 07/2025 | H41: =SUMIF(VI.A!$B$6:$B$5963,B41,VI.A!$L$6:$L$5963) -> 3135 | I41: =IF(H41=0,"no","si") -> si | K41: =IF(E41="SABESP","OK",VLOOKUP(F41,[6]ISD!$B$11:$F$4861,5,FALSE)) -> OK | L41: =IF(D41=K41,"OK",IF(K41="OK","OK","VERIFICAR")) -> OK | M41: =IFERROR(IF(K41="não encontrado",D41,K41),D41) -> OK | N41: =_xlfn.ISFORMULA(D41) -> FALSE
A42: 1.33 | B42: CONE DE SINALIZACAO EM PVC RIGIDO COM FAIXA REFLETIVA, H = 70 / 76 CM | C42: UN | E42: SINAPI | F42: 13244 | G42: =IF(TRIM(E42)="SINAPI", "01/2026",IF(TRIM(E42)="SABESP","07/2025","OUTRO")) -> 01/2026 | H42: =SUMIF(VI.A!$B$6:$B$5963,B42,VI.A!$L$6:$L$5963) -> 12 | I42: =IF(H42=0,"no","si") -> si | K42: =IF(E42="SABESP","OK",VLOOKUP(F42,[6]ISD!$B$11:$F$4861,5,FALSE)) -> 49.4 | L42: =IF(D42=K42,"OK",IF(K42="OK","OK","VERIFICAR")) -> VERIFICAR | M42: =IFERROR(IF(K42="não encontrado",D42,K42),D42) -> 49.4 | N42: =_xlfn.ISFORMULA(D42) -> FALSE
A43: 1.34 | B43: DESMOLDANTE PARA FÔRMAS - BASE DE ÓLEO MINERAL EMULSIONADO | C43: L | E43: SINAPI | F43: 2692 | G43: =IF(TRIM(E43)="SINAPI", "01/2026",IF(TRIM(E43)="SABESP","07/2025","OUTRO")) -> 01/2026 | H43: =SUMIF(VI.A!$B$6:$B$5963,B43,VI.A!$L$6:$L$5963) -> 156.1 | I43: =IF(H43=0,"no","si") -> si | K43: =IF(E43="SABESP","OK",VLOOKUP(F43,[6]ISD!$B$11:$F$4861,5,FALSE)) -> 6.46 | L43: =IF(D43=K43,"OK",IF(K43="OK","OK","VERIFICAR")) -> VERIFICAR | M43: =IFERROR(IF(K43="não encontrado",D43,K43),D43) -> 6.46 | N43: =_xlfn.ISFORMULA(D43) -> FALSE
A44: 1.35 | B44: DOBRADICA EM AÇO/FERRO, 3" X 2 1/2", CROMADO OU ZINCADO, COM PARAFUSOS | C44: UN | E44: SINAPI | F44: 2433 | G44: =IF(TRIM(E44)="SINAPI", "01/2026",IF(TRIM(E44)="SABESP","07/2025","OUTRO")) -> 01/2026 | H44: =SUMIF(VI.A!$B$6:$B$5963,B44,VI.A!$L$6:$L$5963) -> 20 | I44: =IF(H44=0,"no","si") -> si | K44: =IF(E44="SABESP","OK",VLOOKUP(F44,[6]ISD!$B$11:$F$4861,5,FALSE)) -> 10.08 | L44: =IF(D44=K44,"OK",IF(K44="OK","OK","VERIFICAR")) -> VERIFICAR | M44: =IFERROR(IF(K44="não encontrado",D44,K44),D44) -> 10.08 | N44: =_xlfn.ISFORMULA(D44) -> FALSE
A45: 1.36 | B45: ELEMENTO VAZADO DE CONCRETO (COBOGÓ) - 33 X 33 X 9 CM - 16 FUROS | C45: UN | E45: SINAPI | F45: 10578 | G45: =IF(TRIM(E45)="SINAPI", "01/2026",IF(TRIM(E45)="SABESP","07/2025","OUTRO")) -> 01/2026 | H45: =SUMIF(VI.A!$B$6:$B$5963,B45,VI.A!$L$6:$L$5963) -> 63 | I45: =IF(H45=0,"no","si") -> si | K45: =IF(E45="SABESP","OK",VLOOKUP(F45,[6]ISD!$B$11:$F$4861,5,FALSE)) -> 23.75 | L45: =IF(D45=K45,"OK",IF(K45="OK","OK","VERIFICAR")) -> VERIFICAR | M45: =IFERROR(IF(K45="não encontrado",D45,K45),D45) -> 23.75 | N45: =_xlfn.ISFORMULA(D45) -> FALSE
A46: 1.37 | B46: ELETRODO REVESTIDO AWS - E7018, DIAMETRO IGUAL A 4,00 MM | C46: KG | E46: SINAPI | F46: 10997 | G46: =IF(TRIM(E46)="SINAPI", "01/2026",IF(TRIM(E46)="SABESP","07/2025","OUTRO")) -> 01/2026 | H46: =SUMIF(VI.A!$B$6:$B$5963,B46,VI.A!$L$6:$L$5963) -> 35 | I46: =IF(H46=0,"no","si") -> si | K46: =IF(E46="SABESP","OK",VLOOKUP(F46,[6]ISD!$B$11:$F$4861,5,FALSE)) -> 51.84 | L46: =IF(D46=K46,"OK",IF(K46="OK","OK","VERIFICAR")) -> VERIFICAR | M46: =IFERROR(IF(K46="não encontrado",D46,K46),D46) -> 51.84 | N46: =_xlfn.ISFORMULA(D46) -> FALSE
A47: 1.38 | B47: ELETRODUTO PVC FLEXIVEL CORRUGADO, REFORCADO, COR LARANJA, DE 25 MM, 3/4" | C47: M | E47: SINAPI | F47: 39244 | G47: =IF(TRIM(E47)="SINAPI", "01/2026",IF(TRIM(E47)="SABESP","07/2025","OUTRO")) -> 01/2026 | H47: =SUMIF(VI.A!$B$6:$B$5963,B47,VI.A!$L$6:$L$5963) -> 71.19 | I47: =IF(H47=0,"no","si") -> si | K47: =IF(E47="SABESP","OK",VLOOKUP(F47,[6]ISD!$B$11:$F$4861,5,FALSE)) -> 3.44 | L47: =IF(D47=K47,"OK",IF(K47="OK","OK","VERIFICAR")) -> VERIFICAR | M47: =IFERROR(IF(K47="não encontrado",D47,K47),D47) -> 3.44 | N47: =_xlfn.ISFORMULA(D47) -> FALSE
A48: 1.39 | B48: ELETRODUTO PVC FLEXIVEL CORRUGADO, REFORCADO, COR LARANJA, DE 32 MM, 1" | C48: M | E48: SINAPI | F48: 39245 | G48: =IF(TRIM(E48)="SINAPI", "01/2026",IF(TRIM(E48)="SABESP","07/2025","OUTRO")) -> 01/2026 | H48: =SUMIF(VI.A!$B$6:$B$5963,B48,VI.A!$L$6:$L$5963) -> 50.85 | I48: =IF(H48=0,"no","si") -> si | K48: =IF(E48="SABESP","OK",VLOOKUP(F48,[6]ISD!$B$11:$F$4861,5,FALSE)) -> 6.62 | L48: =IF(D48=K48,"OK",IF(K48="OK","OK","VERIFICAR")) -> VERIFICAR | M48: =IFERROR(IF(K48="não encontrado",D48,K48),D48) -> 6.62 | N48: =_xlfn.ISFORMULA(D48) -> FALSE
A49: 1.40 | B49: ELETRODUTO/DUTO PEAD FLEXIVEL PAREDE SIMPLES, CORRUGACAO HELICOIDAL, COR PRETA, DE 1 1/2" | C49: M | E49: SINAPI | F49: 39246 | G49: =IF(TRIM(E49)="SINAPI", "01/2026",IF(TRIM(E49)="SABESP","07/2025","OUTRO")) -> 01/2026 | H49: =SUMIF(VI.A!$B$6:$B$5963,B49,VI.A!$L$6:$L$5963) -> 246.4 | I49: =IF(H49=0,"no","si") -> si | K49: =IF(E49="SABESP","OK",VLOOKUP(F49,[6]ISD!$B$11:$F$4861,5,FALSE)) -> 4.9 | L49: =IF(D49=K49,"OK",IF(K49="OK","OK","VERIFICAR")) -> VERIFICAR | M49: =IFERROR(IF(K49="não encontrado",D49,K49),D49) -> 4.9 | N49: =_xlfn.ISFORMULA(D49) -> FALSE
A50: 1.41 | B50: ELETRODUTO/DUTO PEAD FLEXIVEL PAREDE SIMPLES, CORRUGACAO HELICOIDAL, COR PRETA, DE 2" | C50: M | E50: SINAPI | F50: 2446 | G50: =IF(TRIM(E50)="SINAPI", "01/2026",IF(TRIM(E50)="SABESP","07/2025","OUTRO")) -> 01/2026 | H50: =SUMIF(VI.A!$B$6:$B$5963,B50,VI.A!$L$6:$L$5963) -> 137.5 | I50: =IF(H50=0,"no","si") -> si | K50: =IF(E50="SABESP","OK",VLOOKUP(F50,[6]ISD!$B$11:$F$4861,5,FALSE)) -> 7.04 | L50: =IF(D50=K50,"OK",IF(K50="OK","OK","VERIFICAR")) -> VERIFICAR | M50: =IFERROR(IF(K50="não encontrado",D50,K50),D50) -> 7.04 | N50: =_xlfn.ISFORMULA(D50) -> FALSE
...

Sheet VIII.A
A1: =IV.A!A1 -> TIMBRE LICITANTE
A4: ANEXO VIII.A - DEMONSTRATIVO DA COMPOSIÇÃO DAS TAXAS DE BDI - LICITANTE
A5: COMPOSIÇÃO DAS TAXAS DE BDI
