Workbook
Name __xlnm.Print_Area_3: #REF!
Name __xlnm.Print_Area_4: [1]AV!#REF!
Name _1Excel_BuiltIn_Print_Area_1_1_1_1: 'A IV.A'!$B$25:$B$173
Name _2Excel_BuiltIn_Print_Area_3_1_1_1_1: #REF!
Name _2Excel_BuiltIn_Print_Area_3_1_1_1_1: #REF!
Name _4Excel_BuiltIn_Print_Area_3_1_1: #REF!
Name CEOP: #REF!
Name CEOP: #REF!
Name COM: #REF!
Name CON: #REF!
Name CONC: [2]Dados!$K$2:$K$40
Name CRI: #REF!
Name CRI: #REF!
Name dasda: #REF!
Name dasda: #REF!
Name Database: #REF!
Name Database: #REF!
Name ÉServiço: [3]II.3!$E1<>""
Name ÉServiço: [4]II.3!$E1<>""
Name Excel_BuiltIn__FilterDatabase_2: #REF!
Name Excel_BuiltIn__FilterDatabase_2: #REF!
Name Excel_BuiltIn__FilterDatabase_8: #REF!
Name Excel_BuiltIn_Print_Area_1_1: #REF!
Name Excel_BuiltIn_Print_Area_1_1: #REF!
Name Excel_BuiltIn_Print_Area_1_1_1: 'A IV.A'!$B$16:$C$156
Name Excel_BuiltIn_Print_Area_1_1_1_1: 'A IV.A'!$A$1:$M$181
Name Excel_BuiltIn_Print_Area_1_1_1_1_1: '[5]Anexo II'!$A$12:$M$287,'[5]Anexo II'!$K$286
Name Excel_BuiltIn_Print_Area_1_1_1_1_1: 'A IV.A'!$A$10:$M$176,'A IV.A'!$K$175
Name Excel_BuiltIn_Print_Area_1_1_1_1_1_1: 'A IV.A'!$A$16:$B$156
Name Excel_BuiltIn_Print_Area_1_1_1_1_1_1_1: #REF!
Name Excel_BuiltIn_Print_Area_1_1_1_1_1_1_1: #REF!
Name Excel_BuiltIn_Print_Area_1_1_1_1_1_1_1_1: #REF!
Name Excel_BuiltIn_Print_Area_1_1_1_1_1_1_1_1: #REF!
Name Excel_BuiltIn_Print_Area_1_1_1_1_1_1_1_1_1: #REF!
Name Excel_BuiltIn_Print_Area_1_1_1_1_1_1_1_1_1: #REF!
Name Excel_BuiltIn_Print_Area_2_1: 'A V.'!#REF!
Name Excel_BuiltIn_Print_Area_2_1_1: #REF!
Name Excel_BuiltIn_Print_Area_3_1: #REF!
Name Excel_BuiltIn_Print_Area_3_1: 'A V.'!$A$10:$V$84
Name Excel_BuiltIn_Print_Area_3_1_1: #REF!
Name Excel_BuiltIn_Print_Area_3_1_1_1: #REF!
Name Excel_BuiltIn_Print_Area_3_1_1_1_1: #REF!
Name Excel_BuiltIn_Print_Area_3_1_1_1_1_1: #REF!
Name Excel_BuiltIn_Print_Area_5_1: #REF!
Name Excel_BuiltIn_Print_Area_6_1: 'A VI.'!$A$1:$F$105
Name Excel_BuiltIn_Print_Area_7: #REF!
Name Excel_BuiltIn_Print_Area_7_1: 'A VII.'!$B$141:$D$169
Name Excel_BuiltIn_Print_Area_7_1_1: #REF!
Name Excel_BuiltIn_Print_Titles_1_1: #REF!
Name Excel_BuiltIn_Print_Titles_3: #REF!
Name Excel_BuiltIn_Print_Titles_5: #REF!
Name Excel_BuiltIn_Print_Titles_8: #REF!
Name JOI: #REF!
Name JOSE: #REF!
Name MRIA: #REF!
Name RCH: #REF!
Name RCR: #REF!
Name RegimeExecucao: IF([6]DADOS!$A$32="Empreitada por Preço Global ou Integral","Global","Unitário")
Name RFL: #REF!
Name RFL: #REF!

Sheet PREENCHIMENTO
A3: FORMA DE PREENCHIMENTO DAS PLANILHAS ELETRÔNICAS
A6: 1) O presente arquivo eletrônico é composto pelas seguintes planilhas:
A7: • PLANILHA DE ORÇAMENTO – LICITANTE - ANEXO IV.A
A8: • CRONOGRAMA FÍSICO-FINANCEIRO – LICITANTE - ANEXO V.A
A9: • PLANILHA DE COMPOSIÇÕES UNITÁRIAS DE SERVIÇOS – LICITANTE - ANEXO VI.A
A10: • TABELA DE CUSTOS UNITÁRIOS DE INSUMOS E SERVIÇOS - LICITANTE - ANEXO VII.A
A11: • COMPOSIÇÃO DAS TAXAS DE BDI – LICITANTE - ANEXO VII.A
A12: • COMPOSIÇÃO DOS ENCARGOS SOCIAIS E TRABALHISTAS – LICITANTE - ANEXO IX.A
A14: 2) A Licitante deverá preencher todos os campos em amarelo com o valor proposto, nas seguintes planilhas:
A15: =A7 -> • PLANILHA DE ORÇAMENTO – LICITANTE - ANEXO IV.A
A16: =A9 -> • PLANILHA DE COMPOSIÇÕES UNITÁRIAS DE SERVIÇOS – LICITANTE - ANEXO VI.A
A17: =A10 -> • TABELA DE CUSTOS UNITÁRIOS DE INSUMOS E SERVIÇOS - LICITANTE - ANEXO VII.A
A18: =A11 -> • COMPOSIÇÃO DAS TAXAS DE BDI – LICITANTE - ANEXO VII.A
A19: =A12 -> • COMPOSIÇÃO DOS ENCARGOS SOCIAIS E TRABALHISTAS – LICITANTE - ANEXO IX.A
A21: 3) A melhor sequência para preenchimento das planilhas é a seguinte:
B22: 3.1) Iniciar o preenchimento pelo Anexo VII.A - TABELA DE CUSTOS UNITÁRIOS DE INSUMOS E SERVIÇOS - LICITANTE. Neste anexo deverão ser preenchidos todas as células em amarelo com os seguintes preços unitários: Mão de Obra (Item 1.0); Equipamentos/Serviços (Item 2.0); Materiais (Item 3.0).
B26: 3.2) Após a conclusão do preenchimento do Anexo VII.A, a Licitante deverá passar ao preenchimento do AnexoVIII.A (BDI) e Anexo IX.A (Encargos Sociais), com seus respectivos valores percentuais.
B28: 3.3) Em seguida, a Licitante deverá analisar as composições constantes do Anexo VI.A. O SeMAE mantém os coeficientes utilizados na elaboração do Orçamento Base, desta forma a Licitante poderá optar por manter estes coeficientes ou alterá-los conforme sua experiência ou entendimento dos serviços.
A33: 4) Por fim, a Licitante deverá preencher somente os campos em amarelo com o Timbre da Licitante, Valor por Extenso e nome do Engenheiro Responsável, no Anexo IV.A.
A36: 5) O CRONOGRAMA FÍSICO-FINANCEIRO (ANEXO V.A) não receberá valores, pois está em conformidade com o Cronograma de execução estimado pelo SeMAE. Poderão ser sugeridas alterações no cronograma durante a execução da obra, devendo no entanto estas alterações serem objeto de aprovação junto ao SeMAE.
A41: 6) Dúvidas no preenchimento desta Planilha Eletrônica deverão ser encaminhadas à Comissão de Licitações do SeMAE, conforme previsto na página 1 do Edital.
A44: 7) ESTE ARQUIVO ELETRÔNICO DEVE SER APRESENTADO EM CD A SER INCLUSO NO ENVELOPE Nº 02 COM A FINALIDADE DE FACILITAR A ANÁLISE DA REFERIDA PROPOSTA POR PARTE DA COMISSÃO.

Sheet Memória 
A1: MEMÓRIA DE CÁLCULO | J1: Muro | K1: 1200
A2: ='A IV.A'!A14 -> 1.0 | B2: ='A IV.A'!B14 -> CANTEIRO DE OBRAS | J2: RELs | K2: 1.6 | L2: %
A3: ='A IV.A'!A16 -> 1.1 | B3: =VLOOKUP(A3,'A IV.A'!$A$14:$M$172,2) -> CANTEIRO DE OBRAS (ITEM 6.0 DO TERMO DE REFERÊNCIA)
A17: ='A IV.A'!A17 -> 1.2 | B17: =VLOOKUP(A17,'A IV.A'!$A$14:$M$172,2) -> PLACA DE IDENTIFICAÇÃO DE OBRA, CONFORME PADRÃO SEMAE (ITEM 6.8 DO TERMO DE REFERÊNCIA) | C17: =VLOOKUP(B17,'A IV.A'!$A$14:$M$172,2) -> SARJETA DE CONCRETO INCLUINDO PREPARO DE CAIXA, CONCRETO FCK=18MPA | D17: =VLOOKUP(C17,'A IV.A'!$A$14:$M$172,2) -> SARJETA DE CONCRETO INCLUINDO PREPARO DE CAIXA, CONCRETO FCK=18MPA | E17: =VLOOKUP(D17,'A IV.A'!$A$14:$M$172,2) -> SARJETA DE CONCRETO INCLUINDO PREPARO DE CAIXA, CONCRETO FCK=18MPA | F17: =VLOOKUP(E17,'A IV.A'!$A$14:$M$172,2) -> SARJETA DE CONCRETO INCLUINDO PREPARO DE CAIXA, CONCRETO FCK=18MPA | G17: =VLOOKUP(F17,'A IV.A'!$A$14:$M$172,2) -> SARJETA DE CONCRETO INCLUINDO PREPARO DE CAIXA, CONCRETO FCK=18MPA | H17: =VLOOKUP(G17,'A IV.A'!$A$14:$M$172,2) -> SARJETA DE CONCRETO INCLUINDO PREPARO DE CAIXA, CONCRETO FCK=18MPA
B18: =VLOOKUP(A18,'A IV.A'!$A$14:$M$172,2) -> #N/A | C18: =VLOOKUP(B18,'A IV.A'!$A$14:$M$172,2) -> #N/A | D18: =VLOOKUP(C18,'A IV.A'!$A$14:$M$172,2) -> #N/A | E18: =VLOOKUP(D18,'A IV.A'!$A$14:$M$172,2) -> #N/A | F18: =VLOOKUP(E18,'A IV.A'!$A$14:$M$172,2) -> #N/A | G18: =VLOOKUP(F18,'A IV.A'!$A$14:$M$172,2) -> #N/A | H18: =VLOOKUP(G18,'A IV.A'!$A$14:$M$172,2) -> #N/A
B20: altura | C20: 1.5
B21: compr | C21: 3
B22: qnt | C22: 20 | E22: estimativa 1 placa a cada 2 meses
B25: área | C25: =C20*C21*C22 -> 90
C27: total | D27: =C25 -> 90 | E27: m2
A29: ='A IV.A'!A22 -> 2.0 | B29: =VLOOKUP(A29,'A IV.A'!$A$14:$M$172,2) -> SERVIÇOS INICIAIS | C29: =VLOOKUP(B29,'A IV.A'!$A$14:$M$172,2) -> SARJETA DE CONCRETO INCLUINDO PREPARO DE CAIXA, CONCRETO FCK=18MPA | D29: =VLOOKUP(C29,'A IV.A'!$A$14:$M$172,2) -> SARJETA DE CONCRETO INCLUINDO PREPARO DE CAIXA, CONCRETO FCK=18MPA | E29: =VLOOKUP(D29,'A IV.A'!$A$14:$M$172,2) -> SARJETA DE CONCRETO INCLUINDO PREPARO DE CAIXA, CONCRETO FCK=18MPA | F29: =VLOOKUP(E29,'A IV.A'!$A$14:$M$172,2) -> SARJETA DE CONCRETO INCLUINDO PREPARO DE CAIXA, CONCRETO FCK=18MPA | G29: =VLOOKUP(F29,'A IV.A'!$A$14:$M$172,2) -> SARJETA DE CONCRETO INCLUINDO PREPARO DE CAIXA, CONCRETO FCK=18MPA | H29: =VLOOKUP(G29,'A IV.A'!$A$14:$M$172,2) -> SARJETA DE CONCRETO INCLUINDO PREPARO DE CAIXA, CONCRETO FCK=18MPA
A30: ='A IV.A'!A24 -> 2.1 | B30: =VLOOKUP(A30,'A IV.A'!$A$14:$M$172,2) -> RETIRADAS E DEMOLIÇÕES - ITEM 7.1 DO TERMO DE REFERÊNCIA
A31: ='A IV.A'!A25 -> 2.1.1 | B31: =VLOOKUP(A31,'A IV.A'!$A$14:$M$172,2) -> DEMOLIÇÃO MANUAL DE CALÇADAS E PISOS CIMENTADOS | C31: =VLOOKUP(B31,'A IV.A'!$A$14:$M$172,2) -> SARJETA DE CONCRETO INCLUINDO PREPARO DE CAIXA, CONCRETO FCK=18MPA | D31: =VLOOKUP(C31,'A IV.A'!$A$14:$M$172,2) -> SARJETA DE CONCRETO INCLUINDO PREPARO DE CAIXA, CONCRETO FCK=18MPA | E31: =VLOOKUP(D31,'A IV.A'!$A$14:$M$172,2) -> SARJETA DE CONCRETO INCLUINDO PREPARO DE CAIXA, CONCRETO FCK=18MPA | F31: =VLOOKUP(E31,'A IV.A'!$A$14:$M$172,2) -> SARJETA DE CONCRETO INCLUINDO PREPARO DE CAIXA, CONCRETO FCK=18MPA | G31: =VLOOKUP(F31,'A IV.A'!$A$14:$M$172,2) -> SARJETA DE CONCRETO INCLUINDO PREPARO DE CAIXA, CONCRETO FCK=18MPA | H31: =VLOOKUP(G31,'A IV.A'!$A$14:$M$172,2) -> SARJETA DE CONCRETO INCLUINDO PREPARO DE CAIXA, CONCRETO FCK=18MPA
B36: Levantamento | D36: 150 | E36: m2
C39: total | D39: =ROUNDUP(D36,0) -> 150 | E39: m2
A41: ='A IV.A'!A26 -> 2.1.2 | B41: ='A IV.A'!B26 -> DEMOLIÇÃO MECANIZADA DE CALÇADAS E PISOS CIMENTADOS | C41: =VLOOKUP(B41,'A IV.A'!$A$14:$M$172,2) -> SARJETA DE CONCRETO INCLUINDO PREPARO DE CAIXA, CONCRETO FCK=18MPA | D41: =VLOOKUP(C41,'A IV.A'!$A$14:$M$172,2) -> SARJETA DE CONCRETO INCLUINDO PREPARO DE CAIXA, CONCRETO FCK=18MPA | E41: =VLOOKUP(D41,'A IV.A'!$A$14:$M$172,2) -> SARJETA DE CONCRETO INCLUINDO PREPARO DE CAIXA, CONCRETO FCK=18MPA | F41: =VLOOKUP(E41,'A IV.A'!$A$14:$M$172,2) -> SARJETA DE CONCRETO INCLUINDO PREPARO DE CAIXA, CONCRETO FCK=18MPA | G41: =VLOOKUP(F41,'A IV.A'!$A$14:$M$172,2) -> SARJETA DE CONCRETO INCLUINDO PREPARO DE CAIXA, CONCRETO FCK=18MPA | H41: =VLOOKUP(G41,'A IV.A'!$A$14:$M$172,2) -> SARJETA DE CONCRETO INCLUINDO PREPARO DE CAIXA, CONCRETO FCK=18MPA
B45: Levantamento | D45: 500 | E45: m2
C51: total | D51: =D45 -> 500 | E51: m2
A53: ='A IV.A'!#REF! -> #REF! | B53: ='A IV.A'!#REF! -> #REF! | C53: =VLOOKUP(B53,'A IV.A'!$A$14:$M$172,2) -> #REF! | D53: =VLOOKUP(C53,'A IV.A'!$A$14:$M$172,2) -> #REF! | E53: =VLOOKUP(D53,'A IV.A'!$A$14:$M$172,2) -> #REF! | F53: =VLOOKUP(E53,'A IV.A'!$A$14:$M$172,2) -> #REF! | G53: =VLOOKUP(F53,'A IV.A'!$A$14:$M$172,2) -> #REF! | H53: =VLOOKUP(G53,'A IV.A'!$A$14:$M$172,2) -> #REF!
B60: Levantamento | D60: 47.8
C62: total | D62: =ROUND(D60,0) -> 48 | E62: m3
A64: ='A IV.A'!#REF! -> #REF! | B64: ='A IV.A'!#REF! -> #REF! | C64: =VLOOKUP(B64,'A IV.A'!$A$14:$M$172,2) -> #REF! | D64: =VLOOKUP(C64,'A IV.A'!$A$14:$M$172,2) -> #REF! | E64: =VLOOKUP(D64,'A IV.A'!$A$14:$M$172,2) -> #REF! | F64: =VLOOKUP(E64,'A IV.A'!$A$14:$M$172,2) -> #REF! | G64: =VLOOKUP(F64,'A IV.A'!$A$14:$M$172,2) -> #REF! | H64: =VLOOKUP(G64,'A IV.A'!$A$14:$M$172,2) -> #REF!
B68: Levantamento | D68: =170*1.8*0.15+200*1.5*0.15 -> 90.9
C70: total | D70: =ROUND(D68,0) -> 91 | E70: m3
A72: ='A IV.A'!#REF! -> #REF! | B72: ='A IV.A'!#REF! -> #REF!
B74: Levantamento | D74: =20 -> 20 | E74: m3
C77: total | D77: =D74 -> 20 | E77: m3
A79: ='A IV.A'!#REF! -> #REF! | B79: ='A IV.A'!#REF! -> #REF!
B84: Levantamento | D84: 20
C87: total | D87: =D84 -> 20 | E87: m3
A89: ='A IV.A'!#REF! -> #REF! | B89: ='A IV.A'!#REF! -> #REF!
B93: Levantamento | D93: 50
C95: total | D95: =D93 -> 50 | E95: m2
A97: ='A IV.A'!A27 -> 2.1.3 | B97: ='A IV.A'!B27 -> REMOÇÃO MANUAL DE GUIAS EM CONCRETO, COM OU SEM REAPROVEITAMENTO
B100: levantamento | D100: 100 | E100: m
C103: total | D103: =D100 -> 100 | E103: m
A105: ='A IV.A'!A28 -> 2.1.4 | B105: ='A IV.A'!B28 -> DEMOLIÇÃO DE SARJETAS EM CONCRETO
B107: Levantamento | D107: =100*0.3 -> 30 | E107: m2
C110: total | D110: 30 | E110: m2
A112: ='A IV.A'!#REF! -> #REF! | B112: ='A IV.A'!#REF! -> #REF!
...

Sheet A IV.A
A1: (TIMBRE DA LICITANTE)
A5: ANEXO IV.A - PLANILHA DE ORÇAMENTO BASE - LICITANTE - GERAL
A7: EXECUÇÃO DE SERVIÇO DE REFORMA CIVIL, CONSTRUÇÕES E MANUTENÇÕES GERAIS PARA MELHORIAS NAS ÁREAS DE PROPRIEDADE E/OU DE RESPONSABILIDADE DO SEMAE.
B8: LEIS SOCIAIS HORISTA - JORNADA NORMAL | F8: ='A IX.'!$C$45 -> 0 | H8: DATA-BASE | L8: (DATA)
B9: BDI MÃO DE OBRA E SERVIÇOS | F9: ='A VIII.'!$C$29 -> 0
A10: ITEM | B10: SERVIÇO | C10: UNID. | D10: QUANT. | E10: PREÇO | F10: MAT | G10: SERVIÇO | H10: MO | I10: MAT | J10: SERVIÇO | K10: MO | L10: PREÇO | M10: %
E11: UNIT.(R$) | F11: R$ | G11: R$ | H11: R$ | I11: TOTAL | J11: TOTAL | K11: TOTAL | L11: TOTAL(R$)
A14: 1.0 | B14: CANTEIRO DE OBRAS | C14: SUB-TOTAL | F14: =I14 -> 0 | G14: =J14 -> 0 | H14: =K14 -> 0 | I14: =SUM(I16:I20) -> 0 | J14: =SUM(J16:J20) -> 0 | K14: =SUM(K16:K20) -> 0 | L14: =SUM(L16:L20) -> 0 | M14: =ROUND(L14/$L$174,6) -> #DIV/0!
F15: =ROUND(F14/L14,6) -> #DIV/0! | G15: =ROUND(G14/L14,6) -> #DIV/0! | H15: =ROUND(H14/L14,6) -> #DIV/0! | I15: =IF(I14=F14,"sim","nao") -> sim | J15: =IF(J14=G14,"sim","nao") -> sim | K15: =IF(K14=H14,"sim","nao") -> sim
A16: 1.1 | B16: CANTEIRO DE OBRAS (ITEM 6.0 DO TERMO DE REFERÊNCIA) | C16: GB | D16: ='[12]A IV.'!$D16 -> 1 | E16: =F16+G16+H16 -> 0 | F16: ='A VI.'!$F$31 -> 0 | G16: ='A VI.'!$F$45 -> 0 | H16: ='A VI.'!$F$57 -> 0 | I16: =ROUND(D16*F16,2) -> 0 | J16: =ROUND(D16*G16,2) -> 0 | K16: =ROUND(D16*H16,2) -> 0 | L16: =I16+J16+K16 -> 0 | M16: =ROUND(L16/$L$174,6) -> #DIV/0!
A17: 1.2 | B17: PLACA DE IDENTIFICAÇÃO DE OBRA, CONFORME PADRÃO SEMAE (ITEM 6.8 DO TERMO DE REFERÊNCIA) | C17: M2 | D17: ='[12]A IV.'!$D17 -> 90 | E17: =F17+G17+H17 -> 0 | F17: ='A VI.'!$F$79 -> 0 | G17: ='A VI.'!$F$93 -> 0 | H17: ='A VI.'!$F$105 -> 0 | I17: =ROUND($D$17*F17,2) -> 0 | J17: =ROUND($D$17*G17,2) -> 0 | K17: =ROUND($D$17*H17,2) -> 0 | L17: =ROUND(D17*F17,2)+ROUND(D17*G17,2)+ROUND(D17*H17,2) -> 0 | M17: =ROUND(L17/$L$174,6) -> #DIV/0!
A18: 1.3 | B18: VIGILANTE PARA ÁREAS EM OBRA | C18: H | D18: ='[12]A IV.'!$D18 -> 8640 | E18: =F18+G18+H18 -> 0 | F18: ='A VI.'!$F$127 -> 0 | G18: ='A VI.'!$F$141 -> 0 | H18: ='A VI.'!$F$153 -> 0 | I18: =ROUND(D18*F18,2) -> 0 | J18: =ROUND(D18*G18,2) -> 0 | K18: =ROUND(D18*H18,2) -> 0 | L18: =ROUND(D18*F18,2)+ROUND(D18*G18,2)+ROUND(D18*H18,2) -> 0 | M18: =ROUND(L18/$L$174,6) -> #DIV/0!
A19: 1.4 | B19: SANITÁRIO QUÍMICO | C19: UND.MÊS | D19: ='[12]A IV.'!$D19 -> 96 | E19: =F19+G19+H19 -> 0 | F19: ='A VI.'!$F$175 -> 0 | G19: ='A VI.'!$F$189 -> 0 | H19: ='A VI.'!$F$201 -> 0 | I19: =ROUND(D19*F19,2) -> 0 | J19: =ROUND(D19*G19,2) -> 0 | K19: =ROUND(D19*H19,2) -> 0 | L19: =ROUND(D19*F19,2)+ROUND(D19*G19,2)+ROUND(D19*H19,2) -> 0 | M19: =ROUND(L19/$L$174,6) -> #DIV/0!
A20: 1.5 | B20: CONTAINER | C20: UND.MÊS | D20: ='[12]A IV.'!$D20 -> 48 | E20: =F20+G20+H20 -> 0 | F20: ='A VI.'!$F$223 -> 0 | G20: ='A VI.'!$F$237 -> 0 | H20: ='A VI.'!$F$249 -> 0 | I20: =ROUND(D20*F20,2) -> 0 | J20: =ROUND(D20*G20,2) -> 0 | K20: =ROUND(D20*H20,2) -> 0 | L20: =ROUND(D20*F20,2)+ROUND(D20*G20,2)+ROUND(D20*H20,2) -> 0 | M20: =ROUND(L20/$L$174,6) -> #DIV/0!
A22: 2.0 | B22: SERVIÇOS INICIAIS | C22: SUB-TOTAL | F22: =I22 -> 0 | G22: =J22 -> 0 | H22: =K22 -> 0 | I22: =SUM(I25:I41) -> 0 | J22: =SUM(J25:J41) -> 0 | K22: =SUM(K25:K41) -> 0 | L22: =SUM(L25:L41) -> 0 | M22: =ROUND(L22/$L$174,6) -> #DIV/0!
F23: =ROUND(F22/L22,6) -> #DIV/0! | G23: =ROUND(G22/L22,6) -> #DIV/0! | H23: =ROUND(H22/L22,6) -> #DIV/0! | I23: =IF(I22=F22,"sim","nao") -> sim | J23: =IF(J22=G22,"sim","nao") -> sim | K23: =IF(K22=H22,"sim","nao") -> sim
A24: 2.1 | B24: RETIRADAS E DEMOLIÇÕES - ITEM 7.1 DO TERMO DE REFERÊNCIA
A25: 2.1.1 | B25: DEMOLIÇÃO MANUAL DE CALÇADAS E PISOS CIMENTADOS | C25: M2 | D25: ='[12]A IV.'!$D25 -> 1000 | E25: =F25+G25+H25 -> 0 | F25: ='A VI.'!$F$271 -> 0 | G25: ='A VI.'!$F$285 -> 0 | H25: ='A VI.'!$F$297 -> 0 | I25: =ROUND(D25*F25,2) -> 0 | J25: =ROUND(D25*G25,2) -> 0 | K25: =ROUND(D25*H25,2) -> 0 | L25: =ROUND(D25*F25,2)+ROUND(D25*G25,2)+ROUND(D25*H25,2) -> 0 | M25: =ROUND(L25/$L$174,6) -> #DIV/0!
A26: 2.1.2 | B26: DEMOLIÇÃO MECANIZADA DE CALÇADAS E PISOS CIMENTADOS | C26: M2 | D26: ='[12]A IV.'!$D26 -> 2000 | E26: =F26+G26+H26 -> 0 | F26: ='A VI.'!F319 -> 0 | G26: ='A VI.'!F333 -> 0 | H26: ='A VI.'!F345 -> 0 | I26: =ROUND(D26*F26,2) -> 0 | J26: =ROUND(D26*G26,2) -> 0 | K26: =ROUND(D26*H26,2) -> 0 | L26: =ROUND(D26*F26,2)+ROUND(D26*G26,2)+ROUND(D26*H26,2) -> 0 | M26: =ROUND(L26/$L$174,6) -> #DIV/0!
A27: 2.1.3 | B27: REMOÇÃO MANUAL DE GUIAS EM CONCRETO, COM OU SEM REAPROVEITAMENTO | C27: M | D27: ='[12]A IV.'!$D27 -> 1200 | E27: =F27+G27+H27 -> 0 | F27: ='A VI.'!$F$367 -> 0 | G27: ='A VI.'!$F$381 -> 0 | H27: ='A VI.'!$F$393 -> 0 | I27: =ROUND(D27*F27,2) -> 0 | J27: =ROUND(D27*G27,2) -> 0 | K27: =ROUND(D27*H27,2) -> 0 | L27: =ROUND(D27*F27,2)+ROUND(D27*G27,2)+ROUND(D27*H27,2) -> 0 | M27: =ROUND(L27/$L$174,6) -> #DIV/0!
A28: 2.1.4 | B28: DEMOLIÇÃO DE SARJETAS EM CONCRETO | C28: M2 | D28: ='[12]A IV.'!$D28 -> 20 | E28: =F28+G28+H28 -> 0 | F28: ='A VI.'!$F$415 -> 0 | G28: ='A VI.'!$F$429 -> 0 | H28: ='A VI.'!$F$441 -> 0 | I28: =ROUND(D28*F28,2) -> 0 | J28: =ROUND(D28*G28,2) -> 0 | K28: =ROUND(D28*H28,2) -> 0 | L28: =ROUND(D28*F28,2)+ROUND(D28*G28,2)+ROUND(D28*H28,2) -> 0 | M28: =ROUND(L28/$L$174,6) -> #DIV/0!
A29: 2.1.5 | B29: REMOÇÃO MANUAL DE PORTÃO, GRADE DE PROTEÇÃO E ESQUADRIAS METÁLICAS EM GERAL, COM OU SEM REAPROVEITAMENTO | C29: M2 | D29: ='[12]A IV.'!$D29 -> 64 | E29: =F29+G29+H29 -> 0 | F29: ='A VI.'!F463 -> 0 | G29: ='A VI.'!F477 -> 0 | H29: ='A VI.'!F489 -> 0 | I29: =ROUND(D29*F29,2) -> 0 | J29: =ROUND(D29*G29,2) -> 0 | K29: =ROUND(D29*H29,2) -> 0 | L29: =ROUND(D29*F29,2)+ROUND(D29*G29,2)+ROUND(D29*H29,2) -> 0 | M29: =ROUND(L29/$L$174,6) -> #DIV/0!
A30: 2.1.6 | B30: REMOÇÃO DE CALHAS, RUFOS, PINGADEIRAS E CONDUTORES VERTICAIS | C30: M | D30: ='[12]A IV.'!$D30 -> 100 | E30: =F30+G30+H30 -> 0 | F30: ='A VI.'!$F$511 -> 0 | G30: ='A VI.'!$F$525 -> 0 | H30: ='A VI.'!$F$537 -> 0 | I30: =ROUND(D30*F30,2) -> 0 | J30: =ROUND(D30*G30,2) -> 0 | K30: =ROUND(D30*H30,2) -> 0 | L30: =ROUND(D30*F30,2)+ROUND(D30*G30,2)+ROUND(D30*H30,2) -> 0 | M30: =ROUND(L30/$L$174,6) -> #DIV/0!
A31: 2.1.7 | B31: REMOÇÃO COMPLETA DE CERCA DE ALAMBRADO COM OU SEM REAPROVEITAMENTO | C31: M | D31: ='[12]A IV.'!$D31 -> 3000 | E31: =F31+G31+H31 -> 0 | F31: ='A VI.'!$F$559 -> 0 | G31: ='A VI.'!$F$573 -> 0 | H31: ='A VI.'!$F$585 -> 0 | I31: =ROUND(D31*F31,2) -> 0 | J31: =ROUND(D31*G31,2) -> 0 | K31: =ROUND(D31*H31,2) -> 0 | L31: =ROUND(D31*F31,2)+ROUND(D31*G31,2)+ROUND(D31*H31,2) -> 0 | M31: =ROUND(L31/$L$174,6) -> #DIV/0!
A32: 2.2 | B32: CARGA, TRANSPORTE E DESCARGA - ITEM 7.2 DO TERMO DE REFERÊNCIA
A33: 2.2.1 | B33: CARGA MANUAL DE MATERIAIS PROVENIENTES DE DEMOLIÇÕES EM GERAL | C33: M3 | D33: ='[12]A IV.'!$D33 -> 50 | E33: =F33+G33+H33 -> 0 | F33: ='A VI.'!$F$607 -> 0 | G33: ='A VI.'!$F$621 -> 0 | H33: ='A VI.'!$F$633 -> 0 | I33: =ROUND(D33*F33,2) -> 0 | J33: =ROUND(D33*G33,2) -> 0 | K33: =ROUND(D33*H33,2) -> 0 | L33: =ROUND(D33*F33,2)+ROUND(D33*G33,2)+ROUND(D33*H33,2) -> 0 | M33: =ROUND(L33/$L$174,6) -> #DIV/0!
A34: 2.2.2 | B34: CARGA MECANIZADA DE MATERIAIS PROVENIENTES DE DEMOLIÇÕES EM GERAL | C34: M3 | D34: ='[12]A IV.'!$D34 -> 300 | E34: =F34+G34+H34 -> 0 | F34: ='A VI.'!$F$655 -> 0 | G34: ='A VI.'!$F$669 -> 0 | H34: ='A VI.'!$F$681 -> 0 | I34: =ROUND(D34*F34,2) -> 0 | J34: =ROUND(D34*G34,2) -> 0 | K34: =ROUND(D34*H34,2) -> 0 | L34: =ROUND(D34*F34,2)+ROUND(D34*G34,2)+ROUND(D34*H34,2) -> 0 | M34: =ROUND(L34/$L$174,6) -> #DIV/0!
A35: 2.2.3 | B35: BOTA-FORA E DESCARGA DE MATERIAIS PROVENIENTES DE DEMOLIÇÕES EM GERAL | C35: M3.KM | D35: ='[12]A IV.'!$D35 -> 10500 | E35: =F35+G35+H35 -> 0 | F35: ='A VI.'!$F$703 -> 0 | G35: ='A VI.'!$F$717 -> 0 | H35: ='A VI.'!$F$729 -> 0 | I35: =ROUND(D35*F35,2) -> 0 | J35: =ROUND(D35*G35,2) -> 0 | K35: =ROUND(D35*H35,2) -> 0 | L35: =ROUND(D35*F35,2)+ROUND(D35*G35,2)+ROUND(D35*H35,2) -> 0 | M35: =ROUND(L35/$L$174,6) -> #DIV/0!
A36: 2.2.4 | B36: LOCAL LICENCIADO PARA DEPÓSITO DE BOTA FORA | C36: M3 | D36: ='[12]A IV.'!$D36 -> 350 | E36: =F36+G36+H36 -> 0 | F36: ='A VI.'!F751 -> 0 | G36: ='A VI.'!F765 -> 0 | H36: ='A VI.'!F777 -> 0 | I36: =ROUND(D36*F36,2) -> 0 | J36: =ROUND(D36*G36,2) -> 0 | K36: =ROUND(D36*H36,2) -> 0 | L36: =ROUND(D36*F36,2)+ROUND(D36*G36,2)+ROUND(D36*H36,2) -> 0 | M36: =ROUND(L36/$L$174,6) -> #DIV/0!
A37: 2.3 | B37: SINALIZAÇÃO DE TRÂNSITO - ITEM 7.3 DO TERMO DE REFERÊNCIA
A38: 2.3.1 | B38: SINALIZAÇÃO DE OBRA COM CONE DE PVC COM PINTURA REFLEXIVA H = 0,70 M | C38: UN | D38: ='[12]A IV.'!$D38 -> 12 | E38: =F38+G38+H38 -> 0 | F38: ='A VI.'!F799 -> 0 | G38: ='A VI.'!F813 -> 0 | H38: ='A VI.'!F825 -> 0 | I38: =ROUND(D38*F38,2) -> 0 | J38: =ROUND(D38*G38,2) -> 0 | K38: =ROUND(D38*H38,2) -> 0 | L38: =ROUND(D38*F38,2)+ROUND(D38*G38,2)+ROUND(D38*H38,2) -> 0 | M38: =ROUND(L38/$L$174,6) -> #DIV/0!
A39: 2.3.2 | B39: ISOLAMENTO DE OBRA COM TELA PLÁSTICA COM MALHA DE 5 MM | C39: M | D39: ='[12]A IV.'!$D39 -> 3000 | E39: =F39+G39+H39 -> 0 | F39: ='A VI.'!F847 -> 0 | G39: ='A VI.'!F861 -> 0 | H39: ='A VI.'!F873 -> 0 | I39: =ROUND(D39*F39,2) -> 0 | J39: =ROUND(D39*G39,2) -> 0 | K39: =ROUND(D39*H39,2) -> 0 | L39: =ROUND(D39*F39,2)+ROUND(D39*G39,2)+ROUND(D39*H39,2) -> 0 | M39: =ROUND(L39/$L$174,6) -> #DIV/0!
A40: 2.3.3 | B40: FORNECIMENTO E MONTAGEM/INSTALAÇÃO DE PLACAS DE SINALIZAÇÃO COM PINTURA REFLETIVA PARA APROVEITAMENTO | C40: M2 | D40: ='[12]A IV.'!$D40 -> 5 | E40: =F40+G40+H40 -> 0 | F40: ='A VI.'!F895 -> 0 | G40: ='A VI.'!F909 -> 0 | H40: ='A VI.'!F921 -> 0 | I40: =ROUND(D40*F40,2) -> 0 | J40: =ROUND(D40*G40,2) -> 0 | K40: =ROUND(D40*H40,2) -> 0 | L40: =ROUND(D40*F40,2)+ROUND(D40*G40,2)+ROUND(D40*H40,2) -> 0 | M40: =ROUND(L40/$L$174,6) -> #DIV/0!
A41: 2.3.4 | B41: SINALIZAÇÃO DE TRÂNSITO COM CAVALETE DE MADEIRA SIMPLES | C41: UN | D41: ='[12]A IV.'!$D41 -> 10 | E41: =F41+G41+H41 -> 0 | F41: ='A VI.'!F943 -> 0 | G41: ='A VI.'!F957 -> 0 | H41: ='A VI.'!F969 -> 0 | I41: =ROUND(D41*F41,2) -> 0 | J41: =ROUND(D41*G41,2) -> 0 | K41: =ROUND(D41*H41,2) -> 0 | L41: =ROUND(D41*F41,2)+ROUND(D41*G41,2)+ROUND(D41*H41,2) -> 0 | M41: =ROUND(L41/$L$174,6) -> #DIV/0!
A43: 3.0 | B43: FECHAMENTOS, PROTEÇÕES E ALVENARIAS EM GERAL | C43: SUB-TOTAL | F43: =I43 -> 0 | G43: =J43 -> 0 | H43: =K43 -> 0 | I43: =SUM(I46:I110) -> 0 | J43: =SUM(J46:J110) -> 0 | K43: =SUM(K46:K110) -> 0 | L43: =SUM(L46:L110) -> 0 | M43: =ROUND(L43/$L$174,6) -> #DIV/0!
F44: =ROUND(F43/L43,6) -> #DIV/0! | G44: =ROUND(G43/L43,6) -> #DIV/0! | H44: =ROUND(H43/L43,6) -> #DIV/0! | I44: =IF(I43=F43,"sim","nao") -> sim | J44: =IF(J43=G43,"sim","nao") -> sim | K44: =IF(K43=H43,"sim","nao") -> sim
A45: 3.1 | B45: PROTEÇÃO DE ÁREA DE RESERVATÓRIO - PORTÕES, ALAMBRADOS E ITENS CONSTITUINTES - ITENS 8.1.1 A 8.1.8 DO TERMO DE REFERÊNCIA
A46: 3.1.1 | B46: ALAMBRADO COM TELA DE ARAME GALVANIZADO, FIXADA EM MOURÃO DE CONCRETO ARMADO, INCLUINDO MURETA DE CONCRETO | C46: M | D46: ='[12]A IV.'!$D46 -> 250 | E46: =F46+G46+H46 -> 0 | F46: ='A VI.'!$F$991 -> 0 | G46: ='A VI.'!$F$1005 -> 0 | H46: ='A VI.'!$F$1017 -> 0 | I46: =ROUND(D46*F46,2) -> 0 | J46: =ROUND(D46*G46,2) -> 0 | K46: =ROUND(D46*H46,2) -> 0 | L46: =ROUND(D46*F46,2)+ROUND(D46*G46,2)+ROUND(D46*H46,2) -> 0 | M46: =ROUND(L46/$L$174,6) -> #DIV/0!
A47: 3.1.2 | B47: ALTEAMENTO DE PROTEÇÃO EM ARAME COM LÂMINAS - CONCERTINA AÇO GALVANIZADO - FORNECIMENTO E INSTALAÇÃO | C47: M | D47: ='[12]A IV.'!$D47 -> 3500 | E47: =F47+G47+H47 -> 0 | F47: ='A VI.'!F1039 -> 0 | G47: ='A VI.'!F1053 -> 0 | H47: ='A VI.'!F1065 -> 0 | I47: =ROUND(D47*F47,2) -> 0 | J47: =ROUND(D47*G47,2) -> 0 | K47: =ROUND(D47*H47,2) -> 0 | L47: =ROUND(D47*F47,2)+ROUND(D47*G47,2)+ROUND(D47*H47,2) -> 0 | M47: =ROUND(L47/$L$174,6) -> #DIV/0!
A48: 3.1.3 | B48: FORNECIMENTO E INSTALAÇÃO DE CONJUNTO DE PORTÕES DE ABRIR EM BARRA CHATA, SOB MEDIDA, COMPLETO, PADRÃO ANEXO X.I-A, PORTÃO SOCIAL (1,00 X 2,6) E PORTÃO DE VEÍCULOS (4,00 X 2,60), INCLUSIVE PILARES DE FIXAÇÃO | C48: UN | D48: ='[12]A IV.'!$D48 -> 40 | E48: =F48+G48+H48 -> 0 | F48: ='A VI.'!F1087 -> 0 | G48: ='A VI.'!F1101 -> 0 | H48: ='A VI.'!F1113 -> 0 | I48: =ROUND(D48*F48,2) -> 0 | J48: =ROUND(D48*G48,2) -> 0 | K48: =ROUND(D48*H48,2) -> 0 | L48: =ROUND(D48*F48,2)+ROUND(D48*G48,2)+ROUND(D48*H48,2) -> 0 | M48: =ROUND(L48/$L$174,6) -> #DIV/0!
...

Sheet A V.
B1: ='A IV.A'!A1 -> (TIMBRE DA LICITANTE)
B4: ='A IV.A'!A3
B7: ='A IV.A'!$A$7 -> EXECUÇÃO DE SERVIÇO DE REFORMA CIVIL, CONSTRUÇÕES E MANUTENÇÕES GERAIS PARA MELHORIAS NAS ÁREAS DE PROPRIEDADE E/OU DE RESPONSABILIDADE DO SEMAE.
B9: ANEXO V.A - CRONOGRAMA FÍSICO - FINANCEIRO- SEMAE
E12: 1º MÊS | H12: 2ºMÊS | K12: 3º MÊS | N12: 4º MÊS | Q12: 5º MÊS | T12: 6º MÊS
E13: MAT | F13: EQUIP | G13: MO | H13: MAT | I13: EQUIP | J13: MO | K13: MAT | L13: EQUIP | M13: MO | N13: MAT | O13: EQUIP | P13: MO | Q13: MAT | R13: EQUIP | S13: MO | T13: MAT | U13: EQUIP | V13: MO
B14: ='A IV.A'!$A$14 -> 1.0 | C14: ='A IV.A'!$B$14 -> CANTEIRO DE OBRAS | D14: ='A IV.A'!$L$14 -> 0 | E14: =E15+F15+G15 -> 0 | H14: =H15+I15+J15 -> 0 | K14: =K15+L15+M15 -> 0 | N14: =N15+O15+P15 -> 0 | Q14: =Q15+R15+S15 -> 0 | T14: =T15+U15+V15 -> 0 | W14: =N14+Q14+T14+K14+H14+E14 -> 0
E15: ='A IV.A'!$F$14*0.0819/2 -> 0 | F15: ='A IV.A'!$G$14*0.0819/2 -> 0 | G15: ='A IV.A'!$H$14*0.0819/2 -> 0 | H15: ='A IV.A'!$F$14*0.0842/2 -> 0 | I15: ='A IV.A'!$G$14*0.0842/2 -> 0 | J15: ='A IV.A'!$H$14*0.0842/2 -> 0 | K15: ='A IV.A'!$F$14*0.0842/2 -> 0 | L15: ='A IV.A'!$G$14*0.0842/2 -> 0 | M15: ='A IV.A'!$H$14*0.0842/2 -> 0 | N15: ='A IV.A'!$F$14*0.0842/2 -> 0 | O15: ='A IV.A'!$G$14*0.0842/2 -> 0 | P15: ='A IV.A'!$H$14*0.0842/2 -> 0 | Q15: ='A IV.A'!$F$14*0.09/2 -> 0 | R15: ='A IV.A'!$G$14*0.09/2 -> 0 | S15: ='A IV.A'!$H$14*0.09/2 -> 0 | T15: ='A IV.A'!$F$14*0.09/2 -> 0 | U15: ='A IV.A'!$G$14*0.09/2 -> 0 | V15: ='A IV.A'!$H$14*0.09/2 -> 0
D16: ='A IV.A'!$M$14 -> #DIV/0! | E16: =E14/$D$51 -> #DIV/0! | H16: =H14/$D$51 -> #DIV/0! | K16: =K14/$D$51 -> #DIV/0! | N16: =N14/$D$51 -> #DIV/0! | Q16: =Q14/$D$51 -> #DIV/0! | T16: =T14/$D$51 -> #DIV/0! | W16: =W14/D14 -> #DIV/0!
B17: ='A IV.A'!$A$22 -> 2.0 | C17: ='A IV.A'!$B$22 -> SERVIÇOS INICIAIS | D17: ='A IV.A'!$L$22 -> 0 | E17: =E18+F18+G18 -> 0 | H17: =H18+I18+J18 -> 0 | K17: =K18+L18+M18 -> 0 | N17: =N18+O18+P18 -> 0 | Q17: =Q18+R18+S18 -> 0 | T17: =T18+U18+V18 -> 0 | W17: =N17+Q17+T17+K17+H17+E17 -> 0
E18: ='A IV.A'!$F$22*0.09/2 -> 0 | F18: ='A IV.A'!$G$22*0.09/2 -> 0 | G18: ='A IV.A'!$H$22*0.09/2 -> 0 | H18: ='A IV.A'!$F$22*0.09/2 -> 0 | I18: ='A IV.A'!$G$22*0.09/2 -> 0 | J18: ='A IV.A'!$H$22*0.09/2 -> 0 | K18: ='A IV.A'!$F$22*0.09/2 -> 0 | L18: ='A IV.A'!$G$22*0.09/2 -> 0 | M18: ='A IV.A'!$H$22*0.09/2 -> 0 | N18: ='A IV.A'!$F$22*0.09/2 -> 0 | O18: ='A IV.A'!$G$22*0.09/2 -> 0 | P18: ='A IV.A'!$H$22*0.09/2 -> 0 | Q18: ='A IV.A'!$F$22/12/2 -> 0 | R18: ='A IV.A'!$G$22/12/2 -> 0 | S18: ='A IV.A'!$H$22/12/2 -> 0 | T18: ='A IV.A'!$F$22/12/2 -> 0 | U18: ='A IV.A'!$G$22/12/2 -> 0 | V18: ='A IV.A'!$H$22/12/2 -> 0
D19: ='A IV.A'!$M$22 -> #DIV/0! | E19: =E17/$D$54 -> #DIV/0! | H19: =H17/$D$54 -> #DIV/0! | K19: =K17/$D$54 -> #DIV/0! | N19: =N17/$D$54 -> #DIV/0! | Q19: =Q17/$D$54 -> #DIV/0! | T19: =T17/$D$54 -> #DIV/0! | W19: =W17/D17 -> #DIV/0!
B20: ='A IV.A'!$A$43 -> 3.0 | C20: ='A IV.A'!$B$43 -> FECHAMENTOS, PROTEÇÕES E ALVENARIAS EM GERAL | D20: ='A IV.A'!$L$43 -> 0 | E20: =E21+F21+G21 -> 0 | H20: =H21+I21+J21 -> 0 | K20: =K21+L21+M21 -> 0 | N20: =N21+O21+P21 -> 0 | Q20: =Q21+R21+S21 -> 0 | T20: =T21+U21+V21 -> 0 | W20: =N20+Q20+T20+K20+H20+E20 -> 0
E21: ='A IV.A'!$F$43*0.09/2 -> 0 | F21: ='A IV.A'!$G$43*0.09/2 -> 0 | G21: ='A IV.A'!$H$43*0.09/2 -> 0 | H21: ='A IV.A'!$F$43*0.1/2 -> 0 | I21: ='A IV.A'!$G$43*0.1/2 -> 0 | J21: ='A IV.A'!$H$43*0.1/2 -> 0 | K21: ='A IV.A'!$F$43*0.11/2 -> 0 | L21: ='A IV.A'!$G$43*0.11/2 -> 0 | M21: ='A IV.A'!$H$43*0.11/2 -> 0 | N21: ='A IV.A'!$F$43*0.11/2 -> 0 | O21: ='A IV.A'!$G$43*0.11/2 -> 0 | P21: ='A IV.A'!$H$43*0.11/2 -> 0 | Q21: ='A IV.A'!$F$43*0.1/2 -> 0 | R21: ='A IV.A'!$G$43*0.1/2 -> 0 | S21: ='A IV.A'!$H$43*0.1/2 -> 0 | T21: ='A IV.A'!$F$43*0.09/2 -> 0 | U21: ='A IV.A'!$G$43*0.09/2 -> 0 | V21: ='A IV.A'!$H$43*0.09/2 -> 0
D22: ='A IV.A'!$M$43 -> #DIV/0! | E22: =E20/$D$57 -> #DIV/0! | H22: =H20/$D$57 -> #DIV/0! | K22: =K20/$D$57 -> #DIV/0! | N22: =N20/$D$57 -> #DIV/0! | Q22: =Q20/$D$57 -> #DIV/0! | T22: =T20/$D$57 -> #DIV/0! | W22: =W20/D20 -> #DIV/0!
B23: ='A IV.A'!$A$112 -> 4.0 | C23: ='A IV.A'!$B$112 -> FORNECIMENTO E INSTALAÇÕES HIDRAULICAS - ITEM 9.0 DO TERMO DE REFERÊNCIA | D23: ='A IV.A'!$L$112 -> 0 | E23: =E24+F24+G24 -> 0 | H23: =H24+I24+J24 -> 0 | K23: =K24+L24+M24 -> 0 | N23: =N24+O24+P24 -> 0 | Q23: =Q24+R24+S24 -> 0 | T23: =T24+U24+V24 -> 0 | W23: =N23+Q23+T23+K23+H23+E23 -> 0
E24: ='A IV.A'!$F$112/12/2 -> 0 | F24: ='A IV.A'!$G$112/12/2 -> 0 | G24: ='A IV.A'!$H$112/12/2 -> 0 | H24: ='A IV.A'!$F$112/12/2 -> 0 | I24: ='A IV.A'!$G$112/12/2 -> 0 | J24: ='A IV.A'!$H$112/12/2 -> 0 | K24: ='A IV.A'!$F$112/12/2 -> 0 | L24: ='A IV.A'!$G$112/12/2 -> 0 | M24: ='A IV.A'!$H$112/12/2 -> 0 | N24: ='A IV.A'!$F$112/12/2 -> 0 | O24: ='A IV.A'!$G$112/12/2 -> 0 | P24: ='A IV.A'!$H$112/12/2 -> 0 | Q24: ='A IV.A'!$F$112/12/2 -> 0 | R24: ='A IV.A'!$G$112/12/2 -> 0 | S24: ='A IV.A'!$H$112/12/2 -> 0 | T24: ='A IV.A'!$F$112/12/2 -> 0 | U24: ='A IV.A'!$G$112/12/2 -> 0 | V24: ='A IV.A'!$H$112/12/2 -> 0
D25: ='A IV.A'!$M$112 -> #DIV/0! | E25: =E23/$D$60 -> #DIV/0! | H25: =H23/$D$60 -> #DIV/0! | K25: =K23/$D$60 -> #DIV/0! | N25: =N23/$D$60 -> #DIV/0! | Q25: =Q23/$D$60 -> #DIV/0! | T25: =T23/$D$60 -> #DIV/0! | W25: =W23/D23 -> #DIV/0!
B26: ='A IV.A'!$A$126 -> 5.0 | C26: ='A IV.A'!$B$126 -> RECUPERAÇÃO E TRATAMENTO DE SUPERFÍCIES EM CONCRETO ARMADO - ITEM 10.0 DO TERMO DE REFERÊNCIA | D26: ='A IV.A'!$L$126 -> 0 | E26: =E27+F27+G27 -> 0 | H26: =H27+I27+J27 -> 0 | K26: =K27+L27+M27 -> 0 | N26: =N27+O27+P27 -> 0 | Q26: =Q27+R27+S27 -> 0 | T26: =T27+U27+V27 -> 0 | W26: =N26+Q26+T26+K26+H26+E26 -> 0
E27: ='A IV.A'!$F$126/12/2 -> 0 | F27: ='A IV.A'!$G$126/12/2 -> 0 | G27: ='A IV.A'!$H$126/12/2 -> 0 | H27: ='A IV.A'!$F$126/12/2 -> 0 | I27: ='A IV.A'!$G$126/12/2 -> 0 | J27: ='A IV.A'!$H$126/12/2 -> 0 | K27: ='A IV.A'!$F$126/12/2 -> 0 | L27: ='A IV.A'!$G$126/12/2 -> 0 | M27: ='A IV.A'!$H$126/12/2 -> 0 | N27: ='A IV.A'!$F$126/12/2 -> 0 | O27: ='A IV.A'!$G$126/12/2 -> 0 | P27: ='A IV.A'!$H$126/12/2 -> 0 | Q27: ='A IV.A'!$F$126/12/2 -> 0 | R27: ='A IV.A'!$G$126/12/2 -> 0 | S27: ='A IV.A'!$H$126/12/2 -> 0 | T27: ='A IV.A'!$F$126/12/2 -> 0 | U27: ='A IV.A'!$G$126/12/2 -> 0 | V27: ='A IV.A'!$H$126/12/2 -> 0
D28: ='A IV.A'!$M$126 -> #DIV/0! | E28: =E26/$D$63 -> #DIV/0! | H28: =H26/$D$63 -> #DIV/0! | K28: =K26/$D$63 -> #DIV/0! | N28: =N26/$D$63 -> #DIV/0! | Q28: =Q26/$D$63 -> #DIV/0! | T28: =T26/$D$63 -> #DIV/0! | W28: =W26/D26 -> #DIV/0!
B29: ='A IV.A'!$A$134 -> 6.0 | C29: ='A IV.A'!$B$134 -> PINTURAS - ITEM 11.0 DO TERMO DE REFERÊNCIA | D29: ='A IV.A'!$L$134 -> 0 | E29: =E30+F30+G30 -> 0 | H29: =H30+I30+J30 -> 0 | K29: =K30+L30+M30 -> 0 | N29: =N30+O30+P30 -> 0 | Q29: =Q30+R30+S30 -> 0 | T29: =T30+U30+V30 -> 0 | W29: =N29+Q29+T29+K29+H29+E29 -> 0
E30: ='A IV.A'!$F$134*0.085/2 -> 0 | F30: ='A IV.A'!$G$134*0.085/2 -> 0 | G30: ='A IV.A'!$H$134*0.085/2 -> 0 | H30: ='A IV.A'!$F$134*0.085/2 -> 0 | I30: ='A IV.A'!$G$134*0.085/2 -> 0 | J30: ='A IV.A'!$H$134*0.085/2 -> 0 | K30: ='A IV.A'!$F$134*0.085/2 -> 0 | L30: ='A IV.A'!$G$134*0.085/2 -> 0 | M30: ='A IV.A'!$H$134*0.085/2 -> 0 | N30: ='A IV.A'!$F$134*0.085/2 -> 0 | O30: ='A IV.A'!$G$134*0.085/2 -> 0 | P30: ='A IV.A'!$H$134*0.085/2 -> 0 | Q30: ='A IV.A'!$F$134*0.08/2 -> 0 | R30: ='A IV.A'!$G$134*0.08/2 -> 0 | S30: ='A IV.A'!$H$134*0.08/2 -> 0 | T30: ='A IV.A'!$F$134*0.08/2 -> 0 | U30: ='A IV.A'!$G$134*0.08/2 -> 0 | V30: ='A IV.A'!$H$134*0.08/2 -> 0
D31: ='A IV.A'!$M$134 -> #DIV/0! | E31: =E29/$D$66 -> #DIV/0! | H31: =H29/$D$66 -> #DIV/0! | K31: =K29/$D$66 -> #DIV/0! | N31: =N29/$D$66 -> #DIV/0! | Q31: =Q29/$D$66 -> #DIV/0! | T31: =T29/$D$66 -> #DIV/0! | W31: =W29/D29 -> #DIV/0!
B32: ='A IV.A'!$A$155 -> 7.0 | C32: ='A IV.A'!$B$155 -> SERVIÇOS COMPLEMENTARES - ITEM 12.0 DO TERMO DE REFERÊNCIA | D32: ='A IV.A'!$L$155 -> 0 | E32: =E33+F33+G33 -> 0 | H32: =H33+I33+J33 -> 0 | K32: =K33+L33+M33 -> 0 | N32: =N33+O33+P33 -> 0 | Q32: =Q33+R33+S33 -> 0 | T32: =T33+U33+V33 -> 0 | W32: =N32+Q32+T32+K32+H32+E32 -> 0
E33: ='A IV.A'!$F$155*0.08/2 -> 0 | F33: ='A IV.A'!$G$155*0.08/2 -> 0 | G33: ='A IV.A'!$H$155*0.08/2 -> 0 | H33: ='A IV.A'!$F$155/12/2 -> 0 | I33: ='A IV.A'!$G$155/12/2 -> 0 | J33: ='A IV.A'!$H$155/12/2 -> 0 | K33: ='A IV.A'!$F$155/12/2 -> 0 | L33: ='A IV.A'!$G$155/12/2 -> 0 | M33: ='A IV.A'!$H$155/12/2 -> 0 | N33: ='A IV.A'!$F$155/12/2 -> 0 | O33: ='A IV.A'!$G$155/12/2 -> 0 | P33: ='A IV.A'!$H$155/12/2 -> 0 | Q33: ='A IV.A'!$F$155*0.12/2 -> 0 | R33: ='A IV.A'!$G$155*0.12/2 -> 0 | S33: ='A IV.A'!$H$155*0.12/2 -> 0 | T33: ='A IV.A'!$F$155*0.12/2 -> 0 | U33: ='A IV.A'!$G$155*0.12/2 -> 0 | V33: ='A IV.A'!$H$155*0.12/2 -> 0
D34: ='A IV.A'!$M$155 -> #DIV/0! | E34: =E32/$D$69 -> #DIV/0! | H34: =H32/$D$69 -> #DIV/0! | K34: =K32/$D$69 -> #DIV/0! | N34: =N32/$D$69 -> #DIV/0! | Q34: =Q32/$D$69 -> #DIV/0! | T34: =T32/$D$69 -> #DIV/0! | W34: =W32/D32 -> #DIV/0!
B36: MEDIÇÃO MENSAL | D36: =D14+D17+D20+D23+D26+D29+D32 -> 0 | E36: =E37+F37+G37 -> 0 | H36: =H37+I37+J37 -> 0 | K36: =K37+L37+M37 -> 0 | N36: =N37+O37+P37 -> 0 | Q36: =Q37+R37+S37 -> 0 | T36: =T37+U37+V37 -> 0 | W36: =W14+W17+W20+W23+W26+W29+W32 -> 0
E37: =E27+E24+E21+E18+E15+E30+E33 -> 0 | F37: =F27+F24+F21+F18+F15+F30+F33 -> 0 | G37: =G27+G24+G21+G18+G15+G30+G33 -> 0 | H37: =H27+H24+H21+H18+H15+H30+H33 -> 0 | I37: =I27+I24+I21+I18+I15+I30+I33 -> 0 | J37: =J27+J24+J21+J18+J15+J30+J33 -> 0 | K37: =K27+K24+K21+K18+K15+K30+K33 -> 0 | L37: =L27+L24+L21+L18+L15+L30+L33 -> 0 | ... V37: =V27+V24+V21+V18+V15+V30+V33 -> 0
D38: =D16+D19+D22+D25+D28+D31+D34 -> #DIV/0! | E38: =ROUND(E36/$D$36,6) -> #DIV/0! | H38: =ROUND(H36/$D$36,6) -> #DIV/0! | K38: =ROUND(K36/$D$36,6) -> #DIV/0! | N38: =ROUND(N36/$D$36,6) -> #DIV/0! | Q38: =ROUND(Q36/$D$36,6) -> #DIV/0! | T38: =ROUND(T36/$D$36,6) -> #DIV/0! | W38: =ROUND(N38+Q38+T38+K38+H38+E38,6) -> #DIV/0!
B40: MEDIÇÕES MENSAIS ACUMULADAS | D40: R$ | E40: =E36 -> 0 | H40: =H36+E40 -> 0 | K40: =K36+H40 -> 0 | N40: =N36+K40 -> 0 | Q40: =Q36+N40 -> 0 | T40: =T36+Q40 -> 0
B41: MEDIÇÕES MENSAIS ACUMULADAS | D41: R$ | E41: =E37 -> 0 | F41: =F37 -> 0 | G41: =G37 -> 0 | H41: =H37+E41 -> 0 | I41: =I37+F41 -> 0 | J41: =J37+G41 -> 0 | K41: =K37+H41 -> 0 | L41: =L37+I41 -> 0 | M41: =M37+J41 -> 0 | N41: =N37+K41 -> 0 | O41: =O37+L41 -> 0 | ... V41: =V37+S41 -> 0
B42: SALDO CONTRATUAL | D42: R$ | E42: =$D$36-E40 -> 0 | H42: =$D$36-H40 -> 0 | K42: =$D$36-K40 -> 0 | N42: =$D$36-N40 -> 0 | Q42: =$D$36-Q40 -> 0 | T42: =$D$36-T40 -> 0
B43: SALDO CONTRATUAL | D43: R$ | E43: ='A IV.A'!$L$175-E41 -> 0 | F43: ='A IV.A'!$L$176-F41 -> 0 | G43: ='A IV.A'!$L$177-G41 -> 0 | H43: ='A IV.A'!$L$175-H41 -> 0 | I43: ='A IV.A'!$L$176-I41 -> 0 | J43: ='A IV.A'!$L$177-J41 -> 0 | K43: ='A IV.A'!$L$175-K41 -> 0 | L43: ='A IV.A'!$L$176-L41 -> 0 | M43: ='A IV.A'!$L$177-M41 -> 0 | N43: ='A IV.A'!$L$175-N41 -> 0 | O43: ='A IV.A'!$L$176-O41 -> 0 | P43: ='A IV.A'!$L$177-P41 -> 0 | Q43: ='A IV.A'!$L$175-Q41 -> 0 | R43: ='A IV.A'!$L$176-R41 -> 0 | S43: ='A IV.A'!$L$177-S41 -> 0 | T43: ='A IV.A'!$L$175-T41 -> 0 | U43: ='A IV.A'!$L$176-U41 -> 0 | V43: ='A IV.A'!$L$177-V41 -> 0
B47: ='A IV.A'!A203 -> Valor Total
E49: 7º MÊS | H49: 8º MÊS | K49: 9º MÊS | N49: 10º MÊS | Q49: 11º MÊS | T49: 12º MÊS
E50: MAT | F50: EQUIP | G50: MO | H50: MAT | I50: EQUIP | J50: MO | K50: MAT | L50: EQUIP | M50: MO | N50: MAT | O50: EQUIP | P50: MO | Q50: MAT | R50: EQUIP | S50: MO | T50: MAT | U50: EQUIP | V50: MO
B51: ='A IV.A'!$A$14 -> 1.0 | C51: ='A IV.A'!$B$14 -> CANTEIRO DE OBRAS | D51: ='A IV.A'!$L$14 -> 0 | E51: =E52+F52+G52 -> 0 | H51: =H52+I52+J52 -> 0 | K51: =K52+L52+M52 -> 0 | N51: =N52+O52+P52 -> 0 | Q51: =Q52+R52+S52 -> 0 | T51: =T52+U52+V52 -> 0 | W51: =N51+Q51+T51+K51+H51+E51+W14 -> 0
E52: ='A IV.A'!$F$14*0.09/2 -> 0 | F52: ='A IV.A'!$G$14*0.09/2 -> 0 | G52: ='A IV.A'!$H$14*0.09/2 -> 0 | H52: ='A IV.A'!$F$14*0.0811/2 -> 0 | I52: ='A IV.A'!$G$14*0.0811/2 -> 0 | J52: ='A IV.A'!$H$14*0.0811/2 -> 0 | K52: ='A IV.A'!$F$14*0.0811/2 -> 0 | L52: ='A IV.A'!$G$14*0.0811/2 -> 0 | M52: ='A IV.A'!$H$14*0.0811/2 -> 0 | N52: ='A IV.A'!$F$14*0.0811/2 -> 0 | O52: ='A IV.A'!$G$14*0.0811/2 -> 0 | P52: ='A IV.A'!$H$14*0.0811/2 -> 0 | Q52: ='A IV.A'!$F$14*0.0811/2 -> 0 | R52: ='A IV.A'!$G$14*0.0811/2 -> 0 | S52: ='A IV.A'!$H$14*0.0811/2 -> 0 | T52: ='A IV.A'!$F$14*0.0711/2 -> 0 | U52: ='A IV.A'!$G$14*0.0711/2 -> 0 | V52: ='A IV.A'!$H$14*0.0711/2 -> 0
D53: ='A IV.A'!$M$14 -> #DIV/0! | E53: =E51/$D$51 -> #DIV/0! | H53: =H51/$D$51 -> #DIV/0! | K53: =K51/$D$51 -> #DIV/0! | N53: =N51/$D$51 -> #DIV/0! | Q53: =Q51/$D$51 -> #DIV/0! | T53: =T51/$D$51 -> #DIV/0! | W53: =W51/D51 -> #DIV/0!
...

Sheet A VI.
A1: ='A IV.A'!A1 -> (TIMBRE DA LICITANTE)
A3: ='A IV.A'!A3
A6: ='A IV.A'!$A$7 -> EXECUÇÃO DE SERVIÇO DE REFORMA CIVIL, CONSTRUÇÕES E MANUTENÇÕES GERAIS PARA MELHORIAS NAS ÁREAS DE PROPRIEDADE E/OU DE RESPONSABILIDADE DO SEMAE.
A7: LEIS SOCIAIS HORISTA - JORNADA NORMAL | D7: ='A IX.'!$C$45 -> 0 | E7: DATA-BASE: | F7: ='A IV.A'!L8 -> (DATA)
A8: BDI | D8: ='A VIII.'!$C$29 -> 0
A9: ANEXO VI.A - PLANILHA DE COMPOSIÇÕES UNITÁRIAS DE SERVIÇOS - SeMAE
A11: ='A IV.A'!$A$16 -> 1.1 | B11: ='A IV.A'!$B$16 -> CANTEIRO DE OBRAS (ITEM 6.0 DO TERMO DE REFERÊNCIA) | C11: UNIDADE: | E11: ='A IV.A'!$C$16 -> GB | F11: =ROUND(F31+F45+F57,2) -> 0
A12: 1.0 | B12: MATERIAIS | C12: COEF | D12: UNID | E12: CUSTO UNIT (R$) | F12: TOTAL (R$)
F13: =ROUND(C13*E13,2) -> 0
F14: =ROUND(C14*E14,2) -> 0
F15: =ROUND(C15*E15,2) -> 0
F16: =ROUND(C16*E16,2) -> 0
F17: =ROUND(C17*E17,2) -> 0
F18: =ROUND(C18*E18,2) -> 0
F19: =ROUND(C19*E19,2) -> 0
F20: =ROUND(C20*E20,2) -> 0
F21: =ROUND(C21*E21,2) -> 0
F22: =ROUND(C22*E22,2) -> 0
F23: =ROUND(C23*E23,2) -> 0
F24: =ROUND(C24*E24,2) -> 0
... F28: =ROUND(C28*E28,2) -> 0
B29: SOMA | F29: =SUM(F13:F28) -> 0
B30: BDI | C30: =$D$8 -> 0 | F30: =ROUND(F29*C30,2) -> 0
B31: TOTAL MATERIAIS | F31: =F29+F30 -> 0
A32: 2.0 | B32: EQUIPAMENTOS E SERVIÇOS TERCEIRIZADOS | C32: COEF | D32: UNID | E32: CUSTO UNIT (R$) | F32: TOTAL (R$)
A33: ='A VII.'!$A$145 -> 2.3 | B33: =VLOOKUP(A33,'A VII.'!$A$10:$D$199,2,FALSE) -> VEÍCULO LEVE 4 PORTAS - 65 A 80 CV | C33: =C48*0.2 -> 844.8 | D33: =VLOOKUP(A33,'A VII.'!$A$10:$D$199,3,FALSE) -> CHP | E33: ='A VII.'!D145 -> 0 | F33: =ROUND(C33*E33,2) -> 0
A34: ='A VII.'!$A$146 -> 2.4 | B34: =VLOOKUP(A34,'A VII.'!$A$10:$D$199,2,FALSE) -> VEÍCULO LEVE 4 PORTAS - 65 A 80 CV - À DISPOSIÇÃO | C34: =C48*0.8 -> 3379.2 | D34: =VLOOKUP(A34,'A VII.'!$A$10:$D$199,3,FALSE) -> CHI | E34: ='A VII.'!D146 -> 0 | F34: =ROUND(C34*E34,2) -> 0
A35: ='A VII.'!$A$177 -> 2.35 | B35: =VLOOKUP(A35,'A VII.'!$A$10:$D$199,2,FALSE) -> PICAPE LEVE CABINE SIMPLES - CARGA ÚTIL 700KG - 85 A 95CV - STRADA WORKING OU SIMILAR | C35: =C47*0.2 -> 844.8 | D35: =VLOOKUP(A35,'A VII.'!$A$10:$D$199,3,FALSE) -> CHP | E35: ='A VII.'!D177 -> 0 | F35: =ROUND(C35*E35,2) -> 0
A36: ='A VII.'!$A$178 -> 2.36 | B36: =VLOOKUP(A36,'A VII.'!$A$10:$D$199,2,FALSE) -> PICAPE LEVE CABINE SIMPLES - CARGA ÚTIL 700KG - 85 A 95CV - STRADA WORKING OU SIMILAR | C36: =C47*0.8 -> 3379.2 | D36: =VLOOKUP(A36,'A VII.'!$A$10:$D$199,3,FALSE) -> CHI | E36: ='A VII.'!D178 -> 0 | F36: =ROUND(C36*E36,2) -> 0
A37: ='A VII.'!$A$152 -> 2.10 | B37: =VLOOKUP(A37,'A VII.'!$A$10:$D$199,2,FALSE) -> CAMINHÃO - CARROCERIA FIXA ABERTA DE MADEIRA COM CAPACIDADE 5 T *160CV - CHP | C37: =C47*0.2 -> 844.8 | D37: =VLOOKUP(A37,'A VII.'!$A$10:$D$199,3,FALSE) -> CHP | E37: ='A VII.'!D152 -> 0 | F37: =ROUND(C37*E37,2) -> 0
A38: ='A VII.'!$A$153 -> 2.11 | B38: =VLOOKUP(A38,'A VII.'!$A$10:$D$199,2,FALSE) -> CAMINHÃO - CARROCERIA FIXA ABERTA DE MADEIRA COM CAPACIDADE 5 T *160CV - CHI | C38: =C47*0.8 -> 3379.2 | D38: =VLOOKUP(A38,'A VII.'!$A$10:$D$199,3,FALSE) -> CHI | E38: ='A VII.'!D153 -> 0 | F38: =ROUND(C38*E38,2) -> 0
F39: =ROUND(C39*E39,2) -> 0
F40: =ROUND(C40*E40,2) -> 0
F41: =ROUND(C41*E41,2) -> 0
F42: =ROUND(C42*E42,2) -> 0
B43: SOMA | F43: =SUM(F33:F42) -> 0
B44: BDI | C44: =$D$8 -> 0 | F44: =ROUND(C44*F43,2) -> 0
B45: TOTAL EQUIPAMENTOS E SERVIÇOS TERCEIRIZADOS | F45: =F43+F44 -> 0
A46: 3.0 | B46: MÃO DE OBRA | C46: COEF | D46: UNID | E46: CUSTO UNIT (R$) | F46: TOTAL (R$)
A47: ='A VII.'!$A$188 -> 3.8 | B47: ENCARREGADO GERAL COM ENCARGOS COMPLEMENTARES | C47: =(44*4)*24 -> 4224 | D47: =VLOOKUP(A47,'A VII.'!$A$10:$D$199,3,FALSE) -> H | E47: ='A VII.'!D188 -> 0 | F47: =ROUND(C47*E47,2) -> 0
...

Sheet A VII.
A1: ='A IV.A'!A1 -> (TIMBRE DA LICITANTE)
A2: ='A IV.A'!A3
B4: ANEXO VII.A - PLANILHA DE CUSTOS UNITÁRIOS DE INSUMOS / SERVIÇOS - SeMAE
A5: ='A IV.A'!$A$7 -> EXECUÇÃO DE SERVIÇO DE REFORMA CIVIL, CONSTRUÇÕES E MANUTENÇÕES GERAIS PARA MELHORIAS NAS ÁREAS DE PROPRIEDADE E/OU DE RESPONSABILIDADE DO SEMAE.
A9: 1.0 | B9: MATERIAL | C9: UN | D9: VALOR
A10: 1.1 | B10: AÇO CA-50 (MÉDIA DAS BITOLAS) | C10: KG
A11: 1.2 | B11: ADESIVO PARA TUBO EM PVC - FRASCO 850 GR. | C11: UN
A12: 1.3 | B12: ADITIVO HIDROFUGO IMPERMEABILIZANTE DE PEGA NORMAL PARA CONCRETO E ARGAMASSA | C12: KG
A13: 1.4 | B13: ADITIVO ADESIVO LIQUIDO PARA ARGAMASSAS DE REVESTIMENTOS CIMENTICIOS | C13: L
A14: 1.5 | B14: SOLVENTE DILUENTE A BASE DE AGUARRÁS | C14: L
A15: 1.6 | B15: ARAME FARPADO GALVANIZADO 16 BWG, CLASSE 250 | C15: M
A16: 1.7 | B16: ARAME GALVANIZADO 14 BWG (0,026 KG/M) | C16: KG
A17: 1.8 | B17: ARAME GALVANIZADO 10 BWG (0,0713 KG/M) | C17: KG
A18: 1.9 | B18: ARAME RECOZIDO 18 BWG - 1,25MM - 9,60 G/M | C18: KG
A19: 1.10 | B19: AREIA MÉDIA LAVADA | C19: M3
A20: 1.11 | B20: ARGAMASSA COLANTE TIPO AC III | C20: KG
A21: 1.12 | B21: REVESTIMENTO EM CERAMICA ESMALTADA EXTRA, PEI MAIOR OU IGUAL A 4 FORMATO MAIOR A 2025CM2 | C21: M2
... A82: 1.73 | B82: PEDRA BRITADA Nº 1 GRANULOMETRIA ENTRE (9,5 E 25,00 MM) | C82: M3
B83: MATERIAL | C83: UN | D83: VALOR
A84: 1.74 | B84: PEDRA BRITADA Nº 2 GRANULOMETRIA ENTRE (21,0 E 32,0 MM) | C84: M3
A85: 1.75 | B85: PORTA DE ABRIR EM ACO VENEZIANA, COM FUNDO ANTICORROSIVO, SEM GUARNICAO - 87 X 210 CM | C85: UN
A86: 1.76 | B86: PLACA DE OBRA (IDENTIFICAÇÃO) PARA CONSTRUÇÃO CIVIL EM CHAPA GALVANIZADA Nº 22 - COMPLETA | C86: M2
A87: 1.77 | B87: PLACA DE SINALIZACAO EM CHAPA DE AÇO Nº 16 COM PINTURA REFLETIVA | C87: M2
A88: 1.78 | B88: PORCA 1/2" | C88: UN
A89: 1.79 | B89: PORTA ALUMÍNIO TIPO VENEZIANA, 1 FOLHA, ACABAMENTO EM PINTURA ELETROSTÁTICA BRANCA, 60 MICRAS | C89: M2
A90: 1.80 | B90: PREGO EM AÇO POLIDO COM CABEÇA (MEDIA DAS BITOLAS) | C90: KG
A91: 1.81 | B91: RALO SECO DE PVC RÍGIDO, 100 X 40 MM | C91: UN
A92: 1.82 | B92: RALO SECO DE PVC COM GRELHA QUADRADA DE PVC (50MM / 40MM / 100MM) | C92: UN
A93: 1.83 | B93: REBITE DE ALUMINIO VAZADO DE REPUXO, 3,2 X 8 MM (1KG = 1025 UNIDADES) | C93: KG
A94: 1.84 | B94: REGISTRO PVC DE ESFERA SOLDÁVEL, COM VOLANTE, Ø 40 MM | C94: UN
A95: 1.85 | B95: RUFO EXTERNO/INTERNO DE CHAPA DE ACO GALVANIZADA NUM 26 | C95: M
... A131: 1.121 | B131: HASTE RETA DE ACO GALVANIZADO, H = *30* CM, BASE RETANGULAR, PARA FIXACAO DE CONCERTINA SIMPLES DE 30 CM (NAO INCLUI OS FIXADORES) | C131: UN
A142: 2.0 | B142: EQUIPAMENTOS / SERVIÇOS | C142: UN | D142: VALOR
A143: 2.1 | B143: ANDAIME METÁLICO TUBULAR DE ENCAIXE TIPO TORRE - LARGURA ATÉ 1,5M X ALTURA = 1,0M, INCLUINDO SAPATAS FIXAS OU RODÍZIOS | C143: MxMÊS
A144: 2.2 | B144: ALUGUEL DE CONTAINER PARA DEPÓSITO, METÁLICO EM AÇO GALVANIZADO, 6,0X2,30X2,50M, VÃO LIVRE, PISO DE CONCRETO, CIMENTADO OU MADEIRA | C144: UNxMÊS
A145: 2.3 | B145: VEÍCULO LEVE 4 PORTAS - 65 A 80 CV | C145: CHP
A146: 2.4 | B146: VEÍCULO LEVE 4 PORTAS - 65 A 80 CV - À DISPOSIÇÃO | C146: CHI
A147: 2.5 | B147: BALANCIM LEVE TRADICIONAL - PLATAFORMA 3,00 M COM GUINCHO MANUAL, NR 18 (LOCAÇÃO MENSAL + TRANSPORTE) | C147: LOC/MÊS
A148: 2.6 | B148: BETONEIRA, CAPACIDADE NOMINAL DE 400L, MOTOR ELÉTRICO TRIFÁSICO DE 2CV - CHI | C148: CHI
A149: 2.7 | B149: BETONEIRA, CAPACIDADE NOMINAL DE 400L, MOTOR ELÉTRICO TRIFÁSICO DE 2CV - CHP | C149: CHP
...

Sheet A VIII.
A1: ='A IV.A'!A1 -> (TIMBRE DA LICITANTE)
A2: ='A IV.A'!A3
A4: ANEXO VIII.A - DEMONSTRATIVO DA COMPOSIÇÃO DAS TAXAS DE BDI - SeMAE
A5: COMPOSIÇÃO DAS TAXAS DE BDI
A7: AC | B7: ADMINISTRAÇÃO CENTRAL
A9: S | B9: SEGURO
A11: R | B11: RISCOS
A13: G | B13: GARANTIAS
A15: DF | B15: DESPESAS FINANCEIRAS
A17: L | B17: LUCRO
A19: CP | B19: TRIBUTOS - COFINS E PIS | C19: =ROUND(SUM(C20:C21),5) -> 0
B20: PIS
B21: COFINS
A23: ISS | B23: TRIBUTOS - ISS | C23: =ROUND(SUM(C24:C24),5) -> 0
B24: ISS – IMPOSTO SOBRE SERVIÇOS
A26: CPRB | B26: TRIBUTOS - CONTRIBUIÇÃO PREVIDENCIÁRIA SOBRE A RENDA BRUTA | C26: =ROUND(SUM(C27:C27),5) -> 0
B27: DESONERAÇÃO - 0% OU 4,5%
B29: TOTAL | C29: =ROUND((((1+($C$7+$C$9+$C$11+$C$13))*(1+$C$15)*(1+$C$17))/(1-$C$19-$C$23-$C$26))-1,4) -> 0
A34: Obs.: Conforme Lei Complementar nº 178 de 29 de dezembro de 2003 e alterações, que dispõe sobre a instituição do imposto sobre serviços de qualquer natureza – ISSQN no Município de São José do Rio Preto/SP, Art. 31 Inciso I, o ISS para o objeto deste Processo Licitatório [07.05.00 - Reparação, conservação e reforma de edifícios, estradas, pontes, portos e congêneres (exceto o fornecimento de mercadorias produzidas pelo prestador dos serviços, fora do local da prestação dos serviços, que fica sujeito ao ICMS)] será de 5% com redução de 50% na base de cálculo da prestação do serviço, resultando em alíquota de 2,5% sobre o Valor Total da Obra, adotada na elaboração do BDI médio, inclusive para o BDI de Fornecimento de Materiais.

Sheet A IX.
A1: ='A IV.A'!A1 -> (TIMBRE DA LICITANTE)
A6: ='A IV.A'!A3
A9: ANEXO IX.A - DEMONSTRATIVO DA COMPOSIÇÃO DOS ENCARGOS SOCIAIS E TRABALHISTAS - SeMAE
A11: ='A IV.A'!A7 -> EXECUÇÃO DE SERVIÇO DE REFORMA CIVIL, CONSTRUÇÕES E MANUTENÇÕES GERAIS PARA MELHORIAS NAS ÁREAS DE PROPRIEDADE E/OU DE RESPONSABILIDADE DO SEMAE.
A12: GRUPO | B12: DESCRIÇÃO | C12: JORNADA
C13: NORMAL | D13: NORMAL
C14: HORISTA | D14: MENSALISTA
A15: A | B15: A1 – PREVIDÊNCIA SOCIAL (INSS)*
B16: A2 – SERVIÇO SOCIAL DA INDÚSTRIA (SESI)
B17: A3 – SERVIÇO NACIONAL DE APRENDIZAGEM INDUSTRIAL (SENAI)
B18: A4 – INSTITUTO NACIONAL DE COLONIZAÇÃO E REFORMA AGRÁRIA (INCRA)
B19: A5 – SERVIÇO DE APOIO A PEQUENA E MÉDIA EMPRESA (SEBRAE)
B20: A6 – SALÁRIO EDUCAÇÃO
B21: A7 – SEGURO CONTRA ACIDENTES DE TRABALHO
B22: A8 – FUNDO DE GARANTIA POR TEMPO DE SERVIÇO (FGTS)
B23: A9 – SECONCI ( APLICÁVEL AS EMPRESAS CONSTANTES DO III GRUPO DA CLT)
B24: A – TOTAL DOS ENCARGOS SOCIAIS BÁSICOS | C24: =ROUND(SUM(C15:C23),4) -> 0 | D24: =ROUND(SUM(D15:D23),4) -> 0
A25: B | B25: B1 – REPOUSO SEMANAL REMUNERADO
B26: B2 – FERIADOS
B27: B3 – AUXÍLIO - ENFERMIDADE
B28: B4 – 13º SALÁRIO
B29: B5 – LICENÇA PATERNIDADE
B30: B6 – FALTAS JUSTIFICADAS
B31: B7 – DIAS DE CHUVA
B32: B8 – AUXÍLIO ACIDENTE DE TRABALHO
B33: B9 – FÉRIAS GOZADAS
B34: B10 – SALÁRIO MATERNIDADE
B35: B – TOTAL DOS ENCARGOS QUE RECEBEM AS INCIDÊNCIAS DE A | C35: =SUM(C25:C34) -> 0 | D35: =SUM(D25:D34) -> 0
A36: C | B36: C1 – AVISO PRÉVIO INDENIZADO
B37: C2 – AVISO PRÉVIO TRABALHADO
B38: C3 – FÉRIAS INDENIZADAS
B39: C4 – DEPÓSITO RESCISÃO SEM JUSTA CAUSA
B40: C5 – INDENIZAÇÃO ADICIONAL
B41: C – TOTAL DOS ENCARGOS SOCIAIS QUE NÃO RECEBEM INCIDÊNCIAS DE A | C41: =SUM(C36:C40) -> 0 | D41: =SUM(D36:D40) -> 0
A42: D | B42: D1 – REINCIDÊNCIA DO GRUPO A SOBRE GRUPO B
B43: D2 – REINCIDÊNCIA DO GRUPO A SOBRE AVISO PRÉVIO TRABALHADO (C2) E REINCIDÊNCIA DO FGTS (A8) SOBRE AVISO PRÉVIO INDENIZADO (C1)
B44: D – TOTAL DE REINCIDÊNCIAS DE UM GRUPO SOBRE O OUTRO | C44: =SUM(C42:C43) -> 0 | D44: =SUM(D42:D43) -> 0
B45: PORCENTAGEM TOTAL | C45: =ROUND(C24+C35+C41+C44,5) -> 0 | D45: =ROUND(D24+D35+D41+D44,5) -> 0
A47: OBS.:ADOTADO CONFORME A TABELA DE ENCARGOS SOCIAIS SINAPI (CAIXA ECONOMICA FEDERAL) VIGÊNCIA A PARTIR DE 02/2026
A49: (*) CASO A LICITANTE APRESENTE PROPOSTA DESONERADA, APRESENTAR A ALÍQUOTA CORRESPONDENTE

Sheet A X.
C1: ANEXO X
C2: REGULAMENTAÇÃO DE PREÇOS E CRITÉRIOS DE MEDIÇÃO | L2: =COUNT('A IV.A'!#REF!) -> 0 | M2: =COUNTA(K3:K7115) -> 123 | N2: =IF(L2=M2,"SIM","NÃO") -> NÃO
A6: Grupo | C6: ='A IV.A'!$B$14 -> CANTEIRO DE OBRAS
A7: ='A IV.A'!$A$14 -> 1.0
A10: Nº do Preço | C10: Especificação | J10: Unidade
A12: ='A IV.A'!$A$16 -> 1.1 | C12: ='A IV.A'!$B$16 -> CANTEIRO DE OBRAS (ITEM 6.0 DO TERMO DE REFERÊNCIA) | J12: ='A IV.A'!$C$16 -> GB | K12: =VLOOKUP(A12,'A IV.A'!$A$14:$M$233,2,FALSE) -> CANTEIRO DE OBRAS (ITEM 6.0 DO TERMO DE REFERÊNCIA) | L12: =IF(C12=K12,"sim","nao") -> sim | M12: =VLOOKUP(A12,'A IV.A'!$A$14:$M$233,3,FALSE) -> GB | N12: =IF(J12=M12,"sim","nao") -> sim
A35: REGULAMENTAÇÃO COMPLEMENTAR À INTRODUÇÃO
A37: COMPREENDE: | C37: Engenheiro responsável pela execução técnica e encarregado geral, ambos durante todo o período do Contrato; aluguel caminhão para transporte de materiais e equipe e de veículo leve à disposição, inclusive combustível, seguros, lavagens, lubrificantes e manutenções necessárias.
A43: MEDIÇÃO: | C43: As medições serão mensais e os pagamentos proporcionais à execução financeira da obra, vinculados ao cumprimento das condições mínimas de canteiro.
A46: NOTA: | C46: i) Este item foi quantificado prevendo a Operação e Administração durante todo o período do Contrato, portanto as medições proporcionais à execução financeira pretendem evitar desembolsos indevidos de administração local em virtude de atrasos ou prorrogações de prazo, motivo pelo qual não foi utilizado critério de pagamento para este item como valor mensal fixo.
C50: ii) As disposições sobre o sanitário químico devem seguir o Anexo I - Termo de Referência
A61: Grupo | C61: ='A IV.A'!$B$14 -> CANTEIRO DE OBRAS
A62: ='A IV.A'!$A$14 -> 1.0
A65: Nº do Preço | C65: Especificação | J65: Unidade
A67: ='A IV.A'!$A$17 -> 1.2 | C67: ='A IV.A'!$B$17 -> PLACA DE IDENTIFICAÇÃO DE OBRA, CONFORME PADRÃO SEMAE (ITEM 6.8 DO TERMO DE REFERÊNCIA) | J67: ='A IV.A'!$C$17 -> M2 | K67: =VLOOKUP(A67,'A IV.A'!$A$14:$M$233,2,FALSE) -> PLACA DE IDENTIFICAÇÃO DE OBRA, CONFORME PADRÃO SEMAE (ITEM 6.8 DO TERMO DE REFERÊNCIA) | L67: =IF(C67=K67,"sim","nao") -> sim | M67: =VLOOKUP(A67,'A IV.A'!$A$14:$M$233,3,FALSE) -> M2 | N67: =IF(J67=M67,"sim","nao") -> sim
A90: REGULAMENTAÇÃO COMPLEMENTAR À INTRODUÇÃO
A92: COMPREENDE: | C92: Fornecimento de mão-de-obra, materiais e equipamentos para confecção e instalação de placa de obra padrão SeMAE, nas dimensões e nos locais a serem definidos pela Fiscalização, incluindo a fixação da mesma nos locais indicados pela Fiscalização.
A96: MEDIÇÃO: | C96: Por metro quadrado da placa pronta e instalada (m2).
A116: Grupo | C116: ='A IV.A'!$B$14 -> CANTEIRO DE OBRAS
A117: ='A IV.A'!$A$14 -> 1.0
A120: Nº do Preço | C120: Especificação | J120: Unidade
A122: 1.3 | C122: ='A IV.A'!B18 -> VIGILANTE PARA ÁREAS EM OBRA | J122: ='A IV.A'!C18 -> H | K122: =VLOOKUP(A122,'A IV.A'!$A$14:$M$233,2,FALSE) -> VIGILANTE PARA ÁREAS EM OBRA | L122: =IF(C122=K122,"sim","nao") -> sim | M122: =VLOOKUP(A122,'A IV.A'!$A$14:$M$233,3,FALSE) -> H | N122: =IF(J122=M122,"sim","nao") -> sim
A145: REGULAMENTAÇÃO COMPLEMENTAR À INTRODUÇÃO
A147: COMPREENDE: | C147: Fornecimento de vigilante, para guardar locais de obras durante a execução dos muros nos períodos em que a equipe não estiver trabalhando (noite e fins de semana), em que haja necessidade expresssa pesa Fiscalização, afim de garantir segurança das instalações do SeMAE.
A153: MEDIÇÃO: | C153: Por hora de vigia utilizado (h)
A171: Grupo | C171: ='A IV.A'!$B$14 -> CANTEIRO DE OBRAS
A172: ='A IV.A'!$A$14 -> 1.0
A175: Nº do Preço | C175: Especificação | J175: Unidade
A177: 1.4 | C177: ='A IV.A'!B19 -> SANITÁRIO QUÍMICO | J177: ='A IV.A'!C19 -> UND.MÊS | K177: =VLOOKUP(A177,'A IV.A'!$A$14:$M$233,2,FALSE) -> SANITÁRIO QUÍMICO | L177: =IF(C177=K177,"sim","nao") -> sim | M177: =VLOOKUP(A177,'A IV.A'!$A$14:$M$233,3,FALSE) -> UND.MÊS | N177: =IF(J177=M177,"sim","nao") -> sim
A200: REGULAMENTAÇÃO COMPLEMENTAR À INTRODUÇÃO
A202: COMPREENDE: | C202: Fornecimento de sanitário químico móvel, disposto em cada frente de trabalho para atendimento da equipe de trabalho no local.
A206: MEDIÇÃO: | C206: Por unidade utilizada por mês (und.mês)
A211: NOTA: | C211: i) A quantidade de mobilizações de uma unidade dentro de um mês não gerará unidades extras para a medição.
C212: ii) As disposições sobre o sanitário químico devem seguir o Anexo I - Memorial Descritivo.
A226: Grupo | C226: ='A IV.A'!$B$14 -> CANTEIRO DE OBRAS
A227: ='A IV.A'!$A$14 -> 1.0
A230: Nº do Preço | C230: Especificação | J230: Unidade
A232: 1.5 | C232: ='A IV.A'!B20 -> CONTAINER | J232: ='A IV.A'!C20 -> UND.MÊS | K232: =VLOOKUP(A232,'A IV.A'!$A$14:$M$233,2,FALSE) -> CONTAINER | L232: =IF(C232=K232,"sim","nao") -> sim | M232: =VLOOKUP(A232,'A IV.A'!$A$14:$M$233,3,FALSE) -> UND.MÊS | N232: =IF(J232=M232,"sim","nao") -> sim
A255: REGULAMENTAÇÃO COMPLEMENTAR À INTRODUÇÃO
A257: COMPREENDE: | C257: Locação de conteiners móveis, para armazeamento de ferramentas e materiais, bem como oraganização de canteiro de obras em cada local de trabalho.
...

Sheet Comparativo
A1: SERVIÇO MUNICPAL AUTONOMO DE ÁGUA E ESGOTO
A6: AUTARQUIA MUNICAPAL - CNPJ nº 04.691.691/0001-78
A9: Comparativo
A11: ='A IV.A'!A7 -> EXECUÇÃO DE SERVIÇO DE REFORMA CIVIL, CONSTRUÇÕES E MANUTENÇÕES GERAIS PARA MELHORIAS NAS ÁREAS DE PROPRIEDADE E/OU DE RESPONSABILIDADE DO SEMAE.
A12: GRUPO | B12: DESCRIÇÃO | C12: JORNADA
C13: NORMAL | D13: NORMAL
C14: HORISTA | D14: MENSALISTA
A15: A | C15: 0.2 | D15: 0.2 | E15: A1 – PREVIDÊNCIA SOCIAL (INSS)*
C16: 0.015 | D16: 0.015 | E16: A2 – SERVIÇO SOCIAL DA INDÚSTRIA (SESI)
C17: 0.01 | D17: 0.01 | E17: A3 – SERVIÇO NACIONAL DE APRENDIZAGEM INDUSTRIAL (SENAI)
C18: 0.002 | D18: 0.002 | E18: A4 – INSTITUTO NACIONAL DE COLONIZAÇÃO E REFORMA AGRÁRIA (INCRA)
C19: 0.006 | D19: 0.006 | E19: A5 – SERVIÇO DE APOIO A PEQUENA E MÉDIA EMPRESA (SEBRAE)
C20: 0.025 | D20: 0.025 | E20: A6 – SALÁRIO EDUCAÇÃO
C21: 0.03 | D21: 0.03 | E21: A7 – SEGURO CONTRA ACIDENTES DE TRABALHO
C22: 0.08 | D22: 0.08 | E22: A8 – FUNDO DE GARANTIA POR TEMPO DE SERVIÇO (FGTS)
C23: 0.01 | D23: 0.01 | E23: A9 – SECONCI ( APLICÁVEL AS EMPRESAS CONSTANTES DO III GRUPO DA CLT)
C24: =ROUND(SUM(C15:C23),4) -> 0.378 | D24: =ROUND(SUM(D15:D23),4) -> 0.378 | E24: A – TOTAL DOS ENCARGOS SOCIAIS BÁSICOS
A25: B | B25: B1 – REPOUSO SEMANAL REMUNERADO | C25: 0.1797 | D25: NÃO INCIDE | E25: B1 – REPOUSO SEMANAL REMUNERADO
B26: B2 – FERIADOS | C26: 0.0469 | D26: NÃO INCIDE | E26: B2 – FERIADOS
B27: B3 – AUXÍLIO - ENFERMIDADE | C27: 0.0086 | D27: 0.0066 | E27: B3 – AUXÍLIO - ENFERMIDADE
B28: B4 – 13º SALÁRIO | C28: 0.1089 | D28: 0.0833 | E28: B4 – 13º SALÁRIO
B29: B5 – LICENÇA PATERNIDADE | C29: 0.0007 | D29: 0.0006 | E29: B5 – LICENÇA PATERNIDADE
B30: B6 – FALTAS JUSTIFICADAS | C30: 0.0073 | D30: 0.0056 | E30: B6 – FALTAS JUSTIFICADAS
B31: B7 – DIAS DE CHUVA | C31: 0.0132 | D31: NÃO INCIDE | E31: B7 – DIAS DE CHUVA
B32: B8 – AUXÍLIO ACIDENTE DE TRABALHO | C32: 0.001 | D32: 0.0008 | E32: B8 – AUXÍLIO ACIDENTE DE TRABALHO
B33: B9 – FÉRIAS GOZADAS | C33: 0.0914 | D33: 0.0699 | E33: B9 – FÉRIAS GOZADAS
B34: B10 – SALÁRIO MATERNIDADE | C34: 0.0003 | D34: 0.0002 | E34: B10 – SALÁRIO MATERNIDADE
B35: B – TOTAL DOS ENCARGOS QUE RECEBEM AS INCIDÊNCIAS DE A | C35: =SUM(C25:C34) -> 0.458 | D35: =SUM(D25:D34) -> 0.167 | E35: B – TOTAL DOS ENCARGOS QUE RECEBEM AS INCIDÊNCIAS DE A
A36: C | B36: C1 – AVISO PRÉVIO INDENIZADO | C36: 0.0476 | D36: 0.0364 | E36: C1 – AVISO PRÉVIO INDENIZADO
B37: C2 – AVISO PRÉVIO TRABALHADO | C37: 0.0011 | D37: 0.0009 | E37: C2 – AVISO PRÉVIO TRABALHADO
B38: C3 – FÉRIAS INDENIZADAS | C38: 0.0425 | D38: 0.0325 | E38: C3 – FÉRIAS INDENIZADAS
B39: C4 – DEPÓSITO RESCISÃO SEM JUSTA CAUSA | C39: 0.033 | D39: 0.0253 | E39: C4 – DEPÓSITO RESCISÃO SEM JUSTA CAUSA
B40: C5 – INDENIZAÇÃO ADICIONAL | C40: 0.004 | D40: 0.0031 | E40: C5 – INDENIZAÇÃO ADICIONAL
B41: C – TOTAL DOS ENCARGOS SOCIAIS QUE NÃO RECEBEM INCIDÊNCIAS DE A | C41: =SUM(C36:C40) -> 0.1282 | D41: =SUM(D36:D40) -> 0.0982 | E41: C – TOTAL DOS ENCARGOS SOCIAIS QUE NÃO RECEBEM INCIDÊNCIAS DE A
A42: D | B42: D1 – REINCIDÊNCIA DO GRUPO A SOBRE GRUPO B | C42: =ROUND(C24*C35,4) -> 0.1731 | D42: =ROUND(D24*D35,4) -> 0.0631 | E42: D1 – REINCIDÊNCIA DO GRUPO A SOBRE GRUPO B
B43: D2 – REINCIDÊNCIA DO GRUPO A SOBRE AVISO PRÉVIO TRABALHADO (C2) E REINCIDÊNCIA DO FGTS (A8) SOBRE AVISO PRÉVIO INDENIZADO (C1) | C43: =ROUND(C24*C37+C22*C36,4) -> 0.0042 | D43: =ROUND(D24*D37+D22*D36,4) -> 0.0033 | E43: D2 – REINCIDÊNCIA DO GRUPO A SOBRE AVISO PRÉVIO TRABALHADO (C2) E REINCIDÊNCIA DO FGTS (A8) SOBRE AVISO PRÉVIO INDENIZADO (C1)
B44: D – TOTAL DE REINCIDÊNCIAS DE UM GRUPO SOBRE O OUTRO | C44: =SUM(C42:C43) -> 0.1773 | D44: =SUM(D42:D43) -> 0.0664 | E44: D – TOTAL DE REINCIDÊNCIAS DE UM GRUPO SOBRE O OUTRO
A45: PORCENTAGEM TOTAL | C45: =ROUND(C24+C35+C41+C44,5) -> 1.1415 | D45: =ROUND(D24+D35+D41+D44,5) -> 0.7096
A47: OBS.:ADOTADO CONFORME A TABELA DE ENCARGOS SOCIAIS SINAPI (CAIXA ECONOMICA FEDERAL) VIGÊNCIA A PARTIR DE 10/2020
A49: (*) CASO A LICITANTE APRESENTE PROPOSTA DESONERADA, APRESENTAR A ALÍQUOTA CORRESPONDENTE
