Workbook
Name __xlnm.Print_Area_3: #REF!
Name __xlnm.Print_Area_4: [1]AV!#REF!
Name _2Excel_BuiltIn_Print_Area_3_1_1_1_1: #REF!
Name _4Excel_BuiltIn_Print_Area_3_1_1: #REF!
Name CEOP: #REF!
Name COM: #REF!
Name CON: #REF!
Name CONC: [2]Dados!$K$2:$K$40
Name CRI: #REF!
Name dasda: #REF!
Name Database: #REF!
Name ÉServiço: [3]II.3!$E1<>""
Name Excel_BuiltIn__FilterDatabase_2: #REF!
Name Excel_BuiltIn__FilterDatabase_8: #REF!
Name Excel_BuiltIn_Print_Area_1_1: #REF!
Name Excel_BuiltIn_Print_Area_1_1_1_1_1: '[4]Anexo II'!$A$12:$M$287,'[4]Anexo II'!$K$286
Name Excel_BuiltIn_Print_Area_1_1_1_1_1_1_1: #REF!
Name Excel_BuiltIn_Print_Area_1_1_1_1_1_1_1_1: #REF!
Name Excel_BuiltIn_Print_Area_1_1_1_1_1_1_1_1_1: #REF!
Name Excel_BuiltIn_Print_Area_2_1_1: #REF!
Name Excel_BuiltIn_Print_Area_3_1: #REF!
Name Excel_BuiltIn_Print_Area_3_1_1: #REF!
Name Excel_BuiltIn_Print_Area_3_1_1_1: #REF!
Name Excel_BuiltIn_Print_Area_3_1_1_1_1: #REF!
Name Excel_BuiltIn_Print_Area_3_1_1_1_1_1: #REF!
Name Excel_BuiltIn_Print_Area_5_1: #REF!
Name Excel_BuiltIn_Print_Area_7: #REF!
Name Excel_BuiltIn_Print_Area_7_1_1: #REF!
Name Excel_BuiltIn_Print_Titles_1_1: #REF!
Name Excel_BuiltIn_Print_Titles_3: #REF!
Name Excel_BuiltIn_Print_Titles_5: #REF!
Name Excel_BuiltIn_Print_Titles_8: #REF!
Name JOI: #REF!
Name JOSE: #REF!
Name MRIA: #REF!
Name RCH: #REF!
Name RCR: #REF!
Name RegimeExecucao: IF([5]DADOS!$A$32="Empreitada por Preço Global ou Integral","Global","Unitário")
Name RFL: #REF!
Name RIJ: #REF!
Name RJO: #REF!
Name RLA: #REF!
Name RRS: #REF!
Name RSM: #REF!
Name RTB: #REF!
Name RVI: #REF!
Name SAO: #REF!
Name SBL: #REF!
Name subbaciab1: #REF!
Name TESTE: '[6]A II.A'!#REF!
Name Título: #REF!
Name VALAS: [2]Dados!$L$2:$P$40

Sheet PREENCHIMENTO
A3: FORMA DE PREENCHIMENTO DAS PLANILHAS ELETRÔNICAS
A5: 1) O presente arquivo eletrônico é composto pelas seguintes planilhas:
A6: • PLANILHA DE ORÇAMENTO BASE – LICITANTE – ANEXO 3.A
A7: • CRONOGRAMA FÍSICO-FINANCEIRO – LICITANTE – ANEXO 4.A
A8: • COMPOSIÇÕES UNITÁRIAS DE SERVIÇOS – LICITANTE – ANEXO 5.A
A9: • CUSTOS UNITÁRIOS DE INSUMOS – LICITANTE – ANEXO 6.A
A10: • BDI – LICITANTE – ANEXO 7.A
A11: • ENCARGOS SOCIAIS E TRABALHISTAS – LICITANTE – ANEXO 8.A
A13: 2) A Licitante deverá preencher todos os campos em amarelo com o valor proposto, nas seguintes planilhas, podendo iniciar o preenchimento em qualquer sequência:
A15: • PLANILHA DE ORÇAMENTO BASE – LICITANTE – ANEXO 3.A
A16: • COMPOSIÇÕES UNITÁRIAS DE SERVIÇOS – LICITANTE – ANEXO 5.A
A17: • CUSTOS UNITÁRIOS DE INSUMOS – LICITANTE – ANEXO 6.A
... A39: 7) ANEXAR ESTE ARQUIVO ELETRÔNICO NA ENTREGA DA PROPOSTA COMERCIAL COM A FINALIDADE DE FACILITAR A ANÁLISE DA POR PARTE DA EQUIPE DE APOIO.

Sheet 3.A
A1: TIMBRE DO LICITANTE
A6: ANEXO 3.A - PLANILHA DE ORÇAMENTO BASE - LICITANTE
A8: REFORMA DE 3 ENTRADAS DE ENERGIA EM 3 POÇOS TUBULARES DO AQUÍFERO BAURU (PTB) NO MUNÍCIPIO DE SÃO JOSÉ DO RIO PRETO
B9: LEIS SOCIAIS HORISTA - JORNADA NORMAL | F9: ='8.A'!$C$43 -> 0 | L9: DATA-BASE ORÇAMENTO | M9: 46023
B10: ="BDI" -> BDI | F10: ='7.A'!$E$29 -> 0
A12: ENTRADA DE ENERGIA 1 - PTB 033 - BAIRRO ELDORADO
A14: ITEM | B14: SERVIÇO | C14: UNID | D14: QUANT. | E14: PREÇO | F14: MO | G14: SERVIÇO | H14: MATERIAIS | I14: MO | J14: SERVIÇO | K14: MAT | L14: PREÇO | M14: %
E15: UNIT.(R$) | F15: R$ | G15: R$ | H15: R$ | I15: R$ | J15: R$ | K15: R$ | L15: TOTAL(R$)
A17: 1.0 | B17: CANTEIRO DE OBRAS | C17: SUB-TOTAL | F17: =I17 -> 0 | G17: =J17 -> 0 | H17: =K17 -> 0 | I17: =SUM(I19:I22) -> 0 | J17: =SUM(J19:J22) -> 0 | K17: =SUM(K19:K22) -> 0 | L17: =F17+G17+H17 -> 0 | M17: =ROUND(L17/$L$93,6) -> #DIV/0!
F18: =F17/L17 -> #DIV/0! | G18: =G17/L17 -> #DIV/0! | H18: =H17/L17 -> #DIV/0! | I18: =IF(F17=I17,"SIM","NÃO") -> SIM | J18: =IF(G17=J17,"SIM","NÃO") -> SIM | K18: =IF(H17=K17,"SIM","NÃO") -> SIM | O18: COMPOSIÇÃO BASE | Q18: OBSERVAÇÕES
A19: 1.1 | B19: MOBILIZAÇÃO DO CANTEIRO DE OBRAS | C19: GB | D19: 1 | E19: =G19+H19+F19 -> 0 | F19: ='5.A'!$F$26 -> 0 | G19: ='5.A'!$F$39 -> 0 | H19: ='5.A'!$F$62 -> 0 | I19: =ROUND(F19*D19,2) -> 0 | J19: =ROUND(G19*D19,2) -> 0 | K19: =ROUND(H19*D19,2) -> 0 | L19: =ROUND(D19*F19,2)+ROUND(D19*G19,2)+ROUND(D19*H19,2) -> 0 | M19: =L19/$L$93 -> #DIV/0! | O19: SINAPI | P19: 100952 - 93358
A20: 1.2 | B20: OPERAÇÃO E MANUTENÇÃO DO CANTEIRO DE OBRAS | C20: GB | D20: 1 | E20: =G20+H20+F20 -> 0 | F20: ='5.A'!$F$78 -> 0 | G20: ='5.A'!$F$91 -> 0 | H20: ='5.A'!$F$114 -> 0 | I20: =ROUND(F20*D20,2) -> 0 | J20: =ROUND(G20*D20,2) -> 0 | K20: =ROUND(H20*D20,2) -> 0 | L20: =ROUND(D20*F20,2)+ROUND(D20*G20,2)+ROUND(D20*H20,2) -> 0 | M20: =L20/$L$93 -> #DIV/0!
A21: 1.3 | B21: DESMOBILIZAÇÃO DO CANTEIRO DE OBRAS | C21: GB | D21: 1 | E21: =G21+H21+F21 -> 0 | F21: ='5.A'!$F$130 -> 0 | G21: ='5.A'!$F$143 -> 0 | H21: ='5.A'!$F$166 -> 0 | I21: =ROUND(F21*D21,2) -> 0 | J21: =ROUND(G21*D21,2) -> 0 | K21: =ROUND(H21*D21,2) -> 0 | L21: =ROUND(D21*F21,2)+ROUND(D21*G21,2)+ROUND(D21*H21,2) -> 0 | M21: =L21/$L$93 -> #DIV/0!
A22: 1.4 | B22: PLACA DE OBRA PADRÃO SeMAE | C22: M2 | D22: =1.5*4 -> 6 | E22: =G22+H22+F22 -> 0 | F22: ='5.A'!$F$182 -> 0 | G22: ='5.A'!$F$195 -> 0 | H22: ='5.A'!$F$218 -> 0 | I22: =ROUND(F22*D22,2) -> 0 | J22: =ROUND(G22*D22,2) -> 0 | K22: =ROUND(H22*D22,2) -> 0 | L22: =ROUND(D22*F22,2)+ROUND(D22*G22,2)+ROUND(D22*H22,2) -> 0 | M22: =L22/$L$93 -> #DIV/0! | O22: SINAPI | P22: 103689
A24: 2.0 | B24: ENTRADA DE ENERGIA - POSTO SIMPLIFICADO DE SERVIÇO (PPS) - 225,0 KVA | C24: SUB-TOTAL | F24: =I24 -> 0 | G24: =J24 -> 0 | H24: =K24 -> 0 | I24: =SUM(I26:I29) -> 0 | J24: =SUM(J26:J29) -> 0 | K24: =SUM(K26:K29) -> 0 | L24: =F24+G24+H24 -> 0 | M24: =ROUND(L24/$L$93,6) -> #DIV/0!
F25: =F24/L24 -> #DIV/0! | G25: =G24/L24 -> #DIV/0! | H25: =H24/L24 -> #DIV/0! | I25: =IF(F24=I24,"SIM","NÃO") -> SIM | J25: =IF(G24=J24,"SIM","NÃO") -> SIM | K25: =IF(H24=K24,"SIM","NÃO") -> SIM | O25: COMPOSIÇÃO BASE | Q25: OBSERVAÇÕES
A26: 2.1 | B26: TE-06 ENTRADA PRIMÁRIA SIMPLIF. POSTE UNICO - CPFL - 225 KVA - 15KV- 220/127 V - INFRAESTRUTURA CIVIL | C26: UN | D26: 1 | E26: =G26+H26+F26 -> 0 | F26: ='5.A'!$F$234 -> 0 | G26: ='5.A'!$F$247 -> 0 | H26: ='5.A'!$F$270 -> 0 | I26: =ROUND(F26*D26,2) -> 0 | J26: =ROUND(G26*D26,2) -> 0 | K26: =ROUND(H26*D26,2) -> 0 | L26: =ROUND(D26*F26,2)+ROUND(D26*G26,2)+ROUND(D26*H26,2) -> 0 | M26: =L26/$L$93 -> #DIV/0! | O26: FDE | P26: 09.01.007 | S26: 775
A27: 2.2 | B27: TE-06 ENTRADA PRIMÁRIA SIMPLIF. POSTE UNICO - CPFL - 225 KVA - 15KV- 220/127 V - INFRAESTRUTURA ELÉTRICA - MÉDIA TENSÃO | C27: UN | D27: 1 | E27: =G27+H27+F27 -> 0 | F27: ='5.A'!$F$286 -> 0 | G27: ='5.A'!$F$299 -> 0 | H27: ='5.A'!$F$322 -> 0 | I27: =ROUND(F27*D27,2) -> 0 | J27: =ROUND(G27*D27,2) -> 0 | K27: =ROUND(H27*D27,2) -> 0 | L27: =ROUND(D27*F27,2)+ROUND(D27*G27,2)+ROUND(D27*H27,2) -> 0 | M27: =L27/$L$93 -> #DIV/0! | O27: FDE | P27: 09.01.007 | S27: 775
A28: 2.3 | B28: TE-06 ENTRADA PRIMÁRIA SIMPLIF. POSTE UNICO - CPFL - 225 KVA - 15KV- 220/127 V - INFRAESTRUTURA ELÉTRICA - SPDA/ATERRAMENTO | C28: UN | D28: 1 | E28: =G28+H28+F28 -> 0 | F28: ='5.A'!$F$338 -> 0 | G28: ='5.A'!$F$351 -> 0 | H28: ='5.A'!$F$374 -> 0 | I28: =ROUND(F28*D28,2) -> 0 | J28: =ROUND(G28*D28,2) -> 0 | K28: =ROUND(H28*D28,2) -> 0 | L28: =ROUND(D28*F28,2)+ROUND(D28*G28,2)+ROUND(D28*H28,2) -> 0 | M28: =L28/$L$93 -> #DIV/0! | O28: FDE | P28: 09.01.007 | S28: 775
A29: 2.4 | B29: TE-06 ENTRADA PRIMÁRIA SIMPLIF. POSTE UNICO - CPFL - 225 KVA - 15KV- 220/127 V - INFRAESTRUTURA ELÉTRICA - BAIXA TENSÃO | C29: UN | D29: 1 | E29: =G29+H29+F29 -> 0 | F29: ='5.A'!$F$390 -> 0 | G29: ='5.A'!$F$403 -> 0 | H29: ='5.A'!$F$426 -> 0 | I29: =ROUND(F29*D29,2) -> 0 | J29: =ROUND(G29*D29,2) -> 0 | K29: =ROUND(H29*D29,2) -> 0 | L29: =ROUND(D29*F29,2)+ROUND(D29*G29,2)+ROUND(D29*H29,2) -> 0 | M29: =L29/$L$93 -> #DIV/0! | O29: FDE | P29: 09.01.007 | S29: 775
A31: 3.0 | B31: ADEQUAÇÃO ELÉTRICA | C31: SUB-TOTAL | F31: =I31 -> 0 | G31: =J31 -> 0 | H31: =K31 -> 0 | I31: =SUM(I34:I84) -> 0 | J31: =SUM(J34:J84) -> 0 | K31: =SUM(K34:K84) -> 0 | L31: =F31+G31+H31 -> 0 | M31: =ROUND(L31/$L$93,6) -> #DIV/0!
F32: =F31/L31 -> #DIV/0! | G32: =G31/L31 -> #DIV/0! | H32: =H31/L31 -> #DIV/0! | I32: =IF(F31=I31,"SIM","NÃO") -> SIM | J32: =IF(G31=J31,"SIM","NÃO") -> SIM | K32: =IF(H31=K31,"SIM","NÃO") -> SIM
A33: 3.1 | B33: ALIMENTADOR QGBT - INFRAESTRUTURA ELÉTRICA | O33: COMPOSIÇÃO BASE | Q33: OBSERVAÇÕES
A34: 3.1.1 | B34: CAIXA ENTERRADA ELÉTRICA EM ALVENARIA COM BLOCOS DE CONCRETO, FUNDO COM BRITA, DIMENSÕES INTERNAS 0,80X0,80X0,60 M | C34: UN | D34: 2 | E34: =G34+H34+F34 -> 0 | F34: ='5.A'!$F$650 -> 0 | G34: ='5.A'!$F$663 -> 0 | H34: ='5.A'!$F$686 -> 0 | I34: =ROUND(F34*D34,2) -> 0 | J34: =ROUND(G34*D34,2) -> 0 | K34: =ROUND(H34*D34,2) -> 0 | L34: =ROUND(D34*F34,2)+ROUND(D34*G34,2)+ROUND(D34*H34,2) -> 0 | M34: =L34/$L$93 -> #DIV/0! | O34: SINAPI | P34: 97893 - 93358 | S34: =((2.66*5.25 *4*7)+(1.33*5.25*4*2))*4 -> 1787.52
A35: 3.1.2 | B35: ELETRODUTO FLEXÍVEL CORRUGADO, PEAD, DN 100 (4"), PARA REDE ENTERRADA DE DISTRIBUIÇÃO DE ENERGIA ELÉTRICA | C35: M | D35: 50 | E35: =G35+H35+F35 -> 0 | F35: ='5.A'!$F$702 -> 0 | G35: ='5.A'!$F$715 -> 0 | H35: ='5.A'!$F$738 -> 0 | I35: =ROUND(F35*D35,2) -> 0 | J35: =ROUND(G35*D35,2) -> 0 | K35: =ROUND(H35*D35,2) -> 0 | L35: =ROUND(D35*F35,2)+ROUND(D35*G35,2)+ROUND(D35*H35,2) -> 0 | M35: =L35/$L$93 -> #DIV/0! | O35: SINAPI | P35: 97670 | S35: =(((21*28*6)+(0.7*28*5))*0.5)*4 -> 7252
A36: 3.1.3 | B36: ELETRODUTO RÍGIDO ROSCÁVEL, PVC, DN 110 MM (4"), PARA REDE ENTERRADA DE DISTRIBUIÇÃO DE ENERGIA ELÉTRICA | C36: M | D36: 6 | E36: =G36+H36+F36 -> 0 | F36: ='5.A'!$F$754 -> 0 | G36: ='5.A'!$F$767 -> 0 | H36: ='5.A'!$F$790 -> 0 | I36: =ROUND(F36*D36,2) -> 0 | J36: =ROUND(G36*D36,2) -> 0 | K36: =ROUND(H36*D36,2) -> 0 | L36: =ROUND(D36*F36,2)+ROUND(D36*G36,2)+ROUND(D36*H36,2) -> 0 | M36: =L36/$L$93 -> #DIV/0! | O36: SINAPI | P36: 93012 | S36: =((21*28*6)+(0.7*28*5))*0.5*4 -> 7252
A37: 3.1.5 | B37: CURVA 90 GRAUS PARA ELETRODUTO, PVC, ROSCÁVEL, DN 110 MM (4"), PARA REDE ENTERRADA DE DISTRIBUIÇÃO DE ENERGIA | C37: UN | D37: 2 | E37: =G37+H37+F37 -> 0 | F37: ='5.A'!$F$858 -> 0 | G37: ='5.A'!$F$871 -> 0 | H37: ='5.A'!$F$894 -> 0 | I37: =ROUND(F37*D37,2) -> 0 | J37: =ROUND(G37*D37,2) -> 0 | K37: =ROUND(H37*D37,2) -> 0 | L37: =ROUND(D37*F37,2)+ROUND(D37*G37,2)+ROUND(D37*H37,2) -> 0 | M37: =L37/$L$93 -> #DIV/0! | O37: SINAPI | P37: 93026 | S37: =((21*28*6)+(0.7*28*5))*0.5*4 -> 7252
A38: 3.1.7 | B38: LUVA PARA ELETRODUTO, PVC, ROSCÁVEL, DN 110 MM (4"), PARA REDE ENTERRADA DE DISTRIBUIÇÃO DE ENERGIA ELÉTRICA | C38: UN | D38: 4 | E38: =G38+H38+F38 -> 0 | F38: ='5.A'!$F$962 -> 0 | G38: ='5.A'!$F$975 -> 0 | H38: ='5.A'!$F$998 -> 0 | I38: =ROUND(F38*D38,2) -> 0 | J38: =ROUND(G38*D38,2) -> 0 | K38: =ROUND(H38*D38,2) -> 0 | L38: =ROUND(D38*F38,2)+ROUND(D38*G38,2)+ROUND(D38*H38,2) -> 0 | M38: =L38/$L$93 -> #DIV/0! | O38: SINAPI | P38: 93017 | S38: =((21*28*6)+(0.7*28*5))*0.5*4 -> 7252
A39: 3.1.9 | B39: ESCAVAÇÃO MANUAL DE VALA | C39: M3 | D39: =ROUND(1.1*((D35/2+D36/2)*0.8*0.8)+(D34*1.2*1.2*1.2),0) -> 23 | E39: =G39+H39+F39 -> 0 | F39: ='5.A'!$F$1066 -> 0 | G39: ='5.A'!$F$1079 -> 0 | H39: ='5.A'!$F$1102 -> 0 | I39: =ROUND(F39*D39,2) -> 0 | J39: =ROUND(G39*D39,2) -> 0 | K39: =ROUND(H39*D39,2) -> 0 | L39: =ROUND(D39*F39,2)+ROUND(D39*G39,2)+ROUND(D39*H39,2) -> 0 | M39: =L39/$L$93 -> #DIV/0! | O39: SINAPI | P39: 93358 | S39: =((21*28*6)+(0.7*28*5))*0.5*4 -> 7252
A40: 3.1.10 | B40: CONCRETAGEM COMO PROTEÇÃO MECÂNICA NO REATERRO PARA REDE ENTERRADA DE DISTRIBUIÇÃO DE ENERGIA ELÉTRICA | C40: M3 | D40: =ROUNDUP(1.1*((D35/2+D36/2)*0.8*0.1),0) -> 3 | E40: =G40+H40+F40 -> 0 | F40: ='5.A'!$F$1118 -> 0 | G40: ='5.A'!$F$1131 -> 0 | H40: ='5.A'!$F$1154 -> 0 | I40: =ROUND(F40*D40,2) -> 0 | J40: =ROUND(G40*D40,2) -> 0 | K40: =ROUND(H40*D40,2) -> 0 | L40: =ROUND(D40*F40,2)+ROUND(D40*G40,2)+ROUND(D40*H40,2) -> 0 | M40: =L40/$L$93 -> #DIV/0! | O40: SINAPI | P40: 103491 | S40: =((21*28*6)+(0.7*28*5))*0.5*4 -> 7252
A41: 3.1.11 | B41: REATERRO MANUAL DE VALAS, COM COMPACTADOR DE SOLOS DE PERCUSSÃO | C41: M3 | D41: =ROUND(1.1*((D35/2+D36/2)*0.8*0.8)+(D34*1.2*1.2*1.2),0) -> 23 | E41: =G41+H41+F41 -> 0 | F41: ='5.A'!$F$1170 -> 0 | G41: ='5.A'!$F$1183 -> 0 | H41: ='5.A'!$F$1206 -> 0 | I41: =ROUND(F41*D41,2) -> 0 | J41: =ROUND(G41*D41,2) -> 0 | K41: =ROUND(H41*D41,2) -> 0 | L41: =ROUND(D41*F41,2)+ROUND(D41*G41,2)+ROUND(D41*H41,2) -> 0 | M41: =L41/$L$93 -> #DIV/0! | O41: SINAPI | P41: 93382 | S41: =((21*28*6)+(0.7*28*5))*0.5*4 -> 7252
A42: 3.1.13 | B42: ELETRODUTO RÍGIDO EM AÇO GALVANIZADO A QUENTE DN 50 MM (2") | C42: M | D42: 3 | E42: =G42+H42+F42 -> 0 | F42: ='5.A'!$F$1274 -> 0 | G42: ='5.A'!$F$1287 -> 0 | H42: ='5.A'!$F$1310 -> 0 | I42: =ROUND(F42*D42,2) -> 0 | J42: =ROUND(G42*D42,2) -> 0 | K42: =ROUND(H42*D42,2) -> 0 | L42: =ROUND(D42*F42,2)+ROUND(D42*G42,2)+ROUND(D42*H42,2) -> 0 | M42: =L42/$L$93 -> #DIV/0! | O42: CDHU | P42: 38.06.120 | S42: =((21*28*6)+(0.7*28*5))*0.5*4 -> 7252
A43: 3.2 | B43: CABOS E CONECTORES | O43: COMPOSIÇÃO BASE | Q43: OBSERVAÇÕES
A44: 3.2.2 | B44: CABO DE COBRE FLEXÍVEL ISOLADO, 4 MM², ANTI-CHAMA 450/750 V, PARA CIRCUITOS TERMINAIS | C44: M | D44: 3 | E44: =G44+H44+F44 -> 0 | F44: ='5.A'!$F$1378 -> 0 | G44: ='5.A'!$F$1391 -> 0 | H44: ='5.A'!$F$1414 -> 0 | I44: =ROUND(F44*D44,2) -> 0 | J44: =ROUND(G44*D44,2) -> 0 | K44: =ROUND(H44*D44,2) -> 0 | L44: =ROUND(D44*F44,2)+ROUND(D44*G44,2)+ROUND(D44*H44,2) -> 0 | M44: =L44/$L$93 -> #DIV/0! | O44: SINAPI | P44: 91928 | S44: =(((1.35*2*21)+(2.7*7*21)+(0.7*28.5)+(4.46*4.3))*0.12)*4 -> 236.50944
A45: 3.2.3 | B45: CABO DE COBRE FLEXÍVEL ISOLADO, 6 MM², ANTI-CHAMA 450/750 V, PARA CIRCUITOS TERMINAIS | C45: M | D45: 36 | E45: =G45+H45+F45 -> 0 | F45: ='5.A'!$F$1430 -> 0 | G45: ='5.A'!$F$1443 -> 0 | H45: ='5.A'!$F$1466 -> 0 | I45: =ROUND(F45*D45,2) -> 0 | J45: =ROUND(G45*D45,2) -> 0 | K45: =ROUND(H45*D45,2) -> 0 | L45: =ROUND(D45*F45,2)+ROUND(D45*G45,2)+ROUND(D45*H45,2) -> 0 | M45: =L45/$L$93 -> #DIV/0! | O45: SINAPI | P45: 91930 | S45: =(((1.35*2*21)+(2.7*7*21)+(0.7*28.5)+(4.46*4.3))*0.12)*4 -> 236.50944
A46: 3.2.6 | B46: CABO DE COBRE FLEXÍVEL ISOLADO, 25 MM², 0,6/1,0 KV, PARA REDE AÉREA DE ENERGIA ELÉTRICA DE BAIXA TENSÃO - TERRA | C46: M | D46: 5 | E46: =G46+H46+F46 -> 0 | F46: ='5.A'!$F$1586 -> 0 | G46: ='5.A'!$F$1599 -> 0 | H46: ='5.A'!$F$1622 -> 0 | I46: =ROUND(F46*D46,2) -> 0 | J46: =ROUND(G46*D46,2) -> 0 | K46: =ROUND(H46*D46,2) -> 0 | L46: =ROUND(D46*F46,2)+ROUND(D46*G46,2)+ROUND(D46*H46,2) -> 0 | M46: =L46/$L$93 -> #DIV/0! | O46: SINAPI | P46: 101562 | S46: =(((1.35*2*21)+(2.7*7*21)+(0.7*28.5)+(4.46*4.3))*0.12)*4 -> 236.50944
A47: 3.2.7 | B47: CABO DE COBRE FLEXÍVEL ISOLADO, 50 MM², 0,6/1,0 KV, PARA REDE AÉREA DE ENERGIA ELÉTRICA DE BAIXA TENSÃO - FASES | C47: M | D47: 15 | E47: =G47+H47+F47 -> 0 | F47: ='5.A'!$F$1638 -> 0 | G47: ='5.A'!$F$1651 -> 0 | H47: ='5.A'!$F$1674 -> 0 | I47: =ROUND(F47*D47,2) -> 0 | J47: =ROUND(G47*D47,2) -> 0 | K47: =ROUND(H47*D47,2) -> 0 | L47: =ROUND(D47*F47,2)+ROUND(D47*G47,2)+ROUND(D47*H47,2) -> 0 | M47: =L47/$L$93 -> #DIV/0! | O47: SINAPI | P47: 101564 | S47: =((21*28*6)+(0.7*28*5))*0.5*4 -> 7252
A48: 3.2.11 | B48: CABO DE COBRE FLEXÍVEL ISOLADO, 185 MM², ANTI-CHAMA 0,6/1,0 KV, PARA REDE ENTERRADA DE ENERGIA ELÉTRICA - TERRA | C48: M | D48: 30 | E48: =G48+H48+F48 -> 0 | F48: ='5.A'!$F$1846 -> 0 | G48: ='5.A'!$F$1859 -> 0 | H48: ='5.A'!$F$1882 -> 0 | I48: =ROUND(F48*D48,2) -> 0 | J48: =ROUND(G48*D48,2) -> 0 | K48: =ROUND(H48*D48,2) -> 0 | L48: =ROUND(D48*F48,2)+ROUND(D48*G48,2)+ROUND(D48*H48,2) -> 0 | M48: =L48/$L$93 -> #DIV/0! | O48: SINAPI | P48: 92998 | S48: =((21*28*6)+(0.7*28*5))*0.5*4 -> 7252
A49: 3.2.12 | B49: CABO DE COBRE FLEXÍVEL ISOLADO, 185 MM², ANTI-CHAMA 0,6/1,0 KV, PARA REDE ENTERRADA DE ENERGIA ELÉTRICA - FASES | C49: M | D49: 180 | E49: =G49+H49+F49 -> 0 | F49: ='5.A'!$F$1898 -> 0 | G49: ='5.A'!$F$1911 -> 0 | H49: ='5.A'!$F$1934 -> 0 | I49: =ROUND(F49*D49,2) -> 0 | J49: =ROUND(G49*D49,2) -> 0 | K49: =ROUND(H49*D49,2) -> 0 | L49: =ROUND(D49*F49,2)+ROUND(D49*G49,2)+ROUND(D49*H49,2) -> 0 | M49: =L49/$L$93 -> #DIV/0! | O49: SINAPI | P49: 92998 | S49: =((21*28*6)+(0.7*28*5))*0.5*4 -> 7252
A50: 3.2.13 | B50: CABO DE COBRE FLEXÍVEL ISOLADO, 185 MM², ANTI-CHAMA 0,6/1,0 KV, PARA REDE ENTERRADA DE ENERGIA ELÉTRICA - NEUTRO | C50: M | D50: 30 | E50: =G50+H50+F50 -> 0 | F50: ='5.A'!$F$1950 -> 0 | G50: ='5.A'!$F$1963 -> 0 | H50: ='5.A'!$F$1986 -> 0 | I50: =ROUND(F50*D50,2) -> 0 | J50: =ROUND(G50*D50,2) -> 0 | K50: =ROUND(H50*D50,2) -> 0 | L50: =ROUND(D50*F50,2)+ROUND(D50*G50,2)+ROUND(D50*H50,2) -> 0 | M50: =L50/$L$93 -> #DIV/0! | O50: SINAPI | P50: 92998 | S50: =((21*28*6)+(0.7*28*5))*0.5*4 -> 7252
...

Sheet 4.A
A1: ='3.A'!$A$1 -> TIMBRE DO LICITANTE
A7: ANEXO 4.A - CRONOGRAMA FÍSICO-FINANCEIRO - LICITANTE
A9: ='3.A'!$A$8 -> REFORMA DE 3 ENTRADAS DE ENERGIA EM 3 POÇOS TUBULARES DO AQUÍFERO BAURU (PTB) NO MUNÍCIPIO DE SÃO JOSÉ DO RIO PRETO
A12: ='3.A'!$A$12 -> ENTRADA DE ENERGIA 1 - PTB 033 - BAIRRO ELDORADO
D15: MÊS 1 | G15: MÊS 2 | J15: MÊS 3
D16: MÃO OBRA | E16: SERVIÇO | F16: MATERIAL | G16: MÃO OBRA | H16: SERVIÇO | I16: MATERIAL | J16: MÃO OBRA | K16: SERVIÇO | L16: MATERIAL
A17: ='3.A'!$A$17 -> 1.0 | B17: =VLOOKUP(A17,'3.A'!$A$12:$M$239,2,FALSE) -> CANTEIRO DE OBRAS | C17: =VLOOKUP(A17,'3.A'!$A$12:$M$239,12,FALSE) -> 0 | D17: =D18+E18+F18 -> 0 | G17: =G18+H18+I18 -> 0 | J17: =J18+K18+L18 -> 0 | M17: =SUM(D18:L18) -> 0
D18: ='3.A'!I19+'3.A'!I22 -> 0 | E18: ='3.A'!J19+'3.A'!J22 -> 0 | F18: ='3.A'!K19+'3.A'!K22 -> 0 | G18: =ROUND('3.A'!I20,2) -> 0 | H18: =ROUND('3.A'!J20,2) -> 0 | I18: =ROUND('3.A'!K20,2) -> 0 | J18: ='3.A'!I21 -> 0 | K18: ='3.A'!J21 -> 0 | L18: ='3.A'!K21 -> 0
C19: =C17/$C$30 -> #DIV/0! | D19: =D17/$C$17 -> #DIV/0! | G19: =G17/$C$17 -> #DIV/0! | J19: =J17/$C$17 -> #DIV/0! | M19: =M17/C17 -> #DIV/0!
A20: ='3.A'!$A$24 -> 2.0 | B20: =VLOOKUP(A20,'3.A'!$A$12:$M$239,2,FALSE) -> ENTRADA DE ENERGIA - POSTO SIMPLIFICADO DE SERVIÇO (PPS) - 225,0 KVA | C20: =VLOOKUP(A20,'3.A'!$A$12:$M$239,12,FALSE) -> 0 | D20: =D21+E21+F21 -> 0 | G20: =G21+H21+I21 -> 0 | M20: =SUM(D21:L21) -> 0
D21: ='3.A'!F26+'3.A'!F27 -> 0 | E21: ='3.A'!G26+'3.A'!G27 -> 0 | F21: ='3.A'!H26+'3.A'!H27 -> 0 | G21: ='3.A'!I28+'3.A'!I29 -> 0 | H21: ='3.A'!J28+'3.A'!J29 -> 0 | I21: ='3.A'!K28+'3.A'!K29 -> 0
C22: =C20/$C$30 -> #DIV/0! | D22: =D20/$C$20 -> #DIV/0! | G22: =G20/$C$20 -> #DIV/0! | M22: =M20/C20 -> #DIV/0!
A23: ='3.A'!$A$31 -> 3.0 | B23: =VLOOKUP(A23,'3.A'!$A$12:$M$239,2,FALSE) -> ADEQUAÇÃO ELÉTRICA | C23: =VLOOKUP(A23,'3.A'!$A$12:$M$239,12,FALSE) -> 0 | G23: =G24+H24+I24 -> 0 | M23: =SUM(D24:L24) -> 0
G24: ='3.A'!F31 -> 0 | H24: ='3.A'!G31 -> 0 | I24: ='3.A'!H31 -> 0
C25: =C23/$C$30 -> #DIV/0! | G25: =G23/$C$23 -> #DIV/0! | M25: =M23/C23 -> #DIV/0!
A26: ='3.A'!$A$86 -> 4.0 | B26: =VLOOKUP(A26,'3.A'!$A$12:$M$239,2,FALSE) -> SERVIÇOS COMPLEMENTARES | C26: =VLOOKUP(A26,'3.A'!$A$12:$M$239,12,FALSE) -> 0 | J26: =J27+K27+L27 -> 0 | M26: =SUM(D27:L27) -> 0
J27: ='3.A'!I86 -> 0 | K27: ='3.A'!J86 -> 0 | L27: ='3.A'!K86 -> 0
C28: =C26/$C$30 -> #DIV/0! | J28: =J26/$C$26 -> #DIV/0! | M28: =M26/C26 -> #DIV/0!
B30: MEDIÇÃO MENSAL | C30: =ROUND(C17+C20+C23+C26+C45+C48+C51+C54+C73+C76+C79+C82,2) -> 0 | D30: =D31+E31+F31 -> 0 | G30: =ROUND(G31+H31+I31,2) -> 0 | J30: =ROUND(J31+K31+L31,2) -> 0 | M30: =ROUND(M17+M20+M23+M26,2) -> 0
D31: =D18+D21+D24+D27 -> 0 | E31: =E18+E21+E24+E27 -> 0 | F31: =F18+F21+F24+F27 -> 0 | G31: =G18+G21+G24+G27 -> 0 | H31: =H18+H21+H24+H27 -> 0 | I31: =I18+I21+I24+I27 -> 0 | J31: =J18+J21+J24+J27 -> 0 | K31: =K18+K21+K24+K27 -> 0 | L31: =L18+L21+L24+L27 -> 0
C32: =C19+C22+C25+C28+C47+C50+C53+C56+C75+C78+C81+C84 -> #DIV/0! | D32: =ROUND(D30/$C$30,6) -> #DIV/0! | G32: =ROUND(G30/$C$30,6) -> #DIV/0! | J32: =ROUND(J30/$C$30,6) -> #DIV/0! | M32: =ROUND(D32+J32+G32,6) -> #DIV/0!
B34: MEDIÇÕES MENSAIS ACUMULADAS | C34: R$ | D34: =D30 -> 0 | G34: =D34+G30 -> 0 | J34: =G34+J30 -> 0
B35: MEDIÇÕES MENSAIS ACUMULADAS | C35: R$ | D35: =D31 -> 0 | E35: =E31 -> 0 | F35: =F31 -> 0 | G35: =D35+G31 -> 0 | H35: =E35+H31 -> 0 | I35: =F35+I31 -> 0 | J35: =G35+J31 -> 0 | K35: =H35+K31 -> 0 | L35: =I35+L31 -> 0
B36: SALDO CONTRATUAL | C36: R$ | D36: =ROUND($C$30-D34,2) -> 0 | G36: =ROUND($C$30-G34,2) -> 0 | J36: =ROUND($C$30-J34,2) -> 0
B37: SALDO CONTRATUAL | C37: R$ | D37: =ROUND('3.A'!$F$251-'4.A'!D35,2) -> 0 | E37: =ROUND('3.A'!$F$252-'4.A'!E35,2) -> 0 | F37: =ROUND('3.A'!$F$253-'4.A'!F35,2) -> 0 | G37: =ROUND('3.A'!$F$251-'4.A'!G35,2) -> 0 | H37: =ROUND('3.A'!$F$252-'4.A'!H35,2) -> 0 | I37: =ROUND('3.A'!$F$253-'4.A'!I35,2) -> 0 | J37: =ROUND('3.A'!$F$251-'4.A'!J35,2) -> 0 | K37: =ROUND('3.A'!$F$252-'4.A'!K35,2) -> 0 | L37: =ROUND('3.A'!$F$253-'4.A'!L35,2) -> 0
A40: ='3.A'!$A$98 -> ENTRADA DE ENERGIA 2 - PTB 107 - BAIRRO JOÃO PAULO II
D43: MÊS 4 | G43: MÊS 5 | J43: MÊS 6
D44: MÃO OBRA | E44: SERVIÇO | F44: MATERIAL | G44: MÃO OBRA | H44: SERVIÇO | I44: MATERIAL | J44: MÃO OBRA | K44: SERVIÇO | L44: MATERIAL
A45: ='3.A'!$A$103 -> 1.0 | B45: =VLOOKUP(A45,'3.A'!$A$12:$M$239,2,FALSE) -> CANTEIRO DE OBRAS | C45: =VLOOKUP(A45,'3.A'!$A$12:$M$239,12,FALSE) -> 0 | D45: =D46+E46+F46 -> 0 | G45: =G46+H46+I46 -> 0 | J45: =J46+K46+L46 -> 0 | M45: =SUM(D46:L46) -> 0
D46: ='3.A'!I105+'3.A'!I108 -> 0 | E46: ='3.A'!J105+'3.A'!J108 -> 0 | F46: ='3.A'!K105+'3.A'!K108 -> 0 | G46: =ROUND('3.A'!I106,2) -> 0 | H46: ='3.A'!J106 -> 0 | I46: ='3.A'!K106 -> 0 | J46: ='3.A'!I107 -> 0 | K46: ='3.A'!J107 -> 0 | L46: ='3.A'!K107 -> 0
C47: =C45/$C$30 -> #DIV/0! | D47: =D45/$C$17 -> #DIV/0! | G47: =G45/$C$17 -> #DIV/0! | J47: =J45/$C$17 -> #DIV/0! | M47: =M45/C45 -> #DIV/0!
A48: ='3.A'!$A$110 -> 2.0 | B48: ='3.A'!$B$110 -> ENTRADA DE ENERGIA - POSTO SIMPLIFICADO DE SERVIÇO (PPS) - 112,5 KVA | C48: ='3.A'!$L$110 -> 0 | D48: =D49+E49+F49 -> 0 | G48: =G49+H49+I49 -> 0 | M48: =SUM(D49:L49) -> 0
D49: ='3.A'!I112+'3.A'!I113 -> 0 | E49: ='3.A'!J112+'3.A'!J113 -> 0 | F49: ='3.A'!K112+'3.A'!K113 -> 0 | G49: ='3.A'!I114+'3.A'!I115 -> 0 | H49: ='3.A'!J114+'3.A'!J115 -> 0 | I49: ='3.A'!K114+'3.A'!K115 -> 0
C50: =C48/$C$30 -> #DIV/0! | D50: =D48/$C$20 -> #DIV/0! | G50: =G48/$C$20 -> #DIV/0! | M50: =M48/C48 -> #DIV/0!
A51: ='3.A'!$A$117 -> 3.0 | B51: =VLOOKUP(A51,'3.A'!$A$12:$M$239,2,FALSE) -> ADEQUAÇÃO ELÉTRICA | C51: ='3.A'!$L$117 -> 0 | G51: =G52+H52+I52 -> 0 | M51: =SUM(D52:L52) -> 0
G52: ='3.A'!I117 -> 0 | H52: ='3.A'!J117 -> 0 | I52: ='3.A'!K117 -> 0
C53: =C51/$C$30 -> #DIV/0! | G53: =G51/$C$23 -> #DIV/0! | M53: =M51/C51 -> #DIV/0!
A54: ='3.A'!$A$173 -> 4.0 | B54: =VLOOKUP(A54,'3.A'!$A$12:$M$239,2,FALSE) -> SERVIÇOS COMPLEMENTARES | C54: ='3.A'!$L$173 -> 0 | J54: =J55+K55+L55 -> 0 | M54: =SUM(D55:L55) -> 0
J55: ='3.A'!I173 -> 0 | K55: ='3.A'!J173 -> 0 | L55: ='3.A'!K173 -> 0
C56: =C54/$C$30 -> #DIV/0! | J56: =J54/$C$26 -> #DIV/0! | M56: =M54/C54 -> #DIV/0!
...

Sheet 5.A
A1: ='3.A'!$A$1 -> TIMBRE DO LICITANTE
A7: ='3.A'!$A$8 -> REFORMA DE 3 ENTRADAS DE ENERGIA EM 3 POÇOS TUBULARES DO AQUÍFERO BAURU (PTB) NO MUNÍCIPIO DE SÃO JOSÉ DO RIO PRETO
A8: ='3.A'!$B$9 -> LEIS SOCIAIS HORISTA - JORNADA NORMAL | C8: ='8.A'!$C$43 -> 0 | D8: DATA-BASE DO ORÇAMENTO | F8: ='3.A'!M9 -> 46023
A9: ='3.A'!$B$10 -> BDI | C9: ='7.A'!$E$29 -> 0
A10: ANEXO 5.A - COMPOSIÇÕES UNITÁRIAS DE SERVIÇOS - LICITANTE
A12: ='3.A'!$A$19 -> 1.1 | B12: =IF(A12="","",VLOOKUP(A12,'3.A'!$A$17:$M$279,2,FALSE)) -> MOBILIZAÇÃO DO CANTEIRO DE OBRAS | C12: UNIDADE: | E12: =IF(A12="","",VLOOKUP(A12,'3.A'!$A$17:$M$279,3,FALSE)) -> GB | F12: =ROUND(F26+F39+F62,2) -> 0 | G12: =VLOOKUP(A12,'3.A'!$A$19:$I$279,4,FALSE) -> 1 | H12: =SUM(F14:F25) -> 0 | I12: =SUM(F28:F38) -> 0 | J12: =SUM(F41:F61) -> 0 | K12: =SUM(H12:J12) -> 0 | L12: =IF(K12=F12,"SIM","NÃO") -> SIM | M12: =ROUND(SUM(F14:F23)*C24,2)+ROUND(SUM(F14:F24)*C25,2)+ROUND(SUM(F14:F23),2)+ROUND(SUM(F28:F37)*C38,2)+ROUND(SUM(F28:F37),2)+ROUND(SUM(F41:F60)*C61,2)+ROUND(SUM(F41:F60),2) -> 0 | N12: =IF(M12=F12,"SIM","NÃO") -> SIM | O12: =VLOOKUP(A12,'3.A'!$A$8:$E$279,3,FALSE) -> GB | P12: =IF(O12=E12,"SIM","NÃO") -> SIM | Q12: =ROUND(G12*F26,2)+ROUND(G12*F39,2)+ROUND(G12*F62,2) -> 0 | R12: =VLOOKUP(A12,'3.A'!$A$17:$L$279,12,FALSE) -> 0 | S12: =IF(Q12=R12,"si","no") -> si | T12: =SUM(L14:L23)+SUM(L28:L37)+SUM(L41:L60) -> 31.98 | U12: =G12*C20+G12*C22+G12*C15+G12*C16+G12*C18+G12*C21+G12*C19+G12*C14+G12*C17+G12*C23+G12*C34+G12*C28+G12*C36+G12*C35+G12*C33+G12*C30+G12*C29+G12*C31+G12*C37+G12*C32+G12*C41+G12*C42+G12*C43+G12*C51+G12*C52+G12*C53+G12*C54+G12*C55+G12*C56+G12*C57+G12*C58+G12*C59+G12*C60+G12*C49+G12*C50+G12*C44+G12*C45+G12*C46+G12*C47+G12*C48 -> 31.98 | V12: =IF(T12=U12,"si","no") -> si
A13: 1.0 | B13: MÃO DE OBRA | C13: COEF. | D13: UNID. | E13: CUSTO UNIT. (R$) | F13: TOTAL (R$)
A14: ='6.A'!$A$18 -> 88264 | B14: =IF(A14="","",VLOOKUP(A14,'6.A'!$A$11:$G$180,2,FALSE)) -> ELETRICISTA COM ENCARGOS COMPLEMENTARES | C14: 8 | D14: =IF(A14="","",VLOOKUP(A14,'6.A'!$A$11:$G$180,4,FALSE)) -> H | E14: =IF(A14="","",VLOOKUP(A14,'6.A'!$A$11:$G$180,5,FALSE)) -> 0 | F14: =IF(A14="","0,00",ROUND(C14*E14,2)) -> 0 | H14: =IF(A14="","",VLOOKUP(A14,'6.A'!$A$11:$E$7984,5,FALSE)) -> 0 | I14: =IF(H14="","",IF(E14=H14,"SIM","NÃO")) -> SIM | J14: =IF(H14="","",VLOOKUP(A14,'6.A'!$A$11:$E$564,4,FALSE)) -> H | K14: =IF(H14="","",IF(J14=D14,"SIM","NÃO")) -> SIM | L14: =IF(H14="","",IF(C14="","",G12*C14)) -> 8 | M14: =IF(A14="","",VLOOKUP(A14,'6.A'!$A$11:$C$564,2,FALSE)) -> ELETRICISTA COM ENCARGOS COMPLEMENTARES | N14: =IF(A14="","",IF(M14=B14,"si","no")) -> si
A15: ='6.A'!$A$20 -> 88309 | B15: =IF(A15="","",VLOOKUP(A15,'6.A'!$A$11:$G$180,2,FALSE)) -> PEDREIRO COM ENCARGOS COMPLEMENTARES | C15: 8 | D15: =IF(A15="","",VLOOKUP(A15,'6.A'!$A$11:$G$180,4,FALSE)) -> H | E15: =IF(A15="","",VLOOKUP(A15,'6.A'!$A$11:$G$180,5,FALSE)) -> 0 | F15: =IF(A15="","0,00",ROUND(C15*E15,2)) -> 0 | H15: =IF(A15="","",VLOOKUP(A15,'6.A'!$A$11:$E$7984,5,FALSE)) -> 0 | I15: =IF(H15="","",IF(E15=H15,"SIM","NÃO")) -> SIM | J15: =IF(H15="","",VLOOKUP(A15,'6.A'!$A$11:$E$564,4,FALSE)) -> H | K15: =IF(H15="","",IF(J15=D15,"SIM","NÃO")) -> SIM | L15: =IF(H15="","",IF(C15="","",G12*C15)) -> 8 | M15: =IF(A15="","",VLOOKUP(A15,'6.A'!$A$11:$C$564,2,FALSE)) -> PEDREIRO COM ENCARGOS COMPLEMENTARES | N15: =IF(A15="","",IF(M15=B15,"si","no")) -> si
A16: ='6.A'!$A$24 -> 90776 | B16: =IF(A16="","",VLOOKUP(A16,'6.A'!$A$11:$G$180,2,FALSE)) -> ENCARREGADO GERAL COM ENCARGOS COMPLEMENTARES | C16: 8 | D16: =IF(A16="","",VLOOKUP(A16,'6.A'!$A$11:$G$180,4,FALSE)) -> H | E16: =IF(A16="","",VLOOKUP(A16,'6.A'!$A$11:$G$180,5,FALSE)) -> 0 | F16: =IF(A16="","0,00",ROUND(C16*E16,2)) -> 0 | H16: =IF(A16="","",VLOOKUP(A16,'6.A'!$A$11:$E$7984,5,FALSE)) -> 0 | I16: =IF(H16="","",IF(E16=H16,"SIM","NÃO")) -> SIM | J16: =IF(H16="","",VLOOKUP(A16,'6.A'!$A$11:$E$564,4,FALSE)) -> H | K16: =IF(H16="","",IF(J16=D16,"SIM","NÃO")) -> SIM | L16: =IF(H16="","",IF(C16="","",G12*C16)) -> 8 | M16: =IF(A16="","",VLOOKUP(A16,'6.A'!$A$11:$C$564,2,FALSE)) -> ENCARREGADO GERAL COM ENCARGOS COMPLEMENTARES | N16: =IF(A16="","",IF(M16=B16,"si","no")) -> si
F17: =IF(A17="","0,00",ROUND(C17*E17,2)) -> 0,00 | H17: =IF(A17="","",VLOOKUP(A17,'6.A'!$A$11:$E$7984,5,FALSE)) | I17: =IF(H17="","",IF(E17=H17,"SIM","NÃO")) | J17: =IF(H17="","",VLOOKUP(A17,'6.A'!$A$11:$E$564,4,FALSE)) | K17: =IF(H17="","",IF(J17=D17,"SIM","NÃO")) | L17: =IF(H17="","",IF(C17="","",G12*C17)) | M17: =IF(A17="","",VLOOKUP(A17,'6.A'!$A$11:$C$564,2,FALSE)) | N17: =IF(A17="","",IF(M17=B17,"si","no"))
F18: =IF(A18="","0,00",ROUND(C18*E18,2)) -> 0,00 | H18: =IF(A18="","",VLOOKUP(A18,'6.A'!$A$11:$E$7984,5,FALSE)) | I18: =IF(H18="","",IF(E18=H18,"SIM","NÃO")) | J18: =IF(H18="","",VLOOKUP(A18,'6.A'!$A$11:$E$564,4,FALSE)) | K18: =IF(H18="","",IF(J18=D18,"SIM","NÃO")) | L18: =IF(H18="","",IF(C18="","",G12*C18)) | M18: =IF(A18="","",VLOOKUP(A18,'6.A'!$A$11:$C$564,2,FALSE)) | N18: =IF(A18="","",IF(M18=B18,"si","no"))
F19: =IF(A19="","0,00",ROUND(C19*E19,2)) -> 0,00 | H19: =IF(A19="","",VLOOKUP(A19,'6.A'!$A$11:$E$7984,5,FALSE)) | I19: =IF(H19="","",IF(E19=H19,"SIM","NÃO")) | J19: =IF(H19="","",VLOOKUP(A19,'6.A'!$A$11:$E$564,4,FALSE)) | K19: =IF(H19="","",IF(J19=D19,"SIM","NÃO")) | L19: =IF(H19="","",IF(C19="","",G12*C19)) | M19: =IF(A19="","",VLOOKUP(A19,'6.A'!$A$11:$C$564,2,FALSE)) | N19: =IF(A19="","",IF(M19=B19,"si","no"))
B20: =IF(A20="","",VLOOKUP(A20,'6.A'!$A$11:$G$180,2,FALSE)) | D20: =IF(A20="","",VLOOKUP(A20,'6.A'!$A$11:$G$180,4,FALSE)) | E20: =IF(A20="","",VLOOKUP(A20,'6.A'!$A$11:$G$180,5,FALSE)) | F20: =IF(A20="","0,00",ROUND(C20*E20,2)) -> 0,00 | H20: =IF(A20="","",VLOOKUP(A20,'6.A'!$A$11:$E$7984,5,FALSE)) | I20: =IF(H20="","",IF(E20=H20,"SIM","NÃO")) | J20: =IF(H20="","",VLOOKUP(A20,'6.A'!$A$11:$E$564,4,FALSE)) | K20: =IF(H20="","",IF(J20=D20,"SIM","NÃO")) | L20: =IF(H20="","",IF(C20="","",G12*C20)) | M20: =IF(A20="","",VLOOKUP(A20,'6.A'!$A$11:$C$564,2,FALSE)) | N20: =IF(A20="","",IF(M20=B20,"si","no"))
B21: =IF(A21="","",VLOOKUP(A21,'6.A'!$A$11:$G$180,2,FALSE)) | D21: =IF(A21="","",VLOOKUP(A21,'6.A'!$A$11:$G$180,4,FALSE)) | E21: =IF(A21="","",VLOOKUP(A21,'6.A'!$A$11:$G$180,5,FALSE)) | F21: =IF(A21="","0,00",ROUND(C21*E21,2)) -> 0,00 | H21: =IF(A21="","",VLOOKUP(A21,'6.A'!$A$11:$E$7984,5,FALSE)) | I21: =IF(H21="","",IF(E21=H21,"SIM","NÃO")) | J21: =IF(H21="","",VLOOKUP(A21,'6.A'!$A$11:$E$564,4,FALSE)) | K21: =IF(H21="","",IF(J21=D21,"SIM","NÃO")) | L21: =IF(H21="","",IF(C21="","",G12*C21)) | M21: =IF(A21="","",VLOOKUP(A21,'6.A'!$A$11:$C$564,2,FALSE)) | N21: =IF(A21="","",IF(M21=B21,"si","no"))
B22: =IF(A22="","",VLOOKUP(A22,'6.A'!$A$11:$G$180,2,FALSE)) | D22: =IF(A22="","",VLOOKUP(A22,'6.A'!$A$11:$G$180,4,FALSE)) | E22: =IF(A22="","",VLOOKUP(A22,'6.A'!$A$11:$G$180,5,FALSE)) | F22: =IF(A22="","0,00",ROUND(C22*E22,2)) -> 0,00 | H22: =IF(A22="","",VLOOKUP(A22,'6.A'!$A$11:$E$7984,5,FALSE)) | I22: =IF(H22="","",IF(E22=H22,"SIM","NÃO")) | J22: =IF(H22="","",VLOOKUP(A22,'6.A'!$A$11:$E$564,4,FALSE)) | K22: =IF(H22="","",IF(J22=D22,"SIM","NÃO")) | L22: =IF(H22="","",IF(C22="","",G12*C22)) | M22: =IF(A22="","",VLOOKUP(A22,'6.A'!$A$11:$C$564,2,FALSE)) | N22: =IF(A22="","",IF(M22=B22,"si","no"))
B23: =IF(A23="","",VLOOKUP(A23,'6.A'!$A$11:$G$180,2,FALSE)) | D23: =IF(A23="","",VLOOKUP(A23,'6.A'!$A$11:$G$180,4,FALSE)) | E23: =IF(A23="","",VLOOKUP(A23,'6.A'!$A$11:$G$180,5,FALSE)) | F23: =IF(A23="","0,00",ROUND(C23*E23,2)) -> 0,00 | H23: =IF(A23="","",VLOOKUP(A23,'6.A'!$A$11:$E$7984,5,FALSE)) | I23: =IF(H23="","",IF(E23=H23,"SIM","NÃO")) | J23: =IF(H23="","",VLOOKUP(A23,'6.A'!$A$11:$E$564,4,FALSE)) | K23: =IF(H23="","",IF(J23=D23,"SIM","NÃO")) | L23: =IF(H23="","",IF(C23="","",G12*C23)) | M23: =IF(A23="","",VLOOKUP(A23,'6.A'!$A$11:$C$564,2,FALSE)) | N23: =IF(A23="","",IF(M23=B23,"si","no"))
B24: =$A$8 -> LEIS SOCIAIS HORISTA - JORNADA NORMAL | C24: =$C$8 -> 0 | F24: =ROUND(SUM(F14:F23)*C24,2) -> 0
B25: =$A$9 -> BDI | C25: =$C$9 -> 0 | F25: =ROUND(SUM(F14:F24)*C25,2) -> 0
B26: TOTAL DE MÃO DE OBRA | F26: =ROUND(SUM(F14:F25),2) -> 0
A27: 2.0 | B27: EQUIPAMENTOS E SERVIÇOS | C27: COEF. | D27: UNID. | E27: CUSTO UNIT. (R$) | F27: TOTAL (R$)
A28: ='6.A'!$A$28 -> 5928 | B28: =IF(A28="","",VLOOKUP(A28,'6.A'!$A$11:$G$180,2,FALSE)) -> GUINDAUTO HIDRÁULICO COM CAMINHÃO TOCO 189 CV, CAP. CARGA 6200 KG, ALCANCE 9,70 M - CHP | C28: =600*0.0093 -> 5.58 | D28: =IF(A28="","",VLOOKUP(A28,'6.A'!$A$11:$G$180,4,FALSE)) -> CHP | E28: =IF(A28="","",VLOOKUP(A28,'6.A'!$A$11:$G$180,5,FALSE)) -> 0 | F28: =IF(A28="","0,00",ROUND(C28*E28,2)) -> 0 | H28: =IF(A28="","",VLOOKUP(A28,'6.A'!$A$11:$E$7984,5,FALSE)) -> 0 | I28: =IF(H28="","",IF(E28=H28,"SIM","NÃO")) -> SIM | J28: =IF(H28="","",VLOOKUP(A28,'6.A'!$A$11:$E$564,4,FALSE)) -> CHP | K28: =IF(H28="","",IF(J28=D28,"SIM","NÃO")) -> SIM | L28: =IF(H28="","",IF(C28="","",G12*C28)) -> 5.58 | M28: =IF(A28="","",VLOOKUP(A28,'6.A'!$A$11:$C$564,2,FALSE)) -> GUINDAUTO HIDRÁULICO COM CAMINHÃO TOCO 189 CV, CAP. CARGA 6200 KG, ALCANCE 9,70 M - CHP | N28: =IF(A28="","",IF(M28=B28,"si","no")) -> si
A29: ='6.A'!$A$29 -> 5930 | B29: =IF(A29="","",VLOOKUP(A29,'6.A'!$A$11:$G$180,2,FALSE)) -> GUINDAUTO HIDRÁULICO COM CAMINHÃO TOCO 189 CV, CAP. CARGA 6200 KG, ALCANCE 9,70 M - CHI | C29: =600*0.004 -> 2.4 | D29: =IF(A29="","",VLOOKUP(A29,'6.A'!$A$11:$G$180,4,FALSE)) -> CHI | E29: =IF(A29="","",VLOOKUP(A29,'6.A'!$A$11:$G$180,5,FALSE)) -> 0 | F29: =IF(A29="","0,00",ROUND(C29*E29,2)) -> 0 | H29: =IF(A29="","",VLOOKUP(A29,'6.A'!$A$11:$E$7984,5,FALSE)) -> 0 | I29: =IF(H29="","",IF(E29=H29,"SIM","NÃO")) -> SIM | J29: =IF(H29="","",VLOOKUP(A29,'6.A'!$A$11:$E$564,4,FALSE)) -> CHI | K29: =IF(H29="","",IF(J29=D29,"SIM","NÃO")) -> SIM | L29: =IF(H29="","",IF(C29="","",G12*C29)) -> 2.4 | M29: =IF(A29="","",VLOOKUP(A29,'6.A'!$A$11:$C$564,2,FALSE)) -> GUINDAUTO HIDRÁULICO COM CAMINHÃO TOCO 189 CV, CAP. CARGA 6200 KG, ALCANCE 9,70 M - CHI | N29: =IF(A29="","",IF(M29=B29,"si","no")) -> si
F30: =IF(A30="","0,00",ROUND(C30*E30,2)) -> 0,00 | H30: =IF(A30="","",VLOOKUP(A30,'6.A'!$A$11:$E$7984,5,FALSE)) | I30: =IF(H30="","",IF(E30=H30,"SIM","NÃO")) | J30: =IF(H30="","",VLOOKUP(A30,'6.A'!$A$11:$E$564,4,FALSE)) | K30: =IF(H30="","",IF(J30=D30,"SIM","NÃO")) | L30: =IF(H30="","",IF(C30="","",G12*C30)) | M30: =IF(A30="","",VLOOKUP(A30,'6.A'!$A$11:$C$564,2,FALSE)) | N30: =IF(A30="","",IF(M30=B30,"si","no"))
F31: =IF(A31="","0,00",ROUND(C31*E31,2)) -> 0,00 | H31: =IF(A31="","",VLOOKUP(A31,'6.A'!$A$11:$E$7984,5,FALSE)) | I31: =IF(H31="","",IF(E31=H31,"SIM","NÃO")) | J31: =IF(H31="","",VLOOKUP(A31,'6.A'!$A$11:$E$564,4,FALSE)) | K31: =IF(H31="","",IF(J31=D31,"SIM","NÃO")) | L31: =IF(H31="","",IF(C31="","",G12*C31)) | M31: =IF(A31="","",VLOOKUP(A31,'6.A'!$A$11:$C$564,2,FALSE)) | N31: =IF(A31="","",IF(M31=B31,"si","no"))
F32: =IF(A32="","0,00",ROUND(C32*E32,2)) -> 0,00 | H32: =IF(A32="","",VLOOKUP(A32,'6.A'!$A$11:$E$7984,5,FALSE)) | I32: =IF(H32="","",IF(E32=H32,"SIM","NÃO")) | J32: =IF(H32="","",VLOOKUP(A32,'6.A'!$A$11:$E$564,4,FALSE)) | K32: =IF(H32="","",IF(J32=D32,"SIM","NÃO")) | L32: =IF(H32="","",IF(C32="","",G12*C32)) | M32: =IF(A32="","",VLOOKUP(A32,'6.A'!$A$11:$C$564,2,FALSE)) | N32: =IF(A32="","",IF(M32=B32,"si","no"))
F33: =IF(A33="","0,00",ROUND(C33*E33,2)) -> 0,00 | H33: =IF(A33="","",VLOOKUP(A33,'6.A'!$A$11:$E$7984,5,FALSE)) | I33: =IF(H33="","",IF(E33=H33,"SIM","NÃO")) | J33: =IF(H33="","",VLOOKUP(A33,'6.A'!$A$11:$E$564,4,FALSE)) | K33: =IF(H33="","",IF(J33=D33,"SIM","NÃO")) | L33: =IF(H33="","",IF(C33="","",G12*C33)) | M33: =IF(A33="","",VLOOKUP(A33,'6.A'!$A$11:$C$564,2,FALSE)) | N33: =IF(A33="","",IF(M33=B33,"si","no"))
B34: =IF(A34="","",VLOOKUP(A34,'6.A'!$A$11:$G$180,2,FALSE)) | D34: =IF(A34="","",VLOOKUP(A34,'6.A'!$A$11:$G$180,4,FALSE)) | E34: =IF(A34="","",VLOOKUP(A34,'6.A'!$A$11:$G$180,5,FALSE)) | F34: =IF(A34="","0,00",ROUND(C34*E34,2)) -> 0,00 | H34: =IF(A34="","",VLOOKUP(A34,'6.A'!$A$11:$E$7984,5,FALSE)) | I34: =IF(H34="","",IF(E34=H34,"SIM","NÃO")) | J34: =IF(H34="","",VLOOKUP(A34,'6.A'!$A$11:$E$564,4,FALSE)) | K34: =IF(H34="","",IF(J34=D34,"SIM","NÃO")) | L34: =IF(H34="","",IF(C34="","",G12*C34)) | M34: =IF(A34="","",VLOOKUP(A34,'6.A'!$A$11:$C$564,2,FALSE)) | N34: =IF(A34="","",IF(M34=B34,"si","no"))
B35: =IF(A35="","",VLOOKUP(A35,'6.A'!$A$11:$G$180,2,FALSE)) | D35: =IF(A35="","",VLOOKUP(A35,'6.A'!$A$11:$G$180,4,FALSE)) | E35: =IF(A35="","",VLOOKUP(A35,'6.A'!$A$11:$G$180,5,FALSE)) | F35: =IF(A35="","0,00",ROUND(C35*E35,2)) -> 0,00 | H35: =IF(A35="","",VLOOKUP(A35,'6.A'!$A$11:$E$7984,5,FALSE)) | I35: =IF(H35="","",IF(E35=H35,"SIM","NÃO")) | J35: =IF(H35="","",VLOOKUP(A35,'6.A'!$A$11:$E$564,4,FALSE)) | K35: =IF(H35="","",IF(J35=D35,"SIM","NÃO")) | L35: =IF(H35="","",IF(C35="","",G12*C35)) | M35: =IF(A35="","",VLOOKUP(A35,'6.A'!$A$11:$C$564,2,FALSE)) | N35: =IF(A35="","",IF(M35=B35,"si","no"))
B36: =IF(A36="","",VLOOKUP(A36,'6.A'!$A$11:$G$180,2,FALSE)) | D36: =IF(A36="","",VLOOKUP(A36,'6.A'!$A$11:$G$180,4,FALSE)) | E36: =IF(A36="","",VLOOKUP(A36,'6.A'!$A$11:$G$180,5,FALSE)) | F36: =IF(A36="","0,00",ROUND(C36*E36,2)) -> 0,00 | H36: =IF(A36="","",VLOOKUP(A36,'6.A'!$A$11:$E$7984,5,FALSE)) | I36: =IF(H36="","",IF(E36=H36,"SIM","NÃO")) | J36: =IF(H36="","",VLOOKUP(A36,'6.A'!$A$11:$E$564,4,FALSE)) | K36: =IF(H36="","",IF(J36=D36,"SIM","NÃO")) | L36: =IF(H36="","",IF(C36="","",G12*C36)) | M36: =IF(A36="","",VLOOKUP(A36,'6.A'!$A$11:$C$564,2,FALSE)) | N36: =IF(A36="","",IF(M36=B36,"si","no"))
B37: =IF(A37="","",VLOOKUP(A37,'6.A'!$A$11:$G$180,2,FALSE)) | D37: =IF(A37="","",VLOOKUP(A37,'6.A'!$A$11:$G$180,4,FALSE)) | E37: =IF(A37="","",VLOOKUP(A37,'6.A'!$A$11:$G$180,5,FALSE)) | F37: =IF(A37="","0,00",ROUND(C37*E37,2)) -> 0,00 | H37: =IF(A37="","",VLOOKUP(A37,'6.A'!$A$11:$E$7984,5,FALSE)) | I37: =IF(H37="","",IF(E37=H37,"SIM","NÃO")) | J37: =IF(H37="","",VLOOKUP(A37,'6.A'!$A$11:$E$564,4,FALSE)) | K37: =IF(H37="","",IF(J37=D37,"SIM","NÃO")) | L37: =IF(H37="","",IF(C37="","",G12*C37)) | M37: =IF(A37="","",VLOOKUP(A37,'6.A'!$A$11:$C$564,2,FALSE)) | N37: =IF(A37="","",IF(M37=B37,"si","no"))
B38: =$A$9 -> BDI | C38: =$C$9 -> 0 | F38: =ROUND(SUM(F28:F37)*C38,2) -> 0
B39: TOTAL DE EQUIPAMENTOS E SERVIÇOS | F39: =ROUND(SUM(F28:F38),2) -> 0
A40: 3.0 | B40: MATERIAIS | C40: COEF. | D40: UNID. | E40: CUSTO UNIT. (R$) | F40: TOTAL (R$)
B41: =IF(A41="","",VLOOKUP(A41,'6.A'!$A$11:$G$180,2,FALSE)) | D41: =IF(A41="","",VLOOKUP(A41,'6.A'!$A$11:$G$180,4,FALSE)) | E41: =IF(A41="","",VLOOKUP(A41,'6.A'!$A$11:$G$180,5,FALSE)) | F41: =IF(A41="","0,00",ROUND(C41*E41,2)) -> 0,00 | H41: =IF(A41="","",VLOOKUP(A41,'6.A'!$A$11:$E$7984,5,FALSE)) | I41: =IF(H41="","",IF(E41=H41,"SIM","NÃO")) | J41: =IF(H41="","",VLOOKUP(A41,'6.A'!$A$11:$E$564,4,FALSE)) | K41: =IF(H41="","",IF(J41=D41,"SIM","NÃO")) | L41: =IF(H41="","",IF(C41="","",G12*C41)) | M41: =IF(A41="","",VLOOKUP(A41,'6.A'!$A$11:$C$564,2,FALSE)) | N41: =IF(A41="","",IF(M41=B41,"si","no"))
B42: =IF(A42="","",VLOOKUP(A42,'6.A'!$A$11:$G$180,2,FALSE)) | D42: =IF(A42="","",VLOOKUP(A42,'6.A'!$A$11:$G$180,4,FALSE)) | E42: =IF(A42="","",VLOOKUP(A42,'6.A'!$A$11:$G$180,5,FALSE)) | F42: =IF(A42="","0,00",ROUND(C42*E42,2)) -> 0,00 | H42: =IF(A42="","",VLOOKUP(A42,'6.A'!$A$11:$E$7984,5,FALSE)) | I42: =IF(H42="","",IF(E42=H42,"SIM","NÃO")) | J42: =IF(H42="","",VLOOKUP(A42,'6.A'!$A$11:$E$564,4,FALSE)) | K42: =IF(H42="","",IF(J42=D42,"SIM","NÃO")) | L42: =IF(H42="","",IF(C42="","",G12*C42)) | M42: =IF(A42="","",VLOOKUP(A42,'6.A'!$A$11:$C$564,2,FALSE)) | N42: =IF(A42="","",IF(M42=B42,"si","no"))
B43: =IF(A43="","",VLOOKUP(A43,'6.A'!$A$11:$G$180,2,FALSE)) | D43: =IF(A43="","",VLOOKUP(A43,'6.A'!$A$11:$G$180,4,FALSE)) | E43: =IF(A43="","",VLOOKUP(A43,'6.A'!$A$11:$G$180,5,FALSE)) | F43: =IF(A43="","0,00",ROUND(C43*E43,2)) -> 0,00 | H43: =IF(A43="","",VLOOKUP(A43,'6.A'!$A$11:$E$7984,5,FALSE)) | I43: =IF(H43="","",IF(E43=H43,"SIM","NÃO")) | J43: =IF(H43="","",VLOOKUP(A43,'6.A'!$A$11:$E$564,4,FALSE)) | K43: =IF(H43="","",IF(J43=D43,"SIM","NÃO")) | L43: =IF(H43="","",IF(C43="","",G12*C43)) | M43: =IF(A43="","",VLOOKUP(A43,'6.A'!$A$11:$C$564,2,FALSE)) | N43: =IF(A43="","",IF(M43=B43,"si","no"))
B44: =IF(A44="","",VLOOKUP(A44,'6.A'!$A$11:$G$180,2,FALSE)) | D44: =IF(A44="","",VLOOKUP(A44,'6.A'!$A$11:$G$180,4,FALSE)) | E44: =IF(A44="","",VLOOKUP(A44,'6.A'!$A$11:$G$180,5,FALSE)) | F44: =IF(A44="","0,00",ROUND(C44*E44,2)) -> 0,00 | H44: =IF(A44="","",VLOOKUP(A44,'6.A'!$A$11:$E$7984,5,FALSE)) | I44: =IF(H44="","",IF(E44=H44,"SIM","NÃO")) | J44: =IF(H44="","",VLOOKUP(A44,'6.A'!$A$11:$E$564,4,FALSE)) | K44: =IF(H44="","",IF(J44=D44,"SIM","NÃO")) | L44: =IF(H44="","",IF(C44="","",G12*C44)) | M44: =IF(A44="","",VLOOKUP(A44,'6.A'!$A$11:$C$564,2,FALSE)) | N44: =IF(A44="","",IF(M44=B44,"si","no"))
B45: =IF(A45="","",VLOOKUP(A45,'6.A'!$A$11:$G$180,2,FALSE)) | D45: =IF(A45="","",VLOOKUP(A45,'6.A'!$A$11:$G$180,4,FALSE)) | E45: =IF(A45="","",VLOOKUP(A45,'6.A'!$A$11:$G$180,5,FALSE)) | F45: =IF(A45="","0,00",ROUND(C45*E45,2)) -> 0,00 | H45: =IF(A45="","",VLOOKUP(A45,'6.A'!$A$11:$E$7984,5,FALSE)) | I45: =IF(H45="","",IF(E45=H45,"SIM","NÃO")) | J45: =IF(H45="","",VLOOKUP(A45,'6.A'!$A$11:$E$564,4,FALSE)) | K45: =IF(H45="","",IF(J45=D45,"SIM","NÃO")) | L45: =IF(H45="","",IF(C45="","",G12*C45)) | M45: =IF(A45="","",VLOOKUP(A45,'6.A'!$A$11:$C$564,2,FALSE)) | N45: =IF(A45="","",IF(M45=B45,"si","no"))
B46: =IF(A46="","",VLOOKUP(A46,'6.A'!$A$11:$G$180,2,FALSE)) | D46: =IF(A46="","",VLOOKUP(A46,'6.A'!$A$11:$G$180,4,FALSE)) | E46: =IF(A46="","",VLOOKUP(A46,'6.A'!$A$11:$G$180,5,FALSE)) | F46: =IF(A46="","0,00",ROUND(C46*E46,2)) -> 0,00 | H46: =IF(A46="","",VLOOKUP(A46,'6.A'!$A$11:$E$7984,5,FALSE)) | I46: =IF(H46="","",IF(E46=H46,"SIM","NÃO")) | J46: =IF(H46="","",VLOOKUP(A46,'6.A'!$A$11:$E$564,4,FALSE)) | K46: =IF(H46="","",IF(J46=D46,"SIM","NÃO")) | L46: =IF(H46="","",IF(C46="","",G12*C46)) | M46: =IF(A46="","",VLOOKUP(A46,'6.A'!$A$11:$C$564,2,FALSE)) | N46: =IF(A46="","",IF(M46=B46,"si","no"))
...

Sheet 6.A
A1: ='3.A'!$A$1 -> TIMBRE DO LICITANTE
I4: ='3.A'!$F$248 -> 0
A6: ANEXO 6.A - CUSTOS UNITÁRIOS DE INSUMOS - LICITANTE
A8: ='3.A'!$A$8 -> REFORMA DE 3 ENTRADAS DE ENERGIA EM 3 POÇOS TUBULARES DO AQUÍFERO BAURU (PTB) NO MUNÍCIPIO DE SÃO JOSÉ DO RIO PRETO
A11: 1.0 | B11: MÃO-DE-OBRA | D11: UNID | E11: VALOR | F11: FONTE | G11: DATA | N11: LS | O11: ='8.A'!C43 -> 0
A12: 88238 | B12: AJUDANTE DE ARMADOR COM ENCARGOS COMPLEMENTARES | D12: H | E12: 0 | F12: SINAPI | G12: =IF(F12="SINAPI",$D$186,IF(F12="SICRO",$D$185,IF(F12="SIURB",$D$187,IF(F12="SABESP",$D$188,IF(F12="CDHU",$D$189,"-"))))) -> 46023 | H12: =SUMIF('5.A'!$B$7:$B$4222,B12,'5.A'!$L$7:$L$4222) -> 1.8431934 | I12: =IF(H12=0,"no","si") -> si | J12: 33.49 | K12: =ROUND(J12/(1+$O$11),2) -> 33.49 | AM12: AJUDANTE DE ARMADOR COM ENCARGOS COMPLEMENTARES
A13: 88239 | B13: AJUDANTE DE CARPINTEIRO COM ENCARGOS COMPLEMENTARES | D13: H | E13: 0 | F13: SINAPI | G13: =IF(F13="SINAPI",$D$186,IF(F13="SICRO",$D$185,IF(F13="SIURB",$D$187,IF(F13="SABESP",$D$188,IF(F13="CDHU",$D$189,"-"))))) -> 46023 | H13: =SUMIF('5.A'!$B$7:$B$4222,B13,'5.A'!$L$7:$L$4222) -> 3.855184 | I13: =IF(H13=0,"no","si") -> si | J13: 33.11 | K13: =ROUND(J13/(1+$O$11),2) -> 33.11 | AM13: AJUDANTE DE CARPINTEIRO COM ENCARGOS COMPLEMENTARES
A14: 88245 | B14: ARMADOR COM ENCARGOS COMPLEMENTARES | D14: H | E14: 0 | F14: SINAPI | G14: =IF(F14="SINAPI",$D$186,IF(F14="SICRO",$D$185,IF(F14="SIURB",$D$187,IF(F14="SABESP",$D$188,IF(F14="CDHU",$D$189,"-"))))) -> 46023 | H14: =SUMIF('5.A'!$B$7:$B$4222,B14,'5.A'!$L$7:$L$4222) -> 3.2766233 | I14: =IF(H14=0,"no","si") -> si | J14: 35.62 | K14: =ROUND(J14/(1+$O$11),2) -> 35.62 | AM14: ARMADOR COM ENCARGOS COMPLEMENTARES
A15: 88247 | B15: AUXILIAR DE ELETRICISTA COM ENCARGOS COMPLEMENTARES | D15: H | E15: 0 | F15: SINAPI | G15: =IF(F15="SINAPI",$D$186,IF(F15="SICRO",$D$185,IF(F15="SIURB",$D$187,IF(F15="SABESP",$D$188,IF(F15="CDHU",$D$189,"-"))))) -> 46023 | H15: =SUMIF('5.A'!$B$7:$B$4222,B15,'5.A'!$L$7:$L$4222) -> 418.96148 | I15: =IF(H15=0,"no","si") -> si | J15: 34.12 | K15: =ROUND(J15/(1+$O$11),2) -> 34.12 | AM15: AUXILIAR DE TOPÓGRAFO COM ENCARGOS COMPLEMENTARES
A16: 88261 | B16: CARPINTEIRO DE ESQUADRIA COM ENCARGOS COMPLEMENTARES | D16: H | E16: 0 | F16: SINAPI | G16: =IF(F16="SINAPI",$D$186,IF(F16="SICRO",$D$185,IF(F16="SIURB",$D$187,IF(F16="SABESP",$D$188,IF(F16="CDHU",$D$189,"-"))))) -> 46023 | H16: =SUMIF('5.A'!$B$7:$B$4222,B16,'5.A'!$L$7:$L$4222) -> 3.50092 | I16: =IF(H16=0,"no","si") -> si | J16: 35.24 | K16: =ROUND(J16/(1+$O$11),2) -> 35.24 | AM16: CARPINTEIRO DE FORMAS COM ENCARGOS COMPLEMENTARES
A17: 88262 | B17: CARPINTEIRO DE FORMAS COM ENCARGOS COMPLEMENTARES | D17: H | E17: 0 | F17: SINAPI | G17: =IF(F17="SINAPI",$D$186,IF(F17="SICRO",$D$185,IF(F17="SIURB",$D$187,IF(F17="SABESP",$D$188,IF(F17="CDHU",$D$189,"-"))))) -> 46023 | H17: =SUMIF('5.A'!$B$7:$B$4222,B17,'5.A'!$L$7:$L$4222) -> 5.275572 | I17: =IF(H17=0,"no","si") -> si | J17: 35.16 | K17: =ROUND(J17/(1+$O$11),2) -> 35.16 | AM17: CARPINTEIRO DE FORMAS COM ENCARGOS COMPLEMENTARES
A18: 88264 | B18: ELETRICISTA COM ENCARGOS COMPLEMENTARES | D18: H | E18: 0 | F18: SINAPI | G18: =IF(F18="SINAPI",$D$186,IF(F18="SICRO",$D$185,IF(F18="SIURB",$D$187,IF(F18="SABESP",$D$188,IF(F18="CDHU",$D$189,"-"))))) -> 46023 | H18: =SUMIF('5.A'!$B$7:$B$4222,B18,'5.A'!$L$7:$L$4222) -> 549.42098 | I18: =IF(H18=0,"no","si") -> si | J18: 45.04 | K18: =ROUND(J18/(1+$O$11),2) -> 45.04 | AM18: CARPINTEIRO DE FORMAS COM ENCARGOS COMPLEMENTARES
A19: 88266 | B19: ELETROTÉCNICO COM ENCARGOS COMPLEMENTARES | D19: H | E19: 0 | F19: SINAPI | G19: =IF(F19="SINAPI",$D$186,IF(F19="SICRO",$D$185,IF(F19="SIURB",$D$187,IF(F19="SABESP",$D$188,IF(F19="CDHU",$D$189,"-"))))) -> 46023 | H19: =SUMIF('5.A'!$B$7:$B$4222,B19,'5.A'!$L$7:$L$4222) -> 8.4 | I19: =IF(H19=0,"no","si") -> si | J19: 51.1 | K19: =ROUND(J19/(1+$O$11),2) -> 51.1 | AM19: PEDREIRO COM ENCARGOS COMPLEMENTARES
A20: 88309 | B20: PEDREIRO COM ENCARGOS COMPLEMENTARES | D20: H | E20: 0 | F20: SINAPI | G20: =IF(F20="SINAPI",$D$186,IF(F20="SICRO",$D$185,IF(F20="SIURB",$D$187,IF(F20="SABESP",$D$188,IF(F20="CDHU",$D$189,"-"))))) -> 46023 | H20: =SUMIF('5.A'!$B$7:$B$4222,B20,'5.A'!$L$7:$L$4222) -> 66.547029 | I20: =IF(H20=0,"no","si") -> si | J20: 35.87 | K20: =ROUND(J20/(1+$O$11),2) -> 35.87 | AM20: PEDREIRO COM ENCARGOS COMPLEMENTARES
A21: 88310 | B21: PINTOR COM ENCARGOS COMPLEMENTARES | D21: H | E21: 0 | F21: SINAPI | G21: =IF(F21="SINAPI",$D$186,IF(F21="SICRO",$D$185,IF(F21="SIURB",$D$187,IF(F21="SABESP",$D$188,IF(F21="CDHU",$D$189,"-"))))) -> 46023 | H21: =SUMIF('5.A'!$B$7:$B$4222,B21,'5.A'!$L$7:$L$4222) -> 23.1287 | I21: =IF(H21=0,"no","si") -> si | J21: 37.45 | K21: =ROUND(J21/(1+$O$11),2) -> 37.45 | AM21: CONDUTOR MAQUINISTA FLUVIAL COM ENCARGOS COMPLEMENTARES
A22: 88316 | B22: SERVENTE COM ENCARGOS COMPLEMENTARES | D22: H | E22: 0 | F22: SINAPI | G22: =IF(F22="SINAPI",$D$186,IF(F22="SICRO",$D$185,IF(F22="SIURB",$D$187,IF(F22="SABESP",$D$188,IF(F22="CDHU",$D$189,"-"))))) -> 46023 | H22: =SUMIF('5.A'!$B$7:$B$4222,B22,'5.A'!$L$7:$L$4222) -> 254.12124 | I22: =IF(H22=0,"no","si") -> si | J22: 31.15 | K22: =ROUND(J22/(1+$O$11),2) -> 31.15 | AM22: SERVENTE COM ENCARGOS COMPLEMENTARES
A23: 88377 | B23: OPERADOR DE BETONEIRA ESTACIONÁRIA/MISTURADOR COM ENCARGOS COMPLEMENTARES | D23: H | E23: 0 | F23: SINAPI | G23: =IF(F23="SINAPI",$D$186,IF(F23="SICRO",$D$185,IF(F23="SIURB",$D$187,IF(F23="SABESP",$D$188,IF(F23="CDHU",$D$189,"-"))))) -> 46023 | H23: =SUMIF('5.A'!$B$7:$B$4222,B23,'5.A'!$L$7:$L$4222) -> 4.40556 | I23: =IF(H23=0,"no","si") -> si | J23: 34.17 | K23: =ROUND(J23/(1+$O$11),2) -> 34.17 | AM23: JARDINEIRO COM ENCARGOS COMPLEMENTARES
A24: 90776 | B24: ENCARREGADO GERAL COM ENCARGOS COMPLEMENTARES | D24: H | E24: 0 | F24: SINAPI | G24: =IF(F24="SINAPI",$D$186,IF(F24="SICRO",$D$185,IF(F24="SIURB",$D$187,IF(F24="SABESP",$D$188,IF(F24="CDHU",$D$189,"-"))))) -> 46023 | H24: =SUMIF('5.A'!$B$7:$B$4222,B24,'5.A'!$L$7:$L$4222) -> 88 | I24: =IF(H24=0,"no","si") -> si | J24: 55.46 | K24: =ROUND(J24/(1+$O$11),2) -> 55.46 | AM24: ENCARREGADO GERAL COM ENCARGOS COMPLEMENTARES
A25: 100301 | B25: AJUDANTE DE PINTOR COM ENCARGOS COMPLEMENTARES | D25: H | E25: 0 | F25: SINAPI | G25: =IF(F25="SINAPI",$D$186,IF(F25="SICRO",$D$185,IF(F25="SIURB",$D$187,IF(F25="SABESP",$D$188,IF(F25="CDHU",$D$189,"-"))))) -> 46023 | H25: =SUMIF('5.A'!$B$7:$B$4222,B25,'5.A'!$L$7:$L$4222) -> 8.72 | I25: =IF(H25=0,"no","si") -> si | J25: 35.32 | K25: =ROUND(J25/(1+$O$11),2) -> 35.32
A27: 2.0 | B27: EQUIPAMENTOS / SERVIÇOS | D27: UNID | E27: VALOR | F27: FONTE | G27: DATA
A28: 5928 | B28: GUINDAUTO HIDRÁULICO COM CAMINHÃO TOCO 189 CV, CAP. CARGA 6200 KG, ALCANCE 9,70 M - CHP | D28: CHP | E28: 0 | F28: SINAPI | G28: =IF(F28="SINAPI",$D$186,IF(F28="SICRO",$D$185,IF(F28="SIURB",$D$187,IF(F28="SABESP",$D$188,IF(F28="CDHU",$D$189,"-"))))) -> 46023 | H28: =SUMIF('5.A'!$B$7:$B$4222,B28,'5.A'!$L$7:$L$4222) -> 22.227 | I28: =IF(H28=0,"no","si") -> si | AM28: CAMINHÃO BASCULANTE COM CAPACIDADE DE 6 M³ - 136 KW
A29: 5930 | B29: GUINDAUTO HIDRÁULICO COM CAMINHÃO TOCO 189 CV, CAP. CARGA 6200 KG, ALCANCE 9,70 M - CHI | D29: CHI | E29: 0 | F29: SINAPI | G29: =IF(F29="SINAPI",$D$186,IF(F29="SICRO",$D$185,IF(F29="SIURB",$D$187,IF(F29="SABESP",$D$188,IF(F29="CDHU",$D$189,"-"))))) -> 46023 | H29: =SUMIF('5.A'!$B$7:$B$4222,B29,'5.A'!$L$7:$L$4222) -> 9.56 | I29: =IF(H29=0,"no","si") -> si | AM29: CAMINHÃO BASCULANTE COM CAPACIDADE DE 6 M³ - 136 KW
A30: 10776 | B30: LOCACAO DE CONTAINER 2,30 X 6,00 M, ALT. 2,50 M, PARA ESCRITORIO, SEM DIVISORIAS INTERNAS E SEM SANITARIO | D30: MÊS | E30: 0 | F30: SINAPI | G30: =IF(F30="SINAPI",$D$186,IF(F30="SICRO",$D$185,IF(F30="SIURB",$D$187,IF(F30="SABESP",$D$188,IF(F30="CDHU",$D$189,"-"))))) -> 46023 | H30: =SUMIF('5.A'!$B$7:$B$4222,B30,'5.A'!$L$7:$L$4222) -> 2 | I30: =IF(H30=0,"no","si") -> si
A31: 20358 | B31: REMOÇÃO DE ENTULHO DE OBRA, TERRA, ALVENARIA, CONCRETO, ARGAMASSA, MADEIRA - CAPACIDADE DE 4M³ | D31: M3 | E31: 0 | F31: CDHU | G31: =IF(F31="SINAPI",$D$186,IF(F31="SICRO",$D$185,IF(F31="SIURB",$D$187,IF(F31="SABESP",$D$188,IF(F31="CDHU",$D$189,"-"))))) -> 45870 | H31: =SUMIF('5.A'!$B$7:$B$4222,B31,'5.A'!$L$7:$L$4222) -> 8 | I31: =IF(H31=0,"no","si") -> si
A32: 88830 | B32: BETONEIRA CAPACIDADE 400 L, CAPACIDADE DE MISTURA 280 L, MOTOR ELÉTRICO POTÊNCIA 2 CV - CHP | D32: CHP | E32: 0 | F32: SINAPI | G32: =IF(F32="SINAPI",$D$186,IF(F32="SICRO",$D$185,IF(F32="SIURB",$D$187,IF(F32="SABESP",$D$188,IF(F32="CDHU",$D$189,"-"))))) -> 46023 | H32: =SUMIF('5.A'!$B$7:$B$4222,B32,'5.A'!$L$7:$L$4222) -> 2.4264276 | I32: =IF(H32=0,"no","si") -> si
A33: 88831 | B33: BETONEIRA CAPACIDADE 400 L, CAPACIDADE DE MISTURA 280 L, MOTOR ELÉTRICO POTÊNCIA 2 CV - CHI | D33: CHI | E33: 0 | F33: SINAPI | G33: =IF(F33="SINAPI",$D$186,IF(F33="SICRO",$D$185,IF(F33="SIURB",$D$187,IF(F33="SABESP",$D$188,IF(F33="CDHU",$D$189,"-"))))) -> 46023 | H33: =SUMIF('5.A'!$B$7:$B$4222,B33,'5.A'!$L$7:$L$4222) -> 2.9062064 | I33: =IF(H33=0,"no","si") -> si
A34: 90586 | B34: VIBRADOR DE IMERSÃO, DIÂMETRO DE PONTEIRA 45MM, MOTOR ELÉTRICO TRIFÁSICO POTÊNCIA DE 2 CV - CHP | D34: CHP | E34: 0 | F34: SINAPI | G34: =IF(F34="SINAPI",$D$186,IF(F34="SICRO",$D$185,IF(F34="SIURB",$D$187,IF(F34="SABESP",$D$188,IF(F34="CDHU",$D$189,"-"))))) -> 46023 | H34: =SUMIF('5.A'!$B$7:$B$4222,B34,'5.A'!$L$7:$L$4222) -> 0.074358 | I34: =IF(H34=0,"no","si") -> si | AM34: CAMINHÃO BASCULANTE COM CAPACIDADE DE 6 M³ - 136 KW
A35: 90587 | B35: VIBRADOR DE IMERSÃO, DIÂMETRO DE PONTEIRA 45MM, MOTOR ELÉTRICO TRIFÁSICO POTÊNCIA DE 2 CV - CHI | D35: CHI | E35: 0 | F35: SINAPI | G35: =IF(F35="SINAPI",$D$186,IF(F35="SICRO",$D$185,IF(F35="SIURB",$D$187,IF(F35="SABESP",$D$188,IF(F35="CDHU",$D$189,"-"))))) -> 46023 | H35: =SUMIF('5.A'!$B$7:$B$4222,B35,'5.A'!$L$7:$L$4222) -> 0.068688 | I35: =IF(H35=0,"no","si") -> si | AM35: CAMINHÃO BASCULANTE COM CAPACIDADE DE 6 M³ - 136 KW
A36: 91533 | B36: COMPACTADOR DE SOLOS DE PERCUSSÃO COM MOTOR A GASOLINA 4 TEMPOS, POTÊNCIA 4 CV - CHP | D36: CHP | E36: 0 | F36: SINAPI | G36: =IF(F36="SINAPI",$D$186,IF(F36="SICRO",$D$185,IF(F36="SIURB",$D$187,IF(F36="SABESP",$D$188,IF(F36="CDHU",$D$189,"-"))))) -> 46023 | H36: =SUMIF('5.A'!$B$7:$B$4222,B36,'5.A'!$L$7:$L$4222) -> 4.8254 | I36: =IF(H36=0,"no","si") -> si | AM36: CAMINHÃO BASCULANTE COM CAPACIDADE DE 6 M³ - 136 KW
A37: 91534 | B37: COMPACTADOR DE SOLOS DE PERCUSSÃO COM MOTOR A GASOLINA 4 TEMPOS, POTÊNCIA 4 CV - CHI | D37: CHI | E37: 0 | F37: SINAPI | G37: =IF(F37="SINAPI",$D$186,IF(F37="SICRO",$D$185,IF(F37="SIURB",$D$187,IF(F37="SABESP",$D$188,IF(F37="CDHU",$D$189,"-"))))) -> 46023 | H37: =SUMIF('5.A'!$B$7:$B$4222,B37,'5.A'!$L$7:$L$4222) -> 0.4032 | I37: =IF(H37=0,"no","si") -> si
A38: 91692 | B38: SERRA CIRCULAR DE BANCADA COM MOTOR ELÉTRICO POTÊNCIA DE 5HP, COM COIFA PARA DISCO 10" - CHP DIURNO | D38: CHP | E38: 0 | F38: SINAPI | G38: =IF(F38="SINAPI",$D$186,IF(F38="SICRO",$D$185,IF(F38="SIURB",$D$187,IF(F38="SABESP",$D$188,IF(F38="CDHU",$D$189,"-"))))) -> 46023 | H38: =SUMIF('5.A'!$B$7:$B$4222,B38,'5.A'!$L$7:$L$4222) -> 0.02436 | I38: =IF(H38=0,"no","si") -> si
A39: 91693 | B39: SERRA CIRCULAR DE BANCADA COM MOTOR ELÉTRICO POTÊNCIA DE 5HP, COM COIFA PARA DISCO 10" - CHI DIURNO | D39: CHI | E39: 0 | F39: SINAPI | G39: =IF(F39="SINAPI",$D$186,IF(F39="SICRO",$D$185,IF(F39="SIURB",$D$187,IF(F39="SABESP",$D$188,IF(F39="CDHU",$D$189,"-"))))) -> 46023 | H39: =SUMIF('5.A'!$B$7:$B$4222,B39,'5.A'!$L$7:$L$4222) -> 0.1044 | I39: =IF(H39=0,"no","si") -> si
A41: 3.0 | B41: MATERIAIS | D41: UNID | E41: VALOR | F41: FONTE | G41: DATA
A42: =COTAÇÕES!$A$11 -> TRA.001 | B42: =VLOOKUP(A42,COTAÇÕES!$A$7:$P$21,2,FALSE) -> TRANSFORMADOR DE CORRENTE, EM TERMOPLÁSTICO, TIPO JANELA, VMAX=600VCA, RELAÇÃO DE 300/5A | D42: =VLOOKUP(A42,COTAÇÕES!$A$7:$P$21,3,FALSE) -> M | E42: 0 | F42: COTAÇÃO | G42: =IF(F42="SINAPI",$D$186,IF(F42="SICRO",$D$185,IF(F42="SIURB",$D$187,IF(F42="SABESP",$D$188,IF(F42="CDHU",$D$189,"-"))))) -> - | H42: =SUMIF('5.A'!$B$7:$B$4222,B42,'5.A'!$L$7:$L$4222) -> 3 | I42: =IF(H42=0,"no","si") -> si | AM42: CONCRETO USINADO 150 KG CIMENTO/M3
A43: =COTAÇÕES!$A$12 -> TRA.002 | B43: =VLOOKUP(A43,COTAÇÕES!$A$7:$P$21,2,FALSE) -> TRANSFORMADOR DE CORRENTE, EM TERMOPLÁSTICO, TIPO JANELA, VMAX=600VCA, RELAÇÃO DE 600/5A | D43: =VLOOKUP(A43,COTAÇÕES!$A$7:$P$21,3,FALSE) -> M | E43: 0 | F43: COTAÇÃO | G43: =IF(F43="SINAPI",$D$186,IF(F43="SICRO",$D$185,IF(F43="SIURB",$D$187,IF(F43="SABESP",$D$188,IF(F43="CDHU",$D$189,"-"))))) -> - | H43: =SUMIF('5.A'!$B$7:$B$4222,B43,'5.A'!$L$7:$L$4222) -> 3 | I43: =IF(H43=0,"no","si") -> si | AM43: CONCRETO USINADO 150 KG CIMENTO/M3
A44: =COTAÇÕES!$A$14 -> CHAVE.001 | B44: =VLOOKUP(A44,COTAÇÕES!$A$7:$P$21,2,FALSE) -> CHAVE DE AFERIÇÃO, DE SOBREPOR, VN= 600V, IN=20A, 10 POLOS | D44: =VLOOKUP(A44,COTAÇÕES!$A$7:$P$21,3,FALSE) -> CJ | E44: 0 | F44: COTAÇÃO | G44: =IF(F44="SINAPI",$D$186,IF(F44="SICRO",$D$185,IF(F44="SIURB",$D$187,IF(F44="SABESP",$D$188,IF(F44="CDHU",$D$189,"-"))))) -> - | H44: =SUMIF('5.A'!$B$7:$B$4222,B44,'5.A'!$L$7:$L$4222) -> 2 | I44: =IF(H44=0,"no","si") -> si | AM44: CONCRETO USINADO 150 KG CIMENTO/M3
A45: =COTAÇÕES!$A$16 -> DIS.001 | B45: =VLOOKUP(A45,COTAÇÕES!$A$7:$P$21,2,FALSE) -> CONTROLADOR AUTOMÁTICO DE FATOR DE POTÊNCIA, 06 ESTÁGIOS, MEDIÇÃO TRIFÁSICA, LIGAÇÃO PARA ATÉ 3 TCS, FIXAÇÃO DE EMBUTIR, TENSÃO DE ALIMENTAÇÃO 90-270VCA | D45: =VLOOKUP(A45,COTAÇÕES!$A$7:$P$21,3,FALSE) -> UN | E45: 0 | F45: COTAÇÃO | G45: =IF(F45="SINAPI",$D$186,IF(F45="SICRO",$D$185,IF(F45="SIURB",$D$187,IF(F45="SABESP",$D$188,IF(F45="CDHU",$D$189,"-"))))) -> - | H45: =SUMIF('5.A'!$B$7:$B$4222,B45,'5.A'!$L$7:$L$4222) -> 1 | I45: =IF(H45=0,"no","si") -> si | AM45: CONCRETO USINADO 150 KG CIMENTO/M3
A46: =COTAÇÕES!$A$17 -> DIS.002 | B46: =VLOOKUP(A46,COTAÇÕES!$A$7:$P$21,2,FALSE) -> CONTATOR PARA MANOBRA DE CAPACITOR PARA CORREÇÃO DO FATOR DE POTÊNCIA, COM RESITORES DE PRÉ CARGA, CONTATO AUXILAR 1NA, IN=16A, VN=220VAC, VCOMANDO=220VAC, F=60HZ | D46: =VLOOKUP(A46,COTAÇÕES!$A$7:$P$21,3,FALSE) -> UN | E46: 0 | F46: COTAÇÃO | G46: =IF(F46="SINAPI",$D$186,IF(F46="SICRO",$D$185,IF(F46="SIURB",$D$187,IF(F46="SABESP",$D$188,IF(F46="CDHU",$D$189,"-"))))) -> - | H46: =SUMIF('5.A'!$B$7:$B$4222,B46,'5.A'!$L$7:$L$4222) -> 6 | I46: =IF(H46=0,"no","si") -> si | AM46: CONCRETO USINADO 150 KG CIMENTO/M3
A47: =COTAÇÕES!$A$18 -> DIS.003 | B47: =VLOOKUP(A47,COTAÇÕES!$A$7:$P$21,2,FALSE) -> UNIDADE CAPACITIVA TRIFÁSICA, COM CAPA PROTETORA IP-50, COM RESISTOR INTERNO E PARAFUSO DE FIXAÇÃO E ATERRAMENTO, POTÊNCIA REATIVA DE 5,0 KVAR, VN=220VAC, F=60HZ | D47: =VLOOKUP(A47,COTAÇÕES!$A$7:$P$21,3,FALSE) -> UN | E47: 0 | F47: COTAÇÃO | G47: =IF(F47="SINAPI",$D$186,IF(F47="SICRO",$D$185,IF(F47="SIURB",$D$187,IF(F47="SABESP",$D$188,IF(F47="CDHU",$D$189,"-"))))) -> - | H47: =SUMIF('5.A'!$B$7:$B$4222,B47,'5.A'!$L$7:$L$4222) -> 5 | I47: =IF(H47=0,"no","si") -> si | AM47: CONCRETO USINADO 150 KG CIMENTO/M3
A48: =COTAÇÕES!$A$19 -> DIS.004 | B48: =VLOOKUP(A48,COTAÇÕES!$A$7:$P$21,2,FALSE) -> CONTATOR PARA MANOBRA DE CAPACITOR PARA CORREÇÃO DO FATOR DE POTÊNCIA, COM RESITORES DE PRÉ CARGA, CONTATO AUXILAR 1NA, IN=30A, VN=220VAC, VCOMANDO=220VAC, F=60HZ | D48: =VLOOKUP(A48,COTAÇÕES!$A$7:$P$21,3,FALSE) -> UN | E48: 0 | F48: COTAÇÃO | G48: =IF(F48="SINAPI",$D$186,IF(F48="SICRO",$D$185,IF(F48="SIURB",$D$187,IF(F48="SABESP",$D$188,IF(F48="CDHU",$D$189,"-"))))) -> - | H48: =SUMIF('5.A'!$B$7:$B$4222,B48,'5.A'!$L$7:$L$4222) -> 6 | I48: =IF(H48=0,"no","si") -> si | AM48: CONCRETO USINADO 150 KG CIMENTO/M3
...

Sheet 7.A
A1: ='3.A'!$A$1 -> TIMBRE DO LICITANTE
A3: ANEXO 7.A - BDI - LICITANTE
A5: ='3.A'!A8 -> REFORMA DE 3 ENTRADAS DE ENERGIA EM 3 POÇOS TUBULARES DO AQUÍFERO BAURU (PTB) NO MUNÍCIPIO DE SÃO JOSÉ DO RIO PRETO
A7: COMPOSIÇÃO DAS TAXAS DE BDI
A9: AC | B9: ADMINISTRAÇÃO CENTRAL | E9: 0
A11: SG | B11: SEGURO E GARANTIA | E11: 0
A13: R | B13: RISCOS | E13: 0
A15: DF | B15: DESPESAS FINANCEIRAS | E15: 0
A17: L | B17: LUCRO | E17: 0
A19: CP | B19: TRIBUTOS - COFINS E PIS | E19: =ROUND(SUM(E20:E21),5) -> 0
B20: PIS | E20: 0
B21: COFINS | E21: 0
A23: ISS | B23: TRIBUTOS - ISS | E23: =ROUND(SUM(E24:E24),5) -> 0
B24: ISS – IMPOSTO SOBRE SERVIÇOS | E24: 0
A26: CPRB | B26: TRIBUTOS - CONTRIBUIÇÃO PREVIDENCIÁRIA SOBRE A RENDA BRUTA | E26: =ROUND(SUM(E27:E27),5) -> 0
B27: DESONERAÇÃO - 0% OU 4,5% | E27: 0
B29: TOTAL | E29: =ROUND((((1+($E$9+$E$11+$E$13))*(1+$E$15)*(1+$E$17))/(1-$E$19-$E$23-$E$26))-1,4) -> 0
A34: Caso a Licitante se enquadre na Lei Nº 12.244/2013 e apresente Proposta com Desoneração, preencher com a alíquota correspondente.
A36: OBS.2 - Conforme Lei Complementar nº 178 de 29 de dezembro de 2003 e alterações, que dispõe sobre a instituição do imposto sobre serviços de qualquer natureza – ISSQN no Município de São José do Rio Preto/SP, o ISS para o objeto deste Processo Licitatório [Sub-item 7.02.00 - Execução, por administração, empreitada ou subempreitada, de obras de construção civil, hidráulica ou elétrica e de outras obras semelhantes, inclusive sondagem, perfuração de poços, escavação, drenagem e irrigação, terraplanagem, pavimentação, concretagem e a instalação e montagem de produtos, peças e equipamentos (exceto o fornecimento de mercadorias produzidas pelo prestador de serviços fora do local da prestação dos serviços, que fica sujeito ao ICMS)] será de 5% sobre o Valor Total da Obra, adotada na elaboração do BDI médio, inclusive para o BDI de Fornecimento de Materiais.
E48: =ROUND((((1+($E$9+$E$11+$E$13))*(1+$E$15)*(1+$E$17))/(1-$E$19-$E$23-$E$26))-1,4) -> 0
A50: Caso a Licitante se enquadre na Lei Nº 12.244/2013 e apresente Proposta com Desoneração, preencher com a alíquota correspondente.
A53: Conforme Lei Complementar nº 178 de 29 de dezembro de 2003 e alterações, que dispõe sobre a instituição do imposto sobre serviços de qualquer natureza – ISSQN no Município de São José do Rio Preto/SP, Art. 31 Inciso I, o ISS para o objeto deste Processo Licitatório será de 5% conforme Código de Serviço 07.18.00 - Limpeza e dragagem de rios, portos, canais, baías, lagos, lagoas, represas, açudes e congêneres.

Sheet 8.A
A1: ='3.A'!$A$1 -> TIMBRE DO LICITANTE
A7: ANEXO 8.A - ENCARGOS SOCIAIS E TRABALHISTAS - LICITANTE
A9: ='3.A'!$A$8 -> REFORMA DE 3 ENTRADAS DE ENERGIA EM 3 POÇOS TUBULARES DO AQUÍFERO BAURU (PTB) NO MUNÍCIPIO DE SÃO JOSÉ DO RIO PRETO
A10: GRUPO | B10: DESCRIÇÃO | C10: JORNADA NORMAL
C12: HORISTA
A13: A | B13: A1 – PREVIDÊNCIA SOCIAL (INSS) | C13: 0
B14: A2 – SERVIÇO SOCIAL DA INDÚSTRIA (SESI) | C14: 0
B15: A3 – SERVIÇO NACIONAL DE APRENDIZAGEM INDUSTRIAL (SENAI) | C15: 0
B16: A4 – INSTITUTO NACIONAL DE COLONIZAÇÃO E REFORMA AGRÁRIA (INCRA) | C16: 0
B17: A5 – SERVIÇO DE APOIO A PEQUENA E MÉDIA EMPRESA (SEBRAE) | C17: 0
B18: A6 – SALÁRIO EDUCAÇÃO | C18: 0
B19: A7 – SEGURO CONTRA ACIDENTES DE TRABALHO | C19: 0
B20: A8 – FUNDO DE GARANTIA POR TEMPO DE SERVIÇO (FGTS) | C20: 0
B21: A9 – SECONCI ( APLICÁVEL AS EMPRESAS CONSTANTES DO III GRUPO DA CLT) | C21: 0
B22: A – TOTAL DOS ENCARGOS SOCIAIS BÁSICOS | C22: =ROUND(SUM(C13:C21),4) -> 0
A23: B | B23: B1 – REPOUSO SEMANAL REMUNERADO | C23: 0
B24: B2 – FERIADOS | C24: 0
B25: B3 – AUXÍLIO - ENFERMIDADE | C25: 0
B26: B4 – 13º SALÁRIO | C26: 0
B27: B5 – LICENÇA PATERNIDADE | C27: 0
B28: B6 – FALTAS JUSTIFICADAS | C28: 0
B29: B7 – DIAS DE CHUVA | C29: 0
B30: B8 – AUXÍLIO ACIDENTE DE TRABALHO | C30: 0
B31: B9 – FÉRIAS GOZADAS | C31: 0
B32: B10 – SALÁRIO MATERNIDADE | C32: 0
