Workbook

Sheet PLANILHA ORÇAMENTÁRIA
A1: Planilha de Orçamento GLOBAL
A2: EMPRESA: | G2: Data: | H2: 46113
A3: CNPJ:
A4: ENDEREÇO:
A5: TELEFONE:
A6: RESPONSÁVEL TÉCNICO:
C7: BDI: | D7: 0 | E7: Encargos Sociais: | G7: 0
A8: Obra: REFORMA BLOCO 01 E SANITÁRIO - DANOS TEMPORAL GRANIZO | C8: Endereço: | D8: RUA JOSÉ BISOGNIN, 250
A9: Cliente: UERGS - UNIDADE ERECHIM | C9: Cidade: | D9: ERECHIM-RS
A10: Item/Descrição | B10: Qtd. | C10: Un | D10: Preço Unitário Material (c/ BDI) | E10: Preço Unitário Mão-de-Obra (c/ BDI e ES) | F10: Preço Total Material | G10: Preço Total Mão-de-Obra | H10: Total
A11: 1. SERVIÇOS INICIAIS
A12: ADMINISTRAÇÃO E ACOMPANHAMENTO DO SERVIÇO (3%) | B12: 3 | C12: MS | D12: 0 | E12: 0 | F12: =B12*D12 -> 0 | G12: =B12*E12 -> 0 | H12: =F12+G12 -> 0
A14: MOBILIZAÇÃO E DESMOBILIZAÇÃO DE OBRA (0,50%) | B14: 1 | C14: VB | D14: 0 | E14: 0 | F14: =B14*D14 -> 0 | G14: =B14*E14 -> 0 | H14: =F14+G14 -> 0
A16: Total de SERVIÇOS INICIAIS | F16: =SUM(F12:F15) -> 0 | G16: =SUM(G12:G15) -> 0 | H16: =SUM(H12:H15) -> 0
A17: 2. DEMOLIÇÕES, REMOÇÕES E RETIRADAS
A18: UERGS_036 MOBILIZACAO RETIRADA/RECOLOCACAO MOVEIS/EQUIP. - EQUIPE 2HOMENS/8HORAS | B18: 8 | C18: D | D18: 0 | E18: 0 | F18: =B18*D18 -> 0 | G18: =B18*E18 -> 0 | H18: =F18+G18 -> 0
A20: 22134 DEMOLICAO DE PISO COM TACOS DE MADEIRA (PARQUET) | B20: 147.7 | C20: M2 | D20: 0 | E20: 0 | F20: =B20*D20 -> 0 | G20: =B20*E20 -> 0 | H20: =F20+G20 -> 0
A22: 97640 REMOÇÃO DE FORROS DE DRYWALL, PVC E FIBROMINERAL, DE FORMA MANUAL, SEM REAP ROVEITAMENTO. AF_09/2023 | B22: 219 | C22: M2 | D22: 0 | E22: 0 | F22: =B22*D22 -> 0 | G22: =B22*E22 -> 0 | H22: =F22+G22 -> 0
A24: 22164 RETIRADA DE ESQUADRIAS | B24: 10 | C24: M2 | D24: 0 | E24: 0 | F24: =B24*D24 -> 0 | G24: =B24*E24 -> 0 | H24: =F24+G24 -> 0
A26: 22197 DESMONTAGEM DE DIVISORIAS LEVES | B26: 92.9 | C26: M2 | D26: 0 | E26: 0 | F26: =B6*D26 -> 0 | G26: =B26*E26 -> 0 | H26: =F26+G26 -> 0
A28: 22194 RETIRADA DE APARELHOS DE APARELHOS SANITÁRIOS E PIAS | B28: 1 | C28: UN | D28: 0 | E28: 0 | F28: =B28*D28 -> 0 | G28: =B28*E28 -> 0 | H28: =F28+G28 -> 0
A30: UERGS_041 RETIRADA DE PONTO ELÉTRICO INCL. TUBULAÇÃO | B30: 124 | C30: UN | D30: 0 | E30: 0 | F30: =B30*D30 -> 0 | G30: =B30*E30 -> 0 | H30: =F30+G30 -> 0
A32: UERGS_172 RETIRADA DE PTO ELETRICO DE ILUMINAÇÃO | B32: 27 | C32: PT | D32: 0 | E32: 0 | F32: =B32*D32 -> 0 | G32: =B32*E32 -> 0 | H32: =F32+G32 -> 0
A34: Total de DEMOLIÇÕES, REMOÇÕES E RETIRADAS | F34: =SUM(F18:F33) -> 0 | G34: =SUM(G18:G33) -> 0 | H34: =SUM(H18:H33) -> 0
A35: 3. REVESTIMENTO E PINTURA
A36: A101092 MASSA UNICA 20MM-ARGAMASSA REGULAR CA-AR 1:5+20%CI (REGULARIZAÇÃO DE SUPERFÍCIE) | B36: 73.35 | C36: M2 | D36: 0 | E36: 0 | F36: =B36*D36 -> 0 | G36: =B36*E36 -> 0 | H36: =F36+G36 -> 0
A38: 141256 PINTURA ACRILICA SOBRE REBOCO-2 DEMAOS | B38: 244.5 | C38: M2 | D38: 0 | E38: 0 | F38: =B38*D38 -> 0 | G38: =B38*E38 -> 0 | H38: =F38+G38 -> 0
A40: 81510 CHAPISCO IMPERMEAVEL CI-AR 1:2 ESP7MM(PEGA NORMAL) | B40: 97 | C40: M2 | D40: 0 | E40: 0 | F40: =B40*D40 -> 0 | G40: =B40*E40 -> 0 | H40: =F40+G40 -> 0
A42: 81520 EMBOCO IMPERMEAVEL CI-AR 1:2 ESP15MM (PEGA NORMAL) | B42: 97 | C42: M2 | D42: 0 | E42: 0 | F42: =B42*D42 -> 0 | G42: =B42*E42 -> 0 | H42: =F42+G42 -> 0
A44: 87275 REVESTIMENTO CERÂMICO PARA PAREDES INTERNAS COM PLACAS TIPO ESMALTADA DE DI MENSÕES 33X45 CM APLICADAS A MEIA ALTURA DAS PAREDES. AF_02/2023_PE | B44: 97 | C44: M2 | D44: 0 | E44: 0 | F44: =B44*D44 -> 0 | G44: =B44*E44 -> 0 | H44: =F44+G44 -> 0
A46: Total de REVESTIMENTO E PINTURA | F46: =SUM(F36:F45) -> 0 | G46: =SUM(G36:G45) -> 0 | H46: =SUM(H36:H45) -> 0
A47: 4. PISOS
A48: 605025 ARGAMASSA CI-AR.MEDIA 1:3 E=3CM | B48: 147.7 | C48: M2 | D48: 0 | E48: 0 | F48: =B48*D48 -> 0 | G48: =B48*E48 -> 0 | H48: =F48+G48 -> 0
A50: 87263 REVESTIMENTO CERÂMICO PARA PISO COM PLACAS TIPO PORCELANATO DE DIMENSÕES 60 X60 CM APLICADA EM AMBIENTES DE ÁREA MAIOR QUE 10 M². AF_02/2023_PE | B50: 170 | C50: M2 | D50: 0 | E50: 0 | F50: =B50*D50 -> 0 | G50: =B50*E50 -> 0 | H50: =F50+G50 -> 0
A52: 94521 RODAPE CERAMICO 7,5X16-ARG.CI-AR 1:4-1CM | B52: 124 | C52: M | D52: 0 | E52: 0 | F52: =B52*D52 -> 0 | G52: =B52*E52 -> 0 | H52: =F52+G52 -> 0
A54: Total de PISOS | F54: =SUM(F48:F53) -> 0 | G54: =SUM(G48:G53) -> 0 | H54: =SUM(H48:H53) -> 0
A55: 5. FORROS
A56: 73659 REFORÇO/REVISÃO DO RIPAMENTO EXISTENTE - P/ FIXAÇÃO DE FORRO | B56: 219 | C56: M2 | D56: 0 | E56: 0 | F56: =B56*D56 -> 0 | G56: =B56*E56 -> 0 | H56: =F56+G56 -> 0
A58: 96486 FORRO EM RÉGUAS DE PVC, LISO, PARA AMBIENTES COMERCIAIS, INCLUSIVE ESTRUTUR A BIDIRECIONAL DE FIXAÇÃO. AF_08/2023_PS | B58: 219 | C58: M2 | D58: 0 | E58: 0 | F58: =B58*D58 -> 0 | G58: =B58*E58 -> 0 | H58: =F58+G58 -> 0
A60: 96121 ACABAMENTOS PARA FORRO (RODA-FORRO EM PERFIL METÁLICO E PLÁSTICO). AF_08/20 23 | B60: 130.2 | C60: M | D60: 0 | E60: 0 | F60: =B60*D60 -> 0 | G60: =B60*E60 -> 0 | H60: =F60+G60 -> 0
A62: Total de FORROS | F62: =SUM(F56:F61) -> 0 | G62: =SUM(G56:G61) -> 0 | H62: =SUM(H56:H61) -> 0
A63: 6. PAREDES E DIVISÓRIAS
A64: 64320 PN1- PAINEL CEGO - COLOCADA | B64: 25.9 | C64: M2 | D64: 0 | E64: 0 | F64: =B64*D64 -> 0 | G64: =B64*E64 -> 0 | H64: =F64+G64 -> 0
A66: 64325 PN2- PAINEL + VIDRO LISO TRANSPARENTE-COLOCADA | B66: 23.5 | C66: M2 | D66: 0 | E66: 0 | F66: =B66*D66 -> 0 | G66: =B66*E66 -> 0 | H66: =F66+G66 -> 0
A68: Total de PAREDES E DIVISÓRIAS | F68: =SUM(F64:F67) -> 0 | G68: =SUM(G64:G67) -> 0 | H68: =SUM(H64:H67) -> 0
A69: 7. ESQUADRIAS
A70: 113015 PORTA DE ABRIR-ALUMINIO | B70: 7.56 | C70: M2 | D70: 0 | E70: 0 | F70: =B70*D70 -> 0 | G70: =B70*E70 -> 0 | H70: =F70+G70 -> 0
A72: 64405 PORTA DIVISORIA DIVILUX COMPLETA C/FERRAGEM | B72: 5 | C72: CJ | D72: 0 | E72: 0 | F72: =B72*D72 -> 0 | G72: =B72*E72 -> 0 | H72: =F72+G72 -> 0
A74: 131104 VIDRO TRANSPARENTE 6MM COLOCADO - VISOR PORTA | B74: 1.44 | C74: M2 | D74: 0 | E74: 0 | F74: =B74*D74 -> 0 | G74: =B74*E74 -> 0 | H74: =F74+G74 -> 0
A76: Total de ESQUADRIAS | F76: =SUM(F70:F75) -> 0 | G76: =SUM(G70:G75) -> 0 | H76: =SUM(H70:H75) -> 0
A77: 8. INSTALAÇÕES HIDROSSANITÁRIAS - ÁGUA FRIA
A78: 161900 RASGO EM ALVENARIA P/CANALIZACOES C/ENCHIMENTO | B78: 72 | C78: M | D78: 0 | E78: 0 | F78: =B78*D78 -> 0 | G78: =B78*E78 -> 0 | H78: =F78+G78 -> 0
A80: 161205 TUBO PVC RIGIDO SOLDAVEL 25MM | B80: 9 | C80: M | D80: 0 | E80: 0 | F80: =B80*D80 -> 0 | G80: =B80*E80 -> 0 | H80: =F80+G80 -> 0
A82: 161207 JOELHO 90 PVC RIGIDO SOLDAVEL 25MM | B82: 3 | C82: UN | D82: 0 | E82: 0 | F82: =B82*D82 -> 0 | G82: =B82*E82 -> 0 | H82: =F82+G82 -> 0
A84: UERGS_082 JOELHO 90 PVC ROSCA BUCHA LATÃO 25MM | B84: 2 | C84: UN | D84: 0 | E84: 0 | F84: =B84*D84 -> 0 | G84: =B84*E84 -> 0 | H84: =F84+G84 -> 0
A86: 94657 LUVA PVC, SOLDÁVEL, DN 25 MM, INSTALADO EM RESERVAÇÃO PREDIAL DE ÁGUA - FOR NECIMENTO E INSTALAÇÃO. AF_04/2024 | B86: 4 | C86: UN | D86: 0 | E86: 0 | F86: =B86*D86 -> 0 | G86: =B86*E86 -> 0 | H86: =F86+G86 -> 0
A88: 161206 TE 90 PVC RIGIDO SOLDAVEL 25MM | B88: 3 | C88: UN | D88: 0 | E88: 0 | F88: =B88*D88 -> 0 | G88: =B88*E88 -> 0 | H88: =F88+G88 -> 0
A90: 100858 MICTÓRIO SIFONADO COM VÁLVULA DE DESCARGA EM LOUÇA BRANCA - PADRÃO MÉDIO - FORNECIMENTO E INSTALAÇÃO. AF_02/2026 | B90: 2 | C90: UN | D90: 0 | E90: 0 | F90: =B90*D90 -> 0 | G90: =B90*E90 -> 0 | H90: =F90+G90 -> 0
A92: 106781 BANCADA DE GRANITO CINZA POLIDO, DE 2,30 X 0,55 M, PARA LAVATÓRIO - FORNECI MENTO E INSTALAÇÃO. AF_02/2026 INCLUSO MÃOS FRANCESAS PARA FIXAÇÃO | B92: 1 | C92: UN | D92: 0 | E92: 0 | F92: =B92*D92 -> 0 | G92: =B92*E92 -> 0 | H92: =F92+G92 -> 0
A94: 100852 CUBA DE EMBUTIR RETANGULAR DE AÇO INOXIDÁVEL, 56 X 33 X 12 CM - FORNECIMENT O E INSTALAÇÃO. AF_02/2026 | B94: 1 | C94: UN | D94: 0 | E94: 0 | F94: =B94*D94 -> 0 | G94: =B94*E94 -> 0 | H94: =F94+G94 -> 0
A96: 86909 TORNEIRA CROMADA TUBO MÓVEL, DE MESA, 1/2" OU 3/4", PARA PIA DE COZINHA, PA DRÃO ALTO - FORNECIMENTO E INSTALAÇÃO. AF_02/2026 | B96: 1 | C96: UN | D96: 0 | E96: 0 | F96: =B96*D96 -> 0 | G96: =B96*E96 -> 0 | H96: =F96+G96 -> 0
A98: Total de INSTALAÇÕES HIDROSSANITÁRIAS - ÁGUA FRIA | F98: =SUM(F78:F97) -> 0 | G98: =SUM(G78:G97) -> 0 | H98: =SUM(H78:H97) -> 0
A99: 9. INSTALAÇÕES HIDROSSANITÁRIAS - ESGOTO
A100: 164210 TUBO PVC RIGIDO 75MM ESGOTO PRIMARIO | B100: 17 | C100: M | D100: 0 | E100: 0 | F100: =B100*D100 -> 0 | G100: =B100*E100 -> 0 | H100: =F100+G100 -> 0
A102: 164200 TUBO PVC RIGIDO SOLDAVEL 40MM ESGOTO SECUNDARIO | B102: 4 | C102: M | D102: 0 | E102: 0 | F102: =B102*D102 -> 0 | G102: =B102*E102 -> 0 | H102: =F102+G102 -> 0
A104: 89726 JOELHO 45 GRAUS, PVC, SERIE NORMAL, ESGOTO PREDIAL, DN 40 MM, JUNTA SOLDÁVE L, FORNECIDO E INSTALADO EM RAMAL DE DESCARGA OU RAMAL DE ESGOTO SANITÁRIO. AF_12/2014 | B104: 2 | C104: UN | D104: 0 | E104: 0 | F104: =B104*D104 -> 0 | G104: =B104*E104 -> 0 | H104: =F104+G104 -> 0
A106: 89806 JOELHO 45 GRAUS, PVC, SERIE NORMAL, ESGOTO PREDIAL, DN 75 MM, JUNTA ELÁSTIC A, FORNECIDO E INSTALADO EM PRUMADA DE ESGOTO SANITÁRIO OU VENTILAÇÃO. AF_08/2022 | B106: 1 | C106: UN | D106: 0 | E106: 0 | F106: =B106*D106 -> 0 | G106: =B106*E106 -> 0 | H106: =F106+G106 -> 0
A108: 89707 CAIXA SIFONADA, PVC, DN 75 X 75 X 50 MM, JUNTA ELÁSTICA, FORNECIDA E INSTAL ADA EM RAMAL DE DESCARGA OU EM RAMAL DE ESGOTO SANITÁRIO. AF_08/2022 | B108: 1 | C108: UN | D108: 0 | E108: 0 | F108: =B108*D108 -> 0 | G108: =B108*E108 -> 0 | H108: =F108+G108 -> 0
A110: 98110 CAIXA DE GORDURA PEQUENA (CAPACIDADE: 19 L), CIRCULAR, EM PVC, DIÂMETRO INT ERNO= 0,3 M. AF_12/2020 | B110: 1 | C110: UN | D110: 0 | E110: 0 | F110: =B110*D110 -> 0 | G110: =B110*E110 -> 0 | H110: =F110+G110 -> 0
A112: UERGS_271s CAIXA DE INSPEÇÃO CONCRETO PREMOLDADO 40x40x50cm C/ TAMPA | B112: 2 | C112: UN | D112: 0 | E112: 0 | F112: =B112*D112 -> 0 | G112: =B112*E112 -> 0 | H112: =F112+G112 -> 0
A114: 522152 REMOCAO DE PAVIMENTACAO BLOCOS PRE-MOLD. (DMT=5KM) | B114: 4 | C114: M2 | D114: 0 | E114: 0 | F114: =B114*D114 -> 0 | G114: =B114*E114 -> 0 | H114: =F114+G114 -> 0
A116: 31121 ESCAVACAO MANUAL DE SOLO DE 1A. ATE 1,50M | B116: 4 | C116: M3 | D116: 0 | E116: 0 | F116: =B116*D116 -> 0 | G116: =B116*E116 -> 0 | H116: =F116+G116 -> 0
A118: 92402 EXECUÇÃO DE PASSEIO EM PISO INTERTRAVADO, COM BLOCO 16 FACES DE 22 X 11 CM, ESPESSURA 6 CM. AF_10/2022 | B118: 4 | C118: M2 | D118: 0 | E118: 0 | F118: =B118*D118 -> 0 | G118: =B118*E118 -> 0 | H118: =F118+G118 -> 0
A120: Total de INSTALAÇÕES HIDROSSANITÁRIAS - ESGOTO | F120: =SUM(F100:F119) -> 0 | G120: =SUM(G100:G119) -> 0 | H120: =SUM(H100:H119) -> 0
A121: 10. INSTALAÇÕES ELÉTRICAS
A122: 101879 QUADRO DE DISTRIBUIÇÃO DE ENERGIA EM CHAPA DE AÇO GALVANIZADO, DE EMBUTIR, COM BARRAMENTO TRIFÁSICO, PARA 24 DISJUNTORES DIN 100A - FORNECIMENTO E INSTALAÇÃO. AF_07/ 2025 | B122: 1 | C122: UN | D122: 0 | E122: 0 | F122: =B122*D122 -> 0 | G122: =B122*E122 -> 0 | H122: =F122+G122 -> 0
A124: 98111 CAIXA DE INSPEÇÃO PARA ATERRAMENTO, CIRCULAR, EM POLIETILENO, DIÂMETRO INTE RNO = 0,3 M. AF_12/2020 | B124: 1 | C124: UN | D124: 0 | E124: 0 | F124: =B124*D124 -> 0 | G124: =B124*E124 -> 0 | H124: =F124+G124 -> 0
A126: 96986 HASTE DE ATERRAMENTO, DIÂMETRO 3/4", COM 3 METROS - FORNECIMENTO E INSTALAÇ ÃO. AF_08/2023 | B126: 1 | C126: UN | D126: 0 | E126: 0 | F126: =B126*D126 -> 0 | G126: =B126*E126 -> 0 | H126: =F126+G126 -> 0
A128: 177060 ELETROCALHA PERFURADA, ZINCADA 100X70MM COM TAMPA | B128: 43 | C128: M | D128: 0 | E128: 0 | F128: =B128*D128 -> 0 | G128: =B128*E128 -> 0 | H128: =F128+G128 -> 0
A130: 177070 JUNÇÃO ELETROCALHA PERFURADA | B130: 15 | C130: UN | D130: 0 | E130: 0 | F130: =B130*D130 -> 0 | G130: =B130*E130 -> 0 | H130: =F130+G130 -> 0
A132: 95818 CONDULETE DE PVC, TIPO X, PARA ELETRODUTO DE PVC SOLDÁVEL DN 32 MM (1''), A PARENTE - FORNECIMENTO E INSTALAÇÃO. AF_01/2026 | B132: 12 | C132: UN | D132: 0 | E132: 0 | F132: =B132*D132 -> 0 | G132: =B132*E132 -> 0 | H132: =F132+G132 -> 0
A134: 177082 CURVA ELETROCALHA PERF.HORIZONTAL 90 -100X70MM | B134: 3 | C134: UN | D134: 0 | E134: 0 | F134: =B134*D134 -> 0 | G134: =B134*E134 -> 0 | H134: =F134+G134 -> 0
A136: 177095 TE ELETROCALHA PERF. HORIZONTAL 100X70MM | B136: 4 | C136: UN | D136: 0 | E136: 0 | F136: =B136*D136 -> 0 | G136: =B136*E136 -> 0 | H136: =F136+G136 -> 0
A138: UERGS_054 SUPORTE PARA ELETROCALHA 100 A 200MM | B138: 27 | C138: UN | D138: 0 | E138: 0 | F138: =B138*D138 -> 0 | G138: =B138*E138 -> 0 | H138: =F138+G138 -> 0
A140: 171060 ELETRODUTO PVC RIGIDO ROSCAVEL 1" (25MM) - BRANCO | B140: 278 | C140: M | D140: 0 | E140: 0 | F140: =B140*D140 -> 0 | G140: =B140*E140 -> 0 | H140: =F140+G140 -> 0
A142: 171061 CURVA 90 ELETRODUTO PVC RIGIDO ROSCAVEL 1" (25MM) - BRANCO | B142: 7 | C142: UN | D142: 0 | E142: 0 | F142: =B142*D142 -> 0 | G142: =B142*E142 -> 0 | H142: =F142+G142 -> 0
A144: 95817 CONDULETE DE PVC, TIPO X, PARA ELETRODUTO DE PVC SOLDÁVEL DN 25 MM (3/4"), APARENTE - FORNECIMENTO E INSTALAÇÃO. AF_01/2026 | B144: 207 | C144: UN | D144: 0 | E144: 0 | F144: =B144*D144 -> 0 | G144: =B144*E144 -> 0 | H144: =F144+G144 -> 0
... A194: UERGS_142 TAMPA CEGA EM PVC P/ CONDULETE 4 X 2" | B194: 65 | C194: UN | D194: 0 | E194: 0 | F194: =B194*D194 -> 0 | G194: =B194*E194 -> 0 | H194: =F194+G194 -> 0
A196: Total de INSTALAÇÕES ELÉTRICAS | F196: =SUM(F122:F195) -> 0 | G196: =SUM(G122:G195) -> 0 | H196: =SUM(H122:H195) -> 0
A197: 11. INSTALAÇÕES DE REDE LÓGICA
A198: 177060 ELETROCALHA PERFURADA, ZINCADA 100X70MM COM TAMPA | B198: 32 | C198: M | D198: 0 | E198: 0 | F198: =B198*D198 -> 0 | G198: =B198*E198 -> 0 | H198: =F198+G198 -> 0
A200: 177082 CURVA ELETROCALHA PERF.HORIZONTAL 90 -100X70MM | B200: 1 | C200: UN | D200: 0 | E200: 0 | F200: =B200*D200 -> 0 | G200: =B200*E200 -> 0 | H200: =F200+G200 -> 0
A202: 177095 TE ELETROCALHA PERF. HORIZONTAL 100X70MM | B202: 5 | C202: UN | D202: 0 | E202: 0 | F202: =B202*D202 -> 0 | G202: =B202*E202 -> 0 | H202: =F202+G202 -> 0
A204: 177070 JUNÇÃO ELETROCALHA PERFURADA | B204: 6 | C204: UN | D204: 0 | E204: 0 | F204: =B204*D204 -> 0 | G204: =B204*E204 -> 0 | H204: =F204+G204 -> 0
A206: UERGS_054 SUPORTE PARA ELETROCALHA 100 A 200MM | B206: 21 | C206: UN | D206: 0 | E206: 0 | F206: =B206*D206 -> 0 | G206: =B206*E206 -> 0 | H206: =F206+G206 -> 0
A208: 171060 ELETRODUTO PVC RIGIDO ROSCAVEL 1" (25MM) - BRANCO | B208: 199 | C208: M | D208: 0 | E208: 0 | F208: =B208*D208 -> 0 | G208: =B208*E208 -> 0 | H208: =F208+G208 -> 0
A210: 171065 ELETRODUTO PVC RIGIDO ROSCAVEL 1 1/4" (32MM) - BRANCO | B210: 26 | C210: M | D210: 0 | E210: 0 | F210: =B210*D210 -> 0 | G210: =B210*E210 -> 0 | H210: =F210+G210 -> 0
A212: 95817 CONDULETE DE PVC, TIPO X, PARA ELETRODUTO DE PVC SOLDÁVEL DN 25 MM (3/4"), APARENTE - FORNECIMENTO E INSTALAÇÃO. AF_01/2026 | B212: 47 | C212: UN | D212: 0 | E212: 0 | F212: =B212*D212 -> 0 | G212: =B212*E212 -> 0 | H212: =F212+G212 -> 0
A214: 95818 CONDULETE DE PVC, TIPO X, PARA ELETRODUTO DE PVC SOLDÁVEL DN 32 MM (1''), A PARENTE - FORNECIMENTO E INSTALAÇÃO. AF_11/2016 | B214: 21 | C214: UN | D214: 0 | E214: 0 | F214: =B214*D214 -> 0 | G214: =B214*E214 -> 0 | H214: =F214+G214 -> 0
A216: 171061 CURVA 90 ELETRODUTO PVC RIGIDO ROSCAVEL 1" (25MM) - BRANCO | B216: 9 | C216: UN | D216: 0 | E216: 0 | F216: =B216*D216 -> 0 | G216: =B216*E216 -> 0 | H216: =F216+G216 -> 0
...

Sheet CFF
A1: CRONOGRAMA FÍSICO FINANCEIRO
A2: EMPRESA:
A3: CNPJ:
A4: ENDEREÇO:
A5: TELEFONE:
A6: RESPONSÁVEL TÉCNICO:
A7: ='PLANILHA ORÇAMENTÁRIA'!A8 -> Obra: REFORMA BLOCO 01 E SANITÁRIO - DANOS TEMPORAL GRANIZO
A8: ='PLANILHA ORÇAMENTÁRIA'!A9 -> Cliente: UERGS - UNIDADE ERECHIM
A9: ='PLANILHA ORÇAMENTÁRIA'!C8 -> Endereço: | B9: ='PLANILHA ORÇAMENTÁRIA'!D8 -> RUA JOSÉ BISOGNIN, 250
A10: ='PLANILHA ORÇAMENTÁRIA'!C9 -> Cidade: | B10: ='PLANILHA ORÇAMENTÁRIA'!D9 -> ERECHIM-RS
A11: Item/Descrição | H11: Total | I11: % | J11: 30 dias | K11: % | L11: 60 dias | M11: % | N11: 90 dias
A12: ='PLANILHA ORÇAMENTÁRIA'!A11 -> 1. SERVIÇOS INICIAIS | H12: ='PLANILHA ORÇAMENTÁRIA'!H16 -> 0 | I12: 0.33333333 | J12: =H12*I12 -> 0 | K12: 0.33333333 | L12: =F12*K12 -> 0 | M12: 0.33333333 | N12: =H12*M12 -> 0 | O12: =I12+K12+M12 -> 1
A13: ='PLANILHA ORÇAMENTÁRIA'!A17 -> 2. DEMOLIÇÕES, REMOÇÕES E RETIRADAS | H13: ='PLANILHA ORÇAMENTÁRIA'!H34 -> 0 | I13: 1 | J13: =H13*I13 -> 0 | K13: 0 | L13: =F13*K13 -> 0 | M13: 0 | N13: =H13*M13 -> 0 | O13: =I13+K13+M13 -> 1
A14: ='PLANILHA ORÇAMENTÁRIA'!A35 -> 3. REVESTIMENTO E PINTURA | H14: ='PLANILHA ORÇAMENTÁRIA'!H46 -> 0 | I14: 0.1 | J14: =H14*I14 -> 0 | K14: 0.6 | L14: =F14*K14 -> 0 | M14: 0.3 | N14: =H14*M14 -> 0 | O14: =I14+K14+M14 -> 1
A15: ='PLANILHA ORÇAMENTÁRIA'!A47 -> 4. PISOS | H15: ='PLANILHA ORÇAMENTÁRIA'!H54 -> 0 | I15: 0.2 | J15: =H15*I15 -> 0 | K15: 0.6 | L15: =F15*K15 -> 0 | M15: 0.2 | N15: =H15*M15 -> 0 | O15: =I15+K15+M15 -> 1
A16: ='PLANILHA ORÇAMENTÁRIA'!A55 -> 5. FORROS | H16: ='PLANILHA ORÇAMENTÁRIA'!H62 -> 0 | I16: 0.3 | J16: =H16*I16 -> 0 | K16: 0.7 | L16: =F16*K16 -> 0 | M16: 0 | N16: =H16*M16 -> 0 | O16: =I16+K16+M16 -> 1
A17: ='PLANILHA ORÇAMENTÁRIA'!A63 -> 6. PAREDES E DIVISÓRIAS | H17: ='PLANILHA ORÇAMENTÁRIA'!H68 -> 0 | I17: 0 | J17: =H17*I17 -> 0 | K17: 1 | L17: =F17*K17 -> 0 | M17: 0 | N17: =H17*M17 -> 0 | O17: =I17+K17+M17 -> 1
A18: ='PLANILHA ORÇAMENTÁRIA'!A69 -> 7. ESQUADRIAS | H18: ='PLANILHA ORÇAMENTÁRIA'!H76 -> 0 | I18: 0 | J18: =H18*I18 -> 0 | K18: 1 | L18: =F18*K18 -> 0 | M18: 0 | N18: =H18*M18 -> 0 | O18: =I18+K18+M18 -> 1
A19: ='PLANILHA ORÇAMENTÁRIA'!A77 -> 8. INSTALAÇÕES HIDROSSANITÁRIAS - ÁGUA FRIA | H19: ='PLANILHA ORÇAMENTÁRIA'!H98 -> 0 | I19: 0.2 | J19: =H19*I19 -> 0 | K19: 0.4 | L19: =F19*K19 -> 0 | M19: 0.4 | N19: =H19*M19 -> 0 | O19: =I19+K19+M19 -> 1
A20: ='PLANILHA ORÇAMENTÁRIA'!A99 -> 9. INSTALAÇÕES HIDROSSANITÁRIAS - ESGOTO | H20: ='PLANILHA ORÇAMENTÁRIA'!H120 -> 0 | I20: 0 | J20: =H20*I20 -> 0 | K20: 0 | L20: =F20*K20 -> 0 | M20: 1 | N20: =H20*M20 -> 0 | O20: =I20+K20+M20 -> 1
A21: ='PLANILHA ORÇAMENTÁRIA'!A121 -> 10. INSTALAÇÕES ELÉTRICAS | H21: ='PLANILHA ORÇAMENTÁRIA'!H196 -> 0 | I21: 0 | J21: =H21*I21 -> 0 | K21: 0.5 | L21: =F21*K21 -> 0 | M21: 0.5 | N21: =H21*M21 -> 0 | O21: =I21+K21+M21 -> 1
A22: ='PLANILHA ORÇAMENTÁRIA'!A197 -> 11. INSTALAÇÕES DE REDE LÓGICA | H22: ='PLANILHA ORÇAMENTÁRIA'!H242 -> 0 | I22: 0 | J22: =H22*I22 -> 0 | K22: 0.5 | L22: =F22*K22 -> 0 | M22: 0.5 | N22: =H22*M22 -> 0 | O22: =I22+K22+M22 -> 1
A23: ='PLANILHA ORÇAMENTÁRIA'!A243 -> 12. SERVIÇOS FINAIS | H23: ='PLANILHA ORÇAMENTÁRIA'!H250 -> 0 | I23: 0.4 | J23: =H23*I23 -> 0 | K23: 0.2 | L23: =F23*K23 -> 0 | M23: 0.4 | N23: =H23*M23 -> 0 | O23: =I23+K23+M23 -> 1
A24: TOTAL | H24: =SUM(H12:H16) -> 0 | I24: =J24/$H$24 -> #DIV/0! | J24: =SUM(J12:J16) -> 0 | K24: =L24/$H$24 -> #DIV/0! | L24: =SUM(L12:L16) -> 0 | M24: =N24/$H$24 -> #DIV/0! | N24: =SUM(N12:N16) -> 0
A25: TOTAL ACUMULADO | I25: =I24 -> #DIV/0! | J25: =J24 -> 0 | K25: =G25+K24 -> #DIV/0! | L25: =H25+L24 -> 0 | M25: =I25+M24 -> #DIV/0! | N25: =J25+N24 -> 0
I27: (assinatura)
H28: Responsável Técnico da Empresa
H29: CREA N.º ou CAU Nº
H30: Nome:
