Workbook

Sheet PLANILHA ORÇAMENTÁRIA
A1: Planilha de Orçamento GLOBAL
A2: EMPRESA: | G2: Data: | H2: 46113
A3: CNPJ:
A4: ENDEREÇO:
A5: TELEFONE:
A6: RESPONSÁVEL TÉCNICO:
C7: BDI: | D7: 0 | E7: Encargos Sociais: | G7: 0
A8: Obra: REFORMA BLOCO 01 E SANITÁRIO - DANOS TEMPORAL GRANIZO | C8: Endereço: | D8: RUA JOSÉ BISOGNIN, 250
A9: Cliente: UERGS - UNIDADE ERECHIM | C9: Cidade: | D9: ERECHIM-RS
A10: Item/Descrição | B10: Qtd. | C10: Un | D10: Preço Unitário Material (c/ BDI) | E10: Preço Unitário Mão-de-Obra (c/ BDI e ES) | F10: Preço Total Material | G10: Preço Total Mão-de-Obra | H10: Total
A11: 1. SERVIÇOS INICIAIS
A12: ADMINISTRAÇÃO E ACOMPANHAMENTO DO SERVIÇO (3%) | B12: 3 | C12: MS | D12: 0 | E12: 0 | F12: =B12*D12 -> 0 | G12: =B12*E12 -> 0 | H12: =F12+G12 -> 0
A14: MOBILIZAÇÃO E DESMOBILIZAÇÃO DE OBRA (0,50%) | B14: 1 | C14: VB | D14: 0 | E14: 0 | F14: =B14*D14 -> 0 | G14: =B14*E14 -> 0 | H14: =F14+G14 -> 0
A16: Total de SERVIÇOS INICIAIS | F16: =SUM(F12:F15) -> 0 | G16: =SUM(G12:G15) -> 0 | H16: =SUM(H12:H15) -> 0
A17: 2. DEMOLIÇÕES, REMOÇÕES E RETIRADAS
A18: UERGS_036 MOBILIZACAO RETIRADA/RECOLOCACAO MOVEIS/EQUIP. - EQUIPE 2HOMENS/8HORAS | B18: 8 | C18: D | D18: 0 | E18: 0 | F18: =B18*D18 -> 0 | G18: =B18*E18 -> 0 | H18: =F18+G18 -> 0
A20: 22134 DEMOLICAO DE PISO COM TACOS DE MADEIRA (PARQUET) | B20: 147.7 | C20: M2 | D20: 0 | E20: 0 | F20: =B20*D20 -> 0 | G20: =B20*E20 -> 0 | H20: =F20+G20 -> 0
A22: 97640 REMOÇÃO DE FORROS DE DRYWALL, PVC E FIBROMINERAL, DE FORMA MANUAL, SEM REAP ROVEITAMENTO. AF_09/2023 | B22: 219 | C22: M2 | D22: 0 | E22: 0 | F22: =B22*D22 -> 0 | G22: =B22*E22 -> 0 | H22: =F22+G22 -> 0
A24: 22164 RETIRADA DE ESQUADRIAS | B24: 10 | C24: M2 | D24: 0 | E24: 0 | F24: =B24*D24 -> 0 | G24: =B24*E24 -> 0 | H24: =F24+G24 -> 0
A26: 22197 DESMONTAGEM DE DIVISORIAS LEVES | B26: 92.9 | C26: M2 | D26: 0 | E26: 0 | F26: =B6*D26 -> 0 | G26: =B26*E26 -> 0 | H26: =F26+G26 -> 0
A28: 22194 RETIRADA DE APARELHOS DE APARELHOS SANITÁRIOS E PIAS | B28: 1 | C28: UN | D28: 0 | E28: 0 | F28: =B28*D28 -> 0 | G28: =B28*E28 -> 0 | H28: =F28+G28 -> 0
A30: UERGS_041 RETIRADA DE PONTO ELÉTRICO INCL. TUBULAÇÃO | B30: 124 | C30: UN | D30: 0 | E30: 0 | F30: =B30*D30 -> 0 | G30: =B30*E30 -> 0 | H30: =F30+G30 -> 0
A32: UERGS_172 RETIRADA DE PTO ELETRICO DE ILUMINAÇÃO | B32: 27 | C32: PT | D32: 0 | E32: 0 | F32: =B32*D32 -> 0 | G32: =B32*E32 -> 0 | H32: =F32+G32 -> 0
A34: Total de DEMOLIÇÕES, REMOÇÕES E RETIRADAS | F34: =SUM(F18:F33) -> 0 | G34: =SUM(G18:G33) -> 0 | H34: =SUM(H18:H33) -> 0
A35: 3. REVESTIMENTO E PINTURA
A36: A101092 MASSA UNICA 20MM-ARGAMASSA REGULAR CA-AR 1:5+20%CI (REGULARIZAÇÃO DE SUPERFÍCIE) | B36: 73.35 | C36: M2 | D36: 0 | E36: 0 | F36: =B36*D36 -> 0 | G36: =B36*E36 -> 0 | H36: =F36+G36 -> 0
A38: 141256 PINTURA ACRILICA SOBRE REBOCO-2 DEMAOS | B38: 244.5 | C38: M2 | D38: 0 | E38: 0 | F38: =B38*D38 -> 0 | G38: =B38*E38 -> 0 | H38: =F38+G38 -> 0
A40: 81510 CHAPISCO IMPERMEAVEL CI-AR 1:2 ESP7MM(PEGA NORMAL) | B40: 97 | C40: M2 | D40: 0 | E40: 0 | F40: =B40*D40 -> 0 | G40: =B40*E40 -> 0 | H40: =F40+G40 -> 0
A42: 81520 EMBOCO IMPERMEAVEL CI-AR 1:2 ESP15MM (PEGA NORMAL) | B42: 97 | C42: M2 | D42: 0 | E42: 0 | F42: =B42*D42 -> 0 | G42: =B42*E42 -> 0 | H42: =F42+G42 -> 0
A44: 87275 REVESTIMENTO CERÂMICO PARA PAREDES INTERNAS COM PLACAS TIPO ESMALTADA DE DI MENSÕES 33X45 CM APLICADAS A MEIA ALTURA DAS PAREDES. AF_02/2023_PE | B44: 97 | C44: M2 | D44: 0 | E44: 0 | F44: =B44*D44 -> 0 | G44: =B44*E44 -> 0 | H44: =F44+G44 -> 0
A46: Total de REVESTIMENTO E PINTURA | F46: =SUM(F36:F45) -> 0 | G46: =SUM(G36:G45) -> 0 | H46: =SUM(H36:H45) -> 0
A47: 4. PISOS
A48: 605025 ARGAMASSA CI-AR.MEDIA 1:3 E=3CM | B48: 147.7 | C48: M2 | D48: 0 | E48: 0 | F48: =B48*D48 -> 0 | G48: =B48*E48 -> 0 | H48: =F48+G48 -> 0
A50: 87263 REVESTIMENTO CERÂMICO PARA PISO COM PLACAS TIPO PORCELANATO DE DIMENSÕES 60 X60 CM APLICADA EM AMBIENTES DE ÁREA MAIOR QUE 10 M². AF_02/2023_PE | B50: 170 | C50: M2 | D50: 0 | E50: 0 | F50: =B50*D50 -> 0 | G50: =B50*E50 -> 0 | H50: =F50+G50 -> 0
A52: 94521 RODAPE CERAMICO 7,5X16-ARG.CI-AR 1:4-1CM | B52: 124 | C52: M | D52: 0 | E52: 0 | F52: =B52*D52 -> 0 | G52: =B52*E52 -> 0 | H52: =F52+G52 -> 0
A54: Total de PISOS | F54: =SUM(F48:F53) -> 0 | G54: =SUM(G48:G53) -> 0 | H54: =SUM(H48:H53) -> 0
A55: 5. FORROS
A56: 73659 REFORÇO/REVISÃO DO RIPAMENTO EXISTENTE - P/ FIXAÇÃO DE FORRO | B56: 219 | C56: M2 | D56: 0 | E56: 0 | F56: =B56*D56 -> 0 | G56: =B56*E56 -> 0 | H56: =F56+G56 -> 0
A58: 96486 FORRO EM RÉGUAS DE PVC, LISO, PARA AMBIENTES COMERCIAIS, INCLUSIVE ESTRUTUR A BIDIRECIONAL DE FIXAÇÃO. AF_08/2023_PS | B58: 219 | C58: M2 | D58: 0 | E58: 0 | F58: =B58*D58 -> 0 | G58: =B58*E58 -> 0 | H58: =F58+G58 -> 0
A60: 96121 ACABAMENTOS PARA FORRO (RODA-FORRO EM PERFIL METÁLICO E PLÁSTICO). AF_08/20 23 | B60: 130.2 | C60: M | D60: 0 | E60: 0 | F60: =B60*D60 -> 0 | G60: =B60*E60 -> 0 | H60: =F60+G60 -> 0
...

Sheet CFF
A1: CRONOGRAMA FÍSICO FINANCEIRO
A2: EMPRESA:
A3: CNPJ:
A4: ENDEREÇO:
A5: TELEFONE:
A6: RESPONSÁVEL TÉCNICO:
A7: ='PLANILHA ORÇAMENTÁRIA'!A8 -> Obra: REFORMA BLOCO 01 E SANITÁRIO - DANOS TEMPORAL GRANIZO
A8: ='PLANILHA ORÇAMENTÁRIA'!A9 -> Cliente: UERGS - UNIDADE ERECHIM
A9: ='PLANILHA ORÇAMENTÁRIA'!C8 -> Endereço: | B9: ='PLANILHA ORÇAMENTÁRIA'!D8 -> RUA JOSÉ BISOGNIN, 250
A10: ='PLANILHA ORÇAMENTÁRIA'!C9 -> Cidade: | B10: ='PLANILHA ORÇAMENTÁRIA'!D9 -> ERECHIM-RS
A11: Item/Descrição | H11: Total | I11: % | J11: 30 dias | K11: % | L11: 60 dias | M11: % | N11: 90 dias
A12: ='PLANILHA ORÇAMENTÁRIA'!A11 -> 1. SERVIÇOS INICIAIS | H12: ='PLANILHA ORÇAMENTÁRIA'!H16 -> 0 | I12: 0.33333333 | J12: =H12*I12 -> 0 | K12: 0.33333333 | L12: =F12*K12 -> 0 | M12: 0.33333333 | N12: =H12*M12 -> 0 | O12: =I12+K12+M12 -> 1
A13: ='PLANILHA ORÇAMENTÁRIA'!A17 -> 2. DEMOLIÇÕES, REMOÇÕES E RETIRADAS | H13: ='PLANILHA ORÇAMENTÁRIA'!H34 -> 0 | I13: 1 | J13: =H13*I13 -> 0 | K13: 0 | L13: =F13*K13 -> 0 | M13: 0 | N13: =H13*M13 -> 0 | O13: =I13+K13+M13 -> 1
A14: ='PLANILHA ORÇAMENTÁRIA'!A35 -> 3. REVESTIMENTO E PINTURA | H14: ='PLANILHA ORÇAMENTÁRIA'!H46 -> 0 | I14: 0.1 | J14: =H14*I14 -> 0 | K14: 0.6 | L14: =F14*K14 -> 0 | M14: 0.3 | N14: =H14*M14 -> 0 | O14: =I14+K14+M14 -> 1
A15: ='PLANILHA ORÇAMENTÁRIA'!A47 -> 4. PISOS | H15: ='PLANILHA ORÇAMENTÁRIA'!H54 -> 0 | I15: 0.2 | J15: =H15*I15 -> 0 | K15: 0.6 | L15: =F15*K15 -> 0 | M15: 0.2 | N15: =H15*M15 -> 0 | O15: =I15+K15+M15 -> 1
A16: ='PLANILHA ORÇAMENTÁRIA'!A55 -> 5. FORROS | H16: ='PLANILHA ORÇAMENTÁRIA'!H62 -> 0 | I16: 0.3 | J16: =H16*I16 -> 0 | K16: 0.7 | L16: =F16*K16 -> 0 | M16: 0 | N16: =H16*M16 -> 0 | O16: =I16+K16+M16 -> 1
A17: ='PLANILHA ORÇAMENTÁRIA'!A63 -> 6. PAREDES E DIVISÓRIAS | H17: ='PLANILHA ORÇAMENTÁRIA'!H68 -> 0 | I17: 0 | J17: =H17*I17 -> 0 | K17: 1 | L17: =F17*K17 -> 0 | M17: 0 | N17: =H17*M17 -> 0 | O17: =I17+K17+M17 -> 1
A18: ='PLANILHA ORÇAMENTÁRIA'!A69 -> 7. ESQUADRIAS | H18: ='PLANILHA ORÇAMENTÁRIA'!H76 -> 0 | I18: 0 | J18: =H18*I18 -> 0 | K18: 1 | L18: =F18*K18 -> 0 | M18: 0 | N18: =H18*M18 -> 0 | O18: =I18+K18+M18 -> 1
A19: ='PLANILHA ORÇAMENTÁRIA'!A77 -> 8. INSTALAÇÕES HIDROSSANITÁRIAS - ÁGUA FRIA | H19: ='PLANILHA ORÇAMENTÁRIA'!H98 -> 0 | I19: 0.2 | J19: =H19*I19 -> 0 | K19: 0.4 | L19: =F19*K19 -> 0 | M19: 0.4 | N19: =H19*M19 -> 0 | O19: =I19+K19+M19 -> 1
A20: ='PLANILHA ORÇAMENTÁRIA'!A99 -> 9. INSTALAÇÕES HIDROSSANITÁRIAS - ESGOTO | H20: ='PLANILHA ORÇAMENTÁRIA'!H120 -> 0 | I20: 0 | J20: =H20*I20 -> 0 | K20: 0 | L20: =F20*K20 -> 0 | M20: 1 | N20: =H20*M20 -> 0 | O20: =I20+K20+M20 -> 1
A21: ='PLANILHA ORÇAMENTÁRIA'!A121 -> 10. INSTALAÇÕES ELÉTRICAS | H21: ='PLANILHA ORÇAMENTÁRIA'!H196 -> 0 | I21: 0 | J21: =H21*I21 -> 0 | K21: 0.5 | L21: =F21*K21 -> 0 | M21: 0.5 | N21: =H21*M21 -> 0 | O21: =I21+K21+M21 -> 1
A22: ='PLANILHA ORÇAMENTÁRIA'!A197 -> 11. INSTALAÇÕES DE REDE LÓGICA | H22: ='PLANILHA ORÇAMENTÁRIA'!H242 -> 0 | I22: 0 | J22: =H22*I22 -> 0 | K22: 0.5 | L22: =F22*K22 -> 0 | M22: 0.5 | N22: =H22*M22 -> 0 | O22: =I22+K22+M22 -> 1
A23: ='PLANILHA ORÇAMENTÁRIA'!A243 -> 12. SERVIÇOS FINAIS | H23: ='PLANILHA ORÇAMENTÁRIA'!H250 -> 0 | I23: 0.4 | J23: =H23*I23 -> 0 | K23: 0.2 | L23: =F23*K23 -> 0 | M23: 0.4 | N23: =H23*M23 -> 0 | O23: =I23+K23+M23 -> 1
A24: TOTAL | H24: =SUM(H12:H16) -> 0 | I24: =J24/$H$24 -> #DIV/0! | J24: =SUM(J12:J16) -> 0 | K24: =L24/$H$24 -> #DIV/0! | L24: =SUM(L12:L16) -> 0 | M24: =N24/$H$24 -> #DIV/0! | N24: =SUM(N12:N16) -> 0
A25: TOTAL ACUMULADO | I25: =I24 -> #DIV/0! | J25: =J24 -> 0 | K25: =G25+K24 -> #DIV/0! | L25: =H25+L24 -> 0 | M25: =I25+M24 -> #DIV/0! | N25: =J25+N24 -> 0
I27: (assinatura)
H28: Responsável Técnico da Empresa
H29: CREA N.º ou CAU Nº
H30: Nome:
