Workbook
Name area: #REF!
Name area: #REF!
Name Área_JA1: #REF!
Name Área_JA1: #REF!
Name Área_JP1: #REF!
Name Área_JP1: #REF!
Name Área_JP2: #REF!
Name Área_JP2: #REF!
Name Área_JP3: #REF!
Name Área_JP3: #REF!
Name Área_JP4: #REF!
Name Área_JP4: #REF!
Name Área_JP5: #REF!
Name Área_JP5: #REF!
Name Área_PA1: #REF!
Name Área_PA1: #REF!
Name Área_PA2: #REF!
Name Área_PA2: #REF!
Name Área_PA3: #REF!
Name Área_PA3: #REF!
Name Área_PA4: #REF!
Name Área_PA4: #REF!
Name Área_PA5: #REF!
Name Área_PA5: #REF!
Name Área_PA6: #REF!
Name Área_PA6: #REF!
Name Área_PA7: #REF!
Name Área_PA7: #REF!
Name Área_PA8: #REF!
Name Área_PA8: #REF!
Name Área_PA9: #REF!
Name Área_PA9: #REF!
Name Área_PP1: #REF!
Name Área_PP1: #REF!
Name Área_PR1: #REF!
Name Área_PR1: #REF!
Name Área_PR2: #REF!
Name Área_PR2: #REF!
Name Aumento: #REF!
Name Aumento: #REF!
Name d: #REF!
Name d: #REF!
Name deck: #REF!
Name deck: #REF!
Name Espessura_Base: #REF!
Name Espessura_SubBase: #REF!
Name Fonte: #REF!
Name Import.CR: #REF!
Name Import.Localidade: #REF!
Name Import.Município: #REF!
Name Import.ObjetoCR: #REF!
Name Import.Proponente: #REF!
Name itensdeinvestimento: OFFSET(#REF!,1,0,COUNTA(#REF!)-1)
Name Largura_Meio_Fio: #REF!
Name listaCTEF: #REF!
Name listalotes: #REF!
Name NCOMPOSICOES: 68
Name Orçamento: #REF!
Name Orçamento: #REF!
Name Peso_Específico_CBUQ: #REF!

Sheet Orçamento
A4: PREFEITURA MUNICIPAL DE SANTARÉM
A5: SECRETARIA MUNICIPAL DE INFRAESTRUTURA-SEMINFRA
A6: C.N.P.J. (MF) N º 05.182.233/0007-61
A7: Av. Barão do Rio Branco, s/n – Aeroporto Velho CEP: 68.005-310
A8: SANTARÉM-PARÁ
A10: P L A N I L H A ORÇAMENTO
A11: OBJETO: | C11: Construção da Praça de Eventos 2º Etapa
A12: LOCAL: | C12: Av. Anísio Chaves
A13: Município: | C13: Santarém | D13: Área; | E13: =E33 -> 5458 | G13: Referência SINAPI: | H13: Maio/2013
D14: Valor: | E14: =H50 -> 732238.05 | G14: BDI: | H14: 0.3
A15: Sinap | B15: ITEM | C15: DESCRIÇÃO | D15: UNID. | E15: QUANT. | F15: PREÇO SINAPI | G15: PREÇO R($)
A16: 41395 | F16: UNIT. | G16: UNIT. | H16: TOTAL
A17: códigos | B17: 1.0 | C17: SERVIÇOS PRELIMINARES | H17: =SUM(H18:H21) -> 43992.54
A18: 74209/001 | B18: 1.1 | C18: Placa de obra em chapa de aço galvanizado | D18: m² | E18: ='Memoria de calculo'!I16 -> 6 | F18: 296.64 | G18: =F18*(1+$H$14) -> 385.63 | H18: =G18*E18 -> 2313.78
A19: 73822/002 | B19: 1.2 | C19: Limpeza de terreno - raspagem mecanizada (motoniveladora) de camada vegetal | D19: m² | E19: ='Memoria de calculo'!J17 -> 4864 | F19: 0.45 | G19: =F19*(1+$H$14) -> 0.59 | H19: =G19*E19 -> 2869.76
A20: 73992/001 | B20: 1.3 | C20: Locação convencional de obra, através de gabarito de tabuas corridas pontaletadas a cada 1,50m, sem reaproveitamento | D20: m² | E20: ='Memoria de calculo'!J18 -> 4864 | F20: 5.27 | G20: =F20*(1+$H$14) -> 6.85 | H20: =G20*E20 -> 33318.4
A21: 74210/001 | B21: 1.4 | C21: Barracão para deposito em tabuas de madeira, cobertura em fibrocimento 4 mm, incluso piso argamassa traço 1:6 (cimento e areia) | D21: m² | E21: ='Memoria de calculo'!I19 -> 20 | F21: 211.18 | G21: =F21*(1+$H$14) -> 274.53 | H21: =G21*E21 -> 5490.6
B23: 2.0 | C23: MOVIMENTO DE TERRA | H23: =SUM(H24:H26) -> 34430.91
A24: 72209 | B24: 2.1 | C24: Carga manual e remoção e entulho com transporte ate 1km em caminhão basculante 8 m³ | D24: m³ | E24: ='Memoria de calculo'!H22 -> 225.48 | F24: 9.72 | G24: =F24*(1+$H$14) -> 12.64 | H24: =G24*E24 -> 2850.07
A25: 79517/001 | B25: 2.2 | C25: Escavação manual de valas H <= 1,50 M | D25: m³ | E25: ='Memoria de calculo'!H23 -> 169.11 | F25: 14.19 | G25: =F25*(1+$H$14) -> 18.45 | H25: =G25*E25 -> 3120.08
A26: 73904/001 | B26: 2.3 | C26: Aterro compactado c/ apiloamento | D26: m³ | E26: ='Memoria de calculo'!H24 -> 422.58 | F26: 51.81 | G26: =F26*(1+$H$14) -> 67.35 | H26: =G26*E26 -> 28460.76
B28: 3.0 | C28: ARBORIZAÇÃO (PLANTIO) | H28: =SUM(H29:H30) -> 9203.5
A29: 74236/001 | B29: 3.1 | C29: Grama batatais em placas | D29: m² | E29: ='Memoria de calculo'!J27 -> 585 | F29: 11.63 | G29: =F29*(1+$H$14) -> 15.12 | H29: =E29*G29 -> 8845.2
A30: 73967/001 | B30: 3.2 | C30: Arbusto co altura maior do que 1,00 metro | D30: unid | E30: ='Memoria de calculo'!D28 -> 5 | F30: 55.12 | G30: =F30*(1+$H$14) -> 71.66 | H30: =E30*G30 -> 358.3
B32: 4.0 | C32: PAVIMENTAÇÃO ( PISO ) | H32: =SUM(H33:H35) -> 424464.36
A33: 6130 | B33: 4.1 | C33: Impermeabilização de superfície com argamassa de cimento e areia (grossa), traco 1:4, com aditivo impermeabilizante, e=2,5cm | D33: m² | E33: ='Memoria de calculo'!J31 -> 5458 | F33: 15 | G33: =F33*(1+$H$14) -> 19.5 | H33: =E33*G33 -> 106431
A34: 73675 | B34: 4.2 | C34: Piso de concreto acabamento rústico espessura 7cm com juntas em madeira | D34: m² | E34: ='Memoria de calculo'!J32 -> 4864 | F34: 46.82 | G34: =F34*(1+$H$14) -> 60.87 | H34: =E34*G34 -> 296071.68
A35: 73629 | B35: 4.3 | C35: Piso em ladrilho hidráulico 20x20cm assentado sobre argamassa de cimento colante rejuntado com cimento comum | D35: m² | E35: ='Memoria de calculo'!J33 -> 545.09 | F35: 30.99 | G35: =F35*(1+$H$14) -> 40.29 | H35: =E35*G35 -> 21961.68
B37: 5.0 | C37: EQUIPAMENTOS | H37: =SUM(H38:H40) -> 67536.62
A38: 74228/001 | B38: 5.1 | C38: Banco de concreto c/ assento cimentado liso med: 2,90 x 0,50 x h=0,45 | D38: m | E38: ='Memoria de calculo'!F36 -> 150.8 | F38: 128.71 | G38: =F38*(1+$H$14) -> 167.32 | H38: =E38*G38 -> 25231.86
A39: seop abril 2013 251510 | B39: 5.2 | C39: Lixeira em tela moeda | D39: unid. | E39: 16 | F39: 318.5 | G39: 318.5 | H39: =G39*E39 -> 5096
A40: COMPOSIÇÃO | B40: 5.3 | C40: Caramanchão de madeira de lei, med. 8,00 x 1,60 m x h=2,85 m | D40: unid. | E40: ='Memoria de calculo'!D37 -> 12 | F40: =Caramanchão!G14 -> 2385.18 | G40: =F40*1.3 -> 3100.73 | H40: =E40*G40 -> 37208.76
B42: 6.0 | C42: OUTROS | H42: =SUM(H43:H45) -> 144849.83
A43: COMPOSIÇÃO | B43: 6.1 | C43: Quiosques (Lanchonete/bar) 03 | D43: unid | E43: 2 | G43: ='Quiosq 003'!G75 -> 19833.93 | H43: =G43*E43 -> 39667.86
A44: COMPOSIÇÃO | B44: 6.2 | C44: Quiosques 02 | D44: unid | E44: 1 | G44: ='Quiosq 002'!G83 -> 44059.13 | H44: =G44*E44 -> 44059.13
A45: COMPOSIÇÃO | B45: 6.3 | C45: Sanitários | D45: unid | E45: 1 | G45: =Banheiro!G82 -> 61122.84 | H45: =G45*E45 -> 61122.84
B47: 7.0 | C47: SERVIÇOS COMPLEMENTARES | H47: =SUM(H48:H49) -> 7760.29
A48: 9537 | B48: 7.1 | C48: Limpeza final de entrega da obra | D48: unid | E48: ='Memoria de calculo'!I45 -> 4864 | F48: 1.13 | G48: =F48*(1+$H$14) -> 1.47 | H48: =E48*G48 -> 7150.08
A49: 84122 | B49: 7.2 | C49: Placa inauguração em alumínio 0,40x0,60m fornecimento e colocação | D49: unid | E49: ='Memoria de calculo'!D46 -> 1 | F49: 469.39 | G49: =F49*(1+$H$14) -> 610.21 | H49: =E49*G49 -> 610.21
C50: TOTAL | H50: =SUM(H47,H42,H37,H32,H28,H23,H17) -> 732238.05 | J50: =H50-#REF! -> #REF! | K50: 305376.83
...

Sheet PLANILHA ORÇAMENTARIA
A5: PREFEITURA MUNICIPAL DE SANTARÉM
A6: SECRETARIA MUNICIPAL DE INFRAESTRUTURA – SEMINFRA
A7: C.N.P.J. (MF) N º 05.182.233/0007-61
A8: PLANILHA ORÇAMENTARIA
H9: BDI PADRÃO: | I9: 0.2977
H10: BDI DIFERENCIADO 1: | I10: 0.0471
C11: DATA BASE SINAPI: | D11: 01/2019 (DESONERADO) | H11: BDI DIFERENCIADO 2:
C12: LOCALIDADE SINAPI: | D12: BELEM | H12: BDI ZERO: | I12: 0
A13: ITEM | B13: FONTE | C13: CÓDIGO | D13: DESCRIÇÃO | E13: UNID | F13: QUANT | G13: CUSTO UNITÁRIO (R$) | H13: UNITÁRIO COM BDI (R$) | I13: VALOR TOTAL COM BDI (R$)
D14: TOTAL | I14: 1025913.1
A15: 1 | D15: AMPLIAÇÃO DO MERCADO MUNICIPAL DE SANTARÉM | F15: 0 | H15: 0 | I15: 1025913.1
A16: 1.1 | D16: SERVIÇOS PRELIMINARES | F16: 0 | H16: 0 | I16: 61752.14
A17: 1.1.1 | B17: SINAPI | C17: 74209/001 | D17: PLACA DE OBRA EM CHAPA DE ACO GALVANIZADO | E17: M2 | F17: 6 | G17: 472.44 | H17: 613.09 | I17: 3678.54
A18: 1.1.2 | B18: SINAPI | C18: 93584 | D18: EXECUÇÃO DE DEPÓSITO EM CANTEIRO DE OBRA EM CHAPA DE MADEIRA COMPENSADA, NÃO INCLUSO MOBILIÁRIO. AF_04/2016 | E18: M2 | F18: 80 | G18: 559.39 | H18: 725.92 | I18: 58073.6
A19: 1.2 | D19: BOX | F19: 0 | H19: 0 | I19: 0
A20: 1.3 | D20: MOVIMENTAÇÃO DE TERRA | F20: 0 | H20: 0 | I20: 671.88
A21: 1.3.1 | B21: SINAPI | C21: 93358 | D21: ESCAVAÇÃO MANUAL DE VALA COM PROFUNDIDADE MENOR OU IGUAL A 1,30 M. AF_03/2016 | E21: M3 | F21: 5.13 | G21: 54.51 | H21: 70.74 | I21: 362.9
A22: 1.3.2 | B22: Composição | C22: 006 | D22: BOTA FORA MANUAL COM DMT=200M | E22: M3 | F22: 5.13 | G22: 46.41 | H22: 60.23 | I22: 308.98
A23: 1.4 | D23: FUNDAÇÃO | F23: 0 | H23: 0 | I23: 3412.14
A24: 1.4.1 | B24: SINAPI | C24: 94965 | D24: CONCRETO FCK = 25MPA, TRAÇO 1:2,3:2,7 (CIMENTO/ AREIA MÉDIA/ BRITA 1) - PREPARO MECÂNICO COM BETONEIRA 400 L. AF_07/2016 | E24: M3 | F24: 5.76 | G24: 375.32 | H24: 487.05 | I24: 2805.41
A25: 1.4.2 | B25: SINAPI | C25: 74157/004 | D25: LANCAMENTO/APLICACAO MANUAL DE CONCRETO EM FUNDACOES | E25: M3 | F25: 5.13 | G25: 91.14 | H25: 118.27 | I25: 606.73
A26: 1.5 | D26: ESTRUTURA | F26: 0 | H26: 0 | I26: 230350.08
A27: 1.5.1 | B27: SINAPI | C27: 92408 | D27: MONTAGEM E DESMONTAGEM DE FÔRMA DE PILARES RETANGULARES E ESTRUTURAS SIMILARES COM ÁREA MÉDIA DAS SEÇÕES MENOR OU IGUAL A 0,25 M², PÉ-DIREITO SIMPLES, EM MADEIRA SERRADA, 1 UTILIZAÇÃO. AF_12/2015 | E27: M2 | F27: 456 | G27: 149.83 | H27: 194.43 | I27: 88660.08
A28: 1.5.2 | B28: SINAPI | C28: 92446 | D28: MONTAGEM E DESMONTAGEM DE FÔRMA DE VIGA, ESCORAMENTO COM PONTALETE DE MADEIRA, PÉ-DIREITO SIMPLES, EM MADEIRA SERRADA, 1 UTILIZAÇÃO. AF_12/2015 | E28: M2 | F28: 393.56 | G28: 138.9 | H28: 180.25 | I28: 70939.19
A29: 1.5.3 | B29: SINAPI | C29: 95952 | D29: (COMPOSIÇÃO REPRESENTATIVA) EXECUÇÃO DE ESTRUTURAS DE CONCRETO ARMADO CONVENCIONAL, PARA EDIFICAÇÃO HABITACIONAL MULTIFAMILIAR (PRÉDIO), FCK = 25 MPA. AF_01/2017 | E29: M3 | F29: 38.42 | G29: 1419.06 | H29: 1841.51 | I29: 70750.81
A30: 1.6 | D30: ALVENARIA | F30: 0 | H30: 0 | I30: 120858.04
A31: 1.6.1 | B31: SINAPI | C31: 87503 | D31: ALVENARIA DE VEDAÇÃO DE BLOCOS CERÂMICOS FURADOS NA HORIZONTAL DE 9X19X19CM (ESPESSURA 9CM) DE PAREDES COM ÁREA LÍQUIDA MAIOR OU IGUAL A 6M² SEM VÃOS E ARGAMASSA DE ASSENTAMENTO COM PREPARO EM BETONEIRA. AF_06/2014 | E31: M2 | F31: 1811.15 | G31: 51.42 | H31: 66.73 | I31: 120858.04
A32: 1.7 | D32: REVESTIMENTO | F32: 0 | H32: 0 | I32: 132902.19
A33: 1.7.1 | B33: SINAPI | C33: 87879 | D33: CHAPISCO APLICADO EM ALVENARIAS E ESTRUTURAS DE CONCRETO INTERNAS, COM COLHER DE PEDREIRO. ARGAMASSA TRAÇO 1:3 COM PREPARO EM BETONEIRA 400L. AF_06/2014 | E33: M2 | F33: 3622.3 | G33: 2.65 | H33: 3.44 | I33: 12460.71
A34: 1.7.2 | B34: Composição | C34: 007 | D34: REBOCO LISO TRAÇO ARG. 1:4, COM CIMENTO AREIA E ÁGUA, ESP 1.5 CM | E34: M2 | F34: 3622.3 | G34: 25.62 | H34: 33.25 | I34: 120441.48
A35: 1.8 | D35: PISO | F35: 0 | H35: 0 | I35: 52066.46
A36: 1.8.3 | B36: SINAPI | C36: 94439 | D36: (COMPOSIÇÃO REPRESENTATIVA) DO SERVIÇO DE CONTRAPISO EM ARGAMASSA TRAÇO 1:4 (CIM E AREIA), EM BETONEIRA 400 L, ESPESSURA 4 CM ÁREAS SECAS E AREAS MOLHADAS SOBRE LAJE E 3 CM ÁREAS MOLHADAS SOBRE IMPERMEABILIZAÇÃO, PARA EDIFICAÇÃO HABITACIONAL UNIFAMILIAR(CASA) E EDIFICAÇÃO PÚBLICA PADRÃO. AF_11/2014 | E36: M2 | F36: 456 | G36: 35.24 | H36: 45.73 | I36: 20852.88
A37: 1.8.4 | B37: SINAPI | C37: 87249 | D37: REVESTIMENTO CERÂMICO PARA PISO COM PLACAS TIPO ESMALTADA EXTRA DE DIMENSÕES 45X45 CM APLICADA EM AMBIENTES DE ÁREA MENOR QUE 5 M2. AF_06/2014 | E37: M2 | F37: 456 | G37: 44.7 | H37: 58.01 | I37: 26452.56
A38: 1.8.5 | B38: SINAPI | C38: 88649 | D38: RODAPÉ CERÂMICO DE 7CM DE ALTURA COM PLACAS TIPO ESMALTADA EXTRA DE DIMENSÕES 45X45CM. AF_06/2014 | E38: M | F38: 646 | G38: 5.68 | H38: 7.37 | I38: 4761.02
A39: 1.9 | D39: INSTALAÇÕES ELÉTRICAS | F39: 0 | H39: 0 | I39: 96456.35
A40: 1.9.1 | B40: SINAPI | C40: 74131/001 | D40: QUADRO DE DISTRIBUICAO DE ENERGIA DE EMBUTIR, EM CHAPA METALICA, PARA 3 DISJUNTORES TERMOMAGNETICOS MONOPOLARES SEM BARRAMENTO FORNECIMENTO E INSTALACAO | E40: UN | F40: 95 | G40: 57.94 | H40: 75.19 | I40: 7143.05
A41: 1.9.2 | B41: SINAPI | C41: 93655 | D41: DISJUNTOR MONOPOLAR TIPO DIN, CORRENTE NOMINAL DE 20A - FORNECIMENTO E INSTALAÇÃO. AF_04/2016 | E41: UN | F41: 95 | G41: 8.44 | H41: 10.95 | I41: 1040.25
A42: 1.9.3 | B42: SINAPI | C42: 93658 | D42: DISJUNTOR MONOPOLAR TIPO DIN, CORRENTE NOMINAL DE 40A - FORNECIMENTO E INSTALAÇÃO. AF_04/2016 | E42: UN | F42: 95 | G42: 13.61 | H42: 17.66 | I42: 1677.7
A43: 1.9.4 | B43: SINAPI | C43: 93128 | D43: PONTO DE ILUMINAÇÃO RESIDENCIAL INCLUINDO INTERRUPTOR SIMPLES, CAIXA ELÉTRICA, ELETRODUTO, CABO, RASGO, QUEBRA E CHUMBAMENTO (EXCLUINDO LUMINÁRIA E LÂMPADA). AF_01/2016 | E43: UN | F43: 95 | G43: 90.47 | H43: 117.4 | I43: 11153
A44: 1.9.5 | B44: Composição | C44: 016 | D44: PONTO DE ILUMINAÇÃO RESIDENCIAL INCLUINDO INTERRUPTOR SIMPLES (3 MÓDULOS), CAIXA ELÉTRICA, ELETRODUTO, CABO, RASGO, QUEBRA E CHUMBAMENTO (EXCLUINDO LUMINÁRIA E LÂMPADA). AF_01/2016 | E44: UN | F44: 95 | G44: 109.82 | H44: 142.51 | I44: 13538.45
...

Sheet CRONOGRAMA OBRA 
A4: PREFEITURA MUNICIPAL DE SANTARÉM
A5: SECRETARIA MUNICIPAL DE INFRAESTRUTURA – SEMINFRA
A6: C.N.P.J. (MF) N º 05.182.233/0007-61
A7: CRONOGRAMA
A8: META/ | D8: VALOR | E8: PESO | F8: MÊS | G8: 1 | H8: MÊS | I8: 2 | J8: MÊS | K8: 3 | L8: MÊS | M8: 4 | N8: MÊS | O8: 5
A9: AGRUPADOR | B9: DESCRIÇÃO | D9: R$ | E9: % | F9: PARCELA (%) | G9: ACUM (%) | H9: PARCELA (%) | I9: ACUM (%) | J9: PARCELA (%) | K9: ACUM (%) | L9: PARCELA (%) | M9: ACUM (%) | N9: PARCELA (%) | O9: ACUM (%)
A10: 1 | B10: AMPLIAÇÃO DO MERCADO MUNICIPAL DE SANTARÉM | D10: 1025913.1 | E10: 1 | G10: 0 | I10: 0 | K10: 0 | M10: 0 | O10: 0
A11: 1.1 | B11: SERVIÇOS PRELIMINARES | D11: 61752.14 | E11: 0.0602 | F11: 50 | G11: 50 | H11: 50 | I11: 100 | K11: 100 | M11: 100 | O11: 100
A12: 1.2 | B12: BOX | D12: 0 | E12: 0 | G12: 0 | I12: 0 | K12: 0 | M12: 0 | O12: 0
A13: 1.3 | B13: MOVIMENTAÇÃO DE TERRA | D13: 671.88 | E13: 0.0007 | G13: 0 | H13: 75 | I13: 75 | J13: 25 | K13: 100 | M13: 100 | O13: 100
A14: 1.4 | B14: FUNDAÇÃO | D14: 3412.14 | E14: 0.0033 | G14: 0 | H14: 50 | I14: 50 | J14: 50 | K14: 100 | M14: 100 | O14: 100
A15: 1.5 | B15: ESTRUTURA | D15: 230350.08 | E15: 0.2245 | G15: 0 | I15: 0 | J15: 100 | K15: 100 | L15: 0 | M15: 100 | O15: 100
A16: 1.6 | B16: ALVENARIA | D16: 120858.04 | E16: 0.1178 | G16: 0 | I16: 0 | J16: 50 | K16: 50 | L16: 50 | M16: 100 | O16: 100
A17: 1.7 | B17: REVESTIMENTO | D17: 132902.19 | E17: 0.1295 | G17: 0 | I17: 0 | K17: 0 | L17: 100 | M17: 100 | O17: 100
A18: 1.8 | B18: PISO | D18: 52066.46 | E18: 0.0508 | G18: 0 | I18: 0 | J18: 50 | K18: 50 | L18: 50 | M18: 100 | O18: 100
A19: 1.9 | B19: INSTALAÇÕES ELÉTRICAS | D19: 96456.35 | E19: 0.094 | G19: 0 | I19: 0 | J19: 25 | K19: 25 | L19: 25 | M19: 50 | N19: 50 | O19: 100
A20: 1.10 | B20: ESQUADRIAS E DIVERSOS | D20: 137460.25 | E20: 0.134 | G20: 0 | I20: 0 | K20: 0 | L20: 50 | M20: 50 | N20: 50 | O20: 100
A21: 1.11 | B21: COBERTURA | D21: 74585.63 | E21: 0.0727 | G21: 0 | I21: 0 | K21: 0 | L21: 100 | M21: 100 | O21: 100
A22: 1.12 | B22: FORRO | D22: 23151.12 | E22: 0.0226 | G22: 0 | I22: 0 | K22: 0 | L22: 100 | M22: 100 | O22: 100
A23: 1.13 | B23: PINTURA | D23: 90774.84 | E23: 0.0885 | G23: 0 | I23: 0 | K23: 0 | M23: 0 | N23: 100 | O23: 100
A24: 1.14 | B24: LIMPEZA FINAL DE OBRA | D24: 1472 | E24: 0.0014 | G24: 0 | I24: 0 | K24: 0 | M24: 0 | N24: 100 | O24: 100
B25: Total (%): | F25: 3.01 | G25: 3.01 | H25: 3.23 | I25: 6.23 | J25: 33.41 | K25: 39.65 | L25: 39.96 | M25: 79.61 | N25: 20.39 | O25: 100
B26: Total (R$): | D26: 1025913.1 | E26: 1 | F26: 30876.07 | G26: 30876.07 | H26: 33086.05 | I26: 63962.12 | J26: 342800.46 | K26: 406762.58 | L26: 409945.4 | M26: 816707.98 | N26: 209205.14 | O26: 1025913.1

Sheet QCI_GERAL
A4: PREFEITURA MUNICIPAL DE SANTARÉM
A5: SECRETARIA MUNICIPAL DE INFRAESTRUTURA – SEMINFRA
A6: C.N.P.J. (MF) N º 05.182.233/0007-61
A7: QCI
A8: Meta / Submeta | B8: Item de Investimento | C8: Sub-Item de Investimento | D8: Descrição | E8: Situação | F8: Quantidade | G8: Unidade | H8: Lote de Licitação / nº do CTEF | I8: REPASSE (R$) | J8: CONTRAPARTIDA (R$) | K8: OUTROS (R$) | L8: INVESTIMENTO (R$) | M8: PESO DA META (%)
I9: 0.926 | J9: 0.074 | K9: 0 | L9: 1
H10: TOTAL | I10: 950000 | J10: 75913.12 | K10: 0 | L10: 1025913.1
A11: 1 | B11: Unidades habitacionais | C11: Obras de artes especiais | D11: AMPLIAÇÃO DO MERCADO MUNICIPAL DE SANTARÉM | E11: Em Análise | F11: 1 | G11: #N/A | H11: Lote 1 | I11: 950000 | J11: 75913.12 | K11: 0 | L11: 1025913.1 | M11: 1
A15: Meta / Submeta | B15: Item de Investimento | C15: Sub-Item de Investimento | D15: Descrição | E15: Situação | F15: Quantidade | G15: Unidade | H15: Lote de Licitação / nº do CTEF | I15: REPASSE (R$) | J15: CONTRAPARTIDA (R$) | K15: OUTROS (R$) | L15: INVESTIMENTO (R$) | M15: PESO DA META (%) | N15: =#REF! -> #REF! | O15: =N15-I18 -> #REF!
I16: =I17/L18 -> 0.6275 | J16: =J17/L18 -> 0.3725 | K16: =IF(ISERROR($Q$24/$R$24),0,ROUND($Q$24/$R$24,4)) -> 0 | L16: =J16+I16 -> 1
H17: TOTAL | I17: 684800 | J17: =J18 -> 406579.36 | K17: =SUM(K18:K42) -> 0 | L17: =L18 -> 1091379.4
A18: 1 | B18: Unidades habitacionais | C18: Obras de artes especiais | D18: AMPLIAÇÃO DO MERCADO MUNICIPAL DE SANTARÉM | E18: Em Análise | F18: 1 | G18: =VLOOKUP($I18,OFFSET($AS$24,1,MATCH($H18,$AS$24:$CC$24,0)-1,100,100),2,FALSE) -> #N/A | H18: Lote 1 | I18: =I17 -> 684800 | J18: 406579.36 | K18: =ROUND(Z18,2) -> 0 | L18: =SUM(I18:J18) -> 1091379.4 | M18: 1

Sheet 18-11-2021 BDI
A3: Quadro de composição do BDI
A5: Itens | D5: Siglas | E5: % Adotado
A6: Administração Central | D6: AC | E6: 0.03
A7: Seguro e Garantia | D7: SG | E7: 0.008
A8: Risco | D8: R | E8: 0.0097
A9: Despesas Financeiras | D9: DF | E9: 0.0059
A10: Lucro | D10: L | E10: 0.0616
A11: Tributos (impostos COFINS 3% e PIS 0,65%) | D11: CP | E11: 0.0365
A12: Tributos (ISS 5% de 50% da NF) | D12: ISS | E12: 0.05
A13: Tributos (Contribuição Previdenciária sobre Receita Bruta - 0% ou 4,5% - DESONERAÇÃO) | D13: CPRB | E13: 0.045
A14: BDI COM DESONERAÇÃO | D14: BDI DES | E14: =(((1+E6+E7+E8)*(1+E9)*(1+E10))/(1-E11-E12-E13))-1 -> 0.2882
C16: Os valores de BDI foram calculados com o emprego da fórmula:
B17: BDI= | C17: (1+AC+SG+R)*(1+DF)*(1+L) | D17: -1
C18: (1-CP-ISS-CRPB)
A22: Declaro para os devidos fins que, conforme legislação tributária municipal, a base de cálculo para esse tipo de obra corresponde à 50%, com a respectiva alícota de 5%
A28: ____________________________________________________
A29: Responsável técnico: Edinelson Magno Vieira CREA/PA: 151822564-0

Sheet CURVA ABC
A5: PREFEITURA MUNICIPAL DE SANTARÉM
A6: SECRETARIA MUNICIPAL DE INFRAESTRUTURA – SEMINFRA
A7: C.N.P.J. (MF) N º 05.182.233/0007-61
A8: PLANILHA ORÇAMENTARIA
H9: BDI PADRÃO: | I9: 0.2977
C10: DATA BASE SINAPI: | D10: 12/2019 (DESONERADO) | H10: BDI DIFERENCIADO 2:
C11: LOCALIDADE SINAPI: | D11: BELEM | H11: BDI ZERO: | I11: 0
A12: Item | B12: Fonte | C12: Código | D12: Descrição | E12: Unidade | F12: Quantidade | G12: Custo Unitário (sem BDI) (R$) | H12: Preço Unitário (com BDI) (R$) | I12: Preço Total (R$) | J12: Porcentagem individual | K12: Porcentagem acumulada | L12: Classificação | O12: CLASSE | P12: CORTE
A13: 1.10.1. | B13: SINAPI-I | C13: 4911 | D13: PORTA DE ENROLAR MANUAL COMPLETA, ARTICULADA RAIADA LARGA, EM ACO GALVANIZADO NATURAL, CHAPA NUMERO 24 (SEM INSTALACAO) | E13: M2 | F13: 415.15 | G13: 191.52 | H13: 248.54 | I13: =F13*H13 -> 103181.38 | J13: =I13/I$67 -> 0.0926 | K13: =J13 -> 0.0926 | L13: =IF(K13<=$P$13,"A",IF(K13<=$P$14,"B","C")) -> A | O13: A | P13: 0.5
A14: 1.6.1. | B14: SINAPI | C14: 87503 | D14: ALVENARIA DE VEDAÇÃO DE BLOCOS CERÂMICOS FURADOS NA HORIZONTAL DE 9X19X19CM (ESPESSURA 9CM) DE PAREDES COM ÁREA LÍQUIDA MAIOR OU IGUAL A 6M² SEM VÃOS E ARGAMASSA DE ASSENTAMENTO COM PREPARO EM BETONEIRA. AF_06/2014 | E14: M2 | F14: 1326.66 | G14: 53.44 | H14: 69.35 | I14: =F14*H14 -> 92003.87 | J14: =I14/I$67 -> 0.0826 | K14: =J14+K13 -> 0.1752 | L14: =IF(K14<=$P$13,"A",IF(K14<=$P$14,"B","C")) -> A | O14: B | P14: 0.8
A15: 1.5.12. | B15: SINAPI | C15: 92270 | D15: FABRICAÇÃO DE FÔRMA PARA VIGAS, COM MADEIRA SERRADA, E = 25 MM. AF_12/2015 | E15: M2 | F15: 901.36 | G15: 68.39 | H15: 88.75 | I15: =F15*H15 -> 79995.7 | J15: =I15/I$67 -> 0.0718 | K15: =J15+K14 -> 0.247 | L15: =IF(K15<=$P$13,"A",IF(K15<=$P$14,"B","C")) -> A | O15: C | P15: 1
A16: 1.8.4. | B16: SINAPI | C16: 94993 | D16: EXECUÇÃO DE PASSEIO (CALÇADA) OU PISO DE CONCRETO COM CONCRETO MOLDADO IN LOCO, USINADO, ACABAMENTO CONVENCIONAL, ESPESSURA 6 CM, ARMADO. AF_07/2016 | E16: M2 | F16: 1075.53 | G16: 52.33 | H16: 67.91 | I16: =F16*H16 -> 73039.24 | J16: =I16/I$67 -> 0.0656 | K16: =J16+K15 -> 0.3126 | L16: =IF(K16<=$P$13,"A",IF(K16<=$P$14,"B","C")) -> A
A17: 1.9.3. | B17: SINAPI | C17: 91931 | D17: CABO DE COBRE FLEXÍVEL ISOLADO, 6 MM², ANTI-CHAMA 0,6/1,0 KV, PARA CIRCUITOS TERMINAIS - FORNECIMENTO E INSTALAÇÃO. AF_12/2015 | E17: M | F17: 8685 | G17: 6.12 | H17: 7.94 | I17: =F17*H17 -> 68958.9 | J17: =I17/I$67 -> 0.0619 | K17: =J17+K16 -> 0.3745 | L17: =IF(K17<=$P$13,"A",IF(K17<=$P$14,"B","C")) -> A
A18: 1.1.2. | B18: SINAPI | C18: 93584 | D18: EXECUÇÃO DE DEPÓSITO EM CANTEIRO DE OBRA EM CHAPA DE MADEIRA COMPENSADA, NÃO INCLUSO MOBILIÁRIO. AF_04/2016 | E18: M2 | F18: 80 | G18: 599.77 | H18: 778.32 | I18: =F18*H18 -> 62265.6 | J18: =I18/I$67 -> 0.0559 | K18: =J18+K17 -> 0.4304 | L18: =IF(K18<=$P$13,"A",IF(K18<=$P$14,"B","C")) -> A
A19: 1.5.5. | B19: SINAPI | C19: 92269 | D19: FABRICAÇÃO DE FÔRMA PARA PILARES E ESTRUTURAS SIMILARES, EM MADEIRA SERRADA, E=25 MM. AF_12/2015 | E19: M2 | F19: 467.53 | G19: 84.1 | H19: 109.14 | I19: =F19*H19 -> 51026.22 | J19: =I19/I$67 -> 0.0458 | K19: =J19+K18 -> 0.4762 | L19: =IF(K19<=$P$13,"A",IF(K19<=$P$14,"B","C")) -> A
A20: 1.7.2. | B20: Composição | C20: 080 | D20: REBOCO | E20: M2 | F20: 948.19 | G20: 39.5 | H20: 51.26 | I20: =F20*H20 -> 48604.22 | J20: =I20/I$67 -> 0.0436 | K20: =J20+K19 -> 0.5198 | L20: =IF(K20<=$P$13,"A",IF(K20<=$P$14,"B","C")) -> B
A21: 1.8.6. | B21: SINAPI-I | C21: 38186 | D21: PISO TATIL DE ALERTA OU DIRECIONAL, DE BORRACHA, COLORIDO, 25 X 25 CM, E = 12 MM, PARA ARGAMASSA | E21: M2 | F21: 64.54 | G21: 450.35 | H21: 584.42 | I21: =F21*H21 -> 37718.47 | J21: =I21/I$67 -> 0.0339 | K21: =J21+K20 -> 0.5537 | L21: =IF(K21<=$P$13,"A",IF(K21<=$P$14,"B","C")) -> B
A22: 1.11.2. | B22: SINAPI | C22: 94446 | D22: TELHAMENTO COM TELHA CERÂMICA CAPA-CANAL, TIPO PLAN, COM MAIS DE 2 ÁGUAS, INCLUSO TRANSPORTE VERTICAL. AF_07/2019 | E22: M2 | F22: 907.44 | G22: 31.3 | H22: 40.62 | I22: =F22*H22 -> 36860.21 | J22: =I22/I$67 -> 0.0331 | K22: =J22+K21 -> 0.5868 | L22: =IF(K22<=$P$13,"A",IF(K22<=$P$14,"B","C")) -> B
A23: 1.8.2. | B23: SINAPI | C23: 87249 | D23: REVESTIMENTO CERÂMICO PARA PISO COM PLACAS TIPO ESMALTADA EXTRA DE DIMENSÕES 45X45 CM APLICADA EM AMBIENTES DE ÁREA MENOR QUE 5 M2. AF_06/2014 | E23: M2 | F23: 480 | G23: 50.51 | H23: 65.55 | I23: =F23*H23 -> 31464 | J23: =I23/I$67 -> 0.0282 | K23: =J23+K22 -> 0.615 | L23: =IF(K23<=$P$13,"A",IF(K23<=$P$14,"B","C")) -> B
A24: 1.15.1. | B24: Composição | C24: 073 | D24: ADMINISTRAÇÃO DO LOCAL DA OBRA | E24: UNID. | F24: 1 | G24: 31035.46 | H24: 31035.46 | I24: =F24*H24 -> 31035.46 | J24: =I24/I$67 -> 0.0279 | K24: =J24+K23 -> 0.6429 | L24: =IF(K24<=$P$13,"A",IF(K24<=$P$14,"B","C")) -> B
A25: 1.9.15. | B25: SINAPI | C25: 91857 | D25: ELETRODUTO FLEXÍVEL CORRUGADO REFORÇADO, PVC, DN 32 MM (1"), PARA CIRCUITOS TERMINAIS, INSTALADO EM PAREDE - FORNECIMENTO E INSTALAÇÃO. AF_12/2015 | E25: M | F25: 2538 | G25: 9.03 | H25: 11.72 | I25: =F25*H25 -> 29745.36 | J25: =I25/I$67 -> 0.0267 | K25: =J25+K24 -> 0.6696 | L25: =IF(K25<=$P$13,"A",IF(K25<=$P$14,"B","C")) -> B
A26: 1.5.10. | B26: SINAPI | C26: 94965 | D26: CONCRETO FCK = 25MPA, TRAÇO 1:2,3:2,7 (CIMENTO/ AREIA MÉDIA/ BRITA 1) - PREPARO MECÂNICO COM BETONEIRA 400 L. AF_07/2016 | E26: M3 | F26: =51.12+20.46 -> 71.58 | G26: 408.46 | H26: 530.06 | I26: =F26*H26 -> 37941.69 | J26: =I26/I$67 -> 0.0341 | K26: =J26+K25 -> 0.7037 | L26: =IF(K26<=$P$13,"A",IF(K26<=$P$14,"B","C")) -> B
A27: 1.8.1. | B27: SINAPI | C27: 94439 | D27: (COMPOSIÇÃO REPRESENTATIVA) DO SERVIÇO DE CONTRAPISO EM ARGAMASSA TRAÇO 1:4 (CIM E AREIA), EM BETONEIRA 400 L, ESPESSURA 4 CM ÁREAS SECAS E AREAS MOLHADAS SOBRE LAJE E 3 CM ÁREAS MOLHADAS SOBRE IMPERMEABILIZAÇÃO, PARA EDIFICAÇÃO HABITACIONAL UNIFAMILIAR(CASA) E EDIFICAÇÃO PÚBLICA PADRÃO. AF_11/2014 | E27: M2 | F27: 480 | G27: 41.49 | H27: 53.84 | I27: =F27*H27 -> 25843.2 | J27: =I27/I$67 -> 0.0232 | K27: =J27+K26 -> 0.7269 | L27: =IF(K27<=$P$13,"A",IF(K27<=$P$14,"B","C")) -> B
A28: 1.11.3. | B28: SINAPI | C28: 92567 | D28: FABRICAÇÃO E INSTALAÇÃO DE ESTRUTURA PONTALETADA DE MADEIRA NÃO APARELHADA PARA TELHADOS COM MAIS QUE 2 ÁGUAS E PARA TELHA CERÂMICA OU DE CONCRETO, INCLUSO TRANSPORTE VERTICAL. AF_12/2015 | E28: M2 | F28: 907.44 | G28: 21.7 | H28: 28.16 | I28: =F28*H28 -> 25553.51 | J28: =I28/I$67 -> 0.0229 | K28: =J28+K27 -> 0.7498 | L28: =IF(K28<=$P$13,"A",IF(K28<=$P$14,"B","C")) -> B
A29: 1.12.1. | B29: SINAPI | C29: 96116 | D29: FORRO EM RÉGUAS DE PVC, FRISADO, PARA AMBIENTES COMERCIAIS, INCLUSIVE ESTRUTURA DE FIXAÇÃO. AF_05/2017_P | E29: M2 | F29: 480 | G29: 39.01 | H29: 50.62 | I29: =F29*H29 -> 24297.6 | J29: =I29/I$67 -> 0.0218 | K29: =J29+K28 -> 0.7716 | L29: =IF(K29<=$P$13,"A",IF(K29<=$P$14,"B","C")) -> B
A30: 1.5.7. | B30: SINAPI | C30: 92917 | D30: ARMAÇÃO DE ESTRUTURAS DE CONCRETO ARMADO, EXCETO VIGAS, PILARES, LAJES E FUNDAÇÕES, UTILIZANDO AÇO CA-50 DE 8,0 MM - MONTAGEM. AF_12/2015 | E30: KG | F30: 2123.6 | G30: 8.22 | H30: 10.67 | I30: =F30*H30 -> 22658.81 | J30: =I30/I$67 -> 0.0203 | K30: =J30+K29 -> 0.7919 | L30: =IF(K30<=$P$13,"A",IF(K30<=$P$14,"B","C")) -> B
A31: 1.5.2. | B31: SINAPI | C31: 92919 | D31: ARMAÇÃO DE ESTRUTURAS DE CONCRETO ARMADO, EXCETO VIGAS, PILARES, LAJES E FUNDAÇÕES, UTILIZANDO AÇO CA-50 DE 10,0 MM - MONTAGEM. AF_12/2015 | E31: KG | F31: =1821.6+273.1 -> 2094.7 | G31: 7.18 | H31: 9.32 | I31: =F31*H31 -> 19522.6 | J31: =I31/I$67 -> 0.0175 | K31: =J31+K30 -> 0.8094 | L31: =IF(K31<=$P$13,"A",IF(K31<=$P$14,"B","C")) -> C
A32: 1.1.3. | B32: SINAPI | C32: 99059 | D32: LOCACAO CONVENCIONAL DE OBRA, UTILIZANDO GABARITO DE TÁBUAS CORRIDAS PONTALETADAS A CADA 2,00M - 2 UTILIZAÇÕES. AF_10/2018 | E32: M | F32: 354 | G32: 35.85 | H32: 46.52 | I32: =F32*H32 -> 16468.08 | J32: =I32/I$67 -> 0.0148 | K32: =J32+K31 -> 0.8242 | L32: =IF(K32<=$P$13,"A",IF(K32<=$P$14,"B","C")) -> C
A33: 1.9.16. | B33: SINAPI-I | C33: 43092 | D33: CENTRO DE MEDICAO AGRUPADA, EM POLICARBONATO / PVC, COM 16 MEDIDORES E PROTECAO GERAL (INCLUI BARRAMENTO, DISJUNTORES E ACESSORIOS DE FIXACAO) (PADRAO CONCESSIONARIA LOCAL) | E33: UN | F33: 2 | G33: 6280.05 | H33: 8149.62 | I33: =F33*H33 -> 16299.24 | J33: =I33/I$67 -> 0.0146 | K33: =J33+K32 -> 0.8388 | L33: =IF(K33<=$P$13,"A",IF(K33<=$P$14,"B","C")) -> C
A34: 1.13.2. | B34: SINAPI | C34: 88489 | D34: APLICAÇÃO MANUAL DE PINTURA COM TINTA LÁTEX ACRÍLICA EM PAREDES, DUAS DEMÃOS. AF_06/2014 | E34: M2 | F34: 949.18 | G34: 12.51 | H34: 16.23 | I34: =F34*H34 -> 15405.19 | J34: =I34/I$67 -> 0.0138 | K34: =J34+K33 -> 0.8526 | L34: =IF(K34<=$P$13,"A",IF(K34<=$P$14,"B","C")) -> C
A35: 1.4.4. | B35: SINAPI | C35: 96541 | D35: FABRICAÇÃO, MONTAGEM E DESMONTAGEM DE FÔRMA PARA SAPATA, EM CHAPA DE MADEIRA COMPENSADA RESINADA, E=17 MM, 4 UTILIZAÇÕES. AF_06/2017 | E35: M2 | F35: 78.67 | G35: 126.4 | H35: 164.03 | I35: =F35*H35 -> 12904.24 | J35: =I35/I$67 -> 0.0116 | K35: =J35+K34 -> 0.8642 | L35: =IF(K35<=$P$13,"A",IF(K35<=$P$14,"B","C")) -> C
A36: 1.9.12. | B36: SINAPI | C36: 97592 | D36: LUMINÁRIA TIPO PLAFON, DE SOBREPOR, COM 1 LÂMPADA LED - FORNECIMENTO E INSTALAÇÃO. AF_11/2017 | E36: UN | F36: 100 | G36: 95.31 | H36: 123.68 | I36: =F36*H36 -> 12368 | J36: =I36/I$67 -> 0.0111 | K36: =J36+K35 -> 0.8753 | L36: =IF(K36<=$P$13,"A",IF(K36<=$P$14,"B","C")) -> C
A37: 1.13.3. | B37: SINAPI | C37: 88487 | D37: APLICAÇÃO MANUAL DE PINTURA COM TINTA LÁTEX PVA EM PAREDES, DUAS DEMÃOS. AF_06/2014 | E37: M2 | F37: 949.18 | G37: 10.04 | H37: 13.03 | I37: =F37*H37 -> 12367.82 | J37: =I37/I$67 -> 0.0111 | K37: =J37+K36 -> 0.8864 | L37: =IF(K37<=$P$13,"A",IF(K37<=$P$14,"B","C")) -> C
A38: 1.5.9. | B38: SINAPI | C38: 92915 | D38: ARMAÇÃO DE ESTRUTURAS DE CONCRETO ARMADO, EXCETO VIGAS, PILARES, LAJES E FUNDAÇÕES, UTILIZANDO AÇO CA-60 DE 5,0 MM - MONTAGEM. AF_12/2015 | E38: KG | F38: =864+558 -> 1422 | G38: 10.13 | H38: 13.15 | I38: =F38*H38 -> 18699.3 | J38: =I38/I$67 -> 0.0168 | K38: =J38+K37 -> 0.9032 | L38: =IF(K38<=$P$13,"A",IF(K38<=$P$14,"B","C")) -> C
A39: 1.9.1. | B39: SINAPI | C39: 91926 | D39: CABO DE COBRE FLEXÍVEL ISOLADO, 2,5 MM², ANTI-CHAMA 450/750 V, PARA CIRCUITOS TERMINAIS - FORNECIMENTO E INSTALAÇÃO. AF_12/2015 | E39: M | F39: 3075 | G39: 2.5 | H39: 3.24 | I39: =F39*H39 -> 9963 | J39: =I39/I$67 -> 0.0089 | K39: =J39+K38 -> 0.9121 | L39: =IF(K39<=$P$13,"A",IF(K39<=$P$14,"B","C")) -> C
A40: 1.4.2. | B40: SINAPI | C40: 94964 | D40: CONCRETO FCK = 20MPA, TRAÇO 1:2,7:3 (CIMENTO/ AREIA MÉDIA/ BRITA 1) - PREPARO MECÂNICO COM BETONEIRA 400 L. AF_07/2016 | E40: M3 | F40: 19.47 | G40: 385.98 | H40: 500.89 | I40: =F40*H40 -> 9752.33 | J40: =I40/I$67 -> 0.0088 | K40: =J40+K39 -> 0.9209 | L40: =IF(K40<=$P$13,"A",IF(K40<=$P$14,"B","C")) -> C
A41: 1.9.13. | B41: SINAPI | C41: 84402 | D41: QUADRO DE DISTRIBUICAO DE ENERGIA P/ 6 DISJUNTORES TERMOMAGNETICOS MONOPOLARES SEM BARRAMENTO, DE EMBUTIR, EM CHAPA METALICA - FORNECIMENTO E INSTALACAO | E41: UN | F41: 100 | G41: 74.9 | H41: 97.2 | I41: =F41*H41 -> 9720 | J41: =I41/I$67 -> 0.0087 | K41: =J41+K40 -> 0.9296 | L41: =IF(K41<=$P$13,"A",IF(K41<=$P$14,"B","C")) -> C
A42: 1.11.4. | B42: SINAPI | C42: 94231 | D42: RUFO EM CHAPA DE AÇO GALVANIZADO NÚMERO 24, CORTE DE 25 CM, INCLUSO TRANSPORTE VERTICAL. AF_07/2019 | E42: M | F42: 217.3 | G42: 32.39 | H42: 42.03 | I42: =F42*H42 -> 9133.12 | J42: =I42/I$67 -> 0.0082 | K42: =J42+K41 -> 0.9378 | L42: =IF(K42<=$P$13,"A",IF(K42<=$P$14,"B","C")) -> C
A43: 1.9.14. | B43: SINAPI | C43: 91855 | D43: ELETRODUTO FLEXÍVEL CORRUGADO REFORÇADO, PVC, DN 25 MM (3/4"), PARA CIRCUITOS TERMINAIS, INSTALADO EM PAREDE - FORNECIMENTO E INSTALAÇÃO. AF_12/2015 | E43: M | F43: 972 | G43: 6.6 | H43: 8.56 | I43: =F43*H43 -> 8320.32 | J43: =I43/I$67 -> 0.0075 | K43: =J43+K42 -> 0.9453 | L43: =IF(K43<=$P$13,"A",IF(K43<=$P$14,"B","C")) -> C
A44: 1.8.3. | B44: SINAPI | C44: 88649 | D44: RODAPÉ CERÂMICO DE 7CM DE ALTURA COM PLACAS TIPO ESMALTADA EXTRA DE DIMENSÕES 45X45CM. AF_06/2014 | E44: M | F44: 880 | G44: 6.06 | H44: 7.86 | I44: =F44*H44 -> 6916.8 | J44: =I44/I$67 -> 0.0062 | K44: =J44+K43 -> 0.9515 | L44: =IF(K44<=$P$13,"A",IF(K44<=$P$14,"B","C")) -> C
...

Sheet  PLANILHA CONSOLIDADA ATT
B1: PLANILHA CONSOLIDADA - 2ª REPROGRAMAÇÃO DA PRAÇA DE EVENTOS - 2ª ETAPA
B2: OBJETO: Construção da Praça de Eventos Segunda Etapa nesta cidade de Santarém/Pará
B3: MUNICÍPIO/UF: Santarém/PA | E3: CONVÊNIO: 373.259.-91/11
A9: CODIGO | B9: ITEM | C9: DESCRIÇÃO | D9: UNID. | E9: QUANT. | F9: PREÇO UNIT. | G9: PREÇO TOTAL
B10: =#REF! -> #REF! | C10: =#REF! -> #REF! | G10: =#REF! -> #REF!
A11: =#REF! -> #REF! | B11: =#REF! -> #REF! | C11: =#REF! -> #REF! | D11: =#REF! -> #REF! | E11: =#REF! -> #REF! | F11: =#REF! -> #REF! | G11: =#REF! -> #REF!
A12: =#REF! -> #REF! | B12: =#REF! -> #REF! | C12: =#REF! -> #REF! | D12: =#REF! -> #REF! | E12: =#REF! -> #REF! | F12: =#REF! -> #REF! | G12: =#REF! -> #REF!
A13: =#REF! -> #REF! | B13: =#REF! -> #REF! | C13: =#REF! -> #REF! | D13: =#REF! -> #REF! | E13: =#REF! -> #REF! | F13: =#REF! -> #REF! | G13: =#REF! -> #REF!
A14: =#REF! -> #REF! | B14: =#REF! -> #REF! | C14: =#REF! -> #REF! | D14: =#REF! -> #REF! | E14: =#REF! -> #REF! | F14: =#REF! -> #REF! | G14: =#REF! -> #REF!
G15: =#REF! -> #REF!
B16: =#REF! -> #REF! | C16: =#REF! -> #REF! | G16: =#REF! -> #REF!
A17: =#REF! -> #REF! | B17: =#REF! -> #REF! | C17: =#REF! -> #REF! | D17: =#REF! -> #REF! | E17: =#REF! -> #REF! | F17: =#REF! -> #REF! | G17: =#REF! -> #REF!
A18: =#REF! -> #REF! | B18: =#REF! -> #REF! | C18: =#REF! -> #REF! | D18: =#REF! -> #REF! | E18: =#REF! -> #REF! | F18: =#REF! -> #REF! | G18: =#REF! -> #REF!
A19: =#REF! -> #REF! | B19: =#REF! -> #REF! | C19: =#REF! -> #REF! | D19: =#REF! -> #REF! | E19: =#REF! -> #REF! | F19: =#REF! -> #REF! | G19: =#REF! -> #REF!
A20: =#REF! -> #REF! | B20: =#REF! -> #REF! | C20: =#REF! -> #REF! | D20: =#REF! -> #REF! | E20: =#REF! -> #REF! | F20: =#REF! -> #REF! | G20: =#REF! -> #REF!
G21: =#REF! -> #REF!
B22: =#REF! -> #REF! | C22: =#REF! -> #REF! | G22: =#REF! -> #REF!
A23: =#REF! -> #REF! | B23: =#REF! -> #REF! | C23: =#REF! -> #REF! | D23: =#REF! -> #REF! | E23: =#REF! -> #REF! | F23: =#REF! -> #REF! | G23: =#REF! -> #REF!
A24: =#REF! -> #REF! | B24: =#REF! -> #REF! | C24: =#REF! -> #REF! | D24: =#REF! -> #REF! | E24: =#REF! -> #REF! | F24: =#REF! -> #REF! | G24: =#REF! -> #REF!
G25: =#REF! -> #REF!
B26: =#REF! -> #REF! | C26: =#REF! -> #REF! | G26: =#REF! -> #REF!
A27: =#REF! -> #REF! | B27: =#REF! -> #REF! | C27: =#REF! -> #REF! | D27: =#REF! -> #REF! | E27: =#REF! -> #REF! | F27: =#REF! -> #REF! | G27: =#REF! -> #REF!
A28: =#REF! -> #REF! | B28: =#REF! -> #REF! | C28: =#REF! -> #REF! | D28: =#REF! -> #REF! | E28: =#REF! -> #REF! | F28: =#REF! -> #REF! | G28: =#REF! -> #REF!
A29: =#REF! -> #REF! | B29: =#REF! -> #REF! | C29: =#REF! -> #REF! | D29: =#REF! -> #REF! | E29: =#REF! -> #REF! | F29: =#REF! -> #REF! | G29: =#REF! -> #REF!
A30: =#REF! -> #REF! | B30: =#REF! -> #REF! | C30: =#REF! -> #REF! | D30: =#REF! -> #REF! | E30: =#REF! -> #REF! | F30: =#REF! -> #REF! | G30: =#REF! -> #REF!
A31: =#REF! -> #REF! | B31: =#REF! -> #REF! | C31: =#REF! -> #REF! | D31: =#REF! -> #REF! | E31: =#REF! -> #REF! | F31: =#REF! -> #REF! | G31: =#REF! -> #REF!
A32: =#REF! -> #REF! | B32: =#REF! -> #REF! | C32: =#REF! -> #REF! | D32: =#REF! -> #REF! | E32: =#REF! -> #REF! | F32: =#REF! -> #REF! | G32: =#REF! -> #REF!
A33: =#REF! -> #REF! | B33: =#REF! -> #REF! | C33: =#REF! -> #REF! | D33: =#REF! -> #REF! | E33: =#REF! -> #REF! | F33: =#REF! -> #REF! | G33: =#REF! -> #REF!
G34: =#REF! -> #REF!
B35: =#REF! -> #REF! | C35: =#REF! -> #REF! | G35: =#REF! -> #REF!
A36: =#REF! -> #REF! | B36: =#REF! -> #REF! | C36: =#REF! -> #REF! | D36: =#REF! -> #REF! | E36: =#REF! -> #REF! | F36: =#REF! -> #REF! | G36: =#REF! -> #REF!
A37: =#REF! -> #REF! | B37: =#REF! -> #REF! | C37: =#REF! -> #REF! | D37: =#REF! -> #REF! | E37: =#REF! -> #REF! | F37: =#REF! -> #REF! | G37: =#REF! -> #REF!
A38: =#REF! -> #REF! | B38: =#REF! -> #REF! | C38: =#REF! -> #REF! | D38: =#REF! -> #REF! | E38: =#REF! -> #REF! | F38: =#REF! -> #REF! | G38: =#REF! -> #REF!
A39: =#REF! -> #REF! | B39: =#REF! -> #REF! | C39: =#REF! -> #REF! | D39: =#REF! -> #REF! | E39: =#REF! -> #REF! | F39: =#REF! -> #REF! | G39: =#REF! -> #REF!
G40: =#REF! -> #REF!
B41: =#REF! -> #REF! | C41: =#REF! -> #REF! | G41: =#REF! -> #REF!
B42: =#REF! -> #REF! | C42: =#REF! -> #REF! | G42: =#REF! -> #REF!
B43: =#REF! -> #REF! | C43: =#REF! -> #REF!
A44: =#REF! -> #REF! | B44: =#REF! -> #REF! | C44: =#REF! -> #REF! | D44: =#REF! -> #REF! | E44: =#REF! -> #REF! | F44: =#REF! -> #REF! | G44: =#REF! -> #REF!
B45: =#REF! -> #REF! | C45: =#REF! -> #REF!
...

Sheet MEMORIA QUADRA VOLEIBOL
A1: '
A3: PREFEITURA MUNICIPAL DE SANTARÉM
A4: SECRETARIA MUNICIPAL DE INFRA-ESTRUTURA - SEMINFRA
A5: Av. Barão do Rio Branco, s/n - Aeroporto Velho - CEP 68.005-310 - CNPJ (MF) 05.182.233/0007-61
A6: SANTARÉM-PARÁ
A7: MEMÓRIA DE CÁLCULO
A8: Objeto: | B8: QUADRA DE VOLEIBOL | G8: BDI: 30%
A9: Local: | B9: SANTARÉM
A10: Bairro: | B10: ZONA URBANA
A12: 6.5.1 | B12: SERVIÇOS PRELIMINARES
A14: ITEM | B14: SERVIÇO | C14: UNI | D14: QUANT. | E14: Espessura (M) | F14: Comprimento (M) | G14: Largura (M) | H14: Area (M²)
A15: 6.5.1.1 | B15: Limpeza manual do terreno (c/ raspagem superficial) | C15: m²
F16: 45 | G16: 12 | H16: =G16*F16 -> 540
C17: m² | E17: TOTAL | H17: =H16 -> 540
A19: ITEM | B19: SERVIÇO | C19: UNI | D19: QUANT. | E19: Espessura (M) | F19: Comprimento (M) | G19: Largura (M) | H19: Area (M²)
A20: 6.5.1.2 | B20: Locação convencional de obra, através de gabarito de tabuas corridas pontaletadas a cada 1,50m, sem reaproveitamento | C20: m² | F20: =F16 -> 45 | G20: =G16 -> 12 | H20: =G20*F20 -> 540
C22: m² | E22: TOTAL | H22: =SUM(H20:H21) -> 540
A24: ITEM | B24: SERVIÇO | C24: UNI | D24: QUANT. | E24: Espessura (M) | F24: Comprimento (M) | G24: Largura (M) | H24: Area (M²)
A25: 6.5.1.3 | B25: Barracão de obra para alojamento/escritório, piso em pinho 3a, paredes em compensado 10mm, cobertura em telha amianto 6mm, incluso instalação es elétricas e esquadrias | C25: m² | F25: 4 | G25: 4 | H25: =G25*F25 -> 16
C27: m² | E27: TOTAL | H27: =SUM(H25:H26) -> 16
A29: ITEM | B29: SERVIÇO | C29: UNI | D29: QUANT. | E29: Espessura (M) | F29: Comprimento (M) | G29: Largura (M) | H29: Area (M²)
A30: 6.5.1.4 | B30: Placa de obra em chapa de aço galvanizado | C30: m² | F30: 3 | G30: 2 | H30: =G30*F30 -> 6
C32: m² | E32: TOTAL | H32: =SUM(H30:H31) -> 6
A34: 6.5.1 | B34: MOVIMENTO DE TERRA
A36: ITEM | B36: SERVIÇO | C36: UNI | D36: QUANT. | E36: Espessura (M) | F36: Comprimento (M) | G36: Profundidade (M) | H36: Volume (M³)
A37: 6.5.1.1 | B37: Escavação manual de vala em material de 1a categoria ate 1,5m excluindo esgotamento / escoramento | C37: m³
D38: 2 | E38: 0.2 | F38: =F16 -> 45 | G38: 0.4 | H38: =G38*F38*E38*D38 -> 7.2
D39: 2 | E39: 0.2 | F39: =G20 -> 12 | G39: 0.4 | H39: =G39*F39*E39*D39 -> 1.92
C40: m³ | E40: TOTAL | H40: =SUM(H38:H39) -> 9.12
A43: ITEM | B43: SERVIÇO | C43: UNI | D43: QUANT. | E43: Espessura (M) | F43: Comprimento (M) | G43: Largura (M) | H43: Volume (M³)
A44: 6.5.1.2 | B44: Aterro apiloado(manual) em camadas de 20 cm com material de empréstimo | C44: m³
E45: 0.4 | F45: =F16 -> 45 | G45: =G16 -> 12 | H45: =G45*F45*E45 -> 216
C46: m³ | E46: TOTAL | H46: =H45 -> 216
A48: 6.5.2 | B48: FUNDAÇÕES
A50: ITEM | B50: SERVIÇO | C50: UNI | D50: QUANT. | E50: Espessura (M) | F50: Comprimento (M) | G50: Largura (M) | H50: Volume (M³)
A51: 6.5.3.1 | B51: Concreto ciclópico fck=10mpa 30% pedra de mão inclusive lançamento | C51: m³
D52: 2 | E52: 0.2 | F52: =F16 -> 45 | G52: 0.3 | H52: =G52*F52*E52*D52 -> 5.4
D53: 2 | E53: 0.2 | F53: =G16 -> 12 | G53: 0.3 | H53: =G53*F53*E53*D53 -> 1.44
C54: m³ | E54: TOTAL | H54: =SUM(H52:H53) -> 6.84
A57: ITEM | B57: SERVIÇO | C57: UNI | D57: QUANT. | E57: Espessura (M) | F57: Comprimento (M) | G57: Largura (M) | H57: Volume (M³)
...

Sheet PLANILHA CONSOLIDADA
B1: PLANILHA CONSOLIDADA - 1ª REPROGRAMAÇÃO DA PRAÇA DE EVENTOS - 2ª ETAPA
B2: OBJETO: Construção da Praça de Eventos Segunda Etapa nesta cidade de Santarém/Pará
B3: CONTRATANTE: Núcleo de Gerenciamento de Obras Especiais - NGO | E3: CONVÊNIO: 373.259.-91/11
B4: MUNICÍPIO/UF: Santarém/PA | E4: CONTRATO: 002/2015 - NGO
A6: CONTRATUAL
A8: ITEM | B8: DESCRIÇÃO | C8: UNID. | D8: QUNT. | E8: QUANT. | F8: P. UNIT. (R$) | G8: P. TOT. (R$) | O8: SALDO A REPROG. (R$)
A9: 1.0 | B9: SERVIÇOS PRELIMINARES | G9: =SUM(G10:G13) -> 34254.5 | L9: =SUM(L10:L13) -> 15430.77 | M9: =SUM(M10:M13) -> 21388.66 | N9: =SUM(N10:N13) -> 0 | O9: =SUM(O10:O13) -> 40212.39
A10: 1.1 | B10: Placa de obra em chapa de aço galvanizado | C10: m² | D10: 0 | E10: 6 | F10: 312.72 | G10: =F10*E10 -> 1876.32 | H10: 6 | I10: 0 | J10: 0 | K10: =(E10+I10-J10)-H10 -> 0 | L10: 1876.32 | M10: =I10*F10 -> 0 | N10: =J10*F10 -> 0 | O10: =(G10+M10-N10)-L10 -> 0
A11: 1.2 | B11: Limpeza de terreno - raspagem mecanizada (motoniveladora) de camada vegetal | C11: m² | D11: 0 | E11: 4864.01 | F11: 0.52 | G11: =F11*E11 -> 2529.29 | H11: 4864.01 | I11: 0 | J11: 0 | K11: =(E11+I11-J11)-H11 -> 0 | L11: 2529.29 | M11: =I11*F11 -> 0 | N11: =J11*F11 -> 0 | O11: =(G11+M11-N11)-L11 -> 0
A12: 1.3 | B12: Locação convencional de obra, através de gabarito de tabuas corridas pontaletadas a cada 1,50m, sem reaproveitamento | C12: m² | D12: 7793.1 | E12: 4864.01 | F12: 5.16 | G12: =F12*E12 -> 25098.29 | H12: 1216 | I12: 4145.09 | J12: 0 | K12: =(E12+I12-J12)-H12 -> 7793.1 | L12: 6274.56 | M12: =I12*F12 -> 21388.66 | N12: =J12*F12 -> 0 | O12: =(G12+M12-N12)-L12 -> 40212.39 | AA12: =I12+E12 -> 9009.1
A13: 1.4 | B13: Barracão para deposito em tabuas de madeira, cobertura em fibrocimento 4 mm, incluso piso argamassa traço 1:6 (cimento e areia) | C13: m² | D13: 0 | E13: 20 | F13: 237.53 | G13: =F13*E13 -> 4750.6 | H13: 20 | I13: 0 | J13: 0 | K13: =(E13+I13-J13)-H13 -> 0 | L13: 4750.6 | M13: =I13*F13 -> 0 | N13: =J13*F13 -> 0 | O13: =(G13+M13-N13)-L13 -> 0
A15: 2.0 | B15: MOVIMENTO DE TERRA | G15: =SUM(G16:G18) -> 37940.69 | L15: =SUM(L16:L18) -> 4496.07 | M15: =SUM(M16:M18) -> 72065.04 | N15: =SUM(N16:N18) -> 4210.22 | O15: =SUM(O16:O18) -> 101299.44
A16: 2.1 | B16: Carga manual e remoção e entulho com transporte ate 1km em caminhão basculante 8 m³ | C16: m³ | D16: 0 | E16: 450.96 | F16: 9.97 | G16: =F16*E16 -> 4496.07 | H16: 450.96 | K16: =(E16+I16-J16)-H16 -> 0 | L16: 4496.07 | M16: =I16*F16 -> 0 | N16: =J16*F16 -> 0 | O16: =(G16+M16-N16)-L16 -> 0
A17: 2.2 | B17: Escavação manual de valas H <= 1,50 M | C17: m³ | D17: 0 | E17: 270.58 | F17: 15.56 | G17: =F17*E17 -> 4210.22 | J17: 270.58 | K17: =(E17+I17-J17)-H17 -> 0 | M17: =I17*F17 -> 0 | N17: =J17*F17 -> 4210.22 | O17: =(G17+M17-N17)-L17 -> 0
A18: 2.3 | B18: Aterro compactado c/ apiloamento | C18: m³ | D18: 1801.84 | E18: 520 | F18: 56.22 | G18: =F18*E18 -> 29234.4 | I18: 1281.84 | K18: =(E18+I18-J18)-H18 -> 1801.84 | M18: =I18*F18 -> 72065.04 | N18: =J18*F18 -> 0 | O18: =(G18+M18-N18)-L18 -> 101299.44
A20: 3.0 | B20: ARBORIZAÇÃO (PLANTIO) | G20: =SUM(G21:G22) -> 6937.35 | L20: =SUM(L21:L22) -> 0 | M20: =SUM(M21:M22) -> 29896.4 | N20: =SUM(N21:N22) -> 379.5 | O20: =SUM(O21:O22) -> 36454.25
A21: 3.1 | B21: Grama batatais em placas | C21: m² | D21: 3251.94 | E21: 585 | F21: 11.21 | G21: =F21*E21 -> 6557.85 | I21: 2666.94 | K21: =(E21+I21-J21)-H21 -> 3251.94 | M21: =I21*F21 -> 29896.4 | N21: =J21*F21 -> 0 | O21: =(G21+M21-N21)-L21 -> 36454.25
A22: 3.2 | B22: Arbusto co altura maior do que 1,00 metro | C22: unid | D22: 0 | E22: 6 | F22: 63.25 | G22: =F22*E22 -> 379.5 | J22: 6 | K22: =(E22+I22-J22)-H22 -> 0 | M22: =I22*F22 -> 0 | N22: =J22*F22 -> 379.5 | O22: =(G22+M22-N22)-L22 -> 0
A24: 4.0 | B24: PAVIMENTAÇÃO ( PISO ) | G24: =SUM(G25:G28) -> 618843.34 | L24: =SUM(L25:L28) -> 0 | M24: =SUM(M25:M28) -> 82478.21 | N24: =SUM(N25:N28) -> 372389.81 | O24: =SUM(O25:O28) -> 328931.74
A25: 4.1 | B25: Impermeabilização de superfície com argamassa de cimento e areia (grossa), traco 1:4, com aditivo impermeabilizante, e=2,5cm | C25: m² | D25: 0 | E25: 8700 | F25: 15.62 | G25: =F25*E25 -> 135894 | J25: 8700 | K25: =(E25+I25-J25)-H25 -> 0 | M25: =I25*F25 -> 0 | N25: =J25*F25 -> 135894 | O25: =(G25+M25-N25)-L25 -> 0
A26: 4.2 | B26: Piso de concreto acabamento rústico espessura 7cm com juntas em madeira | C26: m² | D26: 4146.75 | E26: 8700 | F26: 51.94 | G26: =F26*E26 -> 451878 | J26: 4553.25 | K26: =(E26+I26-J26)-H26 -> 4146.75 | M26: =I26*F26 -> 0 | N26: =J26*F26 -> 236495.81 | O26: =(G26+M26-N26)-L26 -> 215382.19
A27: 4.3 | B27: Piso em ladrilho hidráulico 20x20cm assentado sobre argamassa de cimento colante rejuntado com cimento comum | C27: m² | D27: 3151.87 | E27: 905.87 | F27: 34.3 | G27: =F27*E27 -> 31071.34 | I27: 2246 | K27: =(E27+I27-J27)-H27 -> 3151.87 | M27: =I27*F27 -> 77037.8 | N27: =J27*F27 -> 0 | O27: =(G27+M27-N27)-L27 -> 108109.14
A28: 4.4 | B28: Pintura acrílica de faixas de demarcação em quadra poliesportiva, 5 cm de largura (PINTURA CICLOFAIXA) | C28: m² | D28: 994.59 | F28: 5.47 | I28: 994.59 | K28: =(E28+I28-J28)-H28 -> 994.59 | M28: =I28*F28 -> 5440.41 | N28: =J28*F28 -> 0 | O28: =(G28+M28-N28)-L28 -> 5440.41 | Q28: =N381 -> 22622.94
A30: 5.0 | B30: EQUIPAMENTOS | G30: =SUM(G31:G34) -> 61928.01 | L30: =SUM(L31:L34) -> 0 | M30: =SUM(M31:M34) -> 29654 | N30: =SUM(N31:N34) -> 32074.01 | O30: =SUM(O31:O34) -> 59508
A31: 5.1 | B31: Banco de concreto c/ assento cimentado liso med: 2,90 x 0,50 x h=0,45 | C31: m | D31: 87.64 | E31: 180.3 | F31: 144.97 | G31: =F31*E31 -> 26138.09 | J31: 92.66 | K31: =(E31+I31-J31)-H31 -> 87.64 | M31: =I31*F31 -> 0 | N31: =J31*F31 -> 13432.92 | O31: =(G31+M31-N31)-L31 -> 12705.17
A32: 5.2 | B32: Lixeira em tela moeda | C32: unid. | D32: 5 | E32: 16 | F32: 248.71 | G32: =F32*E32 -> 3979.36 | J32: 11 | K32: =(E32+I32-J32)-H32 -> 5 | M32: =I32*F32 -> 0 | N32: =J32*F32 -> 2735.81 | O32: =(G32+M32-N32)-L32 -> 1243.55
A33: 5.3 | B33: Caramanchão de madeira de lei, med. 8,00 x 1,60 m x h=2,85 m | C33: unid. | D33: 6 | E33: 12 | F33: 2650.88 | G33: =F33*E33 -> 31810.56 | J33: 6 | K33: =(E33+I33-J33)-H33 -> 6 | M33: =I33*F33 -> 0 | N33: =J33*F33 -> 15905.28 | O33: =(G33+M33-N33)-L33 -> 15905.28
A34: 5.4 | B34: Playground | C34: unid. | D34: 1 | F34: 29654 | I34: 1 | K34: =(E34+I34-J34)-H34 -> 1 | M34: =I34*F34 -> 29654 | N34: =J34*F34 -> 0 | O34: =(G34+M34-N34)-L34 -> 29654
A36: 6.0 | B36: OUTROS | G36: =SUM(G37,G103,G177,G294,G335) -> 133334.82 | L36: =SUM(L37,L103,L177,L251,L294,L335) -> 0 | M36: =SUM(M37,M103,M177,M251,M294,M335) -> 349302.8 | N36: =SUM(N37,N103,N177,N251,N294,N335) -> 18396.32 | O36: =SUM(O37,O103,O177,O251,O294,O335) -> 464241.3
A37: 6.1 | B37: Quiosques 03 | C37: unid | D37: 1 | E37: 2 | F37: 18396.32 | G37: =F37*E37 -> 36792.64 | J37: 1 | K37: =(E37+I37-J37)-H37 -> 1 | L37: =SUM(L39:L101) -> 0 | M37: =SUM(M39:M101) -> 0 | N37: =SUM(N39:N101)-0.06 -> 18396.32 | O37: =SUM(O39:O101)-0.07 -> 18396.32 | Q37: =F37-O37 -> 0 | U37: =SUM(U39:U101) -> 18396.39
A38: 6.1.1 | B38: FUNDAÇÃO E ESCAVAÇÃO | G38: =SUM(G39) -> 2921.5
A39: 6.1.1.1 | B39: Concreto ciclopico fck=10mpa 30% pedra de mão inclusive lançamento | C39: m³ | D39: 3.86 | E39: 7.72 | F39: 378.43 | G39: =F39*E39+0.02 -> 2921.5 | J39: 3.86 | K39: =(E39+I39-J39)-H39 -> 3.86 | M39: =I39*F39 -> 0 | N39: =J39*F39+0.01 -> 1460.75 | O39: =(G39+M39-N39)-L39 -> 1460.75 | P39: 7.72 | Q39: =E39*R$39 -> 15.44 | R39: 2 | S39: 3.86 | U39: =G39/R$39 -> 1460.75 | V39: =U39*R39 -> 2921.5
A41: 6.1.2 | B41: ESTRUTURA | G41: =SUM(G42:G43) -> 5428.43
A42: 6.1.2.1 | B42: Forma tabuas madeira 3a p/ pecas concreto arm, reapr 2x, incl montagem e desmontagem. Pilares e vigas | C42: m² | D42: 40.1 | E42: 80.2 | F42: 41.18 | G42: =F42*E42+0.03 -> 3302.67 | J42: 40.1 | K42: =(E42+I42-J42)-H42 -> 40.1 | M42: =I42*F42 -> 0 | N42: =J42*F42+0.02 -> 1651.34 | O42: =(G42+M42-N42)-L42+0.01 -> 1651.34 | P42: 80.2 | Q42: =E42*R$39 -> 160.4 | S42: 40.1 | U42: =G42/R$39 -> 1651.34
A43: 6.1.2.2 | B43: Concreto c/ seixo Fck= 18.0 MPA (incl. preparo e lançamento) | C43: m³ | D43: 2.23 | E43: 4.46 | F43: 476.62 | G43: =F43*E43+0.03 -> 2125.76 | J43: 2.23 | K43: =(E43+I43-J43)-H43 -> 2.23 | M43: =I43*F43 -> 0 | N43: =J43*F43+0.02 -> 1062.88 | O43: =(G43+M43-N43)-L43 -> 1062.88 | P43: 4.46 | Q43: =E43*R$39 -> 8.92 | S43: 2.23 | U43: =G43/R$39 -> 1062.88
A45: 6.1.3 | B45: COBERTURA | G45: =SUM(G46:G48) -> 6824.42
A46: 6.1.3.1 | B46: Estrutura de madeira de lei, primeira qualidade, serrada, não aparelhada, para telhas cerâmicas, vãos de ate 7m | C46: m² | D46: 26.28 | E46: 52.56 | F46: 80.12 | G46: =F46*E46+0.03 -> 4211.14 | J46: 26.28 | K46: =(E46+I46-J46)-H46 -> 26.28 | M46: =I46*F46 -> 0 | N46: =J46*F46+0.02 -> 2105.57 | O46: =(G46+M46-N46)-L46 -> 2105.57 | P46: 52.56 | Q46: =E46*R$39 -> 105.12 | S46: 26.28 | U46: =G46/R$39 -> 2105.57
A47: 6.1.3.2 | B47: Cobertura em telha cerâmica tipo plan, excluindo madeiramento | C47: m² | D47: 26.28 | E47: 52.56 | F47: 41.22 | G47: =F47*E47+0.03 -> 2166.55 | J47: 26.28 | K47: =(E47+I47-J47)-H47 -> 26.28 | M47: =I47*F47 -> 0 | N47: =J47*F47+0.02 -> 1083.28 | O47: =(G47+M47-N47)-L47+0.01 -> 1083.28 | P47: 52.56 | Q47: =E47*R$39 -> 105.12 | S47: 26.28 | U47: =G47/R$39 -> 1083.28
A48: 6.1.3.3 | B48: Cumeeira com telha cerâmica embocada com argamassa traço 1:2:8 (cimento, cal e areia) | C48: m | D48: 15 | E48: 30 | F48: 14.89 | G48: =F48*E48+0.03 -> 446.73 | J48: 15 | K48: =(E48+I48-J48)-H48 -> 15 | M48: =I48*F48 -> 0 | N48: =J48*F48+0.02 -> 223.37 | O48: =(G48+M48-N48)-L48+0.01 -> 223.37 | P48: 30 | Q48: =E48*R$39 -> 60 | S48: 15 | U48: =G48/R$39 -> 223.37
A50: 6.1.4 | B50: PAREDES E DIVISÓRIAS | G50: =SUM(G51) -> 1641.36
...

Sheet PLANILHA CURVA ABC ATT
B1: CURVA ABC
B2: OBJETO: Construção da Praça de Eventos Segunda Etapa nesta cidade de Santarém/Pará
B3: CONTRATANTE: Secretaria de Infraestrutura - SEMINFRA | E3: CONVÊNIO: 373.259.-91/11
B6: MUNICÍPIO/UF: Santarém/PA | E6: CONTRATO: 002/2015 - NGO
A9: CODIGO | B9: ITEM | C9: DESCRIÇÃO | D9: UNID. | E9: QUANT. | F9: VALOR UNIT. | G9: VALOR TOTAL | H9: % | I9: ACUMUL. %
A10: 73675 | B10: 4.2 | C10: Piso de concreto acabamento rústico espessura 7cm com juntas em madeira | D10: m² | E10: 4146.75 | F10: 51.94 | G10: 215382.19 | H10: =G10/G$266 -> 0.2067 | I10: =H10 -> 0.2067
A11: 73629 | B11: 4.3 | C11: Piso em ladrilho hidráulico 20x20cm assentado sobre argamassa de cimento colante rejuntado com cimento comum | D11: m² | E11: 3098.09 | F11: 34.3 | G11: 106264.49 | H11: =G11/G$266 -> 0.102 | I11: =I10+H11 -> 0.3087
A12: 73904/001 | B12: 2.3 | C12: Aterro compactado c/ apiloamento | D12: m³ | E12: 1801.84 | F12: 56.22 | G12: 101299.44 | H12: =G12/G$266 -> 0.0972 | I12: =I11+H12 -> 0.4059
A13: 73992/001 | B13: 1.3 | C13: Locação convencional de obra, através de gabarito de tabuas corridas pontaletadas a cada 1,50m, sem reaproveitamento | D13: m² | E13: 7992.07 | F13: 5.16 | G13: 41239.08 | H13: =G13/G$266 -> 0.0396 | I13: =I12+H13 -> 0.4455
A14: 72182 | B14: 6.4.5.2 | C14: Piso em concreto 20 mpa preparo mecânico, espessura 7cm, incluso juntas de dilatação em poliuretano 2x2m | D14: m² | E14: 703 | F14: 54.56 | G14: 38355.68 | H14: =G14/G$266 -> 0.0368 | I14: =I13+H14 -> 0.4823
A15: 171282 | B15: 6.4.6.2.2.5 | C15: Projetor c/ lâmpada vapor met. 1000W completo | D15: unid | E15: 24 | F15: 1502.23 | G15: 36053.52 | H15: =G15/G$266 -> 0.0346 | I15: =I14+H15 -> 0.5169
A16: 74236/001 | B16: 3.1 | C16: Grama batatais em placas | D16: m² | E16: 3168.58 | F16: 11.21 | G16: 35519.78 | H16: =G16/G$266 -> 0.0341 | I16: =I15+H16 -> 0.551
A17: FORNECEDOR 01 | B17: 5.4 | C17: Playground (macaco, balanço em madeira, barras paralelas para escalagem, balanço em pneus, escorregador e gangorra) | D17: unid. | E17: 1 | F17: 29654 | G17: 29654 | H17: =G17/G$266 -> 0.0285 | I17: =I16+H17 -> 0.5795
A18: 72182 | B18: 6.5.5.2 | C18: Piso em concreto 20 mpa preparo mecânico, espessura 7cm, incluso juntas de dilatação em poliuretano 2x2m | D18: m² | E18: 540 | F18: 54.56 | G18: 29462.4 | H18: =G18/G$266 -> 0.0283 | I18: =I17+H18 -> 0.6078
A19: 83731 | B19: 6.4.5.1 | C19: Impermeabilização de superfície com argamassa de cimento e areia, traço 1:3, com aditivo impermeabilizante, e=3 cm | D19: m² | E19: 703 | F19: 34.88 | G19: 24520.64 | H19: =G19/G$266 -> 0.0235 | I19: =I18+H19 -> 0.6313
A20: 73904/001 | B20: 6.4.1.2 | C20: Aterro apiloado(manual) em camadas de 20 cm com material de empréstimo | D20: m³ | E20: 281.2 | F20: 67.35 | G20: 18938.82 | H20: =G20/G$266 -> 0.0182 | I20: =I19+H20 -> 0.6495
A21: 83731 | B21: 6.5.5.1 | C21: Impermeabilização de superfície com argamassa de cimento e areia, traço 1:3, com aditivo impermeabilizante, e=3 cm | D21: m² | E21: 540 | F21: 34.88 | G21: 18835.2 | H21: =G21/G$266 -> 0.0181 | I21: =I20+H21 -> 0.6676
A22: 171282 | B22: 6.4.6.2.2.5 | C22: Projetor c/ lâmpada vapor met. 1000W completo | D22: unid | E22: 12 | F22: 1502.23 | G22: 18026.76 | H22: =G22/G$266 -> 0.0173 | I22: =I21+H22 -> 0.6849
A23: ANEXO | B23: 5.3 | C23: Caramanchão de madeira de lei, med. 8,00 x 1,60 m x h=2,85 m | D23: unid. | E23: 6 | F23: 2650.88 | G23: 15905.28 | H23: =G23/G$266 -> 0.0153 | I23: =I22+H23 -> 0.7002
A24: 74228/001 | B24: 5.1 | C24: Banco de concreto c/ assento cimentado liso med: 2,90 x 0,50 x h=0,45 | D24: m | E24: 100.8 | F24: 144.97 | G24: 14612.97 | H24: =G24/G$266 -> 0.014 | I24: =I23+H24 -> 0.7142
A25: 73904/001 | B25: 6.5.1.2 | C25: Aterro apiloado(manual) em camadas de 20 cm com material de empréstimo | D25: m³ | E25: 216 | F25: 67.35 | G25: 14547.6 | H25: =G25/G$266 -> 0.014 | I25: =I24+H25 -> 0.7282
A26: 73804/001 | B26: 6.5.7.4 | C26: Proteção de fachada com tela de nylon 3mm fixada em estrutura de madeira com arame galvanizado | D26: m² | E26: 570 | F26: 18.02 | G26: 10271.4 | H26: =G26/G$266 -> 0.0099 | I26: =I25+H26 -> 0.7381
A27: 73804/001 | B27: 6.4.6.4 | C27: Proteção de fachada com tela de nylon 3mm fixada em estrutura de madeira com arame galvanizado | D27: m² | E27: 560 | F27: 18.02 | G27: 10091.2 | H27: =G27/G$266 -> 0.0097 | I27: =I26+H27 -> 0.7478
A28: 250610 | B28: 6.4.6.3 | C28: Equipamento completo p/ quadra de esportes (TRAVES DE METAL, REDES PARA TRAVE, TABELAS DE BASQUETE COM SUPORTE METALICO) | D28: cj | E28: 1 | F28: 10082.42 | G28: 10082.42 | H28: =G28/G$266 -> 0.0097 | I28: =I27+H28 -> 0.7575
A29: 250610 | B29: 6.5.7.3 | C29: Equipamento completo p/ quadra de esportes (SUPORTE PADRAO PARA REDE DE VOLEI/ REDE DE VOLEI CONJUNTO PARA DUAS QUADRAS) | D29: cj | E29: 1 | F29: 10082.42 | G29: 10082.42 | H29: =G29/G$266 -> 0.0097 | I29: =I28+H29 -> 0.7672
A30: 73976/007 | B30: 6.4.6.5 | C30: Tubo de aço galvanizado com costura 2" (50mm), inclusive conexões - fornecimento e instalação | D30: m | E30: 90 | F30: 103.19 | G30: 9287.1 | H30: =G30/G$266 -> 0.0089 | I30: =I29+H30 -> 0.7761
A31: 73976/007 | B31: 6.5.7.5 | C31: Tubo de aço galvanizado com costura 2" (50mm), inclusive conexões - fornecimento e instalação | D31: m | E31: 90 | F31: 103.19 | G31: 9287.1 | H31: =G31/G$266 -> 0.0089 | I31: =I30+H31 -> 0.785
A32: 73783/008 | B32: 6.4.6.2.2.4 | C32: Poste concreto seção circular comprimento=11m e carga nominal 200kg inclusive escavação exclusive transporte - fornecimento e colocação | D32: unid | E32: 8 | F32: 987.97 | G32: 7903.76 | H32: =G32/G$266 -> 0.0076 | I32: =I31+H32 -> 0.7926
A33: 73935/002 | B33: 6.3.4.1 | C33: Alvenaria em tijolo cerâmico furado 9x19x19cm, 1 vez (espessura 19 cm) , assentado em argamassa traço 1:4 (cimento e areia media não peneirada), preparo manual, junta 1 cm | D33: m² | E33: 135.91 | F33: 55.98 | G33: 7608.27 | H33: =G33/G$266 -> 0.0073 | I33: =I32+H33 -> 0.7999
A34: 73935/002 | B34: 6.4.3.1 | C34: Alvenaria em tijolo cerâmico furado 9x19x19cm, 1 vez (espessura 19 cm), assentado em argamassa traço 1:4 (cimento e areia media não peneirada), preparo manual, junta1 cm | D34: m² | E34: 112 | F34: 59.7 | G34: 6686.4 | H34: =G34/G$266 -> 0.0064 | I34: =I33+H34 -> 0.8063
A35: 9537 | B35: 7.1 | C35: Limpeza final de entrega da obra | D35: unid | E35: 4865.16 | F35: 1.24 | G35: 6032.8
A36: 050267 | B36: 6.4.4.1 | C36: Concreto armado Fck=18 MPA c/ forma mad. Branca | D36: m³ | E36: 2.41 | F36: 2425.38 | G36: 5845.17
A37: 050267 | B37: 6.5.4.1 | C37: Concreto armado Fck=18 MPA c/ forma mad. Branca | D37: m³ | E37: 2.41 | F37: 2425.38 | G37: 5845.17
A38: 74245/001 | B38: 6.4.7.1 | C38: Pintura acrílica em piso cimentado duas demãos | D38: m2 | E38: 703 | F38: 8.11 | G38: 5701.33
A39: 72077 | B39: 6.3.3.1 | C39: Estrutura de madeira de lei, primeira qualidade, serrada, não aparelhada, para telhas cerâmicas, vãos de ate 7m | D39: m² | E39: 67.87 | F39: 80.12 | G39: 5437.78
A40: 41595 | B40: 4.4 | C40: Pintura acrílica de faixas de demarcação em quadra poliesportiva, 5 cm de largura (PINTURA CICLOFAIXA) | D40: m² | E40: 893.11 | F40: 5.47 | G40: 4885.31
A41: 5974 | B41: 6.5.3.2 | C41: Chapisco traço 1:4 (cimento e areia grossa), espessura 0,5cm, preparo mecânico da argamassa | D41: m² | E41: 228 | F41: 19.67 | G41: 4484.76
A42: 74245/001 | B42: 6.5.8.1 | C42: Pintura acrílica em piso cimentado duas demãos | D42: m2 | E42: 540 | F42: 8.11 | G42: 4379.4
A43: 73361 | B43: 6.5.2.1 | C43: Concreto ciclópico fck=10mpa 30% pedra de mão inclusive lançamento | D43: m³ | E43: 10.49 | F43: 396.94 | G43: 4163.9
A44: 73361 | B44: 6.4.2.1 | C44: Concreto ciclópico fck=10mpa 30% pedra de mão inclusive lançamento | D44: m³ | E44: 10.31 | F44: 396.94 | G44: 4092.45
...

Sheet QCI
A4: PREFEITURA MUNICIPAL DE SANTARÉM
A5: SECRETARIA MUNICIPAL DE INFRA-ESTRUTURA - SEMINFRA
A6: Av. Barão do Rio Branco, s/n - Aeroporto Velho - CEP 68.005-310 - CNPJ (MF) 05.182.233/0007-61
A7: SANTARÉM - PARÁ
A8: QCI - Praça de Eventos 2º Etapa
A10: Item | B10: Descrição | C10: VALORES
C12: REPASSE | D12: % | E12: CONTRAPARTIDA | F12: % | G12: TOTAL | J12: =100%-F14 -> 0.9199997
A14: 1.0 | B14: SERVIÇOS PRELIMINARES | C14: =D14*G14 -> 40473.12 | D14: 0.91999966 | E14: =G14*F14 -> 3519.42 | F14: 0.08000034 | G14: =Orçamento!H17 -> 43992.54
A15: 1.1 | B15: Placa de obra em chapa de aço galvanizado | C15: =G15-E15 -> 2128.68 | D15: 0.92 | E15: =G15*F15 -> 185.1 | F15: 0.08 | G15: =Orçamento!H18 -> 2313.78
A16: 1.2 | B16: Limpeza de terreno - raspagem mecanizada (motoniveladora) de camada vegetal | C16: =G16-E16 -> 2640.18 | D16: 0.92 | E16: =G16*F16 -> 229.58 | F16: 0.08 | G16: =Orçamento!H19 -> 2869.76 | J16: =100%-D14 -> 0.08000034
A17: 1.3 | B17: Locação convencional de obra, através de gabarito de tabuas corridas pontaletadas a cada 1,50m, sem reaproveitamento | C17: =G17-E17 -> 30652.93 | D17: 0.92 | E17: =G17*F17 -> 2665.47 | F17: 0.08 | G17: =Orçamento!H20 -> 33318.4
A18: 1.4 | B18: Barracão para deposito em tabuas de madeira, cobertura em fibrocimento 4 mm, incluso piso argamassa traço 1:6 (cimento e areia) | C18: =G18-E18 -> 5051.35 | D18: 0.92 | E18: =G18*F18 -> 439.25 | F18: 0.08 | G18: =Orçamento!H21 -> 5490.6
A20: 2.0 | B20: MOVIMENTO DE TERRA | C20: =D20*G20 -> 31676.43 | D20: 0.91999966 | E20: =G20*F20 -> 2754.48 | F20: 0.08000034 | G20: =Orçamento!H23 -> 34430.91
A21: 2.1 | B21: Carga manual e remoção e entulho com transporte ate 1km em caminhão basculante 8 m³ | C21: =G21-E21 -> 2622.06 | D21: 0.92 | E21: =G21*F21 -> 228.01 | F21: 0.08 | G21: =Orçamento!H24 -> 2850.07
A22: 2.2 | B22: Escavação manual de valas H <= 1,50 M | C22: =G22-E22 -> 2870.47 | D22: 0.92 | E22: =G22*F22 -> 249.61 | F22: 0.08 | G22: =Orçamento!H25 -> 3120.08
A23: 2.3 | B23: Aterro compactado c/ apiloamento | C23: =G23-E23 -> 26183.9 | D23: 0.92 | E23: =G23*F23 -> 2276.86 | F23: 0.08 | G23: =Orçamento!H26 -> 28460.76
F24: 0.08
A25: 3.0 | B25: ARBORIZAÇÃO (PLANTIO) | C25: =G25*D25 -> 8467.22 | D25: 0.92 | E25: =G25*F25 -> 736.28 | F25: 0.08 | G25: =Orçamento!H28 -> 9203.5
A26: 3.1 | B26: Grama batatais em placas | C26: =G26-E26 -> 8137.58 | D26: 0.92 | E26: =G26*F26 -> 707.62 | F26: 0.08 | G26: =Orçamento!H29 -> 8845.2
A27: 3.2 | B27: Arbusto co altura maior do que 1,00 metro | C27: =G27-E27 -> 329.64 | D27: 0.92 | E27: =G27*F27 -> 28.66 | F27: 0.08 | G27: =Orçamento!H30 -> 358.3
A29: 4.0 | B29: PAVIMENTAÇÃO ( PISO ) | C29: =G29*D29 -> 390507.07 | D29: 0.91999966 | E29: =G29*F29 -> 33957.29 | F29: 0.08000034 | G29: =Orçamento!H32 -> 424464.36
A30: 4.1 | B30: Impermeabilização de superfície com argamassa de cimento e areia (grossa), traco 1:4, com aditivo impermeabilizante, e=2,5cm | C30: =G30-E30 -> 97916.52 | D30: 0.92 | E30: =G30*F30 -> 8514.48 | F30: 0.08 | G30: =Orçamento!H33 -> 106431
A31: 4.2 | B31: Piso de concreto acabamento rústico espessura 7cm com juntas em madeira | C31: =G31-E31 -> 272385.95 | D31: 0.92 | E31: =G31*F31 -> 23685.73 | F31: 0.08 | G31: =Orçamento!H34 -> 296071.68
A32: 4.3 | B32: Piso em ladrilho hidráulico 20x20cm assentado sobre argamassa de cimento colante rejuntado com cimento comum | C32: =G32-E32 -> 20204.75 | D32: 0.92 | E32: =G32*F32 -> 1756.93 | F32: 0.08 | G32: =Orçamento!H35 -> 21961.68
A34: 5.0 | B34: EQUIPAMENTOS | C34: =D34*G34 -> 62133.67 | D34: 0.91999966 | E34: =G34*F34 -> 5402.95 | F34: 0.08000034 | G34: =Orçamento!H37 -> 67536.62
A35: 5.1 | B35: Banco de concreto c/ assento cimentado liso med: 2,90 x 0,50 x h=0,45 | C35: =G35-E35 -> 23213.31 | D35: 0.92 | E35: =G35*F35 -> 2018.55 | F35: 0.08 | G35: =Orçamento!H38 -> 25231.86
A36: 5.2 | B36: Caramanchão de madeira de lei, med. 8,00 x 1,60 m x h=2,85 m | C36: =G36-E36 -> 34232.06 | D36: 0.92 | E36: =G36*F36 -> 2976.7 | F36: 0.08 | G36: =Orçamento!H40 -> 37208.76
A38: 6.0 | B38: OUTROS | C38: =D38*G38 -> 133261.79 | D38: 0.91999966 | E38: =G38*F38 -> 11588.04 | F38: 0.08000034 | G38: =Orçamento!H42 -> 144849.83
