Workbook

Sheet RESUMO DA OBRA
A1: PREFEITURA MUNICIPAL DE BREVES
A2: SECRETARIA MUNICIPAL DE DESENVOLVIMENTO ECONÔMICO, PROJETOS E CONVÊNIOS
A3: OBRA: PAVIMENTAÇÃO DE VIAS URBANAS
A4: LOCAL: BAIRRO: RIACHO DOCE/SANTA CRUZ - BREVES - PA
A5: REF. DE PREÇOS: SINAPI 12/2025 - SEOP 10/2025 - ORSE - 09/2025 - NÃO DESONERADO
A6: DATA: | B6: 46037 | C6: BDI: 23,38% | D6: PRAZO:180 Dias
A7: Planilha Orçamentária Resumida
A8: Item | B8: Descrição | C8: Total | D8: Peso (%)
A9: 1 | B9: RUA ANTÔNIO FULGÊNCIO | C9: =SUM(C10:C17) -> 828703.28 | D9: =SUM(D10:D17) -> 0.7511927
A10: 1.1 | B10: SERVIÇOS PRELIMINARES | C10: ='Orçamento Sintético'!I12 -> 12009.48 | D10: =C10/$C$26 -> 0.010886205
A11: 1.2 | B11: MOVIMENTO DE TERRA | C11: ='Orçamento Sintético'!I16 -> 129870.28 | D11: =C11/$C$26 -> 0.11772321
A12: 1.3 | B12: DRENAGEM | C12: ='Orçamento Sintético'!I19 -> 147914.09 | D12: =C12/$C$26 -> 0.13407934
A13: 1.4 | B13: PAVIMENTAÇÃO EM BLOKRET | C13: ='Orçamento Sintético'!I25 -> 293381.04 | D13: =C13/$C$26 -> 0.26594042
A14: 1.5 | B14: CALÇADA PÚBLICA | C14: ='Orçamento Sintético'!I27 -> 225638.39 | D14: =C14/$C$26 -> 0.2045339
A15: 1.6 | B15: SINALIZAÇÃO VIARIA | C15: ='Orçamento Sintético'!I32 -> 4388.84 | D15: =C15/$C$26 -> 0.0039783414
A16: 1.7 | B16: DEMOLIÇÃO E EXECUÇÃO DE CALÇADA | C16: ='Orçamento Sintético'!I35 -> 12573.69 | D16: =C16/$C$26 -> 0.011397643
A17: 1.8 | B17: LIMPEZA FINAL DA OBRA | C17: ='Orçamento Sintético'!I38 -> 2927.47 | D17: =C17/$C$26 -> 0.0026536568
A18: 2 | B18: PASSAGEM PALMAZON | C18: =SUM(C19:C25) -> 274480.07 | D18: =SUM(D19:D25) -> 0.2488073
A19: 2.1 | B19: SERVIÇOS PRELIMINARES | C19: ='Orçamento Sintético'!I41 -> 6014.04 | D19: =C19/$C$26 -> 0.0054515326
A20: 2.2 | B20: MOVIMENTO DE TERRA | C20: ='Orçamento Sintético'!I45 -> 28642.51 | D20: =C20/$C$26 -> 0.025963508
A21: 2.3 | B21: DRENAGEM | C21: ='Orçamento Sintético'!I48 -> 104633.18 | D21: =C21/$C$26 -> 0.094846591
A22: 2.4 | B22: PAVIMENTAÇÃO EM BLOKRET | C22: ='Orçamento Sintético'!I54 -> 101244 | D22: =C22/$C$26 -> 0.091774409
A23: 2.5 | B23: CALÇADA PÚBLICA | C23: ='Orçamento Sintético'!I56 -> 30565.94 | D23: =C23/$C$26 -> 0.027707035
A24: 2.6 | B24: SINALIZAÇÃO VIARIA | C24: ='Orçamento Sintético'!I61 -> 2519.54 | D24: =C24/$C$26 -> 0.0022838815
A25: 2.7 | B25: LIMPEZA FINAL DA OBRA | C25: ='Orçamento Sintético'!I64 -> 860.86 | D25: =C25/$C$26 -> 0.00078034173
A26: VALOR TOTAL DA OBRA | C26: =C9+C18 -> 1103183.3 | D26: =D9+D18 -> 1

Sheet Orçamento Sintético
A2: PREFEITURA MUNICIPAL DE BREVES
A3: SECRETARIA MUNICIPAL DE DESENVOLVIMENTO ECONÔMICO, PROJETOS E CONVÊNIOS
A5: OBRA: PAVIMENTAÇÃO DE VIAS URBANAS | I5: BDI: | J5: 0.2338
A6: LOCAL: BAIRRO: RIACHO DOCE / SANTA CRUZ- BREVES - PA | I6: PRAZO DE EXECUÇÃO: | J6: 180 Dias
A7: REF. DE PREÇOS: SINAPI 12/2025 - SEOP 10/2025 - ORSE - 09/2025 - NÃO DESONERADO | H7: VALOR TOTAL: | I7: =I66 -> 1103183.3
I8: DATA: | J8: 46037
A9: ORÇAMENTO SINTÉTICO
A10: Item | B10: Código | C10: Banco | D10: Descrição | E10: Und | F10: Quant. | G10: Valor Unit | H10: Valor Unit com BDI | I10: Total | J10: Peso (%)
A11: 1 | D11: RUA ANTÔNIO FULGÊNCIO | I11: =I12+I16+I19+I25+I27+I32+I35+I38 -> 828703.28 | J11: =I11/$I$66 -> 0.7511927
A12: 1 .1 | D12: SERVIÇOS PRELIMINARES | I12: 12009.48 | J12: =I12/$I$66 -> 0.010886205
A13: 1.1 .1 | B13: 103689 | C13: SINAPI | D13: FORNECIMENTO E INSTALAÇÃO DE PLACA DE OBRA COM CHAPA GALVANIZADA E ESTRUTURA DE MADEIRA. AF_03/2022_PS | E13: m² | F13: 6 | G13: 475.04 | H13: 586.1 | I13: 3516.6 | J13: =I13/$I$66 -> 0.0031876841
A14: 1.1 .2 | B14: 98525 | C14: SINAPI | D14: LIMPEZA MECANIZADA DE CAMADA VEGETAL, VEGETAÇÃO E PEQUENAS ÁRVORES (DIÂMETRO DE TRONCO MENOR QUE 0,20 M), COM TRATOR DE ESTEIRAS. AF_03/2024 | E14: m² | F14: 3217 | G14: 0.72 | H14: 0.88 | I14: 2830.96 | J14: =I14/$I$66 -> 0.0025661736
A15: 1.1 .3 | B15: 2605 | C15: ORSE | D15: Locação de serviços de pavimentação | E15: m² | F15: 3217 | G15: 1.43 | H15: 1.76 | I15: 5661.92 | J15: =I15/$I$66 -> 0.0051323472
A16: 1.2 | D16: MOVIMENTO DE TERRA | I16: 129870.28 | J16: =I16/$I$66 -> 0.11772321
A17: 1.2.1 | B17: 030011 | C17: SEOP | D17: Aterro incluindo carga, descarga, transporte e apiloamento | E17: m³ | F17: 643.4 | G17: 156.75 | H17: 193.39 | I17: 124427.12 | J17: =I17/$I$66 -> 0.11278916
A18: 1.2.2 | B18: 96386 | C18: SINAPI | D18: EXECUÇÃO E COMPACTAÇÃO DE CORPO DE ATERRO (95% DE ENERGIA DO PROCTOR NORMAL) COM SOLO PREDOMINANTEMENTE ARENOSO ESPESSURA 15CM - EXCLUSIVE MATERIAL, ESCAVAÇÃO, CARGA E TRANSPORTE. AF_09/2024 | E18: m³ | F18: 643.4 | G18: 6.86 | H18: 8.46 | I18: 5443.16 | J18: =I18/$I$66 -> 0.0049340484
A19: 1.3 | D19: DRENAGEM | I19: 147914.09 | J19: =I19/$I$66 -> 0.13407934
A20: 1.3.1 | B20: GMS | C20: Próprio | D20: GUIA (MEIO-FIO) E SARJETA CONJUGADOS DE CONCRETO, MOLDADA IN LOCO, 45 CM BASE (15 CM BASE DA GUIA + 30 CM BASE DA SARJETA) X 22 CM ALTURA. | E20: M | F20: 694 | G20: 75.27 | H20: 92.86 | I20: 64444.84 | J20: =I20/$I$66 -> 0.058417162
A21: 1.3.2 | B21: 90106 | C21: SINAPI | D21: ESCAVAÇÃO MECANIZADA DE VALA COM PROFUNDIDADE ATÉ 1,5 M (MÉDIA MONTANTE E JUSANTE/UMA COMPOSIÇÃO POR TRECHO), RETROESCAV. (0,26 M3), LARGURA DE 0,8 M A 1,5 M, EM SOLO DE 1A CATEGORIA, LOCAIS COM BAIXO NÍVEL DE INTERFERÊNCIA. AF_09/2024 | E21: m³ | F21: 148.32 | G21: 9.02 | H21: 11.12 | I21: 1649.31 | J21: =I21/$I$66 -> 0.0014950461
A22: 1.3.3 | B22: 92214 | C22: SINAPI | D22: TUBO DE CONCRETO PARA REDES COLETORAS DE ÁGUAS PLUVIAIS, DIÂMETRO DE 800 MM, JUNTA RÍGIDA, INSTALADO EM LOCAL COM BAIXO NÍVEL DE INTERFERÊNCIAS - FORNECIMENTO E ASSENTAMENTO. AF_03/2024 | E22: M | F22: 103 | G22: 475.22 | H22: 586.32 | I22: 60390.96 | J22: =I22/$I$66 -> 0.054742451
A23: 1.3.4 | B23: CPU-22 | C23: Próprio | D23: BOCA DE LOBO EM CONCRETO ARMADO C/TAMPA - 1,20x1,20x1,50m | E23: UN | F23: 6 | G23: 2571.07 | H23: 3172.18 | I23: 19033.08 | J23: =I23/$I$66 -> 0.017252871
A24: 1.3.5 | B24: 93379 | C24: SINAPI | D24: REATERRO MECANIZADO DE VALA COM RETROESCAVADEIRA (CAPACIDADE DA CAÇAMBA DA RETRO: 0,26 M³/POTÊNCIA: 88 HP), LARGURA 0,8 A 1,5 M, PROFUNDIDADE ATÉ 1,5 M, COM SOLO (SEM SUBSTITUIÇÃO) DE 1ª CATEGORIA, COM COMPACTADOR DE SOLOS DE PERCUSSÃO AF_08/2023 | E24: m³ | F24: 96.57 | G24: 20.11 | H24: 24.81 | I24: 2395.9 | J24: =I24/$I$66 -> 0.0021718058
A25: 1.4 | D25: PAVIMENTAÇÃO EM BLOKRET | I25: 293381.04 | J25: =I25/$I$66 -> 0.26594042
A26: 1.4.1 | B26: 92394 | C26: SINAPI | D26: EXECUÇÃO DE PAVIMENTO EM PISO INTERTRAVADO, COM BLOCO SEXTAVADO DE 25 X 25 CM, ESPESSURA 8 CM. AF_10/2022 | E26: m² | F26: 2071.9 | G26: 114.77 | H26: 141.6 | I26: 293381.04 | J26: =I26/$I$66 -> 0.26594042
A27: 1.5 | D27: CALÇADA PÚBLICA | I27: 225638.39 | J27: =I27/$I$66 -> 0.2045339
A28: 1.5.1 | B28: 030011 | C28: SEOP | D28: Aterro incluindo carga, descarga, transporte e apiloamento | E28: m³ | F28: 133.25 | G28: 156.75 | H28: 193.39 | I28: 25769.21 | J28: =I28/$I$66 -> 0.023358955
A29: 1.5.2 | B29: 94990 | C29: SINAPI | D29: EXECUÇÃO DE PASSEIO (CALÇADA) OU PISO DE CONCRETO COM CONCRETO MOLDADO IN LOCO, FEITO EM OBRA, ACABAMENTO CONVENCIONAL, NÃO ARMADO. AF_08/2022 | E29: m³ | F29: 49.97 | G29: 1108.48 | H29: 1367.64 | I29: 68340.97 | J29: =I29/$I$66 -> 0.061948877
A30: 1.5.3 | B30: MGC-50 | C30: Próprio | D30: EXECUÇÃO DE MURETA GUIA PARA CONTENÇÃO COM 50 CM X 15CM DE ESPESSURA | E30: M | F30: 694 | G30: 106.91 | H30: 131.9 | I30: 91538.6 | J30: =I30/$I$66 -> 0.082976778
A31: 1.5.4 | B31: 104658 | C31: SINAPI | D31: PISO PODOTÁTIL DE ALERTA OU DIRECIONAL, DE CONCRETO, ASSENTADO SOBRE ARGAMASSA. AF_03/2024 | E31: m² | F31: 176.82 | G31: 183.31 | H31: 226.16 | I31: 39989.61 | J31: =I31/$I$66 -> 0.036249287
A32: 1.6 | D32: SINALIZAÇÃO VIARIA | I32: 4388.84 | J32: =I32/$I$66 -> 0.0039783414
A33: 1.6.1 | B33: PLI | C33: Próprio | D33: PLACA DE IDENTIFICAÇÃO NR DE RUA, DIMENSÕES DE 45x25CM, FORN. E INSTALAÇÃO | E33: PT | F33: 3 | G33: 527.03 | H33: 650.24 | I33: 1950.72 | J33: =I33/$I$66 -> 0.0017682645
A34: 1.6.2 | B34: PLS | C34: Próprio | D34: PLACA DE SINALIZAÇÃO VIÁRIA TOTALMENTE REFLEXIVA | E34: UN | F34: 4 | G34: 494.03 | H34: 609.53 | I34: 2438.12 | J34: =I34/$I$66 -> 0.0022100769
A35: 1.7 | D35: DEMOLIÇÃO E EXECUÇÃO DE CALÇADA | I35: 12573.69 | J35: =I35/$I$66 -> 0.011397643
A36: 1.7.1 | B36: 020018 | C36: SEOP | D36: Demolição manual de concreto simples | E36: m³ | F36: 6.84 | G36: 381.44 | H36: 470.62 | I36: 3219.04 | J36: =I36/$I$66 -> 0.0029179556
A37: 1.7.2 | B37: 94990 | C37: SINAPI | D37: EXECUÇÃO DE PASSEIO (CALÇADA) OU PISO DE CONCRETO COM CONCRETO MOLDADO IN LOCO, FEITO EM OBRA, ACABAMENTO CONVENCIONAL, NÃO ARMADO. AF_08/2022 | E37: m³ | F37: 6.84 | G37: 1108.48 | H37: 1367.64 | I37: 9354.65 | J37: =I37/$I$66 -> 0.0084796874
A38: 1.8 | D38: LIMPEZA FINAL DA OBRA | I38: 2927.47 | J38: =I38/$I$66 -> 0.0026536568
A39: 1.8.1 | B39: 99811 | C39: SINAPI | D39: LIMPEZA DE CONTRAPISO COM VASSOURA A SECO. AF_10/2025 | E39: m² | F39: 3217 | G39: 0.74 | H39: 0.91 | I39: 2927.47 | J39: =I39/$I$66 -> 0.0026536568
A40: 2 | D40: PASSAGEM PALMAZON | I40: =I41+I45+I48+I54+I56+I61+I64 -> 274480.07 | J40: =I40/$I$66 -> 0.2488073
A41: 2.1 | D41: SERVIÇOS PRELIMINARES | I41: 6014.04 | J41: =I41/$I$66 -> 0.0054515326
A42: 1.1 | B42: 103689 | C42: SINAPI | D42: FORNECIMENTO E INSTALAÇÃO DE PLACA DE OBRA COM CHAPA GALVANIZADA E ESTRUTURA DE MADEIRA. AF_03/2022_PS | E42: m² | F42: 6 | G42: 475.04 | H42: 586.1 | I42: 3516.6 | J42: =I42/$I$66 -> 0.0031876841
...

Sheet MEMÓRIA DE CÁLCULO
A2: PREFEITURA MUNICIPAL DE BREVES
A3: SECRETARIA MUNICIPAL DE DESENVOLVIMENTO ECONÔMICO, PROJETOS E CONVÊNIOS
A5: OBRA: PAVIMENTAÇÃO DE VIAS URBANAS | I5: BDI: | J5: 0.2338
A6: LOCAL: BAIRRO: RIACHO DOCE/ SANTA CRUZ - BREVES - PA | I6: PRAZO DE EXECUÇÃO: | J6: 180 Dias
A7: REF. DE PREÇOS: SINAPI 12/2025 - SEOP 10/2025 - ORSE - 09/2025 - NÃO DESONERADO | H7: VALOR TOTAL: | I7: ='Orçamento Sintético'!I66 -> 1103183.3
I8: DATA: | J8: 46037
A10: MÉMORIA DE CÁLCULO
A11: Item | B11: Código | C11: Banco | D11: Descrição | E11: Und | F11: Quant. | G11: Memória de cálculo
A12: 1 | D12: RUA ANTÔNIO FULGÊNCIO
A13: 1 .1 | D13: SERVIÇOS PRELIMINARES
A14: 1.1 .1 | B14: 103689 | C14: SINAPI | D14: FORNECIMENTO E INSTALAÇÃO DE PLACA DE OBRA COM CHAPA GALVANIZADA E ESTRUTURA DE MADEIRA. AF_03/2022_PS | E14: m² | F14: 6 | G14: 2,00m x 3,00m
A15: 1.1 .2 | B15: 98525 | C15: SINAPI | D15: LIMPEZA MECANIZADA DE CAMADA VEGETAL, VEGETAÇÃO E PEQUENAS ÁRVORES (DIÂMETRO DE TRONCO MENOR QUE 0,20 M), COM TRATOR DE ESTEIRAS. AF_03/2024 | E15: m² | F15: 3217 | G15: (146,00m x 8,57m)+(201,00m x 9,78m)
A16: 1.1 .3 | B16: 2605 | C16: ORSE | D16: Locação de serviços de pavimentação | E16: m² | F16: 3217 | G16: (146,00m x 8,57m)+(201,00m x 9,78m)
A17: 1.2 | D17: MOVIMENTO DE TERRA
A18: 1.2.1 | B18: 030011 | C18: SEDOP | D18: Aterro incluindo carga, descarga, transporte e apiloamento | E18: m³ | F18: 643.4 | G18: [(146,00m x 8,57m)+(201,00m x 9,78m)] x 0,20m
A19: 1.2.2 | B19: 96386 | C19: SINAPI | D19: EXECUÇÃO E COMPACTAÇÃO DE CORPO DE ATERRO (95% DE ENERGIA DO PROCTOR NORMAL) COM SOLO PREDOMINANTEMENTE ARENOSO ESPESSURA 15CM - EXCLUSIVE MATERIAL, ESCAVAÇÃO, CARGA E TRANSPORTE. AF_09/2024 | E19: m³ | F19: 643.4 | G19: [(146,00m x 8,57m)+(201,00m x 9,78m)] x 0,20m
A20: 1.3 | D20: DRENAGEM
A21: 1.3.1 | B21: GMS | C21: Próprio | D21: GUIA (MEIO-FIO) E SARJETA CONJUGADOS DE CONCRETO, MOLDADA IN LOCO, 45 CM BASE (15 CM BASE DA GUIA + 30 CM BASE DA SARJETA) X 22 CM ALTURA. | E21: M | F21: 694 | G21: 347,00m x 2 lados
A22: 1.3.2 | B22: 90106 | C22: SINAPI | D22: ESCAVAÇÃO MECANIZADA DE VALA COM PROFUNDIDADE ATÉ 1,5 M (MÉDIA MONTANTE E JUSANTE/UMA COMPOSIÇÃO POR TRECHO), RETROESCAV. (0,26 M3), LARGURA DE 0,8 M A 1,5 M, EM SOLO DE 1A CATEGORIA, LOCAIS COM BAIXO NÍVEL DE INTERFERÊNCIA. AF_09/2024 | E22: m³ | F22: 148.32 | G22: (1,20m x 1,20m x 103,00m)
A23: 1.3.3 | B23: 92214 | C23: SINAPI | D23: TUBO DE CONCRETO PARA REDES COLETORAS DE ÁGUAS PLUVIAIS, DIÂMETRO DE 800 MM, JUNTA RÍGIDA, INSTALADO EM LOCAL COM BAIXO NÍVEL DE INTERFERÊNCIAS - FORNECIMENTO E ASSENTAMENTO. AF_03/2024 | E23: M | F23: 103 | G23: 103,00m
A24: 1.3.4 | B24: CPU-22 | C24: Próprio | D24: BOCA DE LOBO EM CONCRETO ARMADO C/TAMPA - 1,20x1,20x1,50m | E24: UN | F24: 6 | G24: 6,00 unidades
A25: 1.3.5 | B25: 93379 | C25: SINAPI | D25: REATERRO MECANIZADO DE VALA COM RETROESCAVADEIRA (CAPACIDADE DA CAÇAMBA DA RETRO: 0,26 M³/POTÊNCIA: 88 HP), LARGURA 0,8 A 1,5 M, PROFUNDIDADE ATÉ 1,5 M, COM SOLO (SEM SUBSTITUIÇÃO) DE 1ª CATEGORIA, COM COMPACTADOR DE SOLOS DE PERCUSSÃO AF_08/2023 | E25: m³ | F25: 96.57 | G25: (148,32m³ - 3,14 x 0,40m x 0,40m x 103,00m)
A26: 1.4 | D26: PAVIMENTAÇÃO EM BLOKRET
A27: 1.4.1 | B27: 92394 | C27: SINAPI | D27: EXECUÇÃO DE PAVIMENTO EM PISO INTERTRAVADO, COM BLOCO SEXTAVADO DE 25 X 25 CM, ESPESSURA 8 CM. AF_10/2022 | E27: m² | F27: 2071.9 | G27: (146,00m x 5,27m)+(201,00m x 6,48m)
A28: 1.5 | D28: CALÇADA PÚBLICA
A29: 1.5.1 | B29: 030011 | C29: SEDOP | D29: Aterro incluindo carga, descarga, transporte e apiloamento | E29: m³ | F29: 133.25 | G29: (347,00m x 2 lados) x 1,20m x 0,16cm
A30: 1.5.2 | B30: 94990 | C30: SINAPI | D30: EXECUÇÃO DE PASSEIO (CALÇADA) OU PISO DE CONCRETO COM CONCRETO MOLDADO IN LOCO, FEITO EM OBRA, ACABAMENTO CONVENCIONAL, NÃO ARMADO. AF_08/2022 | E30: m³ | F30: 49.97 | G30: (347,00m x 2 lados) x 1,20m x 0,06cm
A31: 1.5.3 | B31: MGC-50 | C31: Próprio | D31: EXECUÇÃO DE MURETA GUIA PARA CONTENÇÃO COM 50 CM X 15CM DE ESPESSURA | E31: M | F31: 694 | G31: (347,00m x 2 lados)
A32: 1.5.4 | B32: 104658 | C32: SINAPI | D32: PISO PODOTÁTIL DE ALERTA OU DIRECIONAL, DE CONCRETO, ASSENTADO SOBRE ARGAMASSA. AF_03/2024 | E32: m² | F32: 176.82 | G32: (75,14m²+101,68m²)
A33: 1.6 | D33: SINALIZAÇÃO VIARIA
A34: 1.6.1 | B34: PLI | C34: Próprio | D34: PLACA DE IDENTIFICAÇÃO NR DE RUA, DIMENSÕES DE 45x25CM, FORN. E INSTALAÇÃO | E34: PT | F34: 3 | G34: 3,00 pontos
A35: 1.6.2 | B35: PLS | C35: Próprio | D35: PLACA DE SINALIZAÇÃO VIÁRIA TOTALMENTE REFLEXIVA | E35: UN | F35: 4 | G35: 4,00 unidades
A36: 1.7 | D36: DEMOLIÇÃO E EXECUÇÃO DE CALÇADA
A37: 1.7.1 | B37: 020018 | C37: SEDOP | D37: Demolição manual de concreto simples | E37: m³ | F37: 6.84 | G37: 95,00m x 1,20m x 0,06m
A38: 1.7.2 | B38: 94990 | C38: SINAPI | D38: EXECUÇÃO DE PASSEIO (CALÇADA) OU PISO DE CONCRETO COM CONCRETO MOLDADO IN LOCO, FEITO EM OBRA, ACABAMENTO CONVENCIONAL, NÃO ARMADO. AF_08/2022 | E38: m³ | F38: 6.84 | G38: 95,00m x 1,20m x 0,06m
A39: 1.8 | D39: LIMPEZA FINAL DA OBRA
A40: 1.8.1 | B40: 99811 | C40: SINAPI | D40: LIMPEZA DE CONTRAPISO COM VASSOURA A SECO. AF_10/2025 | E40: m² | F40: 3217 | G40: (146,00m x 8,57m)+(201,00m x 9,78m)
A41: 2 | D41: PASSAGEM PALMAZON
A42: 2.1 | D42: SERVIÇOS PRELIMINARES
A43: 1.1 | B43: 103689 | C43: SINAPI | D43: FORNECIMENTO E INSTALAÇÃO DE PLACA DE OBRA COM CHAPA GALVANIZADA E ESTRUTURA DE MADEIRA. AF_03/2022_PS | E43: m² | F43: 6 | G43: 2,00m x 3,00m
...

Sheet CRONOGRAMA
A2: PREFEITURA MUNICIPAL DE BREVES
A3: SECRETARIA MUNICIPAL DE DESENVOLVIMENTO ECONÔMICO, PROJETOS E CONVÊNIOS
A5: OBRA: PAVIMENTAÇÃO DE VIAS URBANAS | H5: BDI: | I5: 0.2338
A6: LOCAL: BAIRRO: RIACHO DOCE / SANTA CRUZ - BREVES - PA | H6: PRAZO DE EXECUÇÃO: | I6: 180 Dias
A7: REF. DE PREÇOS: SINAPI 12/2025 - SEOP 10/2025 - ORSE - 09/2025 - NÃO DESONERADO | G7: VALOR TOTAL: | H7: ='Orçamento Sintético'!I66 -> 1103183.3
H8: DATA: | I8: 46037
A9: Cronograma Físico e Financeiro
A10: Item | B10: Descrição | C10: Total Por Etapa | D10: 30 DIAS | E10: 60 DIAS | F10: 90 DIAS | G10: 120 DIAS | H10: 150 DIAS | I10: 180 DIAS
A11: 1.1/2.1 | B11: SERVIÇOS PRELIMINARES | C11: 100,00% 18023,52 | D11: 100,00% 18.023,52
A12: 1.2/2.2 | B12: MOVIMENTO DE TERRA | C12: 100,00% 158.512,79 | D12: 50,00% 79.256,39 | E12: 50,00% 79.256,40
A13: 1.2/2.3 | B13: DRENAGEM | C13: 100,00% 252.547,27 | E13: 50,00% 126.273,64 | F13: 50,00% 126.273,63
A14: 1.4/2.4 | B14: PAVIMENTAÇÃO EM BLOKRET | C14: 100,00% 394.625,04 | F14: 30,00% 118.387,51 | G14: 40,00% 157.850,02 | H14: 30,00% 118.387,51
A15: 1.5/2.5 | B15: CALÇADA PÚBLICA | C15: 100,00% 256.204,33 | G15: 30,00% 76.861.29 | H15: 40,00% 102.481,75 | I15: 30,00% 76.861.29
A16: 1.6/2.6 | B16: SINALIZAÇÃO VIARIA | C16: 100,00% 6.908,38 | I16: 100,00% 6.908,38
A17: 1.7 | B17: DEMOLIÇÃO E EXECUÇÃO DE CALÇADA | C17: 100,00% 12.573,69 | E17: 50,00% 6.286,85 | F17: 30,00% 3.772,11 | G17: 20,00% 2.514,73
A18: 1.8/2.7 | B18: LIMPEZA FINAL DA OBRA | C18: 100,00% 3.788,33 | I18: 100,00% 3.788,33
A19: Porcentagem | C19: ='Orçamento Sintético'!I66 -> 1103183.3 | D19: =D20/$C$19 -> 0.08818109 | E19: =E20/$C$19 -> 0.19200515 | F19: =F20/$C$19 -> 0.2251967 | G19: =G20/$C$19 -> 0.21503773 | H19: =H20/$C$19 -> 0.20021084 | I19: =I20/$C$19 -> 0.079368493
A20: Custo | D20: 97279.91 | E20: 211816.89 | F20: 248433.25 | G20: 237226.04 | H20: 220869.26 | I20: 87558
A21: Porcentagem Acumulado | D21: =D19 -> 0.08818109 | E21: =D21+E19 -> 0.28018624 | F21: =E21+F19 -> 0.50538294 | G21: =F21+G19 -> 0.72042067 | H21: =G21+H19 -> 0.92063151 | I21: =H21+I19 -> 1
A22: Custo Acumulado | D22: =D20 -> 97279.91 | E22: =D22+E20 -> 309096.8 | F22: =E22+F20 -> 557530.05 | G22: =F22+G20 -> 794756.09 | H22: =G22+H20 -> 1015625.4 | I22: =H22+I20 -> 1103183.4

Sheet BDI
A2: PREFEITURA MUNICIPAL DE BREVES
A3: SECRETARIA MUNICIPAL DE DESENVOLVIMENTO ECONÔMICO, PROJETOS E CONVÊNIOS
A4: OBRA: PAVIMENTAÇÃO DE VIAS URBANAS
A5: LOCAL: BAIRRO: RIACHO DOCE / SANTA CRUZ- BREVES - PA
A6: REF. DE PREÇOS: SINAPI 12/2025 - SEOP 10/2025 - ORSE - 09/2025 - NÃO DESONERADO
A7: DATA: | B7: 46037 | F7: BDI: 23,38% | H7: PRAZO:180 Dias
A8: PLANILHA DE BDI PARA OBRAS E SERVIÇOS DE ENGENHARIA
A9: Item | B9: Parcela do BDI
A10: 1 | B10: AC = Taxa de Administração Central | I10: 0.038
A11: 2 | B11: S e G = Taxas de Seguro e Garantia | I11: 0.0032
A12: 3 | B12: R = Taxa de Risco | I12: 0.005
A13: 4 | B13: DF = Taxa de Despesas Financeiras | I13: 0.0102
A14: 5 | B14: L = Taxa de Lucro / Remuneração | I14: 0.0664
A15: 6 | B15: I = Taxa de incidência de Impostos (PIS, COFINS, e ISS) | I15: =I21 -> 0.0865
A16: Item | B16: Impostos
A17: 6.1 | B17: ISS | I17: 0.05
A18: 6.3 | B18: PIS | I18: 0.0065
A19: 6.3 | B19: COFINS | I19: 0.03
A20: 6.4 | B20: CPRB | I20: 0
G21: Total Impostos = | I21: =SUM(I17:I20) -> 0.0865
A22: Fórmula para o cálculo de BDI
I23: =(((1+I10+I11+I12)*(1+I13)*(1+I14))/(1-I15))-1 -> 0.23376846

Sheet PCU
A1: PREFEITURA MUNICIPAL DE BREVES
A2: SECRETARIA MUNICIPAL DE DESENVOLVIMENTO ECONÔMICO, PROJETOS E CONVÊNIOS
A4: OBRA: PAVIMENTAÇÃO DE VIAS URBANAS | I4: BDI: | J4: 0.2338
A5: LOCAL: BAIRRO: RIACHO DOCE / SANTA CRUZ - BREVES - PA | I5: PRAZO DE EXECUÇÃO: | J5: 180 Dias
A6: REF. DE PREÇOS: SINAPI 12/2025 - SEOP 10/2025 - ORSE - 09/2025 - NÃO DESONERADO | H6: VALOR TOTAL: | I6: ='Orçamento Sintético'!I66 -> 1103183.3
I7: DATA: | J7: 46037
A8: Planilha Orçamentária Analítica
A9: 1.1/2.1 | D9: SERVIÇOS PRELIMINARES
A10: 1.1.1/2.1.1 | B10: Código | C10: Banco | D10: Descrição | E10: Tipo | G10: Und | H10: Quant. | I10: Valor Unit | J10: Total
A11: Composição | B11: 103689 | C11: SINAPI | D11: FORNECIMENTO E INSTALAÇÃO DE PLACA DE OBRA COM CHAPA GALVANIZADA E ESTRUTURA DE MADEIRA. AF_03/2022_PS | E11: Sinalização Vertical Viária | G11: m² | H11: 1 | I11: 475.04 | J11: 475.04
A12: Composição Auxiliar | B12: 102234 | C12: SINAPI | D12: PINTURA IMUNIZANTE PARA MADEIRA, 2 DEMÃOS. AF_01/2021 | E12: Pintura em Madeira | G12: m² | H12: 0.5 | I12: 28.2 | J12: 14.1
A13: Composição Auxiliar | B13: 88262 | C13: SINAPI | D13: CARPINTEIRO DE FORMAS COM ENCARGOS COMPLEMENTARES | E13: Livro SINAPI: Cálculos e Parâmetros | G13: H | H13: 0.3729 | I13: 31.67 | J13: 11.8
A14: Composição Auxiliar | B14: 88316 | C14: SINAPI | D14: SERVENTE COM ENCARGOS COMPLEMENTARES | E14: Livro SINAPI: Cálculos e Parâmetros | G14: H | H14: 1.1186 | I14: 26.11 | J14: 29.2
A15: Insumo | B15: 00004509 | C15: SINAPI | D15: SARRAFO *2,5 X 10* CM EM PINUS, MISTA OU EQUIVALENTE DA REGIAO - BRUTA | E15: Material | G15: M | H15: 3.2083 | I15: 6.04 | J15: 19.37
A16: Insumo | B16: 00005069 | C16: SINAPI | D16: PREGO DE ACO POLIDO COM CABECA 17 X 27 (2 1/2 X 11) | E16: Material | G16: KG | H16: 0.0132 | I16: 16.98 | J16: 0.22
A17: Insumo | B17: 00005065 | C17: SINAPI | D17: PREGO DE ACO POLIDO COM CABECA 10 X 10 (7/8 X 17) | E17: Material | G17: KG | H17: 0.0113 | I17: 31.69 | J17: 0.35
A18: Insumo | B18: 00004813 | C18: SINAPI | D18: PLACA DE OBRA (PARA CONSTRUCAO CIVIL) EM CHAPA GALVANIZADA *N. 22*, ADESIVADA, DE *2,4 X 1,2* M (SEM POSTES PARA FIXACAO) | E18: Material | G18: m² | H18: 1 | I18: 400 | J18: 400
E19: MO sem LS => | F19: 31.52 | G19: LS => | H19: 0 | I19: MO com LS => | J19: 31.52
E20: Valor do BDI => | F20: 111.06 | H20: Valor com BDI => | J20: 586.1
A22: 1.1.2/2.1.2 | B22: Código | C22: Banco | D22: Descrição | E22: Tipo | G22: Und | H22: Quant. | I22: Valor Unit | J22: Total
A23: Composição | B23: 98525 | C23: SINAPI | D23: LIMPEZA MECANIZADA DE CAMADA VEGETAL, VEGETAÇÃO E PEQUENAS ÁRVORES (DIÂMETRO DE TRONCO MENOR QUE 0,20 M), COM TRATOR DE ESTEIRAS. AF_03/2024 | E23: Supressão Vegetal | G23: m² | H23: 1 | I23: 0.72 | J23: 0.72
A24: Composição Auxiliar | B24: 89031 | C24: SINAPI | D24: TRATOR DE ESTEIRAS, POTÊNCIA 100 HP, PESO OPERACIONAL 9,4 T, COM LÂMINA 2,19 M3 - CHI DIURNO. AF_06/2014 | E24: Custos Horários Produtivo e Improdutivo dos Equipamentos | G24: CHI | H24: 0.0029 | I24: 84.13 | J24: 0.24
A25: Composição Auxiliar | B25: 88441 | C25: SINAPI | D25: JARDINEIRO COM ENCARGOS COMPLEMENTARES | E25: Livro SINAPI: Cálculos e Parâmetros | G25: H | H25: 0.0046 | I25: 27.33 | J25: 0.12
A26: Composição Auxiliar | B26: 89032 | C26: SINAPI | D26: TRATOR DE ESTEIRAS, POTÊNCIA 100 HP, PESO OPERACIONAL 9,4 T, COM LÂMINA 2,19 M3 - CHP DIURNO. AF_06/2014 | E26: Custos Horários Produtivo e Improdutivo dos Equipamentos | G26: CHP | H26: 0.0017 | I26: 212.72 | J26: 0.36
E27: MO sem LS => | F27: 0.19 | G27: LS => | H27: 0 | I27: MO com LS => | J27: 0.19
E28: Valor do BDI => | F28: 0.16 | H28: Valor com BDI => | J28: 0.88
A30: 1.1.3/2.1.3 | B30: Código | C30: Banco | D30: Descrição | E30: Tipo | G30: Und | H30: Quant. | I30: Valor Unit | J30: Total
A31: Composição | B31: 2605 | C31: ORSE | D31: Locação de serviços de pavimentação | E31: Pavimentação em Paralepípedo ou com Peças Pré-moldadas de Concreto | G31: m² | H31: 1 | I31: 1.43 | J31: 1.43
A32: Item | B32: Código | C32: Banco | D32: Descrição | E32: Tipo | G32: Und | H32: Quant. | I32: Valor Unit | J32: Total
A33: Insumo | B33: 48 | C33: ORSE | D33: Auxiliar topografia - SICRO | E33: Mão de Obra | G33: h | H33: 0.036 | I33: 21,66 | J33: 0,77
A34: Insumo | B34: 70 | C34: ORSE | D34: Topógrafo - SICRO | E34: Mão de Obra | G34: h | H34: 0.018 | I34: 36,76 | J34: 0,66
A35: Detalhamento de Cálculo ORSE
A36: Item | B36: Código | C36: Banco | D36: Descrição | E36: Tipo | G36: Und | H36: Quant. | I36: Valor Unit | J36: Total
A37: Insumo | B37: 48 | C37: ORSE | D37: Auxiliar topografia - SICRO | E37: Mão de Obra | G37: h | H37: 0.036 | I37: 21,66 | J37: 0,77
A38: Insumo | B38: 70 | C38: ORSE | D38: Topógrafo - SICRO | E38: Mão de Obra | G38: h | H38: 0.018 | I38: 36,76 | J38: 0,66
E39: MO sem LS => | F39: 1.43 | G39: LS => | H39: 0 | I39: MO com LS => | J39: 1.43
E40: Valor do BDI => | F40: 0.33 | H40: Valor com BDI => | J40: 1.76
A42: 1.2/2.2 | D42: MOVIMENTO DE TERRA | J42: 129870.28
A43: 1.2.1/2.2.1 | B43: Código | C43: Banco | D43: Descrição | E43: Tipo | G43: Und | H43: Quant. | I43: Valor Unit | J43: Total
A44: Composição | B44: 030011 | C44: SEDOP | D44: Aterro incluindo carga, descarga, transporte e apiloamento | E44: 0 | G44: m³ | H44: 1 | I44: 156.75 | J44: 156.75
...

Sheet ENCARGOS SOCIAIS
A2: PREFEITURA MUNICIPAL DE BREVES
A3: SECRETARIA MUNICIPAL DE DESENVOLVIMENTO ECONÔMICO, PROJETOS E CONVÊNIOS
A4: OBRA: PAVIMENTAÇÃO DE VIAS URBANAS
A5: LOCAL: BAIRRO: RIACHO DOCE / SANTA CRUZ - BREVES - PA
A6: REF. DE PREÇOS: SINAPI 12/2025 - SEOP 10/2025 - ORSE - 09/2025 - NÃO DESONERADO
A7: DATA: | B7: 46037 | C7: BDI: 23,38% | E7: PRAZO:180 Dias
A8: LEIS SOCIAIS SOBRE A MÃO DE OBRA
A9: CÓDIGO | B9: DESCRIÇÃO | C9: COM DESONERAÇÃO | E9: SEM DESONERAÇÃO
C10: HORISTA (%) | D10: MENSALISTA (%) | E10: HORISTA (%) | F10: MENSALISTA (%)
A11: GRUPO A
A12: A1 | B12: INSS | C12: 0.05 | D12: 0.05 | E12: 0.2 | F12: 0.2
A13: A2 | B13: SESI | C13: 0.015 | D13: 0.015 | E13: 0.015 | F13: 0.015
A14: A3 | B14: SENAI | C14: 0.01 | D14: 0.01 | E14: 0.01 | F14: 0.01
A15: A4 | B15: INCRA | C15: 0.002 | D15: 0.002 | E15: 0.002 | F15: 0.002
A16: A5 | B16: SEBRAE | C16: 0.006 | D16: 0.006 | E16: 0.006 | F16: 0.006
A17: A6 | B17: SALÁRIO EDUCAÇÃO | C17: 0.025 | D17: 0.025 | E17: 0.025 | F17: 0.025
A18: A7 | B18: SEGURO CONTRA ACIDENTES DE TRABALHO | C18: 0.03 | D18: 0.03 | E18: 0.03 | F18: 0.03
A19: A8 | B19: FGTS | C19: 0.08 | D19: 0.08 | E19: 0.08 | F19: 0.08
A20: A9 | B20: SECONCI | C20: 0 | D20: 0 | E20: 0 | F20: 0
A21: A | B21: TOTAL | C21: =SUM(C12:C20) -> 0.218 | D21: =SUM(D12:D20) -> 0.218 | E21: =SUM(E12:E20) -> 0.368 | F21: =SUM(F12:F20) -> 0.368
A22: GRUPO B
A23: B1 | B23: REPOUSO SEMANAL REMUNERADO | C23: 0.1813 | D23: xxxxxxxxxxxxxxx | E23: 0.1813 | F23: xxxxxxxxxxxxxxx
A24: B2 | B24: FERIADOS | C24: 0.0416 | D24: xxxxxxxxxxxxxxx | E24: 0.0416 | F24: xxxxxxxxxxxxxxx
A25: B3 | B25: AUXÍLIO ENFERMIDADE | C25: 0.0087 | D25: 0.0065 | E25: 0.0087 | F25: 0.0065
A26: B4 | B26: 13º SALÁRIO | C26: 0.1122 | D26: 0.0833 | E26: 0.1122 | F26: 0.0833
A27: B5 | B27: LICENÇA PATERNIDADE | C27: 0.0007 | D27: 0.0005 | E27: 0.0007 | F27: 0.0005
A28: B6 | B28: FALTAS JUSTIFICADAS | C28: 0.0075 | D28: 0.0056 | E28: 0.0075 | F28: 0.0056
A29: B7 | B29: DIAS DE CHUVA | C29: 0.0283 | D29: xxxxxxxxxxxxxxx | E29: 0.0283 | F29: xxxxxxxxxxxxxxx
A30: B8 | B30: AUXÍLIO ACIDENTE DE TRABALHO | C30: 0.001 | D30: 0.0007 | E30: 0.001 | F30: 0.0007
A31: B9 | B31: FÉRIAS GOZADAS | C31: 0.1282 | D31: 0.0953 | E31: 0.1282 | F31: 0.0953
A32: B10 | B32: SALÁRIO MATERNIDADE | C32: 0.0003 | D32: 0.0003 | E32: 0.0003 | F32: 0.0003
A33: B | B33: TOTAL | C33: =SUM(C23:C32) -> 0.5098 | D33: =SUM(D23:D32) -> 0.1922 | E33: =SUM(E23:E32) -> 0.5098 | F33: =SUM(F23:F32) -> 0.1922
A34: GRUPO C
A35: C1 | B35: AVISO PRÉVIO INDENIZADO | C35: 0.0581 | D35: 0.0432 | E35: 0.0581 | F35: 0.0432
A36: C2 | B36: AVISO PRÉVIO TRABALHADO | C36: 0.0014 | D36: 0.001 | E36: 0.0014 | F36: 0.001
A37: C3 | B37: FÉRIAS INDENIZADAS | C37: 0.0177 | D37: 0.0131 | E37: 0.0177 | F37: 0.0131
A38: C4 | B38: DEPÓSOTO DE RECISÃO SEM JUSTA CAUSA | C38: 0.0296 | D38: 0.022 | E38: 0.0296 | F38: 0.022
A39: C5 | B39: INDENIZAÇÃO ADICIONAL | C39: 0.0049 | D39: 0.0036 | E39: 0.0049 | F39: 0.0036
A40: C | B40: TOTAL | C40: =SUM(C35:C39) -> 0.1117 | D40: =SUM(D35:D39) -> 0.0829 | E40: =SUM(E35:E39) -> 0.1117 | F40: =SUM(F35:F39) -> 0.0829
A41: GRUPO D
...

Sheet MAIOR RELEVANCIA
A2: PREFEITURA MUNICIPAL DE BREVES
A3: SECRETARIA MUNICIPAL DE DESENVOLVIMENTO ECONÔMICO, PROJETOS E CONVÊNIOS
A5: OBRA: PAVIMENTAÇÃO DE VIAS URBANAS | H5: BDI: | I5: 0.2338
A6: LOCAL: BAIRRO: RIACHO DOCE / SANTA CRUZ- BREVES - PA | H6: PRAZO DE EXECUÇÃO: | I6: 180 Dias
A7: REF. DE PREÇOS: SINAPI 12/2025 - SEOP 10/2025 - ORSE - 09/2025 - NÃO DESONERADO | H7: VALOR TOTAL: | I7: ='Orçamento Sintético'!I66 -> 1103183.3
H8: DATA: | I8: 46037
A9: Planilha de Maior Relevância
A10: ITEM | B10: CÓDIGO | C10: FONTE | D10: DESCRIÇÃO DOS SERVIÇOS | E10: UN. | F10: QUANT. | G10: PESO FINANCEIRO(%) | H10: QUANTIDADE MÍNIMA EXIGIDA 25% | I10: QUALIFICAÇÃO PROFISSIONAL- PROFISSIONAL C/CAPACIDADE TÉCNICA EXIGIDO
A11: 1.4.1/2.4.1 | B11: 92394 | C11: SINAPI | D11: EXECUÇÃO DE PAVIMENTO EM PISO INTERTRAVADO, COM BLOCO SEXTAVADO DE 25 X 25 CM, ESPESSURA 8 CM. AF_10/2022 | E11: m² | F11: 2786.9 | G11: 0.3622 | H11: =ROUND(F11*25%,2) -> 696.73 | I11: ENGENHEIRO(A) CIVIL OU ARQUITETO(A)
A12: 1.2.1/1.5.1/2.2.1/2.5.1 | B12: 030011 | C12: SEOP | D12: Aterro incluindo carga, descarga, transporte e apiloamento | E12: m³ | F12: 939.67 | G12: 0.1647 | H12: =ROUND(F12*25%,2) -> 234.92 | I12: ENGENHEIRO(A) CIVIL OU ARQUITETO(A)
A13: 1.3.3/2.3.3 | B13: 92214 | C13: SINAPI | D13: TUBO DE CONCRETO PARA REDES COLETORAS DE ÁGUAS PLUVIAIS, DIÂMETRO DE 800 MM, JUNTA RÍGIDA, INSTALADO EM LOCAL COM BAIXO NÍVEL DE INTERFERÊNCIAS - FORNECIMENTO E ASSENTAMENTO. AF_03/2024 | E13: M | F13: 215 | G13: 0.1143 | H13: =ROUND(F13*25%,2) -> 53.75 | I13: ENGENHEIRO(A) CIVIL OU ARQUITETO(A)
