Workbook

Sheet RESUMO
A2: PREFEITURA MUNICIPAL DE BREVES
B3: SECRETARIA MUNICIPAL DE EDUCAÇÃO - SEMED
A4: OBRA: CONSTRUÇÃO DE MURO E URBANIZAÇÃO PARA A ESCOLA SANTA LUZIA
A5: LOCAL: COMUNIDADE SANTA LUZIA - ZONA RURAL – BREVES/PA
A6: REF. DE PREÇOS: SEOP 03/2026 - SEM DESONERAÇÃO
A8: ORÇAMENTO RESUMIDO
A9: ITEM | B9: DESCRIÇÃO | C9: TOTAL | D9: PESO (%)
A10: 1 | B10: =PLAN!C10 -> SERVIÇOS PRELIMINARES | C10: =PLAN!H10 -> 10360.14 | D10: =C10/C18 -> 0.023767346
A11: =SUM(A10+1) -> 2 | B11: =PLAN!C13 -> MOVIMENTO DE TERRAS | C11: =PLAN!H13 -> 2978.92 | D11: =C11/C18 -> 0.0068339832
A12: =SUM(A11+1) -> 3 | B12: =PLAN!C16 -> INFRAESTRUTURA: FUNDAÇÕES | C12: =PLAN!H16 -> 113570.03 | D12: =C12/C18 -> 0.26054264
A13: =SUM(A12+1) -> 4 | B13: =PLAN!C21 -> ESTRUTURA | C13: =PLAN!H21 -> 44041.33 | D13: =C13/C18 -> 0.10103585
A14: =SUM(A13+1) -> 5 | B14: =PLAN!C24 -> ALVENARIAS E REVESTIMENTOS | C14: =PLAN!H24 -> 100410.53 | D14: =C14/C18 -> 0.23035324
A15: =SUM(A14+1) -> 6 | B15: =PLAN!C28 -> PORTÕES E GRADES | C15: =PLAN!H28 -> 32441.4 | D15: =C15/C18 -> 0.074424282
A16: =SUM(A15+1) -> 7 | B16: =PLAN!C31 -> SERVIÇOS COMPLEMENTARES | C16: =PLAN!H31 -> 132095.71 | D16: =C16/C18 -> 0.30304267
A18: Total Geral | C18: =SUM(C10:C16) -> 435898.06 | D18: =SUM(D10:D16) -> 1
A20: =PLAN!A45 -> Total da planilha R$ 435.898,06 (Quatrocentos e trinta e cinco mil, oitocentos e noventa e oito reais e seis centavos)

Sheet Itens Maior Relevância
A4: PREFEITURA MUNICIPAL DE BREVES
A7: SECRETARIA MUNICIPAL DE EDUCAÇÃO - SEMED
A9: OBRA: CONSTRUÇÃO DE MURO E URBANIZAÇÃO PARA A ESCOLA SANTA LUZIA
A10: LOCAL: COMUNIDADE SANTA LUZIA - ZONA RURAL - BREVES-PA
A11: REF. DE PREÇOS: SEOP 03/2026 - SEM DESONERAÇÃO
A13: ITENS DE MAIOR RELEVÂNCIA | G13: QUALIFICAÇÃO PROFISSIONAL
A14: ITEM | B14: DESCRIÇÃO | C14: UNID | D14: QTD TOTAL | E14: PESO FINANCEIRO % | F14: QTD MÍN. EXIGIDA (25%) | G14: CAPACIDADE TÉCNICA OPERACIONAL | H14: CAPACIDADE TÉCNICA PROFISSIONAL
A15: 3.3 | B15: Baldrame em concreto armado com cinta de amarração | C15: m³ | D15: 13.82 | E15: =PLAN!I19 -> 0.1507636 | F15: =D15*25% -> 3.455 | G15: EMPRESA | H15: ENGENHEIRO(A) CIVIL OU ARQUITETO(A)
A16: 7.12 | B16: Blokret sextavado e = 8cm (Incluindo colchão de areia e rejuntamento) | C16: m² | D16: 294 | E16: =PLAN!I43 -> 0.11917878 | F16: =D16*25% -> 73.5 | G16: EMPRESA | H16: ENGENHEIRO(A) CIVIL OU ARQUITETO(A)
A17: 5.1 | B17: Alvenaria tijolo de barro a cutelo | C17: m² | D17: 272.08 | E17: =PLAN!I25 -> 0.10420106 | F17: =D17*25% -> 68.02 | G17: EMPRESA | H17: ENGENHEIRO(A) CIVIL OU ARQUITETO(A)
A18: OBS: Para fins de atendimento aos quantitativos mínimos exigidos dos itens de maior relevância, não será admitida a soma de quantitativos referentes à capacidade técnico-operacional com aqueles relativos à capacidade técnico-profissional, devendo cada requisito ser comprovado de forma independente, conforme estabelecido neste Edital.

Sheet PLAN
A2: PREFEITURA MUNICIPAL DE BREVES
C3: SECRETARIA MUNICIPAL DE EDUCAÇÃO - SEMED
A4: OBJETO: CONSTRUÇÃO DE MURO E URBANIZAÇÃO PARA A ESCOLA SANTA LUZIA | H4: MARÇO/2026
A5: LOCAL: COMUNIDADE SANTA LUZIA - ZONA RURAL - BREVES-PA | H5: BDI= | I5: 0.2247
A6: REF. DE PREÇOS: SEOP 03/2026 - SEM DESONERAÇÃO | H6: TOTAL = | I6: =H44 -> 435898.06
A7: PLANILHA ORÇAMENTÁRIA
A8: ITEM | B8: CÓDIGO | C8: DISCRIMINAÇÃO | D8: UN | E8: QUANT. | F8: CUSTO UNI. | G8: CUSTO UNI. C/ BDI | H8: P. TOTAL R$ | I8: PESO (%)
A10: 1 | C10: SERVIÇOS PRELIMINARES | H10: =SUM(H11:H12) -> 10360.14 | I10: =SUM(I11:I12) -> 0.023767346
A11: 1.1 | B11: 011340 | C11: Placa da obra em lona com plotagem de gráfica | D11: m² | E11: 6 | F11: 207.93 | G11: =ROUND((1+$I$5)*F11,2) -> 254.65 | H11: =ROUND(E11*G11,2) -> 1527.9 | I11: =H11/H$44 -> 0.0035051773
A12: 1.2 | B12: 010005 | C12: Barracão de madeira/ almoxarifado | D12: m² | E12: 12 | F12: 600.98 | G12: =ROUND((1+$I$5)*F12,2) -> 736.02 | H12: =ROUND(E12*G12,2) -> 8832.24 | I12: =H12/H$44 -> 0.020262169
A13: 2 | C13: MOVIMENTO DE TERRAS | H13: =SUM(H14:H15) -> 2978.92 | I13: =SUM(I14:I15) -> 0.0068339832
A14: 2.1 | B14: 030010 | C14: Escavação manual até 1,50m de profundidade | D14: m³ | E14: 20.78 | F14: 107.52 | G14: =ROUND((1+$I$5)*F14,2) -> 131.68 | H14: =ROUND(E14*G14,2) -> 2736.31 | I14: =H14/H$44 -> 0.0062774081
A15: 2.2 | B15: 030254 | C15: Reaterro compactado | D15: m³ | E15: 9.09 | F15: 21.79 | G15: =ROUND((1+$I$5)*F15,2) -> 26.69 | H15: =ROUND(E15*G15,2) -> 242.61 | I15: =H15/H$44 -> 0.00055657509
A16: 3 | C16: INFRAESTRUTURA: FUNDAÇÕES | H16: =SUM(H17:H20) -> 113570.03 | I16: =SUM(I17:I20) -> 0.26054264
A17: 3.1 | B17: 040257 | C17: Lastro em concreto magro com seixo | D17: m³ | E17: 1.3 | F17: 975.51 | G17: =ROUND((1+$I$5)*F17,2) -> 1194.71 | H17: =ROUND(E17*G17,2) -> 1553.12 | I17: =H17/H$44 -> 0.0035630349
A18: 3.2 | B18: 040283 | C18: Bloco em concreto armado para fundação (Incluindo forma) | D18: m³ | E18: 7.63 | F18: 4094.44 | G18: =ROUND((1+$I$5)*F18,2) -> 5014.46 | H18: =ROUND(E18*G18,2) -> 38260.33 | I18: =H18/H$44 -> 0.087773573
A19: 3.3 | B19: 040284 | C19: Baldrame em concreto armado com cinta de amarração | D19: m³ | E19: 13.82 | F19: 3882.79 | G19: =ROUND((1+$I$5)*F19,2) -> 4755.25 | H19: =ROUND(E19*G19,2) -> 65717.56 | I19: =H19/H$44 -> 0.1507636
A20: 3.4 | B20: 080314 | C20: Impermeabilização asfáltica para concreto e alvenaria (3 demãos) | D20: m² | E20: 151.28 | F20: 43.39 | G20: =ROUND((1+$I$5)*F20,2) -> 53.14 | H20: =ROUND(E20*G20,2) -> 8039.02 | I20: =H20/H$44 -> 0.018442431
A21: 4 | C21: ESTRUTURA | H21: =SUM(H22:H23) -> 44041.33 | I21: =SUM(I22:I23) -> 0.10103585
A22: 4.1 | B22: 050681 | C22: Pilar em concreto armado fck 15MPA (Inclundo forma) | D22: m³ | E22: 5.57 | F22: 3777.41 | G22: =ROUND((1+$I$5)*F22,2) -> 4626.19 | H22: =ROUND(E22*G22,2) -> 25767.88 | I22: =H22/H$44 -> 0.059114464
A23: 4.2 | B23: 050681 | C23: Cinta de amarração em concreto armado (Incluindo forma) | D23: m³ | E23: 3.95 | F23: 3777.41 | G23: =ROUND((1+$I$5)*F23,2) -> 4626.19 | H23: =ROUND(E23*G23,2) -> 18273.45 | I23: =H23/H$44 -> 0.041921384
A24: 5 | C24: ALVENARIAS E REVESTIMENTOS | H24: =SUM(H25:H27) -> 100410.53 | I24: =SUM(I25:I27) -> 0.23035324
A25: 5.1 | B25: 060046 | C25: Alvenaria tijolo de barro a cutelo | D25: m² | E25: 272.08 | F25: 136.31 | G25: =ROUND((1+$I$5)*F25,2) -> 166.94 | H25: =ROUND(E25*G25,2) -> 45421.04 | I25: =H25/H$44 -> 0.10420106
A26: 5.2 | B26: 110143 | C26: Chapisco de cimento e areia no traço 1:3 | D26: m² | E26: 649.61 | F26: 17.32 | G26: =ROUND((1+$I$5)*F26,2) -> 21.21 | H26: =ROUND(E26*G26,2) -> 13778.23 | I26: =H26/H$44 -> 0.031608835
A27: 5.3 | B27: 110763 | C27: Reboco com argamassa 1:6 Adit. Plast. | D27: m² | E27: 649.61 | F27: 51.8 | G27: =ROUND((1+$I$5)*F27,2) -> 63.44 | H27: =ROUND(E27*G27,2) -> 41211.26 | I27: =H27/H$44 -> 0.094543343
A28: 6 | C28: PORTÕES E GRADES | H28: =SUM(H29:H30) -> 32441.4 | I28: =SUM(I29:I30) -> 0.074424282
A29: 6.1 | B29: 090822 | C29: Portão de ferro em metalon (Incluindo pintura anti-corrosiva) | D29: m² | E29: 28.76 | F29: 493.93 | G29: =ROUND((1+$I$5)*F29,2) -> 604.92 | H29: =ROUND(E29*G29,2) -> 17397.5 | I29: =H29/H$44 -> 0.039911855
A30: 6.2 | B30: 090832 | C30: Grade de ferro em metalon (Incluindo pintura anti-corrosiva) | D30: m² | E30: 27.84 | F30: 441.23 | G30: =ROUND((1+$I$5)*F30,2) -> 540.37 | H30: =ROUND(E30*G30,2) -> 15043.9 | I30: =H30/H$44 -> 0.034512427
A31: 7 | C31: SERVIÇOS COMPLEMENTARES | H31: =SUM(H32:H43) -> 132095.71 | I31: =SUM(I32:I43) -> 0.30304267
A32: 7.1 | B32: 150180 | C32: Látex acrílica fosca int/ ext sem massa com selador | D32: m² | E32: 554.3 | F32: 30.16 | G32: =ROUND((1+$I$5)*F32,2) -> 36.94 | H32: =ROUND(E32*G32,2) -> 20475.84 | I32: =H32/H$44 -> 0.046973919
A33: 7.2 | B33: 150253 | C33: Látex acrílica fosca int/ ext com massa e selador - 3 demãos | D33: m² | E33: 95.31 | F33: 48.65 | G33: =ROUND((1+$I$5)*F33,2) -> 59.58 | H33: =ROUND(E33*G33,2) -> 5678.57 | I33: =H33/H$44 -> 0.013027289
A34: 7.3 | B34: 170745 | C34: Cabo de cobre 6mm² - 1 KV | D34: m | E34: 150 | F34: 15.98 | G34: =ROUND((1+$I$5)*F34,2) -> 19.57 | H34: =ROUND(E34*G34,2) -> 2935.5 | I34: =H34/H$44 -> 0.0067343727
A35: 7.4 | B35: 170418 | C35: Cabo de cobre 2,5mm² - 750 V | D35: m | E35: 50 | F35: 9.76 | G35: =ROUND((1+$I$5)*F35,2) -> 11.95 | H35: =ROUND(E35*G35,2) -> 597.5 | I35: =H35/H$44 -> 0.0013707333
A36: 7.5 | B36: COMP01 | C36: Eletroduto PVC flexível corrugado 1 1/4" | D36: m | E36: 150 | F36: 25.89 | G36: =ROUND((1+$I$5)*F36,2) -> 31.71 | H36: =ROUND(E36*G36,2) -> 4756.5 | I36: =H36/H$44 -> 0.010911955
A37: 7.6 | B37: 171267 | C37: Curva 90° para eletroduto PVC 1 1/4" (IE) | D37: unid | E37: 6 | F37: 24.65 | G37: =ROUND((1+$I$5)*F37,2) -> 30.19 | H37: =ROUND(E37*G37,2) -> 181.14 | I37: =H37/H$44 -> 0.00041555588
A38: 7.7 | B38: COMP02 | C38: Luminária pública de led 150W poste de aço | D38: Cj. | E38: 4 | F38: 2604.29 | G38: =ROUND((1+$I$5)*F38,2) -> 3189.47 | H38: =ROUND(E38*G38,2) -> 12757.88 | I38: =H38/H$44 -> 0.029268036
A39: 7.8 | B39: COMP03 | C39: Concertina galvanizada / inóx 304 | D39: m | E39: 120.5 | F39: 133.71 | G39: =ROUND((1+$I$5)*F39,2) -> 163.75 | H39: =ROUND(E39*G39,2) -> 19731.88 | I39: =H39/H$44 -> 0.045267189
A40: 7.9 | B40: 150491 | C40: Esmalte sobre grade de ferro (superf. aparelhada) | D40: m² | E40: 113.2 | F40: 59.18 | G40: =ROUND((1+$I$5)*F40,2) -> 72.48 | H40: =ROUND(E40*G40,2) -> 8204.74 | I40: =H40/H$44 -> 0.018822612
A41: 7.10 | B41: 180102 | C41: Tubo em PVC - 100mm (LS) | D41: m | E41: 30.56 | F41: 53.17 | G41: =ROUND((1+$I$5)*F41,2) -> 65.12 | H41: =ROUND(E41*G41,2) -> 1990.07 | I41: =H41/H$44 -> 0.0045654482
A42: 7.11 | B42: 180678 | C42: Caixa em alvenaria de 60 x 60 x 60cm c/ tpo concreto | D42: unid | E42: 3 | F42: 771.97 | G42: =ROUND((1+$I$5)*F42,2) -> 945.43 | H42: =ROUND(E42*G42,2) -> 2836.29 | I42: =H42/H$44 -> 0.0065067736
...

Sheet M.CÁLCULO
B3: PREFEITURA MUNICIPAL DE BREVES
C4: SECRETARIA MUNICIPAL DE EDUCAÇÃO - SEMED
A5: OBJETO: CONSTRUÇÃO DE MURO E URBANIZAÇÃO PARA A ESCOLA SANTA LUZIA
A6: LOCAL: COMUNIDADE SANTA LUZIA - ZONA RURAL - BREVES-PA | F6: BDI = 22,47%
A7: REF. DE PREÇOS: SEOP 03/2026 - SEM DESONERAÇÃO | F7: MARÇO/2026
A9: MEMORIAL DE CÁLCULO
A10: ITEM | B10: CÓDIGO | C10: DISCRIMINAÇÃO | D10: UNID. | E10: QUANT. | F10: MEMORIA
A12: 1 | C12: SERVIÇOS PRELIMINARES
A13: 1.1 | B13: 011340 | C13: Placa da obra em lona com plotagem de gráfica | D13: m² | E13: 6 | F13: 2,00m x 3,00m
A14: 1.2 | B14: 010005 | C14: Barracão de madeira/ almoxarifado | D14: m² | E14: 12 | F14: (4,00m x 3,00m)
A15: 2 | C15: MOVIMENTO DE TERRAS
A16: 2.1 | B16: 030010 | C16: Escavação manual até 1,50m de profundidade | D16: m³ | E16: 20.78 | F16: (0,70m x 0,70m x 0,80m). 53 unid.
A17: 2.2 | B17: 030254 | C17: Reaterro compactado | D17: m³ | E17: 9.09 | F17: (0,70m x 0,70m x 0,35m). 53 unid.
A18: 3 | C18: INFRAESTRUTURA: FUNDAÇÕES
A19: 3.1 | B19: 040257 | C19: Lastro em concreto magro com seixo | D19: m³ | E19: 1.3 | F19: (0,70m x 0,70m x 0,05m). 53 unid.
A20: 3.2 | B20: 040283 | C20: Bloco em concreto armado para fundação (Incluindo forma) | D20: m³ | E20: 7.63 | F20: (0,60m x 0,60m x 0,40m). 53 unid.
A21: 3.3 | B21: 040284 | C21: Baldrame em concreto armado com cinta de amarração | D21: m³ | E21: 13.82 | F21: (40,99m + 39,66m + 39,85m + 43,93m ) x 0,35m x.0,12m +(85,00m + 85,00m + 2,00m + 2,00m + 1,50m + 26,07m + 20,02m + 8,70m)x 0,12m x 0,25m
A22: 3.4 | B22: 080314 | C22: Impermeabilização asfáltica para concreto e alvenaria (3 demãos) | D22: m² | E22: 151.28 | F22: (40,99m + 39,66m + 39,85m + 43,93m) x 0,92m
A23: 4 | C23: ESTRUTURA
A24: 4.1 | B24: 050681 | C24: Pilar em concreto armado fck 15MPA (incluindo forma) | D24: m³ | E24: 5.57 | F24: (0,14m x 0,25m x 3,00m) x 53 unid.
A25: 4.2 | B25: 050681 | C25: Cinta de amarração em concreto armado (Incluindo forma) | D25: m³ | E25: 3.95 | F25: (40,99m + 39,66m + 39,85m + 43,93m) x 0,12m x 0,20m
A26: 5 | C26: ALVENARIAS E REVESTIMENTOS
A27: 5.1 | B27: 060046 | C27: Alvenaria tijolo de barro a cutelo | D27: m² | E27: 272.08 | F27: [(40,99m + 39,66m + 39,85m)-(39unidx0,25m)]x2,10m+[ (8,70m + 1,25m )]x1,80m + (15,42m + 15,42)x0,70m
A28: 5.2 | B28: 110143 | C28: Chapisco de cimento e areia no traço 1:3 | D28: m² | E28: 649.61 | F28: [(40,99m + 39,66m + 39,85m)x2,30m]x2 +[ (8,70m + 1,25m )]x2,00m]x2 + [(15,42m + 15,42m) x 0,90m]x2
A29: 5.3 | B29: 110763 | C29: Reboco com argamassa 1:6 Adit. Plast. | D29: m² | E29: 649.61 | F29: [(40,99m + 39,66m + 39,85m)x2,3m]x2 +[ (8,70m + 1,25m)x2,00m] 2 + [(15,42m + 15,42m)x0,90m]x2
A30: 6 | C30: PORTÕES/ VIDROS
A31: 6.1 | B31: 090822 | C31: Portão de ferro em metalon (Incluindo pintura anti-corrosiva) | D31: m² | E31: 28.76 | F31: (3,00m x 2,00m) + (1,60m x 3,00m)x2 + (4,70mx2,80m)
A32: 6.2 | B32: 090832 | C32: Grade de ferro em metalon (Incluindo pintura anti-corrosiva) | D32: m² | E32: 27.84 | F32: 12 x (1,00m x 2,32m)
A33: 7 | C33: SERVIÇOS COMPLEMENTARES
A34: 7.1 | B34: 150180 | C34: Látex acrílica fosca int/ ext sem massa com selador | D34: m² | E34: 554.3 | F34: [(40,99m + 39,66m + 39,85m) x 2,30m]x2
A35: 7.2 | B35: 150253 | C35: Látex acrílica fosca int/ ext com massa e selador - 3 demãos | D35: m² | E35: 95.31 | F35: 2x[(8,70m +1,25 m) x 2,00m] + 2x[(15,42m+15,42m)x0,90m]
A36: 7.3 | B36: 170745 | C36: Cabo de cobre 6mm² - 1 KV | D36: m | E36: 150 | F36: 150,00m
A37: 7.4 | B37: 170418 | C37: Cabo de cobre 2,5mm² - 750 V | D37: m | E37: 50 | F37: 50,00m
A38: 7.5 | B38: COMP01 | C38: Eletroduto PVC flexível corrugado 1 1/4" | D38: m | E38: 150 | F38: 150,00m
A39: 7.6 | B39: 171267 | C39: Curva 90° para eletroduto PVC 1 1/4" (IE) | D39: unid | E39: 6 | F39: 6,00 unid
A40: 7.7 | B40: COMP02 | C40: Luminária pública de led 150W poste de aço | D40: Cj. | E40: 4 | F40: 4,00 unid
A41: 7.8 | B41: COMP03 | C41: Concertina galvanizada / inóx 304 | D41: m | E41: 120.5 | F41: 40,99m + 39,66m + 39,85m
A42: 7.9 | B42: 150491 | C42: Esmalte sobre grade de ferro (superf. aparelhada) | D42: m² | E42: 113.2 | F42: [12x(1,00mx2,32m)+2x(1,60mx3,00m)+(3,00mx2,00m)+(4,70mx2,80m)]x2
A43: 7.10 | B43: 180102 | C43: Tubo em PVC - 100mm (LS) | D43: m | E43: 30.56 | F43: 14,90m+15,66m
A44: 7.11 | B44: 180678 | C44: Caixa em alvenaria de 60 x 60 x 60cm c/ tpo concreto | D44: unid | E44: 3 | F44: 3,00 unid
...

Sheet CRON
A2: PREFEITURA MUNICIPAL DE BREVES
B3: SECRETÁRIA MUNICIPAL DE EDUCAÇÃO - SEMED
A4: OBJETO: CONSTRUÇÃO DE MURO E URBANIZAÇÃO PARA A ESCOLA SANTA LUZIA | H4: BDI = 22,47%
A5: LOCAL: COMUNIDADE SANTA LUZIA - ZONA RURAL - BREVES-PA | H5: MARÇO/2026
A6: REF. DE PREÇOS: SEOP 03/2026 - SEM DESONERAÇÃO
A7: CRONOGRAMA FÍSICO - FINANCEIRO
A8: ITEM | B8: DESCRIÇÃO DOS SERVIÇOS | C8: PESO % | D8: VALOR DO SERVIÇO | E8: 1º MÊS | G8: 2º MÊS
E9: % MÊS | F9: R$ | G9: % MÊS | H9: R$
A10: 1 | B10: =PLAN!C10 -> SERVIÇOS PRELIMINARES | C10: =D10/D24 -> 0.023767346 | D10: =PLAN!H10 -> 10360.14 | E10: 1 | F10: =E10*$D10 -> 10360.14
A12: 2 | B12: =PLAN!C13 -> MOVIMENTO DE TERRAS | C12: =D12/D24 -> 0.0068339832 | D12: =PLAN!H13 -> 2978.92 | E12: 1 | F12: =E12*$D12 -> 2978.92
A14: 3 | B14: =PLAN!C16 -> INFRAESTRUTURA: FUNDAÇÕES | C14: =D14/D24 -> 0.26054264 | D14: =PLAN!H16 -> 113570.03 | E14: 1 | F14: =E14*$D14 -> 113570.03
A16: 4 | B16: =PLAN!C21 -> ESTRUTURA | C16: =D16/D24 -> 0.10103585 | D16: =PLAN!H21 -> 44041.33 | E16: 1 | F16: =E16*$D16 -> 44041.33
A18: 5 | B18: =PLAN!C24 -> ALVENARIAS E REVESTIMENTOS | C18: =D18/D24 -> 0.23035324 | D18: =PLAN!H24 -> 100410.53 | E18: 0.5 | F18: =E18*$D18 -> 50205.265 | G18: 0.5 | H18: =G18*$D18 -> 50205.265
A20: 6 | B20: =PLAN!C28 -> PORTÕES E GRADES | C20: =D20/D24 -> 0.074424282 | D20: =PLAN!H28 -> 32441.4 | G20: 1 | H20: =G20*$D20 -> 32441.4
A22: 7 | B22: =PLAN!C31 -> SERVIÇOS COMPLEMENTARES | C22: =D22/D24 -> 0.30304267 | D22: =PLAN!H31 -> 132095.71 | E22: 0.3 | F22: =E22*$D22 -> 39628.713 | G22: 0.7 | H22: =G22*$D22 -> 92466.997
A24: SOMA | C24: =SUM(C10:C23) -> 1 | D24: =SUM(D10:D23) -> 435898.06
B26: VALOR ACUMULADO | F26: =0.3*#REF! -> #REF! | H26: =0.3*#REF! -> #REF!
A27: TOTAL GERAL SIMPLES | E27: =F27/D24 -> 0.59826923 | F27: =SUM(F10:F23) -> 260784.4 | G27: =H27/D24 -> 0.40173077 | H27: =SUM(H10:H23) -> 175113.66
A28: TOTAL GERAL ACUMULADO | E28: =E27 -> 0.59826923 | F28: =F27 -> 260784.4 | G28: =G27+E28 -> 1 | H28: =F27+H27 -> 435898.06

Sheet BDI
C1: PREFEITURA MUNICIPAL DE BREVES
C2: SECRETÁRIA MUNICIPAL DE EDUCAÇÃO - SEMED
B3: OBJETO: CONSTRUÇÃO DE MURO E URBANIZAÇÃO PARA A ESCOLA SANTA LUZIA
B4: LOCAL: COMUNIDADE SANTA LUZIA - ZONA RURAL - BREVES-PA
B5: REF. DE PREÇOS: SEOP 03/2026 - SEM DESONERAÇÃO
B6: BDI = 22,47%
B7: MARÇO/2026
B9: COMPOSIÇÃO ANALÍTICA DA TAXA DE B.D.I.
B10: 1 - ADMINISTRAÇÃO CENTRAL
B11: ITEM | C11: DESCRIÇÃO | E11: TAXA (%)
B12: 1.1 | C12: MÃO DE OBRA | E12: 2
B13: 1.2 | C13: TRANSPORTES | E13: 0.6
B14: 1.3 | C14: MANUTENÇÃO E OPERAÇÃO DO ESCRITÓRIO CENTRAL | E14: 0.2
B15: 1.4 | C15: DESPESAS DIVERSAS | E15: 0.2
D16: TOTAL DA ADMINISTRAÇÃO CENTRAL | E16: =SUM(E12:E15) -> 3
B17: 2 - DESPESAS FISCAIS
B18: ITEM | C18: DESCRIÇÃO | E18: TAXA (%)
B19: 2.1 | C19: ISS | E19: 5
B20: 2.2 | C20: CPRB | E20: 0
B21: 2.3 | C21: COFINS | E21: 3
B22: 2.4 | C22: PIS | E22: 0.65
D23: TOTAL DAS DESPESAS FISCAIS | E23: =SUM(E19:E22) -> 8.65
B24: 3 - DIVERSOS
B25: ITEM | C25: DESCRIÇÃO | E25: TAXA (%)
B26: 3.1 | C26: BONIFICAÇÃO DA EMPRESA (LUCRO) | E26: 6.16
B27: 3.2 | C27: DESPESAS FINANCEIRAS | E27: 0.59
B28: 3.3 | C28: SEGURO OBRIGATÓRIO | E28: 0.8
B29: 3.4 | C29: RISCOS E EVENTUAIS | E29: 0.97
D30: TOTAL DIVERSOS | E30: =SUM(E26:E29) -> 8.52
D31: BONIFICAÇÃO E DESPESAS INDIRETAS (B.D.I.) | E31: =ROUND(((1+E16/100+E28/100+E29/100)*(1+E27/100)*(1+(E26/100)))/(1-E23/100)-1,4) -> 0.2247
B32: FÓRMULA DO BDI (APROVADA PELO TCU)
B33: A fórmula para cálculo da taxa a ser acrescida aos custos diretos de um empreendimento, a título de Benefícios e Despesas Indiretas é:
B34: BDI = | C34: ( 1 + X ) x ( 1 + Y ) x ( 1 + Z ) | D34: - 1
C35: ( 1 - I )
B36: onde:
B37: X = Taxa da somatória das despesas indiretas, exceto tributos e despesas financeiras
B38: Y = Taxa representativa das despesas financeiras
B39: Z = Taxa representativa do lucro
B40: I = Taxa representativa da incidência de impostos

Sheet CPU
A5: PREFEITURA MUNICIPAL DE BREVES
A6: SECRETARIA MUNICIPAL DE EDUCAÇÃO - SEMED
A7: OBJETO: CONSTRUÇÃO DE MURO E URBANIZAÇÃO PARA A ESCOLA SANTA LUZIA
A8: LOCAL: COMUNIDADE SANTA LUZIA - ZONA RURAL - BREVES-PA | I8: BDI: | J8: 0.2247
A9: REF. DE PREÇOS: SEOP 03/2026 - SEM DESONERAÇÃO | J9: Prazo de Execução: 60 dias
A11: Valores obtidos com base na PLANILHA PADRÃO - Março 2026 da SECRETARIA DE ESTADO DE OBRAS PÚBLICAS - SEOP e Cotação local.
A12: COMPOSIÇÃO DE PREÇO UNITÁRIO
A13: Código | B13: Descrição dos Serviços | G13: Und | H13: Coeficiente | I13: Valor Unitário | J13: Valor Parcial
A14: SERVIÇOS PRELIMINARES
A15: 011340 | B15: Placa de obra em lona com plotagem de gráfica | G15: M2 | H15: 001.01.20
A16: 280013 | B16: Carpinteiro com encargos complementares | G16: H | H16: 0.4 | I16: 32.21 | J16: =ROUND(H16*I16,2) -> 12.88
A17: 280026 | B17: Servente com encargos complementares | G17: H | H17: 0.4 | I17: 26.88 | J17: =ROUND(H17*I17,2) -> 10.75
A18: D00281 | B18: Pernamanca 3" x 2" 4 m - madeira branca | G18: Dz | H18: 0.41 | I18: 225.02 | J18: =ROUND(H18*I18,2)-0.01 -> 92.25
A19: D00475 | B19: Lona com plotagem de gráfica | G19: M2 | H19: 1 | I19: 90 | J19: =ROUND(H19*I19,2) -> 90
A20: D00084 | B20: Prego 1 1/2"x13 | G20: KG | H20: 0.1 | I20: 20.53 | J20: =ROUND(H20*I20,2) -> 2.05
A21: Total Parcial (com lei sem BDI) | H21: =SUM(J16:J20) -> 207.93
A22: B.D.I. 22,47% | H22: =H21*J8 -> 46.721871
A23: Total Geral | H23: =SUM(H21:H22) -> 254.65187
A24: 010005 | B24: Barracão de madeira/ almoxarifado | G24: M2 | H24: 001.01.05
A25: D00016 | B25: Tábua de madeira branca 4m | G25: Dz | H25: 0.38 | I25: 150 | J25: =ROUND(H25*I25,2) -> 57
A26: D00281 | B26: Pernamanca 3" x 2" 4 m - madeira branca | G26: Dz | H26: 0.17 | I26: 225.02 | J26: =ROUND(H26*I26,2) -> 38.25
A27: D00015 | B27: Tábua de madeira forte 4m | G27: Dz | H27: 0.14 | I27: 270.02 | J27: =ROUND(H27*I27,2) -> 37.8
A28: D00081 | B28: Prego 2 1/2" x 10 | G28: KG | H28: 0.5 | I28: 20.6 | J28: =ROUND(H28*I28,2)-0.01 -> 10.29
A29: D00059 | B29: Cadeado nº 30 | G29: UND | H29: 0.02 | I29: 24.45 | J29: =ROUND(H29*I29,2)-0.01 -> 0.48
A30: D00002 | B30: Massa de vedação | G30: KG | H30: 0.042 | I30: 16.66 | J30: =ROUND(H30*I30,2)-0.01 -> 0.69
A31: D00062 | B31: Dobradiça 3" x 3" com parafuso | G31: Und | H31: 0.19 | I31: 17.91 | J31: =ROUND(H31*I31,2) -> 3.4
A32: D00060 | B32: Aldrava para cadeado (4 x 1/2") | G32: Und | H32: 0.02 | I32: 7.45 | J32: =ROUND(H32*I32,2)-0.01 -> 0.14
A33: D00001 | B33: Parafuso fo go 5/16"c = 110mm | G33: Und | H33: 0.04 | I33: 1.02 | J33: =ROUND(H33*I33,2) -> 0.04
A34: D00019 | B34: Régua 3" x 1" 4m - apar. | G34: Dz | H34: 0.05 | I34: 378.03 | J34: =ROUND(H34*I34,2) -> 18.9
A35: D00049 | B35: Telha fibrotex (1,22 x 0,55m) e = 4mm | G35: Und | H35: 0.82 | I35: 17.83 | J35: =ROUND(H35*I35,2)-0.01 -> 14.61
A36: D00061 | B36: Fechadura de sobrepor comum | G36: Und | H36: 0.02 | I36: 79.14 | J36: =ROUND(H36*I36,2) -> 1.58
A37: D00344 | B37: Arruela concava em PVC d = 5/16" | G37: Und | H37: 0.5 | I37: 0.81 | J37: =ROUND(H37*I37,2)-0.01 -> 0.4
A38: 280013 | B38: Carpinteiro com encargos complementares | G38: H | H38: 6.7 | I38: 32.21 | J38: =ROUND(H38*I38,2)-0.01 -> 215.8
A39: 280026 | B39: Servente com encargos complementares | G39: H | H39: 7.5 | I39: 26.88 | J39: =ROUND(H39*I39,2) -> 201.6
A40: Total Parcial (com lei sem BDI) | H40: =SUM(J25:J39) -> 600.98
A41: B.D.I. 22,47% | H41: =H40*J8 -> 135.04021
A42: Total Geral | H42: =SUM(H40:H41) -> 736.02021
A43: MOVIMENTO DE TERRAS
A44: 030010 | B44: Escavação manual até 1,50m de profundidade | G44: M3 | H44: 001.05.02
A45: 280026 | B45: Servente com encargos complementares | G45: H | H45: 4 | I45: 26.88 | J45: =ROUND(H45*I45,2) -> 107.52
...
