Workbook

Sheet RESUMO DA OBRA
A1: #VALUE!
A2: SECRETARIA MUNICIPAL DE DESENVOLVIMENTO ECONÔMICO, PROJETOS E CONVÊNIOS
A4: OBRA: REQUALIFICAÇÃO URBANA NO BAIRRO CASTANHEIRA
A5: LOCAL: BAIRRO CASTANHEIRA-BREVES-PA
A6: REF. DE PREÇOS: SEOP 10/2025 - ORSE 09/2025 - SINAPI 09/2025 - NÃO DESONERADO
A8: ORÇAMENTO RESUMIDO
A9: ITEM | B9: DESCRIÇÃO | C9: TOTAL | D9: PESO (%)
A10: 1 | B10: =ORÇAMENTO!D10 -> PRAÇA POLIESPORTIVA | C10: =ORÇAMENTO!I10 -> 681669.64 | D10: =C10/$C$28 -> 0.6911835
A11: 1.1 | B11: =ORÇAMENTO!D11 -> SERVIÇOS PRELIMINARES | C11: =ORÇAMENTO!I11 -> 92275.72 | D11: =C11/$C$28 -> 0.093563584
A12: 1.2 | B12: =ORÇAMENTO!D15 -> MOVIMENTO DE TERRA | C12: =ORÇAMENTO!I15 -> 79681.89 | D12: =C12/$C$28 -> 0.080793986
A13: 1.3 | B13: =ORÇAMENTO!D19 -> MEIO FIO | C13: =ORÇAMENTO!I19 -> 14781.31 | D13: =C13/$C$28 -> 0.014987608
A14: 1.4 | B14: =ORÇAMENTO!D21 -> QUADRAS POLIESPORTIVA | C14: =ORÇAMENTO!I21 -> 281667.05 | D14: =C14/$C$28 -> 0.28559819
A15: 1.5 | B15: =ORÇAMENTO!D43 -> PASSEIO | C15: =ORÇAMENTO!I43 -> 66955.52 | D15: =C15/$C$28 -> 0.067889998
A16: 1.6 | B16: =ORÇAMENTO!D47 -> INSTALAÇÕES ELÉTRICAS | C16: =ORÇAMENTO!I47 -> 91550.24 | D16: =C16/$C$28 -> 0.092827979
A17: 1.7 | B17: =ORÇAMENTO!D65 -> PLAYGROUND | C17: =ORÇAMENTO!I65 -> 24152.3 | D17: =C17/$C$28 -> 0.024489386
A18: 1.8 | B18: =ORÇAMENTO!D69 -> DIVERSOS | C18: =ORÇAMENTO!I69 -> 25888.08 | D18: =C18/$C$28 -> 0.026249392
A19: 1.9 | B19: =ORÇAMENTO!D75 -> LIMPEZA E ENTREGA DA OBRA | C19: =ORÇAMENTO!I75 -> 4717.53 | D19: =C19/$C$28 -> 0.0047833711
A20: 2 | B20: =ORÇAMENTO!D77 -> PAVIMENTAÇÃO DA RUA FRANCISCO JOSÉ DA ROCHA 2 | C20: =ORÇAMENTO!I77 -> 304565.77 | D20: =C20/$C$28 -> 0.3088165
A21: 2.1 | B21: =ORÇAMENTO!D78 -> SERVIÇOS PRELIMINARES | C21: =ORÇAMENTO!I78 -> 3959.61 | D21: =C21/$C$28 -> 0.0040148731
A22: 2.2 | B22: =ORÇAMENTO!D82 -> MOVIMENTAÇÃO DE TERRA | C22: =ORÇAMENTO!I82 -> 37714.46 | D22: =C22/$C$28 -> 0.038240829
A23: 2.3 | B23: =ORÇAMENTO!D87 -> DRENAGEM | C23: =ORÇAMENTO!I87 -> 58163 | D23: =C23/$C$28 -> 0.058974763
A24: 2.4 | B24: =ORÇAMENTO!D94 -> PAVIMENTAÇÃO | C24: =ORÇAMENTO!I94 -> 191485.94 | D24: =C24/$C$28 -> 0.19415845
A25: 2.5 | B25: =ORÇAMENTO!D96 -> SINALIZAÇÃO VIÁRIA | C25: =ORÇAMENTO!I96 -> 6053.56 | D25: =C25/$C$28 -> 0.0061380477
A26: 2.6 | B26: =ORÇAMENTO!D99 -> LIMPEZA FINAL DA OBRA | C26: =ORÇAMENTO!I99 -> 7189.2 | D26: =C26/$C$28 -> 0.0072895375
A28: Total Geral | C28: =SUM(C10,C20) -> 986235.41 | D28: =SUM(D10,D20) -> 1
A29: =ORÇAMENTO!A102 -> Valor total desta planilha: R$ 986.235,41 (Novecentos e oitenta e seis mil, duzentos e trinta e cinco reais e quarenta e um centavos)

Sheet ORÇAMENTO
A1: #VALUE!
A2: SECRETARIA MUNICIPAL DE DESENVOLVIMENTO ECONÔMICO, PROJETOS E CONVÊNIOS
A4: OBRA: REQUALIFICAÇÃO URBANA NO BAIRRO CASTANHEIRA | I4: BDI: | J4: =BDI!E34 -> 0.2338
A5: LOCAL: BAIRRO CASTANHEIRA-BREVES-PA | I5: PRAZO DE EXECUÇÃO: | J5: 150 DIAS
A6: REF. DE PREÇOS: SEOP 10/2025 - ORSE 09/2025 - SINAPI 09/2025 - NÃO DESONERADO | H6: VALOR TOTAL: | I6: =H101 -> 986235.41
A8: PLANILHA ORÇAMENTÁRIA DE SERVIÇOS
A9: Item | B9: Código | C9: Banco | D9: Descrição | E9: Und | F9: Quant. | G9: Valor Unit | H9: Valor Unit com BDI | I9: Total | J9: Peso (%)
A10: 1 | D10: PRAÇA POLIESPORTIVA | F10: 1 | H10: 681669.64 | I10: 681669.64 | J10: 0.6911835
A11: 1.1 | D11: SERVIÇOS PRELIMINARES | F11: 1 | H11: 92275.72 | I11: 92275.72 | J11: 0.093563584
A12: 1.1.1 | B12: 011340 | C12: SEDOP | D12: Placa de obra em lona com plotagem de gráfica | E12: m² | F12: 6 | G12: 188.16 | H12: 232.15 | I12: 1392.9 | J12: 0.0014123403
A13: 1.1.2 | B13: 010003 | C13: SEDOP | D13: Tapume c/ chapa de madeirit plastificado e=15mm (h=2.20m) | E13: m² | F13: 399.54 | G13: 175.81 | H13: 216.91 | I13: 86664.22 | J13: 0.087873766
A14: 1.1.3 | B14: 010005 | C14: SEDOP | D14: Barracão de madeira/Almoxarifado | E14: m² | F14: 6 | G14: 569.87 | H14: 703.1 | I14: 4218.6 | J14: 0.0042774777
A15: 1.2 | D15: MOVIMENTO DE TERRA | F15: 1 | H15: 79681.89 | I15: 79681.89 | J15: 0.080793986
A16: 1.2.1 | B16: 98525 | C16: SINAPI | D16: LIMPEZA MECANIZADA DE CAMADA VEGETAL, VEGETAÇÃO E PEQUENAS ÁRVORES (DIÂMETRO DE TRONCO MENOR QUE 0,20 M), COM TRATOR DE ESTEIRAS. AF_03/2024 | E16: m² | F16: 1197 | G16: 0.67 | H16: 0.82 | I16: 981.54 | J16: 0.00099523906
A17: 1.2.2 | B17: COMPOSIÇÃO 01 | C17: Próprio | D17: ATERRO INCLUINDO CARGA, DESCARGA E TRANSPORTE | E17: m³ | F17: 478.8 | G17: 126.6 | H17: 156.19 | I17: 74783.77 | J17: 0.075827505
A18: 1.2.3 | B18: 96386 | C18: SINAPI | D18: EXECUÇÃO E COMPACTAÇÃO DE CORPO DE ATERRO (95% DE ENERGIA DO PROCTOR NORMAL) COM SOLO PREDOMINANTEMENTE ARENOSO ESPESSURA 15CM - EXCLUSIVE MATERIAL, ESCAVAÇÃO, CARGA E TRANSPORTE. AF_09/2024 | E18: m³ | F18: 478.8 | G18: 6.63 | H18: 8.18 | I18: 3916.58 | J18: 0.0039712425
A19: 1.3 | D19: MEIO FIO | F19: 1 | H19: 14781.31 | I19: 14781.31 | J19: 0.014987608
A20: 1.3.1 | B20: 94268 | C20: SINAPI | D20: GUIA (MEIO-FIO) E SARJETA CONJUGADOS DE CONCRETO, MOLDADA IN LOCO EM TRECHO CURVO COM EXTRUSORA, 45 CM BASE (15 CM BASE DA GUIA + 30 CM BASE DA SARJETA) X 22 CM ALTURA. AF_01/2024 | E20: M | F20: 159.11 | G20: 75.3 | H20: 92.9 | I20: 14781.31 | J20: 0.014987608
A21: 1.4 | D21: QUADRAS POLIESPORTIVA | F21: 1 | H21: 281667.05 | I21: 281667.05 | J21: 0.28559819
A22: 1.4.1 | D22: QUADRA SOCIETY | F22: 1 | H22: 81472 | I22: 81472 | J22: 0.08260908
A23: 1.4.1.1 | B23: 10042 | C23: ORSE | D23: Fornecimento e instalação de grama sintética 42mm, alta durabilidade, cor verde, proteção raios UV e luz solar, incluso cola, type, areia tratada, borracha e mão de obra especializada | E23: m² | F23: 475 | G23: 61.9 | H23: 76.37 | I23: 36275.75 | J23: 0.03678204
A24: 1.4.1.2 | B24: 100324 | C24: SINAPI | D24: LASTRO COM MATERIAL GRANULAR (PEDRA BRITADA N.1 E PEDRA BRITADA N.2), APLICADO EM PISOS OU LAJES SOBRE SOLO, ESPESSURA DE *10 CM*. AF_01/2024 | E24: m³ | F24: 28.5 | G24: 361.08 | H24: 445.5 | I24: 12696.75 | J24: 0.012873955
A25: 1.4.1.3 | B25: 11798 | C25: ORSE | D25: Piso em concreto simples desempolado, fck = 15 MPa, e = 7 cm, com forma em quadros 2,0x2,0m, para juntas de concretagem - tres usos | E25: m² | F25: 475 | G25: 55.46 | H25: 68.42 | I25: 32499.5 | J25: 0.032953086
A26: 1.4.2 | D26: QUADRA DE AREIA | F26: 1 | H26: 38865.26 | I26: 38865.26 | J26: 0.039407691
A27: 1.4.2.1 | B27: 102664 | C27: SINAPI | D27: DRENO SUBSUPERFICIAL (SEÇÃO 0,40 X 0,40 M), CEGO, ENCHIMENTO DE BRITA, ENVOLVIDO COM MANTA GEOTÊXTIL. AF_07/2021 | E27: M | F27: 48 | G27: 79.38 | H27: 97.93 | I27: 4700.64 | J27: 0.0047662454
A28: 1.4.2.2 | B28: 100324 | C28: SINAPI | D28: LASTRO COM MATERIAL GRANULAR (PEDRA BRITADA N.1 E PEDRA BRITADA N.2), APLICADO EM PISOS OU LAJES SOBRE SOLO, ESPESSURA DE *10 CM*. AF_01/2024 | E28: m³ | F28: 41.6 | G28: 361.08 | H28: 445.5 | I28: 18532.8 | J28: 0.018791457
A29: 1.4.2.3 | B29: 100323 | C29: SINAPI | D29: LASTRO COM MATERIAL GRANULAR (AREIA MÉDIA), APLICADO EM PISOS OU LAJES SOBRE SOLO, ESPESSURA DE *10 CM*. AF_01/2024 | E29: m³ | F29: 62.4 | G29: 203.04 | H29: 250.51 | I29: 15631.82 | J29: 0.015849989
A30: 1.4.3 | D30: ALAMBRADO | F30: 1 | H30: 161329.79 | I30: 161329.79 | J30: 0.16358142
A31: 1.4.3.1 | B31: 93358 | C31: SINAPI | D31: ESCAVAÇÃO MANUAL DE VALA. AF_09/2024 | E31: m³ | F31: 2.97 | G31: 92.88 | H31: 114.59 | I31: 340.33 | J31: 0.00034507988
A32: 1.4.3.2 | B32: 040285 | C32: SEDOP | D32: Baldrame em concreto simples com seixo inclusive forma madeira branca | E32: m³ | F32: 7.1 | G32: 1969.23 | H32: 2429.63 | I32: 17250.37 | J32: 0.017491128
A33: 1.4.3.3 | B33: 051172 | C33: SEDOP | D33: Concreto armado FCK=25MPA com forma aparente - 1 reaproveitamento | E33: m³ | F33: 0.74 | G33: 3735.42 | H33: 4608.76 | I33: 3410.48 | J33: 0.003458079
A34: 1.4.3.4 | B34: 103335 | C34: SINAPI | D34: ALVENARIA DE VEDAÇÃO DE BLOCOS CERÂMICOS FURADOS NA HORIZONTAL DE 14X9X19 CM (ESPESSURA 14 CM, BLOCO DEITADO) E ARGAMASSA DE ASSENTAMENTO COM PREPARO MANUAL. AF_12/2021 | E34: m² | F34: 43.14 | G34: 158.07 | H34: 195.02 | I34: 8413.16 | J34: 0.0085305799
A35: 1.4.3.5 | B35: 87878 | C35: SINAPI | D35: CHAPISCO APLICADO EM ALVENARIAS E ESTRUTURAS DE CONCRETO INTERNAS, COM COLHER DE PEDREIRO. ARGAMASSA TRAÇO 1:3 COM PREPARO MANUAL. AF_10/2022 | E35: m² | F35: 86.28 | G35: 5.73 | H35: 7.06 | I35: 609.13 | J35: 0.00061763144
A36: 1.4.3.6 | B36: 87530 | C36: SINAPI | D36: MASSA ÚNICA, EM ARGAMASSA TRAÇO 1:2:8, PREPARO MANUAL, APLICADA MANUALMENTE EM PAREDES INTERNAS DE AMBIENTES COM ÁREA ENTRE 5M² E 10M², E = 17,5MM, COM TALISCAS. AF_03/2024 | E36: m² | F36: 86.28 | G36: 48.33 | H36: 59.62 | I36: 5144.01 | J36: 0.0052158034
A37: 1.4.3.7 | B37: 102363 | C37: SINAPI | D37: ALAMBRADO PARA QUADRA POLIESPORTIVA, ESTRUTURADO POR TUBOS DE ACO GALVANIZADO, (MONTANTES COM DIAMETRO 2", TRAVESSAS E ESCORAS COM DIÂMETRO 1 ¼"), COM TELA DE ARAME GALVANIZADO, FIO 12 BWG E MALHA QUADRADA 5X5CM (EXCETO MURETA). AF_03/2021 | E37: m² | F37: 358.26 | G37: 187.87 | H37: 231.79 | I37: 83041.08 | J37: 0.084200059
A38: 1.4.3.8 | B38: 88489 | C38: SINAPI | D38: PINTURA LÁTEX ACRÍLICA PREMIUM, APLICAÇÃO MANUAL EM PAREDES, DUAS DEMÃOS. AF_04/2023 | E38: m² | F38: 86.28 | G38: 14.04 | H38: 17.32 | I38: 1494.36 | J38: 0.0015152163
A39: 1.4.3.9 | B39: 100759 | C39: SINAPI | D39: PINTURA COM TINTA ALQUÍDICA DE ACABAMENTO (ESMALTE SINTÉTICO BRILHANTE) PULVERIZADA SOBRE SUPERFÍCIES METÁLICAS (EXCETO PERFIL) EXECUTADO EM OBRA (02 DEMÃOS). AF_01/2020_PE | E39: m² | F39: 358.26 | G39: 51.5 | H39: 63.54 | I39: 22763.84 | J39: 0.023081548
A40: 1.4.3.10 | B40: 1900 | C40: ORSE | D40: Fornecimento e instalação de rede de proteção em nylon malha 10 x 10 cm para quadra de esporte | E40: m² | F40: 698.83 | G40: 20 | H40: 24.67 | I40: 17240.13 | J40: 0.017480745
A41: 1.4.3.11 | B41: 13188 | C41: ORSE | D41: Fornecimento de grampo para cabo de aço 1/8" | E41: un | F41: 8 | G41: 1.65 | H41: 2.03 | I41: 16.24 | J41: 1.6466657e-05
A42: 1.4.3.12 | B42: 13175 | C42: ORSE | D42: Cabo de aço galvanizado 1/8" - Rev 01_03/2022 | E42: m | F42: 114.68 | G42: 11.36 | H42: 14.01 | I42: 1606.66 | J42: 0.0016290837
...

Sheet CRONOGRAMA
A1: #VALUE!
A2: SECRETARIA MUNICIPAL DE DESENVOLVIMENTO ECONÔMICO, PROJETOS E CONVÊNIOS
A4: OBRA: REQUALIFICAÇÃO URBANA NO BAIRRO CASTANHEIRA | M4: BDI: | N4: =BDI!E34 -> 0.2338
A5: LOCAL: BAIRRO CASTANHEIRA-BREVES-PA | M5: PRAZO DE EXECUÇÃO: | N5: 150 DIAS
A6: REF. DE PREÇOS: SEOP 10/2025 - ORSE 09/2025 - SINAPI 09/2025 - NÃO DESONERADO | M6: VALOR DA OBRA: | N6: =SUM(N43) -> 986235.41
A8: CRONOGRAMA FÍSICO - FINANCEIRO
A9: ITEM | B9: DESCRIÇÃO DOS SERVIÇOS | C9: PESO % | D9: VALOR DO SERVIÇO | E9: 1º MÊS | G9: 2º MÊS | I9: 3º MÊS | K9: 4º MÊS | M9: 5º MÊS
E10: % MÊS | F10: R$ | G10: % MÊS | H10: R$ | I10: % MÊS | J10: R$ | K10: % MÊS | L10: R$ | M10: % MÊS | N10: R$
A11: 1.1 | B11: ='RESUMO DA OBRA'!B11 -> SERVIÇOS PRELIMINARES | C11: =D11/$D$41 -> 0.093563584 | D11: ='RESUMO DA OBRA'!C11 -> 92275.72 | E11: 1 | F11: =E11*$D11 -> 92275.72
A13: 1.2 | B13: ='RESUMO DA OBRA'!B12 -> MOVIMENTO DE TERRA | C13: =D13/$D$41 -> 0.080793986 | D13: ='RESUMO DA OBRA'!C12 -> 79681.89 | E13: 1 | F13: =E13*$D13 -> 79681.89
A15: 1.3 | B15: ='RESUMO DA OBRA'!B13 -> MEIO FIO | C15: =D15/$D$41 -> 0.014987608 | D15: ='RESUMO DA OBRA'!C13 -> 14781.31 | E15: 1 | F15: =E15*$D15 -> 14781.31
A17: 1.4 | B17: ='RESUMO DA OBRA'!B14 -> QUADRAS POLIESPORTIVA | C17: =D17/$D$41 -> 0.28559819 | D17: ='RESUMO DA OBRA'!C14 -> 281667.05 | G17: 0.5 | H17: =G17*$D17 -> 140833.52 | I17: 0.5 | J17: =I17*$D17 -> 140833.52
A19: 1.5 | B19: ='RESUMO DA OBRA'!B15 -> PASSEIO | C19: =D19/$D$41 -> 0.067889998 | D19: ='RESUMO DA OBRA'!C15 -> 66955.52 | G19: 0.5 | H19: =G19*$D19 -> 33477.76 | I19: 0.5 | J19: =I19*$D19 -> 33477.76
A21: 1.6 | B21: ='RESUMO DA OBRA'!B16 -> INSTALAÇÕES ELÉTRICAS | C21: =D21/$D$41 -> 0.092827979 | D21: ='RESUMO DA OBRA'!C16 -> 91550.24 | I21: 0.5 | J21: =I21*$D21 -> 45775.12 | K21: 0.5 | L21: =K21*$D21 -> 45775.12
A23: 1.7 | B23: ='RESUMO DA OBRA'!B17 -> PLAYGROUND | C23: =D23/$D$41 -> 0.024489386 | D23: ='RESUMO DA OBRA'!C17 -> 24152.3 | K23: 0.5 | L23: =K23*$D23 -> 12076.15 | M23: 0.5 | N23: =M23*$D23 -> 12076.15
A25: 1.8 | B25: ='RESUMO DA OBRA'!B18 -> DIVERSOS | C25: =D25/$D$41 -> 0.026249392 | D25: ='RESUMO DA OBRA'!C18 -> 25888.08 | M25: 1 | N25: =M25*$D25 -> 25888.08
A27: 1.9 | B27: ='RESUMO DA OBRA'!B19 -> LIMPEZA E ENTREGA DA OBRA | C27: =D27/$D$41 -> 0.0047833711 | D27: ='RESUMO DA OBRA'!C19 -> 4717.53 | M27: 1 | N27: =M27*$D27 -> 4717.53
A29: 2.1 | B29: ='RESUMO DA OBRA'!B21 -> SERVIÇOS PRELIMINARES | C29: =D29/$D$41 -> 0.0040148731 | D29: ='RESUMO DA OBRA'!C21 -> 3959.61 | E29: 1 | F29: =E29*$D29 -> 3959.61
A31: 2.2 | B31: ='RESUMO DA OBRA'!B22 -> MOVIMENTAÇÃO DE TERRA | C31: =D31/$D$41 -> 0.038240829 | D31: ='RESUMO DA OBRA'!C22 -> 37714.46 | E31: 1 | F31: =E31*$D31 -> 37714.46
A33: 2.3 | B33: ='RESUMO DA OBRA'!B23 -> DRENAGEM | C33: =D33/$D$41 -> 0.058974763 | D33: ='RESUMO DA OBRA'!C23 -> 58163 | E33: 1 | F33: =E33*$D33 -> 58163
A35: 2.4 | B35: ='RESUMO DA OBRA'!B24 -> PAVIMENTAÇÃO | C35: =D35/$D$41 -> 0.19415845 | D35: ='RESUMO DA OBRA'!C24 -> 191485.94 | E35: 0.3 | F35: =E35*$D35 -> 57445.782 | G35: 0.4 | H35: =G35*$D35 -> 76594.376 | I35: 0.3 | J35: =I35*$D35 -> 57445.782
A37: 2.5 | B37: ='RESUMO DA OBRA'!B25 -> SINALIZAÇÃO VIÁRIA | C37: =D37/$D$41 -> 0.0061380477 | D37: ='RESUMO DA OBRA'!C25 -> 6053.56 | I37: 1 | J37: =I37*$D37 -> 6053.56
A39: 2.6 | B39: ='RESUMO DA OBRA'!B26 -> LIMPEZA FINAL DA OBRA | C39: =D39/$D$41 -> 0.0072895375 | D39: ='RESUMO DA OBRA'!C26 -> 7189.2 | I39: 1 | J39: =I39*$D39 -> 7189.2
A41: SOMA | C41: =SUM(C11:C40) -> 1 | D41: =SUM(D11:D40) -> 986235.41
A42: TOTAL GERAL SIMPLES | E42: =F42/D41 -> 0.34882318 | F42: =SUM(F11:F40) -> 344021.77 | G42: =H42/$D$41 -> 0.25440748 | H42: =SUM(H11:H40) -> 250905.66 | I42: =J42/$D$41 -> 0.29483321 | J42: =SUM(J11:J40) -> 290774.95 | K42: =L42/$D$41 -> 0.058658683 | L42: =SUM(L11:L39) -> 57851.27 | M42: =N42/$D$41 -> 0.043277456 | N42: =SUM(N11:N39) -> 42681.76
A43: TOTAL GERAL ACUMULADO | E43: =E42 -> 0.34882318 | F43: =F42 -> 344021.77 | G43: =SUM(E43+G42) -> 0.60323066 | H43: =SUM(F43+H42) -> 594927.43 | I43: =SUM(G43+I42) -> 0.89806386 | J43: =SUM(H43+J42) -> 885702.38 | K43: =SUM(I43+K42) -> 0.95672254 | L43: =SUM(J43+L42) -> 943553.65 | M43: =SUM(K43+M42) -> 1 | N43: =SUM(L43+N42) -> 986235.41

Sheet MEMÓRIA DE CÁLCULO
A1: #VALUE!
A2: SECRETARIA MUNICIPAL DE DESENVOLVIMENTO ECONÔMICO, PROJETOS E CONVÊNIOS
A4: OBRA: REQUALIFICAÇÃO URBANA NO BAIRRO CASTANHEIRA
A5: LOCAL: BAIRRO CASTANHEIRA-BREVES-PA
A6: REF. DE PREÇOS: SEOP 10/2025 - ORSE 09/2025 - SINAPI 09/2025 - NÃO DESONERADO
A8: MEMÓRIA DE CÁLCULO
A9: ITEM | B9: DISCRIMINAÇÃO DOS SERVIÇOS | C9: UNID. | D9: QUANT. | E9: MEM.CÁLULO
A10: 1 | B10: PRAÇA POLIESPORTIVA
A11: 1.1 | B11: SERVIÇOS PRELIMINARES
A12: 1.1.1 | B12: Placa de obra em lona com plotagem de gráfica | C12: m² | D12: 6,0 | E12: 2,00 M X 3,00 M = 6,00 M²
A13: 1.1.2 | B13: Tapume c/ chapa de madeirit plastificado e=15mm (h=2.20m) | C13: m² | D13: 399,54 | E13: (11,38M + 75,24M + 22,50M + 72,49M) X 2,20M= 399,54 M²
A14: 1.1.3 | B14: Barracão de madeira/Almoxarifado | C14: m² | D14: 6,0 | E14: 2,00 M X 3,00 M
A15: 1.2 | B15: MOVIMENTO DE TERRA
A16: 1.2.1 | B16: LIMPEZA MECANIZADA DE CAMADA VEGETAL, VEGETAÇÃO E PEQUENAS ÁRVORES (DIÂMETRO DE TRONCO MENOR QUE 0,20 M), COM TRATOR DE ESTEIRAS. AF_03/2024 | C16: m² | D16: 1.197,0 | E16: PASSEIO= 395 M² QUADRA GRAMA SINTÉTICA= 475 M² QUADRA DE AREIA= 208 M² PISO GRAMA PLAYGROUD= 66 M² PISO EM CONCRETO POLIDO= 53 M² TOTAL= 1197 M²
A17: 1.2.2 | B17: ATERRO INCLUINDO CARGA, DESCARGA E TRANSPORTE | C17: m³ | D17: 478.8 | E17: AREA TOTAL X ESPESSURA= 1197,00 M² X 0,40 M = 478,80 M³
A18: 1.2.3 | B18: EXECUÇÃO E COMPACTAÇÃO DE CORPO DE ATERRO (95% DE ENERGIA DO PROCTOR NORMAL) COM SOLO PREDOMINANTEMENTE ARENOSO ESPESSURA 15CM - EXCLUSIVE MATERIAL, ESCAVAÇÃO, CARGA E TRANSPORTE. AF_09/2024 | C18: m³ | D18: 478.8 | E18: AREA TOTAL X ESPESSURA= 1197,00 M² X 0,40 M = 478,80 M³
A19: 1.3 | B19: MEIO FIO
A20: 1.3.1 | B20: GUIA (MEIO-FIO) E SARJETA CONJUGADOS DE CONCRETO, MOLDADA IN LOCO EM TRECHO CURVO COM EXTRUSORA, 45 CM BASE (15 CM BASE DA GUIA + 30 CM BASE DA SARJETA) X 22 CM ALTURA. AF_01/2024 | C20: M | D20: 159,11 | E20: 75,24M + 72,49M + 11,38 M= 159,11M
A21: 1.4 | B21: QUADRAS POLIESPORTIVA
A22: 1.4.1 | B22: QUADRA SOCIETY
A23: 1.4.1.1 | B23: Fornecimento e instalação de grama sintética 42mm, alta durabilidade, cor verde, proteção raios UV e luz solar, incluso cola, type, areia tratada, borracha e mão de obra especializada | C23: m² | D23: 475,0 | E23: QUADRA GRAMA SINTÉTICA= 475 M²
A24: 1.4.1.2 | B24: LASTRO COM MATERIAL GRANULAR (PEDRA BRITADA N.1 E PEDRA BRITADA N.2), APLICADO EM PISOS OU LAJES SOBRE SOLO, ESPESSURA DE *10 CM*. AF_01/2024 | C24: m³ | D24: 28,5 | E24: QUADRA GRAMA SINTÉTICA= 475 M² X 0,06M = 28,50 M³
A25: 1.4.1.3 | B25: Piso em concreto simples desempolado, fck = 15 MPa, e = 7 cm, com forma em quadros 2,0x2,0m, para juntas de concretagem - tres usos | C25: m² | D25: 475,0 | E25: QUADRA GRAMA SINTÉTICA= 475 M²
A26: 1.4.2 | B26: QUADRA DE AREIA
A27: 1.4.2.1 | B27: DRENO SUBSUPERFICIAL (SEÇÃO 0,40 X 0,40 M), CEGO, ENCHIMENTO DE BRITA, ENVOLVIDO COM MANTA GEOTÊXTIL. AF_07/2021 | C27: M | D27: 48,0 | E27: 18,00M + 10,00M + 10,00M + 10,00= 48,00 M
A28: 1.4.2.2 | B28: LASTRO COM MATERIAL GRANULAR (PEDRA BRITADA N.1 E PEDRA BRITADA N.2), APLICADO EM PISOS OU LAJES SOBRE SOLO, ESPESSURA DE *10 CM*. AF_01/2024 | C28: m³ | D28: 41.6 | E28: QUADRA DE AREIA= 208 M² X 0,20M = 41,60 M³
A29: 1.4.2.3 | B29: LASTRO COM MATERIAL GRANULAR (AREIA MÉDIA), APLICADO EM PISOS OU LAJES SOBRE SOLO, ESPESSURA DE *10 CM*. AF_01/2024 | C29: m³ | D29: 62.4 | E29: QUADRA DE AREIA= 208 M² X 0,30M = 62,40M³
A30: 1.4.3 | B30: ALAMBRADO
A31: 1.4.3.1 | B31: ESCAVAÇÃO MANUAL DE VALA. AF_09/2024 | C31: m³ | D31: 2,97 | E31: BLOCOS (0,30M X 0,30M X 0,60M) X 55 UN = 2,97 M³ CONFORME PROJETO
A32: 1.4.3.2 | B32: Baldrame em concreto simples com seixo inclusive forma madeira branca | C32: m³ | D32: 7,1 | E32: BLOCOS= 1,49 M³ BALDRAME= 5,61M³ CONFORME PROJETO
A33: 1.4.3.3 | B33: Concreto armado FCK=25MPA com forma aparente - 1 reaproveitamento | C33: m³ | D33: 0,74 | E33: PILARETES= 0,74 M³ CONFORME PROJETO
A34: 1.4.3.4 | B34: ALVENARIA DE VEDAÇÃO DE BLOCOS CERÂMICOS FURADOS NA HORIZONTAL DE 14X9X19 CM (ESPESSURA 14 CM, BLOCO DEITADO) E ARGAMASSA DE ASSENTAMENTO COM PREPARO MANUAL. AF_12/2021 | C34: m² | D34: 43,14 | E34: 143,80 M X 0,30 M = 43,14 M²
A35: 1.4.3.5 | B35: CHAPISCO APLICADO EM ALVENARIAS E ESTRUTURAS DE CONCRETO INTERNAS, COM COLHER DE PEDREIRO. ARGAMASSA TRAÇO 1:3 COM PREPARO MANUAL. AF_10/2022 | C35: m² | D35: 86,28 | E35: 43,14 M² X 2,00 LADOS= 86,28 M²
A36: 1.4.3.6 | B36: MASSA ÚNICA, EM ARGAMASSA TRAÇO 1:2:8, PREPARO MANUAL, APLICADA MANUALMENTE EM PAREDES INTERNAS DE AMBIENTES COM ÁREA ENTRE 5M² E 10M², E = 17,5MM, COM TALISCAS. AF_03/2024 | C36: m² | D36: 86,28 | E36: 43,14 M² X 2,00 LADOS= 86,28 M²
A37: 1.4.3.7 | B37: ALAMBRADO PARA QUADRA POLIESPORTIVA, ESTRUTURADO POR TUBOS DE ACO GALVANIZADO, (MONTANTES COM DIAMETRO 2", TRAVESSAS E ESCORAS COM DIÂMETRO 1 ¼"), COM TELA DE ARAME GALVANIZADO, FIO 12 BWG E MALHA QUADRADA 5X5CM (EXCETO MURETA). AF_03/2021 | C37: m² | D37: 358,26 | E37: ALAMBRADO= 358,26 M² CONFORME PROJETO
A38: 1.4.3.8 | B38: PINTURA LÁTEX ACRÍLICA PREMIUM, APLICAÇÃO MANUAL EM PAREDES, DUAS DEMÃOS. AF_04/2023 | C38: m² | D38: 86,28 | E38: 43,14 M² X 2,00 LADOS= 86,28 M²
A39: 1.4.3.9 | B39: PINTURA COM TINTA ALQUÍDICA DE ACABAMENTO (ESMALTE SINTÉTICO BRILHANTE) PULVERIZADA SOBRE SUPERFÍCIES METÁLICAS (EXCETO PERFIL) EXECUTADO EM OBRA (02 DEMÃOS). AF_01/2020_PE | C39: m² | D39: 358,26 | E39: ALAMBRADO= 358,26 M² CONFORME PROJETO
A40: 1.4.3.10 | B40: Fornecimento e instalação de rede de proteção em nylon malha 10 x 10 cm para quadra de esporte | C40: m² | D40: 698,83 | E40: ALAMBRADO= 698,83 M² CONFORME PROJETO
A41: 1.4.3.11 | B41: Fornecimento de grampo para cabo de aço 1/8" | C41: un | D41: 8,0 | E41: 4,00 UN + 4,00 UN = 8,00 UN
A42: 1.4.3.12 | B42: Cabo de aço galvanizado 1/8" - Rev 01_03/2022 | C42: m | D42: 114,68 | E42: QUADRA SINTÉTICA=(35,34 M + 35,34 M) + QUADRA DE AREIA= (22,00 M+ 22,00 M) TOTAL= 114,68 M
...

Sheet BDI
B1: #VALUE!
B2: SECRETARIA MUNICIPAL DE DESENVOLVIMENTO ECONÔMICO, PROJETOS E CONVÊNIOS
A4: OBRA: REQUALIFICAÇÃO URBANA NO BAIRRO CASTANHEIRA | B4: OBRA: REQUALIFICAÇÃO URBANA NO BAIRRO CASTANHEIRA
A5: LOCAL: BAIRRO CASTANHEIRA-BREVES-PA | B5: LOCAL: BAIRRO CASTANHEIRA-BREVES-PA
A6: REF. DE PREÇOS: SEOP 10/2025 - ORSE 09/2025 - SINAPI 09/2025 - NÃO DESONERADO | B6: REF. DE PREÇOS: SEOP 10/2025 - ORSE 09/2025 - SINAPI 09/2025 - NÃO DESONERADO
B7: COMPOSIÇÃO ANALÍTICA DA TAXA DE B.D.I. (SEM DESONERAÇÃO)
B8: Tipo de Obra: Construção de Praças Urbanas, Rodovias, Ferrovias e recapeamento e pavimentação de vias urbanas
B10: 1 - ADMINISTRAÇÃO CENTRAL
B11: ITEM | C11: DESCRIÇÃO | E11: TAXA (%)
B12: 1.1 | C12: MÃO DE OBRA | E12: 2.4
B13: 1.2 | C13: TRANSPORTES | E13: 0.8
B14: 1.3 | C14: MANUTENÇÃO E OPERAÇÃO DO ESCRITÓRIO CENTRAL | E14: 0.3
B15: 1.4 | C15: DESPESAS DIVERSAS | E15: 0.3
D16: TOTAL DA ADMINISTRAÇÃO CENTRAL | E16: =SUM(E12:E15) -> 3.8 | G16: 8.03 | H16: =IF(E16>G16,"VALOR MÁXIMO ULTRAPASSADO","OK") -> OK
B18: 2 - DESPESAS FISCAIS
B19: ITEM | C19: DESCRIÇÃO | E19: TAXA (%)
B20: 2.1 | C20: ISS | E20: 5
B21: 2.2 | C21: CPRB | E21: 0
B22: 2.3 | C22: COFINS | E22: 3
B23: 2.4 | C23: PIS | E23: 0.65
D24: TOTAL DAS DESPESAS FISCAIS | E24: =SUM(E20:E23) -> 8.65 | G24: 9.03
B26: 3 - DIVERSOS
B27: ITEM | C27: DESCRIÇÃO | E27: TAXA (%)
B28: 3.1 | C28: BONIFICAÇÃO DA EMPRESA (LUCRO) | E28: 6.64 | G28: 9.96 | H28: =IF(E28>G28,"VALOR MÁXIMO ULTRAPASSADO","OK") -> OK
B29: 3.2 | C29: DESPESAS FINANCEIRAS | E29: 1.02 | G29: 1.2 | H29: =IF(E29>G29,"VALOR MÁXIMO ULTRAPASSADO","OK") -> OK
B30: 3.3 | C30: SEGURO OBRIGATÓRIO | E30: 0.32 | G30: 0.42 | H30: =IF(E30>G30,"VALOR MÁXIMO ULTRAPASSADO","OK") -> OK
B31: 3.4 | C31: RISCOS E EVENTUAIS | E31: 0.5 | G31: 2.05 | H31: =IF(E31>G31,"VALOR MÁXIMO ULTRAPASSADO","OK") -> OK
D32: TOTAL DIVERSOS | E32: =SUM(E28:E31) -> 8.48
D34: BONIFICAÇÃO E DESPESAS INDIRETAS (B.D.I.) | E34: =ROUND(((1+E16/100+E30/100+E31/100)*(1+E29/100)*(1+(E28/100)))/(1-E24/100)-1,4) -> 0.2338
B37: FÓRMULA DO BDI (APROVADA PELO TCU)
B38: A fórmula para cálculo da taxa a ser acrescida aos custos diretos de um empreendimento, a título de Benefícios e Despesas Indiretas é:
B39: BDI = | C39: ( 1 + X ) x ( 1 + Y ) x ( 1 + Z ) | D39: - 1
C40: ( 1 - I )
B41: onde:
B42: X = Taxa da somatória das despesas indiretas, exceto tributos e despesas financeiras
B43: Y = Taxa representativa das despesas financeiras
B44: Z = Taxa representativa do lucro
B45: I = Taxa representativa da incidência de impostos
D52: MÍNIMO | E52: MÁXIMO | F52: MÉDIO | G52: LIMITE CAIXA
C53: Garantia | D53: 0 | E53: 0.42 | F53: 0.21 | G53: 0.21
...

Sheet CPU
A1: #VALUE!
A2: SECRETARIA MUNICIPAL DE DESENVOLVIMENTO ECONÔMICO, PROJETOS E CONVÊNIOS
A4: OBRA: REQUALIFICAÇÃO URBANA NO BAIRRO CASTANHEIRA
A5: LOCAL: BAIRRO CASTANHEIRA-BREVES-PA | I5: BDI: | J5: =BDI!E34 -> 0.2338
A6: REF. DE PREÇOS: SEOP 10/2025 - ORSE 09/2025 - SINAPI 09/2025 - NÃO DESONERADO | I6: PRAZO DE EXECUÇÃO: | J6: 150 DIAS
A8: COMPOSIÇÃO DE PREÇO UNITÁRIO
A9: 1.1.1 | B9: Código | C9: Banco | D9: Descrição | E9: Tipo | G9: Und | H9: Quant. | I9: Valor Unit | J9: Total
A10: Composição | B10: 011340 | C10: SEDOP | D10: Placa de obra em lona com plotagem de gráfica | E10: 0 | G10: m² | H10: 1 | I10: 188.16 | J10: 188.16
A11: Composição Auxiliar | B11: 280026 | C11: SEDOP | D11: SERVENTE COM ENCARGOS COMPLEMENTARES | E11: 0 | G11: h | H11: 0.4 | I11: 26.13 | J11: 10.45
A12: Composição Auxiliar | B12: 280013 | C12: SEDOP | D12: CARPINTEIRO COM ENCARGOS COMPLEMENTARES | E12: 0 | G12: h | H12: 0.4 | I12: 31.75 | J12: 12.7
A13: Insumo | B13: D00475 | C13: SEDOP | D13: Lona com plotagem de gráfica | E13: Material | G13: m² | H13: 1 | I13: 75 | J13: 75
A14: Insumo | B14: D00281 | C14: SEDOP | D14: Pernamanca 3" x 2" 4 m - madeira branca | E14: Material | G14: Dz | H14: 0.41 | I14: 215 | J14: 88.15
A15: Insumo | B15: D00084 | C15: SEDOP | D15: Prego 1 1/2"x13 | E15: Material | G15: kg | H15: 0.1 | I15: 18.62 | J15: 1.86
E16: MO sem LS => | F16: 15.4 | G16: LS => | H16: 0 | I16: MO com LS => | J16: 15.4
E17: Valor do BDI => | F17: 43.99 | H17: Valor com BDI => | J17: 232.15
A19: 1.1.2 | B19: Código | C19: Banco | D19: Descrição | E19: Tipo | G19: Und | H19: Quant. | I19: Valor Unit | J19: Total
A20: Composição | B20: 010003 | C20: SEDOP | D20: Tapume c/ chapa de madeirit plastificado e=15mm (h=2.20m) | E20: 0 | G20: m² | H20: 1 | I20: 175.81 | J20: 175.81
A21: Composição Auxiliar | B21: 280026 | C21: SEDOP | D21: SERVENTE COM ENCARGOS COMPLEMENTARES | E21: 0 | G21: h | H21: 0.4 | I21: 26.13 | J21: 10.45
A22: Composição Auxiliar | B22: 150654 | C22: SEDOP | D22: Látex acrílica exterior (uma demão) | E22: 0 | G22: m² | H22: 1 | I22: 12.72 | J22: 12.72
A23: Composição Auxiliar | B23: 280013 | C23: SEDOP | D23: CARPINTEIRO COM ENCARGOS COMPLEMENTARES | E23: 0 | G23: h | H23: 0.4 | I23: 31.75 | J23: 12.7
A24: Insumo | B24: D00081 | C24: SEDOP | D24: Prego 2 1/2"x10 | E24: Material | G24: kg | H24: 0.14 | I24: 18.68 | J24: 2.61
A25: Insumo | B25: D00428 | C25: SEDOP | D25: Madeirite Plastificado e=15mm | E25: Material | G25: m² | H25: 1.05 | I25: 103.16 | J25: 108.31
A26: Insumo | B26: D00281 | C26: SEDOP | D26: Pernamanca 3" x 2" 4 m - madeira branca | E26: Material | G26: Dz | H26: 0.135 | I26: 215 | J26: 29.02
E27: MO sem LS => | F27: 21.16 | G27: LS => | H27: 0 | I27: MO com LS => | J27: 21.16
E28: Valor do BDI => | F28: 41.1 | H28: Valor com BDI => | J28: 216.91
A30: 1.1.3 | B30: Código | C30: Banco | D30: Descrição | E30: Tipo | G30: Und | H30: Quant. | I30: Valor Unit | J30: Total
A31: Composição | B31: 010005 | C31: SEDOP | D31: Barracão de madeira/Almoxarifado | E31: 0 | G31: m² | H31: 1 | I31: 569.87 | J31: 569.87
A32: Composição Auxiliar | B32: 280026 | C32: SEDOP | D32: SERVENTE COM ENCARGOS COMPLEMENTARES | E32: 0 | G32: h | H32: 7.5 | I32: 26.13 | J32: 195.97
A33: Composição Auxiliar | B33: 280013 | C33: SEDOP | D33: CARPINTEIRO COM ENCARGOS COMPLEMENTARES | E33: 0 | G33: h | H33: 6.7 | I33: 31.75 | J33: 212.72
A34: Insumo | B34: D00060 | C34: SEDOP | D34: Aldrava p/ cadeado (4x1/2") | E34: Material | G34: un | H34: 0.02 | I34: 10.72 | J34: 0.21
A35: Insumo | B35: D00061 | C35: SEDOP | D35: Fechadura de sobrepor comum | E35: Material | G35: un | H35: 0.02 | I35: 77.21 | J35: 1.54
A36: Insumo | B36: D00062 | C36: SEDOP | D36: Dobradiça 3"x3" com parafuso | E36: Material | G36: un | H36: 0.19 | I36: 25.78 | J36: 4.89
A37: Insumo | B37: D00344 | C37: SEDOP | D37: Arruela concava em PVC d=5/16" | E37: Material | G37: un | H37: 0.5 | I37: 0.7 | J37: 0.35
A38: Insumo | B38: D00016 | C38: SEDOP | D38: Tábua de madeira branca 4m | E38: Material | G38: Dz | H38: 0.38 | I38: 115.02 | J38: 43.7
A39: Insumo | B39: D00049 | C39: SEDOP | D39: Telha fibrotex (1.22x0.55m) e=4mm | E39: Material | G39: un | H39: 0.82 | I39: 15.5 | J39: 12.71
A40: Insumo | B40: D00281 | C40: SEDOP | D40: Pernamanca 3" x 2" 4 m - madeira branca | E40: Material | G40: Dz | H40: 0.17 | I40: 215 | J40: 36.55
A41: Insumo | B41: D00002 | C41: SEDOP | D41: Massa de vedação | E41: Material | G41: kg | H41: 0.042 | I41: 17.73 | J41: 0.74
A42: Insumo | B42: D00059 | C42: SEDOP | D42: Cadeado No. 30 | E42: Material | G42: un | H42: 0.02 | I42: 35.2 | J42: 0.7
A43: Insumo | B43: D00019 | C43: SEDOP | D43: Régua 3"x1" 4 m apar. | E43: Material | G43: Dz | H43: 0.05 | I43: 336 | J43: 16.8
A44: Insumo | B44: D00081 | C44: SEDOP | D44: Prego 2 1/2"x10 | E44: Material | G44: kg | H44: 0.5 | I44: 18.68 | J44: 9.34
...

Sheet ITENS DE MAIOR RELEVÂNCIA
A1: #VALUE!
A2: SECRETARIA MUNICIPAL DE DESENVOLVIMENTO ECONÔMICO, PROJETOS E CONVÊNIOS
A4: OBRA: REQUALIFICAÇÃO URBANA NO BAIRRO CASTANHEIRA
A5: LOCAL: BAIRRO CASTANHEIRA-BREVES-PA
A6: REF. DE PREÇOS: SEOP 10/2025 - ORSE 09/2025 - SINAPI 09/2025 - NÃO DESONERADO
A8: ITENS DE MAIOR RELEVÂNCIA | G8: QUALIFICAÇÃO PROFISSIONAL
A9: Código do item | B9: DESCRIÇÃO | C9: UN | D9: QTD TOTAL | E9: PESO FINANCEIRO(%) | F9: QTD MIN. EXIGIDA (50%) | G9: PROFISSIONAL C/ CAPACIDADE TÉCNICA EXIGIDO
A10: 92394 | B10: EXECUÇÃO DE PAVIMENTO EM PISO INTERTRAVADO, COM BLOCO SEXTAVADO DE 25 X 25 CM, ESPESSURA 8 CM. AF_10/2022 | C10: m² | D10: 1.507,17 | E10: 19,90 | F10: =D10*0.5 -> 753.585 | G10: ENGENHEIRO(A) CIVIL OU ARQUITETO(A)
A11: 102363 | B11: ALAMBRADO PARA QUADRA POLIESPORTIVA, ESTRUTURADO POR TUBOS DE ACO GALVANIZADO, (MONTANTES COM DIAMETRO 2", TRAVESSAS E ESCORAS COM DIÂMETRO 1 ¼"), COM TELA DE ARAME GALVANIZADO, FIO 12 BWG E MALHA QUADRADA 5X5CM (EXCETO MURETA). AF_03/2021 | C11: m² | D11: 358,26 | E11: 8,39 | F11: =D11*0.5 -> 179.13 | G11: ENGENHEIRO(A) CIVIL OU ARQUITETO(A)
A12: 010003 | B12: Tapume c/ chapa de madeirit plastificado e=15mm (h=2.20m) | C12: m² | D12: 399,54 | E12: 8,32 | F12: =D12*0.5 -> 199.77 | G12: ENGENHEIRO(A) CIVIL OU ARQUITETO(A)
A13: COMPOSIÇÃO 01 | B13: ATERRO INCLUINDO CARGA, DESCARGA E TRANSPORTE | C13: m³ | D13: 478,8 | E13: 7,46 | F13: =D13*0.5 -> 239.4 | G13: ENGENHEIRO(A) CIVIL OU ARQUITETO(A)

Sheet ENCARGOS SOCIAIS
A2: #VALUE!
A4: OBRA: REQUALIFICAÇÃO URBANA NO BAIRRO CASTANHEIRA
A5: LOCAL: BAIRRO CASTANHEIRA-BREVES-PA
A6: REF. DE PREÇOS: SEOP 10/2025 - ORSE 09/2025 - SINAPI 09/2025 - NÃO DESONERADO
E7: BDI : | F7: 23.38
E8: =[1]Orçamento!I9 -> BDI : (%)
A10: LEIS SOCIAIS SOBRE A MÃO DE OBRA
A11: CÓDIGO | B11: DESCRIÇÃO | C11: COM DESONERAÇÃO | E11: SEM DESONERAÇÃO
C12: HORISTA (%) | D12: MENSALISTA (%) | E12: HORISTA (%) | F12: MENSALISTA (%)
A13: GRUPO A
A14: A1 | B14: INSS | C14: 0.05 | D14: 0.05 | E14: 0.2 | F14: 0.2
A15: A2 | B15: SESI | C15: 0.015 | D15: 0.015 | E15: 0.015 | F15: 0.015
A16: A3 | B16: SENAI | C16: 0.01 | D16: 0.01 | E16: 0.01 | F16: 0.01
A17: A4 | B17: INCRA | C17: 0.002 | D17: 0.002 | E17: 0.002 | F17: 0.002
A18: A5 | B18: SEBRAE | C18: 0.006 | D18: 0.006 | E18: 0.006 | F18: 0.006
A19: A6 | B19: SALÁRIO EDUCAÇÃO | C19: 0.025 | D19: 0.025 | E19: 0.025 | F19: 0.025
A20: A7 | B20: SEGURO CONTRA ACIDENTES DE TRABALHO | C20: 0.03 | D20: 0.03 | E20: 0.03 | F20: 0.03
A21: A8 | B21: FGTS | C21: 0.08 | D21: 0.08 | E21: 0.08 | F21: 0.08
A22: A9 | B22: SECONCI | C22: 0 | D22: 0 | E22: 0 | F22: 0
A23: A | B23: TOTAL | C23: =SUM(C14:C22) -> 0.218 | D23: =SUM(D14:D22) -> 0.218 | E23: =SUM(E14:E22) -> 0.368 | F23: =SUM(F14:F22) -> 0.368
A24: GRUPO B
A25: B1 | B25: REPOUSO SEMANAL REMUNERADO | C25: 0.1813 | D25: xxxxxxxxxxxxxxx | E25: 0.1813 | F25: xxxxxxxxxxxxxxx
A26: B2 | B26: FERIADOS | C26: 0.0416 | D26: xxxxxxxxxxxxxxx | E26: 0.0416 | F26: xxxxxxxxxxxxxxx
A27: B3 | B27: AUXÍLIO ENFERMIDADE | C27: 0.0087 | D27: 0.0065 | E27: 0.0087 | F27: 0.0065
A28: B4 | B28: 13º SALÁRIO | C28: 0.1122 | D28: 0.0833 | E28: 0.1122 | F28: 0.0833
A29: B5 | B29: LICENÇA PATERNIDADE | C29: 0.0007 | D29: 0.0005 | E29: 0.0007 | F29: 0.0005
A30: B6 | B30: FALTAS JUSTIFICADAS | C30: 0.0075 | D30: 0.0056 | E30: 0.0075 | F30: 0.0056
A31: B7 | B31: DIAS DE CHUVA | C31: 0.0283 | D31: xxxxxxxxxxxxxxx | E31: 0.0283 | F31: xxxxxxxxxxxxxxx
A32: B8 | B32: AUXÍLIO ACIDENTE DE TRABALHO | C32: 0.001 | D32: 0.0007 | E32: 0.001 | F32: 0.0007
A33: B9 | B33: FÉRIAS GOZADAS | C33: 0.1282 | D33: 0.0953 | E33: 0.1282 | F33: 0.0953
A34: B10 | B34: SALÁRIO MATERNIDADE | C34: 0.0003 | D34: 0.0003 | E34: 0.0003 | F34: 0.0003
A35: B | B35: TOTAL | C35: =SUM(C25:C34) -> 0.5098 | D35: =SUM(D25:D34) -> 0.1922 | E35: =SUM(E25:E34) -> 0.5098 | F35: =SUM(F25:F34) -> 0.1922
A36: GRUPO C
A37: C1 | B37: AVISO PRÉVIO INDENIZADO | C37: 0.0581 | D37: 0.0432 | E37: 0.0581 | F37: 0.0432
A38: C2 | B38: AVISO PRÉVIO TRABALHADO | C38: 0.0014 | D38: 0.001 | E38: 0.0014 | F38: 0.001
A39: C3 | B39: FÉRIAS INDENIZADAS | C39: 0.0177 | D39: 0.0131 | E39: 0.0177 | F39: 0.0131
A40: C4 | B40: DEPÓSOTO DE RECISÃO SEM JUSTA CAUSA | C40: 0.0296 | D40: 0.022 | E40: 0.0296 | F40: 0.022
A41: C5 | B41: INDENIZAÇÃO ADICIONAL | C41: 0.0049 | D41: 0.0036 | E41: 0.0049 | F41: 0.0036
A42: C | B42: TOTAL | C42: =SUM(C37:C41) -> 0.1117 | D42: =SUM(D37:D41) -> 0.0829 | E42: =SUM(E37:E41) -> 0.1117 | F42: =SUM(F37:F41) -> 0.0829
A43: GRUPO D
...
