Workbook

Sheet RESUMO DA OBRA
A1: PREFEITURA MUNICIPAL DE BREVES
A2: SECRETARIA MUNICIPAL DE DESENVOLVIMENTO ECONÔMICO, PROJETOS E CONVÊNIOS
A3: OBRA: PAVIMENTAÇÃO DE VIAS URBANAS
A4: LOCAL: ZONA URBANA DO MUNICÍPIO - BREVES - PA
A5: REF. DE PREÇOS: SINAPI 03/2026 - SEOP 03/2026 - ORSE - 02/2026 - NÃO DESONERADO
A6: DATA: | B6: 46141 | D6: BDI: 23,38% | E6: PRAZO:360 Dias
A7: Planilha Orçamentária Resumida
A8: Item | B8: Descrição | C8: Comprimento(m) | D8: Total | E8: Peso (%)
A9: 1 | B9: ='Orçamento Sintético'!D10 -> ALAMEDA MADENORTE | C9: 417.99 | D9: ='Orçamento Sintético'!I10 -> 648211.82 | E9: =D9/$D$48 -> 0.037862617
A10: 2 | B10: ='Orçamento Sintético'!D31 -> RUA BOM SOSSEGO | C10: 91 | D10: ='Orçamento Sintético'!I31 -> 512410.17 | E10: =D10/$D$48 -> 0.029930324
A11: 3 | B11: ='Orçamento Sintético'!D54 -> RUA MANOEL MACHADO | C11: 273.92 | D11: ='Orçamento Sintético'!I54 -> 932505.09 | E11: =D11/$D$48 -> 0.054468434
A12: 4 | B12: ='Orçamento Sintético'!D76 -> RUA 7 DE SETEMBRO | C12: 60 | D12: ='Orçamento Sintético'!I76 -> 87014.19 | E12: =D12/$D$48 -> 0.0050825746
A13: 5 | B13: ='Orçamento Sintético'!D97 -> TV.CASTILHO FRANÇA | C13: 390 | D13: ='Orçamento Sintético'!I97 -> 408646.93 | E13: =D13/$D$48 -> 0.023869423
A14: 6 | B14: ='Orçamento Sintético'!D113 -> RUA LUIZA FRAZÃO | C14: 574 | D14: ='Orçamento Sintético'!I113 -> 758897.39 | E14: =D14/$D$48 -> 0.044327857
A15: 7 | B15: ='Orçamento Sintético'!D134 -> ESTRADA DA PROJETA 2 | C15: 810 | D15: ='Orçamento Sintético'!I134 -> 1481539.3 | E15: =D15/$D$48 -> 0.086538
A16: 8 | B16: ='Orçamento Sintético'!D155 -> RUA DIVA REBELO | C16: 257.08 | D16: ='Orçamento Sintético'!I155 -> 334328.12 | E16: =D16/$D$48 -> 0.019528397
A17: 9 | B17: ='Orçamento Sintético'!D176 -> RUA FLORIANO GONÇALVES | C17: 108.56 | D17: ='Orçamento Sintético'!I176 -> 165017.72 | E17: =D17/$D$48 -> 0.0096388287
A18: 10 | B18: ='Orçamento Sintético'!D197 -> RUA MARIA ROSA | C18: 1206.99 | D18: ='Orçamento Sintético'!I197 -> 1403354.8 | E18: =D18/$D$48 -> 0.081971179
A19: 11 | B19: ='Orçamento Sintético'!D214 -> RUA PARQUE INDUSTRIAL | C19: 181.1 | D19: ='Orçamento Sintético'!I214 -> 335854.57 | E19: =D19/$D$48 -> 0.019617558
A20: 12 | B20: ='Orçamento Sintético'!D235 -> PASS. RAIMUNDO PINHEIRO | C20: 160.4 | D20: ='Orçamento Sintético'!I235 -> 347172.16 | E20: =D20/$D$48 -> 0.020278628
A21: 13 | B21: ='Orçamento Sintético'!D256 -> RUA MARIO CURICA | C21: 352 | D21: ='Orçamento Sintético'!I256 -> 532305.41 | E21: =D21/$D$48 -> 0.031092422
A22: 14 | B22: ='Orçamento Sintético'!D272 -> RUA FRANCISCO JOSÉ DA ROCHA | C22: 341.27 | D22: ='Orçamento Sintético'!I272 -> 491657.99 | E22: =D22/$D$48 -> 0.028718171
A23: 15 | B23: ='Orçamento Sintético'!D293 -> RUA BOA VISTA | C23: 671.2 | D23: ='Orçamento Sintético'!I293 -> 944323.9 | E23: =D23/$D$48 -> 0.055158781
A24: 16 | B24: ='Orçamento Sintético'!D314 -> RUA MAURICIO DE SOUZA | C24: 224.01 | D24: ='Orçamento Sintético'!I314 -> 507469.66 | E24: =D24/$D$48 -> 0.029641745
A25: 17 | B25: ='Orçamento Sintético'!D337 -> RUA SÃO JOÃO BATISTA | C25: 427 | D25: ='Orçamento Sintético'!I337 -> 490306.7 | E25: =D25/$D$48 -> 0.028639241
A26: 18 | B26: ='Orçamento Sintético'!D357 -> RUA SANTANA | C26: 457 | D26: ='Orçamento Sintético'!I357 -> 478177.2 | E26: =D26/$D$48 -> 0.027930747
A27: 19 | B27: ='Orçamento Sintético'!D373 -> RUA LOURENÇO BORGES | C27: 281 | D27: ='Orçamento Sintético'!I373 -> 322638 | E27: =D27/$D$48 -> 0.018845566
A28: 20 | B28: ='Orçamento Sintético'!D389 -> RUA CAZUZA FARIAS DA COSTA | C28: 190 | D28: ='Orçamento Sintético'!I389 -> 498839.75 | E28: =D28/$D$48 -> 0.029137664
A29: 21 | B29: ='Orçamento Sintético'!D411 -> RUA AFUÁ | C29: 298.92 | D29: ='Orçamento Sintético'!I411 -> 404986.88 | E29: =D29/$D$48 -> 0.023655636
A30: 22 | B30: ='Orçamento Sintético'!D432 -> RUA ÁREA VERDE 2 | C30: 162.3 | D30: ='Orçamento Sintético'!I432 -> 485703.03 | E30: =D30/$D$48 -> 0.028370337
A31: 23 | B31: ='Orçamento Sintético'!D454 -> PASSAGEM CAJUAL | C31: 323.87 | D31: ='Orçamento Sintético'!I454 -> 228751.25 | E31: =D31/$D$48 -> 0.01336156
A32: 24 | B32: ='Orçamento Sintético'!D471 -> PASSAGEM SANTA CRUZ | C32: 147 | D32: ='Orçamento Sintético'!I471 -> 258931.89 | E32: =D32/$D$48 -> 0.015124437
A33: 25 | B33: ='Orçamento Sintético'!D491 -> RUA JOSÉ RINALDO | C33: 72 | D33: ='Orçamento Sintético'!I491 -> 289692.02 | E33: =D33/$D$48 -> 0.016921163
A34: 26 | B34: ='Orçamento Sintético'!D517 -> PASSAGEM SEMPRE COM DEUS | C34: 138 | D34: ='Orçamento Sintético'!I517 -> 334339.65 | E34: =D34/$D$48 -> 0.01952907
A35: 27 | B35: ='Orçamento Sintético'!D539 -> RUA MARIA MELO | C35: 267.57 | D35: ='Orçamento Sintético'!I539 -> 526262.95 | E35: =D35/$D$48 -> 0.030739477
A36: 28 | B36: ='Orçamento Sintético'!D560 -> RUA INEZ BREVES | C36: 111 | D36: ='Orçamento Sintético'!I560 -> 230518.68 | E36: =D36/$D$48 -> 0.013464797
A37: 29 | B37: ='Orçamento Sintético'!D582 -> PASSAGEM GESPÃO | C37: 373 | D37: ='Orçamento Sintético'!I582 -> 420796.15 | E37: =D37/$D$48 -> 0.024579069
A38: 30 | B38: ='Orçamento Sintético'!D602 -> PASSAGEM NOSSA SENHORA DA CONSOLAÇÃO | C38: 141.66 | D38: ='Orçamento Sintético'!I602 -> 273063.99 | E38: =D38/$D$48 -> 0.015949905
A39: 31 | B39: ='Orçamento Sintético'!D623 -> RUA DUQUE DE CAXIAS | C39: 62.61 | D39: ='Orçamento Sintético'!I623 -> 106409.03 | E39: =D39/$D$48 -> 0.0062154441
A40: 32 | B40: ='Orçamento Sintético'!D644 -> RUA ANTERO ARAUJO | C40: 159.31 | D40: ='Orçamento Sintético'!I644 -> 192335.04 | E40: =D40/$D$48 -> 0.011234457
...

Sheet Orçamento Sintético
A1: PREFEITURA MUNICIPAL DE BREVES
A2: SECRETARIA MUNICIPAL DE DESENVOLVIMENTO ECONÔMICO, PROJETOS E CONVÊNIOS
A4: OBRA: PAVIMENTAÇÃO DE VIAS URBANAS | I4: BDI: | J4: 0.2338
A5: LOCAL: ZONA URBANA DO MUNICÍPIO - BREVES - PA | I5: PRAZO DE EXECUÇÃO: | J5: 360 DIAS
A6: REF. DE PREÇOS: SINAPI 03/2026 - SEOP 03/2026 - ORSE - 02/2026 - NÃO DESONERADO | H6: VALOR TOTAL: | I6: =I811 -> 17120101
I7: DATA: | J7: 46141
A8: ORÇAMENTO SINTÉTICO
A9: Item | B9: Código | C9: Banco | D9: Descrição | E9: Und | F9: Quant. | G9: Valor Unit | H9: Valor Unit com BDI | I9: Total | J9: Peso (%)
A10: 1 | D10: ALAMEDA MADENORTE | I10: =I11+I15+I18+I24+I26+I29 -> 648211.82 | J10: =I10/$I$811 -> 0.037862617
A11: 1.1 | D11: SERVIÇOS PRELIMINARES | I11: 15199.16 | J11: =I11/$I$811 -> 0.00088779617
A12: 1.1.1 | B12: 103689 | C12: SINAPI | D12: FORNECIMENTO E INSTALAÇÃO DE PLACA DE OBRA COM CHAPA GALVANIZADA E ESTRUTURA DE MADEIRA. AF_03/2022_PS | E12: m² | F12: 6 | G12: 507.9 | H12: 626.64 | I12: 3759.84 | J12: =I12/$I$811 -> 0.00021961553
A13: 1.1.2 | B13: 98525 | C13: SINAPI | D13: LIMPEZA MECANIZADA DE CAMADA VEGETAL, VEGETAÇÃO E PEQUENAS ÁRVORES (DIÂMETRO DE TRONCO MENOR QUE 0,20 M), COM TRATOR DE ESTEIRAS. AF_03/2024 | E13: m² | F13: 4284.39 | G13: 0.73 | H13: 0.9 | I13: 3855.95 | J13: =I13/$I$811 -> 0.0002252294
A14: 1.1.3 | B14: 2605 | C14: ORSE | D14: Locação de serviços de pavimentação | E14: m² | F14: 4284.39 | G14: 1.44 | H14: 1.77 | I14: 7583.37 | J14: =I14/$I$811 -> 0.00044295124
A15: 1.2 | D15: MOVIMENTO DE TERRA | I15: 92223.83 | J15: =I15/$I$811 -> 0.0053868742
A16: 1.2.1. | B16: 030011 | C16: SEDOP | D16: Aterro incluindo carga, descarga, transporte e apiloamento | E16: m³ | F16: 428.43 | G16: 167.34 | H16: 206.46 | I16: 88453.65 | J16: =I16/$I$811 -> 0.0051666547
A17: 1.2.1. | B17: 96386 | C17: SINAPI | D17: EXECUÇÃO E COMPACTAÇÃO DE CORPO DE ATERRO (95% DE ENERGIA DO PROCTOR NORMAL) COM SOLO PREDOMINANTEMENTE ARENOSO ESPESSURA 15CM - EXCLUSIVE MATERIAL, ESCAVAÇÃO, CARGA E TRANSPORTE. AF_09/2024 | E17: m³ | F17: 428.43 | G17: 7.14 | H17: 8.8 | I17: 3770.18 | J17: =I17/$I$811 -> 0.0002202195
A18: 1.3 | D18: DRENAGEM | I18: 128738.5 | J18: =I18/$I$811 -> 0.0075197279
A19: 1.3.1 | B19: GMS | C19: Próprio | D19: GUIA (MEIO-FIO) E SARJETA CONJUGADOS DE CONCRETO, MOLDADA IN LOCO, 45 CM BASE (15 CM BASE DA GUIA + 30 CM BASE DA SARJETA) X 22 CM ALTURA. | E19: M | F19: 835.98 | G19: 74.47 | H19: 91.88 | I19: 76809.84 | J19: =I19/$I$811 -> 0.0044865296
A20: 1.3.2 | B20: 90106 | C20: SINAPI | D20: ESCAVAÇÃO MECANIZADA DE VALA COM PROFUNDIDADE ATÉ 1,5 M (MÉDIA MONTANTE E JUSANTE/UMA COMPOSIÇÃO POR TRECHO), RETROESCAV. (0,26 M3), LARGURA DE 0,8 M A 1,5 M, EM SOLO DE 1A CATEGORIA, LOCAIS COM BAIXO NÍVEL DE INTERFERÊNCIA. AF_09/2024 | E20: m³ | F20: 67 | G20: 9.28 | H20: 11.44 | I20: 766.48 | J20: =I20/$I$811 -> 4.4770764e-05
A21: 1.3.3 | B21: 92212 | C21: SINAPI | D21: TUBO DE CONCRETO PARA REDES COLETORAS DE ÁGUAS PLUVIAIS, DIÂMETRO DE 600 MM, JUNTA RÍGIDA, INSTALADO EM LOCAL COM BAIXO NÍVEL DE INTERFERÊNCIAS - FORNECIMENTO E ASSENTAMENTO. AF_03/2024 | E21: M | F21: 67 | G21: 296.41 | H21: 365.71 | I21: 24502.57 | J21: =I21/$I$811 -> 0.0014312164
A22: 1.3.4 | B22: CPU-22 | C22: Próprio | D22: BOCA DE LOBO EM CONCRETO ARMADO C/TAMPA - 1,20x1,20x1,50m | E22: UN | F22: 8 | G22: 2576.32 | H22: 3178.66 | I22: 25429.28 | J22: =I22/$I$811 -> 0.0014853464
A23: 1.3.5 | B23: 93379 | C23: SINAPI | D23: REATERRO MECANIZADO DE VALA COM RETROESCAVADEIRA (CAPACIDADE DA CAÇAMBA DA RETRO: 0,26 M³/POTÊNCIA: 88 HP), LARGURA 0,8 A 1,5 M, PROFUNDIDADE ATÉ 1,5 M, COM SOLO (SEM SUBSTITUIÇÃO) DE 1ª CATEGORIA, COM COMPACTADOR DE SOLOS DE PERCUSSÃO AF_08/2023 | E23: m³ | F23: 48.06 | G23: 20.75 | H23: 25.6 | I23: 1230.33 | J23: =I23/$I$811 -> 7.1864646e-05
A24: 1.4 | D24: PAVIMENTAÇÃO EM BLOKRET | I24: 402781.02 | J24: =I24/$I$811 -> 0.02352679
A25: 1.4.1 | B25: 92394 | C25: SINAPI | D25: EXECUÇÃO DE PAVIMENTO EM PISO INTERTRAVADO, COM BLOCO SEXTAVADO DE 25 X 25 CM, ESPESSURA 8 CM. AF_10/2022 | E25: m² | F25: 2905.02 | G25: 112.38 | H25: 138.65 | I25: 402781.02 | J25: =I25/$I$811 -> 0.02352679
A26: 1.5 | D26: SINALIZAÇÃO VIARIA | I26: 5199.14 | J26: =I26/$I$811 -> 0.00030368629
A27: 1.5.1 | B27: PLI | C27: Próprio | D27: PLACA DE IDENTIFICAÇÃO NR DE RUA, DIMENSÕES DE 45x25CM, FORN. E INSTALAÇÃO | E27: PT | F27: 3 | G27: 549.02 | H27: 677.38 | I27: 2032.14 | J27: =I27/$I$811 -> 0.00011869907
A28: 1.5.2 | B28: PLS | C28: Próprio | D28: PLACA DE SINALIZAÇÃO VIÁRIA TOTALMENTE REFLEXIVA | E28: UN | F28: 5 | G28: 513.38 | H28: 633.4 | I28: 3167 | J28: =I28/$I$811 -> 0.00018498723
A29: 1.6 | D29: LIMPEZA FINAL DA OBRA | I29: 4070.17 | J29: =I29/$I$811 -> 0.00023774217
A30: 1.6.1 | B30: 99811 | C30: SINAPI | D30: LIMPEZA DE CONTRAPISO COM VASSOURA A SECO. AF_10/2025 | E30: m² | F30: 4284.39 | G30: 0.77 | H30: 0.95 | I30: 4070.17 | J30: =I30/$I$811 -> 0.00023774217
A31: 2 | D31: RUA BOM SOSSEGO | I31: =I32+I36+I39+I47+I49+I52 -> 512410.17 | J31: =I31/$I$811 -> 0.029930324
A32: 2.1 | D32: SERVIÇOS PRELIMINARES | I32: 9693.5 | J32: =I32/$I$811 -> 0.00056620577
A33: 2.1.1 | B33: 103689 | C33: SINAPI | D33: FORNECIMENTO E INSTALAÇÃO DE PLACA DE OBRA COM CHAPA GALVANIZADA E ESTRUTURA DE MADEIRA. AF_03/2022_PS | E33: m² | F33: 6 | G33: 507.9 | H33: 626.64 | I33: 3759.84 | J33: =I33/$I$811 -> 0.00021961553
A34: 2.1.2 | B34: 98525 | C34: SINAPI | D34: LIMPEZA MECANIZADA DE CAMADA VEGETAL, VEGETAÇÃO E PEQUENAS ÁRVORES (DIÂMETRO DE TRONCO MENOR QUE 0,20 M), COM TRATOR DE ESTEIRAS. AF_03/2024 | E34: m² | F34: 2222.35 | G34: 0.73 | H34: 0.9 | I34: 2000.11 | J34: =I34/$I$811 -> 0.00011682817
A35: 2.1.3 | B35: 2605 | C35: ORSE | D35: Locação de serviços de pavimentação | E35: m² | F35: 2222.35 | G35: 1.44 | H35: 1.77 | I35: 3933.55 | J35: =I35/$I$811 -> 0.00022976208
A36: 2.2 | D36: MOVIMENTO DE TERRA | I36: 47839.38 | J36: =I36/$I$811 -> 0.0027943398
A37: 2.2.1 | B37: 030011 | C37: SEDOP | D37: Aterro incluindo carga, descarga, transporte e apiloamento | E37: m³ | F37: 222.24 | G37: 167.34 | H37: 206.46 | I37: 45883.67 | J37: =I37/$I$811 -> 0.0026801051
A38: 2.2.2 | B38: 96386 | C38: SINAPI | D38: EXECUÇÃO E COMPACTAÇÃO DE CORPO DE ATERRO (95% DE ENERGIA DO PROCTOR NORMAL) COM SOLO PREDOMINANTEMENTE ARENOSO ESPESSURA 15CM - EXCLUSIVE MATERIAL, ESCAVAÇÃO, CARGA E TRANSPORTE. AF_09/2024 | E38: m³ | F38: 222.24 | G38: 7.14 | H38: 8.8 | I38: 1955.71 | J38: =I38/$I$811 -> 0.00011423472
A39: 2.3 | D39: DRENAGEM | I39: 267207.15 | J39: =I39/$I$811 -> 0.015607802
A40: 2.3.1 | B40: GMS | C40: Próprio | D40: GUIA (MEIO-FIO) E SARJETA CONJUGADOS DE CONCRETO, MOLDADA IN LOCO, 45 CM BASE (15 CM BASE DA GUIA + 30 CM BASE DA SARJETA) X 22 CM ALTURA. | E40: M | F40: 550 | G40: 74.47 | H40: 91.88 | I40: 50534 | J40: =I40/$I$811 -> 0.0029517349
A41: 2.3.2 | B41: 90106 | C41: SINAPI | D41: ESCAVAÇÃO MECANIZADA DE VALA COM PROFUNDIDADE ATÉ 1,5 M (MÉDIA MONTANTE E JUSANTE/UMA COMPOSIÇÃO POR TRECHO), RETROESCAV. (0,26 M3), LARGURA DE 0,8 M A 1,5 M, EM SOLO DE 1A CATEGORIA, LOCAIS COM BAIXO NÍVEL DE INTERFERÊNCIA. AF_09/2024 | E41: m³ | F41: 327.4 | G41: 9.28 | H41: 11.44 | I41: 3745.45 | J41: =I41/$I$811 -> 0.000218775
...

Sheet MEMÓRIA DE CÁLCULO
A2: PREFEITURA MUNICIPAL DE BREVES
A3: SECRETARIA MUNICIPAL DE DESENVOLVIMENTO ECONÔMICO, PROJETOS E CONVÊNIOS
A5: OBRA: PAVIMENTAÇÃO DE VIAS URBANAS | I5: BDI: | J5: 0.2338
A6: LOCAL: ZONA URBANA DO MUNICÍPIO - BREVES - PA | I6: PRAZO DE EXECUÇÃO: | J6: 360 DIAS
A7: REF. DE PREÇOS: SINAPI 03/2026 - SEOP 03/2026 - ORSE - 02/2026 - NÃO DESONERADO | H7: VALOR TOTAL: | I7: ='Orçamento Sintético'!I811 -> 17120101
I8: DATA: | J8: 46141
A9: MÉMORIA DE CÁLCULO
A10: Item | B10: Código | C10: Banco | D10: Descrição | E10: Und | F10: Quant. | G10: Memória de cálculo
A11: 1 | D11: ALAMEDA MADENORTE
A12: 1.1 | D12: SERVIÇOS PRELIMINARES
A13: 1.1.1 | B13: 103689 | C13: SINAPI | D13: FORNECIMENTO E INSTALAÇÃO DE PLACA DE OBRA COM CHAPA GALVANIZADA E ESTRUTURA DE MADEIRA. AF_03/2022_PS | E13: m² | F13: 6 | G13: 6,00m x 3,00m
A14: 1.1.2 | B14: 98525 | C14: SINAPI | D14: LIMPEZA MECANIZADA DE CAMADA VEGETAL, VEGETAÇÃO E PEQUENAS ÁRVORES (DIÂMETRO DE TRONCO MENOR QUE 0,20 M), COM TRATOR DE ESTEIRAS. AF_03/2024 | E14: m² | F14: 4284.39 | G14: Trecho 1-(102,12m x 10,25m)=1.046,73m² + Trecho 2 -(215,97m x 10,25m)= 2,213,69m² + Trecho 3 - (99,90m x 10,25m)= 1.023,97m²
A15: 1.1.3 | B15: 2605 | C15: ORSE | D15: Locação de serviços de pavimentação | E15: m² | F15: 4284.39 | G15: Trecho 1-(102,12m x 10,25m)=1.046,73m² + Trecho 2 -(215,97m x 10,25m)= 2,213,69m² + Trecho 3 - (99,90m x 10,25m)= 1.023,97m²
A16: 1.2 | D16: MOVIMENTO DE TERRA | F16: 1
A17: 1.2.1. | B17: 030011 | C17: SEDOP | D17: Aterro incluindo carga, descarga, transporte e apiloamento | E17: m³ | F17: 428.43 | G17: Trecho 1-[(102,12m x 10,25m)=1.046,73m² x 0,10m= 104,67m³] + Trecho 2 -[(215,97m x 10,25m)= 2,213,69m² x 0,10m= 221,36m³] + Trecho 3 -[ (99,90m x 10,25m)= 1.023,97m² x 0,10m = 102,40m³]
A18: 1.2.1. | B18: 96386 | C18: SINAPI | D18: EXECUÇÃO E COMPACTAÇÃO DE CORPO DE ATERRO (95% DE ENERGIA DO PROCTOR NORMAL) COM SOLO PREDOMINANTEMENTE ARENOSO ESPESSURA 15CM - EXCLUSIVE MATERIAL, ESCAVAÇÃO, CARGA E TRANSPORTE. AF_09/2024 | E18: m³ | F18: 428.43 | G18: Trecho 1-[(102,12m x 10,25m)=1.046,73m² x 0,10m= 104,67m³] + Trecho 2 -[(215,97m x 10,25m)= 2,213,69m² x 0,10m= 221,36m³] + Trecho 3 -[ (99,90m x 10,25m)= 1.023,97m² x 0,10m = 102,40m³]
A19: 1.3 | D19: DRENAGEM | F19: 1
A20: 1.3.1 | B20: GMS | C20: Próprio | D20: GUIA (MEIO-FIO) E SARJETA CONJUGADOS DE CONCRETO, MOLDADA IN LOCO, 45 CM BASE (15 CM BASE DA GUIA + 30 CM BASE DA SARJETA) X 22 CM ALTURA. | E20: M | F20: 835.98 | G20: Trecho 1 - 204,24m + Trecho 2 - 431,94m + trecho 3 - 199,80m
A21: 1.3.2 | B21: 90106 | C21: SINAPI | D21: ESCAVAÇÃO MECANIZADA DE VALA COM PROFUNDIDADE ATÉ 1,5 M (MÉDIA MONTANTE E JUSANTE/UMA COMPOSIÇÃO POR TRECHO), RETROESCAV. (0,26 M3), LARGURA DE 0,8 M A 1,5 M, EM SOLO DE 1A CATEGORIA, LOCAIS COM BAIXO NÍVEL DE INTERFERÊNCIA. AF_09/2024 | E21: m³ | F21: 67 | G21: Trecho 1 - (1,00m x 1,00m x 33,00m)= 33,00m³ + Trecho 2 - (1,00m x 1,00m x 34,00m)= 34,00m³
A22: 1.3.3 | B22: 92212 | C22: SINAPI | D22: TUBO DE CONCRETO PARA REDES COLETORAS DE ÁGUAS PLUVIAIS, DIÂMETRO DE 600 MM, JUNTA RÍGIDA, INSTALADO EM LOCAL COM BAIXO NÍVEL DE INTERFERÊNCIAS - FORNECIMENTO E ASSENTAMENTO. AF_03/2024 | E22: M | F22: 67 | G22: Trecho 1 - ( 13,00m + 7,00m + 13,00m)= 33,00m + Trecho 2 - (13,00m x 6,00m x 15,00m)= 34,00m
A23: 1.3.4 | B23: CPU-22 | C23: Próprio | D23: BOCA DE LOBO EM CONCRETO ARMADO C/TAMPA - 1,20x1,20x1,50m | E23: UN | F23: 8 | G23: Trecho 1 - 4,00 unidades + Trecho 2 - 4,00 unidades
A24: 1.3.5 | B24: 93379 | C24: SINAPI | D24: REATERRO MECANIZADO DE VALA COM RETROESCAVADEIRA (CAPACIDADE DA CAÇAMBA DA RETRO: 0,26 M³/POTÊNCIA: 88 HP), LARGURA 0,8 A 1,5 M, PROFUNDIDADE ATÉ 1,5 M, COM SOLO (SEM SUBSTITUIÇÃO) DE 1ª CATEGORIA, COM COMPACTADOR DE SOLOS DE PERCUSSÃO AF_08/2023 | E24: m³ | F24: 48.06 | G24: Trecho 1 - [33,00m³ - (3,14 x 0,30² x 33,00m)= 23,67m³ + Trecho 2 - [34,00m³-(3,14 x 0,30² x 34,00m)= 24,39m³
A25: 1.4 | D25: PAVIMENTAÇÃO EM BLOKRET | F25: 1
A26: 1.4.1 | B26: 92394 | C26: SINAPI | D26: EXECUÇÃO DE PAVIMENTO EM PISO INTERTRAVADO, COM BLOCO SEXTAVADO DE 25 X 25 CM, ESPESSURA 8 CM. AF_10/2022 | E26: m² | F26: 2905.02 | G26: (5,10m x 60,00m)
A27: 1.5 | D27: SINALIZAÇÃO VIARIA | F27: 1
A28: 1.5.1 | B28: PLI | C28: Próprio | D28: PLACA DE IDENTIFICAÇÃO NR DE RUA, DIMENSÕES DE 45x25CM, FORN. E INSTALAÇÃO | E28: PT | F28: 3 | G28: Trecho 1 - 1,00 unid + Trecho 2 - 1,00 unid + trecho 3 - 1,00 unid
A29: 1.5.2 | B29: PLS | C29: Próprio | D29: PLACA DE SINALIZAÇÃO VIÁRIA TOTALMENTE REFLEXIVA | E29: UN | F29: 5 | G29: Trecho 1 - 2,00 unid + Trecho 2 - 2,00 unid + trecho 3 - 1,00 unid
A30: 1.6 | D30: LIMPEZA FINAL DA OBRA | F30: 1
A31: 1.6.1 | B31: 99811 | C31: SINAPI | D31: LIMPEZA DE CONTRAPISO COM VASSOURA A SECO. AF_10/2025 | E31: m² | F31: 4284.39 | G31: Trecho 1-(102,12m x 10,25m)=1.046,73m² + Trecho 2 -(215,97m x 10,25m)= 2,213,69m² + Trecho 3 - (99,90m x 10,25m)= 1.023,97m²
A32: 2 | D32: RUA BOM SOSSEGO
A33: 2.1 | D33: SERVIÇOS PRELIMINARES
A34: 2.1.1 | B34: 103689 | C34: SINAPI | D34: FORNECIMENTO E INSTALAÇÃO DE PLACA DE OBRA COM CHAPA GALVANIZADA E ESTRUTURA DE MADEIRA. AF_03/2022_PS | E34: m² | F34: 6 | G34: 6,00m x 3,00m
A35: 2.1.2 | B35: 98525 | C35: SINAPI | D35: LIMPEZA MECANIZADA DE CAMADA VEGETAL, VEGETAÇÃO E PEQUENAS ÁRVORES (DIÂMETRO DE TRONCO MENOR QUE 0,20 M), COM TRATOR DE ESTEIRAS. AF_03/2024 | E35: m² | F35: 2222.35 | G35: Trecho 1-(184,00m x 7,80m)=1.435,20m² + Trecho 2 -(91,00m x 8,65m)= 787,15m² - total=2.222,35m²
A36: 2.1.3 | B36: 2605 | C36: ORSE | D36: Locação de serviços de pavimentação | E36: m² | F36: 2222.35 | G36: Trecho 1-(184,00m x 7,80m)=1.435,20m² + Trecho 2 -(91,00m x 8,65m)= 787,15m² - total=2.222,35m²
A37: 2.2 | D37: MOVIMENTO DE TERRA
A38: 2.2.1 | B38: 030011 | C38: SEDOP | D38: Aterro incluindo carga, descarga, transporte e apiloamento | E38: m³ | F38: 222.24 | G38: Trecho 1-(184,00m x 7,80m x 0,10m)=143,52m² + Trecho 2 -(91,00m x 8,65m x 0,10m)= 78,72m² - total=222,24m²
A39: 2.2.2 | B39: 96386 | C39: SINAPI | D39: EXECUÇÃO E COMPACTAÇÃO DE CORPO DE ATERRO (95% DE ENERGIA DO PROCTOR NORMAL) COM SOLO PREDOMINANTEMENTE ARENOSO ESPESSURA 15CM - EXCLUSIVE MATERIAL, ESCAVAÇÃO, CARGA E TRANSPORTE. AF_09/2024 | E39: m³ | F39: 222.24 | G39: Trecho 1-(184,00m x 7,80m x 0,10m)=143,52m² + Trecho 2 -(91,00m x 8,65m x 0,10m)= 78,72m² - total=222,24m²
A40: 2.3 | D40: DRENAGEM
A41: 2.3.1 | B41: GMS | C41: Próprio | D41: GUIA (MEIO-FIO) E SARJETA CONJUGADOS DE CONCRETO, MOLDADA IN LOCO, 45 CM BASE (15 CM BASE DA GUIA + 30 CM BASE DA SARJETA) X 22 CM ALTURA. | E41: M | F41: 550 | G41: Trecho 1 - (184,00m x 2lados)=368,00m + Trecho 2 - (91,00m x 2 lados)=182,00m - total = 550,00m
A42: 2.3.2 | B42: 90106 | C42: SINAPI | D42: ESCAVAÇÃO MECANIZADA DE VALA COM PROFUNDIDADE ATÉ 1,5 M (MÉDIA MONTANTE E JUSANTE/UMA COMPOSIÇÃO POR TRECHO), RETROESCAV. (0,26 M3), LARGURA DE 0,8 M A 1,5 M, EM SOLO DE 1A CATEGORIA, LOCAIS COM BAIXO NÍVEL DE INTERFERÊNCIA. AF_09/2024 | E42: m³ | F42: 327.4 | G42: Trecho 1 - [(1,20m x 1,50m x 173,00m) + (1,00m x 1,00m x 16,00m)]= 327,40m³
...

Sheet CRONOGRAMA
A2: PREFEITURA MUNICIPAL DE BREVES
A3: SECRETARIA MUNICIPAL DE DESENVOLVIMENTO ECONÔMICO, PROJETOS E CONVÊNIOS
A5: OBRA: PAVIMENTAÇÃO DE VIAS URBANAS | AA5: BDI: | AB5: 0.2338
A6: LOCAL: ZONA URBANA DO MUNICÍPIO - BREVES - PA | AA6: PRAZO DE EXECUÇÃO: | AB6: 360 Dias
A7: REF. DE PREÇOS: SINAPI 03/2026 - SEOP 03/2026 - ORSE - 02/2026 - NÃO DESONERADO | AA7: VALOR | AB7: ='Orçamento Sintético'!I811 -> 17120101
AA8: DATA: | AB8: 46141
A9: Cronograma Físico e Financeiro
A10: ITEM | B10: DESCRIÇÃO DOS SERVIÇOS | C10: VALOR (R$) | D10: % ITEM | E10: 30 DIAS | G10: 60 DIAS | I10: 90 DIAS | K10: 120 DIAS | M10: 150 DIAS | O10: 180 DIAS | Q10: 210 DIAS | S10: 240 DIAS | U10: 270 DIAS | W10: 300 DIAS | Y10: 330 DIAS | AA10: 360 DIAS
A12: 1 | B12: ='Orçamento Sintético'!D10 -> ALAMEDA MADENORTE | C12: ='Orçamento Sintético'!I10 -> 648211.82 | D12: =C12/$C$90 -> 0.037862617 | E12: 0.3 | F12: =E12*$C$12 -> 194463.55 | G12: 0.3 | H12: =G12*$C$12 -> 194463.55 | I12: 0.4 | J12: =I12*$C$12 -> 259284.73
F13: ; | H13: ; | J13: ;
A14: 2 | B14: ='Orçamento Sintético'!D31 -> RUA BOM SOSSEGO | C14: ='Orçamento Sintético'!I31 -> 512410.17 | D14: =C14/$C$90 -> 0.029930324 | E14: 0.5 | F14: =E14*$C$14 -> 256205.09 | G14: 0.5 | H14: =G14*$C$14 -> 256205.09
F15: ;
A16: 3 | B16: ='Orçamento Sintético'!D54 -> RUA MANOEL MACHADO | C16: ='Orçamento Sintético'!I54 -> 932505.09 | D16: =C16/$C$90 -> 0.054468434 | E16: 0.3 | F16: =E16*$C$16 -> 279751.53 | G16: 0.3 | H16: =G16*$C$16 -> 279751.53 | I16: 0.4 | J16: =I16*$C$16 -> 373002.04
F17: ;
A18: 4 | B18: ='Orçamento Sintético'!D76 -> RUA 7 DE SETEMBRO | C18: ='Orçamento Sintético'!I76 -> 87014.19 | D18: =C18/$C$90 -> 0.0050825746 | G18: 0.5 | H18: =G18*$C$18 -> 43507.095 | I18: 0.5 | J18: =I18*$C$18 -> 43507.095
A20: 5 | B20: ='Orçamento Sintético'!D97 -> TV.CASTILHO FRANÇA | C20: ='Orçamento Sintético'!I97 -> 408646.93 | D20: =C20/$C$90 -> 0.023869423 | I20: 0.3 | J20: =I20*$C$20 -> 122594.08 | K20: 0.4 | L20: =K20*$C$20 -> 163458.77 | M20: 0.3 | N20: =M20*$C$20 -> 122594.08
A22: 6 | B22: ='Orçamento Sintético'!D113 -> RUA LUIZA FRAZÃO | C22: ='Orçamento Sintético'!I113 -> 758897.39 | D22: =C22/$C$90 -> 0.044327857 | K22: 0.25 | L22: =K22*$C$22 -> 189724.35 | M22: 0.25 | N22: =M22*$C$22 -> 189724.35 | O22: 0.25 | P22: =O22*$C$22 -> 189724.35 | Q22: 0.25 | R22: =Q22*$C$22 -> 189724.35
A24: 7 | B24: ='Orçamento Sintético'!D134 -> ESTRADA DA PROJETA 2 | C24: ='Orçamento Sintético'!I134 -> 1481539.3 | D24: =C24/$C$90 -> 0.086538 | K24: 0.25 | L24: =K24*$C$24 -> 370384.82 | M24: 0.25 | N24: =M24*$C$24 -> 370384.82 | O24: 0.25 | P24: =O24*$C$24 -> 370384.82 | Q24: 0.25 | R24: =Q24*$C$24 -> 370384.82
A26: 8 | B26: ='Orçamento Sintético'!D155 -> RUA DIVA REBELO | C26: ='Orçamento Sintético'!I155 -> 334328.12 | D26: =C26/$C$90 -> 0.019528397 | O26: 0.3 | P26: =O26*$C$26 -> 100298.44 | Q26: 0.3 | R26: =Q26*$C$26 -> 100298.44 | S26: 0.4 | T26: =S26*$C$26 -> 133731.25
A28: 9 | B28: ='Orçamento Sintético'!D176 -> RUA FLORIANO GONÇALVES | C28: ='Orçamento Sintético'!I176 -> 165017.72 | D28: =C28/$C$90 -> 0.0096388287 | Q28: 0.5 | R28: =Q28*$C$28 -> 82508.86 | S28: 0.5 | T28: =S28*$C$28 -> 82508.86
A30: 10 | B30: ='Orçamento Sintético'!D197 -> RUA MARIA ROSA | C30: ='Orçamento Sintético'!I197 -> 1403354.8 | D30: =C30/$C$90 -> 0.081971179 | S30: 0.25 | T30: =S30*$C$30 -> 350838.71 | U30: 0.25 | V30: =U30*$C$30 -> 350838.71 | W30: 0.25 | X30: =W30*$C$30 -> 350838.71 | Y30: 0.25 | Z30: =Y30*$C$30 -> 350838.71
A32: 11 | B32: ='Orçamento Sintético'!D214 -> RUA PARQUE INDUSTRIAL | C32: ='Orçamento Sintético'!I214 -> 335854.57 | D32: =C32/$C$90 -> 0.019617558 | U32: 0.3 | V32: =U32*$C$32 -> 100756.37 | W32: 0.4 | X32: =W32*$C$32 -> 134341.83 | Y32: 0.3 | Z32: =Y32*$C$32 -> 100756.37
A34: 12 | B34: ='Orçamento Sintético'!D235 -> PASS. RAIMUNDO PINHEIRO | C34: ='Orçamento Sintético'!I235 -> 347172.16 | D34: =C34/$C$90 -> 0.020278628 | W34: 0.3 | X34: =W34*$C$34 -> 104151.65 | Y34: 0.3 | Z34: =Y34*$C$34 -> 104151.65 | AA34: 0.4 | AB34: =AA34*$C$34 -> 138868.86
A36: 13 | B36: ='Orçamento Sintético'!D256 -> RUA MARIO CURICA | C36: ='Orçamento Sintético'!I256 -> 532305.41 | D36: =C36/$C$90 -> 0.031092422 | U36: 0.25 | V36: =U36*$C$36 -> 133076.35 | W36: 0.25 | X36: =W36*$C$36 -> 133076.35 | Y36: 0.25 | Z36: =Y36*$C$36 -> 133076.35 | AA36: 0.25 | AB36: =AA36*$C$36 -> 133076.35
A38: 14 | B38: ='Orçamento Sintético'!D272 -> RUA FRANCISCO JOSÉ DA ROCHA | C38: ='Orçamento Sintético'!I272 -> 491657.99 | D38: =C38/$C$90 -> 0.028718171 | S38: 0.3 | T38: =S38*$C$38 -> 147497.4 | U38: 0.4 | V38: =U38*$C$38 -> 196663.2 | W38: 0.3 | X38: =W38*$C$38 -> 147497.4
A40: 15 | B40: ='Orçamento Sintético'!D293 -> RUA BOA VISTA | C40: ='Orçamento Sintético'!I293 -> 944323.9 | D40: =C40/$C$90 -> 0.055158781 | U40: 0.25 | V40: =U40*$C$40 -> 236080.97 | W40: 0.25 | X40: =W40*$C$40 -> 236080.97 | Y40: 0.25 | Z40: =Y40*$C$40 -> 236080.97 | AA40: 0.25 | AB40: =AA40*$C$40 -> 236080.97
A42: 16 | B42: ='Orçamento Sintético'!D314 -> RUA MAURICIO DE SOUZA | C42: ='Orçamento Sintético'!I314 -> 507469.66 | D42: =C42/$C$90 -> 0.029641745 | K42: 0.25 | L42: =K42*$C$42 -> 126867.42 | M42: 0.25 | N42: =M42*$C$42 -> 126867.42 | O42: 0.25 | P42: =O42*$C$42 -> 126867.42 | Q42: 0.25 | R42: =Q42*$C$42 -> 126867.42
A44: 17 | B44: ='Orçamento Sintético'!D337 -> RUA SÃO JOÃO BATISTA | C44: ='Orçamento Sintético'!I337 -> 490306.7 | D44: =C44/$C$90 -> 0.028639241 | E44: 0.25 | F44: =E44*$C$44 -> 122576.68 | G44: 0.25 | H44: =G44*$C$44 -> 122576.68 | I44: 0.25 | J44: =I44*$C$44 -> 122576.68 | K44: 0.25 | L44: =K44*$C$44 -> 122576.68
F45: ; | H45: ; | J45: ; | L45: ;
A46: 18 | B46: ='Orçamento Sintético'!D357 -> RUA SANTANA | C46: ='Orçamento Sintético'!I357 -> 478177.2 | D46: =C46/$C$90 -> 0.027930747 | M46: 0.25 | N46: =M46*$C$46 -> 119544.3 | O46: 0.25 | P46: =O46*$C$46 -> 119544.3 | Q46: 0.25 | R46: =Q46*$C$46 -> 119544.3 | S46: 0.25 | T46: =S46*$C$46 -> 119544.3
A48: 19 | B48: ='Orçamento Sintético'!D373 -> RUA LOURENÇO BORGES | C48: ='Orçamento Sintético'!I373 -> 322638 | D48: =C48/$C$90 -> 0.018845566 | W48: 0.3 | X48: =W48*$C$48 -> 96791.4 | Y48: 0.4 | Z48: =Y48*$C$48 -> 129055.2 | AA48: 0.3 | AB48: =AA48*$C$48 -> 96791.4
A50: 20 | B50: ='Orçamento Sintético'!D389 -> RUA CAZUZA FARIAS DA COSTA | C50: ='Orçamento Sintético'!I389 -> 498839.75 | D50: =C50/$C$90 -> 0.029137664 | O50: 0.25 | P50: =O50*$C$50 -> 124709.94 | Q50: 0.25 | R50: =Q50*$C$50 -> 124709.94 | S50: 0.25 | T50: =S50*$C$50 -> 124709.94 | U50: 0.25 | V50: =U50*$C$50 -> 124709.94
A52: 21 | B52: ='Orçamento Sintético'!D411 -> RUA AFUÁ | C52: ='Orçamento Sintético'!I411 -> 404986.88 | D52: =C52/$C$90 -> 0.023655636 | W52: 0.3 | X52: =W52*$C$52 -> 121496.06 | Y52: 0.3 | Z52: =Y52*$C$52 -> 121496.06 | AA52: 0.4 | AB52: =AA52*$C$52 -> 161994.75
A54: 22 | B54: ='Orçamento Sintético'!D432 -> RUA ÁREA VERDE 2 | C54: ='Orçamento Sintético'!I432 -> 485703.03 | D54: =C54/$C$90 -> 0.028370337 | I54: 0.3 | J54: =I54*$C$54 -> 145710.91 | K54: 0.4 | L54: =K54*$C$54 -> 194281.21 | M54: 0.3 | N54: =M54*$C$54 -> 145710.91
J55: ; | L55: ; | N55: ;
A56: 23 | B56: ='Orçamento Sintético'!D454 -> PASSAGEM CAJUAL | C56: ='Orçamento Sintético'!I454 -> 228751.25 | D56: =C56/$C$90 -> 0.01336156 | Y56: 0.5 | Z56: =Y56*$C$56 -> 114375.62 | AA56: 0.5 | AB56: =AA56*$C$56 -> 114375.62
A58: 24 | B58: ='Orçamento Sintético'!D471 -> PASSAGEM SANTA CRUZ | C58: ='Orçamento Sintético'!I471 -> 258931.89 | D58: =C58/$C$90 -> 0.015124437 | E58: 0.3 | F58: =E58*$C$58 -> 77679.567 | G58: 0.4 | H58: =G58*$C$58 -> 103572.76 | I58: 0.3 | J58: =I58*$C$58 -> 77679.567
F59: ; | H59: ; | J59: ;
A60: 25 | B60: ='Orçamento Sintético'!D491 -> RUA JOSÉ RINALDO | C60: ='Orçamento Sintético'!I491 -> 289692.02 | D60: =C60/$C$90 -> 0.016921163 | S60: 0.3 | T60: =S60*$C$60 -> 86907.606 | U60: 0.4 | V60: =U60*$C$60 -> 115876.81 | W60: 0.3 | X60: =W60*$C$60 -> 86907.606
A62: 26 | B62: ='Orçamento Sintético'!D517 -> PASSAGEM SEMPRE COM DEUS | C62: ='Orçamento Sintético'!I517 -> 334339.65 | D62: =C62/$C$90 -> 0.01952907 | G62: 0.3 | H62: =G62*$C$62 -> 100301.9 | I62: 0.4 | J62: =I62*$C$62 -> 133735.86 | K62: 0.3 | L62: =K62*$C$62 -> 100301.9
...

Sheet BDI
A2: PREFEITURA MUNICIPAL DE BREVES
A3: SECRETARIA MUNICIPAL DE DESENVOLVIMENTO ECONÔMICO, PROJETOS E CONVÊNIOS
A4: OBRA: PAVIMENTAÇÃO DE VIAS URBANAS
A5: LOCAL: ZONA URBANA DO MUNICÍPIO - BREVES - PA
A6: REF. DE PREÇOS: SINAPI 03/2026 - SEOP 03/2026 - ORSE - 02/2026 - NÃO DESONERADO
A7: DATA: | B7: 46141 | F7: BDI: 23,38% | H7: PRAZO: 360 Dias
A8: PLANILHA DE BDI PARA OBRAS E SERVIÇOS DE ENGENHARIA
A9: Item | B9: Parcela do BDI
A10: 1 | B10: AC = Taxa de Administração Central | I10: 0.038
A11: 2 | B11: S e G = Taxas de Seguro e Garantia | I11: 0.0032
A12: 3 | B12: R = Taxa de Risco | I12: 0.005
A13: 4 | B13: DF = Taxa de Despesas Financeiras | I13: 0.0102
A14: 5 | B14: L = Taxa de Lucro / Remuneração | I14: 0.0664
A15: 6 | B15: I = Taxa de incidência de Impostos (PIS, COFINS, e ISS) | I15: =I21 -> 0.0865
A16: Item | B16: Impostos
A17: 6.1 | B17: ISS | I17: 0.05
A18: 6.3 | B18: PIS | I18: 0.0065
A19: 6.3 | B19: COFINS | I19: 0.03
A20: 6.4 | B20: CPRB | I20: 0
G21: Total Impostos = | I21: =SUM(I17:I20) -> 0.0865
A22: Fórmula para o cálculo de BDI
I23: =(((1+I10+I11+I12)*(1+I13)*(1+I14))/(1-I15))-1 -> 0.23376846

Sheet PCU
A1: PREFEITURA MUNICIPAL DE BREVES
A2: SECRETARIA MUNICIPAL DE DESENVOLVIMENTO ECONÔMICO, PROJETOS E CONVÊNIOS
A4: OBRA: PAVIMENTAÇÃO DE VIAS URBANAS | I4: BDI: | J4: 0.2338
A5: LOCAL: ZONA URBANA DO MUNICÍPIO - BREVES - PA | I5: PRAZO DE EXECUÇÃO: | J5: 360 DIAS
A6: REF. DE PREÇOS: SINAPI 03/2026 - SEOP 03/2026 - ORSE - 02/2026 - NÃO DESONERADO | H6: VALOR TOTAL: | I6: ='Orçamento Sintético'!I811 -> 17120101
I7: DATA: | J7: 46141
A8: Planilha Orçamentária Analítica
A9: 1 | D9: SERVIÇOS PRELIMINARES
A10: 1.1 | B10: Código | C10: Banco | D10: Descrição | E10: Tipo | G10: Und | H10: Quant. | I10: Valor Unit | J10: Total
A11: Composição | B11: 103689 | C11: SINAPI | D11: FORNECIMENTO E INSTALAÇÃO DE PLACA DE OBRA COM CHAPA GALVANIZADA E ESTRUTURA DE MADEIRA. AF_03/2022_PS | E11: Sinalização Vertical Viária | G11: m² | H11: 1 | I11: 507.9 | J11: 507.9
A12: Composição Auxiliar | B12: 88316 | C12: SINAPI | D12: SERVENTE COM ENCARGOS COMPLEMENTARES | E12: Livro SINAPI: Cálculos e Parâmetros | G12: H | H12: 1.1186 | I12: 26.88 | J12: 30.06
A13: Composição Auxiliar | B13: 88262 | C13: SINAPI | D13: CARPINTEIRO DE FORMAS COM ENCARGOS COMPLEMENTARES | E13: Livro SINAPI: Cálculos e Parâmetros | G13: H | H13: 0.3729 | I13: 32.14 | J13: 11.98
A14: Composição Auxiliar | B14: 102234 | C14: SINAPI | D14: PINTURA IMUNIZANTE PARA MADEIRA, 2 DEMÃOS. AF_01/2021 | E14: Pintura em Madeira | G14: m² | H14: 0.5 | I14: 27.76 | J14: 13.88
A15: Insumo | B15: 00004813 | C15: SINAPI | D15: PLACA DE OBRA (PARA CONSTRUCAO CIVIL) EM CHAPA GALVANIZADA *N. 22*, ADESIVADA, DE *2,4 X 1,2* M (SEM POSTES PARA FIXACAO) | E15: Material | G15: m² | H15: 1 | I15: 432 | J15: 432
A16: Insumo | B16: 00004509 | C16: SINAPI | D16: SARRAFO *2,5 X 10* CM EM PINUS, MISTA OU EQUIVALENTE DA REGIAO - BRUTA | E16: Material | G16: M | H16: 3.2083 | I16: 6.04 | J16: 19.37
A17: Insumo | B17: 00005065 | C17: SINAPI | D17: PREGO DE ACO POLIDO COM CABECA 10 X 10 (7/8 X 17) | E17: Material | G17: KG | H17: 0.0113 | I17: 33.71 | J17: 0.38
A18: Insumo | B18: 00005069 | C18: SINAPI | D18: PREGO DE ACO POLIDO COM CABECA 17 X 27 (2 1/2 X 11) | E18: Material | G18: KG | H18: 0.0132 | I18: 18.06 | J18: 0.23
E19: MO sem LS => | F19: 31.75 | G19: LS => | H19: 0 | I19: MO com LS => | J19: 31.75
E20: Valor do BDI => | F20: 118.74 | H20: Valor com BDI => | J20: 626.64
A22: 1.2 | B22: Código | C22: Banco | D22: Descrição | E22: Tipo | G22: Und | H22: Quant. | I22: Valor Unit | J22: Total
A23: Composição | B23: 98525 | C23: SINAPI | D23: LIMPEZA MECANIZADA DE CAMADA VEGETAL, VEGETAÇÃO E PEQUENAS ÁRVORES (DIÂMETRO DE TRONCO MENOR QUE 0,20 M), COM TRATOR DE ESTEIRAS. AF_03/2024 | E23: Supressão Vegetal | G23: m² | H23: 1 | I23: 0.73 | J23: 0.73
A24: Composição Auxiliar | B24: 89031 | C24: SINAPI | D24: TRATOR DE ESTEIRAS, POTÊNCIA 100 HP, PESO OPERACIONAL 9,4 T, COM LÂMINA 2,19 M3 - CHI DIURNO. AF_06/2014 | E24: Custos Horários Produtivo e Improdutivo dos Equipamentos | G24: CHI | H24: 0.0029 | I24: 83.69 | J24: 0.24
A25: Composição Auxiliar | B25: 89032 | C25: SINAPI | D25: TRATOR DE ESTEIRAS, POTÊNCIA 100 HP, PESO OPERACIONAL 9,4 T, COM LÂMINA 2,19 M3 - CHP DIURNO. AF_06/2014 | E25: Custos Horários Produtivo e Improdutivo dos Equipamentos | G25: CHP | H25: 0.0017 | I25: 222.06 | J25: 0.37
A26: Composição Auxiliar | B26: 88441 | C26: SINAPI | D26: JARDINEIRO COM ENCARGOS COMPLEMENTARES | E26: Livro SINAPI: Cálculos e Parâmetros | G26: H | H26: 0.0046 | I26: 28.02 | J26: 0.12
E27: MO sem LS => | F27: 0.19 | G27: LS => | H27: 0 | I27: MO com LS => | J27: 0.19
E28: Valor do BDI => | F28: 0.17 | H28: Valor com BDI => | J28: 0.9
A30: 1.3 | B30: Código | C30: Banco | D30: Descrição | E30: Tipo | G30: Und | H30: Quant. | I30: Valor Unit | J30: Total
A31: Composição | B31: 2605 | C31: ORSE | D31: Locação de serviços de pavimentação | E31: Pavimentação em Paralepípedo ou com Peças Pré-moldadas de Concreto | G31: m² | H31: 1 | I31: 1.44 | J31: 1.44
A32: Item | B32: Código | C32: Banco | D32: Descrição | E32: Tipo | G32: Und | H32: Quant. | I32: Valor Unit | J32: Total
A33: Insumo | B33: 70 | C33: ORSE | D33: Topógrafo - SICRO | E33: Mão de Obra | G33: h | H33: 0.018 | I33: 36,78 | J33: 0,66
A34: Insumo | B34: 48 | C34: ORSE | D34: Auxiliar topografia - SICRO | E34: Mão de Obra | G34: h | H34: 0.036 | I34: 21,68 | J34: 0,78
A35: Detalhamento de Cálculo ORSE
A36: Item | B36: Código | C36: Banco | D36: Descrição | E36: Tipo | G36: Und | H36: Quant. | I36: Valor Unit | J36: Total
A37: Insumo | B37: 70 | C37: ORSE | D37: Topógrafo - SICRO | E37: Mão de Obra | G37: h | H37: 0.018 | I37: 36,78 | J37: 0,66
A38: Insumo | B38: 48 | C38: ORSE | D38: Auxiliar topografia - SICRO | E38: Mão de Obra | G38: h | H38: 0.036 | I38: 21,68 | J38: 0,78
E39: MO sem LS => | F39: 1.44 | G39: LS => | H39: 0 | I39: MO com LS => | J39: 1.44
E40: Valor do BDI => | F40: 0.33 | H40: Valor com BDI => | J40: 1.77
A42: 2 | D42: MOVIMENTO DE TERRA
A43: 2.1 | B43: Código | C43: Banco | D43: Descrição | E43: Tipo | G43: Und | H43: Quant. | I43: Valor Unit | J43: Total
A44: Composição | B44: 030011 | C44: SEDOP | D44: Aterro incluindo carga, descarga, transporte e apiloamento | E44: 0 | G44: m³ | H44: 1 | I44: 167.34 | J44: 167.34
...

Sheet ENCARGOS SOCIAIS
A2: PREFEITURA MUNICIPAL DE BREVES
A3: SECRETARIA MUNICIPAL DE DESENVOLVIMENTO ECONÔMICO, PROJETOS E CONVÊNIOS
A4: OBRA: PAVIMENTAÇÃO DE VIAS URBANAS
A5: LOCAL: ZONA URBANA DO MUNICÍPIO - BREVES - PA
A6: REF. DE PREÇOS: SINAPI 03/2026 - SEOP 03/2026 - ORSE - 02/2026 - NÃO DESONERADO
A7: DATA: | B7: 46141 | C7: BDI: 23,38% | E7: PRAZO: 360 Dias
A8: LEIS SOCIAIS SOBRE A MÃO DE OBRA
A9: CÓDIGO | B9: DESCRIÇÃO | C9: COM DESONERAÇÃO | E9: SEM DESONERAÇÃO
C10: HORISTA (%) | D10: MENSALISTA (%) | E10: HORISTA (%) | F10: MENSALISTA (%)
A11: GRUPO A
A12: A1 | B12: INSS | C12: 0.1 | D12: 0.1 | E12: 0.2 | F12: 0.2
A13: A2 | B13: SESI | C13: 0.015 | D13: 0.015 | E13: 0.015 | F13: 0.015
A14: A3 | B14: SENAI | C14: 0.01 | D14: 0.01 | E14: 0.01 | F14: 0.01
A15: A4 | B15: INCRA | C15: 0.002 | D15: 0.002 | E15: 0.002 | F15: 0.002
A16: A5 | B16: SEBRAE | C16: 0.006 | D16: 0.006 | E16: 0.006 | F16: 0.006
A17: A6 | B17: SALÁRIO EDUCAÇÃO | C17: 0.025 | D17: 0.025 | E17: 0.025 | F17: 0.025
A18: A7 | B18: SEGURO CONTRA ACIDENTES DE TRABALHO | C18: 0.03 | D18: 0.03 | E18: 0.03 | F18: 0.03
A19: A8 | B19: FGTS | C19: 0.08 | D19: 0.08 | E19: 0.08 | F19: 0.08
A20: A9 | B20: SECONCI | C20: 0 | D20: 0 | E20: 0 | F20: 0
A21: A | B21: TOTAL | C21: =SUM(C12:C20) -> 0.268 | D21: =SUM(D12:D20) -> 0.268 | E21: =SUM(E12:E20) -> 0.368 | F21: =SUM(F12:F20) -> 0.368
A22: GRUPO B
A23: B1 | B23: REPOUSO SEMANAL REMUNERADO | C23: 0.1801 | D23: xxxxxxxxxxxxxxx | E23: 0.1801 | F23: xxxxxxxxxxxxxxx
A24: B2 | B24: FERIADOS | C24: 0.0413 | D24: xxxxxxxxxxxxxxx | E24: 0.0413 | F24: xxxxxxxxxxxxxxx
A25: B3 | B25: AUXÍLIO ENFERMIDADE | C25: 0.009 | D25: 0.0067 | E25: 0.009 | F25: 0.0067
A26: B4 | B26: 13º SALÁRIO | C26: 0.1116 | D26: 0.0831 | E26: 0.1116 | F26: 0.0831
A27: B5 | B27: LICENÇA PATERNIDADE | C27: 0.0007 | D27: 0.0005 | E27: 0.0007 | F27: 0.0005
A28: B6 | B28: FALTAS JUSTIFICADAS | C28: 0.0075 | D28: 0.0056 | E28: 0.0075 | F28: 0.0056
A29: B7 | B29: DIAS DE CHUVA | C29: 0.0299 | D29: xxxxxxxxxxxxxxx | E29: 0.0299 | F29: xxxxxxxxxxxxxxx
A30: B8 | B30: AUXÍLIO ACIDENTE DE TRABALHO | C30: 0.0003 | D30: 0.0002 | E30: 0.0003 | F30: 0.0002
A31: B9 | B31: FÉRIAS GOZADAS | C31: 0.1224 | D31: 0.0911 | E31: 0.1224 | F31: 0.0911
A32: B10 | B32: SALÁRIO MATERNIDADE | C32: 0.0004 | D32: 0.0003 | E32: 0.0004 | F32: 0.0003
A33: B | B33: TOTAL | C33: =SUM(C23:C32) -> 0.5032 | D33: =SUM(D23:D32) -> 0.1875 | E33: =SUM(E23:E32) -> 0.5032 | F33: =SUM(F23:F32) -> 0.1875
A34: GRUPO C
A35: C1 | B35: AVISO PRÉVIO INDENIZADO | C35: 0.0663 | D35: 0.0493 | E35: 0.0663 | F35: 0.0493
A36: C2 | B36: AVISO PRÉVIO TRABALHADO | C36: 0.0017 | D36: 0.0013 | E36: 0.0017 | F36: 0.0013
A37: C3 | B37: FÉRIAS INDENIZADAS | C37: 0.0301 | D37: 0.0224 | E37: 0.0301 | F37: 0.0224
A38: C4 | B38: DEPÓSOTO DE RECISÃO SEM JUSTA CAUSA | C38: 0.0282 | D38: 0.021 | E38: 0.0282 | F38: 0.021
A39: C5 | B39: INDENIZAÇÃO ADICIONAL | C39: 0.0056 | D39: 0.0041 | E39: 0.0056 | F39: 0.0041
A40: C | B40: TOTAL | C40: =SUM(C35:C39) -> 0.1319 | D40: =SUM(D35:D39) -> 0.0981 | E40: =SUM(E35:E39) -> 0.1319 | F40: =SUM(F35:F39) -> 0.0981
A41: GRUPO D
...

Sheet MAIOR RELEVANCIA
A1: PREFEITURA MUNICIPAL DE BREVES
A2: SECRETARIA MUNICIPAL DE DESENVOLVIMENTO ECONÔMICO, PROJETOS E CONVÊNIOS
A4: OBRA: PAVIMENTAÇÃO DE VIAS URBANAS | H4: BDI: | I4: 0.2338
A5: LOCAL: ZONA URBANA DO MUNICÍPIO - BREVES - PA | H5: PRAZO DE EXECUÇÃO: | I5: 360 DIAS
A6: REF. DE PREÇOS: SINAPI 03/2026 - SEOP 03/2026 - ORSE - 02/2026 - NÃO DESONERADO | H6: VALOR | I6: ='Orçamento Sintético'!I811 -> 17120101
H7: DATA: | I7: 46141
A8: Planilha de Maior Relevância
A9: ITEM | B9: CÓDIGO | C9: FONTE | D9: DESCRIÇÃO DOS SERVIÇOS | E9: UN. | F9: QUANT. | G9: PESO FINANCEIRO(%) | H9: QUANTIDADE MÍNIMA EXIGIDA 25% | I9: QUALIFICAÇÃO PROFISSIONAL- PROFISSIONAL C/CAPACIDADE TÉCNICA EXIGIDO
A10: 4.1 | B10: 92394 | C10: SINAPI | D10: EXECUÇÃO DE PAVIMENTO EM PISO INTERTRAVADO, COM BLOCO SEXTAVADO DE 25 X 25 CM, ESPESSURA 8 CM. AF_10/2022 | E10: M2 | F10: ='Orçamento Sintético'!F25+'Orçamento Sintético'!F48+'Orçamento Sintético'!F71+'Orçamento Sintético'!F91+'Orçamento Sintético'!F108+'Orçamento Sintético'!F128+'Orçamento Sintético'!F149+'Orçamento Sintético'!F170+'Orçamento Sintético'!F191+'Orçamento Sintético'!F208+'Orçamento Sintético'!F229+'Orçamento Sintético'!F250+'Orçamento Sintético'!F267+'Orçamento Sintético'!F287+'Orçamento Sintético'!F308+'Orçamento Sintético'!F331+'Orçamento Sintético'!F352+'Orçamento Sintético'!F368+'Orçamento Sintético'!F384+'Orçamento Sintético'!F406+'Orçamento Sintético'!F426+'Orçamento Sintético'!F449+'Orçamento Sintético'!F465+'Orçamento Sintético'!F486+'Orçamento Sintético'!F508+'Orçamento Sintético'!F533+'Orçamento Sintético'!F554+'Orçamento Sintético'!F576+'Orçamento Sintético'!F597+'Orçamento Sintético'!F617+'Orçamento Sintético'!F638+'Orçamento Sintético'!F659+'Orçamento Sintético'!F680+'Orçamento Sintético'!F703+'Orçamento Sintético'!F727+'Orçamento Sintético'!F744+'Orçamento Sintético'!F761+'Orçamento Sintético'!F784+'Orçamento Sintético'!F805 -> 65652.5 | G10: =(F10*138.65)/'Orçamento Sintético'!I811 -> 0.53169775 | H10: =ROUND(F10*25%,2) -> 16413.13 | I10: ENGENHEIRO(A) CIVIL OU ARQUITETO(A)
A11: 3.1 | B11: GMS | C11: Próprio | D11: GUIA (MEIO-FIO) E SARJETA CONJUGADOS DE CONCRETO, MOLDADA IN LOCO, 45 CM BASE (15 CM BASE DA GUIA + 30 CM BASE DA SARJETA) X 22 CM ALTURA. | E11: M | F11: ='Orçamento Sintético'!F19+'Orçamento Sintético'!F40+'Orçamento Sintético'!F63+'Orçamento Sintético'!F85+'Orçamento Sintético'!F106+'Orçamento Sintético'!F122+'Orçamento Sintético'!F143+'Orçamento Sintético'!F164+'Orçamento Sintético'!F185+'Orçamento Sintético'!F206+'Orçamento Sintético'!F223+'Orçamento Sintético'!F244+'Orçamento Sintético'!F265+'Orçamento Sintético'!F281+'Orçamento Sintético'!F302+'Orçamento Sintético'!F323+'Orçamento Sintético'!F346+'Orçamento Sintético'!F366+'Orçamento Sintético'!F382+'Orçamento Sintético'!F398+'Orçamento Sintético'!F420+'Orçamento Sintético'!F441+'Orçamento Sintético'!F463+'Orçamento Sintético'!F480+'Orçamento Sintético'!F500+'Orçamento Sintético'!F526+'Orçamento Sintético'!F548+'Orçamento Sintético'!F569+'Orçamento Sintético'!F591+'Orçamento Sintético'!F611+'Orçamento Sintético'!F632+'Orçamento Sintético'!F653+'Orçamento Sintético'!F674+'Orçamento Sintético'!F695+'Orçamento Sintético'!F721+'Orçamento Sintético'!F742+'Orçamento Sintético'!F759+'Orçamento Sintético'!F776+'Orçamento Sintético'!F798 -> 22845.26 | G11: =(F11*91.88)/'Orçamento Sintético'!I811 -> 0.12260573 | H11: =ROUND(F11*25%,2) -> 5711.32 | I11: ENGENHEIRO(A) CIVIL OU ARQUITETO(A)
A12: 3.4 | B12: 92212 | C12: SINAPI | D12: TUBO DE CONCRETO PARA REDES COLETORAS DE ÁGUAS PLUVIAIS, DIÂMETRO DE 600 MM, JUNTA RÍGIDA, INSTALADO EM LOCAL COM BAIXO NÍVEL DE INTERFERÊNCIAS - FORNECIMENTO E ASSENTAMENTO. AF_03/2024 | E12: M | F12: ='Orçamento Sintético'!F21+'Orçamento Sintético'!F42+'Orçamento Sintético'!F87+'Orçamento Sintético'!F124+'Orçamento Sintético'!F145+'Orçamento Sintético'!F187+'Orçamento Sintético'!F225+'Orçamento Sintético'!F283*'Orçamento Sintético'!F304+'Orçamento Sintético'!F325+'Orçamento Sintético'!F348+'Orçamento Sintético'!F400+'Orçamento Sintético'!F443+'Orçamento Sintético'!F482+'Orçamento Sintético'!F502+'Orçamento Sintético'!F550+'Orçamento Sintético'!F571+'Orçamento Sintético'!F593+'Orçamento Sintético'!F613+'Orçamento Sintético'!F634+'Orçamento Sintético'!F655+'Orçamento Sintético'!F676+'Orçamento Sintético'!F698+'Orçamento Sintético'!F723+'Orçamento Sintético'!F778+'Orçamento Sintético'!F800 -> 4543 | G12: =(F12*365.71)/'Orçamento Sintético'!I811 -> 0.09704502 | H12: =ROUND(F12*25%,2) -> 1135.75 | I12: ENGENHEIRO(A) CIVIL OU ARQUITETO(A)
