Workbook

Sheet RESUMO
A2: SECRETARIA MUNICIPAL DE EDUCAÇÃO - SEMED
A4: OBRA: CONSTRUÇÃO DE ALOJAMENTOS DOS PROFESSORES E PASSARELA DE ACESSO PARA EMBARQUE E DESEMBARQUE DE ALUNOS DA ESCOLA TALISMÃ
A5: LOCAL: RIO CONTRA MARÉ - DISTRITO CURUMU - ZONA RURAL – BREVES/PA
A6: REF. DE PREÇOS: SEOP - Março de 2026 - SEM DESONERAÇÃO
A8: ORÇAMENTO RESUMIDO
A9: ITEM | B9: DESCRIÇÃO | C9: TOTAL | D9: PESO (%)
B10: ALOJAMENTO DOS PROFESSORES | C10: =SUM(C11:C21) -> 209186.83
A11: 1 | B11: =PLAN!C13 -> SERVIÇOS PRELIMINARES | C11: =PLAN!H13 -> 6703.95 | D11: =C11/$C$26 -> 0.014449315
A12: =A11+1 -> 2 | B12: =PLAN!C18 -> FUNDAÇÃO | C12: =PLAN!H18 -> 18035.06 | D12: =C12/$C$26 -> 0.038871749
A13: 3 | B13: =PLAN!C21 -> ESTRUTURA | C13: =PLAN!H21 -> 12953.19 | D13: =C13/$C$26 -> 0.027918574
A14: 4 | B14: =PLAN!C24 -> PISO | C14: =PLAN!H24 -> 13798.27 | D14: =C14/$C$26 -> 0.029740011
A15: 5 | B15: =PLAN!C28 -> PAREDE E REVESTIMENTOS | C15: =PLAN!H28 -> 34731.13 | D15: =C15/$C$26 -> 0.074857515
A16: 6 | B16: =PLAN!C34 -> COBERTURA | C16: =PLAN!H34 -> 22164.87 | D16: =C16/$C$26 -> 0.047772908
A17: 7 | B17: =PLAN!C39 -> FORRO | C17: =PLAN!H39 -> 15679.03 | D17: =C17/$C$26 -> 0.033793695
A18: 8 | B18: =PLAN!C42 -> ESQUADRIAS / FERRAGENS | C18: =PLAN!H42 -> 22582.21 | D18: =C18/$C$26 -> 0.048672419
A19: 9 | B19: =PLAN!C49 -> INSTALAÇÕES HIDRÁULICAS | C19: =PLAN!H49 -> 26931.05 | D19: =C19/$C$26 -> 0.058045663
A20: 10 | B20: =PLAN!C62 -> INSTALAÇÕES ELÉTRICAS | C20: =PLAN!H62 -> 15835.16 | D20: =C20/$C$26 -> 0.034130209
A21: 11 | B21: =PLAN!C70 -> PINTURA | C21: =PLAN!H70 -> 19772.91 | D21: =C21/$C$26 -> 0.042617413
B22: PASSARELA DE ACESSO | C22: =SUM(C23:C25) -> 254776.34
A23: 12 | B23: =PLAN!C74 -> CASA DE FORÇA | C23: =PLAN!H74 -> 8615.83 | D23: =C23/$C$26 -> 0.018570073
A24: =SUM(A23+1) -> 13 | B24: =PLAN!C84 -> PASSARELA DE ACESSO | C24: =PLAN!H84 -> 242797.55 | D24: =C24/$C$26 -> 0.52331212
A25: =SUM(A24+1) -> 14 | B25: =PLAN!C99 -> LIMPEZA E ENTREGA DA OBRA | C25: =PLAN!H99 -> 3362.96 | D25: =C25/$C$26 -> 0.007248334
A26: TOTAL: | C26: =SUM(C10,C22) -> 463963.17 | D26: =SUM(D11:D25) -> 1
A28: =PLAN!A102 -> Total da planilha R$ 463.963,17 (Quatrocentos e sessenta e três mil, novecentos e sessenta e três reais e dezessete centavos)

Sheet Itens de Maior Relevância
A6: PREFEITURA MUNICIPAL DE BRE3VES
A8: SECRETARIA MUNICIPAL DE EDUCAÇÃO - SEMED
A10: OBRA: CONSTRUÇÃO DE ALOJAMENTO DOS PROFESSORES E PASSARELA DE ACESSO PARA EMBARQUE E DESEMBARQUE DE ALUNOS DA ESCOLA TALISMÃ
A11: LOCAL: RIO CONTRA MARÉ - DISTRITO CURUMU - ZONA RURAL - BREVES-PA
A12: REF. DE PREÇOS: SEOP - Março de 2026 - SEM DESONERAÇÃO
A14: ITENS DE MAIOR RELEVÂNCIA | G14: QUALIFICAÇÃO PROFISSIONAL
A15: ITEM | B15: DESCRIÇÃO | C15: UNID | D15: QTD TOTAL | E15: PESO FINANCEIRO % | F15: QTD MÍN. EXIGIDA (25%) | G15: CAPACIDADE TÉCNICA OPERACIONAL | H15: CAPACIDADE TÉCNICA PROFISSIONAL
A16: 13.3 | B16: Guarda-corpo em tubo de aço galvanizado 1 1/2" | C16: m² | D16: 144 | E16: =PLAN!I87 -> 0.16438719 | F16: =D16*25% -> 36 | G16: EMPRESA | H16: ENGENHEIRO(A) CIVIL OU ARQUITETO(A)
A17: 13.1 | B17: Passarela para desembarque | C17: m | D17: 50 | E17: =PLAN!I85 -> 0.099980996 | F17: =D17*25% -> 12.5 | G17: EMPRESA | H17: ENGENHEIRO(A) CIVIL OU ARQUITETO(A)
A18: 13.2 | B18: Guarda-corpo em mad. lei acabamento em esmalte h=1,0m | C18: m² | D18: 104 | E18: =PLAN!I86 -> 0.06563952 | F18: =D18*25% -> 26 | G18: EMPRESA | H18: ENGENHEIRO(A) CIVIL OU ARQUITETO(A)
A19: OBS: Para fins de atendimento aos quantitativos mínimos exigidos dos itens de maior relevância, não será admitida a soma de quantitativos referentes à capacidade técnico-operacional com aqueles relativos à capacidade técnico-profissional, devendo cada requisito ser comprovado de forma independente, conforme estabelecido neste Edital.

Sheet PLAN
A2: PREFEITURA MUNICIPAL DE BREVES
A3: SECRETARIA MUNICIPAL DE EDUCAÇÃO - SEMED
A4: OBJETO: CONSTRUÇÃO DE ALOJAMENTO DOS PROFESSORES E PASSARELA DE ACESSO PARA EMBARQUE E DESEMBARQUE DE ALUNOS DA ESCOLA TALISMÃ
A5: LOCAL: RIO CONTRA MARÉ - DISTRITO CURUMU - ZONA RURAL BREVES-PA | H5: MARÇO/2026
A6: REF. DE PREÇOS: SEOP - Março de 2026 - SEM DESONERAÇÃO | G6: BDI= | H6: 0.2247
G7: .TOTAL = | H7: =H101 -> 463963.17
A9: PLANILHA ORÇAMENTÁRIA
A10: ITEM | B10: CÓDIGO | C10: DISCRIMINAÇÃO | D10: UN | E10: QUANT. | F10: CUSTO UNI. | G10: CUSTO UNI. C/ BDI | H10: P. TOTAL R$ | I10: PESO (%)
C12: ALOJAMENTO DOS PROFESSORES | H12: =SUM(H13,H18,H21,H24,H28,H34,H39,H42,H49,H62,H70) -> 209186.83
A13: 1 | C13: SERVIÇOS PRELIMINARES | H13: =SUM(H14:H17) -> 6703.95 | I13: =SUM(I14:I17) -> 0.014449315
A14: 1.1 | B14: 010008 | C14: Limpeza do terreno | D14: M2 | E14: 200 | F14: 6.72 | G14: =ROUND((1+$H$6)*F14,2) -> 8.23 | H14: =ROUND(E14*G14,2) -> 1646 | I14: =H14/$H$101 -> 0.0035476954
A15: 1.2 | B15: 011340 | C15: Placa da obra em lona | D15: M2 | E15: 6 | F15: 207.93 | G15: =ROUND((1+$H$6)*F15,2) -> 254.65 | H15: =ROUND(E15*G15,2) -> 1527.9 | I15: =H15/$H$101 -> 0.0032931493
A16: 1.3 | B16: 010009 | C16: Locação da obra à trena | D16: M2 | E16: 255.35 | F16: 7.58 | G16: =ROUND((1+$H$6)*F16,2) -> 9.28 | H16: =ROUND(E16*G16,2) -> 2369.65 | I16: =H16/$H$101 -> 0.0051074097
A17: 1.4 | B17: 010006 | C17: Andaime de madeira | D17: M2 | E17: 30 | F17: 31.58 | G17: =ROUND((1+$H$6)*F17,2) -> 38.68 | H17: =ROUND(E17*G17,2) -> 1160.4 | I17: =H17/$H$101 -> 0.0025010606
A18: 2 | C18: FUNDAÇÃO | H18: =SUM(H19:H20) -> 18035.06 | I18: =SUM(I19:I20) -> 0.038871749
A19: 2.1 | B19: COMP01 | C19: Pilar/Esteio para fundação em madeira acapú, angelim vermelho, massaranduba ou similar 4" x 4' x 4m | D19: UN | E19: 44 | F19: 238.09 | G19: =ROUND((1+$H$6)*F19,2) -> 291.59 | H19: =ROUND(E19*G19,2) -> 12829.96 | I19: =H19/$H$101 -> 0.027652971
A20: 2.3 | B20: COMP02 | C20: Bloco de fundação acapú, angelim vermelho, massaranduba ou similar 30x30x60cm (Pç 6M) | D20: UN | E20: 5 | F20: 850.02 | G20: =ROUND((1+$H$6)*F20,2) -> 1041.02 | H20: =ROUND(E20*G20,2) -> 5205.1 | I20: =H20/$H$101 -> 0.011218778
A21: 3 | C21: ESTRUTURA | H21: =SUM(H22:H23) -> 12953.19 | I21: =SUM(I22:I23) -> 0.027918574
A22: 3.1 | B22: COMP03 | C22: Pilar em madeira acapú, angelim vermelho, massaranduba ou similar 4" x 4' x 4m | D22: UN | E22: 18 | F22: 235.96 | G22: =ROUND((1+$H$6)*F22,2) -> 288.98 | H22: =ROUND(E22*G22,2) -> 5201.64 | I22: =H22/$H$101 -> 0.011211321
A23: 3.2 | B23: COMP04 | C23: Peça em madeira acapú, angelim vermelho, massaranduba ou similar 5" x 2" para atracação e travamento (Incluindo parafusos) | D23: UN | E23: 31 | F23: 204.17 | G23: =ROUND((1+$H$6)*F23,2) -> 250.05 | H23: =ROUND(E23*G23,2) -> 7751.55 | I23: =H23/$H$101 -> 0.016707253
A24: 4 | C24: PISO | H24: =SUM(H25:H27) -> 13798.27 | I24: =SUM(I25:I27) -> 0.029740011
A25: 4.1 | B25: COMP05 | C25: Assoalho em madeira de lei | D25: M2 | E25: 95.82 | F25: 75.06 | G25: =ROUND((1+$H$6)*F25,2) -> 91.93 | H25: =ROUND(E25*G25,2) -> 8808.73 | I25: =H25/$H$101 -> 0.018985839
A26: 4.2 | B26: 050681 | C26: Concreto armado Fck = 15 MPA com forma madeira branca (Incluindo lançamento e adensamento) | D26: M3 | E26: 0.76 | F26: 3777.41 | G26: =ROUND((1+$H$6)*F26,2) -> 4626.19 | H26: =ROUND(E26*G26,2) -> 3515.9 | I26: =H26/$H$101 -> 0.0075779722
A27: 4.3 | B27: 130119 | C27: Lajota cerâmica - Incluindo rejuntamento (Padrão Médio) | D27: M2 | E27: 15.2 | F27: 79.16 | G27: =ROUND((1+$H$6)*F27,2) -> 96.95 | H27: =ROUND(E27*G27,2) -> 1473.64 | I27: =H27/$H$101 -> 0.0031762004
A28: 5 | C28: PAREDE E REVESTIMENTOS | H28: =SUM(H29:H33) -> 34731.13 | I28: =SUM(I29:I33) -> 0.074857515
A29: 5.1 | B29: COMP06 | C29: Parede em madeira de lei | D29: M2 | E29: 136.96 | F29: 86.31 | G29: =ROUND((1+$H$6)*F29,2) -> 105.7 | H29: =ROUND(E29*G29,2) -> 14476.67 | I29: =H29/$H$101 -> 0.031202197
A30: 5.2 | B30: 060046 | C30: Alvenaria tijolo de barro cutelo | D30: M2 | E30: 48.01 | F30: 136.31 | G30: =ROUND((1+$H$6)*F30,2) -> 166.94 | H30: =ROUND(E30*G30,2) -> 8014.79 | I30: =H30/$H$101 -> 0.017274625
A31: 5.3 | B31: 110143 | C31: Chapisco de cimento e areia no traço 1:3 | D31: M2 | E31: 96.02 | F31: 17.32 | G31: =ROUND((1+$H$6)*F31,2) -> 21.21 | H31: =ROUND(E31*G31,2) -> 2036.58 | I31: =H31/$H$101 -> 0.0043895295
A32: 5.4 | B32: 110763 | C32: Reboco com argamassa 1:6:Adit. Plast. | D32: M2 | E32: 96.02 | F32: 51.8 | G32: =ROUND((1+$H$6)*F32,2) -> 63.44 | H32: =ROUND(E32*G32,2) -> 6091.51 | I32: =H32/$H$101 -> 0.013129296
A33: 5.5 | B33: 110644 | C33: Revestimento Cerâmico Padrão Médio | D33: M2 | E33: 48.01 | F33: 69.93 | G33: =ROUND((1+$H$6)*F33,2) -> 85.64 | H33: =ROUND(E33*G33,2) -> 4111.58 | I33: =H33/$H$101 -> 0.0088618672
A34: 6 | C34: COBERTURA | H34: =SUM(H35:H38) -> 22164.87 | I34: =SUM(I35:I38) -> 0.047772908
A35: 6.1 | B35: 070054 | C35: Estrutura em madeira para chapa fibrocimento/ telha asfáltica - pç serrada | D35: M2 | E35: 123.01 | F35: 85.05 | G35: =ROUND((1+$H$6)*F35,2) -> 104.16 | H35: =ROUND(E35*G35,2) -> 12812.72 | I35: =H35/$H$101 -> 0.027615813
A36: 6.2 | B36: 071498 | C36: Cobertura telha fibrocimento e = 4mm | D36: M2 | E36: 123.01 | F36: 46.4 | G36: =ROUND((1+$H$6)*F36,2) -> 56.83 | H36: =ROUND(E36*G36,2) -> 6990.66 | I36: =H36/$H$101 -> 0.015067274
A37: 6.3 | B37: 070059 | C37: Cumeeira plana fibrotex e = 4mm | D37: M | E37: 9.18 | F37: 24.83 | G37: =ROUND((1+$H$6)*F37,2) -> 30.41 | H37: =ROUND(E37*G37,2) -> 279.16 | I37: =H37/$H$101 -> 0.00060168569
A38: 6.4 | B38: 070827 | C38: Lambrequim em madeira de lei aparelhada | D38: M | E38: 45.16 | F38: 37.65 | G38: =ROUND((1+$H$6)*F38,2) -> 46.11 | H38: =ROUND(E38*G38,2) -> 2082.33 | I38: =H38/$H$101 -> 0.0044881364
A39: 7 | C39: FORRO | H39: =SUM(H40:H41) -> 15679.03 | I39: =SUM(I40:I41) -> 0.033793695
A40: 7.1 | B40: 140348 | C40: Barroteamento em madeira de lei para forro PVC | D40: M2 | E40: 95.82 | F40: 87.11 | G40: =ROUND((1+$H$6)*F40,2) -> 106.68 | H40: =ROUND(E40*G40,2) -> 10222.08 | I40: =H40/$H$101 -> 0.022032094
A41: 7.2 | B41: 141336 | C41: Forro em lambril de PVC | D41: M2 | E41: 95.82 | F41: 46.5 | G41: =ROUND((1+$H$6)*F41,2) -> 56.95 | H41: =ROUND(E41*G41,2) -> 5456.95 | I41: =H41/$H$101 -> 0.011761602
A42: 8 | C42: ESQUADRIAS / FERRAGENS | H42: =SUM(H43:H48) -> 22582.21 | I42: =SUM(I43:I48) -> 0.048672419
A43: 8.1 | B43: 090641 | C43: Portas em madeira lambrizada com caixilho/ alizar | D43: M2 | E43: 12.6 | F43: 527.02 | G43: =ROUND((1+$H$6)*F43,2) -> 645.44 | H43: =ROUND(E43*G43,2) -> 8132.54 | I43: =H43/$H$101 -> 0.017528417
...

Sheet M.CÁLCULO
A3: PREFEITURA MUNICIPAL DE BREVES
A4: SECRETARIA MUNICIPAL DE EDUCAÇÃO - SEMED
A5: OBJETO: CONSTRUÇÃO DE ALOJAMENTO DOS PROFESSORES E PASSARELA DE ACESSO PARA EMBARQUE E DESEMBARQUE DE ALUNOS DA ESCOLA TALISMÃ
A6: LOCAL: RIO CONTRA MARÉ - DISTRITO CURUMU - ZONA RURAL BREVES- PA
A7: REF. DE PREÇOS: SEOP - Março de 2026 - SEM DESONERAÇÃO
A9: BDI = 22,47%
A10: MARÇO/2026
A12: MEMORIAL DE CÁLCULO
A13: ITEM | B13: CÓDIGO | C13: DISCRIMINAÇÃO | D13: UNID. | E13: QUANT. | F13: MEMORIA
C15: ALOJAMENTO DOS PROFESSORES
A16: 1 | C16: SERVIÇOS PRELIMINARES
A17: 1.1 | B17: 010008 | C17: Limpeza do terreno | D17: M2 | E17: 200 | F17: (20,00m x 10,00m)
A18: 1.2 | B18: 011340 | C18: Placa da obra em lona | D18: M2 | E18: 6 | F18: (3,00m x 2,00m)
A19: 1.3 | B19: 010009 | C19: Locação da obra à trena | D19: M2 | E19: 255.35 | F19: (12,20m x 7,98m) + (5,00m x 4,00m)+46,00m x 3,00m
A20: 1.4 | B20: 010006 | C20: Andaime de madeira | D20: M2 | E20: 30 | F20: (2,00m x 5,00m) + (2,00m x 5,00m x 2)
A21: 2 | C21: FUNDAÇÕES
A22: 2.1 | B22: COMP01 | C22: Pilar/Esteio para fundação em madeira de lei 4" x 4' x 4m | D22: UN | E22: 44 | F22: (11x8x2,00m)/4m
A23: 2.2 | B23: COMP02 | C23: Bloco de fundação em Madeira de Lei 30x30x60cm (Pç 6M) | D23: UN | E23: 5 | F23: (45,00 x 0,60)/6
A24: 3 | C24: ESTRUTURA
A25: 3.1 | B25: COMP03 | C25: Pilar em madeira de lei 4" x 4' x 4m | D25: UN | E25: 18 | F25: (24,00 x 3,00)/4
A26: 3.2 | B26: COMP04 | C26: Peça em madeira de lei 5" x 2" 4m para atracação e travamento (Incluindo parafusos) | D26: UN | E26: 31 | F26: (12,00 x 3,50)/4 + (12,00 x 3,50)/4 + (10,00 x 4,00)/4
A27: 4 | C27: PISO
A28: 4.1 | B28: COMP05 | C28: Assoalho em madeira de lei | D28: M2 | E28: 95.82 | F28: (12,16m x 7,88m)
A29: 4.2 | B29: 050681 | C29: Concreto armado Fck = 15 MPA com forma madeira branca (Incluindo lançamento e adensamento) | D29: M3 | E29: 0.76 | F29: [(2,9mx3m)+(1,3mx2,5m)x2]x0,05m
A30: 4.3 | B30: 130119 | C30: Lajota cerâmica - Incluindo rejuntamento (Padrão Médio) | D30: M2 | E30: 15.2 | F30: (2,90mx3,00m)+2x(1,30mx2,50m)
A31: 5 | C31: PAREDES E REVESTIMENTOS
A32: 5.1 | B32: COMP06 | C32: Parede em madeira de lei | D32: M2 | E32: 136.96 | F32: (7,56 x 2,80) + (4,68 x 2,80) + (3,20 x 2,80) + (3,20 x 2,80) + (3,20 x 2,80) + (6,10 x 2,80) + (3,20 x 2,80) + (3,20 x 2,80) + (3,20 x 2,80) + (4,70 x 2,80) + (3,20 x 2,80) + (3,20 x 2,80) + (3,20 x 2,80) + (3,00 x 0,90) + (4,68 x 0,90) + (4,68 x 0,90) - ((0,80 x 2,10) x 6) + ((1,20 x 1,10) x 7)
A33: 5.2 | B33: 060046 | C33: Alvenaria tijolo de barro cutelo | D33: M2 | E33: 48.01 | F33: [(2,00m + 3,24m + 8,22m + 5,20m)x 2,80m] - [(0,6m x 2,10m)x 2 + (0,8 x 0,4)x2+(1,20mx0,90m)]
A34: 5.3 | B34: 110143 | C34: Chapisco de cimento e areia no traço 1:3 | D34: M2 | E34: 96.02 | F34: 2x {[(2,00m + 3,24m + 8,22m + 5,20m)x 2,80m] - [(0,6m x 2,10m)x 2 + (0,8m x 0,4m)x 2+(1,20mx0,90m)]}
A35: 5.4 | B35: 110763 | C35: Reboco no traço 1:6 com aditivo | D35: M2 | E35: 96.02 | F35: 2x {[(2,00m + 3,24m + 8,22m + 5,20m)x 2,80m] - [(0,6m x 2,10m)x 2 + (0,8m x 0,4m)x 2+(1,20mx0,90m)]}
A36: 5.5 | B36: 110644 | C36: Revestimento cerâmico | D36: M2 | E36: 48.01 | F36: [(2,00m + 3,24m + 8,22m + 5,20m)x 2,80m] - [(0,6m x 2,10m)x 2 + (0,8 x 0,4)x2+(1,20mx0,90m)]
A37: 6 | C37: COBERTURA
A38: 6.1 | B38: 070054 | C38: Estrutura em madeira para chapa fibrocimento/ telha asfáltica - pç serrada | D38: M2 | E38: 123.01 | F38: (13,40m x 9,18m)
A39: 6.2 | B39: 071498 | C39: Cobertura telha fibrocimento e = 4mm | D39: M2 | E39: 123.01 | F39: (13,40m x 9,18m)
A40: 6.3 | B40: 070059 | C40: Cumeeira plana fibrotex e = 4mm | D40: M | E40: 9.18 | F40: (7,98m + 0,60m + 0,60m)
A41: 6.4 | B41: 070827 | C41: Lambrequim em madeira de lei aparelhada | D41: M | E41: 45.16 | F41: (13,40m + 13,40m + 9,18m + 9,18m)
A42: 7 | C42: FORRO
A43: 7.1 | B43: 140348 | C43: Barroteamento em madeira de lei para forro PVC | D43: m² | E43: 95.82 | F43: (12,16m x 7,88m)
A44: 7.2 | B44: 141336 | C44: Forro em lambril de PVC | D44: m² | E44: 95.82 | F44: (12,16m x 7,88m)
A45: 8 | C45: ESQUADRIAS/ FERRAGENS
...

Sheet CRON
A2: PREFEITURA MUNICIPAL DE BREVES
A4: OBJETO: CONSTRUÇÃO DE ALOJAMENTO DOS PROFESSORES E PASSARELA DE ACESSO PARA EMBARQUE E DESEMBARQUE DE ALUNOS DA ESCOLA TALISMÃ
A5: LOCAL: RIO CONTRA MARÉ - DISTRITO CURUMU - ZONA RURAL MUNICÍPIO DE BREVES - PA | L5: BDI = 22,47%
A6: REF. DE PREÇOS: SEOP - Março de 2026 - SEM DESONERAÇÃO | L6: MARÇO/2026
A7: CRONOGRAMA FÍSICO - FINANCEIRO
A8: ALOJAMENTO DOS PROFESSORES
A9: ITEM | B9: DESCRIÇÃO DOS SERVIÇOS | C9: PESO % | D9: VALOR DO SERVIÇO | E9: 1º MÊS | G9: 2º MÊS | I9: 3º MÊS | K9: 4º MÊS
E10: % MÊS | F10: R$ | G10: % MÊS | H10: R$ | I10: % MÊS | J10: R$ | K10: % MÊS | L10: R$
B11: ALOJAMENTO DOS PROFESSSORES | D11: =SUM(D12:D32) -> 209186.83
A12: 1 | B12: =PLAN!C13 -> SERVIÇOS PRELIMINARES | C12: =D12/D41 -> 0.014449315 | D12: =PLAN!H13 -> 6703.95 | E12: 1 | F12: =E12*$D12 -> 6703.95
A14: =A12+1 -> 2 | B14: =PLAN!C18 -> FUNDAÇÃO | C14: =D14/D41 -> 0.038871749 | D14: =PLAN!H18 -> 18035.06 | E14: 1 | F14: =E14*$D14 -> 18035.06
A16: 3 | B16: =PLAN!C21 -> ESTRUTURA | C16: =D16/D41 -> 0.027918574 | D16: =PLAN!H21 -> 12953.19 | E16: 1 | F16: =E16*$D16 -> 12953.19
A18: 4 | B18: =PLAN!C24 -> PISO | C18: =D18/D41 -> 0.029740011 | D18: =PLAN!H24 -> 13798.27 | G18: 0.5 | H18: =G18*$D18 -> 6899.135 | I18: 0.5 | J18: =I18*$D18 -> 6899.135
A20: 5 | B20: =PLAN!C28 -> PAREDE E REVESTIMENTOS | C20: =D20/D41 -> 0.074857515 | D20: =PLAN!H28 -> 34731.13 | G20: 0.7 | H20: =G20*$D20 -> 24311.791 | I20: 0.3 | J20: =I20*$D20 -> 10419.339
A22: 6 | B22: =PLAN!C34 -> COBERTURA | C22: =D22/D41 -> 0.047772908 | D22: =PLAN!H34 -> 22164.87 | G22: 1 | H22: =G22*$D22 -> 22164.87
A24: 7 | B24: =PLAN!C39 -> FORRO | C24: =D24/D41 -> 0.033793695 | D24: =PLAN!H39 -> 15679.03 | G24: 1 | H24: =G24*$D24 -> 15679.03
A26: 8 | B26: =PLAN!C42 -> ESQUADRIAS / FERRAGENS | C26: =D26/D41 -> 0.048672419 | D26: =PLAN!H42 -> 22582.21 | I26: 1 | J26: =I26*$D26 -> 22582.21
A28: 9 | B28: =PLAN!C49 -> INSTALAÇÕES HIDRÁULICAS | C28: =D28/D41 -> 0.058045663 | D28: =PLAN!H49 -> 26931.05 | E28: 0.3 | F28: =E28*$D28 -> 8079.315 | G28: 0.3 | H28: =G28*$D28 -> 8079.315 | I28: 0.4 | J28: =I28*$D28 -> 10772.42
A30: 10 | B30: =PLAN!C62 -> INSTALAÇÕES ELÉTRICAS | C30: =D30/D41 -> 0.034130209 | D30: =PLAN!H62 -> 15835.16 | G30: 0.5 | H30: =G30*$D30 -> 7917.58 | I30: 0.5 | J30: =I30*$D30 -> 7917.58
A32: 11 | B32: =PLAN!C70 -> PINTURA | C32: =D32/D41 -> 0.042617413 | D32: =PLAN!H70 -> 19772.91 | K32: 1 | L32: =K32*$D32 -> 19772.91
B34: PASSARELA DE ACESSO | D34: =SUM(D35:D39) -> 254776.34
A35: 12 | B35: =PLAN!C74 -> CASA DE FORÇA | C35: =D35/D41 -> 0.018570073 | D35: =PLAN!H74 -> 8615.83 | E35: 0.25 | F35: =E35*$D35 -> 2153.9575 | G35: 0.25 | H35: =G35*$D35 -> 2153.9575 | I35: 0.25 | J35: =I35*$D35 -> 2153.9575 | K35: 0.25 | L35: =K35*$D35 -> 2153.9575
A37: 13 | B37: =PLAN!C84 -> PASSARELA DE ACESSO | C37: =D37/D41 -> 0.52331212 | D37: =PLAN!H84 -> 242797.55 | E37: 0.25 | F37: =E37*$D37 -> 60699.388 | G37: 0.25 | H37: =G37*$D37 -> 60699.388 | I37: 0.25 | J37: =I37*$D37 -> 60699.388 | K37: 0.25 | L37: =K37*$D37 -> 60699.388
A39: 14 | B39: =PLAN!C99 -> LIMPEZA E ENTREGA DA OBRA | C39: =D39/D41 -> 0.007248334 | D39: =PLAN!H99 -> 3362.96 | K39: 1 | L39: =K39*$D39 -> 3362.96
A41: SOMA | C41: =SUM(C12:C40) -> 1 | D41: =SUM(D11,D34) -> 463963.17
B43: VALOR ACUMULADO | F43: =0.3*#REF! -> #REF!
A44: TOTAL GERAL SIMPLES | E44: =F44/D41 -> 0.23412389 | F44: =SUM(F12:F40) -> 108624.86 | G44: =H44/D41 -> 0.31878622 | H44: =SUM(H12:H40) -> 147905.07 | I44: =J44/D41 -> 0.2617536 | J44: =SUM(J12:J40) -> 121444.03 | K44: =L44/D41 -> 0.1853363 | L44: =SUM(L12:L40) -> 85989.215
A45: TOTAL GERAL ACUMULADO | E45: =E44 -> 0.23412389 | F45: =F44 -> 108624.86 | G45: =E45+G44 -> 0.55291011 | H45: =F45+H44 -> 256529.93 | I45: =G45+I44 -> 0.8146637 | J45: =H45+J44 -> 377973.96 | K45: =I45+K44 -> 1 | L45: =J45+L44 -> 463963.17

Sheet BDI
B1: PREFEITURA MUNICIPAL DE BREVES
B2: SECRETARIA MUNICIPAL DE EDUCAÇÃO - SEMED
B4: OBJETO: CONSTRUÇÃO DE ALOJAMENTO DOS PROFESSORES E PASSARELA DE ACESSO PARA EMBARQUE E DESEMBARQUE DE ALUNOS DA ESCOLA TALISMÃ
B5: LOCAL: RIO CONTRA MARÉ - DISTRITO CURUMU - ZONA RURAL BREVES PARÁ
B6: REF. DE PREÇOS: SEOP - Março de 2026 - SEM DESONERAÇÃO
B7: BDI = 22,47%
B8: MARÇO/2026
B10: COMPOSIÇÃO ANALÍTICA DA TAXA DE B.D.I.
B11: 1 - ADMINISTRAÇÃO CENTRAL
B12: ITEM | C12: DESCRIÇÃO | E12: TAXA (%)
B13: 1.1 | C13: MÃO DE OBRA | E13: 3.95
B14: 1.2 | C14: TRANSPORTES | E14: 1
B15: 1.3 | C15: MANUTENÇÃO E OPERAÇÃO DO ESCRITÓRIO CENTRAL | E15: 0.5
B16: 1.4 | C16: DESPESAS DIVERSAS | E16: 0.3
D17: TOTAL DA ADMINISTRAÇÃO CENTRAL | E17: 3
B18: 2 - DESPESAS FISCAIS
B19: ITEM | C19: DESCRIÇÃO | E19: TAXA (%)
B20: 2.1 | C20: ISS | E20: 5
B21: 2.2 | C21: CPRB | E21: 0
B22: 2.3 | C22: COFINS | E22: 3
B23: 2.4 | C23: PIS | E23: 0.65
D24: TOTAL DAS DESPESAS FISCAIS | E24: =SUM(E20:E23) -> 8.65
B25: 3 - DIVERSOS
B26: ITEM | C26: DESCRIÇÃO | E26: TAXA (%)
B27: 3.1 | C27: BONIFICAÇÃO DA EMPRESA (LUCRO) | E27: 6.16
B28: 3.2 | C28: DESPESAS FINANCEIRAS | E28: 0.59
B29: 3.3 | C29: SEGURO OBRIGATÓRIO | E29: 0.8
B30: 3.4 | C30: RISCOS E EVENTUAIS | E30: 0.97
D31: TOTAL DIVERSOS | E31: =SUM(E27:E30) -> 8.52
D32: BONIFICAÇÃO E DESPESAS INDIRETAS (B.D.I.) | E32: =ROUND(((1+E17/100+E29/100+E30/100)*(1+E28/100)*(1+(E27/100)))/(1-E24/100)-1,4) -> 0.2247
B34: FÓRMULA DO BDI (APROVADA PELO TCU)
B35: A fórmula para cálculo da taxa a ser acrescida aos custos diretos de um empreendimento, a título de Benefícios e Despesas Indiretas é:
B36: BDI = | C36: ( 1 + X ) x ( 1 + Y ) x ( 1 + Z ) | D36: - 1
C37: ( 1 - I )
B38: onde:
B39: X = Taxa da somatória das despesas indiretas, exceto tributos e despesas financeiras
B40: Y = Taxa representativa das despesas financeiras
B41: Z = Taxa representativa do lucro
B42: I = Taxa representativa da incidência de impostos

Sheet CPU
A5: PREFEITURA MUNICIPAL DE BREVES
A6: SECRETARIA MUNICIPAL DE EDUCAÇÃO - SEMED
A7: OBJETO: CONSTRUÇÃO DE ALOJAMENTO DOS PROFESSORES E PASSARELA DE ACESSO PARA EMBARQUE E DESEMBARQUE DE ALUNOS DA ESCOLA TALISMÃ
A8: LOCAL: RIO CONTRA MARÉ - DISTRITO CURUMU - ZONA RURAL BREVES-PA | I8: BDI: | J8: 0.2247
A9: REF. DE PREÇOS: SEOP - Março de 2026 - SEM DESONERAÇÃO | J9: Prazo de Execução: 120 dias
A11: Valores obtidos com base na PLANILHA PADRÃO - Março 2026 da SECRETARIA DE ESTADO DE OBRAS PÚBLICAS - SEDOP e Cotação local.
A13: COMPOSIÇÃO DE PREÇO UNITÁRIO
A14: Código | B14: Descrição dos Serviços | G14: Und | H14: Coeficiente | I14: Valor Unitário | J14: Valor Parcial
B15: ALOJAMENTO DOS PROFESSORES
A16: SERVIÇOS PRELIMINARES
A17: 010008 | B17: Limpeza do terreno | G17: M2 | H17: 1.14
A18: 280026 | B18: Servente com encargos complementares | G18: H | H18: 0.25 | I18: 26.88 | J18: =ROUND(H18*I18,2) -> 6.72
A19: Total Parcial (com lei sem BDI) | H19: =SUM(J18) -> 6.72
A20: B.D.I. 22,47% | H20: =H19*J8 -> 1.509984
A21: Total Geral | H21: =SUM(H19:H20) -> 8.229984
A22: 011340 | B22: Placa de obra em lona com plotagem de gráfica | G22: M2 | H22: 1.20
A23: 280013 | B23: Carpinteiro com encargos complementares | G23: H | H23: 0.4 | I23: 32.21 | J23: =ROUND(H23*I23,2) -> 12.88
A24: 280026 | B24: Servente com encargos complementares | G24: H | H24: 0.4 | I24: 26.88 | J24: =ROUND(H24*I24,2) -> 10.75
A25: D00281 | B25: Pernamanca 3" x 2" 4 m - madeira branca | G25: Dz | H25: 0.41 | I25: 225.02 | J25: =ROUND(H25*I25,2)-0.01 -> 92.25
A26: D00475 | B26: Lona com plotagem de gráfica | G26: M2 | H26: 1 | I26: 90 | J26: =ROUND(H26*I26,2) -> 90
A27: D00084 | B27: Prego 1 1/2"x13 | G27: KG | H27: 0.1 | I27: 20.53 | J27: =ROUND(H27*I27,2) -> 2.05
A28: Total Parcial (com lei sem BDI) | H28: =SUM(J23:J27) -> 207.93
A29: B.D.I. 22,47% | H29: =H28*J$8 -> 46.721871
A30: Total Geral | H30: =SUM(H28:H29) -> 254.65187
A31: 010009 | B31: Locação da obra a trena | G31: M2 | H31: 1.16
A32: 280013 | B32: Carpinteiro com encargos complementares | G32: H | H32: 0.07 | I32: 32.21 | J32: =ROUND(H32*I32,2) -> 2.25
A33: 280026 | B33: Servente com encargos complementares | G33: H | H33: 0.05 | I33: 26.88 | J33: =ROUND(H33*I33,2) -> 1.34
A34: D00281 | B34: Pernamanca 3" x 2" 4 m - madeira branca | G34: Dz | H34: 0.01 | I34: 225.02 | J34: =ROUND(H34*I34,2) -> 2.25
A35: D00238 | B35: Linha de nylon no. 80 | G35: Rl | H35: 0.01 | I35: 16.95 | J35: =ROUND(H35*I35,2)-0.01 -> 0.16
A36: D00016 | B36: Tábua de madeira branca 4m | G36: Dz | H36: 0.01 | I36: 150 | J36: =ROUND(H36*I36,2) -> 1.5
A37: D00043 | B37: Arame recozido No. 18 | G37: KG | H37: 0.002 | I37: 12.25 | J37: =ROUND(H37*I37,2) -> 0.02
A38: D00081 | B38: Prego 2 1/2"x10 | G38: KG | H38: 0.003 | I38: 20.6 | J38: =ROUND(H38*I38,2) -> 0.06
A39: Total Parcial (com lei sem BDI) | H39: =SUM(J32:J38) -> 7.58
A40: B.D.I. 22,47% | H40: =H39*J$8 -> 1.703226
A41: Total Geral | H41: =SUM(H39:H40) -> 9.283226
A42: 010006 | B42: Andaime de madeira | G42: M2 | H42: 1.3
A43: 280013 | B43: Carpinteiro com encargos complementares | G43: H | H43: 0.15 | I43: 32.21 | J43: =ROUND(H43*I43,2) -> 4.83
A44: 280026 | B44: Servente com encargos complementares | G44: H | H44: 0.15 | I44: 26.88 | J44: =ROUND(H44*I44,2) -> 4.03
A45: D00281 | B45: Pernamanca 3" x 2" 4 m - madeira branca | G45: Dz | H45: 0.048 | I45: 225.02 | J45: =ROUND(H45*I45,2) -> 10.8
A46: D00015 | B46: Tábua de madeira forte 4m | G46: Dz | H46: 0.028 | I46: 270.02 | J46: =ROUND(H46*I46,2) -> 7.56
...
