Workbook
Name _I: "$#REF!.$J$65:$IK$855"
Name _I_1: "$#REF!.$J$65:$IK$853"
Name _I_1_1: "$#REF!.$J$71:$IK$862"
Name _I_1_1_1: "$#REF!.$J$65:$IK$853"
Name _I_1_1_1_1: "$#REF!.$J$65:$IK$853"
Name _I_1_1_1_1_1: "$#REF!.$J$69:$IK$860"
Name _I_1_1_1_1_1_1: "$#REF!.$J$39:$IK$824"
Name _I_1_1_1_1_1_1_1: "$#REF!.$J$57:$IK$831"
Name _I_1_1_1_29: "$#REF!.$J$39:$IK$824"
Name _I_1_1_10: "$#REF!.$N$76:$IO$881"
Name _I_1_1_11: "$#REF!.$N$76:$IO$881"
Name _I_1_1_12: "$#REF!.$N$76:$IO$881"
Name _I_1_1_19: "$#REF!.$K$70:$IL$861"
Name _I_1_1_19_29: "$#REF!.$K$58:$IL$832"
Name _I_1_1_29: "$#REF!.$J$59:$IK$833"
Name _I_1_1_3: "$#REF!.$N$76:$IO$881"
Name _I_1_1_3_1: "$#REF!.$N$76:$IO$881"
Name _I_1_1_4: "$#REF!.$N$76:$IO$881"
Name _I_1_1_4_1: "$#REF!.$N$76:$IO$881"
Name _I_1_1_5: "$#REF!.$N$76:$IO$881"
Name _I_1_1_5_1: "$#REF!.$N$76:$IO$881"
Name _I_1_1_6: "$#REF!.$N$76:$IO$881"
Name _I_1_1_6_1: "$#REF!.$N$76:$IO$881"
Name _I_1_1_7: "$#REF!.$N$76:$IO$881"
Name _I_1_1_7_1: "$#REF!.$N$76:$IO$881"
Name _I_1_1_9: "$#REF!.$N$76:$IO$881"
Name _I_1_10: "$#REF!.$N$69:$IO$874"
Name _I_1_11: "$#REF!.$N$69:$IO$874"
Name _I_1_12: "$#REF!.$N$69:$IO$874"
Name _I_1_19: "$#REF!.$K$65:$IL$854"
Name _I_1_19_29: "$#REF!.$K$39:$IL$825"
Name _I_1_29: "$#REF!.$J$39:$IK$824"
Name _I_1_3: "$#REF!.$N$69:$IO$874"
Name _I_1_3_1: "$#REF!.$N$69:$IO$874"
Name _I_1_4: "$#REF!.$N$69:$IO$874"
Name _I_1_4_1: "$#REF!.$N$69:$IO$874"
Name _I_1_5: "$#REF!.$N$69:$IO$874"
Name _I_1_5_1: "$#REF!.$N$69:$IO$874"
Name _I_1_6: "$#REF!.$N$69:$IO$874"
Name _I_1_6_1: "$#REF!.$N$69:$IO$874"
Name _I_1_7: "$#REF!.$N$69:$IO$874"
Name _I_1_7_1: "$#REF!.$N$69:$IO$874"
Name _I_1_9: "$#REF!.$N$69:$IO$874"
Name _I_10: "$#REF!.$J$66:$IK$857"
Name _I_11: "$#REF!.$J$88:$IK$886"
Name _I_12: "$#REF!.$J$66:$IK$857"
Name _I_19: "$#REF!.$K$65:$IL$854"
Name _I_19_29: "$#REF!.$K$39:$IL$825"
Name _I_29: "$#REF!.$J$39:$IK$826"
Name _I_3: "$#REF!.$N$69:$IO$874"
Name _I_3_1: "$#REF!.$N$69:$IO$874"
Name _I_4: "$#REF!.$J$88:$IK$886"
Name _I_4_1: "$#REF!.$J$66:$IK$857"
Name _I_5: "$#REF!.$J$88:$IK$886"
Name _I_5_1: "$#REF!.$J$66:$IK$857"
Name _I_6: "$#REF!.$J$88:$IK$886"
Name _I_6_1: "$#REF!.$J$66:$IK$857"
Name _I_7: "$#REF!.$J$88:$IK$886"
Name _I_7_1: "$#REF!.$J$66:$IK$857"
Name _I_9: "$#REF!.$J$88:$IK$886"

Sheet ORÇAMENTO
C6: ESTADO DO PARÁ
C7: MUNICÍPIO DE SALVATERRA
C8: PREFEITURA MUNICIPAL DE SALVATERRA
C9: OBRA: | D9: SERVIÇOS DE PAVIMENTAÇÃO ASFÁLTICA DE 3,0 KM (TRÊS QUILÔMETROS) DE VIAS, LOCALIZADAS NA ZONA URBANA DO MUNICÍPIO DE SALVATERRA.
C10: REGIONAL: | D10: ='[2]DADOS DA OBRA'!C6 -> MARAJÓ
C11: PLANILHA ORÇAMENTÁRIA
C12: BDI: | D12: =B.D.I!J25 -> 0.22 | H12: BASE: | I12: SINAPI SET/2025
I13: SICRO JUL/2025
I14: SEDOP OUT/2025
A15: Fonte | B15: Código | C15: ITEM | D15: DESCRIÇÃO | E15: UNID. | F15: QUANTIDADE | G15: PREÇO UNIT. (SEM BDI) | H15: PREÇO UNIT. (COM BDI) | I15: PREÇO TOTAL (R$)
C16: 1 | D16: ADMINISTRAÇÃO LOCAL | I16: =SUM(I17) -> 124039.96
A17: CPU | B17: 001 | C17: 1.1 | D17: ADMINISTRAÇÃO LOCAL DA OBRA PARA REGIONAL | E17: UND | F17: 1 | G17: ='1.ADM. LOCAL'!I15 -> 101672.1 | H17: =TRUNC((G17*F17),2)*1.22 -> 124039.96 | I17: =TRUNC((H17*F17),2) -> 124039.96
C18: 2 | D18: SERVIÇOS PRELIMINARES | I18: =SUM(I19:I21) -> 32169.18
A19: SEDOP | B19: 011340 | C19: 2.1 | D19: PLACA DE OBRA EM LONA COM PLOTAGEM DE GRÁFICA | E19: M2 | F19: ='2.SER.PREL.'!J30 -> 84 | G19: 188.16 | H19: 229.55 | I19: =TRUNC((H19*F19),2) -> 19282.2
A20: CPU | B20: 002 | C20: 2.2 | D20: LOCAÇÃO DE CONTAINER PARA ESCRITÓRIO / VESTIÁRIOS E ALMOXARIFADO | E20: MÊS | F20: ='2.SER.PREL.'!G38 -> 3 | G20: 2471.86 | H20: 3015.66 | I20: =TRUNC((H20*F20),2) -> 9046.98
A21: SINAPI | B21: 99064 | C21: 2.3 | D21: LOCAÇÃO DE PAVIMENTAÇÃO. AF_10/2018 | E21: M | F21: ='2.SER.PREL.'!D50 -> 3000 | G21: 1.05 | H21: 1.28 | I21: =TRUNC((H21*F21),2) -> 3840
C22: 3 | D22: MOBILIZAÇÃO E DESMOBILIZAÇÃO | I22: =SUM(I23) -> 71151.82
A23: CPU | B23: 003 | C23: 3.1 | D23: MOBILIZAÇÃO E DESMOBILIZAÇÃO DA OBRA | E23: UND | F23: 1 | G23: ='CPU.MOBILIZAÇÃO'!L83 -> 58321.16 | H23: 71151.82 | I23: =TRUNC((H23*F23),2) -> 71151.82
C24: 4 | D24: TERRAPLENAGEM (PREPARAÇÃO DA PLATAFORMA) | I24: =SUM(I25:I30) -> 465708
A25: SINAPI | B25: 101126 | C25: 4.1 | D25: ESCAVAÇÃO HORIZONTAL, INCLUINDO CARGA E DESCARGA EM SOLO DE 1A CATEGORIA COM TRATOR DE ESTEIRAS (170HP/LÂMINA: 5,20M3). AF_07/2020 (LIMPEZA CAMADA INSERVIVEL) | E25: M3 | F25: ='4.MEMÓRIA'!C16 -> 1800 | G25: 13.89 | H25: 16.94 | I25: =TRUNC((H25*F25),2) -> 30492
A26: SINAPI | B26: 95875 | C26: 4.2 | D26: TRANSPORTE COM CAMINHÃO BASCULANTE DE 10 M³, EM VIA URBANA PAVIMENTADA, DMT ATÉ 30 KM (UNIDADE: M3XKM). AF_07/2020 | E26: M3XKM | F26: ='4.MEMÓRIA'!C24 -> 27000 | G26: 2.33 | H26: 2.84 | I26: =TRUNC((H26*F26),2) -> 76680
A27: SINAPI | B27: 98525 | C27: 4.3 | D27: LIMPEZA MECANIZADA DE CAMADA VEGETAL, VEGETAÇÃO E PEQUENAS ÁRVORES (DIÂMETRO DE TRONCO MENOR QUE 0,20 M), COM TRATOR DE ESTEIRAS.AF_05/2018 (LIMPEZA DA JAZIDA) | E27: M2 | F27: ='4.MEMÓRIA'!C33 -> 1200 | G27: 0.68 | H27: 0.82 | I27: =TRUNC((H27*F27),2) -> 984
A28: SINAPI | B28: 101126 | C28: 4.4 | D28: ESCAVAÇÃO HORIZONTAL, INCLUINDO CARGA E DESCARGA EM SOLO DE 1A CATEGORIA COM TRATOR DE ESTEIRAS (170HP/LÂMINA: 5,20M3). AF_07/2020 (MATERIAL DA JAZIDA) | E28: M3 | F28: ='4.MEMÓRIA'!C39 -> 3600 | G28: 13.89 | H28: 16.94 | I28: =TRUNC((H28*F28),2) -> 60984
A29: SINAPI | B29: 95875 | C29: 4.5 | D29: TRANSPORTE COM CAMINHÃO BASCULANTE DE 10 M³, EM VIA URBANA PAVIMENTADA, DMT ATÉ 30 KM (UNIDADE: M3XKM). AF_07/2020 | E29: M3XKM | F29: ='4.MEMÓRIA'!C46 -> 54000 | G29: 2.33 | H29: 2.84 | I29: =TRUNC((H29*F29),2) -> 153360
A30: SINAPI | B30: 105558 | C30: 4.6 | D30: EXECUÇÃO E COMPACTAÇÃO DE CAMADA FINAL DE ATERRO (100% DE ENERGIA DO PROCTOR NORMAL) COM SOLO PREDOMINANTEMENTE ARGILOSO, EM CAMADAS COM ESPESSURA DE 15 CM - EXCLUSIVE ESCAVAÇÃO, CARGA E TRANSPORTE. AF_09/2024 | E30: M2 | F30: ='4.MEMÓRIA'!C53 -> 3600 | G30: 32.61 | H30: 39.78 | I30: =TRUNC((H30*F30),2) -> 143208
C31: 5 | D31: PAVIMENTAÇÃO | I31: =I32+I36+I40 -> 3413975.7
C32: 5.1 | D32: REGULARIZAÇÃO DA SUB-BASE | I32: =SUM(I33:I35) -> 406194.3
A33: SINAPI | B33: 101126 | C33: 5.1.1 | D33: ESCAVAÇÃO HORIZONTAL, INCLUINDO CARGA E DESCARGA EM SOLO DE 1A CATEGORIA COM TRATOR DE ESTEIRAS (170HP/LÂMINA: 5,20M3). AF_07/2020 (MATERIAL DA JAZIDA) | E33: M3 | F33: ='4.MEMÓRIA'!C65 -> 3555 | G33: 13.89 | H33: 16.94 | I33: =TRUNC((H33*F33),2) -> 60221.7
A34: SINAPI | B34: 95875 | C34: 5.1.2 | D34: TRANSPORTE COM CAMINHÃO BASCULANTE DE 10 M³, EM VIA URBANA PAVIMENTADA, DMT ATÉ 30 KM (UNIDADE: M3XKM). AF_07/2020 | E34: M3XKM | F34: ='4.MEMÓRIA'!C72 -> 53325 | G34: 2.33 | H34: 2.84 | I34: =TRUNC((H34*F34),2) -> 151443
A35: SINAPI | B35: 101768 | C35: 5.1.3 | D35: EXECUÇÃO E COMPACTAÇÃO DE BASE E OU SUB BASE PARA PAVIMENTAÇÃO DE SOLOS DE COMPORTAMENTO LATERÍTICO (ARENOSO) - EXCLUSIVE ESCAVAÇÃO, CARGA E TRANSPORTE | E35: M3 | F35: ='4.MEMÓRIA'!C79 -> 3555 | G35: 44.85 | H35: 54.72 | I35: =TRUNC((H35*F35),2) -> 194529.6
C36: 5.2 | D36: REGULARIZAÇÃO DA BASE | I36: =SUM(I37:I39) -> 406194.3
A37: SINAPI | B37: 101126 | C37: 5.2.1 | D37: ESCAVAÇÃO HORIZONTAL, INCLUINDO CARGA E DESCARGA EM SOLO DE 1A CATEGORIA COM TRATOR DE ESTEIRAS (170HP/LÂMINA: 5,20M3). AF_07/2020 (MATERIAL DA JAZIDA) | E37: M3 | F37: ='4.MEMÓRIA'!C88 -> 3555 | G37: 13.89 | H37: 16.94 | I37: =TRUNC((H37*F37),2) -> 60221.7
A38: SINAPI | B38: 95875 | C38: 5.2.2 | D38: TRANSPORTE COM CAMINHÃO BASCULANTE DE 10 M³, EM VIA URBANA PAVIMENTADA, DMT ATÉ 30 KM (UNIDADE: M3XKM). AF_07/2020 | E38: M3XKM | F38: ='4.MEMÓRIA'!C95 -> 53325 | G38: 2.33 | H38: 2.84 | I38: =TRUNC((H38*F38),2) -> 151443
A39: SINAPI | B39: 101768 | C39: 5.2.3 | D39: EXECUÇÃO E COMPACTAÇÃO DE BASE E OU SUB BASE PARA PAVIMENTAÇÃO DE SOLOS DE COMPORTAMENTO LATERÍTICO (ARENOSO) - EXCLUSIVE ESCAVAÇÃO, CARGA E TRANSPORTE | E39: M3 | F39: ='4.MEMÓRIA'!C102 -> 3555 | G39: 44.85 | H39: 54.72 | I39: =TRUNC((H39*F39),2) -> 194529.6
C40: 5.3 | D40: REVESTIMENTO ASFÁLTICO | I40: =SUM(I41:I44) -> 2601587.1
A41: SINAPI | B41: 102470 | C41: 5.3.1 | D41: EXECUÇÃO DE IMPRIMAÇÃO COM ASFALTO DILUÍDO CM-30, PARA OBRAS DE CONSTRUÇÃO DE PAVIMENTOS. AF_09/2024 | E41: M2 | F41: ='4.MEMÓRIA'!F111 -> 21000 | G41: ='5. CPUs'!J212 -> 7.53 | H41: 9.19 | I41: =TRUNC((H41*F41),2) -> 192990
A42: SINAPI | B42: 104375 | C42: 5.3.2 | D42: EXECUÇÃO DE PINTURA DE LIGAÇÃO COM EMULSÃO ASFÁLTICA RR-2C, PARA OBRAS DE CONSTRUÇÃO DE PAVIMENTOS. AF_09/2024 | E42: M2 | F42: ='4.MEMÓRIA'!F118 -> 21000 | G42: ='5. CPUs'!J225 -> 4.18 | H42: 5.1 | I42: =TRUNC((H42*F42),2) -> 107100
A43: SINAPI | B43: 95878 | C43: 5.3.3 | D43: TRANSPORTE COM CAMINHÃO BASCULANTE DE 10 M³, EM VIA URBANA PAVIMENTADA, DMT ATÉ 30 KM (UNIDADE: M3XKM). AF_07/2020 | E43: M3XKM | F43: ='4.MEMÓRIA'!G127 -> 11340 | G43: 2.33 | H43: 2.71 | I43: =TRUNC((H43*F43),2) -> 30731.4
A44: SINAPI | B44: 95995 | C44: 5.3.4 | D44: CONSTRUÇÃO DE PAVIMENTO COM APLICAÇÃO DE CONCRETO BETUMINOSO USINADO A QUENTE (CBUQ), CAMADA DE ROLAMENTO, COM ESPESSURA DE 3,0 CM - EXCLUSIVE TRANSPORTE. AF_11/2020 | E44: M3 | F44: ='4.MEMÓRIA'!E134 -> 630 | G44: ='5. CPUs'!I245 -> 2954.42 | H44: 3604.39 | I44: =TRUNC((H44*F44),2) -> 2270765.7
C45: 6 | D45: SINALIZAÇÃO HORIZONTAL | I45: =SUM(I46) -> 26805
...

Sheet DADOS DA OBRA
A2: ESTADO DO PARÁ
A3: MUNICÍPIO DE SALVATERRA
A4: PREFEITURA MUNICIPAL DE SALVATERRA
A5: OBRA: | C5: SERVIÇOS DE PAVIMENTAÇÃO ASFÁLTICA DE 3,0 KM (TRÊS QUILÔMETROS) DE VIAS, LOCALIZADAS NA ZONA URBANA DO MUNICÍPIO DE SALVATERRA.
A6: REGIONAL: | C6: MARAJÓ
B8: DADOS DE ENTRADA
B10: DIMENSÕES
B11: MUNICÍPIO | E11: COMPRIMENTO | G11: LARGURA | H11: ÁREA
E12: m | F12: km | G12: m | H12: m²
B13: SALVATERRA | E13: 3000 | F13: =E13/1000 -> 3 | G13: 7 | H13: =ROUND(E13*G13,2) -> 21000 | N13: AFUÁ | P13: AFUÁ
N14: ANAJÁS | P14: ANAJÁS
N15: BAGRE | P15: BAGRE
N16: BREVES | P16: BREVES
N17: CACHOEIRA DO ARARI | P17: CACHOEIRA DO ARARI
N18: CHAVES | P18: CHAVES
L19: =ORÇAMENTO!I50 -> 4679489.7 | N19: CURRALINHO | P19: CURRALINHO
N20: GURUPÁ | P20: GURUPÁ
N21: MELGAÇO | P21: MELGAÇO
N22: MUANÁ | P22: MUANÁ
N23: PONTA DE PEDRAS | P23: PONTA DE PEDRAS
N24: PORTEL | P24: PORTEL
N25: SALVATERRA | P25: SALVATERRA
N26: SANTA CRUZ DO ARARI | P26: SANTA CRUZ DO ARARI
N27: SÃO SEBASTIÃO DA BOA VISTA | P27: SÃO SEBASTIÃO DA BOA VISTA
N28: SOURE | P28: SOURE
E30: =ROUND(SUM(E13:E22),2) -> 3000 | F30: =ROUND(SUM(F13:F22),2) -> 3 | G30: 7 | H30: =ROUND(SUM(H13:H22),2) -> 21000
B33: Distância Média de Transporte (DMT)
B34: VIAS | E34: Jazida Aterro
E35: km
B36: JAZIDA | E36: 12
B37: BOTA FORA | E37: 12
B38: USINA DE ASFALTO | E38: 18
A42: LORENA FARIAS GOMES Engenheira Civil CREA-PA 1519048920 Portaria 068/2025 GPMS

Sheet 2.SER.PREL.
A2: ESTADO DO PARÁ
A3: MUNICÍPIO DE SALVATERRA
A4: PREFEITURA MUNICIPAL DE SALVATERRA
A5: OBRA: | C5: SERVIÇOS DE PAVIMENTAÇÃO ASFÁLTICA DE 3,0 KM (TRÊS QUILÔMETROS) DE VIAS, LOCALIZADAS NA ZONA URBANA DO MUNICÍPIO DE SALVATERRA.
A6: REGIONAL: | C6: ='DADOS DA OBRA'!C6:J6 -> MARAJÓ
B8: =ORÇAMENTO!C18 -> 2 | C8: =ORÇAMENTO!D18 -> SERVIÇOS PRELIMINARES
B10: =ORÇAMENTO!C19 -> 2.1 | C10: =ORÇAMENTO!D19 -> PLACA DE OBRA EM LONA COM PLOTAGEM DE GRÁFICA
C12: MUNICÍPIO | E12: VIAS
C13: SALVATERRA | E13: ='[2]DADOS DA OBRA'!B13 -> ESTRADA DO BACABAL
E14: ='[2]DADOS DA OBRA'!B14 -> TRAVESSA DÉCIMA QUARTA
E15: ='[2]DADOS DA OBRA'!B15 -> RUA PRIMEIRA DO CAJÚ
E16: ='[2]DADOS DA OBRA'!B16 -> RUA GEORGETH SALLES COUTO
E17: ='[2]DADOS DA OBRA'!B17 -> RUA FREI ROMÃO
E18: TRAV. PROF. JOÃO MARCELINO
E19: RUA DÉCIMA PRIMEIRA
E20: RUA 10 DE MARÇO
E21: RUA SEXTA
E22: RUA CARLOS CARNEIRO
C23: TOTAL | E23: 10
B25: Comp. | D25: Lagura | F25: Vias | H25: Quantidade
B26: 4 | C26: x | D26: 6 | E26: x | F26: 1 | G26: x | H26: 1 | I26: = | J26: =(B26*D26)*(F26*H26) -> 24
B27: 3 | C27: x | D27: 2 | E27: x | F27: 10 | G27: x | H27: 1 | I27: = | J27: =(B27*D27)*(F27*H27) -> 60
B30: TOTAL = | J30: =SUM(J26:J27) -> 84 | K30: =ORÇAMENTO!E19 -> M2
B32: =ORÇAMENTO!C20 -> 2.2 | C32: =ORÇAMENTO!D20 -> LOCAÇÃO DE CONTAINER PARA ESCRITÓRIO / VESTIÁRIOS E ALMOXARIFADO
C34: QUANTIDADE DE CONTAINER | G34: QUANTIDADE DE MÊS
C36: 1 | F36: X | G36: 3
C38: TOTAL= | G38: =C36*G36 -> 3 | I38: =ORÇAMENTO!E20 -> MÊS
B40: =ORÇAMENTO!C21 -> 2.3 | C40: =ORÇAMENTO!D21 -> LOCAÇÃO DE PAVIMENTAÇÃO. AF_10/2018
C42: MUNICÍPIO | E42: Comprimento | G42: Largura | H42: Área | I42: adicional | J42: Área 2
E43: m | F43: km | G43: m | H43: m² | I43: m | J43: m²
C44: ='2.SER.PREL.'!C13 -> SALVATERRA | E44: ='DADOS DA OBRA'!E30 -> 3000 | F44: =E44/1000 -> 3 | G44: ='DADOS DA OBRA'!G30 -> 7 | H44: =ROUND(E44*G44,2) -> 21000 | I44: 1 | J44: =E44*(G44+I44) -> 24000
C48: TOTAL | E48: ='DADOS DA OBRA'!E30 -> 3000 | F48: =ROUND(SUM(F44:F46),2) -> 3 | H48: =ROUND(SUM(H44:H47),2) -> 21000 | J48: =ROUND(SUM(J44:K47),2) -> 24000
C50: TOTAL= | D50: =E44 -> 3000 | E50: M
F54: LORENA FARIAS GOMES Engenheira Civil CREA-PA 1519048920 Portaria 068/2025 GPMS

Sheet 4.MEMÓRIA
A2: ESTADO DO PARÁ
A3: MUNICÍPIO DE SALVATERRA
A4: PREFEITURA MUNICIPAL DE SALVATERRA
A5: OBRA: | B5: SERVIÇOS DE PAVIMENTAÇÃO ASFÁLTICA DE 3,0 KM (TRÊS QUILÔMETROS) DE VIAS, LOCALIZADAS NA ZONA URBANA DO MUNICÍPIO DE SALVATERRA.
A6: REGIONAL: | B6: ='DADOS DA OBRA'!C6 -> MARAJÓ
A7: MEMÓRIA DE CÁLCULO
A9: =ORÇAMENTO!C24 -> 4 | B9: =ORÇAMENTO!D24 -> TERRAPLENAGEM (PREPARAÇÃO DA PLATAFORMA)
A11: =ORÇAMENTO!C25 -> 4.1 | B11: =ORÇAMENTO!D25 -> ESCAVAÇÃO HORIZONTAL, INCLUINDO CARGA E DESCARGA EM SOLO DE 1A CATEGORIA COM TRATOR DE ESTEIRAS (170HP/LÂMINA: 5,20M3). AF_07/2020 (LIMPEZA CAMADA INSERVIVEL)
B13: VIAS | E13: Área | G13: Espessura | I13: Volume
B14: ='[2]2.SER.PREL.'!$C$13 -> VIAS DO MUNICÍPIO | E14: ='2.SER.PREL.'!J48 -> 24000 | F14: x | G14: 0.075 | H14: = | I14: =ROUND((E14*G14),2) -> 1800
B16: TOTAL= | C16: =I14 -> 1800 | D16: M3
A19: =ORÇAMENTO!C26 -> 4.2 | B19: =ORÇAMENTO!D26 -> TRANSPORTE COM CAMINHÃO BASCULANTE DE 10 M³, EM VIA URBANA PAVIMENTADA, DMT ATÉ 30 KM (UNIDADE: M3XKM). AF_07/2020
B21: VIAS | E21: Volume | G21: DMT | I21: Empolamento (25%) | K21: M3XKM
B22: ='[2]2.SER.PREL.'!$C$13 -> VIAS DO MUNICÍPIO | E22: =I14 -> 1800 | F22: x | G22: 12 | H22: x | I22: 1.25 | J22: = | K22: =ROUND((E22*G22*I22),2) -> 27000
B24: TOTAL= | C24: =K22 -> 27000 | D24: M3XKM
A27: =ORÇAMENTO!C27 -> 4.3 | B27: =ORÇAMENTO!D27 -> LIMPEZA MECANIZADA DE CAMADA VEGETAL, VEGETAÇÃO E PEQUENAS ÁRVORES (DIÂMETRO DE TRONCO MENOR QUE 0,20 M), COM TRATOR DE ESTEIRAS.AF_05/2018 (LIMPEZA DA JAZIDA)
B30: VIAS | C30: Volume | E30: Prof. de Escavação | G30: Área | Q30: 7
B31: VIAS DO MUNICÍPIO | C31: =I37 -> 3600 | D31: / | E31: 3 | F31: = | G31: =ROUND(C31/E31,2) -> 1200 | Q31: 0.9
Q32: =SUM(Q30:Q31) -> 7.9
B33: TOTAL= | C33: =G31 -> 1200 | D33: M2
A35: =ORÇAMENTO!C28 -> 4.4 | B35: =ORÇAMENTO!D28 -> ESCAVAÇÃO HORIZONTAL, INCLUINDO CARGA E DESCARGA EM SOLO DE 1A CATEGORIA COM TRATOR DE ESTEIRAS (170HP/LÂMINA: 5,20M3). AF_07/2020 (MATERIAL DA JAZIDA)
B36: VIAS | E36: Área | G36: Espessura | I36: Volume
B37: ='[2]2.SER.PREL.'!$C$13 -> VIAS DO MUNICÍPIO | E37: =E14 -> 24000 | F37: x | G37: 0.15 | H37: = | I37: =ROUND((E37*G37),2) -> 3600
B39: TOTAL= | C39: =I37 -> 3600 | D39: M3
A41: =ORÇAMENTO!C29 -> 4.5 | B41: =ORÇAMENTO!D29 -> TRANSPORTE COM CAMINHÃO BASCULANTE DE 10 M³, EM VIA URBANA PAVIMENTADA, DMT ATÉ 30 KM (UNIDADE: M3XKM). AF_07/2020
B43: VIAS | E43: Volume | G43: DMT | I43: Empolamento (25%) | K43: M3XKM
B44: ='[2]2.SER.PREL.'!$C$13 -> VIAS DO MUNICÍPIO | E44: =C39 -> 3600 | F44: x | G44: 12 | H44: x | I44: 1.25 | J44: = | K44: =ROUND((E44*G44*I44),2) -> 54000
B46: TOTAL= | C46: =K44 -> 54000 | D46: M3XKM
A48: =ORÇAMENTO!C30 -> 4.6 | B48: =ORÇAMENTO!D30 -> EXECUÇÃO E COMPACTAÇÃO DE CAMADA FINAL DE ATERRO (100% DE ENERGIA DO PROCTOR NORMAL) COM SOLO PREDOMINANTEMENTE ARGILOSO, EM CAMADAS COM ESPESSURA DE 15 CM - EXCLUSIVE ESCAVAÇÃO, CARGA E TRANSPORTE. AF_09/2024
B50: VIAS | C50: Extensão | E50: Largura | G50: Espessura | I50: Volume
B51: VIAS DO MUNICÍPIO | C51: ='DADOS DA OBRA'!$E$30 -> 3000 | D51: x | E51: 8 | F51: x | G51: 0.15 | H51: = | I51: =ROUND((C51*E51*G51),2) -> 3600
B53: TOTAL= | C53: =I51 -> 3600 | D53: M3
A56: =ORÇAMENTO!C31 -> 5 | B56: =ORÇAMENTO!D31 -> PAVIMENTAÇÃO
A58: =ORÇAMENTO!C32 -> 5.1 | B58: =ORÇAMENTO!D32 -> REGULARIZAÇÃO DA SUB-BASE
A60: =ORÇAMENTO!C33 -> 5.1.1 | B60: =ORÇAMENTO!D33 -> ESCAVAÇÃO HORIZONTAL, INCLUINDO CARGA E DESCARGA EM SOLO DE 1A CATEGORIA COM TRATOR DE ESTEIRAS (170HP/LÂMINA: 5,20M3). AF_07/2020 (MATERIAL DA JAZIDA)
B62: VIAS | E62: Área | G62: Espessura | I62: Volume
B63: ='[2]2.SER.PREL.'!$C$13 -> VIAS DO MUNICÍPIO | E63: =('2.SER.PREL.'!E44*('2.SER.PREL.'!G44+'2.SER.PREL.'!I44-0.1)) -> 23700 | F63: x | G63: 0.15 | H63: = | I63: =ROUND((E63*G63),2) -> 3555 | N63: 229100 | P63: =N63/29000 -> 7.9
B65: TOTAL= | C65: =I63 -> 3555 | D65: M3
A67: =ORÇAMENTO!C34 -> 5.1.2 | B67: =ORÇAMENTO!D34 -> TRANSPORTE COM CAMINHÃO BASCULANTE DE 10 M³, EM VIA URBANA PAVIMENTADA, DMT ATÉ 30 KM (UNIDADE: M3XKM). AF_07/2020
B69: VIAS | E69: Volume | G69: DMT | I69: Empolamento (25%) | K69: M3XKM
...

Sheet B.D.I
A2: ESTADO DO PARÁ
A3: MUNICÍPIO DE SALVATERRA
A4: PREFEITURA MUNICIPAL DE SALVATERRA
A5: OBRA: | C5: SERVIÇOS DE PAVIMENTAÇÃO ASFÁLTICA DE 3,0 KM (TRÊS QUILÔMETROS) DE VIAS, LOCALIZADAS NA ZONA URBANA DO MUNICÍPIO DE SALVATERRA.
A6: REGIONAL: | C6: ='DADOS DA OBRA'!C6 -> MARAJÓ
B8: BDI - SEM DESONERAÇÃO
B10: Item | C10: PARCELA DO BDI
B11: 1 | C11: AC = Taxa de Administração Central | J11: 0.0401
B12: 2 | C12: S e G = Taxas de Seguro e Garantia | J12: 0.004
B13: 3 | C13: R = Taxa de Risco | J13: 0.0056
B14: 4 | C14: DF = Taxa de Despesas Financeiras | J14: 0.0111
B15: 5 | C15: L = Taxa de Lucro / Remuneração | J15: 0.073
B16: 6 | C16: I = Taxa de incidência de Impostos (PIS, COFINS e ISS) | J16: =J23 -> 0.0665
B18: Item | C18: Impostos
B19: 6.1 | C19: ISS | J19: 0.03
B20: 6.2 | C20: PIS | J20: 0.0065
B21: 6.3 | C21: COFINS | J21: 0.03
B22: 6.4 | C22: CPRB | J22: 0 | U22: 6.4 | V22: CPRB | W22: 0.045
H23: Total Impostos = | J23: =SUM(J19:J22) -> 0.0665
B24: Fórmula para o cálculo de BDI
J25: =ROUND((((1+J11+J12+J13)*(1+J14)*(1+J15))/(1-J16))-1,4) -> 0.22
B27: Notas:
B28: 1) Alíquota de ISS é determinada pela “Relação de Serviços” do município onde se prestará o serviço conforme art. 1º e art.8º da Lei Complementar nº116/2001.
B29: 2) Alíquota máxima de PIS é de até 1,65% conforme Lei nº10.637/02 em consonância com o Regime de Tributação da Empresa
B30: 3) Alíquota máxima de COFINS é de 3% conforme inciso XX do art. 10 da Lei nº10.833/03.
B31: 4) Os percentuais dos itens que compõem analiticamente o BDI são so limites referenciais máximos adotados pela Administração consoante com o art.40 inciso X da Lei 8.666/93.
B32: 5) Antes da aplicação do BDI (Teto Empresa de Lucros Real ) os insumos constantes do art.3º da Lei nº10.637/02 deverão sofrer redução de 1,65%, após 31/12/2008, reduzir também do insumo o percentual de 7,6% da COFINS conforme art. 3º da Lei nº10.833/03 combinado com o inciso XX do art.10 da mesma Lei.
B33: BDI CALCULADO DE ACORDO COM AS RECOMENDAÇÕES DO TRIBUNAL DE CONTAS DA UNIÃO FONTE: - Acórdão Nº 2622/2013-P.
B35: LORENA FARIAS GOMES Engenheira Civil CREA-PA 1519048920 Portaria 068/2025 GPMS
P42: 24.23
P43: 4.5
P44: =P43+P42 -> 28.73

Sheet Enc. Sociais
A2: ESTADO DO PARÁ
A3: MUNICÍPIO DE SALVATERRA
A4: PREFEITURA MUNICIPAL DE SALVATERRA
A5: OBRA: | B5: SERVIÇOS DE PAVIMENTAÇÃO ASFÁLTICA DE 3,0 KM (TRÊS QUILÔMETROS) DE VIAS, LOCALIZADAS NA ZONA URBANA DO MUNICÍPIO DE SALVATERRA.
A6: REGIONAL: | B6: ='DADOS DA OBRA'!C6 -> MARAJÓ
A7: ENCARGOS SOCIAIS E TRABALHISTAS
A8: ENCARGOS SOCIAIS | C8: HORISTA | D8: MENSALISTA
A9: GRUPO A | C9: % | D9: %
A10: A1 | B10: INSS | C10: 0.2 | D10: 0.2
A11: A2 | B11: SESI | C11: 0.015 | D11: 0.015
A12: A3 | B12: SENAI | C12: 0.01 | D12: 0.01
A13: A4 | B13: INCRA | C13: 0.002 | D13: 0.002
A14: A5 | B14: SEBRAE | C14: 0.006 | D14: 0.006
A15: A6 | B15: Salário-educação | C15: 0.025 | D15: 0.025
A16: A7 | B16: Seguro contra acidentes de trabalho | C16: 0.03 | D16: 0.03
A17: A8 | B17: FGTS | C17: 0.08 | D17: 0.08
A18: A9 | B18: SECONCI
A19: A | B19: Total | C19: =SUM(C10:C18) -> 0.368 | D19: =SUM(D10:D18) -> 0.368
A21: GRUPO B | C21: % | D21: %
A22: B1 | B22: Repouso semanal remunerado | C22: 0.1813 | D22: Não incide
A23: B2 | B23: Feriados | C23: 0.0416 | D23: Não incide
A24: B3 | B24: Auxílio - Enfermidade | C24: 0.0087 | D24: 0.0065
A25: B4 | B25: 13º Salário | C25: 0.1122 | D25: 0.0833
A26: B5 | B26: Licença Paternidade | C26: 0.0007 | D26: 0.0005
A27: B6 | B27: Faltas Justificadas | C27: 0.0075 | D27: 0.0056
A28: B7 | B28: Dias de Chuvas | C28: 0.0283 | D28: Não incide
A29: B8 | B29: Auxílio Acidente de Trabalho | C29: 0.001 | D29: 0.0007
A30: B9 | B30: Férias Gozadas | C30: 0.1282 | D30: 0.0953
A31: B10 | B31: Salário Maternidade | C31: 0.0003 | D31: 0.0003
A32: B | B32: Total | C32: =SUM(C22:C31) -> 0.5098 | D32: =D24+D25+D26+D27+D29+D30+D31 -> 0.1922
A34: GRUPO C | C34: % | D34: %
A35: C1 | B35: Aviso Prévio Indenizado | C35: 0.0581 | D35: 0.0432
A36: C2 | B36: Aviso Prévio Trabalhado | C36: 0.0014 | D36: 0.001
A37: C3 | B37: Férias Indenizadas | C37: 0.0177 | D37: 0.0131
A38: C4 | B38: Depósito Rescisão Sem Justa Causa | C38: 0.0296 | D38: 0.022
A39: C5 | B39: Indenização Adicional | C39: 0.0049 | D39: 0.0036
A40: C | B40: Total | C40: =SUM(C35:C39) -> 0.1117 | D40: =SUM(D35:D39) -> 0.0829
A42: GRUPO D | C42: % | D42: %
A43: D1 | B43: Reincidência de Grupo A sobre Grupo B | C43: 0.1876 | D43: 0.0707
A44: D2 | B44: Reincidência de Grupo A sobre Aviso Prévio Trabalhado e Reincidência do FGTS sobre Aviso Prévio Indenizado | C44: 0.0052 | D44: 0.0038
...

Sheet CFF Não Desonerado
AFA1: GOVERNO DO ESTADO DO PARÁ | AFQ1: GOVERNO DO ESTADO DO PARÁ | AGG1: GOVERNO DO ESTADO DO PARÁ | AGW1: GOVERNO DO ESTADO DO PARÁ | AHM1: GOVERNO DO ESTADO DO PARÁ | AIC1: GOVERNO DO ESTADO DO PARÁ | AIS1: GOVERNO DO ESTADO DO PARÁ | AJI1: GOVERNO DO ESTADO DO PARÁ | AJY1: GOVERNO DO ESTADO DO PARÁ | AKO1: GOVERNO DO ESTADO DO PARÁ | ALE1: GOVERNO DO ESTADO DO PARÁ | ALU1: GOVERNO DO ESTADO DO PARÁ | AMK1: GOVERNO DO ESTADO DO PARÁ | ANA1: GOVERNO DO ESTADO DO PARÁ | ANQ1: GOVERNO DO ESTADO DO PARÁ | AOG1: GOVERNO DO ESTADO DO PARÁ | AOW1: GOVERNO DO ESTADO DO PARÁ | APM1: GOVERNO DO ESTADO DO PARÁ | AQC1: GOVERNO DO ESTADO DO PARÁ | AQS1: GOVERNO DO ESTADO DO PARÁ | ARI1: GOVERNO DO ESTADO DO PARÁ | ARY1: GOVERNO DO ESTADO DO PARÁ | ASO1: GOVERNO DO ESTADO DO PARÁ | ATE1: GOVERNO DO ESTADO DO PARÁ | ATU1: GOVERNO DO ESTADO DO PARÁ | AUK1: GOVERNO DO ESTADO DO PARÁ | AVA1: GOVERNO DO ESTADO DO PARÁ | AVQ1: GOVERNO DO ESTADO DO PARÁ | AWG1: GOVERNO DO ESTADO DO PARÁ | AWW1: GOVERNO DO ESTADO DO PARÁ | AXM1: GOVERNO DO ESTADO DO PARÁ | AYC1: GOVERNO DO ESTADO DO PARÁ | AYS1: GOVERNO DO ESTADO DO PARÁ | AZI1: GOVERNO DO ESTADO DO PARÁ | AZY1: GOVERNO DO ESTADO DO PARÁ | BAO1: GOVERNO DO ESTADO DO PARÁ | BBE1: GOVERNO DO ESTADO DO PARÁ | BBU1: GOVERNO DO ESTADO DO PARÁ | BCK1: GOVERNO DO ESTADO DO PARÁ | BDA1: GOVERNO DO ESTADO DO PARÁ | BDQ1: GOVERNO DO ESTADO DO PARÁ | BEG1: GOVERNO DO ESTADO DO PARÁ | BEW1: GOVERNO DO ESTADO DO PARÁ | BFM1: GOVERNO DO ESTADO DO PARÁ | BGC1: GOVERNO DO ESTADO DO PARÁ | BGS1: GOVERNO DO ESTADO DO PARÁ | BHI1: GOVERNO DO ESTADO DO PARÁ | BHY1: GOVERNO DO ESTADO DO PARÁ | BIO1: GOVERNO DO ESTADO DO PARÁ | BJE1: GOVERNO DO ESTADO DO PARÁ | BJU1: GOVERNO DO ESTADO DO PARÁ | BKK1: GOVERNO DO ESTADO DO PARÁ | BLA1: GOVERNO DO ESTADO DO PARÁ | BLQ1: GOVERNO DO ESTADO DO PARÁ | BMG1: GOVERNO DO ESTADO DO PARÁ | BMW1: GOVERNO DO ESTADO DO PARÁ | BNM1: GOVERNO DO ESTADO DO PARÁ | BOC1: GOVERNO DO ESTADO DO PARÁ | BOS1: GOVERNO DO ESTADO DO PARÁ | BPI1: GOVERNO DO ESTADO DO PARÁ | BPY1: GOVERNO DO ESTADO DO PARÁ | BQO1: GOVERNO DO ESTADO DO PARÁ | BRE1: GOVERNO DO ESTADO DO PARÁ | BRU1: GOVERNO DO ESTADO DO PARÁ | BSK1: GOVERNO DO ESTADO DO PARÁ | BTA1: GOVERNO DO ESTADO DO PARÁ | BTQ1: GOVERNO DO ESTADO DO PARÁ | BUG1: GOVERNO DO ESTADO DO PARÁ | BUW1: GOVERNO DO ESTADO DO PARÁ | BVM1: GOVERNO DO ESTADO DO PARÁ | BWC1: GOVERNO DO ESTADO DO PARÁ | BWS1: GOVERNO DO ESTADO DO PARÁ | BXI1: GOVERNO DO ESTADO DO PARÁ | BXY1: GOVERNO DO ESTADO DO PARÁ | BYO1: GOVERNO DO ESTADO DO PARÁ | BZE1: GOVERNO DO ESTADO DO PARÁ | BZU1: GOVERNO DO ESTADO DO PARÁ | CAK1: GOVERNO DO ESTADO DO PARÁ | CBA1: GOVERNO DO ESTADO DO PARÁ | CBQ1: GOVERNO DO ESTADO DO PARÁ | CCG1: GOVERNO DO ESTADO DO PARÁ | CCW1: GOVERNO DO ESTADO DO PARÁ | CDM1: GOVERNO DO ESTADO DO PARÁ | CEC1: GOVERNO DO ESTADO DO PARÁ | CES1: GOVERNO DO ESTADO DO PARÁ | CFI1: GOVERNO DO ESTADO DO PARÁ | CFY1: GOVERNO DO ESTADO DO PARÁ | CGO1: GOVERNO DO ESTADO DO PARÁ | CHE1: GOVERNO DO ESTADO DO PARÁ | CHU1: GOVERNO DO ESTADO DO PARÁ | CIK1: GOVERNO DO ESTADO DO PARÁ | CJA1: GOVERNO DO ESTADO DO PARÁ | CJQ1: GOVERNO DO ESTADO DO PARÁ | CKG1: GOVERNO DO ESTADO DO PARÁ | CKW1: GOVERNO DO ESTADO DO PARÁ | CLM1: GOVERNO DO ESTADO DO PARÁ | CMC1: GOVERNO DO ESTADO DO PARÁ | CMS1: GOVERNO DO ESTADO DO PARÁ | CNI1: GOVERNO DO ESTADO DO PARÁ | CNY1: GOVERNO DO ESTADO DO PARÁ | COO1: GOVERNO DO ESTADO DO PARÁ | CPE1: GOVERNO DO ESTADO DO PARÁ | CPU1: GOVERNO DO ESTADO DO PARÁ | CQK1: GOVERNO DO ESTADO DO PARÁ | CRA1: GOVERNO DO ESTADO DO PARÁ | CRQ1: GOVERNO DO ESTADO DO PARÁ | CSG1: GOVERNO DO ESTADO DO PARÁ | CSW1: GOVERNO DO ESTADO DO PARÁ | CTM1: GOVERNO DO ESTADO DO PARÁ | CUC1: GOVERNO DO ESTADO DO PARÁ | CUS1: GOVERNO DO ESTADO DO PARÁ | CVI1: GOVERNO DO ESTADO DO PARÁ | CVY1: GOVERNO DO ESTADO DO PARÁ | CWO1: GOVERNO DO ESTADO DO PARÁ | CXE1: GOVERNO DO ESTADO DO PARÁ | CXU1: GOVERNO DO ESTADO DO PARÁ | CYK1: GOVERNO DO ESTADO DO PARÁ | CZA1: GOVERNO DO ESTADO DO PARÁ | CZQ1: GOVERNO DO ESTADO DO PARÁ | DAG1: GOVERNO DO ESTADO DO PARÁ | DAW1: GOVERNO DO ESTADO DO PARÁ | DBM1: GOVERNO DO ESTADO DO PARÁ | DCC1: GOVERNO DO ESTADO DO PARÁ | DCS1: GOVERNO DO ESTADO DO PARÁ | DDI1: GOVERNO DO ESTADO DO PARÁ | DDY1: GOVERNO DO ESTADO DO PARÁ | DEO1: GOVERNO DO ESTADO DO PARÁ | DFE1: GOVERNO DO ESTADO DO PARÁ | DFU1: GOVERNO DO ESTADO DO PARÁ | DGK1: GOVERNO DO ESTADO DO PARÁ | DHA1: GOVERNO DO ESTADO DO PARÁ | DHQ1: GOVERNO DO ESTADO DO PARÁ | DIG1: GOVERNO DO ESTADO DO PARÁ | DIW1: GOVERNO DO ESTADO DO PARÁ | DJM1: GOVERNO DO ESTADO DO PARÁ | DKC1: GOVERNO DO ESTADO DO PARÁ | DKS1: GOVERNO DO ESTADO DO PARÁ | DLI1: GOVERNO DO ESTADO DO PARÁ | DLY1: GOVERNO DO ESTADO DO PARÁ | DMO1: GOVERNO DO ESTADO DO PARÁ | DNE1: GOVERNO DO ESTADO DO PARÁ | DNU1: GOVERNO DO ESTADO DO PARÁ | DOK1: GOVERNO DO ESTADO DO PARÁ | DPA1: GOVERNO DO ESTADO DO PARÁ | DPQ1: GOVERNO DO ESTADO DO PARÁ | DQG1: GOVERNO DO ESTADO DO PARÁ | DQW1: GOVERNO DO ESTADO DO PARÁ | DRM1: GOVERNO DO ESTADO DO PARÁ | DSC1: GOVERNO DO ESTADO DO PARÁ | DSS1: GOVERNO DO ESTADO DO PARÁ | DTI1: GOVERNO DO ESTADO DO PARÁ | DTY1: GOVERNO DO ESTADO DO PARÁ | DUO1: GOVERNO DO ESTADO DO PARÁ | DVE1: GOVERNO DO ESTADO DO PARÁ | DVU1: GOVERNO DO ESTADO DO PARÁ | DWK1: GOVERNO DO ESTADO DO PARÁ | DXA1: GOVERNO DO ESTADO DO PARÁ | DXQ1: GOVERNO DO ESTADO DO PARÁ | DYG1: GOVERNO DO ESTADO DO PARÁ | DYW1: GOVERNO DO ESTADO DO PARÁ | DZM1: GOVERNO DO ESTADO DO PARÁ | EAC1: GOVERNO DO ESTADO DO PARÁ | EAS1: GOVERNO DO ESTADO DO PARÁ | EBI1: GOVERNO DO ESTADO DO PARÁ | EBY1: GOVERNO DO ESTADO DO PARÁ | ECO1: GOVERNO DO ESTADO DO PARÁ | EDE1: GOVERNO DO ESTADO DO PARÁ | EDU1: GOVERNO DO ESTADO DO PARÁ | EEK1: GOVERNO DO ESTADO DO PARÁ | EFA1: GOVERNO DO ESTADO DO PARÁ | EFQ1: GOVERNO DO ESTADO DO PARÁ | EGG1: GOVERNO DO ESTADO DO PARÁ | EGW1: GOVERNO DO ESTADO DO PARÁ | EHM1: GOVERNO DO ESTADO DO PARÁ | EIC1: GOVERNO DO ESTADO DO PARÁ | EIS1: GOVERNO DO ESTADO DO PARÁ | EJI1: GOVERNO DO ESTADO DO PARÁ | EJY1: GOVERNO DO ESTADO DO PARÁ | EKO1: GOVERNO DO ESTADO DO PARÁ | ELE1: GOVERNO DO ESTADO DO PARÁ | ELU1: GOVERNO DO ESTADO DO PARÁ | EMK1: GOVERNO DO ESTADO DO PARÁ | ENA1: GOVERNO DO ESTADO DO PARÁ | ENQ1: GOVERNO DO ESTADO DO PARÁ | EOG1: GOVERNO DO ESTADO DO PARÁ | EOW1: GOVERNO DO ESTADO DO PARÁ | EPM1: GOVERNO DO ESTADO DO PARÁ | EQC1: GOVERNO DO ESTADO DO PARÁ | EQS1: GOVERNO DO ESTADO DO PARÁ | ERI1: GOVERNO DO ESTADO DO PARÁ | ERY1: GOVERNO DO ESTADO DO PARÁ | ESO1: GOVERNO DO ESTADO DO PARÁ | ETE1: GOVERNO DO ESTADO DO PARÁ | ETU1: GOVERNO DO ESTADO DO PARÁ | EUK1: GOVERNO DO ESTADO DO PARÁ | EVA1: GOVERNO DO ESTADO DO PARÁ | EVQ1: GOVERNO DO ESTADO DO PARÁ | EWG1: GOVERNO DO ESTADO DO PARÁ | EWW1: GOVERNO DO ESTADO DO PARÁ | EXM1: GOVERNO DO ESTADO DO PARÁ | EYC1: GOVERNO DO ESTADO DO PARÁ | EYS1: GOVERNO DO ESTADO DO PARÁ | EZI1: GOVERNO DO ESTADO DO PARÁ | EZY1: GOVERNO DO ESTADO DO PARÁ | FAO1: GOVERNO DO ESTADO DO PARÁ | FBE1: GOVERNO DO ESTADO DO PARÁ | FBU1: GOVERNO DO ESTADO DO PARÁ | FCK1: GOVERNO DO ESTADO DO PARÁ | FDA1: GOVERNO DO ESTADO DO PARÁ | FDQ1: GOVERNO DO ESTADO DO PARÁ | FEG1: GOVERNO DO ESTADO DO PARÁ | FEW1: GOVERNO DO ESTADO DO PARÁ | FFM1: GOVERNO DO ESTADO DO PARÁ | FGC1: GOVERNO DO ESTADO DO PARÁ | FGS1: GOVERNO DO ESTADO DO PARÁ | FHI1: GOVERNO DO ESTADO DO PARÁ | FHY1: GOVERNO DO ESTADO DO PARÁ | FIO1: GOVERNO DO ESTADO DO PARÁ | FJE1: GOVERNO DO ESTADO DO PARÁ | FJU1: GOVERNO DO ESTADO DO PARÁ | FKK1: GOVERNO DO ESTADO DO PARÁ | FLA1: GOVERNO DO ESTADO DO PARÁ | FLQ1: GOVERNO DO ESTADO DO PARÁ | FMG1: GOVERNO DO ESTADO DO PARÁ | FMW1: GOVERNO DO ESTADO DO PARÁ | FNM1: GOVERNO DO ESTADO DO PARÁ | FOC1: GOVERNO DO ESTADO DO PARÁ | FOS1: GOVERNO DO ESTADO DO PARÁ | FPI1: GOVERNO DO ESTADO DO PARÁ | FPY1: GOVERNO DO ESTADO DO PARÁ | FQO1: GOVERNO DO ESTADO DO PARÁ | FRE1: GOVERNO DO ESTADO DO PARÁ | FRU1: GOVERNO DO ESTADO DO PARÁ | FSK1: GOVERNO DO ESTADO DO PARÁ | FTA1: GOVERNO DO ESTADO DO PARÁ | FTQ1: GOVERNO DO ESTADO DO PARÁ | FUG1: GOVERNO DO ESTADO DO PARÁ | FUW1: GOVERNO DO ESTADO DO PARÁ | FVM1: GOVERNO DO ESTADO DO PARÁ | FWC1: GOVERNO DO ESTADO DO PARÁ | FWS1: GOVERNO DO ESTADO DO PARÁ | FXI1: GOVERNO DO ESTADO DO PARÁ | FXY1: GOVERNO DO ESTADO DO PARÁ | FYO1: GOVERNO DO ESTADO DO PARÁ | FZE1: GOVERNO DO ESTADO DO PARÁ | FZU1: GOVERNO DO ESTADO DO PARÁ | GAK1: GOVERNO DO ESTADO DO PARÁ | GBA1: GOVERNO DO ESTADO DO PARÁ | GBQ1: GOVERNO DO ESTADO DO PARÁ | GCG1: GOVERNO DO ESTADO DO PARÁ | GCW1: GOVERNO DO ESTADO DO PARÁ | GDM1: GOVERNO DO ESTADO DO PARÁ | GEC1: GOVERNO DO ESTADO DO PARÁ | GES1: GOVERNO DO ESTADO DO PARÁ | GFI1: GOVERNO DO ESTADO DO PARÁ | GFY1: GOVERNO DO ESTADO DO PARÁ | GGO1: GOVERNO DO ESTADO DO PARÁ | GHE1: GOVERNO DO ESTADO DO PARÁ | GHU1: GOVERNO DO ESTADO DO PARÁ | GIK1: GOVERNO DO ESTADO DO PARÁ | GJA1: GOVERNO DO ESTADO DO PARÁ | GJQ1: GOVERNO DO ESTADO DO PARÁ | GKG1: GOVERNO DO ESTADO DO PARÁ | GKW1: GOVERNO DO ESTADO DO PARÁ | GLM1: GOVERNO DO ESTADO DO PARÁ | GMC1: GOVERNO DO ESTADO DO PARÁ | GMS1: GOVERNO DO ESTADO DO PARÁ | GNI1: GOVERNO DO ESTADO DO PARÁ | GNY1: GOVERNO DO ESTADO DO PARÁ | GOO1: GOVERNO DO ESTADO DO PARÁ | GPE1: GOVERNO DO ESTADO DO PARÁ | GPU1: GOVERNO DO ESTADO DO PARÁ | GQK1: GOVERNO DO ESTADO DO PARÁ | GRA1: GOVERNO DO ESTADO DO PARÁ | GRQ1: GOVERNO DO ESTADO DO PARÁ | GSG1: GOVERNO DO ESTADO DO PARÁ | GSW1: GOVERNO DO ESTADO DO PARÁ | GTM1: GOVERNO DO ESTADO DO PARÁ | GUC1: GOVERNO DO ESTADO DO PARÁ | GUS1: GOVERNO DO ESTADO DO PARÁ | GVI1: GOVERNO DO ESTADO DO PARÁ | GVY1: GOVERNO DO ESTADO DO PARÁ | GWO1: GOVERNO DO ESTADO DO PARÁ | GXE1: GOVERNO DO ESTADO DO PARÁ | GXU1: GOVERNO DO ESTADO DO PARÁ | GYK1: GOVERNO DO ESTADO DO PARÁ | GZA1: GOVERNO DO ESTADO DO PARÁ | GZQ1: GOVERNO DO ESTADO DO PARÁ | HAG1: GOVERNO DO ESTADO DO PARÁ | HAW1: GOVERNO DO ESTADO DO PARÁ | HBM1: GOVERNO DO ESTADO DO PARÁ | HCC1: GOVERNO DO ESTADO DO PARÁ | HCS1: GOVERNO DO ESTADO DO PARÁ | HDI1: GOVERNO DO ESTADO DO PARÁ | HDY1: GOVERNO DO ESTADO DO PARÁ | HEO1: GOVERNO DO ESTADO DO PARÁ | HFE1: GOVERNO DO ESTADO DO PARÁ | HFU1: GOVERNO DO ESTADO DO PARÁ | HGK1: GOVERNO DO ESTADO DO PARÁ | HHA1: GOVERNO DO ESTADO DO PARÁ | HHQ1: GOVERNO DO ESTADO DO PARÁ | HIG1: GOVERNO DO ESTADO DO PARÁ | HIW1: GOVERNO DO ESTADO DO PARÁ | HJM1: GOVERNO DO ESTADO DO PARÁ | HKC1: GOVERNO DO ESTADO DO PARÁ | HKS1: GOVERNO DO ESTADO DO PARÁ | HLI1: GOVERNO DO ESTADO DO PARÁ | HLY1: GOVERNO DO ESTADO DO PARÁ | HMO1: GOVERNO DO ESTADO DO PARÁ | HNE1: GOVERNO DO ESTADO DO PARÁ | HNU1: GOVERNO DO ESTADO DO PARÁ | HOK1: GOVERNO DO ESTADO DO PARÁ | HPA1: GOVERNO DO ESTADO DO PARÁ | HPQ1: GOVERNO DO ESTADO DO PARÁ | HQG1: GOVERNO DO ESTADO DO PARÁ | HQW1: GOVERNO DO ESTADO DO PARÁ | HRM1: GOVERNO DO ESTADO DO PARÁ | HSC1: GOVERNO DO ESTADO DO PARÁ | HSS1: GOVERNO DO ESTADO DO PARÁ | HTI1: GOVERNO DO ESTADO DO PARÁ | HTY1: GOVERNO DO ESTADO DO PARÁ | HUO1: GOVERNO DO ESTADO DO PARÁ | HVE1: GOVERNO DO ESTADO DO PARÁ | HVU1: GOVERNO DO ESTADO DO PARÁ | HWK1: GOVERNO DO ESTADO DO PARÁ | HXA1: GOVERNO DO ESTADO DO PARÁ | HXQ1: GOVERNO DO ESTADO DO PARÁ | HYG1: GOVERNO DO ESTADO DO PARÁ | HYW1: GOVERNO DO ESTADO DO PARÁ | HZM1: GOVERNO DO ESTADO DO PARÁ | IAC1: GOVERNO DO ESTADO DO PARÁ | IAS1: GOVERNO DO ESTADO DO PARÁ | IBI1: GOVERNO DO ESTADO DO PARÁ | IBY1: GOVERNO DO ESTADO DO PARÁ | ICO1: GOVERNO DO ESTADO DO PARÁ | IDE1: GOVERNO DO ESTADO DO PARÁ | IDU1: GOVERNO DO ESTADO DO PARÁ | IEK1: GOVERNO DO ESTADO DO PARÁ | IFA1: GOVERNO DO ESTADO DO PARÁ | IFQ1: GOVERNO DO ESTADO DO PARÁ | IGG1: GOVERNO DO ESTADO DO PARÁ | IGW1: GOVERNO DO ESTADO DO PARÁ | IHM1: GOVERNO DO ESTADO DO PARÁ | IIC1: GOVERNO DO ESTADO DO PARÁ | IIS1: GOVERNO DO ESTADO DO PARÁ | IJI1: GOVERNO DO ESTADO DO PARÁ | IJY1: GOVERNO DO ESTADO DO PARÁ | IKO1: GOVERNO DO ESTADO DO PARÁ | ILE1: GOVERNO DO ESTADO DO PARÁ | ILU1: GOVERNO DO ESTADO DO PARÁ | IMK1: GOVERNO DO ESTADO DO PARÁ | INA1: GOVERNO DO ESTADO DO PARÁ | INQ1: GOVERNO DO ESTADO DO PARÁ | IOG1: GOVERNO DO ESTADO DO PARÁ | IOW1: GOVERNO DO ESTADO DO PARÁ | IPM1: GOVERNO DO ESTADO DO PARÁ | IQC1: GOVERNO DO ESTADO DO PARÁ | IQS1: GOVERNO DO ESTADO DO PARÁ | IRI1: GOVERNO DO ESTADO DO PARÁ | IRY1: GOVERNO DO ESTADO DO PARÁ | ISO1: GOVERNO DO ESTADO DO PARÁ | ITE1: GOVERNO DO ESTADO DO PARÁ | ITU1: GOVERNO DO ESTADO DO PARÁ | IUK1: GOVERNO DO ESTADO DO PARÁ | IVA1: GOVERNO DO ESTADO DO PARÁ | IVQ1: GOVERNO DO ESTADO DO PARÁ | IWG1: GOVERNO DO ESTADO DO PARÁ | IWW1: GOVERNO DO ESTADO DO PARÁ | IXM1: GOVERNO DO ESTADO DO PARÁ | IYC1: GOVERNO DO ESTADO DO PARÁ | IYS1: GOVERNO DO ESTADO DO PARÁ | IZI1: GOVERNO DO ESTADO DO PARÁ | IZY1: GOVERNO DO ESTADO DO PARÁ | JAO1: GOVERNO DO ESTADO DO PARÁ | JBE1: GOVERNO DO ESTADO DO PARÁ | JBU1: GOVERNO DO ESTADO DO PARÁ | JCK1: GOVERNO DO ESTADO DO PARÁ | JDA1: GOVERNO DO ESTADO DO PARÁ | JDQ1: GOVERNO DO ESTADO DO PARÁ | JEG1: GOVERNO DO ESTADO DO PARÁ | JEW1: GOVERNO DO ESTADO DO PARÁ | JFM1: GOVERNO DO ESTADO DO PARÁ | JGC1: GOVERNO DO ESTADO DO PARÁ | JGS1: GOVERNO DO ESTADO DO PARÁ | JHI1: GOVERNO DO ESTADO DO PARÁ | JHY1: GOVERNO DO ESTADO DO PARÁ | JIO1: GOVERNO DO ESTADO DO PARÁ | JJE1: GOVERNO DO ESTADO DO PARÁ | JJU1: GOVERNO DO ESTADO DO PARÁ | JKK1: GOVERNO DO ESTADO DO PARÁ | JLA1: GOVERNO DO ESTADO DO PARÁ | JLQ1: GOVERNO DO ESTADO DO PARÁ | JMG1: GOVERNO DO ESTADO DO PARÁ | JMW1: GOVERNO DO ESTADO DO PARÁ | JNM1: GOVERNO DO ESTADO DO PARÁ | JOC1: GOVERNO DO ESTADO DO PARÁ | JOS1: GOVERNO DO ESTADO DO PARÁ | JPI1: GOVERNO DO ESTADO DO PARÁ | JPY1: GOVERNO DO ESTADO DO PARÁ | JQO1: GOVERNO DO ESTADO DO PARÁ | JRE1: GOVERNO DO ESTADO DO PARÁ | JRU1: GOVERNO DO ESTADO DO PARÁ | JSK1: GOVERNO DO ESTADO DO PARÁ | JTA1: GOVERNO DO ESTADO DO PARÁ | JTQ1: GOVERNO DO ESTADO DO PARÁ | JUG1: GOVERNO DO ESTADO DO PARÁ | JUW1: GOVERNO DO ESTADO DO PARÁ | JVM1: GOVERNO DO ESTADO DO PARÁ | JWC1: GOVERNO DO ESTADO DO PARÁ | JWS1: GOVERNO DO ESTADO DO PARÁ | JXI1: GOVERNO DO ESTADO DO PARÁ | JXY1: GOVERNO DO ESTADO DO PARÁ | JYO1: GOVERNO DO ESTADO DO PARÁ | JZE1: GOVERNO DO ESTADO DO PARÁ | JZU1: GOVERNO DO ESTADO DO PARÁ | KAK1: GOVERNO DO ESTADO DO PARÁ | KBA1: GOVERNO DO ESTADO DO PARÁ | KBQ1: GOVERNO DO ESTADO DO PARÁ | KCG1: GOVERNO DO ESTADO DO PARÁ | KCW1: GOVERNO DO ESTADO DO PARÁ | KDM1: GOVERNO DO ESTADO DO PARÁ | KEC1: GOVERNO DO ESTADO DO PARÁ | KES1: GOVERNO DO ESTADO DO PARÁ | KFI1: GOVERNO DO ESTADO DO PARÁ | KFY1: GOVERNO DO ESTADO DO PARÁ | KGO1: GOVERNO DO ESTADO DO PARÁ | KHE1: GOVERNO DO ESTADO DO PARÁ | KHU1: GOVERNO DO ESTADO DO PARÁ | KIK1: GOVERNO DO ESTADO DO PARÁ | KJA1: GOVERNO DO ESTADO DO PARÁ | KJQ1: GOVERNO DO ESTADO DO PARÁ | KKG1: GOVERNO DO ESTADO DO PARÁ | KKW1: GOVERNO DO ESTADO DO PARÁ | KLM1: GOVERNO DO ESTADO DO PARÁ | KMC1: GOVERNO DO ESTADO DO PARÁ | KMS1: GOVERNO DO ESTADO DO PARÁ | KNI1: GOVERNO DO ESTADO DO PARÁ | KNY1: GOVERNO DO ESTADO DO PARÁ | KOO1: GOVERNO DO ESTADO DO PARÁ | KPE1: GOVERNO DO ESTADO DO PARÁ | KPU1: GOVERNO DO ESTADO DO PARÁ | KQK1: GOVERNO DO ESTADO DO PARÁ | KRA1: GOVERNO DO ESTADO DO PARÁ | KRQ1: GOVERNO DO ESTADO DO PARÁ | KSG1: GOVERNO DO ESTADO DO PARÁ | KSW1: GOVERNO DO ESTADO DO PARÁ | KTM1: GOVERNO DO ESTADO DO PARÁ | KUC1: GOVERNO DO ESTADO DO PARÁ | KUS1: GOVERNO DO ESTADO DO PARÁ | KVI1: GOVERNO DO ESTADO DO PARÁ | KVY1: GOVERNO DO ESTADO DO PARÁ | KWO1: GOVERNO DO ESTADO DO PARÁ | KXE1: GOVERNO DO ESTADO DO PARÁ | KXU1: GOVERNO DO ESTADO DO PARÁ | KYK1: GOVERNO DO ESTADO DO PARÁ | KZA1: GOVERNO DO ESTADO DO PARÁ | KZQ1: GOVERNO DO ESTADO DO PARÁ | LAG1: GOVERNO DO ESTADO DO PARÁ | LAW1: GOVERNO DO ESTADO DO PARÁ | LBM1: GOVERNO DO ESTADO DO PARÁ | LCC1: GOVERNO DO ESTADO DO PARÁ | LCS1: GOVERNO DO ESTADO DO PARÁ | LDI1: GOVERNO DO ESTADO DO PARÁ | LDY1: GOVERNO DO ESTADO DO PARÁ | LEO1: GOVERNO DO ESTADO DO PARÁ | LFE1: GOVERNO DO ESTADO DO PARÁ | LFU1: GOVERNO DO ESTADO DO PARÁ | LGK1: GOVERNO DO ESTADO DO PARÁ | LHA1: GOVERNO DO ESTADO DO PARÁ | LHQ1: GOVERNO DO ESTADO DO PARÁ | LIG1: GOVERNO DO ESTADO DO PARÁ | LIW1: GOVERNO DO ESTADO DO PARÁ | LJM1: GOVERNO DO ESTADO DO PARÁ | LKC1: GOVERNO DO ESTADO DO PARÁ | LKS1: GOVERNO DO ESTADO DO PARÁ | LLI1: GOVERNO DO ESTADO DO PARÁ | LLY1: GOVERNO DO ESTADO DO PARÁ | LMO1: GOVERNO DO ESTADO DO PARÁ | LNE1: GOVERNO DO ESTADO DO PARÁ | LNU1: GOVERNO DO ESTADO DO PARÁ | LOK1: GOVERNO DO ESTADO DO PARÁ | LPA1: GOVERNO DO ESTADO DO PARÁ | LPQ1: GOVERNO DO ESTADO DO PARÁ | LQG1: GOVERNO DO ESTADO DO PARÁ | LQW1: GOVERNO DO ESTADO DO PARÁ | LRM1: GOVERNO DO ESTADO DO PARÁ | LSC1: GOVERNO DO ESTADO DO PARÁ | LSS1: GOVERNO DO ESTADO DO PARÁ | LTI1: GOVERNO DO ESTADO DO PARÁ | LTY1: GOVERNO DO ESTADO DO PARÁ | LUO1: GOVERNO DO ESTADO DO PARÁ | LVE1: GOVERNO DO ESTADO DO PARÁ | LVU1: GOVERNO DO ESTADO DO PARÁ | LWK1: GOVERNO DO ESTADO DO PARÁ | LXA1: GOVERNO DO ESTADO DO PARÁ | LXQ1: GOVERNO DO ESTADO DO PARÁ | LYG1: GOVERNO DO ESTADO DO PARÁ | LYW1: GOVERNO DO ESTADO DO PARÁ | LZM1: GOVERNO DO ESTADO DO PARÁ | MAC1: GOVERNO DO ESTADO DO PARÁ | MAS1: GOVERNO DO ESTADO DO PARÁ | MBI1: GOVERNO DO ESTADO DO PARÁ | MBY1: GOVERNO DO ESTADO DO PARÁ | MCO1: GOVERNO DO ESTADO DO PARÁ | MDE1: GOVERNO DO ESTADO DO PARÁ | MDU1: GOVERNO DO ESTADO DO PARÁ | MEK1: GOVERNO DO ESTADO DO PARÁ | MFA1: GOVERNO DO ESTADO DO PARÁ | MFQ1: GOVERNO DO ESTADO DO PARÁ | MGG1: GOVERNO DO ESTADO DO PARÁ | MGW1: GOVERNO DO ESTADO DO PARÁ | MHM1: GOVERNO DO ESTADO DO PARÁ | MIC1: GOVERNO DO ESTADO DO PARÁ | MIS1: GOVERNO DO ESTADO DO PARÁ | MJI1: GOVERNO DO ESTADO DO PARÁ | MJY1: GOVERNO DO ESTADO DO PARÁ | MKO1: GOVERNO DO ESTADO DO PARÁ | MLE1: GOVERNO DO ESTADO DO PARÁ | MLU1: GOVERNO DO ESTADO DO PARÁ | MMK1: GOVERNO DO ESTADO DO PARÁ | MNA1: GOVERNO DO ESTADO DO PARÁ | MNQ1: GOVERNO DO ESTADO DO PARÁ | MOG1: GOVERNO DO ESTADO DO PARÁ | MOW1: GOVERNO DO ESTADO DO PARÁ | MPM1: GOVERNO DO ESTADO DO PARÁ | MQC1: GOVERNO DO ESTADO DO PARÁ | MQS1: GOVERNO DO ESTADO DO PARÁ | MRI1: GOVERNO DO ESTADO DO PARÁ | MRY1: GOVERNO DO ESTADO DO PARÁ | MSO1: GOVERNO DO ESTADO DO PARÁ | MTE1: GOVERNO DO ESTADO DO PARÁ | MTU1: GOVERNO DO ESTADO DO PARÁ | MUK1: GOVERNO DO ESTADO DO PARÁ | MVA1: GOVERNO DO ESTADO DO PARÁ | MVQ1: GOVERNO DO ESTADO DO PARÁ | MWG1: GOVERNO DO ESTADO DO PARÁ | MWW1: GOVERNO DO ESTADO DO PARÁ | MXM1: GOVERNO DO ESTADO DO PARÁ | MYC1: GOVERNO DO ESTADO DO PARÁ | MYS1: GOVERNO DO ESTADO DO PARÁ | MZI1: GOVERNO DO ESTADO DO PARÁ | MZY1: GOVERNO DO ESTADO DO PARÁ | NAO1: GOVERNO DO ESTADO DO PARÁ | NBE1: GOVERNO DO ESTADO DO PARÁ | NBU1: GOVERNO DO ESTADO DO PARÁ | NCK1: GOVERNO DO ESTADO DO PARÁ | NDA1: GOVERNO DO ESTADO DO PARÁ | NDQ1: GOVERNO DO ESTADO DO PARÁ | NEG1: GOVERNO DO ESTADO DO PARÁ | NEW1: GOVERNO DO ESTADO DO PARÁ | NFM1: GOVERNO DO ESTADO DO PARÁ | NGC1: GOVERNO DO ESTADO DO PARÁ | NGS1: GOVERNO DO ESTADO DO PARÁ | NHI1: GOVERNO DO ESTADO DO PARÁ | NHY1: GOVERNO DO ESTADO DO PARÁ | NIO1: GOVERNO DO ESTADO DO PARÁ | NJE1: GOVERNO DO ESTADO DO PARÁ | NJU1: GOVERNO DO ESTADO DO PARÁ | NKK1: GOVERNO DO ESTADO DO PARÁ | NLA1: GOVERNO DO ESTADO DO PARÁ | NLQ1: GOVERNO DO ESTADO DO PARÁ | NMG1: GOVERNO DO ESTADO DO PARÁ | NMW1: GOVERNO DO ESTADO DO PARÁ | NNM1: GOVERNO DO ESTADO DO PARÁ | NOC1: GOVERNO DO ESTADO DO PARÁ | NOS1: GOVERNO DO ESTADO DO PARÁ | NPI1: GOVERNO DO ESTADO DO PARÁ | NPY1: GOVERNO DO ESTADO DO PARÁ | NQO1: GOVERNO DO ESTADO DO PARÁ | NRE1: GOVERNO DO ESTADO DO PARÁ | NRU1: GOVERNO DO ESTADO DO PARÁ | NSK1: GOVERNO DO ESTADO DO PARÁ | NTA1: GOVERNO DO ESTADO DO PARÁ | NTQ1: GOVERNO DO ESTADO DO PARÁ | NUG1: GOVERNO DO ESTADO DO PARÁ | NUW1: GOVERNO DO ESTADO DO PARÁ | NVM1: GOVERNO DO ESTADO DO PARÁ | NWC1: GOVERNO DO ESTADO DO PARÁ | NWS1: GOVERNO DO ESTADO DO PARÁ | NXI1: GOVERNO DO ESTADO DO PARÁ | NXY1: GOVERNO DO ESTADO DO PARÁ | NYO1: GOVERNO DO ESTADO DO PARÁ | NZE1: GOVERNO DO ESTADO DO PARÁ | NZU1: GOVERNO DO ESTADO DO PARÁ | OAK1: GOVERNO DO ESTADO DO PARÁ | OBA1: GOVERNO DO ESTADO DO PARÁ | OBQ1: GOVERNO DO ESTADO DO PARÁ | OCG1: GOVERNO DO ESTADO DO PARÁ | OCW1: GOVERNO DO ESTADO DO PARÁ | ODM1: GOVERNO DO ESTADO DO PARÁ | OEC1: GOVERNO DO ESTADO DO PARÁ | OES1: GOVERNO DO ESTADO DO PARÁ | OFI1: GOVERNO DO ESTADO DO PARÁ | OFY1: GOVERNO DO ESTADO DO PARÁ | OGO1: GOVERNO DO ESTADO DO PARÁ | OHE1: GOVERNO DO ESTADO DO PARÁ | OHU1: GOVERNO DO ESTADO DO PARÁ | OIK1: GOVERNO DO ESTADO DO PARÁ | OJA1: GOVERNO DO ESTADO DO PARÁ | OJQ1: GOVERNO DO ESTADO DO PARÁ | OKG1: GOVERNO DO ESTADO DO PARÁ | OKW1: GOVERNO DO ESTADO DO PARÁ | OLM1: GOVERNO DO ESTADO DO PARÁ | OMC1: GOVERNO DO ESTADO DO PARÁ | OMS1: GOVERNO DO ESTADO DO PARÁ | ONI1: GOVERNO DO ESTADO DO PARÁ | ONY1: GOVERNO DO ESTADO DO PARÁ | OOO1: GOVERNO DO ESTADO DO PARÁ | OPE1: GOVERNO DO ESTADO DO PARÁ | OPU1: GOVERNO DO ESTADO DO PARÁ | OQK1: GOVERNO DO ESTADO DO PARÁ | ORA1: GOVERNO DO ESTADO DO PARÁ | ORQ1: GOVERNO DO ESTADO DO PARÁ | OSG1: GOVERNO DO ESTADO DO PARÁ | OSW1: GOVERNO DO ESTADO DO PARÁ | OTM1: GOVERNO DO ESTADO DO PARÁ | OUC1: GOVERNO DO ESTADO DO PARÁ | OUS1: GOVERNO DO ESTADO DO PARÁ | OVI1: GOVERNO DO ESTADO DO PARÁ | OVY1: GOVERNO DO ESTADO DO PARÁ | OWO1: GOVERNO DO ESTADO DO PARÁ | OXE1: GOVERNO DO ESTADO DO PARÁ | OXU1: GOVERNO DO ESTADO DO PARÁ | OYK1: GOVERNO DO ESTADO DO PARÁ | OZA1: GOVERNO DO ESTADO DO PARÁ | OZQ1: GOVERNO DO ESTADO DO PARÁ | PAG1: GOVERNO DO ESTADO DO PARÁ | PAW1: GOVERNO DO ESTADO DO PARÁ | PBM1: GOVERNO DO ESTADO DO PARÁ | PCC1: GOVERNO DO ESTADO DO PARÁ | PCS1: GOVERNO DO ESTADO DO PARÁ | PDI1: GOVERNO DO ESTADO DO PARÁ | PDY1: GOVERNO DO ESTADO DO PARÁ | PEO1: GOVERNO DO ESTADO DO PARÁ | PFE1: GOVERNO DO ESTADO DO PARÁ | PFU1: GOVERNO DO ESTADO DO PARÁ | PGK1: GOVERNO DO ESTADO DO PARÁ | PHA1: GOVERNO DO ESTADO DO PARÁ | PHQ1: GOVERNO DO ESTADO DO PARÁ | PIG1: GOVERNO DO ESTADO DO PARÁ | PIW1: GOVERNO DO ESTADO DO PARÁ | PJM1: GOVERNO DO ESTADO DO PARÁ | PKC1: GOVERNO DO ESTADO DO PARÁ | PKS1: GOVERNO DO ESTADO DO PARÁ | PLI1: GOVERNO DO ESTADO DO PARÁ | PLY1: GOVERNO DO ESTADO DO PARÁ | PMO1: GOVERNO DO ESTADO DO PARÁ | PNE1: GOVERNO DO ESTADO DO PARÁ | PNU1: GOVERNO DO ESTADO DO PARÁ | POK1: GOVERNO DO ESTADO DO PARÁ | PPA1: GOVERNO DO ESTADO DO PARÁ | PPQ1: GOVERNO DO ESTADO DO PARÁ | PQG1: GOVERNO DO ESTADO DO PARÁ | PQW1: GOVERNO DO ESTADO DO PARÁ | PRM1: GOVERNO DO ESTADO DO PARÁ | PSC1: GOVERNO DO ESTADO DO PARÁ | PSS1: GOVERNO DO ESTADO DO PARÁ | PTI1: GOVERNO DO ESTADO DO PARÁ | PTY1: GOVERNO DO ESTADO DO PARÁ | PUO1: GOVERNO DO ESTADO DO PARÁ | PVE1: GOVERNO DO ESTADO DO PARÁ | PVU1: GOVERNO DO ESTADO DO PARÁ | PWK1: GOVERNO DO ESTADO DO PARÁ | PXA1: GOVERNO DO ESTADO DO PARÁ | PXQ1: GOVERNO DO ESTADO DO PARÁ | PYG1: GOVERNO DO ESTADO DO PARÁ | PYW1: GOVERNO DO ESTADO DO PARÁ | PZM1: GOVERNO DO ESTADO DO PARÁ | QAC1: GOVERNO DO ESTADO DO PARÁ | QAS1: GOVERNO DO ESTADO DO PARÁ | QBI1: GOVERNO DO ESTADO DO PARÁ | QBY1: GOVERNO DO ESTADO DO PARÁ | QCO1: GOVERNO DO ESTADO DO PARÁ | QDE1: GOVERNO DO ESTADO DO PARÁ | QDU1: GOVERNO DO ESTADO DO PARÁ | QEK1: GOVERNO DO ESTADO DO PARÁ | QFA1: GOVERNO DO ESTADO DO PARÁ | QFQ1: GOVERNO DO ESTADO DO PARÁ | QGG1: GOVERNO DO ESTADO DO PARÁ | QGW1: GOVERNO DO ESTADO DO PARÁ | QHM1: GOVERNO DO ESTADO DO PARÁ | QIC1: GOVERNO DO ESTADO DO PARÁ | QIS1: GOVERNO DO ESTADO DO PARÁ | QJI1: GOVERNO DO ESTADO DO PARÁ | QJY1: GOVERNO DO ESTADO DO PARÁ | QKO1: GOVERNO DO ESTADO DO PARÁ | QLE1: GOVERNO DO ESTADO DO PARÁ | QLU1: GOVERNO DO ESTADO DO PARÁ | QMK1: GOVERNO DO ESTADO DO PARÁ | QNA1: GOVERNO DO ESTADO DO PARÁ | QNQ1: GOVERNO DO ESTADO DO PARÁ | QOG1: GOVERNO DO ESTADO DO PARÁ | QOW1: GOVERNO DO ESTADO DO PARÁ | QPM1: GOVERNO DO ESTADO DO PARÁ | QQC1: GOVERNO DO ESTADO DO PARÁ | QQS1: GOVERNO DO ESTADO DO PARÁ | QRI1: GOVERNO DO ESTADO DO PARÁ | QRY1: GOVERNO DO ESTADO DO PARÁ | QSO1: GOVERNO DO ESTADO DO PARÁ | QTE1: GOVERNO DO ESTADO DO PARÁ | QTU1: GOVERNO DO ESTADO DO PARÁ | QUK1: GOVERNO DO ESTADO DO PARÁ | QVA1: GOVERNO DO ESTADO DO PARÁ | QVQ1: GOVERNO DO ESTADO DO PARÁ | QWG1: GOVERNO DO ESTADO DO PARÁ | QWW1: GOVERNO DO ESTADO DO PARÁ | QXM1: GOVERNO DO ESTADO DO PARÁ | QYC1: GOVERNO DO ESTADO DO PARÁ | QYS1: GOVERNO DO ESTADO DO PARÁ | QZI1: GOVERNO DO ESTADO DO PARÁ | QZY1: GOVERNO DO ESTADO DO PARÁ | RAO1: GOVERNO DO ESTADO DO PARÁ | RBE1: GOVERNO DO ESTADO DO PARÁ | RBU1: GOVERNO DO ESTADO DO PARÁ | RCK1: GOVERNO DO ESTADO DO PARÁ | RDA1: GOVERNO DO ESTADO DO PARÁ | RDQ1: GOVERNO DO ESTADO DO PARÁ | REG1: GOVERNO DO ESTADO DO PARÁ | REW1: GOVERNO DO ESTADO DO PARÁ | RFM1: GOVERNO DO ESTADO DO PARÁ | RGC1: GOVERNO DO ESTADO DO PARÁ | RGS1: GOVERNO DO ESTADO DO PARÁ | RHI1: GOVERNO DO ESTADO DO PARÁ | RHY1: GOVERNO DO ESTADO DO PARÁ | RIO1: GOVERNO DO ESTADO DO PARÁ | RJE1: GOVERNO DO ESTADO DO PARÁ | RJU1: GOVERNO DO ESTADO DO PARÁ | RKK1: GOVERNO DO ESTADO DO PARÁ | RLA1: GOVERNO DO ESTADO DO PARÁ | RLQ1: GOVERNO DO ESTADO DO PARÁ | RMG1: GOVERNO DO ESTADO DO PARÁ | RMW1: GOVERNO DO ESTADO DO PARÁ | RNM1: GOVERNO DO ESTADO DO PARÁ | ROC1: GOVERNO DO ESTADO DO PARÁ | ROS1: GOVERNO DO ESTADO DO PARÁ | RPI1: GOVERNO DO ESTADO DO PARÁ | RPY1: GOVERNO DO ESTADO DO PARÁ | RQO1: GOVERNO DO ESTADO DO PARÁ | RRE1: GOVERNO DO ESTADO DO PARÁ | RRU1: GOVERNO DO ESTADO DO PARÁ | RSK1: GOVERNO DO ESTADO DO PARÁ | RTA1: GOVERNO DO ESTADO DO PARÁ | RTQ1: GOVERNO DO ESTADO DO PARÁ | RUG1: GOVERNO DO ESTADO DO PARÁ | RUW1: GOVERNO DO ESTADO DO PARÁ | RVM1: GOVERNO DO ESTADO DO PARÁ | RWC1: GOVERNO DO ESTADO DO PARÁ | RWS1: GOVERNO DO ESTADO DO PARÁ | RXI1: GOVERNO DO ESTADO DO PARÁ | RXY1: GOVERNO DO ESTADO DO PARÁ | RYO1: GOVERNO DO ESTADO DO PARÁ | RZE1: GOVERNO DO ESTADO DO PARÁ | RZU1: GOVERNO DO ESTADO DO PARÁ | SAK1: GOVERNO DO ESTADO DO PARÁ | SBA1: GOVERNO DO ESTADO DO PARÁ | SBQ1: GOVERNO DO ESTADO DO PARÁ | SCG1: GOVERNO DO ESTADO DO PARÁ | SCW1: GOVERNO DO ESTADO DO PARÁ | SDM1: GOVERNO DO ESTADO DO PARÁ | SEC1: GOVERNO DO ESTADO DO PARÁ | SES1: GOVERNO DO ESTADO DO PARÁ | SFI1: GOVERNO DO ESTADO DO PARÁ | SFY1: GOVERNO DO ESTADO DO PARÁ | SGO1: GOVERNO DO ESTADO DO PARÁ | SHE1: GOVERNO DO ESTADO DO PARÁ | SHU1: GOVERNO DO ESTADO DO PARÁ | SIK1: GOVERNO DO ESTADO DO PARÁ | SJA1: GOVERNO DO ESTADO DO PARÁ | SJQ1: GOVERNO DO ESTADO DO PARÁ | SKG1: GOVERNO DO ESTADO DO PARÁ | SKW1: GOVERNO DO ESTADO DO PARÁ | SLM1: GOVERNO DO ESTADO DO PARÁ | SMC1: GOVERNO DO ESTADO DO PARÁ | SMS1: GOVERNO DO ESTADO DO PARÁ | SNI1: GOVERNO DO ESTADO DO PARÁ | SNY1: GOVERNO DO ESTADO DO PARÁ | SOO1: GOVERNO DO ESTADO DO PARÁ | SPE1: GOVERNO DO ESTADO DO PARÁ | SPU1: GOVERNO DO ESTADO DO PARÁ | SQK1: GOVERNO DO ESTADO DO PARÁ | SRA1: GOVERNO DO ESTADO DO PARÁ | SRQ1: GOVERNO DO ESTADO DO PARÁ | SSG1: GOVERNO DO ESTADO DO PARÁ | SSW1: GOVERNO DO ESTADO DO PARÁ | STM1: GOVERNO DO ESTADO DO PARÁ | SUC1: GOVERNO DO ESTADO DO PARÁ | SUS1: GOVERNO DO ESTADO DO PARÁ | SVI1: GOVERNO DO ESTADO DO PARÁ | SVY1: GOVERNO DO ESTADO DO PARÁ | SWO1: GOVERNO DO ESTADO DO PARÁ | SXE1: GOVERNO DO ESTADO DO PARÁ | SXU1: GOVERNO DO ESTADO DO PARÁ | SYK1: GOVERNO DO ESTADO DO PARÁ | SZA1: GOVERNO DO ESTADO DO PARÁ | SZQ1: GOVERNO DO ESTADO DO PARÁ | TAG1: GOVERNO DO ESTADO DO PARÁ | TAW1: GOVERNO DO ESTADO DO PARÁ | TBM1: GOVERNO DO ESTADO DO PARÁ | TCC1: GOVERNO DO ESTADO DO PARÁ | TCS1: GOVERNO DO ESTADO DO PARÁ | TDI1: GOVERNO DO ESTADO DO PARÁ | TDY1: GOVERNO DO ESTADO DO PARÁ | TEO1: GOVERNO DO ESTADO DO PARÁ | TFE1: GOVERNO DO ESTADO DO PARÁ | TFU1: GOVERNO DO ESTADO DO PARÁ | TGK1: GOVERNO DO ESTADO DO PARÁ | THA1: GOVERNO DO ESTADO DO PARÁ | THQ1: GOVERNO DO ESTADO DO PARÁ | TIG1: GOVERNO DO ESTADO DO PARÁ | TIW1: GOVERNO DO ESTADO DO PARÁ | TJM1: GOVERNO DO ESTADO DO PARÁ | TKC1: GOVERNO DO ESTADO DO PARÁ | TKS1: GOVERNO DO ESTADO DO PARÁ | TLI1: GOVERNO DO ESTADO DO PARÁ | TLY1: GOVERNO DO ESTADO DO PARÁ | TMO1: GOVERNO DO ESTADO DO PARÁ | TNE1: GOVERNO DO ESTADO DO PARÁ | TNU1: GOVERNO DO ESTADO DO PARÁ | TOK1: GOVERNO DO ESTADO DO PARÁ | TPA1: GOVERNO DO ESTADO DO PARÁ | TPQ1: GOVERNO DO ESTADO DO PARÁ | TQG1: GOVERNO DO ESTADO DO PARÁ | TQW1: GOVERNO DO ESTADO DO PARÁ | TRM1: GOVERNO DO ESTADO DO PARÁ | TSC1: GOVERNO DO ESTADO DO PARÁ | TSS1: GOVERNO DO ESTADO DO PARÁ | TTI1: GOVERNO DO ESTADO DO PARÁ | TTY1: GOVERNO DO ESTADO DO PARÁ | TUO1: GOVERNO DO ESTADO DO PARÁ | TVE1: GOVERNO DO ESTADO DO PARÁ | TVU1: GOVERNO DO ESTADO DO PARÁ | TWK1: GOVERNO DO ESTADO DO PARÁ | TXA1: GOVERNO DO ESTADO DO PARÁ | TXQ1: GOVERNO DO ESTADO DO PARÁ | TYG1: GOVERNO DO ESTADO DO PARÁ | TYW1: GOVERNO DO ESTADO DO PARÁ | TZM1: GOVERNO DO ESTADO DO PARÁ | UAC1: GOVERNO DO ESTADO DO PARÁ | UAS1: GOVERNO DO ESTADO DO PARÁ | UBI1: GOVERNO DO ESTADO DO PARÁ | UBY1: GOVERNO DO ESTADO DO PARÁ | UCO1: GOVERNO DO ESTADO DO PARÁ | UDE1: GOVERNO DO ESTADO DO PARÁ | UDU1: GOVERNO DO ESTADO DO PARÁ | UEK1: GOVERNO DO ESTADO DO PARÁ | UFA1: GOVERNO DO ESTADO DO PARÁ | UFQ1: GOVERNO DO ESTADO DO PARÁ | UGG1: GOVERNO DO ESTADO DO PARÁ | UGW1: GOVERNO DO ESTADO DO PARÁ | UHM1: GOVERNO DO ESTADO DO PARÁ | UIC1: GOVERNO DO ESTADO DO PARÁ | UIS1: GOVERNO DO ESTADO DO PARÁ | UJI1: GOVERNO DO ESTADO DO PARÁ | UJY1: GOVERNO DO ESTADO DO PARÁ | UKO1: GOVERNO DO ESTADO DO PARÁ | ULE1: GOVERNO DO ESTADO DO PARÁ | ULU1: GOVERNO DO ESTADO DO PARÁ | UMK1: GOVERNO DO ESTADO DO PARÁ | UNA1: GOVERNO DO ESTADO DO PARÁ | UNQ1: GOVERNO DO ESTADO DO PARÁ | UOG1: GOVERNO DO ESTADO DO PARÁ | UOW1: GOVERNO DO ESTADO DO PARÁ | UPM1: GOVERNO DO ESTADO DO PARÁ | UQC1: GOVERNO DO ESTADO DO PARÁ | UQS1: GOVERNO DO ESTADO DO PARÁ | URI1: GOVERNO DO ESTADO DO PARÁ | URY1: GOVERNO DO ESTADO DO PARÁ | USO1: GOVERNO DO ESTADO DO PARÁ | UTE1: GOVERNO DO ESTADO DO PARÁ | UTU1: GOVERNO DO ESTADO DO PARÁ | UUK1: GOVERNO DO ESTADO DO PARÁ | UVA1: GOVERNO DO ESTADO DO PARÁ | UVQ1: GOVERNO DO ESTADO DO PARÁ | UWG1: GOVERNO DO ESTADO DO PARÁ | UWW1: GOVERNO DO ESTADO DO PARÁ | UXM1: GOVERNO DO ESTADO DO PARÁ | UYC1: GOVERNO DO ESTADO DO PARÁ | UYS1: GOVERNO DO ESTADO DO PARÁ | UZI1: GOVERNO DO ESTADO DO PARÁ | UZY1: GOVERNO DO ESTADO DO PARÁ | VAO1: GOVERNO DO ESTADO DO PARÁ | VBE1: GOVERNO DO ESTADO DO PARÁ | VBU1: GOVERNO DO ESTADO DO PARÁ | VCK1: GOVERNO DO ESTADO DO PARÁ | VDA1: GOVERNO DO ESTADO DO PARÁ | VDQ1: GOVERNO DO ESTADO DO PARÁ | VEG1: GOVERNO DO ESTADO DO PARÁ | VEW1: GOVERNO DO ESTADO DO PARÁ | VFM1: GOVERNO DO ESTADO DO PARÁ | VGC1: GOVERNO DO ESTADO DO PARÁ | VGS1: GOVERNO DO ESTADO DO PARÁ | VHI1: GOVERNO DO ESTADO DO PARÁ | VHY1: GOVERNO DO ESTADO DO PARÁ | VIO1: GOVERNO DO ESTADO DO PARÁ | VJE1: GOVERNO DO ESTADO DO PARÁ | VJU1: GOVERNO DO ESTADO DO PARÁ | VKK1: GOVERNO DO ESTADO DO PARÁ | VLA1: GOVERNO DO ESTADO DO PARÁ | VLQ1: GOVERNO DO ESTADO DO PARÁ | VMG1: GOVERNO DO ESTADO DO PARÁ | VMW1: GOVERNO DO ESTADO DO PARÁ | VNM1: GOVERNO DO ESTADO DO PARÁ | VOC1: GOVERNO DO ESTADO DO PARÁ | VOS1: GOVERNO DO ESTADO DO PARÁ | VPI1: GOVERNO DO ESTADO DO PARÁ | VPY1: GOVERNO DO ESTADO DO PARÁ | VQO1: GOVERNO DO ESTADO DO PARÁ | VRE1: GOVERNO DO ESTADO DO PARÁ | VRU1: GOVERNO DO ESTADO DO PARÁ | VSK1: GOVERNO DO ESTADO DO PARÁ | VTA1: GOVERNO DO ESTADO DO PARÁ | VTQ1: GOVERNO DO ESTADO DO PARÁ | VUG1: GOVERNO DO ESTADO DO PARÁ | VUW1: GOVERNO DO ESTADO DO PARÁ | VVM1: GOVERNO DO ESTADO DO PARÁ | VWC1: GOVERNO DO ESTADO DO PARÁ | VWS1: GOVERNO DO ESTADO DO PARÁ | VXI1: GOVERNO DO ESTADO DO PARÁ | VXY1: GOVERNO DO ESTADO DO PARÁ | VYO1: GOVERNO DO ESTADO DO PARÁ | VZE1: GOVERNO DO ESTADO DO PARÁ | VZU1: GOVERNO DO ESTADO DO PARÁ | WAK1: GOVERNO DO ESTADO DO PARÁ | WBA1: GOVERNO DO ESTADO DO PARÁ | WBQ1: GOVERNO DO ESTADO DO PARÁ | WCG1: GOVERNO DO ESTADO DO PARÁ | WCW1: GOVERNO DO ESTADO DO PARÁ | WDM1: GOVERNO DO ESTADO DO PARÁ | WEC1: GOVERNO DO ESTADO DO PARÁ | WES1: GOVERNO DO ESTADO DO PARÁ | WFI1: GOVERNO DO ESTADO DO PARÁ | WFY1: GOVERNO DO ESTADO DO PARÁ | WGO1: GOVERNO DO ESTADO DO PARÁ | WHE1: GOVERNO DO ESTADO DO PARÁ | WHU1: GOVERNO DO ESTADO DO PARÁ | WIK1: GOVERNO DO ESTADO DO PARÁ | WJA1: GOVERNO DO ESTADO DO PARÁ | WJQ1: GOVERNO DO ESTADO DO PARÁ | WKG1: GOVERNO DO ESTADO DO PARÁ | WKW1: GOVERNO DO ESTADO DO PARÁ | WLM1: GOVERNO DO ESTADO DO PARÁ | WMC1: GOVERNO DO ESTADO DO PARÁ | WMS1: GOVERNO DO ESTADO DO PARÁ | WNI1: GOVERNO DO ESTADO DO PARÁ | WNY1: GOVERNO DO ESTADO DO PARÁ | WOO1: GOVERNO DO ESTADO DO PARÁ | WPE1: GOVERNO DO ESTADO DO PARÁ | WPU1: GOVERNO DO ESTADO DO PARÁ | WQK1: GOVERNO DO ESTADO DO PARÁ | WRA1: GOVERNO DO ESTADO DO PARÁ | WRQ1: GOVERNO DO ESTADO DO PARÁ | WSG1: GOVERNO DO ESTADO DO PARÁ | WSW1: GOVERNO DO ESTADO DO PARÁ | WTM1: GOVERNO DO ESTADO DO PARÁ | WUC1: GOVERNO DO ESTADO DO PARÁ | WUS1: GOVERNO DO ESTADO DO PARÁ | WVI1: GOVERNO DO ESTADO DO PARÁ | WVY1: GOVERNO DO ESTADO DO PARÁ | WWO1: GOVERNO DO ESTADO DO PARÁ | WXE1: GOVERNO DO ESTADO DO PARÁ | WXU1: GOVERNO DO ESTADO DO PARÁ | WYK1: GOVERNO DO ESTADO DO PARÁ | WZA1: GOVERNO DO ESTADO DO PARÁ | WZQ1: GOVERNO DO ESTADO DO PARÁ | XAG1: GOVERNO DO ESTADO DO PARÁ | XAW1: GOVERNO DO ESTADO DO PARÁ | XBM1: GOVERNO DO ESTADO DO PARÁ | XCC1: GOVERNO DO ESTADO DO PARÁ | XCS1: GOVERNO DO ESTADO DO PARÁ | XDI1: GOVERNO DO ESTADO DO PARÁ | XDY1: GOVERNO DO ESTADO DO PARÁ | XEO1: GOVERNO DO ESTADO DO PARÁ
