Workbook
Name INSS: Noturno!#REF!
Name INSS: DIURNO!#REF!
Name remun: Noturno!#REF!
Name remun: DIURNO!#REF!

Sheet DIURNO
B2: ESTIMATIVA COM GUARITA | E2: Fixo | G2: Motorizado
B3: QTDE de Vigilantes | E3: 4 | G3: 2
B4: VIGILANTE 12x36 - DIURNO | E4: 2025 | G4: =E4 -> 2025
A5: 2.1 | B5: Módulo 1 - Remuneração
A6: A | B6: Salário | E6: 2148.22 | G6: =E6 -> 2148.22
A7: B | B7: Adicional de Periculosidade ( 30% ) | E7: =+E6*0.3 -> 644.466 | G7: =+G6*0.3 -> 644.466
A8: D | B8: Adicional Noturno
A9: E | B9: Hora noturna adicional - ou hora noturna reduzida
A10: G | B10: Gratificação de Função (Motorizado) | G10: =G6*0.1 -> 214.822
B11: Total Remuneração ( Modulo 1) | E11: =SUM(E6:E9) -> 2792.686 | G11: =SUM(G6:G10) -> 3007.508
A13: 2.1 | B13: Submódulo 2.1 - 13º Salário, Férias e adic. de férias
A14: A | B14: 13º Salário | C14: 0.0833 | E14: =+C14*$E$11 -> 232.63074 | G14: =+C14*$G$11 -> 250.52542
A15: B | B15: Férias e Adicional de Férias | C15: =2.78% -> 0.0278 | E15: =+C15*$E$11 -> 77.636671 | G15: =+C15*$G$11 -> 83.608722
A16: C | B16: Encargos Prev e Fgts s/ 13º e adicional | C16: =SUM(C14:C15)*C28 -> 0.0408848 | E16: =+C16*$E$11 -> 114.17841 | G16: =+C16*$G$11 -> 122.96136
B17: Total 13º Salario e Adicional de férias | C17: =SUM(C14:C16) -> 0.1519848 | E17: =SUM(E14:E16) -> 424.44582 | G17: =SUM(G14:G16) -> 457.0955
A19: 2.2 | B19: Submódulo 2.2 - Enc. Previdenciários (GPS), FGTS e outras contribuições
A20: A | B20: INSS | C20: 0.2 | E20: =(+$E$11+$E$17)*C20 -> 643.42636 | G20: =(+$G$11+$G$17)*C20 -> 692.9207
A21: B | B21: Salário Educação | C21: 0.025 | E21: =(+$E$11+$E$17)*C21 -> 80.428296 | G21: =(+$G$11+$G$17)*C21 -> 86.615088
A22: C | B22: Seguro Acidente do Trabalho | C22: 0.03 | E22: =(+$E$11+$E$17)*C22 -> 96.513955 | G22: =(+$G$11+$G$17)*C22 -> 103.93811
A23: D | B23: SESI OU SESC | C23: 0.015 | E23: =(+$E$11+$E$17)*C23 -> 48.256977 | G23: =(+$G$11+$G$17)*C23 -> 51.969053
A24: E | B24: SENAI OU SENAC | C24: 0.01 | E24: =(+$E$11+$E$17)*C24 -> 32.171318 | G24: =(+$G$11+$G$17)*C24 -> 34.646035
A25: F | B25: SEBRAE | C25: 0.006 | E25: =(+$E$11+$E$17)*C25 -> 19.302791 | G25: =(+$G$11+$G$17)*C25 -> 20.787621
A26: G | B26: INCRA | C26: 0.002 | E26: =(+$E$11+$E$17)*C26 -> 6.4342636 | G26: =(+$G$11+$G$17)*C26 -> 6.929207
A27: H | B27: FGTS | C27: 0.08 | E27: =(+$E$11+$E$17)*C27 -> 257.37055 | G27: =(+$G$11+$G$17)*C27 -> 277.16828
B28: Encargos Sociais/Trabalhistas | C28: =SUM(C20:C27) -> 0.368 | E28: =SUM(E20:E27) -> 1183.9045 | G28: =SUM(G20:G27) -> 1274.9741
A30: 2.3 | B30: Submódulo 2.3 - Benefícios Mensais e Diários
A31: A | B31: Transporte | E31: =-(E6*6%)+(5*2*15.22) -> 23.3068 | G31: =-(G6*6%)+(5*2*15.22) -> 23.3068
A32: B | B32: Auxílio alimentação (Vales, cesta básica etc.) CCT | E32: =(39-(39*18%))*15.22 -> 486.7356 | G32: =(39-(39*18%))*15.22 -> 486.7356
A33: C | B33: Assistência Médica e familiar | E33: 0 | G33: 0
A34: D | B34: Cesta básica | E34: =197.12*0.95 -> 187.264 | G34: =197.12*0.95 -> 187.264
A35: E | B35: Seguro de vida | E35: 14.99 | G35: 14.99
B36: Total Beneficios Mensais e Diarios | E36: =SUM(E31:E35) -> 712.2964 | G36: =SUM(G31:G35) -> 712.2964
A38: 3 | B38: Módulo 3 : Provisão para Rescisão
A39: A | B39: Aviso Prévio Indenizado | C39: 0.0092 | E39: =+C39*$E$11 -> 25.692711 | G39: =+C39*$G$11 -> 27.669074
A40: B | B40: Incidência do FGTS sobre o aviso prévio indenizado | C40: =C27*C39 -> 0.000736 | E40: =+C40*$E$11 -> 2.0554169 | G40: =+C40*$G$11 -> 2.2135259
A41: E | B41: Multa do FGTS do aviso prévio indenizado | C41: 0.02 | E41: =+C41*$E$11 -> 55.85372 | G41: =+C41*$G$11 -> 60.15016
A42: C | B42: Aviso Prévio Trabalhado | C42: 0.0194 | E42: =+C42*$E$11 -> 54.178108 | G42: =+C42*$G$11 -> 58.345655
A43: D | B43: Incidência do submodulo 2.2 sobre o aviso prévio trabalhado | C43: =C28*C42 -> 0.0071392 | E43: =+C43*$E$11 -> 19.937544 | G43: =+C43*$G$11 -> 21.471201
A44: E | B44: Multa do FGTS do aviso prévio e trabalhado | C44: 0.02 | E44: =+C44*$E$11 -> 55.85372 | G44: =+C44*$G$11 -> 60.15016
B45: Total custo Provisão para Rescisão | C45: =SUM(C39:C44) -> 0.0764752 | E45: =SUM(E39:E44) -> 213.57122 | G45: =SUM(G39:G44) -> 229.99978
B47: Módulo 4 : Custo de Reposição do Profissional Ausente
A48: 4.1 | B48: Ausencias legais
A49: A | B49: Férias terço constitucional de férias | C49: 0.0833 | E49: =+C49*$E$11 -> 232.63074 | G49: =+C49*$G$11 -> 250.52542
A50: B | B50: Ausências legais | C50: 0.0239 | E50: =+C50*$E$11 -> 66.745195 | G50: =+C50*$G$11 -> 71.879441
A51: C | B51: Licença paternidade | C51: 0.0008 | E51: =+C51*$E$11 -> 2.2341488 | G51: =+C51*$G$11 -> 2.4060064
A52: D | B52: Ausência por Acidente de trabalho | C52: 0.005 | E52: =+C52*$E$11 -> 13.96343 | G52: =+C52*$G$11 -> 15.03754
A53: E | B53: Afastamento Maternidade | C53: 0.001 | E53: =+C53*$E$11 -> 2.792686 | G53: =+C53*$G$11 -> 3.007508
A54: F | B54: Incidência do submódulo 2.2 sobre o submódulo 2.1 e sobre as alíneas A, B, C, D e E do submódulo 4.1 | C54: =SUM(C49:C53)*C28 -> 0.041952 | E54: =+C54*$E$11 -> 117.15876 | G54: =+C54*$G$11 -> 126.17098
B55: Total custo de Reposição Prof Ausente | C55: =SUM(C49:C54) -> 0.155952 | E55: =SUM(E49:E54) -> 435.52497 | G55: =SUM(G49:G54) -> 469.02689
A57: 4.2 | B57: Módulo 4.2 - Intrajornada
A58: A | B58: Intervalo para repouso ou alimentação | E58: =($E$6+$E$7)/220*1.6*15.22 -> 309.12495 | G58: =($G$6+$G$7+$G$10)/220*1.6*15.22 -> 332.90379
B59: Total Intrajornada | E59: =SUM(E58) -> 309.12495 | G59: =SUM(G58) -> 332.90379
A61: 5 | B61: Módulo 5 : Insumos diversos
A62: A | B62: Uniformes | E62: 90 | G62: 90
A63: B | B63: Materiais | E63: 150 | G63: 150
A64: C | B64: Equipamentos | E64: 50 | G64: 800
A65: D | B65: Guarita com Banheiro/Ar-condicionado/Copa | E65: =273.33*1.0749 -> 293.80242 | G65: 0
B66: Total de Insumos Diversos | E66: =SUM(E62:E65) -> 583.80242 | G66: =SUM(G62:G64)-0.01 -> 1039.99
B68: TOTAL MÃO DE OBRA. BENEFÍCIOS E MATERIAIS | C68: =+C17+C28+C45+C55 -> 0.752412 | E68: =+E11+E17+E28+E36+E45+E55+E66+E59+0.01 -> 6655.3663 | G68: =+G11+G17+G28+G36+G45+G55+G66 -> 7190.8907
B70: Custos indiretos | C70: 0.15 | E70: =+$C$70*E83 -> 998.30344 | G70: =+$C$70*G83 -> 1128.5692
B71: PIS(1,65%)/cofins(7,60%)/Iss (4%) | C71: 0.1325 | E71: =((+E70+E72+E83)*$C$71)/(100%-$C$71) -> 1344.3532 | G71: =((+G70+G72+G83)*$C$71)/(100%-$C$71) -> 1519.774
A72: C | B72: Lucro | C72: 0.15 | E72: =(E70+E83)*$C$72 -> 1148.049 | G72: =(G70+G83)*$C$72 -> 1297.8545
B73: Total Custos Indireto/tributos/lucro | C73: =SUM(C70:C72) -> 0.4325 | E73: =SUM(E70:E72) -> 3490.7056 | G73: =SUM(G70:G72) -> 3946.1977
A75: Anexo III-B - Quadro-resumo do Custo por Empregado
A77: A | B77: Módulo 1 - Composição da Remuneração | E77: =+E11 -> 2792.686 | G77: =+G11 -> 3007.508
A78: B | B78: Módulo 2 - Benefícios Mensais e Diários | E78: =+E36 -> 712.2964 | G78: =+G36 -> 712.2964
A79: C | B79: Módulo 3 - Insumos Diversos (uniformes, materiais, equipamentos e outros) | E79: =E66 -> 583.80242 | G79: =G66 -> 1039.99
A80: D | B80: Módulo 4 - Encargos Sociais e Trabalhistas | E80: =+E17+E28+E45+E55+E59 -> 2566.5715 | G80: =+G17+G28+G45+G55+G59 -> 2764
A83: E | B83: Subtotal (A+B+C+D) | E83: =SUM(E77:E82) -> 6655.3563 | G83: =SUM(G77:G82) -> 7523.7944
A84: F | B84: Custos indiretos /tributo/lucro | E84: =E73 -> 3490.7056 | G84: =G73 -> 3946.1977
B86: TOTAL por empregado | E86: =+E83+E84 -> 10146.062 | G86: =+G83+G84 -> 11469.992
B88: TOTAL por POSTO | E88: =+E86*2 -> 20292.124 | G88: =+G86*2 -> 22939.984
B90: Quant de postos | E90: 2 | G90: 1
B92: Total por mês | E92: =+E88*E90+0.01 -> 40584.258 | G92: =+G88*G90 -> 22939.984
B94: TOTAL ANUAL | E94: =+E92*12 -> 487011.09 | G94: =+G92*12 -> 275279.81

Sheet Noturno
B2: =DIURNO!B2 -> ESTIMATIVA COM GUARITA | E2: Fixo | G2: Motorizado
B3: QTDE de Vigilantes | E3: 4 | G3: 2
B4: VIGILANTE 12x36 - Noturno | E4: 2025 | G4: =E4 -> 2025
A5: 2.1 | B5: Módulo 1 - Remuneração
A6: A | B6: Salário | E6: 2148.22 | G6: =E6 -> 2148.22
A7: B | B7: Adicional de Periculosidade ( 30% ) | E7: =+E6*0.3 -> 644.466 | G7: =+G6*0.3 -> 644.466
A8: D | B8: Adicional Noturno | E8: =(E7+E6)/220*20%*7*15.22 -> 270.48433 | G8: =(G7+G6+G10)/220*20%*7*15.22 -> 291.29082
A9: E | B9: Hora noturna adicional - ou hora noturna reduzida | E9: =(((E10+E6+E7)/220)*15.22*1.2) -> 231.84371 | G9: =(((G10+G6+G7)/220)*15.22*1.2) -> 249.67785
A10: G | B10: Gratificação de Função (Motorizado) | G10: =G6*0.1 -> 214.822
B11: Total Remuneração ( Modulo 1) | E11: =SUM(E6:E10) -> 3295.014 | G11: =SUM(G6:G10) -> 3548.4767
A13: 2.1 | B13: Submódulo 2.1 - 13º Salário, Férias e adic. de férias
A14: A | B14: 13º Salário | C14: 0.0833 | E14: =+C14*$E$11 -> 274.47467 | G14: =+C14*$G$11 -> 295.58811
A15: B | B15: Férias e Adicional de Férias | C15: =2.78% -> 0.0278 | E15: =+C15*$E$11 -> 91.601391 | G15: =+C15*$G$11 -> 98.647651
A16: C | B16: Encargos Prev e Fgts s/ 13º e adicional | C16: =SUM(C14:C15)*C28 -> 0.0408848 | E16: =E11*C16 -> 134.71599 | G16: =G11*C16 -> 145.07876
B17: Total 13º Salario e Adicional de férias | C17: =SUM(C14:C16) -> 0.1519848 | E17: =SUM(E14:E16) -> 500.79205 | G17: =SUM(G14:G16) -> 539.31452
A19: 2.2 | B19: Submódulo 2.2 - Enc. Previdenciários (GPS), FGTS e outras contribuições
A20: A | B20: INSS | C20: 0.2 | E20: =(+$E$11+$E$17)*C20 -> 759.16122 | G20: =(+$G$11+$G$17)*C20 -> 817.55824
A21: B | B21: Salário Educação | C21: 0.025 | E21: =(+$E$11+$E$17)*C21 -> 94.895152 | G21: =(+$G$11+$G$17)*C21 -> 102.19478
A22: C | B22: Seguro Acidente do Trabalho | C22: 0.03 | E22: =(+$E$11+$E$17)*C22 -> 113.87418 | G22: =(+$G$11+$G$17)*C22 -> 122.63374
A23: D | B23: SESI OU SESC | C23: 0.015 | E23: =(+$E$11+$E$17)*C23 -> 56.937091 | G23: =(+$G$11+$G$17)*C23 -> 61.316868
A24: E | B24: SENAI OU SENAC | C24: 0.01 | E24: =(+$E$11+$E$17)*C24 -> 37.958061 | G24: =(+$G$11+$G$17)*C24 -> 40.877912
A25: F | B25: SEBRAE | C25: 0.006 | E25: =(+$E$11+$E$17)*C25 -> 22.774837 | G25: =(+$G$11+$G$17)*C25 -> 24.526747
A26: G | B26: INCRA | C26: 0.002 | E26: =(+$E$11+$E$17)*C26 -> 7.5916122 | G26: =(+$G$11+$G$17)*C26 -> 8.1755824
A27: H | B27: FGTS | C27: 0.08 | E27: =(+$E$11+$E$17)*C27 -> 303.66449 | G27: =(+$G$11+$G$17)*C27 -> 327.02329
B28: Encargos Sociais/Trabalhistas | C28: =SUM(C20:C27) -> 0.368 | E28: =SUM(E20:E27) -> 1396.8566 | G28: =SUM(G20:G27) -> 1504.3072
A30: 2.3 | B30: Submódulo 2.3 - Benefícios Mensais e Diários
A31: A | B31: Transporte | E31: =-(E6*6%)+(5*2*15.22) -> 23.3068 | G31: =-(G6*6%)+(5*2*15.22) -> 23.3068
A32: B | B32: Auxílio alimentação (Vales, cesta básica etc.) CCT | E32: =(39-(39*18%))*15.22 -> 486.7356 | G32: =(37-(37*18%))*15.22 -> 461.7748
A33: C | B33: Assistência Médica e familiar | E33: 0 | G33: 0
A34: D | B34: Cesta básica | E34: =197.12*0.95 -> 187.264 | G34: =197.12*0.95 -> 187.264
A35: E | B35: Seguro de vida | E35: 14.99 | G35: 14.99
B36: Total Beneficios Mensais e Diarios | E36: =SUM(E31:E35) -> 712.2964 | G36: =SUM(G31:G35) -> 687.3356
A38: 3 | B38: Módulo 3 : Provisão para Rescisão
A39: A | B39: Aviso Prévio Indenizado | C39: 0.0092 | E39: =+C39*$E$11 -> 30.314129 | G39: =+C39*$G$11 -> 32.645985
A40: B | B40: Incidência do FGTS sobre o aviso prévio indenizado | C40: =C27*C39 -> 0.000736 | E40: =+C40*$E$11 -> 2.4251303 | G40: =+C40*$G$11 -> 2.6116788
A41: E | B41: Multa do FGTS do aviso prévio indenizado | C41: 0.02 | E41: =+C41*$E$11 -> 65.900281 | G41: =+C41*$G$11 -> 70.969533
A42: C | B42: Aviso Prévio Trabalhado | C42: 0.0194 | E42: =+C42*$E$11 -> 63.923273 | G42: =+C42*$G$11 -> 68.840447
A43: D | B43: Incidência do submodulo 2.2 sobre o aviso prévio trabalhado | C43: =C28*C42 -> 0.0071392 | E43: =+C43*$E$11 -> 23.523764 | G43: =+C43*$G$11 -> 25.333285
A44: E | B44: Multa do FGTS do aviso prévio e trabalhado | C44: 0.02 | E44: =+C44*$E$11 -> 65.900281 | G44: =+C44*$G$11 -> 70.969533
B45: Total custo Provisão para Rescisão | C45: =SUM(C39:C44) -> 0.0764752 | E45: =SUM(E39:E44) -> 251.98686 | G45: =SUM(G39:G44) -> 271.37046
A47: 4.1 | B47: Módulo 4 : Custo de Reposição do Profissional Ausente
A48: A | B48: Férias e terço constitucional de férias | C48: 0.0833 | E48: =+C48*$E$11 -> 274.47467 | G48: =+C48*$G$11 -> 295.58811
A49: B | B49: Ausências legais | C49: 0.0239 | E49: =+C49*$E$11 -> 78.750836 | G49: =+C49*$G$11 -> 84.808592
A50: C | B50: Licença paternidade | C50: 0.0008 | E50: =+C50*$E$11 -> 2.6360112 | G50: =+C50*$G$11 -> 2.8387813
A51: D | B51: Ausência por Acidente de trabalho | C51: 0.005 | E51: =+C51*$E$11 -> 16.47507 | G51: =+C51*$G$11 -> 17.742383
A52: E | B52: Afastamento Maternidade | C52: 0.001 | E52: =+C52*$E$11 -> 3.295014 | G52: =+C52*$G$11 -> 3.5484767
A53: F | B53: Incidência do submódulo 2.2 sobre o submódulo 2.1 e sobre as alíneas A, B, C, D e E do submódulo 4.1 | C53: =SUM(C48:C52)*C28 -> 0.041952 | E53: =+C53*$E$11 -> 138.23243 | G53: =+C53*$G$11 -> 148.86569
B54: Total custo de Reposição Prof Ausente | C54: =SUM(C48:C53) -> 0.155952 | E54: =SUM(E48:E53) -> 513.86403 | G54: =SUM(G48:G53) -> 553.39203
A56: 4.2 | B56: Módulo 4.2 - Intrajornada
A57: A | B57: Intervalo para repouso ou alimentação | E57: =(+E6+E7)/220*1.6*15.22 -> 309.12495 | G57: =(+G6+G7+G10)/220*1.6*15.22 -> 332.90379
B58: Total Intrajornada | E58: =SUM(E57) -> 309.12495 | G58: =SUM(G57) -> 332.90379
A60: 5 | B60: Módulo 5 : Insumos diversos
A61: A | B61: Uniformes | E61: 90 | G61: 90
A62: B | B62: Materiais | E62: 150 | G62: 150
A63: C | B63: Equipamentos | E63: 50 | G63: 800
A64: D | B64: Guarita com Banheiro/Ar-condicionado/Copa | E64: =273.33*1.0749 -> 293.80242 | G64: 0
B65: Total de Insumos Diversos | E65: =SUM(E61:E64) -> 583.80242 | G65: =SUM(G61:G64) -> 1040
B67: TOTAL MÃO DE OBRA. BENEFÍCIOS E MATERIAIS | C67: =+C17+C28+C45+C54 -> 0.752412 | E67: =+E11+E17+E28+E36+E45+E54+E65+E58-0.01 -> 7563.7274 | G67: =+G11+G17+G28+G36+G45+G54+G65 -> 8144.1964
B69: Custos indiretos | C69: 0.15 | E69: =+$C$69*E82 -> 1134.5606 | G69: =+$C$69*G82 -> 1271.565
B70: PIS(1,65%)/cofins(7,60%)/Iss (4%) | C70: 0.1325 | E70: =((+E69+E71+E82)*$C$70)/(100%-$C$70) -> 1527.8423 | G70: =((+G69+G71+G82)*$C$70)/(100%-$C$70) -> 1712.3376
A71: C | B71: Lucro | C71: 0.15 | E71: =(E69+E82)*$C$71 -> 1304.7447 | G71: =(G69+G82)*$C$71 -> 1462.2998
B72: Total Custos Indireto/tributos/lucro | C72: =SUM(C69:C71) -> 0.4325 | E72: =SUM(E69:E71) -> 3967.1476 | G72: =SUM(G69:G71)+0.01 -> 4446.2124
A74: Anexo III-B - Quadro-resumo do Custo por Empregado
A76: A | B76: Módulo 1 - Composição da Remuneração | E76: =E11 -> 3295.014 | G76: =G11 -> 3548.4767
A77: B | B77: Módulo 2 - Benefícios Mensais e Diários | E77: =E36 -> 712.2964 | G77: =G36 -> 687.3356
A78: C | B78: Módulo 3 - Insumos Diversos (uniformes, materiais, equipamentos e outros) | E78: =E65 -> 583.80242 | G78: =G65 -> 1040
A79: D | B79: Módulo 4 - Encargos Sociais e Trabalhistas | E79: =+E17+E28+E45+E54+E58 -> 2972.6245 | G79: =+G17+G28+G45+G54+G58 -> 3201.288
A82: E | B82: Subtotal (A+B+C+D) | E82: =SUM(E76:E81) -> 7563.7374 | G82: =SUM(G76:G81) -> 8477.1002
A83: F | B83: Custos indiretos /tributo/lucro | E83: =E72 -> 3967.1476 | G83: =G72 -> 4446.2124
B85: TOTAL por empregado | E85: =+E82+E83 -> 11530.885 | G85: =+G82+G83 -> 12923.313
B87: TOTAL por POSTO | E87: =+E85*2 -> 23061.77 | G87: =+G85*2 -> 25846.625
B89: Quant de postos | E89: 2 | G89: 1
B91: Total por mês | E91: =+E87*E89 -> 46123.54 | G91: =+G87*G89 -> 25846.625
B93: TOTAL ANUAL | E93: =+E91*12 -> 553482.48 | G93: =+G91*12 -> 310159.5

Sheet RESUMO
B6: RESUMO
D7: Valor Inicial
B8: RESUMO | C8: Postos | D8: Posto | E8: Total
B9: Vigilante (Fixo)- Diurno | C9: 2 | D9: =DIURNO!E88 -> 20292.124 | E9: =+D9*C9 -> 40584.248
B10: Vigilante (Fixo)- Noturno | C10: 2 | D10: =Noturno!E87 -> 23061.77 | E10: =+D10*C10 -> 46123.54
B11: Subtotal - Fixo | C11: =SUM(C9:C10) -> 4 | E11: =SUM(E9:E10) -> 86707.787
B12: Vigilante (Mot.) - Diurno | C12: 1 | D12: =DIURNO!G88 -> 22939.984 | E12: =+D12*C12 -> 22939.984
B13: Vigilante(Mot.) - Noturno | C13: 1 | D13: =Noturno!G91 -> 25846.625 | E13: =+D13*C13 -> 25846.625
B14: Subtotal - Motorizado | C14: =SUM(C12:C13) -> 2 | E14: =SUM(E12:E13) -> 48786.61
B16: TOTAL MENSAL | C16: =+C11+C14 -> 6 | E16: =+E11+E14 -> 135494.4
B18: Valor Total Anual | E18: =+E16*12+0.01 -> 1625932.8
C22: Paulo Ricardo Tardoque
C23: Chefe do Serviço de Recursos Logísticos e Informática
C24: Matr. SIAPE 1574481
