Workbook
Name INSS: Noturno!#REF!
Name INSS: DIURNO!#REF!
Name remun: Noturno!#REF!
Name remun: DIURNO!#REF!

Sheet DIURNO
B2: ESTIMATIVA COM GUARITA | E2: Fixo | G2: Motorizado
B3: QTDE de Vigilantes | E3: 4 | G3: 2
B4: VIGILANTE 12x36 - DIURNO | E4: 2025 | G4: =E4 -> 2025
A5: 2.1 | B5: Módulo 1 - Remuneração
A6: A | B6: Salário | E6: 2148.22 | G6: =E6 -> 2148.22
A7: B | B7: Adicional de Periculosidade ( 30% ) | E7: =+E6*0.3 -> 644.466 | G7: =+G6*0.3 -> 644.466
A8: D | B8: Adicional Noturno
A9: E | B9: Hora noturna adicional - ou hora noturna reduzida
A10: G | B10: Gratificação de Função (Motorizado) | G10: =G6*0.1 -> 214.822
B11: Total Remuneração ( Modulo 1) | E11: =SUM(E6:E9) -> 2792.686 | G11: =SUM(G6:G10) -> 3007.508
A13: 2.1 | B13: Submódulo 2.1 - 13º Salário, Férias e adic. de férias
A14: A | B14: 13º Salário | C14: 0.0833 | E14: =+C14*$E$11 -> 232.63074 | G14: =+C14*$G$11 -> 250.52542
A15: B | B15: Férias e Adicional de Férias | C15: =2.78% -> 0.0278 | E15: =+C15*$E$11 -> 77.636671 | G15: =+C15*$G$11 -> 83.608722
A16: C | B16: Encargos Prev e Fgts s/ 13º e adicional | C16: =SUM(C14:C15)*C28 -> 0.0408848 | E16: =+C16*$E$11 -> 114.17841 | G16: =+C16*$G$11 -> 122.96136
B17: Total 13º Salario e Adicional de férias | C17: =SUM(C14:C16) -> 0.1519848 | E17: =SUM(E14:E16) -> 424.44582 | G17: =SUM(G14:G16) -> 457.0955
A19: 2.2 | B19: Submódulo 2.2 - Enc. Previdenciários (GPS), FGTS e outras contribuições
A20: A | B20: INSS | C20: 0.2 | E20: =(+$E$11+$E$17)*C20 -> 643.42636 | G20: =(+$G$11+$G$17)*C20 -> 692.9207
A21: B | B21: Salário Educação | C21: 0.025 | E21: =(+$E$11+$E$17)*C21 -> 80.428296 | G21: =(+$G$11+$G$17)*C21 -> 86.615088
A22: C | B22: Seguro Acidente do Trabalho | C22: 0.03 | E22: =(+$E$11+$E$17)*C22 -> 96.513955 | G22: =(+$G$11+$G$17)*C22 -> 103.93811
A23: D | B23: SESI OU SESC | C23: 0.015 | E23: =(+$E$11+$E$17)*C23 -> 48.256977 | G23: =(+$G$11+$G$17)*C23 -> 51.969053
A24: E | B24: SENAI OU SENAC | C24: 0.01 | E24: =(+$E$11+$E$17)*C24 -> 32.171318 | G24: =(+$G$11+$G$17)*C24 -> 34.646035
A25: F | B25: SEBRAE | C25: 0.006 | E25: =(+$E$11+$E$17)*C25 -> 19.302791 | G25: =(+$G$11+$G$17)*C25 -> 20.787621
A26: G | B26: INCRA | C26: 0.002 | E26: =(+$E$11+$E$17)*C26 -> 6.4342636 | G26: =(+$G$11+$G$17)*C26 -> 6.929207
A27: H | B27: FGTS | C27: 0.08 | E27: =(+$E$11+$E$17)*C27 -> 257.37055 | G27: =(+$G$11+$G$17)*C27 -> 277.16828
B28: Encargos Sociais/Trabalhistas | C28: =SUM(C20:C27) -> 0.368 | E28: =SUM(E20:E27) -> 1183.9045 | G28: =SUM(G20:G27) -> 1274.9741
A30: 2.3 | B30: Submódulo 2.3 - Benefícios Mensais e Diários
A31: A | B31: Transporte | E31: =-(E6*6%)+(5*2*15.22) -> 23.3068 | G31: =-(G6*6%)+(5*2*15.22) -> 23.3068
A32: B | B32: Auxílio alimentação (Vales, cesta básica etc.) CCT | E32: =(39-(39*18%))*15.22 -> 486.7356 | G32: =(39-(39*18%))*15.22 -> 486.7356
A33: C | B33: Assistência Médica e familiar | E33: 0 | G33: 0
A34: D | B34: Cesta básica | E34: =197.12*0.95 -> 187.264 | G34: =197.12*0.95 -> 187.264
A35: E | B35: Seguro de vida | E35: 14.99 | G35: 14.99
B36: Total Beneficios Mensais e Diarios | E36: =SUM(E31:E35) -> 712.2964 | G36: =SUM(G31:G35) -> 712.2964
A38: 3 | B38: Módulo 3 : Provisão para Rescisão
A39: A | B39: Aviso Prévio Indenizado | C39: 0.0092 | E39: =+C39*$E$11 -> 25.692711 | G39: =+C39*$G$11 -> 27.669074
A40: B | B40: Incidência do FGTS sobre o aviso prévio indenizado | C40: =C27*C39 -> 0.000736 | E40: =+C40*$E$11 -> 2.0554169 | G40: =+C40*$G$11 -> 2.2135259
A41: E | B41: Multa do FGTS do aviso prévio indenizado | C41: 0.02 | E41: =+C41*$E$11 -> 55.85372 | G41: =+C41*$G$11 -> 60.15016
A42: C | B42: Aviso Prévio Trabalhado | C42: 0.0194 | E42: =+C42*$E$11 -> 54.178108 | G42: =+C42*$G$11 -> 58.345655
A43: D | B43: Incidência do submodulo 2.2 sobre o aviso prévio trabalhado | C43: =C28*C42 -> 0.0071392 | E43: =+C43*$E$11 -> 19.937544 | G43: =+C43*$G$11 -> 21.471201
A44: E | B44: Multa do FGTS do aviso prévio e trabalhado | C44: 0.02 | E44: =+C44*$E$11 -> 55.85372 | G44: =+C44*$G$11 -> 60.15016
B45: Total custo Provisão para Rescisão | C45: =SUM(C39:C44) -> 0.0764752 | E45: =SUM(E39:E44) -> 213.57122 | G45: =SUM(G39:G44) -> 229.99978
...

Sheet Noturno
B2: =DIURNO!B2 -> ESTIMATIVA COM GUARITA | E2: Fixo | G2: Motorizado
B3: QTDE de Vigilantes | E3: 4 | G3: 2
B4: VIGILANTE 12x36 - Noturno | E4: 2025 | G4: =E4 -> 2025
A5: 2.1 | B5: Módulo 1 - Remuneração
A6: A | B6: Salário | E6: 2148.22 | G6: =E6 -> 2148.22
A7: B | B7: Adicional de Periculosidade ( 30% ) | E7: =+E6*0.3 -> 644.466 | G7: =+G6*0.3 -> 644.466
A8: D | B8: Adicional Noturno | E8: =(E7+E6)/220*20%*7*15.22 -> 270.48433 | G8: =(G7+G6+G10)/220*20%*7*15.22 -> 291.29082
A9: E | B9: Hora noturna adicional - ou hora noturna reduzida | E9: =(((E10+E6+E7)/220)*15.22*1.2) -> 231.84371 | G9: =(((G10+G6+G7)/220)*15.22*1.2) -> 249.67785
A10: G | B10: Gratificação de Função (Motorizado) | G10: =G6*0.1 -> 214.822
B11: Total Remuneração ( Modulo 1) | E11: =SUM(E6:E10) -> 3295.014 | G11: =SUM(G6:G10) -> 3548.4767
A13: 2.1 | B13: Submódulo 2.1 - 13º Salário, Férias e adic. de férias
A14: A | B14: 13º Salário | C14: 0.0833 | E14: =+C14*$E$11 -> 274.47467 | G14: =+C14*$G$11 -> 295.58811
A15: B | B15: Férias e Adicional de Férias | C15: =2.78% -> 0.0278 | E15: =+C15*$E$11 -> 91.601391 | G15: =+C15*$G$11 -> 98.647651
A16: C | B16: Encargos Prev e Fgts s/ 13º e adicional | C16: =SUM(C14:C15)*C28 -> 0.0408848 | E16: =E11*C16 -> 134.71599 | G16: =G11*C16 -> 145.07876
B17: Total 13º Salario e Adicional de férias | C17: =SUM(C14:C16) -> 0.1519848 | E17: =SUM(E14:E16) -> 500.79205 | G17: =SUM(G14:G16) -> 539.31452
A19: 2.2 | B19: Submódulo 2.2 - Enc. Previdenciários (GPS), FGTS e outras contribuições
A20: A | B20: INSS | C20: 0.2 | E20: =(+$E$11+$E$17)*C20 -> 759.16122 | G20: =(+$G$11+$G$17)*C20 -> 817.55824
A21: B | B21: Salário Educação | C21: 0.025 | E21: =(+$E$11+$E$17)*C21 -> 94.895152 | G21: =(+$G$11+$G$17)*C21 -> 102.19478
A22: C | B22: Seguro Acidente do Trabalho | C22: 0.03 | E22: =(+$E$11+$E$17)*C22 -> 113.87418 | G22: =(+$G$11+$G$17)*C22 -> 122.63374
A23: D | B23: SESI OU SESC | C23: 0.015 | E23: =(+$E$11+$E$17)*C23 -> 56.937091 | G23: =(+$G$11+$G$17)*C23 -> 61.316868
A24: E | B24: SENAI OU SENAC | C24: 0.01 | E24: =(+$E$11+$E$17)*C24 -> 37.958061 | G24: =(+$G$11+$G$17)*C24 -> 40.877912
A25: F | B25: SEBRAE | C25: 0.006 | E25: =(+$E$11+$E$17)*C25 -> 22.774837 | G25: =(+$G$11+$G$17)*C25 -> 24.526747
A26: G | B26: INCRA | C26: 0.002 | E26: =(+$E$11+$E$17)*C26 -> 7.5916122 | G26: =(+$G$11+$G$17)*C26 -> 8.1755824
A27: H | B27: FGTS | C27: 0.08 | E27: =(+$E$11+$E$17)*C27 -> 303.66449 | G27: =(+$G$11+$G$17)*C27 -> 327.02329
B28: Encargos Sociais/Trabalhistas | C28: =SUM(C20:C27) -> 0.368 | E28: =SUM(E20:E27) -> 1396.8566 | G28: =SUM(G20:G27) -> 1504.3072
A30: 2.3 | B30: Submódulo 2.3 - Benefícios Mensais e Diários
A31: A | B31: Transporte | E31: =-(E6*6%)+(5*2*15.22) -> 23.3068 | G31: =-(G6*6%)+(5*2*15.22) -> 23.3068
A32: B | B32: Auxílio alimentação (Vales, cesta básica etc.) CCT | E32: =(39-(39*18%))*15.22 -> 486.7356 | G32: =(37-(37*18%))*15.22 -> 461.7748
A33: C | B33: Assistência Médica e familiar | E33: 0 | G33: 0
A34: D | B34: Cesta básica | E34: =197.12*0.95 -> 187.264 | G34: =197.12*0.95 -> 187.264
A35: E | B35: Seguro de vida | E35: 14.99 | G35: 14.99
B36: Total Beneficios Mensais e Diarios | E36: =SUM(E31:E35) -> 712.2964 | G36: =SUM(G31:G35) -> 687.3356
A38: 3 | B38: Módulo 3 : Provisão para Rescisão
A39: A | B39: Aviso Prévio Indenizado | C39: 0.0092 | E39: =+C39*$E$11 -> 30.314129 | G39: =+C39*$G$11 -> 32.645985
A40: B | B40: Incidência do FGTS sobre o aviso prévio indenizado | C40: =C27*C39 -> 0.000736 | E40: =+C40*$E$11 -> 2.4251303 | G40: =+C40*$G$11 -> 2.6116788
A41: E | B41: Multa do FGTS do aviso prévio indenizado | C41: 0.02 | E41: =+C41*$E$11 -> 65.900281 | G41: =+C41*$G$11 -> 70.969533
A42: C | B42: Aviso Prévio Trabalhado | C42: 0.0194 | E42: =+C42*$E$11 -> 63.923273 | G42: =+C42*$G$11 -> 68.840447
A43: D | B43: Incidência do submodulo 2.2 sobre o aviso prévio trabalhado | C43: =C28*C42 -> 0.0071392 | E43: =+C43*$E$11 -> 23.523764 | G43: =+C43*$G$11 -> 25.333285
A44: E | B44: Multa do FGTS do aviso prévio e trabalhado | C44: 0.02 | E44: =+C44*$E$11 -> 65.900281 | G44: =+C44*$G$11 -> 70.969533
B45: Total custo Provisão para Rescisão | C45: =SUM(C39:C44) -> 0.0764752 | E45: =SUM(E39:E44) -> 251.98686 | G45: =SUM(G39:G44) -> 271.37046
...

Sheet RESUMO
B6: RESUMO
D7: Valor Inicial
B8: RESUMO | C8: Postos | D8: Posto | E8: Total
B9: Vigilante (Fixo)- Diurno | C9: 2 | D9: =DIURNO!E88 -> 20292.124 | E9: =+D9*C9 -> 40584.248
B10: Vigilante (Fixo)- Noturno | C10: 2 | D10: =Noturno!E87 -> 23061.77 | E10: =+D10*C10 -> 46123.54
B11: Subtotal - Fixo | C11: =SUM(C9:C10) -> 4 | E11: =SUM(E9:E10) -> 86707.787
B12: Vigilante (Mot.) - Diurno | C12: 1 | D12: =DIURNO!G88 -> 22939.984 | E12: =+D12*C12 -> 22939.984
B13: Vigilante(Mot.) - Noturno | C13: 1 | D13: =Noturno!G91 -> 25846.625 | E13: =+D13*C13 -> 25846.625
B14: Subtotal - Motorizado | C14: =SUM(C12:C13) -> 2 | E14: =SUM(E12:E13) -> 48786.61
B16: TOTAL MENSAL | C16: =+C11+C14 -> 6 | E16: =+E11+E14 -> 135494.4
B18: Valor Total Anual | E18: =+E16*12+0.01 -> 1625932.8
C22: Paulo Ricardo Tardoque
C23: Chefe do Serviço de Recursos Logísticos e Informática
C24: Matr. SIAPE 1574481
