Workbook

Sheet CEB
A1: CEB Distribuição
G2: LEITURA | P2: Energia kWh | S2: Energia Reativa Excedente - EREX | V2: Potência - kW | X2: Demanda Reativa Excendente - DREX | AI2: TENSÃO DE FORNECIMENTO
A3: Mês/Ano Faturado | B3: Identificação | C3: CNPJ | D3: Classificação | E3: LIGAÇÃO | F3: TARIFA | G3: ATUAL | H3: ANTERIOR | I3: Nº DO MEDIDOR | J3: CONSTANTE kW | K3: CONSTANTE kVarh | L3: Perdas (%) | M3: Período | N3: KW Regist. Ponta | O3: kW Regist. Fponta | P3: Ponta | Q3: Fora de Ponta (FP) | R3: Reservado (Res) | S3: Ponta | T3: Fora de Ponta (FP) | U3: Reservado (Res) | V3: Ponta (P) | W3: Fora de Ponta (FP) | X3: Ponta (P) | Y3: Fora de Ponta (FP) | Z3: CONSUMO PONTA UMIDO/SECA | AA3: VALOR | AB3: TOTAL | AC3: CONSUMO F PONTA UMIDO/SECA | AD3: VALOR | AE3: TOTAL | AF3: DEMANDA | AG3: VALOR | AH3: TOTAL | AI3: NOMINAL | AK3: LIM. INF. | AM3: LIM. SUP. | AO3: Total da Fatura - Bruto | AP3: Base de Cálculo impostos federais | AQ3: Total impostos federais | AR3: Total da Fatura - Líquido | AS3: Observações
A4: 38718 | B4: 880.153-3 - Agência Nacional de Transportes Aquaviários - ANTAQ | C4: 04.903.587/0001-08 | D4: P. PUBLICO | E4: VERDE | F4: THS-AS | I4: 53155639 | J4: 0.09 | K4: 0.36 | L4: 0 | M4: SECO | R4: 0 | S4: 0 | T4: 0 | U4: 0 | V4: 0 | W4: =O4 -> 0 | X4: 0 | Y4: 0 | Z4: =P4 -> 0 | AB4: =Z4*AA4 -> 0 | AE4: =AD4*AC4 -> 0 | AI4: 380 | AJ4: 220 | AK4: 353 | AL4: 204 | AM4: 399 | AN4: 231 | AR4: =AO4-AQ4 -> 0
A5: 38749 | B5: 880.153-3 - Agência Nacional de Transportes Aquaviários - ANTAQ | C5: 04.903.587/0001-08 | D5: P. PUBLICO | E5: VERDE | F5: THS-AS | I5: 53155639 | J5: 0.09 | K5: 0.36 | L5: 0 | M5: SECO | R5: 0 | S5: 0 | T5: 0 | U5: 0 | V5: 0 | W5: =O5 -> 0 | X5: 0 | Y5: 0 | Z5: =P5 -> 0 | AB5: =Z5*AA5 -> 0 | AE5: =AD5*AC5 -> 0 | AI5: 380 | AJ5: 220 | AK5: 353 | AL5: 204 | AM5: 399 | AN5: 231 | AR5: =AO5-AQ5 -> 0
A6: 38777 | B6: 880.153-3 - Agência Nacional de Transportes Aquaviários - ANTAQ | C6: 04.903.587/0001-08 | D6: P. PUBLICO | E6: VERDE | F6: THS-AS | I6: 53155639 | J6: 0.09 | K6: 0.36 | L6: 0 | M6: SECO | R6: 0 | S6: 0 | T6: 0 | U6: 0 | V6: 0 | W6: =O6 -> 0 | X6: 0 | Y6: 0 | Z6: =P6 -> 0 | AB6: =Z6*AA6 -> 0 | AE6: =AD6*AC6 -> 0 | AI6: 380 | AJ6: 220 | AK6: 353 | AL6: 204 | AM6: 399 | AN6: 231 | AR6: =AO6-AQ6 -> 0
A7: 38808 | B7: 880.153-3 - Agência Nacional de Transportes Aquaviários - ANTAQ | C7: 04.903.587/0001-08 | D7: P. PUBLICO | E7: VERDE | F7: THS-AS | I7: 53155639 | J7: 0.09 | K7: 0.36 | L7: 0 | M7: SECO | R7: 0 | S7: 0 | T7: 0 | U7: 0 | V7: 0 | W7: =O7 -> 0 | X7: 0 | Y7: 0 | Z7: =P7 -> 0 | AB7: =Z7*AA7 -> 0 | AE7: =AD7*AC7 -> 0 | AI7: 380 | AJ7: 220 | AK7: 353 | AL7: 204 | AM7: 399 | AN7: 231 | AR7: =AO7-AQ7 -> 0
A8: 38838 | B8: 880.153-3 - Agência Nacional de Transportes Aquaviários - ANTAQ | C8: 04.903.587/0001-08 | D8: P. PUBLICO | E8: VERDE | F8: THS-AS | I8: 53155639 | J8: 0.09 | K8: 0.36 | L8: 0 | M8: SECO | R8: 0 | S8: 0 | T8: 0 | U8: 0 | V8: 0 | W8: =O8 -> 0 | X8: 0 | Y8: 0 | Z8: =P8 -> 0 | AB8: =Z8*AA8 -> 0 | AE8: =AD8*AC8 -> 0 | AI8: 380 | AJ8: 220 | AK8: 353 | AL8: 204 | AM8: 399 | AN8: 231 | AR8: =AO8-AQ8 -> 0
A9: 38869 | B9: 880.153-3 - Agência Nacional de Transportes Aquaviários - ANTAQ | C9: 04.903.587/0001-08 | D9: P. PUBLICO | E9: VERDE | F9: THS-AS | I9: 53155639 | J9: 0.09 | K9: 0.36 | L9: 0 | M9: SECO | R9: 0 | S9: 0 | T9: 0 | U9: 0 | V9: 0 | W9: =O9 -> 0 | X9: 0 | Y9: 0 | Z9: =P9 -> 0 | AB9: =Z9*AA9 -> 0 | AE9: =AD9*AC9 -> 0 | AI9: 380 | AJ9: 220 | AK9: 353 | AL9: 204 | AM9: 399 | AN9: 231 | AR9: =AO9-AQ9 -> 0
A10: 38899 | B10: 880.153-3 - Agência Nacional de Transportes Aquaviários - ANTAQ | C10: 04.903.587/0001-08 | D10: P. PUBLICO | E10: VERDE | F10: THS-AS | I10: 53155639 | J10: 0.09 | K10: 0.36 | L10: 0 | M10: SECO | R10: 0 | S10: 0 | T10: 0 | U10: 0 | V10: 0 | W10: =O10 -> 0 | X10: 0 | Y10: 0 | Z10: =P10 -> 0 | AB10: =Z10*AA10 -> 0 | AE10: =AD10*AC10 -> 0 | AI10: 380 | AJ10: 220 | AK10: 353 | AL10: 204 | AM10: 399 | AN10: 231 | AR10: =AO10-AQ10 -> 0
A11: 38930 | B11: 880.153-3 - Agência Nacional de Transportes Aquaviários - ANTAQ | C11: 04.903.587/0001-08 | D11: P. PUBLICO | E11: VERDE | F11: THS-AS | I11: 53155639 | J11: 0.09 | K11: 0.36 | L11: 0 | M11: SECO | R11: 0 | S11: 0 | T11: 0 | U11: 0 | V11: 0 | W11: =O11 -> 0 | X11: 0 | Y11: 0 | Z11: =P11 -> 0 | AB11: =Z11*AA11 -> 0 | AE11: =AD11*AC11 -> 0 | AI11: 380 | AJ11: 220 | AK11: 353 | AL11: 204 | AM11: 399 | AN11: 231 | AR11: =AO11-AQ11 -> 0
A12: 38961 | B12: 880.153-3 - Agência Nacional de Transportes Aquaviários - ANTAQ | C12: 04.903.587/0001-08 | D12: P. PUBLICO | E12: VERDE | F12: THS-AS | I12: 53155639 | J12: 0.09 | K12: 0.36 | L12: 0 | M12: SECO | R12: 0 | S12: 0 | T12: 0 | U12: 0 | V12: 0 | W12: =O12 -> 0 | X12: 0 | Y12: 0 | Z12: =P12 -> 0 | AB12: =Z12*AA12 -> 0 | AE12: =AD12*AC12 -> 0 | AI12: 380 | AJ12: 220 | AK12: 353 | AL12: 204 | AM12: 399 | AN12: 231 | AR12: =AO12-AQ12 -> 0
A13: 38991 | B13: 880.153-3 - Agência Nacional de Transportes Aquaviários - ANTAQ | C13: 04.903.587/0001-08 | D13: P. PUBLICO | E13: VERDE | F13: THS-AS | I13: 53155639 | J13: 0.09 | K13: 0.36 | L13: 0 | M13: SECO | R13: 0 | S13: 0 | T13: 0 | U13: 0 | V13: 0 | W13: =O13 -> 0 | X13: 0 | Y13: 0 | Z13: =P13 -> 0 | AB13: =Z13*AA13 -> 0 | AE13: =AD13*AC13 -> 0 | AI13: 380 | AJ13: 220 | AK13: 353 | AL13: 204 | AM13: 399 | AN13: 231 | AR13: =AO13-AQ13 -> 0
A14: 39022 | B14: 880.153-3 - Agência Nacional de Transportes Aquaviários - ANTAQ | C14: 04.903.587/0001-08 | D14: P. PUBLICO | E14: VERDE | F14: THS-AS | I14: 53155639 | J14: 0.09 | K14: 0.36 | L14: 0 | M14: SECO | R14: 0 | S14: 0 | T14: 0 | U14: 0 | V14: 0 | W14: =O14 -> 0 | X14: 0 | Y14: 0 | Z14: =P14 -> 0 | AB14: =Z14*AA14 -> 0 | AE14: =AD14*AC14 -> 0 | AI14: 380 | AJ14: 220 | AK14: 353 | AL14: 204 | AM14: 399 | AN14: 231 | AR14: =AO14-AQ14 -> 0
A15: 39052 | B15: 880.153-3 - Agência Nacional de Transportes Aquaviários - ANTAQ | C15: 04.903.587/0001-08 | D15: P. PUBLICO | E15: VERDE | F15: THS-AS | I15: 53155639 | J15: 0.09 | K15: 0.36 | L15: 0 | M15: SECO | R15: 0 | S15: 0 | T15: 0 | U15: 0 | V15: 0 | W15: =O15 -> 0 | X15: 0 | Y15: 0 | Z15: =P15 -> 0 | AB15: =Z15*AA15 -> 0 | AE15: =AD15*AC15 -> 0 | AI15: 380 | AJ15: 220 | AK15: 353 | AL15: 204 | AM15: 399 | AN15: 231 | AR15: =AO15-AQ15 -> 0
... A75: 40878 | B75: 880.153-3 - Agência Nacional de Transportes Aquaviários - ANTAQ | C75: 04.903.587/0001-08 | D75: P. PUBLICO | E75: VERDE | F75: THS-AS | I75: 53155639 | J75: 0.09 | K75: 0.36 | L75: 0 | M75: SECO | R75: 0 | S75: 0 | T75: 0 | U75: 0 | V75: 0 | W75: =O75 -> 0 | X75: 0 | Y75: 0 | Z75: =P75 -> 0 | AB75: =Z75*AA75 -> 0 | AE75: =AD75*AC75 -> 0 | AI75: 380 | AJ75: 220 | AK75: 353 | AL75: 204 | AM75: 399 | AN75: 231 | AR75: =AO75-AQ75 -> 0
A76: 40909 | B76: 880.153-3 - Agência Nacional de Transportes Aquaviários - ANTAQ | C76: 04.903.587/0001-08 | D76: P. PUBLICO | E76: VERDE | F76: THS-AS | G76: 40912 | H76: 40881 | I76: 53155639 | J76: 0.09 | K76: 0.36 | L76: 0 | M76: UMIDO | O76: 260 | P76: 3979 | Q76: 51928 | R76: 0 | S76: 0 | T76: 0 | U76: 0 | V76: 0 | W76: =O76 -> 260 | X76: 0 | Y76: 0 | Z76: =P76 -> 3979 | AA76: 1.2406681 | AB76: =Z76*AA76 -> 4936.6184 | AC76: 51928 | AD76: 0.2148363 | AE76: =AD76*AC76 -> 11156.019 | AF76: 260 | AG76: 14.251034 | AH76: 3705.26 | AI76: 380 | AJ76: 220 | AK76: 353 | AL76: 204 | AM76: 399 | AN76: 231 | AO76: 20229.65 | AP76: 19797.88 | AQ76: 1158.15 | AR76: =AO76-AQ76 -> 19071.5
A77: 40940 | B77: 880.153-3 - Agência Nacional de Transportes Aquaviários - ANTAQ | C77: 04.903.587/0001-08 | D77: P. PUBLICO | E77: VERDE | F77: THS-AS | G77: 40943 | H77: 40912 | I77: 53155639 | J77: 0.09 | K77: 0.36 | L77: 0 | M77: UMIDO | O77: 251 | P77: 4306 | Q77: 51894 | R77: 0 | S77: 0 | T77: 0 | U77: 0 | V77: 0 | W77: =O77 -> 251 | X77: 0 | Y77: 0 | Z77: =P77 -> 4306 | AA77: 1.2380163 | AB77: =Z77*AA77 -> 5330.8982 | AC77: 51984 | AD77: 0.2143771 | AE77: =AD77*AC77 -> 11144.179 | AF77: 251 | AG77: 14.220575 | AH77: 3569.36 | AI77: 380 | AJ77: 220 | AK77: 353 | AL77: 204 | AM77: 399 | AN77: 231 | AO77: 20511.41 | AP77: 20025.13 | AQ77: 1171.46 | AR77: =AO77-AQ77 -> 19339.95
A78: 40969 | B78: 880.153-3 - Agência Nacional de Transportes Aquaviários - ANTAQ | C78: 04.903.587/0001-08 | D78: P. PUBLICO | E78: VERDE | F78: THS-AS | G78: 40972 | H78: 40943 | I78: 53155639 | J78: 0.09 | K78: 0.36 | L78: 0 | M78: UMIDO | O78: 283 | P78: 4251 | Q78: 48870 | R78: 0 | S78: 0 | T78: 0 | U78: 0 | V78: 0 | W78: =O78 -> 283 | X78: 0 | Y78: 0 | Z78: =P78 -> 4251 | AA78: 1.233797 | AB78: =Z78*AA78 -> 5244.871 | AC78: 48870 | AD78: 0.2136466 | AE78: =AD78*AC78 -> 10440.909 | AF78: 283 | AG78: 14.172109 | AH78: 4010.7 | AI78: 380 | AJ78: 220 | AK78: 353 | AL78: 204 | AM78: 399 | AN78: 231 | AO78: 21089.76 | AP78: 20603.48 | AQ78: 1205.29 | AR78: =AO78-AQ78 -> 19884.47
A79: 41000 | B79: 880.153-3 - Agência Nacional de Transportes Aquaviários - ANTAQ | C79: 04.903.587/0001-08 | D79: P. PUBLICO | E79: VERDE | F79: THS-AS | G79: 41003 | H79: 40972 | I79: 53155639 | J79: 0.09 | K79: 0.36 | L79: 0 | M79: UMIDO | O79: 289 | P79: 6176 | Q79: 53894 | R79: 0 | S79: 0 | T79: 0 | U79: 0 | V79: 0 | W79: =O79 -> 289 | X79: 0 | Y79: 0 | Z79: =P79 -> 6176 | AA79: 1.2353759 | AB79: =Z79*AA79 -> 7629.6816 | AC79: 53894 | AD79: 0.2139199 | AE79: =AD79*AC79 -> 11528.999 | AF79: 289 | AG79: 14.190245 | AH79: 4100.98 | AI79: 380 | AJ79: 220 | AK79: 353 | AL79: 204 | AM79: 399 | AN79: 231 | AO79: 24824.38 | AP79: 24338.1 | AQ79: 1423.76 | AR79: =AO79-AQ79 -> 23400.62
A80: 41030 | B80: 880.153-3 - Agência Nacional de Transportes Aquaviários - ANTAQ | C80: 04.903.587/0001-08 | D80: P. PUBLICO | E80: VERDE | F80: THS-AS | G80: 41033 | H80: 41003 | I80: 53155639 | J80: 0.09 | K80: 0.36 | L80: 0 | M80: UMIDO | O80: 258 | P80: 5367 | Q80: 49653 | R80: 0 | S80: 0 | T80: 0 | U80: 0 | V80: 0 | W80: =O80 -> 258 | X80: 0 | Y80: 0 | Z80: =P80 -> 5367 | AA80: 1.2684605 | AB80: =Z80*AA80 -> 6807.8275 | AC80: 49653 | AD80: 0.2337545 | AE80: =AD80*AC80 -> 11606.612 | AF80: 258 | AG80: 14.172109 | AH80: 3656.4 | AI80: 380 | AJ80: 220 | AK80: 353 | AL80: 204 | AM80: 399 | AN80: 231 | AO80: 22557.11 | AP80: 22070.83 | AQ80: 1291.12 | AR80: =AO80-AQ80 -> 21265.99
A81: 41061 | B81: 880.153-3 - Agência Nacional de Transportes Aquaviários - ANTAQ | C81: 04.903.587/0001-08 | D81: P. PUBLICO | E81: VERDE | F81: THS-AS | G81: 41064 | H81: 41033 | I81: 53155639 | J81: 0.09 | K81: 0.36 | L81: 0 | M81: UMIDO | O81: 199 | P81: 4014 | Q81: 40678 | R81: 0 | S81: 0 | T81: 0 | U81: 0 | V81: 0 | W81: =O81 -> 199 | X81: 0 | Y81: 0 | Z81: =P81 -> 4014 | AA81: 1.2821155 | AB81: =Z81*AA81 -> 5146.4116 | AC81: 40678 | AD81: 0.2362709 | AE81: =AD81*AC81 -> 9611.0277 | AF81: 251 | AG81: 14.324673 | AH81: 3595.49 | AI81: 380 | AJ81: 220 | AK81: 353 | AL81: 204 | AM81: 399 | AN81: 231 | AO81: 18839.2 | AP81: 18352.92 | AQ81: 1073.62 | AR81: =AO81-AQ81 -> 17765.58
A82: 41091 | B82: 880.153-3 - Agência Nacional de Transportes Aquaviários - ANTAQ | C82: 04.903.587/0001-08 | D82: P. PUBLICO | E82: VERDE | F82: THS-AS | G82: 41094 | H82: 41064 | I82: 53155639 | J82: 0.09 | K82: 0.36 | L82: 0 | M82: UMIDO | O82: 201 | P82: 4244 | Q82: 41932 | R82: 0 | S82: 0 | T82: 0 | U82: 0 | V82: 0 | W82: =O82 -> 201 | X82: 0 | Y82: 0 | Z82: =P82 -> 4244 | AA82: 1.2648681 | AB82: =Z82*AA82 -> 5368.1002 | AC82: 41932 | AD82: 0.2330925 | AE82: =AD82*AC82 -> 9774.0347 | AF82: 251 | AG82: 14.131972 | AH82: 3547.12 | AI82: 380 | AJ82: 220 | AK82: 353 | AL82: 204 | AM82: 399 | AN82: 231 | AO82: 19175.53 | AP82: 18689.25 | AQ82: 1093.31 | AR82: =AO82-AQ82 -> 18082.22
A83: 41122 | B83: 880.153-3 - Agência Nacional de Transportes Aquaviários - ANTAQ | C83: 04.903.587/0001-08 | D83: P. PUBLICO | E83: VERDE | F83: THS-AS | G83: 41125 | H83: 41094 | I83: 53155639 | J83: 0.09 | K83: 0.36 | L83: 0 | M83: UMIDO | O83: 159 | P83: 4181 | Q83: 40030 | R83: 0 | S83: 0 | T83: 0 | U83: 0 | V83: 0 | W83: =O83 -> 159 | X83: 0 | Y83: 0 | Z83: =P83 -> 4181 | AA83: 1.2672009 | AB83: =Z83*AA83 -> 5298.167 | AC83: 40030 | AD83: 0.2335223 | AE83: =AD83*AC83 -> 9347.8977 | AF83: 251 | AG83: 14.158036 | AH83: 3553.66 | AI83: 380 | AJ83: 220 | AK83: 353 | AL83: 204 | AM83: 399 | AN83: 231 | AO83: 18685.99 | AP83: 18199.71 | AQ83: 1064.66 | AR83: =AO83-AQ83 -> 17621.33
A84: 41153 | B84: 880.153-3 - Agência Nacional de Transportes Aquaviários - ANTAQ | C84: 04.903.587/0001-08 | D84: P. PUBLICO | E84: VERDE | F84: THS-AS | G84: 41156 | H84: 41125 | I84: 53155639 | J84: 0.09 | K84: 0.36 | L84: 0 | M84: UMIDO | O84: 233 | P84: 4304 | Q84: 40531 | R84: 0 | S84: 0 | T84: 0 | U84: 0 | V84: 0 | W84: =O84 -> 233 | X84: 0 | Y84: 0 | Z84: =P84 -> 4304 | AA84: 1.2768547 | AB84: =Z84*AA84 -> 5495.5826 | AC84: 40531 | AD84: 0.2468834 | AE84: =AD84*AC84 -> 10006.431 | AF84: 251 | AG84: 13.963237 | AH84: 3504.77 | AI84: 380 | AJ84: 220 | AK84: 353 | AL84: 204 | AM84: 399 | AN84: 231 | AO84: 19493.06 | AP84: 19006.78 | AQ84: 1111.88 | AR84: =AO84-AQ84 -> 18381.18
A85: 41183 | B85: 880.153-3 - Agência Nacional de Transportes Aquaviários - ANTAQ | C85: 04.903.587/0001-08 | D85: P. PUBLICO | E85: VERDE | F85: THS-AS | G85: 41186 | H85: 41156 | I85: 53155639 | J85: 0.09 | K85: 0.36 | L85: 0 | M85: UMIDO | O85: 278 | P85: 5466 | Q85: 55711 | R85: 0 | S85: 0 | T85: 0 | U85: 0 | V85: 0 | W85: =O85 -> 278 | X85: 0 | Y85: 0 | Z85: =P85 -> 5466 | AA85: 1.2954641 | AB85: =Z85*AA85 -> 7081.0068 | AC85: 55711 | AD85: 0.2745994 | AE85: =AD85*AC85 -> 15298.207 | AF85: 278 | AG85: 13.536498 | AH85: 3763.14 | AI85: 380 | AJ85: 220 | AK85: 353 | AL85: 204 | AM85: 399 | AN85: 231 | AO85: 27359.59 | AP85: 26873.31 | AQ85: 1572.06 | AR85: =AO85-AQ85 -> 25787.53
A86: 41214 | B86: 880.153-3 - Agência Nacional de Transportes Aquaviários - ANTAQ | C86: 04.903.587/0001-08 | D86: P. PUBLICO | E86: VERDE | F86: THS-AS | G86: 41217 | H86: 41186 | I86: 53155639 | J86: 0.09 | K86: 0.36 | L86: 0 | M86: UMIDO | O86: 300 | P86: 4497 | Q86: 55447 | R86: 0 | S86: 0 | T86: 0 | U86: 0 | V86: 0 | W86: =O86 -> 300 | X86: 0 | Y86: 0 | Z86: =P86 -> 4497 | AA86: 1.3032223 | AB86: =Z86*AA86 -> 5860.5907 | AC86: 55447 | AD86: 0.2762439 | AE86: =AD86*AC86 -> 15316.896 | AF86: 300 | AG86: 13.617566 | AH86: 4085.26 | AI86: 380 | AJ86: 220 | AK86: 353 | AL86: 204 | AM86: 399 | AN86: 231 | AO86: 27083.54 | AP86: 26597.26 | AQ86: 1555.92 | AR86: =AO86-AQ86 -> 25527.62
A87: 41244 | B87: 880.153-3 - Agência Nacional de Transportes Aquaviários - ANTAQ | C87: 04.903.587/0001-08 | D87: P. PUBLICO | E87: VERDE | F87: THS-AS | G87: 41247 | H87: 41217 | I87: 53155639 | J87: 0.09 | K87: 0.36 | L87: 0 | M87: UMIDO | O87: 238 | P87: 3440 | Q87: 47239 | R87: 0 | S87: 0 | T87: 0 | U87: 0 | V87: 0 | W87: =O87 -> 238 | X87: 0 | Y87: 0 | Z87: =P87 -> 3440 | AA87: 1.296199 | AB87: =Z87*AA87 -> 4458.9246 | AC87: 47239 | AD87: 0.2747553 | AE87: =AD87*AC87 -> 12979.166 | AF87: 251 | AG87: 13.544418 | AH87: 3399.58 | AI87: 380 | AJ87: 220 | AK87: 353 | AL87: 204 | AM87: 399 | AN87: 231 | AO87: 21323.94 | AP87: 20837.66 | AQ87: 1218.98 | AR87: =AO87-AQ87 -> 20104.96
A88: Jan/13 | B88: 880.153-3 - Agência Nacional de Transportes Aquaviários - ANTAQ | C88: 04.903.587/0001-08 | D88: P. PUBLICO | E88: VERDE | F88: THS-AS | G88: 41278 | H88: 41247 | I88: 53155639 | J88: 0.09 | K88: 0.36 | L88: 0 | M88: UMIDO | O88: 299 | P88: 4070 | Q88: 53921 | R88: 0 | S88: 0 | T88: 0 | U88: 0 | V88: 0 | W88: =O88 -> 299 | X88: 0 | Y88: 0 | Z88: =P88 -> 4070 | AA88: 1.2960151 | AB88: =Z88*AA88 -> 5274.7815 | AC88: 53921 | AD88: 0.2747162 | AE88: =AD88*AC88 -> 14812.972 | AF88: 299 | AG88: 13.542256 | AH88: 4049.13 | AI88: 380 | AJ88: 220 | AK88: 353 | AL88: 204 | AM88: 399 | AN88: 231 | AO88: 25923.21 | AP88: 25436.93 | AQ88: 1488.04 | AR88: =AO88-AQ88 -> 24435.17
A89: 41306 | B89: 880.153-3 - Agência Nacional de Transportes Aquaviários - ANTAQ | C89: 04.903.587/0001-08 | D89: P. PUBLICO | E89: VERDE | F89: THS-AS | G89: 41309 | H89: 41278 | I89: 53155639 | J89: 0.09 | K89: 0.36 | L89: 0 | M89: UMIDO | O89: 265 | P89: 3450 | Q89: 47378 | R89: 0 | S89: 0 | T89: 0 | U89: 0 | V89: 0 | W89: =O89 -> 265 | X89: 0 | Y89: 0 | Z89: =P89 -> 3450 | AA89: 1.2104553 | AB89: =Z89*AA89 -> 4176.0708 | AC89: =Q89 -> 47378 | AD89: 0.2523739 | AE89: =AD89*AC89 -> 11956.971 | AF89: 265 | AG89: 12.674338 | AH89: =AG89*AF89 -> 3358.6995 | AI89: 380 | AJ89: 220 | AK89: 353 | AL89: 204 | AM89: 399 | AN89: 231 | AO89: 20371.79 | AP89: 19846.61 | AQ89: 1161 | AR89: =AO89-AQ89 -> 19210.79
A90: 41334 | B90: 880.153-3 - Agência Nacional de Transportes Aquaviários - ANTAQ | C90: 04.903.587/0001-08 | D90: P. PUBLICO | E90: VERDE | F90: THS-AS | G90: 41337 | H90: 41309 | I90: 53155639 | J90: 0.09 | K90: 0.36 | L90: 0 | M90: UMIDO | O90: 327 | P90: 4655 | Q90: 52121 | R90: 0 | S90: 0 | T90: 0 | U90: 0 | V90: 0 | W90: =O90 -> 327 | X90: 0 | Y90: 0 | Z90: =P90 -> 4655 | AA90: 1.0878443 | AB90: 5063.91 | AC90: 52121 | AD90: 0.219703 | AE90: =AD90*AC90 -> 11451.14 | AF90: 327 | AG90: 11.434628 | AH90: 3739.12 | AI90: 380 | AJ90: 220 | AK90: 353 | AL90: 204 | AM90: 399 | AN90: 231 | AO90: 22517.41 | AP90: 21992.23 | AQ90: 1286.52 | AR90: =AO90-AQ90 -> 21230.89
A91: 41365 | B91: 880.153-3 - Agência Nacional de Transportes Aquaviários - ANTAQ | C91: 04.903.587/0001-08 | D91: P. PUBLICO | E91: VERDE | F91: THS-AS | G91: 41368 | H91: 41337 | I91: 53155639 | J91: 0.09 | K91: 0.36 | L91: 0 | M91: UMIDO | O91: 302 | P91: 6954 | Q91: 65755 | R91: 0 | S91: 0 | T91: 0 | U91: 0 | V91: 0 | W91: =O91 -> 302 | X91: 0 | Y91: 0 | Z91: =P91 -> 6954 | AA91: 1.0610007 | AB91: =Z91*AA91 -> 7378.1989 | AC91: 65755 | AD91: 0.2142817 | AE91: =AD91*AC91 -> 14090.093 | AF91: 302 | AG91: 11.152467 | AH91: 3368.04 | AI91: 380 | AJ91: 220 | AK91: 353 | AL91: 204 | AM91: 399 | AN91: 231 | AO91: 26499.05 | AP91: 25973.87 | AQ91: 1519.45 | AR91: =AO91-AQ91 -> 24979.6
A92: 41395 | B92: 880.153-3 - Agência Nacional de Transportes Aquaviários - ANTAQ | C92: 04.903.587/0001-08 | D92: P. PUBLICO | E92: VERDE | F92: THS-AS | G92: 41398 | H92: 41368 | I92: 53155639 | J92: 0.09 | K92: 0.36 | L92: 0 | M92: SECO | O92: 234 | P92: 5789 | Q92: 52940 | R92: 0 | S92: 0 | T92: 0 | U92: 0 | V92: 0 | W92: =O92 -> 234 | X92: 0 | Y92: 0 | Z92: =P92 -> 5789 | AA92: 1.0698497 | AB92: 6193.35 | AC92: 52940 | AD92: 0.2160689 | AE92: =AD92*AC92 -> 11438.688 | AF92: 251 | AG92: 11.245481 | AH92: 2822.61 | AI92: 380 | AJ92: 220 | AK92: 353 | AL92: 204 | AM92: 399 | AN92: 231 | AO92: 20979.82 | AP92: 20454.64 | AQ92: 1196.57 | AR92: =AO92-AQ92 -> 19783.25
A93: 41426 | B93: 880.153-3 - Agência Nacional de Transportes Aquaviários - ANTAQ | C93: 04.903.587/0001-08 | D93: P. PUBLICO | E93: VERDE | F93: THS-AS | G93: 41429 | H93: 41398 | I93: 53155639 | J93: 0.09 | K93: 0.36 | L93: 0 | M93: SECO | O93: 207 | P93: 5565 | Q93: 51874 | R93: 0 | S93: 0 | T93: 0 | U93: 0 | V93: 0 | W93: =O93 -> 207 | X93: 0 | Y93: 0 | Z93: =P93 -> 5565 | AA93: 1.0621721 | AB93: =Z93*AA93 -> 5910.9877 | AC93: 51874 | AD93: 0.2145182 | AE93: =AD93*AC93 -> 11127.917 | AF93: 251 | AG93: 11.16478 | AH93: 2802.35 | AI93: 380 | AJ93: 220 | AK93: 353 | AL93: 204 | AM93: 399 | AN93: 231 | AO93: 20366.42 | AP93: 19841.24 | AQ93: 1160.69 | AR93: =AO93-AQ93 -> 19205.73
A94: 41456 | B94: 880.153-3 - Agência Nacional de Transportes Aquaviários - ANTAQ | C94: 04.903.587/0001-08 | D94: P. PUBLICO | E94: VERDE | F94: THS-AS | G94: 41459 | H94: 41429 | I94: 53155639 | J94: 0.09 | K94: 0.36 | L94: 0 | M94: SECO | O94: 186 | P94: 5706 | Q94: 49197 | R94: 0 | S94: 0 | T94: 0 | U94: 0 | V94: 0 | W94: =O94 -> 186 | X94: 0 | Y94: 0 | Z94: =P94 -> 5706 | AA94: 1.072085 | AB94: =Z94*AA94 -> 6117.317 | AC94: 49197 | AD94: 0.2165202 | AE94: =AD94*AC94 -> 10652.144 | AF94: 251 | AG94: 11.268978 | AH94: 2828.51 | AI94: 380 | AJ94: 220 | AK94: 353 | AL94: 204 | AM94: 399 | AN94: 231 | AO94: 20123.14 | AP94: 19597.96 | AQ94: 1146.45 | AR94: =AO94-AQ94 -> 18976.69
A95: 41487 | B95: 880.153-3 - Agência Nacional de Transportes Aquaviários - ANTAQ | C95: 04.903.587/0001-08 | D95: P. PUBLICO | E95: VERDE | F95: THS-AS | G95: 41490 | H95: 41459 | I95: 53155639 | J95: 0.09 | K95: 0.36 | L95: 0 | M95: SECO | O95: 199 | P95: 5618 | Q95: 48186 | R95: 0 | S95: 0 | T95: 0 | U95: 0 | V95: 0 | W95: =O95 -> 199 | X95: 0 | Y95: 0 | Z95: =P95 -> 5618 | AA95: 1.0572113 | AB95: =Z95*AA95 -> 5939.4131 | AC95: 48186 | AD95: 0.2135163 | AE95: =AD95*AC95 -> 10288.496 | AF95: 251 | AG95: 11.112636 | AH95: 2789.27 | AI95: 380 | AJ95: 220 | AK95: 353 | AL95: 204 | AM95: 399 | AN95: 231 | AO95: 19542.35 | AP95: 19017.17 | AQ95: 1112.49 | AR95: =AO95-AQ95 -> 18429.86
A96: 41518 | B96: 880.153-3 - Agência Nacional de Transportes Aquaviários - ANTAQ | C96: 04.903.587/0001-08 | D96: P. PUBLICO | E96: VERDE | F96: THS-AS | G96: 41521 | H96: 41490 | I96: 53155639 | J96: 0.09 | K96: 0.36 | L96: 0 | M96: SECO | O96: 203 | P96: 6254 | Q96: 53402 | R96: 0 | S96: 0 | T96: 0 | U96: 0 | V96: 0 | W96: =O96 -> 203 | X96: 0 | Y96: 0 | Z96: =P96 -> 6254 | AA96: 1.0984215 | AB96: =Z96*AA96 -> 6869.5281 | AC96: 53402 | AD96: 0.2252839 | AE96: =AD96*AC96 -> 12030.611 | AF96: 251 | AG96: 11.475356 | AH96: 2880.31 | AI96: 380 | AJ96: 220 | AK96: 353 | AL96: 204 | AM96: 399 | AN96: 231 | AO96: 22763.69 | AP96: 21780.44 | AQ96: 1274.14 | AR96: =AO96-AQ96 -> 21489.55
A97: 41548 | B97: 880.153-3 - Agência Nacional de Transportes Aquaviários - ANTAQ | C97: 04.903.587/0001-08 | D97: P. PUBLICO | E97: VERDE | F97: THS-AS | G97: 41551 | H97: 04/092013 | I97: 53155639 | J97: 0.09 | K97: 0.36 | L97: 0 | M97: SECO | O97: 310 | P97: 6782 | Q97: 59346 | R97: 0 | S97: 0 | T97: 0 | U97: 0 | V97: 0 | W97: =O97 -> 310 | X97: 0 | Y97: 0 | Z97: =P97 -> 6782 | AA97: 1.0980219 | AB97: =Z97*AA97 -> 7446.7845 | AC97: 59346 | AD97: 0.2322129 | AE97: =AD97*AC97 -> 13780.907 | AF97: 310 | AG97: 11.327799 | AH97: 3511.61 | AI97: 380 | AJ97: 220 | AK97: 353 | AL97: 204 | AM97: 399 | AN97: 231 | AO97: 26601.15 | AP97: 26075.97 | AQ97: 1525.42 | AR97: =AO97-AQ97 -> 25075.73
A98: 41579 | B98: 880.153-3 - Agência Nacional de Transportes Aquaviários - ANTAQ | C98: 04.903.587/0001-08 | D98: P. PUBLICO | E98: VERDE | F98: THS-AS | G98: 41582 | H98: 41551 | I98: 53155639 | J98: 0.09 | K98: 0.36 | L98: 0 | M98: SECO | O98: 275 | P98: 5684 | Q98: 59293 | R98: 0 | S98: 0 | T98: 0 | U98: 0 | V98: 0 | W98: =O98 -> 275 | X98: 0 | Y98: 0 | Z98: =P98 -> 5684 | AA98: 1.1927131 | AB98: =Z98*AA98 -> 6779.3813 | AC98: 59293 | AD98: 0.2522385 | AE98: =AD98*AC98 -> 14955.977 | AF98: 275 | AG98: 12.304686 | AH98: 3383.78 | AI98: 380 | AJ98: 220 | AK98: 353 | AL98: 204 | AM98: 399 | AN98: 231 | AO98: 26234.93 | AP98: 25709.75 | AQ98: 1504 | AR98: =AO98-AQ98 -> 24730.93
A99: 41609 | B99: 880.153-3 - Agência Nacional de Transportes Aquaviários - ANTAQ | C99: 04.903.587/0001-08 | D99: P. PUBLICO | E99: VERDE | F99: THS-AS | G99: 41612 | H99: 41582 | I99: 53155639 | J99: 0.09 | K99: 0.36 | L99: 0 | M99: UMIDO | O99: 271 | P99: 4807 | Q99: 59094 | R99: 0 | S99: 0 | T99: 0 | U99: 0 | V99: 0 | W99: =O99 -> 271 | X99: 0 | Y99: 0 | Z99: =P99 -> 4807 | AA99: 1.1201777 | AB99: =Z99*AA99 -> 5384.6942 | AC99: 59094 | AD99: 0.2368985 | AE99: =AD99*AC99 -> 13999.28 | AF99: 271 | AG99: 11.55637 | AH99: 3131.77 | AI99: 380 | AJ99: 220 | AK99: 353 | AL99: 204 | AM99: 399 | AN99: 231 | AO99: 23503.16 | AP99: 22977.98 | AQ99: 1344.18 | AR99: =AO99-AQ99 -> 22158.98
...

Sheet CEB_Grafico
A1: MÊS | B1: kW Regist. Fponta 2012 | C1: kW Regist. Fponta 2013 | D1: kW Regist. Fponta 2014 | E1: kW Regist. Fponta 2015 | F1: kW Regist. Fponta 2016 | G1: kW Regist. Fponta 2017 | H1: kW Regist. Fponta 2018 | I1: kW Regist. Fponta 2019 | J1: kW Regist. Fponta 2020 | K1: kW Regist. Fponta 2021 | L1: kW Regist. Fponta 2022 | M1: kW Regist. Fponta 2023
A2: Janeiro | B2: =CEB!O76 -> 260 | C2: =CEB!O88 -> 299 | D2: =CEB!O100 -> 237 | E2: =CEB!O112 -> 288 | F2: =CEB!O124 -> 273 | G2: =CEB!O136 -> 289 | H2: =CEB!O148 -> 281 | I2: =CEB!O160 -> 286 | J2: =CEB!O172 -> 268 | K2: =CEB!O184 -> 1 | L2: =CEB!O196 -> 155 | M2: 218
A3: Fevereiro | B3: =CEB!O77 -> 251 | C3: =CEB!O89 -> 265 | D3: =CEB!O101 -> 267 | E3: =CEB!O113 -> 253 | F3: =CEB!O125 -> 309 | G3: =CEB!O137 -> 274 | H3: =CEB!O149 -> 325 | I3: =CEB!O161 -> 278 | J3: =CEB!O173 -> 266 | K3: =CEB!O185 -> 152 | L3: =CEB!O197 -> 138 | M3: 224
A4: Março | B4: =CEB!O78 -> 283 | C4: =CEB!O90 -> 327 | D4: =CEB!O102 -> 265 | E4: =CEB!O114 -> 257 | F4: =CEB!O126 -> 307 | G4: =CEB!O138 -> 303 | H4: =CEB!O150 -> 288 | I4: =CEB!O162 -> 251 | J4: =CEB!O174 -> 230 | K4: =CEB!O186 -> 115 | L4: =CEB!O198 -> 224 | M4: 265
A5: Abril | B5: =CEB!O79 -> 289 | C5: =CEB!O91 -> 302 | D5: =CEB!O103 -> 235 | E5: =CEB!O115 -> 241 | F5: =CEB!O127 -> 289 | G5: =CEB!O139 -> 316 | H5: =CEB!O151 -> 224 | I5: =CEB!O163 -> 230 | J5: =CEB!O175 -> 134 | K5: =CEB!O187 -> 98 | L5: =CEB!O199 -> 216 | M5: 256
A6: Maio | B6: =CEB!O80 -> 258 | C6: =CEB!O92 -> 234 | D6: =CEB!O104 -> 244 | E6: =CEB!O116 -> 198 | F6: =CEB!O128 -> 249 | G6: =CEB!O140 -> 258 | H6: =CEB!O152 -> 233 | I6: =CEB!O164 -> 246 | J6: =CEB!O176 -> 88 | K6: =CEB!O188 -> 102 | L6: =CEB!O200 -> 174 | M6: 220
A7: Junho | B7: =CEB!O81 -> 199 | C7: =CEB!O93 -> 207 | D7: =CEB!O105 -> 234 | E7: =CEB!O117 -> 220 | F7: =CEB!O129 -> 244 | G7: =CEB!O141 -> 244 | H7: =CEB!O153 -> 221 | I7: =CEB!O165 -> 211 | J7: =CEB!O177 -> 133 | K7: =CEB!O189 -> 92 | L7: =CEB!O201 -> 129 | M7: 0
A8: Julho | B8: =CEB!O82 -> 201 | C8: =CEB!O94 -> 186 | D8: =CEB!O106 -> 191 | E8: =CEB!O118 -> 217 | F8: =CEB!O130 -> 214 | G8: =CEB!O142 -> 174 | H8: =CEB!O154 -> 201 | I8: =CEB!O166 -> 181 | J8: =CEB!O178 -> 92 | K8: =CEB!O190 -> 83 | L8: =CEB!O202 -> 114 | M8: 0
A9: Agosto | B9: =CEB!O83 -> 159 | C9: =CEB!O95 -> 199 | D9: =CEB!O107 -> 172 | E9: =CEB!O119 -> 283 | F9: =CEB!O131 -> 249 | G9: =CEB!O143 -> 289 | H9: =CEB!O155 -> 248 | I9: =CEB!O167 -> 261 | J9: =CEB!O179 -> 122 | K9: =CEB!O191 -> 111 | L9: =CEB!O203 -> 181 | M9: 150
A10: Setembro | B10: =CEB!O84 -> 233 | C10: =CEB!O96 -> 203 | D10: =CEB!O108 -> 274 | E10: =CEB!O120 -> 324 | F10: =CEB!O132 -> 307 | G10: =CEB!O144 -> 271 | H10: =CEB!O156 -> 311 | I10: =CEB!O168 -> 306 | J10: =CEB!O180 -> 131 | K10: =CEB!O192 -> 164 | L10: 181 | M10: 0
A11: Outubro | B11: =CEB!O85 -> 278 | C11: =CEB!O97 -> 310 | D11: =CEB!O109 -> 327 | E11: =CEB!O121 -> 360 | F11: =CEB!O133 -> 321 | G11: =CEB!O145 -> 359 | H11: =CEB!O157 -> 289 | I11: =CEB!O169 -> 280 | J11: =CEB!O181 -> 162 | K11: =CEB!O193 -> 149 | L11: 161 | M11: 0
A12: Novembro | B12: =CEB!O86 -> 300 | C12: =CEB!O98 -> 275 | D12: =CEB!O110 -> 321 | E12: =CEB!O122 -> 336 | F12: =CEB!O134 -> 260 | G12: =CEB!O146 -> 271 | H12: =CEB!O158 -> 229 | I12: =CEB!O170 -> 292 | J12: =CEB!O182 -> 149 | K12: =CEB!O194 -> 164 | L12: 161 | M12: 0
A13: Dezembro | B13: =CEB!O87 -> 238 | C13: =CEB!O99 -> 271 | D13: =CEB!O111 -> 230 | E13: =CEB!O123 -> 300 | F13: =CEB!O135 -> 275 | G13: =CEB!O147 -> 262 | H13: =CEB!O159 -> 258 | I13: =CEB!O171 -> 255 | J13: =CEB!O183 -> 152 | K13: =CEB!O195 -> 131 | L13: 161 | M13: 0
A14: MÉDIA | B14: =AVERAGE(B2:B13) -> 245.75 | C14: =AVERAGE(C2:C13) -> 256.5 | D14: =AVERAGE(D2:D13) -> 249.75 | E14: =AVERAGE(E2:E13) -> 273.08333 | F14: =AVERAGE(F2:F13) -> 274.75 | G14: =AVERAGE(G2:G13) -> 275.83333 | H14: =AVERAGE(H2:H13) -> 259 | I14: =AVERAGE(I2:I13) -> 256.41667 | ... M14: =AVERAGE(M2:M13) -> 111.08333
A18: MÊS | B18: Energia kWh Ponta 2012 | C18: Energia kWh Ponta 2013 | D18: Energia kWh Ponta 2014 | E18: Energia kWh Ponta 2015 | F18: Energia kWh Ponta 2016 | G18: Energia kWh Ponta 2017 | H18: Energia kWh Ponta 2018 | I18: Energia kWh Ponta 2019 | J18: Energia kWh Ponta 2020 | K18: Energia kWh Ponta 2021 | L18: Energia kWh Ponta 2022 | M18: Energia kWh Ponta 2023
A19: Janeiro | B19: =CEB!P76 -> 3979 | C19: =CEB!P88 -> 4070 | D19: =CEB!P100 -> 4282 | E19: =CEB!P112 -> 5196 | F19: =CEB!P124 -> 4840 | G19: =CEB!P136 -> 5511 | H19: =CEB!P148 -> 5261 | I19: =CEB!P160 -> 5632 | J19: =CEB!P172 -> 7092 | K19: =CEB!P184 -> 4305 | L19: =CEB!P196 -> 3524 | M19: 4074
A20: Fevereiro | B20: =CEB!P77 -> 4306 | C20: =CEB!P89 -> 3450 | D20: =CEB!P101 -> 4953 | E20: =CEB!P113 -> 4857 | F20: =CEB!P125 -> 5584 | G20: =CEB!P137 -> 4883 | H20: =CEB!P149 -> 5156 | I20: =CEB!P161 -> 5420 | J20: =CEB!P173 -> 6903 | K20: =CEB!P185 -> 3258 | L20: =CEB!P197 -> 3789 | M20: 4104
A21: Março | B21: =CEB!P78 -> 4251 | C21: =CEB!P90 -> 4655 | D21: =CEB!P102 -> 5661 | E21: =CEB!P114 -> 6452 | F21: =CEB!P126 -> 7093 | G21: =CEB!P138 -> 7091 | H21: =CEB!P150 -> 6656 | I21: =CEB!P162 -> 6566 | J21: =CEB!P174 -> 5927 | K21: =CEB!P186 -> 3908 | L21: =CEB!P198 -> 5321 | M21: 0
A22: Abril | B22: =CEB!P79 -> 6176 | C22: =CEB!P91 -> 6954 | D22: =CEB!P103 -> 6794 | E22: =CEB!P115 -> 5225 | F22: =CEB!P127 -> 6437 | G22: =CEB!P139 -> 6768 | H22: =CEB!P151 -> 6070 | I22: =CEB!P163 -> 6263 | J22: =CEB!P175 -> 2904 | K22: =CEB!P187 -> 3016 | L22: =CEB!P199 -> 4672 | M22: 0
A23: Maio | B23: =CEB!P80 -> 5367 | C23: =CEB!P92 -> 5789 | D23: =CEB!P104 -> 5437 | E23: =CEB!P116 -> 5822 | F23: =CEB!P128 -> 6311 | G23: =CEB!P140 -> 7569 | H23: =CEB!P152 -> 5882 | I23: =CEB!P164 -> 6889 | J23: =CEB!P176 -> 3233 | K23: =CEB!P188 -> 3204 | L23: =CEB!P200 -> 4520 | M23: 0
A24: Junho | B24: =CEB!P81 -> 4014 | C24: =CEB!P93 -> 5565 | D24: =CEB!P105 -> 6281 | E24: =CEB!P117 -> 5454 | F24: =CEB!P129 -> 6311 | G24: =CEB!P141 -> 5460 | H24: =CEB!P153 -> 5705 | I24: =CEB!P165 -> 5637 | J24: =CEB!P177 -> 3117 | K24: =CEB!P189 -> 3187 | L24: =CEB!P201 -> 3838 | M24: 0
A25: Julho | B25: =CEB!P82 -> 4244 | C25: =CEB!P94 -> 5706 | D25: =CEB!P106 -> 4984 | E25: =CEB!P118 -> 5561 | F25: =CEB!P130 -> 5687 | G25: =CEB!P142 -> 5673 | H25: =CEB!P154 -> 6074 | I25: =CEB!P166 -> 5927 | J25: =CEB!P178 -> 3024 | K25: =CEB!P190 -> 3183 | L25: =CEB!P202 -> 3632 | M25: 0
A26: Agosto | B26: =CEB!P83 -> 4181 | C26: =CEB!P95 -> 5618 | D26: =CEB!P107 -> 5181 | E26: =CEB!P119 -> 7545 | F26: =CEB!P131 -> 6643 | G26: =CEB!P143 -> 7276 | H26: =CEB!P155 -> 6584 | I26: =CEB!P167 -> 6325 | J26: =CEB!P179 -> 3636 | K26: =CEB!P191 -> 3614 | L26: =CEB!P203 -> 3771 | M26: 5462
A27: Setembro | B27: =CEB!P84 -> 4304 | C27: =CEB!P96 -> 6254 | D27: =CEB!P108 -> 6928 | E27: =CEB!P120 -> 8671 | F27: =CEB!P132 -> 6309 | G27: =CEB!P144 -> 6798 | H27: =CEB!P156 -> 7536 | I27: =CEB!P168 -> 8259 | J27: =CEB!P180 -> 3886 | K27: =CEB!P192 -> 4603 | L27: 3771 | M27: 1820
A28: Outubro | B28: =CEB!P85 -> 5466 | C28: =CEB!P97 -> 6782 | D28: =CEB!P109 -> 7747 | E28: =CEB!P121 -> 7227 | F28: =CEB!P133 -> 5759 | G28: =CEB!P145 -> 6349 | H28: =CEB!P157 -> 7371 | I28: =CEB!P169 -> 7722 | J28: =CEB!P181 -> 3652 | K28: =CEB!P193 -> 3870 | L28: 4064 | M28: 6858
A29: Novembro | B29: =CEB!P86 -> 4497 | C29: =CEB!P98 -> 5684 | D29: =CEB!P110 -> 6513 | E29: =CEB!P122 -> 6625 | F29: =CEB!P134 -> 4951 | G29: =CEB!P146 -> 4484 | H29: =CEB!P158 -> 4242 | I29: =CEB!P170 -> 6682 | J29: =CEB!P182 -> 4161 | K29: =CEB!P194 -> 3520 | L29: 4019 | M29: 6730
A30: Dezembro | B30: =CEB!P87 -> 3440 | C30: =CEB!P99 -> 4807 | D30: =CEB!P111 -> 4935 | E30: =CEB!P123 -> 5242 | F30: =CEB!P135 -> 4588 | G30: =CEB!P147 -> 4303 | H30: =CEB!P159 -> 4606 | I30: =CEB!P171 -> 6202 | J30: =CEB!P183 -> 3774 | K30: =CEB!P195 -> 3715 | L30: 4032 | M30: 5841
A31: MÉDIA | B31: =AVERAGE(B19:B30) -> 4518.75 | C31: =AVERAGE(C19:C30) -> 5444.5 | D31: =AVERAGE(D19:D30) -> 5808 | E31: =AVERAGE(E19:E30) -> 6156.4167 | F31: =AVERAGE(F19:F30) -> 5876.0833 | G31: =AVERAGE(G19:G30) -> 6013.75 | H31: =AVERAGE(H19:H30) -> 5928.5833 | I31: =AVERAGE(I19:I30) -> 6460.3333 | ... M31: =AVERAGE(M19:M30) -> 2907.4167
A35: MÊS | B35: Energia kWh Fora de Ponta 2012 | C35: Energia kWh Fora de Ponta 2013 | D35: Energia kWh Fora de Ponta 2014 | E35: Energia kWh Fora de Ponta 2015 | F35: Energia kWh Fora de Ponta 2016 | G35: Energia kWh Fora de Ponta 2017 | H35: Energia kWh Fora de Ponta 2018 | I35: Energia kWh Fora de Ponta 2019 | J35: Energia kWh Fora de Ponta 2020 | K35: Energia kWh Fora de Ponta 2021 | L35: Energia kWh Fora de Ponta 2022 | M35: Energia kWh Fora de Ponta 2023
A36: Janeiro | B36: =CEB!Q76 -> 51928 | C36: =CEB!Q88 -> 53921 | D36: =CEB!Q100 -> 53117 | E36: =CEB!Q112 -> 62756 | F36: =CEB!Q124 -> 59515 | G36: =CEB!Q136 -> 69064 | H36: =CEB!Q148 -> 66603 | I36: =CEB!Q160 -> 67570 | J36: =CEB!Q172 -> 55305 | K36: =CEB!Q184 -> 39137 | L36: =CEB!Q196 -> 36422 | M36: 38494
A37: Fevereiro | B37: =CEB!Q77 -> 51894 | C37: =CEB!Q89 -> 47378 | D37: =CEB!Q101 -> 60861 | E37: =CEB!Q113 -> 50125 | F37: =CEB!Q125 -> 64662 | G37: =CEB!Q137 -> 53468 | H37: =CEB!Q149 -> 54131 | I37: =CEB!Q161 -> 56610 | J37: =CEB!Q173 -> 51486 | K37: =CEB!Q185 -> 28473 | L37: =CEB!Q197 -> 33066 | M37: 38711
A38: Março | B38: =CEB!Q78 -> 48870 | C38: =CEB!Q90 -> 52121 | D38: =CEB!Q102 -> 56417 | E38: =CEB!Q114 -> 56301 | F38: =CEB!Q126 -> 68758 | G38: =CEB!Q138 -> 69538 | H38: =CEB!Q150 -> 62303 | I38: =CEB!Q162 -> 55458 | J38: =CEB!Q174 -> 47083 | K38: =CEB!Q186 -> 33909 | L38: =CEB!Q198 -> 48278 | M38: 58489
A39: Abril | B39: =CEB!Q79 -> 53894 | C39: =CEB!Q91 -> 65755 | D39: =CEB!Q103 -> 56748 | E39: =CEB!Q115 -> 50987 | F39: =CEB!Q127 -> 65263 | G39: =CEB!Q139 -> 66134 | H39: =CEB!Q151 -> 52689 | I39: =CEB!Q163 -> 53594 | J39: =CEB!Q175 -> 32116 | K39: =CEB!Q187 -> 29412 | L39: =CEB!Q199 -> 47419 | M39: 64112
A40: Maio | B40: =CEB!Q80 -> 49653 | C40: =CEB!Q92 -> 52940 | D40: =CEB!Q104 -> 53347 | E40: =CEB!Q116 -> 49617 | F40: =CEB!Q128 -> 61688 | G40: =CEB!Q140 -> 66247 | H40: =CEB!Q152 -> 53189 | I40: =CEB!Q164 -> 55579 | J40: =CEB!Q176 -> 30265 | K40: =CEB!Q188 -> 29713 | L40: =CEB!Q200 -> 42749 | M40: 54046
A41: Junho | B41: =CEB!Q81 -> 40678 | C41: =CEB!Q93 -> 51874 | D41: =CEB!Q105 -> 51230 | E41: =CEB!Q117 -> 44887 | F41: =CEB!Q129 -> 61688 | G41: =CEB!Q141 -> 51998 | H41: =CEB!Q153 -> 49141 | I41: =CEB!Q165 -> 46376 | J41: =CEB!Q177 -> 29530 | K41: =CEB!Q189 -> 28609 | L41: =CEB!Q201 -> 34935 | M41: 43467
A42: Julho | B42: =CEB!Q82 -> 41932 | C42: =CEB!Q94 -> 49197 | D42: =CEB!Q106 -> 41335 | E42: =CEB!Q118 -> 47226 | F42: =CEB!Q130 -> 52461 | G42: =CEB!Q142 -> 46523 | H42: =CEB!Q154 -> 48230 | I42: =CEB!Q166 -> 45868 | J42: =CEB!Q178 -> 28725 | K42: =CEB!Q190 -> 27612 | L42: =CEB!Q202 -> 35495 | M42: 44178
A43: Agosto | B43: =CEB!Q83 -> 40030 | C43: =CEB!Q95 -> 48186 | D43: =CEB!Q107 -> 42998 | E43: =CEB!Q119 -> 60692 | F43: =CEB!Q131 -> 60635 | G43: =CEB!Q143 -> 61170 | H43: =CEB!Q155 -> 56207 | I43: =CEB!Q167 -> 50895 | J43: =CEB!Q179 -> 32086 | K43: =CEB!Q191 -> 30849 | L43: =CEB!Q203 -> 32793 | M43: 45257
A44: Setembro | B44: =CEB!Q84 -> 40531 | C44: =CEB!Q96 -> 53402 | D44: =CEB!Q108 -> 54971 | E44: =CEB!Q120 -> 70653 | F44: =CEB!Q132 -> 63225 | G44: =CEB!Q144 -> 60035 | H44: =CEB!Q156 -> 64514 | I44: =CEB!Q168 -> 65533 | J44: =CEB!Q180 -> 35811 | K44: =CEB!Q192 -> 38841 | L44: 32793 | M44: 64370
A45: Outubro | B45: =CEB!Q85 -> 55711 | C45: =CEB!Q97 -> 59346 | D45: =CEB!Q109 -> 67676 | E45: =CEB!Q121 -> 74454 | F45: =CEB!Q133 -> 65156 | G45: =CEB!Q145 -> 72219 | H45: =CEB!Q157 -> 64908 | I45: =CEB!Q169 -> 65692 | J45: =CEB!Q181 -> 37199 | K45: =CEB!Q193 -> 38558 | L45: 38333 | M45: 66459
A46: Novembro | B46: =CEB!Q86 -> 55447 | C46: =CEB!Q98 -> 59293 | D46: =CEB!Q110 -> 67095 | E46: =CEB!Q122 -> 77195 | F46: =CEB!Q134 -> 59640 | G46: =CEB!Q146 -> 58783 | H46: =CEB!Q158 -> 53231 | I46: =CEB!Q170 -> 56535 | J46: =CEB!Q182 -> 35495 | K46: =CEB!Q194 -> 35552 | L46: 38290 | M46: 66195
...
