Workbook
Name OLE_LINK1: PO!$A$2

Sheet PO
A2: PREFEITURA MUNICIPAL DE ÓBIDOS
A3: SECRETARIA MUNICIPAL DE PLANEJAMENTO, ORÇAMENTO E FINANÇAS
A4: CNPJ Nº. 05.131.180/0001-64 – Fone: (93) 3547–3044
A5: Rua Deputado Raimundo Chaves, 338 - Centro – CEP: 68.250-000
A6: OBJETO: Construção de Creche e Escola de Educação Infantil, Bela Vista, Óbidos/PA – FNDE – Creche Tipo 1, TERMO DE COMPROMISSO Nº 965504/2024/FNDE/CAIXA | I6: BDI: 25,00%
A7: Local: Bairro Bela Vista | I7: Referência: SINAPI 01/2025 NÃO DESONERADO
A8: PLANILHA ORÇAMENTÁRIA
A9: Nivel | B9: N° Macrosserviço / Serviço | C9: Fonte | D9: Código | E9: Descrição Macrosserviço / Serviço | F9: Qtd. (valor calculado) | G9: Und. | H9: Custo Unitário | I9: BDI | J9: Preço Unitário (valor calculado) | K9: Preço Total (valor calculado) | L9: N° Frente de Obra | M9: Frente de Obra | N9: Qtd. | O9: Valor
A10: Macrosserviço | B10: 1 | E10: SERVIÇOS PRELIMINARES | K10: =ROUND(K11,2)+ROUND(K12,2)+ROUND(K13,2)+ROUND(K14,2)+ROUND(K15,2)+ROUND(K16,2)+ROUND(K17,2)+ROUND(K18,2)+ROUND(K19,2) -> 526328.56
A11: Serviço | B11: 1.1 | C11: SINAPI | D11: 103689 | E11: FORNECIMENTO E INSTALAÇÃO DE PLACA DE OBRA COM CHAPA GALVANIZADA E ESTRUTURA DE MADEIRA. AF_03/2022_PS | F11: =N11 -> 6.48 | G11: M2 | H11: 468.65 | I11: 0.25 | J11: =ROUND(H11,2)+(ROUND(H11,2)*I11) -> 585.8125 | K11: =ROUND(J11,2)*F11 -> 3796.0488 | L11: 1 | M11: CRECHE TIPO 1 | N11: 6.48 | O11: =ROUND(J11,2)*N11 -> 3796.0488
A12: Serviço | B12: 1.2 | C12: SINAPI | D12: 98459 | E12: TAPUME COM TELHA METÁLICA. AF_03/2024 | F12: =N12 -> 501.6 | G12: M2 | H12: 94.19 | I12: 0.25 | J12: =ROUND(H12,2)+(ROUND(H12,2)*I12) -> 117.7375 | K12: =ROUND(J12,2)*F12 -> 59058.384 | L12: 1 | M12: CRECHE TIPO 1 | N12: 501.6 | O12: =ROUND(J12,2)*N12 -> 59058.384
A13: Serviço | B13: 1.3 | C13: SINAPI | D13: 101509 | E13: ENTRADA DE ENERGIA ELÉTRICA, AÉREA, TRIFÁSICA, COM CAIXA DE EMBUTIR, CABO DE 10 MM2 E DISJUNTOR DIN 50A (NÃO INCLUSO O POSTE DE CONCRETO). AF_07/2020 | F13: =N13 -> 1 | G13: UN | H13: 2024.29 | I13: 0.25 | J13: =ROUND(H13,2)+(ROUND(H13,2)*I13) -> 2530.3625 | K13: =ROUND(J13,2)*F13 -> 2530.36 | L13: 1 | M13: CRECHE TIPO 1 | N13: 1 | O13: =ROUND(J13,2)*N13 -> 2530.36
A14: Serviço | B14: 1.4 | C14: Outros | D14: FNDE 03 | E14: LIGAÇÃO PROVISÓRIA DE ÁGUA E ESGOTO | F14: =N14 -> 1 | G14: UN | H14: 3173.86 | I14: 0.25 | J14: =ROUND(H14,2)+(ROUND(H14,2)*I14) -> 3967.325 | K14: =ROUND(J14,2)*F14 -> 3967.33 | L14: 1 | M14: CRECHE TIPO 1 | N14: 1 | O14: =ROUND(J14,2)*N14 -> 3967.33
A15: Serviço | B15: 1.5 | C15: SINAPI | D15: 99059 | E15: LOCAÇÃO CONVENCIONAL DE OBRA, UTILIZANDO GABARITO DE TÁBUAS CORRIDAS PONTALETADAS A CADA 2,00M - 2 UTILIZAÇÕES. AF_03/2024 | F15: =N15 -> 254 | G15: M | H15: 67.2 | I15: 0.25 | J15: =ROUND(H15,2)+(ROUND(H15,2)*I15) -> 84 | K15: =ROUND(J15,2)*F15 -> 21336 | L15: 1 | M15: CRECHE TIPO 1 | N15: 254 | O15: =ROUND(J15,2)*N15 -> 21336
A16: Serviço | B16: 1.6 | C16: Outros | D16: FNDE 244 | E16: ADMINISTRAÇÃO LOCAL TIPO 1 | F16: =N16 -> 1 | G16: UN | H16: 316621.95 | I16: 0.25 | J16: =ROUND(H16,2)+(ROUND(H16,2)*I16) -> 395777.44 | K16: =ROUND(J16,2)*F16 -> 395777.44 | L16: 1 | M16: CRECHE TIPO 1 | N16: 1 | O16: =ROUND(J16,2)*N16 -> 395777.44
A17: Serviço | B17: 1.7 | C17: Outros | D17: FNDE 231 | E17: LOCACAODECONTAINER2,30X6,00M,ALT.2,50M,COM1SANITARIO,PARAESCRITORIO,COMPLETO,SEMDIVISORIASINTERNAS(NAOINCLUIMOBILIZACAO/DESMOBILIZACAO) | F17: =N17 -> 10 | G17: MESES | H17: 1054.34 | I17: 0.25 | J17: =ROUND(H17,2)+(ROUND(H17,2)*I17) -> 1317.925 | K17: =ROUND(J17,2)*F17 -> 13179.3 | L17: 1 | M17: CRECHE TIPO 1 | N17: 10 | O17: =ROUND(J17,2)*N17 -> 13179.3
A18: Serviço | B18: 1.8 | C18: Outros | D18: FNDE 230 | E18: LOCACAODECONTAINER2,30X6,00M,ALT.2,50M,PARAESCRITORIO,SEMDIVISORIASINTERNASESEMSANITARIO(NAOINCLUIMOBILIZACAO/DESMOBILIZACAO) | F18: =N18 -> 10 | G18: MESES | H18: 872.23 | I18: 0.25 | J18: =ROUND(H18,2)+(ROUND(H18,2)*I18) -> 1090.2875 | K18: =ROUND(J18,2)*F18 -> 10902.9 | L18: 1 | M18: CRECHE TIPO 1 | N18: 10 | O18: =ROUND(J18,2)*N18 -> 10902.9
A19: Serviço | B19: 1.9 | C19: Outros | D19: FNDE 232 | E19: LOCACAODECONTAINER2,30X6,00M,ALT.2,50M,PARASANITARIO,COM4BACIAS,8CHUVEIROS,1LAVATORIOE1MICTORIO(NAOINCLUIMOBILIZACAO/DESMOBILIZACAO) | F19: =N19 -> 10 | G19: MESES | H19: 1262.46 | I19: 0.25 | J19: =ROUND(H19,2)+(ROUND(H19,2)*I19) -> 1578.075 | K19: =ROUND(J19,2)*F19 -> 15780.8 | L19: 1 | M19: CRECHE TIPO 1 | N19: 10 | O19: =ROUND(J19,2)*N19 -> 15780.8
A20: Macrosserviço | B20: 2 | E20: MOVIMENTO DE TERRA PARA FUNDAÇÕES | K20: =ROUND(K21,2)+ROUND(K22,2)+ROUND(K23,2)+ROUND(K24,2)+ROUND(K25,2)+ROUND(K26,2)+ROUND(K27,2) -> 161722.32
A21: Serviço | B21: 2.1 | C21: SINAPI | D21: 98525 | E21: LIMPEZA MECANIZADA DE CAMADA VEGETAL, VEGETAÇÃO E PEQUENAS ÁRVORES (DIÂMETRO DE TRONCO MENOR QUE 0,20 M), COM TRATOR DE ESTEIRAS. AF_03/2024 | F21: =N21 -> 2925 | G21: M2 | H21: 0.69 | I21: 0.25 | J21: =ROUND(H21,2)+(ROUND(H21,2)*I21) -> 0.8625 | K21: =ROUND(J21,2)*F21 -> 2515.5 | L21: 1 | M21: CRECHE TIPO 1 | N21: 2925 | O21: =ROUND(J21,2)*N21 -> 2515.5
A22: Serviço | B22: 2.2 | C22: SINAPI | D22: 94304 | E22: ATERRO MECANIZADO DE VALA COM ESCAVADEIRA HIDRÁULICA (CAPACIDADE DA CAÇAMBA: 0,8 M³ / POTÊNCIA: 111 HP), LARGURA ATÉ 2,5 M, PROFUNDIDADE ATÉ 1,5 M, COM SOLO ARGILO-ARENOSO. AF_08/2023 | F22: =N22 -> 585 | G22: M3 | H22: 75.51 | I22: 0.25 | J22: =ROUND(H22,2)+(ROUND(H22,2)*I22) -> 94.3875 | K22: =ROUND(J22,2)*F22 -> 55218.15 | L22: 1 | M22: CRECHE TIPO 1 | N22: 585 | O22: =ROUND(J22,2)*N22 -> 55218.15
A23: Serviço | B23: 2.3 | C23: SINAPI | D23: 96521 | E23: ESCAVAÇÃO MECANIZADA PARA BLOCO DE COROAMENTO OU SAPATA COM RETROESCAVADEIRA (INCLUINDO ESCAVAÇÃO PARA COLOCAÇÃO DE FÔRMAS). AF_01/2024 | F23: =N23 -> 457.05 | G23: M3 | H23: 45.35 | I23: 0.25 | J23: =ROUND(H23,2)+(ROUND(H23,2)*I23) -> 56.6875 | K23: =ROUND(J23,2)*F23 -> 25910.164 | L23: 1 | M23: CRECHE TIPO 1 | N23: 457.05 | O23: =ROUND(J23,2)*N23 -> 25910.164
A24: Serviço | B24: 2.4 | C24: SINAPI | D24: 96525 | E24: ESCAVAÇÃO MECANIZADA PARA VIGA BALDRAME OU SAPATA CORRIDA COM MINI-ESCAVADEIRA (INCLUINDO ESCAVAÇÃO PARA COLOCAÇÃO DE FÔRMAS). AF_01/2024 | F24: =N24 -> 264.04 | G24: M3 | H24: 57.15 | I24: 0.25 | J24: =ROUND(H24,2)+(ROUND(H24,2)*I24) -> 71.4375 | K24: =ROUND(J24,2)*F24 -> 18863.018 | L24: 1 | M24: CRECHE TIPO 1 | N24: 264.04 | O24: =ROUND(J24,2)*N24 -> 18863.018
A25: Serviço | B25: 2.5 | C25: SINAPI | D25: 101616 | E25: PREPARO DE FUNDO DE VALA COM LARGURA MENOR QUE 1,5 M (ACERTO DO SOLO NATURAL). AF_08/2020 | F25: =N25 -> 1317.99 | G25: M2 | H25: 7.21 | I25: 0.25 | J25: =ROUND(H25,2)+(ROUND(H25,2)*I25) -> 9.0125 | K25: =ROUND(J25,2)*F25 -> 11875.09 | L25: 1 | M25: CRECHE TIPO 1 | N25: 1317.99 | O25: =ROUND(J25,2)*N25 -> 11875.09
A26: Serviço | B26: 2.6 | C26: SINAPI | D26: 104740 | E26: REATERRO MECANIZADO DE VALA COM MINICARREGADEIRA, COM COMPACTADOR DE SOLOS DE PERCUSSÃO. AF_08/2023 | F26: =N26 -> 619.96 | G26: M3 | H26: 28.87 | I26: 0.25 | J26: =ROUND(H26,2)+(ROUND(H26,2)*I26) -> 36.0875 | K26: =ROUND(J26,2)*F26 -> 22374.356 | L26: 1 | M26: CRECHE TIPO 1 | N26: 619.96 | O26: =ROUND(J26,2)*N26 -> 22374.356
A27: Serviço | B27: 2.7 | C27: SINAPI | D27: 104738 | E27: ATERRO MECANIZADO DE VALA COM MINICARREGADEIRA, COM SOLO ARGILO-ARENOSO. AF_08/2023 | F27: =N27 -> 247.36 | G27: M3 | H27: 80.74 | I27: 0.25 | J27: =ROUND(H27,2)+(ROUND(H27,2)*I27) -> 100.925 | K27: =ROUND(J27,2)*F27 -> 24966.045 | L27: 1 | M27: CRECHE TIPO 1 | N27: 247.36 | O27: =ROUND(J27,2)*N27 -> 24966.045
A28: Macrosserviço | B28: 3 | E28: FUNDAÇÕES - CONCRETO ARMADO PARA FUNDAÇÕES | K28: =ROUND(K29,2)+ROUND(K30,2)+ROUND(K31,2) -> 97428.45
A29: Serviço | B29: 3.1 | C29: SINAPI | D29: 100896 | E29: ESTACA ESCAVADA MECANICAMENTE, SEM FLUIDO ESTABILIZANTE, COM 25CM DE DIÂMETRO, CONCRETO LANÇADO POR CAMINHÃO BETONEIRA (EXCLUSIVE MOBILIZAÇÃO E DESMOBILIZAÇÃO). AF_01/2020_PA | F29: =N29 -> 620 | G29: M | H29: 72.5 | I29: 0.25 | J29: =ROUND(H29,2)+(ROUND(H29,2)*I29) -> 90.625 | K29: =ROUND(J29,2)*F29 -> 56190.6 | L29: 1 | M29: CRECHE TIPO 1 | N29: 620 | O29: =ROUND(J29,2)*N29 -> 56190.6
A30: Serviço | B30: 3.2 | C30: SINAPI | D30: 100897 | E30: ESTACA ESCAVADA MECANICAMENTE, SEM FLUIDO ESTABILIZANTE, COM 40CM DE DIÂMETRO, CONCRETO LANÇADO POR CAMINHÃO BETONEIRA (EXCLUSIVE MOBILIZAÇÃO E DESMOBILIZAÇÃO). AF_01/2020_PA | F30: =N30 -> 205 | G30: M | H30: 146.64 | I30: 0.25 | J30: =ROUND(H30,2)+(ROUND(H30,2)*I30) -> 183.3 | K30: =ROUND(J30,2)*F30 -> 37576.5 | L30: 1 | M30: CRECHE TIPO 1 | N30: 205 | O30: =ROUND(J30,2)*N30 -> 37576.5
A31: Serviço | B31: 3.3 | C31: SINAPI | D31: 95601 | E31: ARRASAMENTO MECANICO DE ESTACA DE CONCRETO ARMADO, DIAMETROS DE ATÉ 40 CM. AF_05/2021 | F31: =N31 -> 165 | G31: UN | H31: 17.75 | I31: 0.25 | J31: =ROUND(H31,2)+(ROUND(H31,2)*I31) -> 22.1875 | K31: =ROUND(J31,2)*F31 -> 3661.35 | L31: 1 | M31: CRECHE TIPO 1 | N31: 165 | O31: =ROUND(J31,2)*N31 -> 3661.35
A32: Macrosserviço | B32: 4 | E32: FUNDAÇÕES - CONCRETO ARMADO PARA SAPATAS | K32: =ROUND(K33,2)+ROUND(K34,2)+ROUND(K35,2)+ROUND(K36,2)+ROUND(K37,2)+ROUND(K38,2)+ROUND(K39,2) -> 27215.85
A33: Serviço | B33: 4.1 | C33: SINAPI | D33: 96621 | E33: LASTRO COM MATERIAL GRANULAR, APLICAÇÃO EM BLOCOS DE COROAMENTO, ESPESSURA DE *5 CM*. AF_01/2024 | F33: =N33 -> 1.37 | G33: M3 | H33: 432.41 | I33: 0.25 | J33: =ROUND(H33,2)+(ROUND(H33,2)*I33) -> 540.5125 | K33: =ROUND(J33,2)*F33 -> 740.4987 | L33: 1 | M33: CRECHE TIPO 1 | N33: 1.37 | O33: =ROUND(J33,2)*N33 -> 740.4987
A34: Serviço | B34: 4.2 | C34: SINAPI | D34: 96619 | E34: LASTRO DE CONCRETO MAGRO, APLICADO EM BLOCOS DE COROAMENTO OU SAPATAS, ESPESSURA DE 5 CM. AF_01/2024 | F34: =N34 -> 27.34 | G34: M2 | H34: 52.62 | I34: 0.25 | J34: =ROUND(H34,2)+(ROUND(H34,2)*I34) -> 65.775 | K34: =ROUND(J34,2)*F34 -> 1798.4252 | L34: 1 | M34: CRECHE TIPO 1 | N34: 27.34 | O34: =ROUND(J34,2)*N34 -> 1798.4252
A35: Serviço | B35: 4.3 | C35: SINAPI | D35: 96535 | E35: FABRICAÇÃO, MONTAGEM E DESMONTAGEM DE FÔRMA PARA SAPATA, EM MADEIRA SERRADA, E=25 MM, 4 UTILIZAÇÕES. AF_01/2024 | F35: =N35 -> 20.39 | G35: M2 | H35: 143.86 | I35: 0.25 | J35: =ROUND(H35,2)+(ROUND(H35,2)*I35) -> 179.825 | K35: =ROUND(J35,2)*F35 -> 3666.7337 | L35: 1 | M35: CRECHE TIPO 1 | N35: 20.39 | O35: =ROUND(J35,2)*N35 -> 3666.7337
A36: Serviço | B36: 4.4 | C36: SINAPI | D36: 104918 | E36: ARMAÇÃO DE SAPATA ISOLADA, VIGA BALDRAME E SAPATA CORRIDA UTILIZANDO AÇO CA-50 DE 8 MM - MONTAGEM. AF_01/2024 | F36: =N36 -> 762.7 | G36: KG | H36: 16.09 | I36: 0.25 | J36: =ROUND(H36,2)+(ROUND(H36,2)*I36) -> 20.1125 | K36: =ROUND(J36,2)*F36 -> 15337.897 | L36: 1 | M36: CRECHE TIPO 1 | N36: 762.7 | O36: =ROUND(J36,2)*N36 -> 15337.897
A37: Serviço | B37: 4.5 | C37: SINAPI | D37: 104919 | E37: ARMAÇÃO DE SAPATA ISOLADA, VIGA BALDRAME E SAPATA CORRIDA UTILIZANDO AÇO CA-50 DE 10 MM - MONTAGEM. AF_01/2024 | F37: =N37 -> 62.54 | G37: KG | H37: 14.34 | I37: 0.25 | J37: =ROUND(H37,2)+(ROUND(H37,2)*I37) -> 17.925 | K37: =ROUND(J37,2)*F37 -> 1121.3422 | L37: 1 | M37: CRECHE TIPO 1 | N37: 62.54 | O37: =ROUND(J37,2)*N37 -> 1121.3422
A38: Serviço | B38: 4.6 | C38: SINAPI | D38: 104916 | E38: ARMAÇÃO DE SAPATA ISOLADA, VIGA BALDRAME E SAPATA CORRIDA UTILIZANDO AÇO CA-60 DE 5 MM - MONTAGEM. AF_01/2024 | F38: =N38 -> 16.11 | G38: KG | H38: 18.7 | I38: 0.25 | J38: =ROUND(H38,2)+(ROUND(H38,2)*I38) -> 23.375 | K38: =ROUND(J38,2)*F38 -> 376.6518 | L38: 1 | M38: CRECHE TIPO 1 | N38: 16.11 | O38: =ROUND(J38,2)*N38 -> 376.6518
A39: Serviço | B39: 4.7 | C39: SINAPI | D39: 96558 | E39: CONCRETAGEM DE SAPATA, FCK 30 MPA, COM USO DE BOMBA - LANÇAMENTO, ADENSAMENTO E ACABAMENTO. AF_01/2024 | F39: =N39 -> 3.38 | G39: M3 | H39: 988 | I39: 0.25 | J39: =ROUND(H39,2)+(ROUND(H39,2)*I39) -> 1235 | K39: =ROUND(J39,2)*F39 -> 4174.3 | L39: 1 | M39: CRECHE TIPO 1 | N39: 3.38 | O39: =ROUND(J39,2)*N39 -> 4174.3
A40: Macrosserviço | B40: 5 | E40: FUNDAÇÕES - CONCRETO ARMADO PARA BLOCOS | K40: =ROUND(K41,2)+ROUND(K42,2)+ROUND(K43,2)+ROUND(K44,2)+ROUND(K45,2)+ROUND(K46,2)+ROUND(K47,2)+ROUND(K48,2)+ROUND(K49,2)+ROUND(K50,2) -> 157318.68
A41: Serviço | B41: 5.1 | C41: SINAPI | D41: 96621 | E41: LASTRO COM MATERIAL GRANULAR, APLICAÇÃO EM BLOCOS DE COROAMENTO, ESPESSURA DE *5 CM*. AF_01/2024 | F41: =N41 -> 20.24 | G41: M3 | H41: 432.41 | I41: 0.25 | J41: =ROUND(H41,2)+(ROUND(H41,2)*I41) -> 540.5125 | K41: =ROUND(J41,2)*F41 -> 10939.922 | L41: 1 | M41: CRECHE TIPO 1 | N41: 20.24 | O41: =ROUND(J41,2)*N41 -> 10939.922
...

Sheet CFF-BM
A2: PREFEITURA MUNICIPAL DE ÓBIDOS SECRETARIA MUNICIPAL DE PLANEJAMENTO, ORÇAMENTO E FINANÇAS CNPJ Nº. 05.131.180/0001-64 – Fone: (93) 3547–3044 Rua Deputado Raimundo Chaves, 338 - Centro – CEP: 68.250-000
A11: =PO!A6 -> OBJETO: Construção de Creche e Escola de Educação Infantil, Bela Vista, Óbidos/PA – FNDE – Creche Tipo 1, TERMO DE COMPROMISSO Nº 965504/2024/FNDE/CAIXA
A12: =PO!A7 -> Local: Bairro Bela Vista
A14: Item | B14: Macrosserviço | C14: Parcela | D14: Percentual Parcela | E14: 1 mês | F14: 2 mês | G14: 3 mês | H14: 4 mês | I14: 5 mês | J14: 6 mês | K14: 7 mês | L14: 8 mês | M14: 9 mês | N14: 10 mês | O14: 11 mês | P14: 12 mês | Q14: 13 mês | R14: 14 mês | S14: 15 mês | T14: 16 mês | U14: 17 mês | V14: 18 mês | W14: 19 mês | X14: 20 mês | Y14: 21 mês | Z14: 22 mês | AA14: 23 mês | AB14: 24 mês
A15: 1 | B15: SERVIÇOS PRELIMINARES | C15: =PO!K10 -> 526328.56 | D15: =C15/$C179 -> 0.081895644 | E15: 0.2 | H15: 0.1 | K15: 0.1 | N15: 0.1 | Q15: 0.1 | T15: 0.1 | W15: 0.1 | Z15: 0.1 | AB15: 0.1
E16: =E15*$C15 -> 105265.71 | H16: =H15*$C15 -> 52632.856 | K16: =K15*$C15 -> 52632.856 | N16: =N15*$C15 -> 52632.856 | Q16: =Q15*$C15 -> 52632.856 | T16: =T15*$C15 -> 52632.856 | W16: =W15*$C15 -> 52632.856 | Z16: =Z15*$C15 -> 52632.856 | AB16: =AB15*$C15 -> 52632.856
A17: 2 | B17: MOVIMENTO DE TERRA PARA FUNDAÇÕES | C17: =PO!K20 -> 161722.32 | D17: =C17/C$179 -> 0.025163661 | E17: 0.5 | F17: 0.5
C18: 2 | E18: =E17*$C17 -> 80861.16 | F18: =F17*$C17 -> 80861.16
A19: 3 | B19: FUNDAÇÕES - CONCRETO ARMADO PARA FUNDAÇÕES | C19: =PO!K28 -> 97428.45 | D19: =C19/C$179 -> 0.015159667 | F19: 0.5 | G19: 0.5
C20: 3 | F20: =F19*$C19 -> 48714.225 | G20: =G19*$C19 -> 48714.225
A21: 4 | B21: FUNDAÇÕES - CONCRETO ARMADO PARA SAPATAS | C21: =PO!K32 -> 27215.85 | D21: =C21/C$179 -> 0.0042347304 | F21: 0.2 | G21: 0.3 | H21: 0.5
C22: 3 | F22: =F21*$C21 -> 5443.17 | G22: =G21*$C21 -> 8164.755 | H22: =H21*$C21 -> 13607.925
A23: 5 | B23: FUNDAÇÕES - CONCRETO ARMADO PARA BLOCOS | C23: =PO!K40 -> 157318.68 | D23: =C23/C$179 -> 0.024478464 | F23: 0.2 | G23: 0.3 | H23: 0.5
C24: 3 | F24: =F23*$C23 -> 31463.736 | G24: =G23*$C23 -> 47195.604 | H24: =H23*$C23 -> 78659.34
A25: 6 | B25: SUPERESTRUTURA - CONCRETO ARMADO - VIGAS BALDRAME | C25: =PO!K51 -> 251893.82 | D25: =C25/C$179 -> 0.039194161 | F25: 0.1 | G25: 0.4 | H25: 0.5
C26: 3 | F26: =F25*$C25 -> 25189.382 | G26: =G25*$C25 -> 100757.53 | H26: =H25*$C25 -> 125946.91
A27: 7 | B27: SUPERESTRUTURA - CONCRETO ARMADO - PILARES | C27: =PO!K62 -> 113412.62 | D27: =C27/C$179 -> 0.017646771 | H27: 0.2 | I27: 0.3 | J27: 0.5
C28: 5 | H28: =H27*$C27 -> 22682.524 | I28: =I27*$C27 -> 34023.786 | J28: =J27*$C27 -> 56706.31
A29: 8 | B29: SUPERESTRUTURA - CONCRETO ARMADO - VIGAS | C29: =PO!K69 -> 172646.41 | D29: =C29/C$179 -> 0.026863427 | I29: 0.5 | J29: 0.5
C30: 6 | I30: =I29*$C29 -> 86323.205 | J30: =J29*$C29 -> 86323.205
A31: 9 | B31: SUPERESTRUTURA - LAJE DE PISO - CASA MÁQUINAS E MASTRO | C31: =PO!K77 -> 4654.94 | D31: =C31/C$179 -> 0.00072429911 | X31: 1
X32: =X31*$C31 -> 4654.94
A33: 10 | B33: SUPERESTRUTURA - LAJE DE COBERTURA - CASA DE MÁQUINAS E CASA DE GÁS | C33: =PO!K85 -> 2847.86 | D33: =C33/C$179 -> 0.00044312117 | X33: 1
X34: =X33*$C33 -> 2847.86
A35: 11 | B35: SUPERESTRUTURA - ESTRUTURA METÁLICA | C35: =PO!K90 -> 333099.54 | D35: =C35/C$179 -> 0.051829605 | N35: 0.5 | O35: 0.5
C36: 11 | N36: =N35*$C35 -> 166549.77 | O36: =O35*$C35 -> 166549.77
A37: 12 | B37: SISTEMA DE VEDAÇÃO VERTICAL - ELEMENTOS VAZADOS | C37: =PO!K95 -> 1507.82 | D37: =C37/C$179 -> 0.0002346137 | L37: 1
L38: =L37*$C37 -> 1507.82
A39: 13 | B39: SISTEMA DE VEDAÇÃO VERTICAL - ALVENARIA DE VEDAÇÃO | C39: =PO!K97 -> 181252.91 | D39: =C39/C$179 -> 0.028202581 | K39: 0.3 | L39: 0.2 | M39: 0.5
C40: 8 | K40: =K39*$C39 -> 54375.873 | L40: =L39*$C39 -> 36250.582 | M40: =M39*$C39 -> 90626.455
A41: 14 | B41: SISTEMA DE VEDAÇÃO VERTICAL - CONCRETO ARMADO PARA VERGAS | C41: =PO!K103 -> 15709.21 | D41: =C41/C$179 -> 0.0024443208 | M41: 0.2 | N41: 0.8
C42: 10 | M42: =M41*$C41 -> 3141.842 | N42: =N41*$C41 -> 12567.368
A43: 15 | B43: SISTEMA DE VEDAÇÃO VERTICAL - DIVISÓRIAS | C43: =PO!K108 -> 26806.07 | D43: =C43/C$179 -> 0.0041709695 | N43: 1
N44: =N43*$C43 -> 26806.07
A45: 16 | B45: ESQUADRIAS - PORTAS DE MADEIRA | C45: =PO!K112 -> 63045.35 | D45: =C45/C$179 -> 0.0098097271 | T45: 0.5 | U45: 0.5
C46: 17 | T46: =T45*$C45 -> 31522.675 | U46: =U45*$C45 -> 31522.675
A47: 17 | B47: ESQUADRIAS - FERRAGENS E ACESSÓRIOS | C47: =PO!K119 -> 12024.06 | D47: =C47/C$179 -> 0.0018709191 | U47: 0.5 | V47: 0.5
C48: 18 | U48: =U47*$C47 -> 6012.03 | V48: =V47*$C47 -> 6012.03
A49: 18 | B49: ESQUADRIAS - PORTAS EM ALUMÍNIO | C49: =PO!K124 -> 77915.15 | D49: =C49/C$179 -> 0.012123437 | T49: 0.2 | U49: 0.3 | V49: 0.5
C50: 17 | T50: =T49*$C49 -> 15583.03 | U50: =U49*$C49 -> 23374.545 | V50: =V49*$C49 -> 38957.575
...

Sheet BDI
A5: ESTADO DO PARÁ
A6: PREFEITURA MUNICIPAL DE ÓBIDOS
A7: SECRETARIA MUNICIPAL DE PLANEJAMENTO, ORÇAMENTO E FINANÇAS
A9: =PO!A6 -> OBJETO: Construção de Creche e Escola de Educação Infantil, Bela Vista, Óbidos/PA – FNDE – Creche Tipo 1, TERMO DE COMPROMISSO Nº 965504/2024/FNDE/CAIXA
A10: =PO!A7 -> Local: Bairro Bela Vista
A12: COMPOSIÇÃO DO BDI DE MATERIAIS
A14: ITENS RELATIVOS À ADMINISTRAÇÃO DA OBRA | D14: % | H14: 0.0157
A15: AC - Administração Central | D15: 4 | E15: =D15/100 -> 0.04 | H15: 0.003
A16: DF - Despesas Financeiras | D16: 1.23 | E16: =D16/100 -> 0.0123 | H16: 0.005
A17: R - Riscos | D17: 1.27 | E17: =D17/100 -> 0.0127 | H17: 0.0045
A18: SG - Seguros e Garantias Contratuais | D18: 0.8 | E18: =D18/100 -> 0.008 | H18: 0.005
A19: Sub-Total 1 | D19: =SUM(D15:D18) -> 7.3 | H19: 0.07495
H20: 0.07
A21: LUCRO | H21: 0.05
A22: L - Lucro Operacional | D22: 6.341 | E22: =D22/100 -> 0.06341
A23: Sub-Total 2 | D23: =SUM(D22) -> 6.341
A25: TRIBUTOS
A26: A - PIS | D26: 0.65
A27: B - COFINS | D27: 3
A28: C - ISS | D28: 5
A29: D - CONTRIBUIÇÃO PREVIDENCIÁRIA SOBRE A RENDA BRUTA
A30: Sub-Total 3 | D30: =SUM(D26:D29) -> 8.65 | E30: =D30/100 -> 0.0865
G31: =((1+E15+E17+E18)*(1+E16)*(1+E22)) -> 1.1418329 | I31: =(((G31/G32)-1)*100) -> 24.995389
A32: BDI= | B32: [(1+AC+R+SG)(1+DF)(1+L)] | C32: -1 | G32: =((1-E30)) -> 0.9135
B33: (1-T)
A35: BDI= | B35: [(1+0,04+0,0127+0,008)(1+0,0123)(1+0,0616)] | C35: -1
B36: (1-0,0865)
A38: BDI= | B38: =G31 -> 1.1418329 | C38: -1
B39: =1-E30 -> 0.9135
E40: =((B38/B39))-1 -> 0.24995389
A41: TOTAL BDI (%) | D41: =E40*100 -> 24.995389
A45: ACÓRDÃO Nº 2622/2013 – TCU

Sheet ENCARGOS
A4: ='[1]Plan Geral C-correção'!A2:I2 -> ESTADO DO PARÁ
A5: ='[1]Plan Geral C-correção'!A3:I3 -> PREFEITURA MUNICIPAL DE ÓBIDOS
A6: ='[1]Plan Geral C-correção'!A4:I4 -> SECRETARIA MUNICIPAL DE PLANEJAMENTO,ORÇAMENTO E FINANÇAS
A8: =PO!A6 -> OBJETO: Construção de Creche e Escola de Educação Infantil, Bela Vista, Óbidos/PA – FNDE – Creche Tipo 1, TERMO DE COMPROMISSO Nº 965504/2024/FNDE/CAIXA
A9: ENCARGOS SOCIAIS - SEM DESONERAÇÃO
A10: COD | B10: DESCRIÇÃO | C10: HORISTA % | D10: MENSALISTA %
A11: GRUPO A
A12: A1 | B12: INSS | C12: 0.2 | D12: 0.2
A13: A2 | B13: SESI | C13: 0.015 | D13: 0.015
A14: A3 | B14: SENAI | C14: 0.01 | D14: 0.01
A15: A4 | B15: INCRA | C15: 0.002 | D15: 0.002
A16: A5 | B16: SEBRAE | C16: 0.006 | D16: 0.006
A17: A6 | B17: Salário Educação | C17: 0.025 | D17: 0.025
A18: A7 | B18: Seguro Contra Acidentes de Trabalho | C18: 0.03 | D18: 0.03
A19: A8 | B19: FGTS | C19: 0.08 | D19: 0.08
A20: A9 | B20: SECONCI | C20: 0 | D20: 0
A21: A | B21: TOTAL | C21: =SUM(C12:C20) -> 0.368 | D21: =SUM(D12:D20) -> 0.368
A22: GRUPO B
A23: B1 | B23: Repouso Semanal Renumerado | C23: 0.1813 | D23: Não Inside
A24: B2 | B24: Feriados | C24: 0.0416 | D24: Não Inside
A25: B3 | B25: Auxílio - Enfermidade | C25: 0.0087 | D25: 0.0065
A26: B4 | B26: 13° Salário | C26: 0.1122 | D26: 0.0833
A27: B5 | B27: Licença Paternidade | C27: 0.0007 | D27: 0.0005
A28: B6 | B28: Faltas Justificadas | C28: 0.0075 | D28: 0.0056
A29: B7 | B29: Dias de Chuvas | C29: 0.0283 | D29: Não Inside
A30: B8 | B30: Auxílio Acidente de Trabalho | C30: 0.001 | D30: 0.0007
A31: B9 | B31: Férias Gozadas | C31: 0.1282 | D31: 0.0953
A32: B10 | B32: Salário Maternidade | C32: 0.0003 | D32: 0.0003
A33: B | B33: TOTAL | C33: =SUM(C23:C32) -> 0.5098 | D33: =SUM(D23:D32) -> 0.1922
A34: GRUPO C
A35: C1 | B35: Aviso Prévio Indenizado | C35: 0.0581 | D35: 0.0432
A36: C2 | B36: Aviso Prévio Trabalhado | C36: 0.0014 | D36: 0.001
A37: C3 | B37: Férias Indenizadas | C37: 0.0177 | D37: 0.0131
A38: C4 | B38: Depósito Rescisão Sem Justa Causa | C38: 0.0296 | D38: 0.022
A39: C5 | B39: Indenização Adicional | C39: 0.0049 | D39: 0.0036
B40: TOTAL | C40: =SUM(C35:C39) -> 0.1117 | D40: =SUM(D35:D39) -> 0.0829
A41: GRUPO D
A42: D1 | B42: Reincidência de Grupo A sobre Grupo B | C42: 0.1876 | D42: 0.0707
A43: D2 | B43: Reincidência de Grupo A sobre Aviso Prévio Trabalhado e Reincidência do FGTS sobre Aviso Prévio Indenizado | C43: 0.0052 | D43: 0.0038
A44: D | B44: TOTAL | C44: =SUM(C42:C43) -> 0.1928 | D44: =SUM(D42:D43) -> 0.0745
...

Sheet COMPOSIÇÃO CUSTOS
A1: PREFEITURA MUNICIPAL DE ÓBIDOS SECRETARIA MUNICIPAL DE PLANEJAMENTO, ORÇAMENTO E FINANÇAS CNPJ Nº. 05.131.180/0001-64 – Fone: (93) 3547–3044 Rua Deputado Raimundo Chaves, 338 - Centro – CEP: 68.250-000
A5: =PO!A6 -> OBJETO: Construção de Creche e Escola de Educação Infantil, Bela Vista, Óbidos/PA – FNDE – Creche Tipo 1, TERMO DE COMPROMISSO Nº 965504/2024/FNDE/CAIXA
F6: BDI : | G6: 0.25
E7: Fonte
E8: SINAPI | F8: 2025/01 | G8: SEM DESONERAÇÃO
E9: SP OBRAS | F9: 196 | G9: SEM DESONERAÇÃO
E10: PRÓPRIA | F10: PRÓPRIA
A11: COMPOSIÇÃO DES CUSTOS UNITÁRIOS
A12: FNDE 03 LIGAÇÃO PROVISÓRIA DE ÁGUA E ESGOTO (UN)
A13: Material | C13: FONTE | D13: UNID | E13: COEFICIENTE | F13: PREÇO UNITÁRIO | G13: TOTAL
A14: 00000370 | B14: AREIA MEDIA - POSTO JAZIDA/FORNECEDOR (RETIRADO NA JAZIDA, SEM TRANSPORTE) - Percentual=1,0000% | C14: SINAPI | D14: M3 | E14: 0.02 | F14: 78 | G14: 1.57
A15: 00010420 | B15: BACIA SANITARIA (VASO) CONVENCIONAL, DE LOUCA BRANCA, SIFAO APARENTE, SAIDA VERTICAL (SEM ASSENTO) - Percentual=1,0000% | C15: SINAPI | D15: UN | E15: 1 | F15: 192.2 | G15: 194.12
A16: 00011868 | B16: CAIXA D'AGUA / RESERVATORIO EM POLIESTER REFORCADO COM FIBRA DE VIDRO,1000 LITROS, COM TAMPA - Percentual=1,0000% | C16: SINAPI | D16: UN | E16: 1 | F16: 643.47 | G16: 649.9
A17: 00020247 | B17: PREGO DE ACO POLIDO COM CABECA 15 X 15 (1 1/4 X 13) - Percentual=1,0000% | C17: SINAPI | D17: KG | E17: 1 | F17: 13.51 | G17: 13.64
A18: 00020205 | B18: RIPA APARELHADA *1,5 X 5* CM, EM MACARANDUBA/MASSARANDUBA, ANGELIM OU EQUIVALENTE DA REGIAO - Percentual=1,0000% | C18: SINAPI | D18: M | E18: 8 | F18: 3.82 | G18: 30.86
A19: 00021009 | B19: TUBO ACO GALVANIZADO COM COSTURA, CLASSE LEVE, DN 20 MM (3/4"), E = 2,25 MM, *1,3* KG/M (NBR 5580) - Percentual=1,0000% | C19: SINAPI | D19: M | E19: 30 | F19: 24.91 | G19: 754.77
A20: 00009841 | B20: TUBO PVC, SERIE R, DN 100 MM, PARA ESGOTO OU AGUAS PLUVIAIS PREDIAL (NBR 5688) - Percentual=1,0000% | C20: SINAPI | D20: M | E20: 5 | F20: 30.19 | G20: 152.45
A21: 00009841 | B21: TUBO PVC, SERIE R, DN 100 MM, PARA ESGOTO OU AGUAS PLUVIAIS PREDIAL (NBR 5688) - Percentual=1,0000% | C21: SINAPI | D21: M | E21: 5 | F21: 30.19 | G21: 152.45
E22: TOTAL Material: | G22: 1949.76
A23: Mão de Obra com Encargos Complementares | C23: FONTE | D23: UNID | E23: COEFICIENTE | F23: PREÇO UNITÁRIO | G23: TOTAL
A24: 88248 | B24: AUXILIAR DE ENCANADOR OU BOMBEIRO HIDRÁULICO COM ENCARGOS COMPLEMENTARES - Percentual=1,0000% | C24: SINAPI | D24: H | E24: 4 | F24: 31.51 | G24: 127.3
A25: 88267 | B25: ENCANADOR OU BOMBEIRO HIDRÁULICO COM ENCARGOS COMPLEMENTARES - Percentual=1,0000% | C25: SINAPI | D25: H | E25: 8 | F25: 38.1 | G25: 307.84
A26: 88309 | B26: PEDREIRO COM ENCARGOS COMPLEMENTARES - Percentual=1,0000% | C26: SINAPI | D26: H | E26: 8 | F26: 34.08 | G26: 275.36
A27: 88316 | B27: SERVENTE COM ENCARGOS COMPLEMENTARES - Percentual=1,0000% | C27: SINAPI | D27: H | E27: 8.12 | F27: 29.76 | G27: 244.06
E28: TOTAL Mão de Obra com Encargos Complementares: | G28: 954.56
A29: Serviço | C29: FONTE | D29: UNID | E29: COEFICIENTE | F29: PREÇO UNITÁRIO | G29: TOTAL
A30: 92273 | B30: FABRICAÇÃO DE ESCORAS DO TIPO PONTALETE, EM MADEIRA, PARA PÉ-DIREITO SIMPLES. AF_09/2020 - Percentual=1,0000% | C30: SINAPI | D30: M | E30: 17 | F30: 14.84 | G30: 254.8
E31: TOTAL Serviço: | G31: 254.8
E32: VALOR: | G32: 3159.12
A34: FNDE 244 ADMINISTRAÇÃO LOCAL TIPO 1 (UN)
A35: Mão de Obra com Encargos Complementares | C35: FONTE | D35: UNID | E35: COEFICIENTE | F35: PREÇO UNITÁRIO | G35: TOTAL
A36: 93563 | B36: ALMOXARIFE COM ENCARGOS COMPLEMENTARES | C36: SINAPI | D36: MES | E36: 10 | F36: 6655.92 | G36: 66559.2
A37: 93572 | B37: ENCARREGADO GERAL DE OBRAS COM ENCARGOS COMPLEMENTARES | C37: SINAPI | D37: MES | E37: 10 | F37: 8610.45 | G37: 86104.5
A38: 93565 | B38: ENGENHEIRO CIVIL DE OBRA JUNIOR COM ENCARGOS COMPLEMENTARES | C38: SINAPI | D38: MES | E38: 5 | F38: 22814.24 | G38: 114071.2
A39: 94295 | B39: MESTRE DE OBRAS COM ENCARGOS COMPLEMENTARES | C39: SINAPI | D39: MES | E39: 10 | F39: 13702.72 | G39: 137027.2
A40: 101452 | B40: SERVENTE DE OBRAS COM ENCARGOS COMPLEMENTARES | C40: SINAPI | D40: MES | E40: 10 | F40: 5315.79 | G40: 53157.9
E41: TOTAL Mão de Obra com Encargos Complementares: | G41: 456920
E42: VALOR: | G42: 456920
A44: FNDE 231 LOCACAO DE CONTAINER 2,30 X 6,00 M, ALT. 2,50 M, COM 1 SANITARIO, PARA ESCRITORIO, COMPLETO, SEM DIVISORIAS INTERNAS (NAO INCLUI MOBILIZACAO/DESMOBILIZACAO) (MÊS)
A45: Equipamento | C45: FONTE | D45: UNID | E45: COEFICIENTE | F45: PREÇO UNITÁRIO | G45: TOTAL
...
