Workbook
Name \0: #REF!
Name \a: #REF!
Name \c: '[1]Bm 8'!#REF!
Name \d: '[1]Bm 8'!#REF!
Name \f: #N/A
Name \I: #REF!
Name \p: #N/A
Name \q: '[1]Bm 8'!#REF!
Name \s: '[1]Bm 8'!#REF!
Name \x: '[1]Bm 8'!#REF!
Name \z: [2]PLMUSEU!#REF!
Name ______BOR1: '[1]Bm 8'!#REF!
Name ____Ele200502: #REF!
Name ____Ele200609: #REF!
Name ____pv2: #REF!
Name ____pv3: #REF!
Name ____REV5: #REF!
Name ____Ser200506: #REF!
Name ____Ser200705: #REF!
Name ____Ser200712: #REF!
Name ____Ser201104: #REF!
Name ____TR2: #REF!
Name ____TR5: #REF!
Name ___BOR1: '[1]Bm 8'!#REF!
Name ___Ele200502: #REF!
Name ___Ele200609: #REF!
Name ___pv2: #REF!
Name ___pv3: #REF!
Name ___REV5: #REF!
Name ___Ser200506: #REF!
Name ___Ser200705: #REF!
Name ___Ser200712: #REF!
Name ___Ser201104: #REF!
Name ___TR2: #REF!
Name ___TR5: #REF!
Name __BOR1: '[1]Bm 8'!#REF!
Name __Ele200502: #REF!
Name __Ele200609: #REF!
Name __pv2: #REF!
Name __pv3: #REF!
Name __REV5: #REF!
Name __Ser200506: #REF!
Name __Ser200705: #REF!
Name __Ser200712: #REF!
Name __Ser201104: #REF!
Name __TR2: #REF!
Name __TR5: #REF!
Name _01_09_96: #REF!
Name _1_Excel_BuiltIn_Print_Area_1_1: #REF!
Name _1Excel_BuiltIn_Print_Area_1_1: #REF!
Name _1Excel_BuiltIn_Print_Area_5_1: #REF!
Name _2Excel_BuiltIn_Print_Area_1_1: #REF!
Name _aaa01: #REF!
Name _abc10: #REF!
Name _abc100000: #REF!
Name _abc1111: #REF!
Name _abc2: #REF!
Name _bbb1: #REF!
Name _BOR1: '[1]Bm 8'!#REF!
Name _cab0120: #REF!

Sheet PLANILHA
B3: PLANILHA DE PREÇOS
B4: Item | C4: Descrição | D4: Quantidade | E4: V. unit | F4: V. total
B5: 1 | C5: Aquisição de Material Permanente, Luminária em LED p/ iluminação pública LED SMD AUTOVOLT 50 W, 5.000 K, IP-66, IRC 70, FP>0,95, 160lm/ w,8.000 lm e 54.000h, com base para Relé 7 PINOS, Dimerizável, modelo GL421 Glight ou similar - Inclusos os serviços de instalação, montagem, fixação, conexão elétrica, substituição da luminária existente quando aplicável, ajustes, testes de funcionamento e demais procedimentos necessários para a adequada instalação e operação da luminária, incluindo ferramentas, equipamentos e mão de obra especializada. | D5: 6000 | E5: =COMPOSICAO!H30 -> 1006.2662 | F5: =D5*E5 -> 6037597.2
B6: 2 | C6: Aquisição de Material Permanente, Braço Curvo em Aço Galvanizado a Fogo, com sapata de 48x2000mm DI ou similar | D6: 6000 | E6: =COMPOSICAO!H53 -> 395 | F6: =D6*E6 -> 2370000
B7: 3 | C7: Aquisição de Material Permanente, Porca quadrada rosca DN 16 mm | D7: 12000 | E7: =COMPOSICAO!H57 -> 4.4 | F7: =D7*E7 -> 52800
B8: 4 | C8: Aquisição de Material Permanente, Fornecimento de parafuso cabeça quadrada 16 x 350mm | D8: 12000 | E8: =COMPOSICAO!H61 -> 24.41 | F8: =D8*E8 -> 292920
B9: 5 | C9: Aquisição de Material Permanente, Relé fotoelétrico para comando de iluminação externa 1000 w - fornecimento e instalação. af_02/2025 | D9: 6000 | E9: =COMPOSICAO!H74 -> 36.360896 | F9: =D9*E9 -> 218165.38
B10: 6 | C10: Aquisição de Material Permanente, Cabo de cobre PP Cordplast 3 x 2,5 mm2, 450/750v - fornecimento e instalação | D10: 18000 | E10: =COMPOSICAO!H102 -> 25.339502 | F10: =D10*E10 -> 456111.04
B11: 7 | C11: Aquisição de Material Permanente, Fornecimento de conector perfuração 25-95/2 95 mm² | D11: 18000 | E11: =COMPOSICAO!H106 -> 13.52 | F11: =D11*E11 -> 243360
B12: 8 | C12: Aquisição de Material Permanente, Fita isolante alta fusão 19 mm x 10 m - Fornecimento | D12: 1000 | E12: =COMPOSICAO!H110 -> 16.23 | F12: =D12*E12 -> 16230
B13: 9 | C13: Aquisição de Material Permanente, Luminaria em LED p/ iluminação pública LED SMD AUTOVOLT 100 W, 5.000 K, IP-66, IRC 70, FP>0,95, 170lm/ PINOS, Dimerizável, modelo GL421 G-Light ou similarw,16.0000 lm e 54.000h, com base para Relé 7 | D13: 4000 | E13: =COMPOSICAO!H138 -> 1474.6262 | F13: =D13*E13 -> 5898504.8
B14: 10 | C14: Aquisição de Material Permanente, Braço Curvo em Aço Galvanizado a Fogo, com sapata de 48x2000mm DI ou similar | D14: 4000 | E14: =COMPOSICAO!H161 -> 395.10772 | F14: =D14*E14 -> 1580430.9
B15: 11 | C15: Aquisição de Material Permanente, Porca quadrada rosca DN 16 mm | D15: 8000 | E15: =COMPOSICAO!H165 -> 4.4 | F15: =D15*E15 -> 35200
B16: 12 | C16: Aquisição de Material Permanente, Fornecimento de parafuso cabeça quadrada 16 x 350mm | D16: 8000 | E16: =COMPOSICAO!H169 -> 24.41 | F16: =D16*E16 -> 195280
B17: 13 | C17: Aquisição de Material Permanente, Relé fotoelétrico para comando de iluminação externa 1000 w - fornecimento e instalação. af_02/2025 | D17: 4000 | E17: =COMPOSICAO!H182 -> 36.360896 | F17: =D17*E17 -> 145443.59
B18: 14 | C18: Aquisição de Material Permanente, Cabo de cobre PP Cordplast 3 x 2,5 mm2, 450/750v - fornecimento e instalação | D18: 12000 | E18: =COMPOSICAO!H210 -> 25.339502 | F18: =D18*E18 -> 304074.03
B19: 15 | C19: Aquisição de Material Permanente, Fornecimento de conector perfuração 25-95/2 95 mm² | D19: 12000 | E19: =COMPOSICAO!H214 -> 13.52 | F19: =D19*E19 -> 162240
D20: Valor Total | F20: =SUM(F5:F19) -> 18008357

Sheet COMPOSICAO
B2: BDI | C2: =BDI!D19 -> 0.28819865 | D2: Bancos: SINAPI 06/2026 - PA; ORSE 04/2026
B3: 1 | C3: Composição Item 01
B4: Base de Referência | C4: Descrição | D4: Unid. | E4: Índice | F4: Custo Unit. | G4: Custo + BDI | H4: Total R$
B5: 14118 / ORSE | C5: Luminaria em LED p/ iluminação pública LED SMD AUTOVOLT 50 W, 5.000 K, IP-66, IRC 70, FP>0,95, 160lm/w,8.000 lm e 54.000h, com base para Relé 7 PINOS, Dimerizável, modelo GL421 G-Light ou similar | D5: Unid. | E5: 1 | F5: 698.77 | G5: =TRUNC((F5+F5*C2),2) -> 900.15 | H5: =G5*E5 -> 900.15
B6: 06111 / SINAPI | C6: Servente de obras (horista) (111,36%) | D6: h | E6: 1 | F6: 14.98 | G6: =TRUNC((F6+F6*C2),2)*2.1136 -> 40.771344 | H6: =G6*E6 -> 40.771344
B7: 02436 / SINAPI | C7: Eletricista (horista) (111,36%) | D7: h | E7: 1 | F7: 20.3 | G7: =TRUNC((F7+F7*C2),2)*2.1136 -> 55.27064 | H7: =G7*E7 -> 55.27064
B8: 10362 / ORSE | C8: Seguro de vida e acidente em grupo | D8: Unid. | E8: 0.009 | F8: 12.54 | G8: =TRUNC((F8+F8*C2),2) -> 16.15 | H8: =G8*E8 -> 0.14535
B9: 10517 / ORSE | C9: Exames admissionais/demissionais (checkup) | D9: cj | E9: 0.0008 | F9: 300 | G9: =TRUNC((F9+F9*C2),2) -> 386.45 | H9: =G9*E9 -> 0.30916
B10: 10761 / ORSE | C10: Refeição - café da manhã ( café com leite e dois pães com manteiga) | D10: Unid. | E10: 0.2036 | F10: 5 | G10: =TRUNC((F10+F10*C2),2) -> 6.44 | H10: =G10*E10 -> 1.311184
B11: 04729 / ORSE | C11: Marreta 1 kg com cabo | D11: Unid. | E11: 0.0001 | F11: 39.5 | G11: =TRUNC((F11+F11*C2),2) -> 50.88 | H11: =G11*E11 -> 0.005088
B12: 10596 / ORSE | C12: Protetor auricular | D12: Unid. | E12: 0.009 | F12: 4.81 | G12: =TRUNC((F12+F12*C2),2) -> 6.19 | H12: =G12*E12 -> 0.05571
B13: 10599 / ORSE | C13: Protetor solar fps 30 com 120ml | D13: Unid. | E13: 0.0036 | F13: 18 | G13: =TRUNC((F13+F13*C2),2) -> 23.18 | H13: =G13*E13 -> 0.083448
B14: 10579 / ORSE | C14: Chave de fenda chata 30 cm | D14: Unid. | E14: 0.0002 | F14: 26.9 | G14: =TRUNC((F14+F14*C2),2) -> 34.65 | H14: =G14*E14 -> 0.00693
B15: 00158 / ORSE | C15: Almoço (Participação do empregador) | D15: Unid. | E15: 0.2036 | F15: 14 | G15: =TRUNC((F15+F15*C2),2) -> 18.03 | H15: =G15*E15 -> 3.670908
B16: 00941 / ORSE | C16: Fardamento com mangas curta | D16: Unid. | E16: 0.003 | F16: 193.04 | G16: =TRUNC((F16+F16*C2),2) -> 248.67 | H16: =G16*E16 -> 0.74601
B17: 01651 / ORSE | C17: Óculos branco proteção | D17: Unid. | E17: 0.0016 | F17: 6 | G17: =TRUNC((F17+F17*C2),2) -> 7.72 | H17: =G17*E17 -> 0.012352
B18: 02378 / ORSE | C18: Vale transporte | D18: Unid. | E18: 0.1595 | F18: 4.5 | G18: =TRUNC((F18+F18*C2),2) -> 5.79 | H18: =G18*E18 -> 0.923505
B19: 04728 / ORSE | C19: Talhadeira chata 10" | D19: Unid. | E19: 0.0003 | F19: 18.58 | G19: =TRUNC((F19+F19*C2),2) -> 23.93 | H19: =G19*E19 -> 0.007179
B20: 10492 / ORSE | C20: Cesta Básica | D20: Unid. | E20: 0.009 | F20: 205 | G20: =TRUNC((F20+F20*C2),2) -> 264.08 | H20: =G20*E20 -> 2.37672
B21: 12892 / SINAPI | C21: Luva raspa de couro, cano curto (punho *7* cm) | D21: Unid. | E21: 0.0046 | F21: 13.69 | G21: =TRUNC((F21+F21*C2),2) -> 17.63 | H21: =G21*E21 -> 0.081098
B22: 10788 / ORSE | C22: Pá quadrada | D22: Unid. | E22: 0.0002 | F22: 36.9 | G22: =TRUNC((F22+F22*C2),2) -> 47.53 | H22: =G22*E22 -> 0.009506
B23: 11241 / ORSE | C23: Alicate volt-amperimetro | D23: Unid. | E23: 0.0002 | F23: 170.6 | G23: =TRUNC((F23+F23*C2),2) -> 219.76 | H23: =G23*E23 -> 0.043952
B24: 02711 / SINAPI | C24: Carrinho de mao, em aco, com capacidade de *45 a 65* l / *100* kg, pneu com camara | D24: Unid. | E24: 0.0002 | F24: 190 | G24: =TRUNC((F24+F24*C2),2) -> 244.75 | H24: =G24*E24 -> 0.04895
B25: 11242 / ORSE | C25: Chave inglesa 12" | D25: Unid. | E25: 0.0001 | F25: 44 | G25: =TRUNC((F25+F25*C2),2) -> 56.68 | H25: =G25*E25 -> 0.005668
B26: 12893 / SINAPI | C26: Bota de seguranca com biqueira de aco e colarinho acolchoado | D26: Unid. | E26: 0.0015 | F26: 93.1 | G26: =TRUNC((F26+F26*C2),2) -> 119.93 | H26: =G26*E26 -> 0.179895
B27: 12894 / SINAPI | C27: Capa para chuva em pvc com forro de poliester, com capuz (amarela ou azul) | D27: Unid. | E27: 0.0004 | F27: 25.32 | G27: =TRUNC((F27+F27*C2),2) -> 32.61 | H27: =G27*E27 -> 0.013044
B28: 12895 / SINAPI | C28: Capacete de seguranca aba frontal com suspensao de polietileno, sem jugular (classe b) | D28: Unid. | E28: 0.0012 | F28: 17 | G28: =TRUNC((F28+F28*C2),2) -> 21.89 | H28: =G28*E28 -> 0.026268
B29: 11240 / ORSE | C29: Alicate com isolamento | E29: 0.0002 | F29: 47.69 | G29: =TRUNC((F29+F29*C2),2) -> 61.43 | H29: =G29*E29 -> 0.012286
B30: Total do Custo Unitário + BDI | H30: =SUM(H5:H29) -> 1006.2662
B31: 2 | C31: Composição Item 02
B32: Base de Referência | C32: Descrição | D32: Unid. | E32: Índice | F32: Custo Unit. | G32: Custo + BDI | H32: Total R$
B33: 13800 / ORSE | C33: Braço Curvo em Aço Galvanizado a Fogo, com sapata de 48x2000mm DI ou similar | D33: Unid. | E33: 1 | F33: 259.97 | G33: =TRUNC((F33+F33*C2),2) -> 334.89 | H33: =G33*E33 -> 334.89
B34: 02436 / SINAPI | C34: Eletricista (horista) (111,36%) | D34: h | E34: 1 | F34: 20.3 | G34: =TRUNC((F34+F34*C2),2)*2.1136 -> 55.27064 | H34: =E34*G34 -> 55.27064
B35: 10492 / ORSE | C35: Cesta Básica | D35: Unid. | E35: 0.0045 | F35: 205 | G35: =TRUNC((F35+F35*C2),2) -> 264.08 | H35: =E35*G35 -> 1.18836
B36: 12895 / SINAPI | C36: Capacete de seguranca aba frontal com suspensao de polietileno, sem jugular (classe b) | D36: Unid. | E36: 0.0006 | F36: 17 | G36: =TRUNC((F36+F36*C2),2) -> 21.89 | H36: =E36*G36 -> 0.013134
B37: 12894 / SINAPI | C37: Capa para chuva em pvc com forro de poliester, com capuz (amarela ou azul) | D37: Unid. | E37: 0.0002 | F37: 25.32 | G37: =TRUNC((F37+F37*C2),2) -> 32.61 | H37: =E37*G37 -> 0.006522
B38: 00158 / ORSE | C38: Almoço (Participação do empregador) | D38: Unid. | E38: 0.1018 | F38: 14 | G38: =TRUNC((F38+F38*C2),2) -> 18.03 | H38: =E38*G38 -> 1.835454
B39: 00941 / ORSE | C39: Fardamento com mangas curta | D39: Unid. | E39: 0.0015 | F39: 193.04 | G39: =TRUNC((F39+F39*C2),2) -> 248.67 | H39: =E39*G39 -> 0.373005
B40: 01651 / ORSE | C40: Óculos branco proteção | D40: Unid. | E40: 0.0008 | F40: 6 | G40: =TRUNC((F40+F40*C2),2) -> 7.72 | H40: =E40*G40 -> 0.006176
B41: 02378 / ORSE | C41: Vale transporte | D41: Unid. | E41: 0.0654 | F41: 4.5 | G41: =TRUNC((F41+F41*C2),2) -> 5.79 | H41: =E41*G41 -> 0.378666
...

Sheet BDI
B3: TABELA DE COMPOSIÇÃO DO BDI (%)
B4: Bonificações e Despesas Indiretas - Acórdão Nº 2622/2013 – TCU – Plenário
B5: COMPONENTES DO BDI - DESONERADO | D5: VALORES EM %
B6: I - Despesas Indiretas e Lucro %
B7: 1 | C7: Garantia/Seguro | D7: 0.008
B8: 2 | C8: Risco | D8: 0.0097
B9: 3 | C9: Despesas Finaceiras | D9: 0.0059
B10: 4 | C10: Administração Central | D10: 0.03
B11: 5 | C11: Lucro | D11: 0.0616
B12: II - Tributos % | D12: =SUM(D13:D16) -> 0.1315
B13: 6 | C13: COFINS | D13: 0.03
B14: 7 | C14: PIS/ PASEP | D14: 0.0065
B15: 8 | C15: ISSQN (do Local da Obra) | D15: 0.05
B16: 9 | C16: Contribuição Patronal INSS | D16: 0.045
B17: 10 | C17: IRPJ - Não Incidente | D17: Não incide
B18: 11 | C18: CSLL - Não Incidente | D18: Não incide
B19: Valor Final do BDI (Após aplicação da Fórmula) | D19: =((((1+D10+D7+D8)*(1+D9)*(1+D11))/(1-D12))-1) -> 0.28819865
B20: AC = taxa de rateio da Administração Central; DF = taxa das despesas financeiras; R = taxa de risco, seguro e garantia do empreendimento; I = taxa de tributos; L = taxa de lucro.
B22: 01 - | C22: CÁLCULO DO B.D.I PARA SERVIÇOS:
B30: Obs.: As taxas de COFINS, PIS e ISS foram calculadas em consonância a Lei Complementar N° 1123, de 14 de dezembro de 2006, onde "estabelece normas gerais relativas ao tratamento diferenciado e favorecido a ser dispensado às microempresas e empresas de pequeno porte no âmbito dos Poderes da União, dos Estados, do Distrito Federal e dos Municípios, especialmente no que se refere: I - à apuração e recolhimento dos impostos e contribuições da União, dos Estados, do Distrito Federal e dos Municípios, mediante regime único de arrecadação, inclusive obrigações acessórias;" Foram utilizadas as informações contidas no Anexo IV, referente à construção de imóveis e obras de engenharia em geral [...].

Sheet PREVISAO
B2: PERÍODO DE EXECUÇÃO | E2: 1º Mês | I2: 2º Mês | M2: 3º Mês | Q2: 4º Mês | U2: 5º Mês | Y2: 6º Mês | AC2: 7º Mês | AG2: 8º Mês | AK2: 9º Mês | AO2: 10º Mês | AS2: 11º Mês | AW2: 12º Mês | BA2: %
B3: ITENS E DESCRIÇÃO DOS SERVIÇOS | D3: R$
B4: =PLANILHA!C5 -> Aquisição de Material Permanente, Luminária em LED p/ iluminação pública LED SMD AUTOVOLT 50 W, 5.000 K, IP-66, IRC 70, FP>0,95, 160lm/ w,8.000 lm e 54.000h, com base para Relé 7 PINOS, Dimerizável, modelo GL421 Glight ou similar - Inclusos os serviços de instalação, montagem, fixação, conexão elétrica, substituição da luminária existente quando aplicável, ajustes, testes de funcionamento e demais procedimentos necessários para a adequada instalação e operação da luminária, incluindo ferramentas, equipamentos e mão de obra especializada. | D4: =PLANILHA!F5 -> 6037597.2 | E4: 0.09 | I4: 0.09 | M4: 0.09 | Q4: 0.09 | U4: 0.08 | Y4: 0.08 | AC4: 0.08 | AG4: 0.08 | AK4: 0.08 | AO4: 0.08 | AS4: 0.08 | AW4: 0.08 | BA4: =D4/D49 -> 0.33526641
E6: =E4*$D$4 -> 543383.75 | I6: =I4*$D$4 -> 543383.75 | M6: =M4*$D$4 -> 543383.75 | Q6: =Q4*$D$4 -> 543383.75 | U6: =U4*$D$4 -> 483007.77 | Y6: =Y4*$D$4 -> 483007.77 | AC6: =AC4*$D$4 -> 483007.77 | AG6: =AG4*$D$4 -> 483007.77 | AK6: =AK4*$D$4 -> 483007.77 | AO6: =AO4*$D$4 -> 483007.77 | AS6: =AS4*$D$4 -> 483007.77 | AW6: =AW4*$D$4 -> 483007.77
B7: =PLANILHA!C6 -> Aquisição de Material Permanente, Braço Curvo em Aço Galvanizado a Fogo, com sapata de 48x2000mm DI ou similar | D7: =PLANILHA!F6 -> 2370000 | E7: 0.09 | I7: 0.09 | M7: 0.09 | Q7: 0.09 | U7: 0.08 | Y7: 0.08 | AC7: 0.08 | AG7: 0.08 | AK7: 0.08 | AO7: 0.08 | AS7: 0.08 | AW7: 0.08 | BA7: =D7/D49 -> 0.13160557
E9: =E7*D7 -> 213300 | I9: =I7*D7 -> 213300 | M9: =M7*D7 -> 213300 | Q9: =Q7*D7 -> 213300 | U9: =U7*D7 -> 189600 | Y9: =Y7*D7 -> 189600 | AC9: =AC7*D7 -> 189600 | AG9: =AG7*D7 -> 189600 | AK9: =AK7*D7 -> 189600 | AO9: =AO7*D7 -> 189600 | AS9: =AS7*D7 -> 189600 | AW9: =AW7*D7 -> 189600
B10: =PLANILHA!C7 -> Aquisição de Material Permanente, Porca quadrada rosca DN 16 mm | D10: =PLANILHA!F7 -> 52800 | E10: 0.09 | I10: 0.09 | M10: 0.09 | Q10: 0.09 | U10: 0.08 | Y10: 0.08 | AC10: 0.08 | AG10: 0.08 | AK10: 0.08 | AO10: 0.08 | AS10: 0.08 | AW10: 0.08 | BA10: =D10/D49 -> 0.0029319721
E12: =E10*$D$10 -> 4752 | I12: =I10*$D$10 -> 4752 | M12: =M10*$D$10 -> 4752 | Q12: =Q10*$D$10 -> 4752 | U12: =U10*$D$10 -> 4224 | Y12: =Y10*$D$10 -> 4224 | AC12: =AC10*$D$10 -> 4224 | AG12: =AG10*$D$10 -> 4224 | AK12: =AK10*$D$10 -> 4224 | AO12: =AO10*$D$10 -> 4224 | AS12: =AS10*$D$10 -> 4224 | AW12: =AW10*$D$10 -> 4224
B13: =PLANILHA!C8 -> Aquisição de Material Permanente, Fornecimento de parafuso cabeça quadrada 16 x 350mm | D13: =PLANILHA!F8 -> 292920 | E13: 0.09 | I13: 0.09 | M13: 0.09 | Q13: 0.09 | U13: 0.08 | Y13: 0.08 | AC13: 0.08 | AG13: 0.08 | AK13: 0.08 | AO13: 0.08 | AS13: 0.08 | AW13: 0.08 | BA13: =D13/D49 -> 0.016265782
E15: =E13*$D$13 -> 26362.8 | I15: =I13*$D$13 -> 26362.8 | M15: =M13*$D$13 -> 26362.8 | Q15: =Q13*$D$13 -> 26362.8 | U15: =U13*$D$13 -> 23433.6 | Y15: =Y13*$D$13 -> 23433.6 | AC15: =AC13*$D$13 -> 23433.6 | AG15: =AG13*$D$13 -> 23433.6 | AK15: =AK13*$D$13 -> 23433.6 | AO15: =AO13*$D$13 -> 23433.6 | AS15: =AS13*$D$13 -> 23433.6 | AW15: =AW13*$D$13 -> 23433.6
B16: =PLANILHA!C9 -> Aquisição de Material Permanente, Relé fotoelétrico para comando de iluminação externa 1000 w - fornecimento e instalação. af_02/2025 | D16: =PLANILHA!F9 -> 218165.38 | E16: 0.09 | I16: 0.09 | M16: 0.09 | Q16: 0.09 | U16: 0.08 | Y16: 0.08 | AC16: 0.08 | AG16: 0.08 | AK16: 0.08 | AO16: 0.08 | AS16: 0.08 | AW16: 0.08 | BA16: =D16/D49 -> 0.012114674
E18: =E16*$D$16 -> 19634.884 | I18: =I16*$D$16 -> 19634.884 | M18: =M16*$D$16 -> 19634.884 | Q18: =Q16*$D$16 -> 19634.884 | U18: =U16*$D$16 -> 17453.23 | Y18: =Y16*$D$16 -> 17453.23 | AC18: =AC16*$D$16 -> 17453.23 | AG18: =AG16*$D$16 -> 17453.23 | AK18: =AK16*$D$16 -> 17453.23 | AO18: =AO16*$D$16 -> 17453.23 | AS18: =AS16*$D$16 -> 17453.23 | AW18: =AW16*$D$16 -> 17453.23
B19: =PLANILHA!C10 -> Aquisição de Material Permanente, Cabo de cobre PP Cordplast 3 x 2,5 mm2, 450/750v - fornecimento e instalação | D19: =PLANILHA!F10 -> 456111.04 | E19: 0.09 | I19: 0.09 | M19: 0.09 | Q19: 0.09 | U19: 0.08 | Y19: 0.08 | AC19: 0.08 | AG19: 0.08 | AK19: 0.08 | AO19: 0.08 | AS19: 0.08 | AW19: 0.08 | BA19: =D19/D49 -> 0.025327743
E21: =E19*$D$19 -> 41049.994 | I21: =I19*$D$19 -> 41049.994 | M21: =M19*$D$19 -> 41049.994 | Q21: =Q19*$D$19 -> 41049.994 | U21: =U19*$D$19 -> 36488.883 | Y21: =Y19*$D$19 -> 36488.883 | AC21: =AC19*$D$19 -> 36488.883 | AG21: =AG19*$D$19 -> 36488.883 | AK21: =AK19*$D$19 -> 36488.883 | AO21: =AO19*$D$19 -> 36488.883 | AS21: =AS19*$D$19 -> 36488.883 | AW21: =AW19*$D$19 -> 36488.883
B22: =PLANILHA!C11 -> Aquisição de Material Permanente, Fornecimento de conector perfuração 25-95/2 95 mm² | D22: =PLANILHA!F11 -> 243360 | E22: 0.09 | I22: 0.09 | M22: 0.09 | Q22: 0.09 | U22: 0.08 | Y22: 0.08 | AC22: 0.08 | AG22: 0.08 | AK22: 0.08 | AO22: 0.08 | AS22: 0.08 | AW22: 0.08 | BA22: =D22/D49 -> 0.013513726
E24: =E22*$D$22 -> 21902.4 | I24: =I22*$D$22 -> 21902.4 | M24: =M22*$D$22 -> 21902.4 | Q24: =Q22*$D$22 -> 21902.4 | U24: =U22*$D$22 -> 19468.8 | Y24: =Y22*$D$22 -> 19468.8 | AC24: =AC22*$D$22 -> 19468.8 | AG24: =AG22*$D$22 -> 19468.8 | AK24: =AK22*$D$22 -> 19468.8 | AO24: =AO22*$D$22 -> 19468.8 | AS24: =AS22*$D$22 -> 19468.8 | AW24: =AW22*$D$22 -> 19468.8
B25: =PLANILHA!C12 -> Aquisição de Material Permanente, Fita isolante alta fusão 19 mm x 10 m - Fornecimento | D25: =PLANILHA!F12 -> 16230 | E25: 0.09 | I25: 0.09 | M25: 0.09 | Q25: 0.09 | U25: 0.08 | Y25: 0.08 | AC25: 0.08 | AG25: 0.08 | AK25: 0.08 | AO25: 0.08 | AS25: 0.08 | AW25: 0.08 | BA25: =D25/D49 -> 0.00090124824
E27: =E25*$D$25 -> 1460.7 | I27: =I25*$D$25 -> 1460.7 | M27: =M25*$D$25 -> 1460.7 | Q27: =Q25*$D$25 -> 1460.7 | U27: =U25*$D$25 -> 1298.4 | Y27: =Y25*$D$25 -> 1298.4 | AC27: =AC25*$D$25 -> 1298.4 | AG27: =AG25*$D$25 -> 1298.4 | AK27: =AK25*$D$25 -> 1298.4 | AO27: =AO25*$D$25 -> 1298.4 | AS27: =AS25*$D$25 -> 1298.4 | AW27: =AW25*$D$25 -> 1298.4
B28: =PLANILHA!C13 -> Aquisição de Material Permanente, Luminaria em LED p/ iluminação pública LED SMD AUTOVOLT 100 W, 5.000 K, IP-66, IRC 70, FP>0,95, 170lm/ PINOS, Dimerizável, modelo GL421 G-Light ou similarw,16.0000 lm e 54.000h, com base para Relé 7 | D28: =PLANILHA!F13 -> 5898504.8 | E28: 0.09 | I28: 0.09 | M28: 0.09 | Q28: 0.09 | U28: 0.08 | Y28: 0.08 | AC28: 0.08 | AG28: 0.08 | AK28: 0.08 | AO28: 0.08 | AS28: 0.08 | AW28: 0.08 | BA28: =D28/D49 -> 0.32754264
E30: =E28*$D$28 -> 530865.43 | I30: =I28*$D$28 -> 530865.43 | M30: =M28*$D$28 -> 530865.43 | Q30: =Q28*$D$28 -> 530865.43 | U30: =U28*$D$28 -> 471880.38 | Y30: =Y28*$D$28 -> 471880.38 | AC30: =AC28*$D$28 -> 471880.38 | AG30: =AG28*$D$28 -> 471880.38 | AK30: =AK28*$D$28 -> 471880.38 | AO30: =AO28*$D$28 -> 471880.38 | AS30: =AS28*$D$28 -> 471880.38 | AW30: =AW28*$D$28 -> 471880.38
B31: =PLANILHA!C14 -> Aquisição de Material Permanente, Braço Curvo em Aço Galvanizado a Fogo, com sapata de 48x2000mm DI ou similar | D31: =PLANILHA!F14 -> 1580430.9 | E31: 0.09 | I31: 0.09 | M31: 0.09 | Q31: 0.09 | U31: 0.08 | Y31: 0.08 | AC31: 0.08 | AG31: 0.08 | AK31: 0.08 | AO31: 0.08 | AS31: 0.08 | AW31: 0.08 | BA31: =D31/D49 -> 0.087760971
E33: =E31*$D$31 -> 142238.78 | I33: =I31*$D$31 -> 142238.78 | M33: =M31*$D$31 -> 142238.78 | Q33: =Q31*$D$31 -> 142238.78 | U33: =U31*$D$31 -> 126434.47 | Y33: =Y31*$D$31 -> 126434.47 | AC33: =AC31*$D$31 -> 126434.47 | AG33: =AG31*$D$31 -> 126434.47 | AK33: =AK31*$D$31 -> 126434.47 | AO33: =AO31*$D$31 -> 126434.47 | AS33: =AS31*$D$31 -> 126434.47 | AW33: =AW31*$D$31 -> 126434.47
B34: =PLANILHA!C15 -> Aquisição de Material Permanente, Porca quadrada rosca DN 16 mm | D34: =PLANILHA!F15 -> 35200 | E34: 0.09 | I34: 0.09 | M34: 0.09 | Q34: 0.09 | U34: 0.08 | Y34: 0.08 | AC34: 0.08 | AG34: 0.08 | AK34: 0.08 | AO34: 0.08 | AS34: 0.08 | AW34: 0.08 | BA34: =D34/D49 -> 0.0019546481
E36: =E34*$D$34 -> 3168 | I36: =I34*$D$34 -> 3168 | M36: =M34*$D$34 -> 3168 | Q36: =Q34*$D$34 -> 3168 | U36: =U34*$D$34 -> 2816 | Y36: =Y34*$D$34 -> 2816 | AC36: =AC34*$D$34 -> 2816 | AG36: =AG34*$D$34 -> 2816 | AK36: =AK34*$D$34 -> 2816 | AO36: =AO34*$D$34 -> 2816 | AS36: =AS34*$D$34 -> 2816 | AW36: =AW34*$D$34 -> 2816
B37: =PLANILHA!C16 -> Aquisição de Material Permanente, Fornecimento de parafuso cabeça quadrada 16 x 350mm | D37: =PLANILHA!F16 -> 195280 | E37: 0.09 | I37: 0.09 | M37: 0.09 | Q37: 0.09 | U37: 0.08 | Y37: 0.08 | AC37: 0.08 | AG37: 0.08 | AK37: 0.08 | AO37: 0.08 | AS37: 0.08 | AW37: 0.08 | BA37: =D37/D49 -> 0.010843854
E39: =E37*$D$37 -> 17575.2 | I39: =I37*$D$37 -> 17575.2 | M39: =M37*$D$37 -> 17575.2 | Q39: =Q37*$D$37 -> 17575.2 | U39: =U37*$D$37 -> 15622.4 | Y39: =Y37*$D$37 -> 15622.4 | AC39: =AC37*$D$37 -> 15622.4 | AG39: =AG37*$D$37 -> 15622.4 | AK39: =AK37*$D$37 -> 15622.4 | AO39: =AO37*$D$37 -> 15622.4 | AS39: =AS37*$D$37 -> 15622.4 | AW39: =AW37*$D$37 -> 15622.4
B40: =PLANILHA!C17 -> Aquisição de Material Permanente, Relé fotoelétrico para comando de iluminação externa 1000 w - fornecimento e instalação. af_02/2025 | D40: =PLANILHA!F17 -> 145443.59 | E40: 0.09 | I40: 0.09 | M40: 0.09 | Q40: 0.09 | U40: 0.08 | Y40: 0.08 | AC40: 0.08 | AG40: 0.08 | AK40: 0.08 | AO40: 0.08 | AS40: 0.08 | AW40: 0.08 | BA40: =D40/D49 -> 0.0080764495
E42: =E40*$D$40 -> 13089.923 | I42: =I40*$D$40 -> 13089.923 | M42: =M40*$D$40 -> 13089.923 | Q42: =Q40*$D$40 -> 13089.923 | U42: =U40*$D$40 -> 11635.487 | Y42: =Y40*$D$40 -> 11635.487 | AC42: =AC40*$D$40 -> 11635.487 | AG42: =AG40*$D$40 -> 11635.487 | AK42: =AK40*$D$40 -> 11635.487 | AO42: =AO40*$D$40 -> 11635.487 | AS42: =AS40*$D$40 -> 11635.487 | AW42: =AW40*$D$40 -> 11635.487
B43: =PLANILHA!C18 -> Aquisição de Material Permanente, Cabo de cobre PP Cordplast 3 x 2,5 mm2, 450/750v - fornecimento e instalação | D43: =PLANILHA!F18 -> 304074.03 | E43: 0.09 | I43: 0.09 | M43: 0.09 | Q43: 0.09 | U43: 0.08 | Y43: 0.08 | AC43: 0.08 | AG43: 0.08 | AK43: 0.08 | AO43: 0.08 | AS43: 0.08 | AW43: 0.08 | BA43: =D43/D49 -> 0.016885162
E45: =E43*$D$43 -> 27366.662 | I45: =I43*$D$43 -> 27366.662 | M45: =M43*$D$43 -> 27366.662 | Q45: =Q43*$D$43 -> 27366.662 | U45: =U43*$D$43 -> 24325.922 | Y45: =Y43*$D$43 -> 24325.922 | AC45: =AC43*$D$43 -> 24325.922 | AG45: =AG43*$D$43 -> 24325.922 | AK45: =AK43*$D$43 -> 24325.922 | AO45: =AO43*$D$43 -> 24325.922 | AS45: =AS43*$D$43 -> 24325.922 | AW45: =AW43*$D$43 -> 24325.922
B46: =PLANILHA!C19 -> Aquisição de Material Permanente, Fornecimento de conector perfuração 25-95/2 95 mm² | D46: =PLANILHA!F19 -> 162240 | E46: 0.09 | I46: 0.09 | M46: 0.09 | Q46: 0.09 | U46: 0.08 | Y46: 0.08 | AC46: 0.08 | AG46: 0.08 | AK46: 0.08 | AO46: 0.08 | AS46: 0.08 | AW46: 0.08 | BA46: =D46/D49 -> 0.0090091507
E48: =E46*$D$46 -> 14601.6 | I48: =I46*$D$46 -> 14601.6 | M48: =M46*$D$46 -> 14601.6 | Q48: =Q46*$D$46 -> 14601.6 | U48: =U46*$D$46 -> 12979.2 | Y48: =Y46*$D$46 -> 12979.2 | AC48: =AC46*$D$46 -> 12979.2 | AG48: =AG46*$D$46 -> 12979.2 | AK48: =AK46*$D$46 -> 12979.2 | AO48: =AO46*$D$46 -> 12979.2 | AS48: =AS46*$D$46 -> 12979.2 | AW48: =AW46*$D$46 -> 12979.2
B49: VALOR DO CRONOGRAMA R$ | D49: =SUM(D4:D48) -> 18008357 | E49: =E6+E9+E12+E15+E18+E21+E24+E27+E30+E33+E36+E39+E42+E45+E48 -> 1620752.1 | I49: =I6+I9+I12+I15+I18+I21+I24+I27+I30+I33+I36+I39+I42+I45+I48 -> 1620752.1 | M49: =M6+M9+M12+M15+M18+M21+M24+M27+M30+M33+M36+M39+M42+M45+M48 -> 1620752.1 | Q49: =Q6+Q9+Q12+Q15+Q18+Q21+Q24+Q27+Q30+Q33+Q36+Q39+Q42+Q45+Q48 -> 1620752.1 | U49: =U6+U9+U12+U15+U18+U21+U24+U27+U30+U33+U36+U39+U42+U45+U48 -> 1440668.5 | Y49: =Y6+Y9+Y12+Y15+Y18+Y21+Y24+Y27+Y30+Y33+Y36+Y39+Y42+Y45+Y48 -> 1440668.5 | AC49: =AC6+AC9+AC12+AC15+AC18+AC21+AC24+AC27+AC30+AC33+AC36+AC39+AC42+AC45+AC48 -> 1440668.5 | AG49: =AG6+AG9+AG12+AG15+AG18+AG21+AG24+AG27+AG30+AG33+AG36+AG39+AG42+AG45+AG48 -> 1440668.5 | AK49: =AK6+AK9+AK12+AK15+AK18+AK21+AK24+AK27+AK30+AK33+AK36+AK39+AK42+AK45+AK48 -> 1440668.5 | AO49: =AO6+AO9+AO12+AO15+AO18+AO21+AO24+AO27+AO30+AO33+AO36+AO39+AO42+AO45+AO48 -> 1440668.5 | AS49: =AS6+AS9+AS12+AS15+AS18+AS21+AS24+AS27+AS30+AS33+AS36+AS39+AS42+AS45+AS48 -> 1440668.5 | AW49: =AW6+AW9+AW12+AW15+AW18+AW21+AW24+AW27+AW30+AW33+AW36+AW39+AW42+AW45+AW48 -> 1440668.5 | BA49: =SUM(BA4:BA48) -> 1
B50: PERCENTUAL MENSAL | D50: 1 | E50: =E49/D49 -> 0.09 | I50: =I49/$D$49 -> 0.09 | M50: =M49/$D$49 -> 0.09 | Q50: =Q49/$D$49 -> 0.09 | U50: =U49/$D$49 -> 0.08 | Y50: =Y49/$D$49 -> 0.08 | AC50: =AC49/$D$49 -> 0.08 | AG50: =AG49/$D$49 -> 0.08 | AK50: =AK49/$D$49 -> 0.08 | AO50: =AO49/$D$49 -> 0.08 | AS50: =AS49/$D$49 -> 0.08 | AW50: =AW49/$D$49 -> 0.08 | BA50: =SUM(E50:AZ50) -> 1
