Workbook
Name JR_PAGE_ANCHOR_3_1: #REF!
Name JR_PAGE_ANCHOR_3_1: #REF!
Name JR_PAGE_ANCHOR_3_1: #REF!

Sheet RESUMO DSONERADO
A1: PLANILHA DE RESUMO DE OBRAS DESONERADO
A2: CONVÊNIO
A3: PROPONENTE | C3: PREFEITURA MUNICIPAL DE PRIMAVERA
A4: OBJETO | C4: SERVIÇOS DE REVESTIMENTO PRIMÁRIO NAS VICINAIS
A5: ENDEREÇO OBRA | C5: VICINAIS DO MUNICÍPIO DE PRIMAVERA
A6: MUNICÍPIO | C6: PRIMAVERA - PA
A7: BDI | C7: =BDI!I24 -> 0.2467
A8: BASES | C8: SINAPI - 04/2025 - Pa / SICRO3 - 01/2025 - Pa SICRO2 - 11/2016 - Pa / SEDOP - 02/2025 - Pa - Com Leis Sociais
A11: ITEM | B11: META | E11: VALOR (R$) | F11: %
A12: ='PLANILHA DESONERA RESUMO'!A10 -> 1 | B12: ='PLANILHA DESONERA RESUMO'!D10 -> SERVIÇOS INICIAIS | E12: ='PLANILHA DESONERA RESUMO'!I10 -> 54480.11 | F12: =E12/$E$17 -> 0.011316837 | H12: =#REF! -> #REF!
A13: 2 | B13: ='PLANILHA DESONERA RESUMO'!D14 -> ADMINISTRAÇÃO | E13: ='PLANILHA DESONERA RESUMO'!I14 -> 139567.2 | F13: =E13/$E$17 -> 0.028991485
A14: 3 | B14: ='PLANILHA DESONERA RESUMO'!D17 -> MOBILIZAÇÃO E DESMOBILIZAÇÃO | C14: =#REF! -> #REF! | D14: =#REF! -> #REF! | E14: ='PLANILHA DESONERA RESUMO'!I17 -> 9862.2 | F14: =E14/$E$17 -> 0.0020486176
A15: 4 | B15: ='PLANILHA DESONERA RESUMO'!D19 -> REVESTIMENTO PRIMÁRIO DAS VICINAIS - EXT.: 17,01 Km | C15: =#REF! -> #REF! | D15: =#REF! -> #REF! | E15: ='PLANILHA DESONERA RESUMO'!I19 -> 4270286.3 | F15: =E15/$E$17 -> 0.8870418
A16: 5 | B16: ='PLANILHA DESONERA RESUMO'!D91 -> DRENAGEM SUPERFICIAL E PROFUNDA | E16: ='PLANILHA DESONERA RESUMO'!I91 -> 339879.79 | F16: =E16/$E$17 -> 0.070601257
A17: CUSTO TOTAL DA OBRA | E17: =ROUND(SUM(E12:E16),2) -> 4814075.6 | F17: =ROUND(SUM(F12:F16),2) -> 1 | I17: =E17/#REF! -> #REF!
D23: MAYCON LEONAN DA SILVA MATOS ENGENHEIRO CIVIL CREA/PA: 1518018386PA

Sheet MEMÓRIA DE CÁLCULO
A1: MEMÓRIA DE CÁLCULO
A2: CONVÊNIO | F2: MUNICÍPIO/UF | H2: PRIMAVERA
A3: PROPONENTE | C3: PREFEITURA MUNICIPAL DE PRIMAVERA | F3: BDI | H3: ='PLANILHA DESONERA RESUMO'!H3 -> 0.2467
A4: OBJETO | C4: SERVIÇOS DE REVESTIMENTO PRIMÁRIO NAS VICINAIS | F4: BASE DE DADOS | H4: SINAPI - 04/2025 - Pa / SICRO3 - 01/2025 - Pa SICRO2 - 11/2016 - Pa / SEDOP - 02/2025 - Pa - Com Leis Sociais
A5: ENDEREÇO OBRA | C5: VICINAIS DO MUNICÍPIO DE PRIMAVERA
M6: =SUM(F29,#REF!,#REF!,#REF!,#REF!,#REF!,#REF!,#REF!,#REF!,#REF!,#REF!,#REF!,#REF!,#REF!,#REF!,#REF!,#REF!,#REF!,#REF!,#REF!,#REF!,#REF!,#REF!,#REF!,#REF!) -> #REF!
A8: FONTE | B8: CÓDIGO | C8: ITEM | D8: DESCRIÇÃO DOS SERVIÇOS | E8: UNIDADE | F8: COMPRIMENTO (M) | G8: LARGURA (M) | H8: QUNT (UNID) | I8: DISTÂNCIA (Km) | J8: ESPESSURA (M) | K8: TOTAL | L8: OBSERVAÇÃO
C9: 1 | D9: ADMINISTRAÇÃO LOCAL
A10: SINAPI | B10: 90778 | C10: 1.1 | D10: ENGENHEIRO CIVIL DE OBRA PLENO COM ENCARGOS COMPLEMENTARES | E10: H | F10: Carga horária de 6h por dia x 5 dias por semana x 4 semanas no mês x 12 meses | K10: =(6*5*4)*6 -> 720
A11: SINAPI | B11: 90776 | C11: 1.2 | D11: ENCARREGADO GERAL COM ENCARGOS COMPLEMENTARES | E11: H | F11: Carga horária de 8h por dia x 5 dias por semana x 4 semanas no mês x 12 meses | K11: =(8*5*4)*6 -> 960
A12: Subtotal item 1
C13: 2 | D13: SERVIÇOS PRELIMINARES | L13: =#REF!/#REF! -> #REF!
A14: SEDOP | B14: 11340 | C14: 2.1 | D14: PLACA DE OBRA EM LONA, COM PLOTAGEM GRÁFICA. | E14: M2 | F14: 3 | G14: 2 | H14: 2 | K14: =F14*G14*H14 -> 12
A15: SINAPI | B15: 93207 | C15: 2.2 | D15: EXECUÇÃO DE ESCRITÓRIO EM CANTEIRO DE OBRA EM CHAPA DE MADEIRA COMPENSADA, NÃO INCLUSO MOBILIÁRIO E EQUIPAMENTOS. AF_02/2016 | E15: M2 | K15: =I15/H15 -> #DIV/0!
A16: Subtotal item 2
C17: 3 | D17: MOBILIZAÇÃO E DESMOBILIZAÇÃO
A18: ='3A.MOB NÃO DESONERADA'!A8:O8 -> COMPOSIÇÃO 01 | C18: 3.1 | D18: MOBILIZAÇÃO DE EQUIPAMENTOS | E18: UN | H18: 1
A19: =A18 -> COMPOSIÇÃO 01 | C19: 3.2 | D19: DESMOBILIZAÇÃO DE EQUIPAMENTOS | E19: UN | H19: 1
A20: Subtotal item 3
C21: 4 | D21: RECUPERAÇÃO DE VICINAIS - EXT: 17,01 Km
C22: 4.1 | D22: SERVIÇOS TOPOGRÁFICOS
A23: SINAPI | B23: 99064 | C23: 4.1.1 | D23: LOCAÇÃO DE PAVIMENTAÇÃO | E23: M | F23: 17010 | G23: 9 | K23: =F23*G23 -> 153090
A24: Subtotal item 4.1
A26: VICINAL DO JABAROCA - EXT.: 3,32 KM
C28: 4.2 | D28: LIMPEZA
A29: SINAPI | B29: 98525 | C29: 4.2.1 | D29: LIMPEZA MECANIZADA DE CAMADA VEGETAL, VEGETAÇÃO E PEQUENAS ÁRVORES (DIÂMETRO DE TRONCO MENOR QUE 0,20 M), COM TRATOR DE ESTEIRAS.AF_05/2018 - LIMPEZA DE CAMADA VEGETAL - 1,50 M PARA CADA LADO DA VIA | E29: M² | F29: 3320 | G29: 3 | K29: =F29*G29 -> 9960 | L29: FOI CONSIDERADO 1,5m DE LIMPEZA PARA CADA LADO DA VIA
A30: SINAPI | B30: 100974 | C30: 4.2.2 | D30: CARGA, MANOBRA E DESCARGA DE SOLOS E MATERIAIS GRANULARES EM CAMINHÃO BASCULANTE 10 M³ - CARGA COM PÁ CARREGADEIRA (CAÇAMBA DE 1,7 A 2,8 M³ / 128 HP) E DESCARGA LIVRE (UNIDADE: M3). AF_07/2020 - BOTA FORA DE MATERIAL INSERVÍVEL | E30: M³ | F30: =F29 -> 3320 | G30: =G29 -> 3 | I30: =I32 -> 3 | J30: 0.2 | K30: =F30*G30*J30 -> 1992
H31: EMPOLAMENTO (25%)
A32: SINAPI | B32: 93591 | C32: 4.2.3 | D32: TRANSPORTE COM CAMINHÃO BASCULANTE DE 14 M³, EM VIA URBANA EM LEITO NATURAL (UNIDADE: M3XKM). AF_07/2020(Transporte de Material de BOTA FORA) | E32: M³ x Km | F32: =F30 -> 3320 | G32: =G30 -> 3 | H32: 1.25 | I32: 3 | J32: 0.2 | K32: =F32*G32*J32*I32*H32 -> 7470
A33: SINAPI | B33: 100577 | C33: 4.2.4 | D33: REGULARIZAÇÃO E COMPACTAÇÃO DE SUBLEITO DE SOLO PREDOMINANTEMENTE ARENOSO. AF_11/2019 | E33: M² | F33: =F32 -> 3320 | G33: 8 | K33: =F33*G33 -> 26560
A34: Subtotal item 4.2
C35: 4.3 | D35: RECUPERAÇÃO DA VIA - TERRAPLENAGEM
C36: SUB BASE
A37: SINAPI | B37: 101126 | C37: 4.3.1 | D37: ESCAVAÇÃO HORIZONTAL, INCLUINDO CARGA E DESCARGA EM SOLO DE 1A CATEGORIA COM TRATOR DE ESTEIRAS (170HP/LÂMINA: 5,20M3). AF_07/2020 - CORTE DE MATERIAL | E37: M³ | F37: VOLUME RETIRADO DA TOPOGRAFIA | K37: =440.92 -> 440.92
H38: EMPOLAMENTO (25%)
A39: SINAPI | B39: =B32 -> 93591 | C39: 4.2.3 | D39: TRANSPORTE COM CAMINHÃO BASCULANTE DE 14 M³, EM VIA URBANA EM LEITO NATURAL (UNIDADE: M3XKM). AF_07/2020(Transporte de Material de BOTA FORA) | E39: M³ x Km | H39: 1.25 | I39: =I32 -> 3 | K39: =K37*H39*I39 -> 1653.45
A40: SINAPI | B40: 96385 | C40: 4.2.4 | D40: REGULARIZAÇÃO E COMPACTAÇÃO DE SUBLEITO DE SOLO PREDOMINANTEMENTE ARENOSO. AF_11/2019 | E40: M² | F40: =F33 -> 3320 | G40: 8 | K40: =F40*G40 -> 26560
C41: SUB LEITO
C42: 4.3.1 | D42: ESCAVAÇÃO HORIZONTAL, INCLUINDO CARGA E DESCARGA EM SOLO DE 1A CATEGORIA COM TRATOR DE ESTEIRAS (100HP/LÂMINA: 2,19M3). AF_07/2020 - MATERIAL COMPLEMENTAR P/ RGULARIZAÇÃO DO SUB LEITO | E42: M³ | G42: 9 | J42: =J40 -> 0 | K42: =(F42*G42*J42)*0.7 -> 0 | L42: FOI CONSIDERADO UMA MÉDIA DE 70% DOVOLUME TOTAL PARA REGULARIZAÇÃO DO SUB LEITO
C43: 4.3.2 | D43: CARGA, MANOBRA E DESCARGA DE SOLOS E MATERIAIS GRANULARES EM CAMINHÃO BASCULANTE 14 M³ - CARGA COM PÁ CARREGADEIRA (CAÇAMBA DE 1,7 A 2,8 M³ / 128 HP) E DESCARGA LIVRE (UNIDADE: M3). AF_07/2020 - JAZIDA PARA O SUB LEITO | E43: M³ | G43: 9 | J43: =J40 -> 0 | K43: =(F43*G43*J43)*0.7 -> 0 | L43: FOI CONSIDERADO UMA MÉDIA DE 70% DOVOLUME TOTAL PARA REGULARIZAÇÃO DO SUB LEITO
...

Sheet MEM. CALCULO DRENAGEM
A2: MEMÓRIA DE CÁLCULO
A3: ='[1]PANILHA NÃO DESONERADA'!$A$2 -> CONVÊNIO
A4: ='[1]PANILHA NÃO DESONERADA'!$A$3 -> PROPONENTE | C4: PREFEITURA MUNICIPAL DE PRIMAVERA
A5: ='[1]PANILHA NÃO DESONERADA'!$F$2 -> MUNICÍPIO/UF | C5: PRIMAVERA
A6: ='[1]PANILHA NÃO DESONERADA'!$A$4 -> OBJETO | C6: SERVIÇOS DE REVESTIMENTO PRIMÁRIO NAS VICINAIS
A7: ='[1]PANILHA NÃO DESONERADA'!$A$5 -> ENDEREÇO OBRA
A9: 5 | B9: ='PLANILHA DESONERA RESUMO'!D91 -> DRENAGEM SUPERFICIAL E PROFUNDA
A11: 5.1 | B11: ='PLANILHA DESONERA RESUMO'!D92 -> ESCAVAÇÃO MECANIZADA DE VALA COM PROF. ATÉ 1,5 M (MÉDIA MONTANTE E JUSANTE/UMA COMPOSIÇÃO POR TRECHO), ESCAVADEIRA (0,8 M3), LARG. DE 1,5 M A 2,5 M, EM SOLO DE 1A CATEGORIA, EM LOCAIS COM ALTO NÍVEL DE INTERFERÊNCIA. AF_09/2024 - CANALETAS DE DRENAGEM SUPERFICIAL
B16: Vicinal | C16: Comprimento | E16: Área | G16: Lados | I16: Volume
B17: VICINAL DO JABAROCA | C17: 3320 | D17: x | E17: =(0.4+0.1)*0.4/2 -> 0.1 | F17: x | G17: 2 | H17: = | I17: =ROUND(C17*E17*G17,2) -> 664
B18: VICINAL DO CIMENTO | C18: 11460 | D18: x | E18: =(0.4+0.1)*0.4/2 -> 0.1 | F18: x | G18: 2 | H18: = | I18: =ROUND(C18*E18*G18,2) -> 2292
B19: VICINAL DO BASÍLIO | C19: 2230 | D19: x | E19: =(0.4+0.1)*0.4/2 -> 0.1 | F19: x | G19: 2 | H19: = | I19: =ROUND(C19*E19*G19,2) -> 446
B20: L= | C20: =ROUND(SUM(I17:I19),2) -> 3402 | D20: M3
A23: 5.2 | B23: ESCAVAÇÃO MECANIZADA DE VALA COM PROF. ATÉ 1,5 M (MÉDIA MONTANTE E JUSANTE/UMA COMPOSIÇÃO POR TRECHO), ESCAVADEIRA (0,8 M3), LARG. DE 1,5 M A 2,5 M, EM SOLO DE 1A CATEGORIA, EM LOCAIS COM ALTO NÍVEL DE INTERFERÊNCIA. AF_09/2024 - ESCAVAÇÃO DRENAGEM PROFUNDA
B25: Vicinal | C25: Comprimento | E25: Área | G25: QUANT. | I25: Volume
B26: VICINAL DO JABAROCA | C26: 12 | D26: x | E26: =1.5*1.5 -> 2.25 | F26: x | G26: 4 | H26: = | I26: =ROUND(C26*E26*G26,2) -> 108
B27: VICINAL DO CIMENTO | C27: 12 | D27: x | E27: =1.5*1.5 -> 2.25 | F27: x | G27: 9 | H27: = | I27: =ROUND(C27*E27*G27,2) -> 243
B28: VICINAL DO BASÍLIO | C28: 12 | D28: x | E28: =1.5*1.5 -> 2.25 | F28: x | G28: 5 | H28: = | I28: =ROUND(C28*E28*G28,2) -> 135
B32: L= | C32: =ROUND(SUM(I26:I30),2) -> 486 | D32: M3
A35: 5.3 | B35: ='PLANILHA DESONERA RESUMO'!D94 -> TRANSPORTE COM CAMINHÃO BASCULANTE DE 14 M³, EM VIA URBANA EM LEITO NATURAL (UNIDADE: M3XKM). AF_07/2020
A37: OBS: | B37: Para o caso das vicinais com mais de um bota fora, o volume será divido pela quantidade de bota fora.
B38: Vicinal | C38: Volume | E38: DMT | G38: Peso Específico (T/m³) | I38: Empolamento (25%)
B39: VICINAL DO JABAROCA | C39: =I26 -> 108 | D39: x | E39: 5 | F39: x | G39: 1.6 | H39: x | I39: 1.25 | J39: = | K39: =ROUND(C39*E39*I39,2) -> 675
B40: VICINAL DO CIMENTO | C40: =I27 -> 243 | E40: 5 | F40: x | G40: 1.6 | H40: x | I40: 1.25 | J40: = | K40: =ROUND(C40*E40*I40,2) -> 1518.75
B41: VICINAL DO BASÍLIO | C41: =I28 -> 135 | E41: 5 | F41: x | G41: 1.6 | H41: x | I41: 1.25 | J41: = | K41: =ROUND(C41*E41*I41,2) -> 843.75
B43: L= | C43: =ROUND(SUM(K39:K42),2) -> 3037.5 | D43: M³xKM
A45: 5.4 | B45: LASTRO COM MATERIAL GRANULAR (AREIA MÉDIA), APLICADO EM PISOS OU LAJES SOBRE SOLO, ESPESSURA DE *10 CM*. AF_01/2024
B47: VOLUME TOTAL DE ESCAVAÇÃO
B48: Vicinal | C48: Comprimento | E48: Largura x Espessura | G48: QUANT. | I48: Volume
B49: =B39 -> VICINAL DO JABAROCA | C49: 12 | D49: x | E49: =1.5*0.1 -> 0.15 | F49: x | G49: =G26 -> 4 | H49: = | I49: =ROUND(C49*E49*G49,2) -> 7.2
B50: =B40 -> VICINAL DO CIMENTO | C50: 12 | D50: x | E50: =1.5*0.1 -> 0.15 | F50: x | G50: =G27 -> 9 | H50: = | I50: =ROUND(C50*E50*G50,2) -> 16.2
B51: =B41 -> VICINAL DO BASÍLIO | C51: 12 | D51: x | E51: =1.5*0.1 -> 0.15 | F51: x | G51: =G28 -> 5 | H51: = | I51: =ROUND(C51*E51*G51,2) -> 9
B54: Obs: Conforme manual de drenagem do DNIT, o recobrimento do tudo deverá ser de no mínimo 60cm.
B56: L= | C56: =SUM(I49:I52) -> 32.4 | D56: M3
A58: 5.7 | B58: ='PLANILHA DESONERA RESUMO'!D98 -> TUBO DE CONCRETO PARA REDES COLETORAS DE ÁGUAS PLUVIAIS, DIÂMETRO DE 600 MM, JUNTA RÍGIDA, INSTALADO EM LOCAL COM BAIXO NÍVEL DE INTERFERÊNCIAS - FORNECIMENTO E ASSENTAMENTO. AF_03/2024
B60: Vicinal | C60: Quant. | E60: Comp. | G60: Total
B61: =B17 -> VICINAL DO JABAROCA | C61: 1 | D61: x | E61: 12 | F61: = | G61: =ROUND(C61*E61,2) -> 12
B62: =B18 -> VICINAL DO CIMENTO | C62: 1 | D62: x | E62: 12 | F62: = | G62: =ROUND(C62*E62,2) -> 12
B63: =B19 -> VICINAL DO BASÍLIO | C63: 1 | D63: x | E63: 12 | F63: = | G63: =ROUND(C63*E63,2) -> 12
B65: L= | C65: =SUM(G61:G64) -> 36 | D65: M
...

Sheet PLANILHA DESONERA RESUMO
A1: PLANILHA DE PREÇOS UNITÁRIOS/ OBRA DESONERADA
A2: CONVÊNIO | F2: MUNICÍPIO/UF | H2: PRIMAVERA
A3: PROPONENTE | C3: PREFEITURA MUNICIPAL DE PRIMAVERA | F3: BDI | H3: =BDI!I24 -> 0.2467 | I3: BDI DIF. | J3: ='BDI DIFER.'!I24 -> 0.13
A4: OBJETO | C4: SERVIÇOS DE REVESTIMENTO PRIMÁRIO NAS VICINAIS | F4: BASE DE DADOS | H4: SINAPI - 04/2025 - Pa / SICRO3 - 01/2025 - Pa SICRO2 - 11/2016 - Pa / SEDOP - 02/2025 - Pa - Com Leis Sociais
A5: ENDEREÇO OBRA | C5: VICINAIS DO MUNICÍPIO DE PRIMAVERA
A9: Item | B9: Código | C9: Banco | D9: Descrição | E9: Und | F9: Quant. | G9: Valor Unit | H9: Valor Unit com BDI | I9: Total | J9: Peso (%) | M9: Quant. | N9: Valor Unit | O9: Valor Unit com BDI | P9: Total | Q9: Peso (%)
A10: 1 | D10: SERVIÇOS INICIAIS | I10: =SUM(I11:I13) -> 54480.11 | J10: =I10/$I$105 -> 0.011316837 | P10: 6601211.7 | Q10: 1
A11: 1.1 | B11: 010000 | C11: SEDOP | D11: Licenças e taxas da obra (acima de 500m2) | E11: cj | F11: 1 | G11: 14713.3 | H11: =TRUNC(G11*(1+$H$3),2) -> 18343.07 | I11: =TRUNC((F11*H11),2) -> 18343.07 | J11: =I11/$I$105 -> 0.0038102995 | K11: 1 | L11: =K11=F11 -> TRUE | M11: 1 | N11: 14713.3 | O11: 18343.07 | P11: 18343.07 | Q11: 0.0027787429 | R11: =M11=F11 -> TRUE | S11: =N11=G11 -> TRUE | T11: =P11=I11 -> TRUE
A12: 1.2 | B12: 00004813 | C12: SINAPI | D12: PLACA DE OBRA (PARA CONSTRUCAO CIVIL) EM CHAPA GALVANIZADA *N. 22*, ADESIVADA, DE *2,4 X 1,2* M (SEM POSTES PARA FIXACAO) | E12: m² | F12: 12 | G12: 400 | H12: =TRUNC(G12*(1+$H$3),2) -> 498.68 | I12: =TRUNC((F12*H12),2) -> 5984.16 | J12: =I12/$I$105 -> 0.0012430548 | K12: 12 | L12: =K12=F12 -> TRUE | M12: 12 | N12: 400 | O12: 498.68 | P12: 5984.16 | Q12: 0.00090652448 | R12: =M12=F12 -> TRUE | S12: =N12=G12 -> TRUE | T12: =P12=I12 -> TRUE
A13: 1.3 | B13: 74210/001 | C13: SINAPI | D13: BARRACAO PARA DEPOSITO EM TABUAS DE MADEIRA, COBERTURA EM FIBROCIMENTO 4 MM, INCLUSO PISO ARGAMASSA TRAÇO 1:6 (CIMENTO E AREIA) | E13: m² | F13: 36 | G13: 671.84 | H13: =TRUNC(G13*(1+$H$3),2) -> 837.58 | I13: =TRUNC((F13*H13),2) -> 30152.88 | J13: =I13/$I$105 -> 0.0062634829 | K13: 36 | L13: =K13=F13 -> TRUE | M13: 36 | N13: 671.84 | O13: 837.58 | P13: 30152.88 | Q13: 0.0045677796 | R13: =M13=F13 -> TRUE | S13: =N13=G13 -> TRUE | T13: =P13=I13 -> TRUE
A14: 2 | D14: ADMINISTRAÇÃO | I14: =SUM(I15:I16) -> 139567.2 | J14: =I14/$I$105 -> 0.028991485 | R14: =M14=F14 -> TRUE | S14: =N14=G14 -> TRUE
A15: 2.1 | B15: 90778 | C15: SINAPI | D15: ENGENHEIRO CIVIL DE OBRA PLENO COM ENCARGOS COMPLEMENTARES | E15: H | F15: ='MEMÓRIA DE CÁLCULO'!K10 -> 720 | G15: 124.1 | H15: =TRUNC(G15*(1+$H$3),2) -> 154.71 | I15: =TRUNC((F15*H15),2) -> 111391.2 | J15: =I15/$I$105 -> 0.023138648 | K15: 2640 | L15: =K15=F15 -> FALSE | M15: 2640 | N15: 124.1 | O15: 154.71 | P15: 408434.4 | Q15: 0.06187264 | R15: =M15=F15 -> FALSE | S15: =N15=G15 -> TRUE | T15: =P15=I15 -> FALSE
A16: 2.2 | B16: 90776 | C16: SINAPI | D16: ENCARREGADO GERAL COM ENCARGOS COMPLEMENTARES | E16: H | F16: ='MEMÓRIA DE CÁLCULO'!K11 -> 960 | G16: 23.55 | H16: =TRUNC(G16*(1+$H$3),2) -> 29.35 | I16: =TRUNC((F16*H16),2) -> 28176 | J16: =I16/$I$105 -> 0.0058528371 | K16: 2640 | L16: =K16=F16 -> FALSE | M16: 2640 | N16: 23.55 | O16: 29.35 | P16: 77484 | Q16: 0.011737845 | R16: =M16=F16 -> FALSE | S16: =N16=G16 -> TRUE | T16: =P16=I16 -> FALSE
A17: 3 | D17: MOBILIZAÇÃO E DESMOBILIZAÇÃO | I17: =SUM(I18:I18) -> 9862.2 | J17: =I17/$I$105 -> 0.0020486176 | L17: =K17=F17 -> TRUE | P17: 9862.2 | Q17: 0.0014939984 | R17: =M17=F17 -> TRUE | S17: =N17=G17 -> TRUE | T17: =P17=I17 -> TRUE
B18: Comp_002 | C18: PROPRIA | D18: MOBILIZAÇÃO EQUIPAMENTOS OBRA DE TERRAPLENAGEM | E18: UND | F18: 2 | G18: 3955.33 | H18: =TRUNC(G18*(1+$H$3),2) -> 4931.1 | I18: =TRUNC((F18*H18),2) -> 9862.2 | J18: =I18/$I$105 -> 0.0020486176 | K18: 2 | L18: =K18=F18 -> TRUE | M18: 2 | N18: 3955.33 | O18: 4931.1 | P18: 9862.2 | Q18: 0.0014939984 | R18: =M18=F18 -> TRUE | S18: =N18=G18 -> TRUE | T18: =P18=I18 -> TRUE
A19: 4 | D19: REVESTIMENTO PRIMÁRIO DAS VICINAIS - EXT.: 17,01 Km | I19: =I20+I22+I45+I68 -> 4270286.3 | J19: =I19/$I$105 -> 0.8870418 | L19: =K19=F19 -> TRUE | P19: 0 | Q19: 0 | R19: =M19=F19 -> TRUE | S19: =N19=G19 -> TRUE
A20: 4.1 | D20: LOCAÇÃO DE PAVIMENTAÇÃO | I20: =I21 -> 8845.2 | J20: =I20/$I$105 -> 0.0018373621 | L20: =K20=F20 -> TRUE | P20: 6050951 | Q20: 0.91664247 | R20: =M20=F20 -> TRUE | S20: =N20=G20 -> TRUE
A21: 4.1.1 | B21: 99064 | C21: SINAPI | D21: LOCAÇÃO DE PAVIMENTAÇÃO. AF_10/2018 | E21: M | F21: ='MEMÓRIA DE CÁLCULO'!F23 -> 17010 | G21: 0.42 | H21: =TRUNC(G21*(1+$H$3),2) -> 0.52 | I21: =TRUNC((F21*H21),2) -> 8845.2 | J21: =I21/$I$105 -> 0.0018373621 | K21: 17010 | L21: =K21=F21 -> TRUE | M21: 17010 | N21: 0.42 | O21: 0.52 | P21: 8845.2 | Q21: 0.0013399358 | R21: =M21=F21 -> TRUE | S21: =N21=G21 -> TRUE | T21: =P21=I21 -> TRUE
A22: 4.2 | D22: VICINAL DO JABAROCA - EXT.: 3,32 KM | I22: =I23+I28 -> 978698.16 | J22: =I22/$I$105 -> 0.20329929 | L22: =K22=F22 -> TRUE | P22: 0 | Q22: 0 | R22: =M22=F22 -> TRUE | S22: =N22=G22 -> TRUE
A23: 4.2.1 | D23: LIMPEZA | I23: =SUM(I24:I27) -> 74909.16 | J23: =I23/$I$105 -> 0.015560445 | L23: =K23=F23 -> TRUE | P23: 6042105.8 | Q23: 0.91530253 | R23: =M23=F23 -> TRUE | S23: =N23=G23 -> TRUE
A24: 4.2.1.1 | B24: 98525 | C24: SINAPI | D24: LIMPEZA MECANIZADA DE CAMADA VEGETAL, VEGETAÇÃO E PEQUENAS ÁRVORES (DIÂMETRO DE TRONCO MENOR QUE 0,20 M), COM TRATOR DE ESTEIRAS. AF_03/2024 - 2,0 M PARA CADA LADO DA VIA | E24: m² | F24: ='MEMÓRIA DE CÁLCULO'!K29 -> 9960 | G24: 0.66 | H24: =TRUNC(G24*(1+$H$3),2) -> 0.82 | I24: =TRUNC((F24*H24),2) -> 8167.2 | J24: =I24/$I$105 -> 0.0016965251 | K24: 13280 | L24: =K24=F24 -> FALSE | M24: 9960 | N24: 0.66 | O24: 0.82 | P24: 8167.2 | Q24: 0.0012372274 | R24: =M24=F24 -> TRUE | S24: =N24=G24 -> TRUE | T24: =P24=I24 -> TRUE
A25: 4.2.1.2 | B25: 100975 | C25: SINAPI | D25: CARGA, MANOBRA E DESCARGA DE SOLOS E MATERIAIS GRANULARES EM CAMINHÃO BASCULANTE 14 M³ - CARGA COM PÁ CARREGADEIRA (CAÇAMBA DE 1,7 A 2,8 M³ / 128 HP) E DESCARGA LIVRE (UNIDADE: M3). AF_07/2020 | E25: m³ | F25: ='MEMÓRIA DE CÁLCULO'!K30 -> 1992 | G25: 9.25 | H25: =TRUNC(G25*(1+$H$3),2) -> 11.53 | I25: =TRUNC((F25*H25),2) -> 22967.76 | J25: =I25/$I$105 -> 0.0047709596 | K25: 2656 | L25: =K25=F25 -> FALSE | M25: 1992 | N25: 9.25 | O25: 11.53 | P25: 22967.76 | Q25: 0.0034793248 | R25: =M25=F25 -> TRUE | S25: =N25=G25 -> TRUE | T25: =P25=I25 -> TRUE
A26: 4.2.1.3 | B26: 93591 | C26: SINAPI | D26: TRANSPORTE COM CAMINHÃO BASCULANTE DE 14 M³, EM VIA URBANA EM LEITO NATURAL (UNIDADE: M3XKM). AF_07/2020 | E26: M3XKM | F26: ='MEMÓRIA DE CÁLCULO'!K32 -> 7470 | G26: 2.91 | H26: =TRUNC(G26*(1+$H$3),2) -> 3.62 | I26: =TRUNC((F26*H26),2) -> 27041.4 | J26: =I26/$I$105 -> 0.0056171532 | K26: 16600 | L26: =K26=F26 -> FALSE | M26: 12450 | N26: 2.91 | O26: 3.62 | P26: 45069 | Q26: 0.0068273829 | R26: =M26=F26 -> FALSE | S26: =N26=G26 -> TRUE | T26: =P26=I26 -> FALSE
A27: 4.2.1.4 | B27: 100577 | C27: SINAPI | D27: REGULARIZAÇÃO E COMPACTAÇÃO DE SUBLEITO DE SOLO PREDOMINANTEMENTE ARENOSO, PARA OBRAS DE CONSTRUÇÃO DE PAVIMENTOS. AF_09/2024 | E27: m² | F27: ='MEMÓRIA DE CÁLCULO'!K33 -> 26560 | G27: 0.51 | H27: =TRUNC(G27*(1+$H$3),2) -> 0.63 | I27: =TRUNC((F27*H27),2) -> 16732.8 | J27: =I27/$I$105 -> 0.0034758075 | K27: 29880 | L27: =K27=F27 -> FALSE | M27: 26560 | N27: 0.51 | O27: 0.63 | P27: 16732.8 | Q27: 0.0025348073 | R27: =M27=F27 -> TRUE | S27: =N27=G27 -> TRUE | T27: =P27=I27 -> TRUE
A28: 4.2.2 | D28: REVESTIMENTO PRIMÁRIO DA VIA | I28: =I29+I39 -> 903789 | J28: =I28/$I$105 -> 0.18773885 | L28: =K28=F28 -> TRUE | R28: =M29=F28 -> TRUE | S28: =N28=G28 -> TRUE
A29: 4.2.2.1 | D29: SUB BASE | I29: =SUM(I30:I38) -> 631695.08 | J29: =I29/$I$105 -> 0.13121836 | K29: 440.92 | L29: =K29=F29 -> FALSE | P29: 863806.25 | Q29: 0.13085571 | R29: =M30=F29 -> FALSE | S29: =N29=G29 -> TRUE
A30: 4.2.2.1.1 | B30: 101124 | C30: SINAPI | D30: ESCAVAÇÃO HORIZONTAL, INCLUINDO CARGA E DESCARGA EM SOLO DE 1A CATEGORIA COM TRATOR DE ESTEIRAS (100HP/LÂMINA: 2,19M3). AF_07/2020 - CORTE DE MATERIAL | E30: m³ | F30: ='MEMÓRIA DE CÁLCULO'!K37 -> 440.92 | G30: 16.09 | H30: =TRUNC(G30*(1+$H$3),2) -> 20.05 | I30: =TRUNC((F30*H30),2) -> 8840.44 | J30: =I30/$I$105 -> 0.0018363733 | K30: 440.92 | L30: =K30=F30 -> TRUE | M30: 440.92 | N30: 16.09 | O30: 20.05 | P30: 8840.44 | Q30: 0.0013392147 | R30: =M30=F30 -> TRUE | S30: =N30=G30 -> TRUE | T30: =P30=I30 -> TRUE
A31: 4.2.2.1.2 | B31: 100975 | C31: SINAPI | D31: CARGA, MANOBRA E DESCARGA DE SOLOS E MATERIAIS GRANULARES EM CAMINHÃO BASCULANTE 14 M³ - CARGA COM PÁ CARREGADEIRA (CAÇAMBA DE 1,7 A 2,8 M³ / 128 HP) E DESCARGA LIVRE (UNIDADE: M3). AF_07/2020 | E31: m³ | F31: =F30 -> 440.92 | G31: 9.25 | H31: =TRUNC(G31*(1+$H$3),2) -> 11.53 | I31: =TRUNC((F31*H31),2) -> 5083.8 | J31: =I31/$I$105 -> 0.0010560283 | K31: 2755.75 | L31: =K31=F31 -> FALSE | M31: 440.92 | N31: 9.25 | O31: 11.53 | P31: 5083.8 | Q31: 0.00077013133 | R31: =M31=F31 -> TRUE | S31: =N31=G31 -> TRUE | T31: =P31=I31 -> TRUE
A32: 4.2.2.1.3 | B32: 93591 | C32: SINAPI | D32: TRANSPORTE COM CAMINHÃO BASCULANTE DE 14 M³, EM VIA URBANA EM LEITO NATURAL (UNIDADE: M3XKM). AF_07/2020 | E32: M3XKM | F32: ='MEMÓRIA DE CÁLCULO'!K39 -> 1653.45 | G32: 2.91 | H32: =TRUNC(G32*(1+$H$3),2) -> 3.62 | I32: =TRUNC((F32*H32),2) -> 5985.48 | J32: =I32/$I$105 -> 0.001243329 | K32: 26560 | L32: =K32=F32 -> FALSE | M32: 2755.75 | N32: 2.91 | O32: 3.62 | P32: 9975.81 | Q32: 0.0015112089 | R32: =M32=F32 -> FALSE | S32: =N32=G32 -> TRUE | T32: =P32=I32 -> FALSE
A33: 4.2.2.1.4 | B33: 105559 | C33: SINAPI | D33: EXECUÇÃO E COMPACTAÇÃO DE CORPO DE ATERRO DE ATERRO (95% DE ENERGIA DO PROCTOR NORMAL) COM SOLO PREDOMINANTEMENTE ARGILOSO, EM CAMADAS COM ESPESSURA DE 20 CM - EXCLUSIVE ESCAVAÇÃO, CARGA E TRANSPORTE E SOLO. AF_09/2024 | E33: m³ | F33: ='MEMÓRIA DE CÁLCULO'!K40 -> 26560 | G33: 10.83 | H33: =TRUNC(G33*(1+$H$3),2) -> 13.5 | I33: =TRUNC((F33*H33),2) -> 358560 | J33: =I33/$I$105 -> 0.074481589 | K33: 4317.2 | L33: =K33=F33 -> FALSE | M33: 26560 | N33: 10.83 | O33: 13.5 | P33: 358560 | Q33: 0.0543173 | R33: =M33=F33 -> TRUE | S33: =N33=G33 -> TRUE | T33: =P33=I33 -> TRUE
A34: 4.2.2.1.5 | B34: 101124 | C34: SINAPI | D34: ESCAVAÇÃO HORIZONTAL, INCLUINDO CARGA E DESCARGA EM SOLO DE 1A CATEGORIA COM TRATOR DE ESTEIRAS (100HP/LÂMINA: 2,19M3). AF_07/2020 - MATERIAL DE EMPRÉSTIMO EM JAZIDA | E34: m³ | F34: ='MEMÓRIA DE CÁLCULO'!K49 -> 4317.2 | G34: 16.09 | H34: =TRUNC(G34*(1+$H$3),2) -> 20.05 | I34: =TRUNC((F34*H34),2) -> 86559.86 | J34: =I34/$I$105 -> 0.017980578 | K34: 4317.2 | L34: =K34=F34 -> TRUE | M34: 4317.2 | N34: 16.09 | O34: 20.05 | P34: 86559.86 | Q34: 0.013112723 | R34: =M34=F34 -> TRUE | S34: =N34=G34 -> TRUE | T34: =P34=I34 -> TRUE
A35: 4.2.2.1.6 | B35: 100975 | C35: SINAPI | D35: CARGA, MANOBRA E DESCARGA DE SOLOS E MATERIAIS GRANULARES EM CAMINHÃO BASCULANTE 14 M³ - CARGA COM PÁ CARREGADEIRA (CAÇAMBA DE 1,7 A 2,8 M³ / 128 HP) E DESCARGA LIVRE (UNIDADE: M3). AF_07/2020 | E35: m³ | F35: ='MEMÓRIA DE CÁLCULO'!K50 -> 4317.2 | G35: 9.25 | H35: =TRUNC(G35*(1+$H$3),2) -> 11.53 | I35: =TRUNC((F35*H35),2) -> 49777.31 | J35: =I35/$I$105 -> 0.010339952 | K35: 26982.5 | L35: =K35=F35 -> FALSE | M35: 4317.2 | N35: 9.25 | O35: 11.53 | P35: 49777.31 | Q35: 0.0075406322 | R35: =M35=F35 -> TRUE | S35: =N35=G35 -> TRUE | T35: =P35=I35 -> TRUE
A36: 4.2.2.1.7 | B36: 93591 | C36: SINAPI | D36: TRANSPORTE COM CAMINHÃO BASCULANTE DE 14 M³, EM VIA URBANA EM LEITO NATURAL (UNIDADE: M3XKM). AF_07/2020 | E36: M3XKM | F36: ='MEMÓRIA DE CÁLCULO'!K52 -> 16189.5 | G36: 2.91 | H36: =TRUNC(G36*(1+$H$3),2) -> 3.62 | I36: =TRUNC((F36*H36),2) -> 58605.99 | J36: =I36/$I$105 -> 0.012173882 | K36: 4317.2 | L36: =K36=F36 -> FALSE | M36: 26982.5 | N36: 2.91 | O36: 3.62 | P36: 97676.65 | Q36: 0.014796776 | R36: =M36=F36 -> FALSE | S36: =N36=G36 -> TRUE | T36: =P36=I36 -> FALSE
A37: 4.2.2.1.8 | B37: 105559 | C37: SINAPI | D37: EXECUÇÃO E COMPACTAÇÃO DE CORPO DE ATERRO DE ATERRO (95% DE ENERGIA DO PROCTOR NORMAL) COM SOLO PREDOMINANTEMENTE ARGILOSO, EM CAMADAS COM ESPESSURA DE 20 CM - EXCLUSIVE ESCAVAÇÃO, CARGA E TRANSPORTE E SOLO. AF_09/2024 | E37: m³ | F37: ='MEMÓRIA DE CÁLCULO'!K53 -> 4317.2 | G37: 10.83 | H37: =TRUNC(G37*(1+$H$3),2) -> 13.5 | I37: =TRUNC((F37*H37),2) -> 58282.2 | J37: =I37/$I$105 -> 0.012106623 | K37: 4317.2 | L37: =K37=F37 -> TRUE | M37: 4317.2 | N37: 10.83 | O37: 13.5 | P37: 58282.2 | Q37: 0.0088290154 | R37: =M37=F37 -> TRUE | S37: =N37=G37 -> TRUE | T37: =P37=I37 -> TRUE
A38: 4.2.2.1.9 | B38: 00006079 | C38: SINAPI | D38: ARGILA, ARGILA VERMELHA OU ARGILA ARENOSA (RETIRADA NA JAZIDA, SEM TRANSPORTE) | E38: m³ | G38: 38.76 | H38: =TRUNC(G38*(1+$J$3),2) -> 43.79 | I38: =TRUNC((F38*H38),2) -> 0 | J38: =I38/$I$105 -> 0 | L38: =K38=F38 -> TRUE | M38: 4317.2 | N38: 38.76 | O38: 43.79 | P38: 189050.18 | Q38: 0.028638709 | R38: =M38=F38 -> FALSE | S38: =N38=G38 -> TRUE
A39: 4.2.2.2 | D39: BASE | I39: =SUM(I40:I44) -> 272093.92 | J39: =I39/$I$105 -> 0.056520492 | K39: 5312 | L39: =K39=F39 -> FALSE | P39: 5085362.8 | Q39: 0.77036808 | R39: =M39=F39 -> TRUE | S39: =N39=G39 -> TRUE
A40: 4.2.2.2.1 | B40: 101124 | C40: SINAPI | D40: ESCAVAÇÃO HORIZONTAL, INCLUINDO CARGA E DESCARGA EM SOLO DE 1A CATEGORIA COM TRATOR DE ESTEIRAS (100HP/LÂMINA: 2,19M3). AF_07/2020 - MATERIAL DE EMPRÉSTIMO EM JAZIDA | E40: m³ | F40: ='MEMÓRIA DE CÁLCULO'!K56 -> 2656 | G40: 16.09 | H40: =TRUNC(G40*(1+$H$3),2) -> 20.05 | I40: =TRUNC((F40*H40),2) -> 53252.8 | J40: =I40/$I$105 -> 0.011061895 | K40: 5312 | L40: =K40=F40 -> FALSE | M40: 2656 | N40: 16.09 | O40: 20.05 | P40: 53252.8 | Q40: 0.008067125 | R40: =M40=F40 -> TRUE | S40: =N40=G40 -> TRUE | T40: =P40=I40 -> TRUE
A41: 4.2.2.2.2 | B41: 100975 | C41: SINAPI | D41: CARGA, MANOBRA E DESCARGA DE SOLOS E MATERIAIS GRANULARES EM CAMINHÃO BASCULANTE 14 M³ - CARGA COM PÁ CARREGADEIRA (CAÇAMBA DE 1,7 A 2,8 M³ / 128 HP) E DESCARGA LIVRE (UNIDADE: M3). AF_07/2020 | E41: m³ | F41: =F40 -> 2656 | G41: 9.25 | H41: =TRUNC(G41*(1+$H$3),2) -> 11.53 | I41: =TRUNC((F41*H41),2) -> 30623.68 | J41: =I41/$I$105 -> 0.0063612794 | K41: 33200 | L41: =K41=F41 -> FALSE | M41: 2656 | N41: 9.25 | O41: 11.53 | P41: 30623.68 | Q41: 0.0046390998 | R41: =M41=F41 -> TRUE | S41: =N41=G41 -> TRUE | T41: =P41=I41 -> TRUE
A42: 4.2.2.2.3 | B42: 93591 | C42: SINAPI | D42: TRANSPORTE COM CAMINHÃO BASCULANTE DE 14 M³, EM VIA URBANA EM LEITO NATURAL (UNIDADE: M3XKM). AF_07/2020 | E42: M3XKM | F42: ='MEMÓRIA DE CÁLCULO'!K59 -> 9960 | G42: 2.91 | H42: =TRUNC(G42*(1+$H$3),2) -> 3.62 | I42: =TRUNC((F42*H42),2) -> 36055.2 | J42: =I42/$I$105 -> 0.0074895376 | K42: 5312 | L42: =K42=F42 -> FALSE | M42: 16600 | N42: 2.91 | O42: 3.62 | P42: 60092 | Q42: 0.0091031772 | R42: =M42=F42 -> FALSE | S42: =N42=G42 -> TRUE | T42: =P42=I42 -> FALSE
A43: 4.2.2.2.4 | B43: 105559 | C43: SINAPI | D43: EXECUÇÃO E COMPACTAÇÃO DE CORPO DE ATERRO DE ATERRO (95% DE ENERGIA DO PROCTOR NORMAL) COM SOLO PREDOMINANTEMENTE ARGILOSO, EM CAMADAS COM ESPESSURA DE 20 CM - EXCLUSIVE ESCAVAÇÃO, CARGA E TRANSPORTE E SOLO. AF_09/2024 | E43: m³ | F43: ='MEMÓRIA DE CÁLCULO'!K60 -> 2656 | G43: 10.83 | H43: =TRUNC(G43*(1+$H$3),2) -> 13.5 | I43: =TRUNC((F43*H43),2) -> 35856 | J43: =I43/$I$105 -> 0.0074481589 | K43: 5312 | L43: =K43=F43 -> FALSE | M43: 2656 | N43: 10.83 | O43: 13.5 | P43: 35856 | Q43: 0.00543173 | R43: =M43=F43 -> TRUE | S43: =N43=G43 -> TRUE | T43: =P43=I43 -> TRUE
...

Sheet CRONOGRAMA FF NÃO DESONERADO
A1: CONVÊNIO | K1: MUNICÍPIO | M1: PRIMAVERA
A2: PROPONENTE | C2: ='PLANILHA DESONERA RESUMO'!C3:E3 -> PREFEITURA MUNICIPAL DE PRIMAVERA | K2: BDI
A3: OBJETO | C3: SERVIÇOS DE REVESTIMENTO PRIMÁRIO NAS VICINAIS | K3: BASE DE DADOS | M3: SINAPI - 04/2025 - Pa / SICRO3 - 01/2025 - Pa SICRO2 - 11/2016 - Pa / SEDOP - 02/2025 - Pa - Com Leis Sociais
A4: ENDEREÇO OBRA | C4: VICINAIS DO MUNICÍPIO DE PRIMAVERA
A6: CRONOGRAMA FÍSICO-FINANCEIRO SEM DESONERAÇÃO
A8: ITEM | B8: DESCRIÇÃO | C8: 1º MÊS | E8: 2º MÊS | G8: 3º MÊS | I8: 4º MÊS | K8: 5º MÊS | M8: 6º MÊS | O8: TOTAL | Q8: ='[2]PANILHA NÃO DESONERADA'!D20 -> VICINAL SÃO JOÃO DA MATA | R8: ='[2]PANILHA NÃO DESONERADA'!D50 -> VICINAL CONCEIÇÃO | S8: ='[2]PANILHA NÃO DESONERADA'!D79 -> VICINAL SANTO ANTÔNIO | T8: ='[2]PANILHA NÃO DESONERADA'!D108 -> VICINAL CAJU | U8: ='[2]PANILHA NÃO DESONERADA'!#REF! -> #REF! | V8: ='[2]PANILHA NÃO DESONERADA'!#REF! -> #REF! | W8: ='[2]PANILHA NÃO DESONERADA'!#REF! -> #REF!
C9: 15 dias | D9: 15 dias | E9: 15 dias | F9: 15 dias | G9: 15 dias | H9: 15 dias | I9: 15 dias | J9: 15 dias | K9: 15 dias | L9: 15 dias | M9: 15 dias | N9: 15 dias
A10: 1 | B10: ='PLANILHA DESONERA RESUMO'!D10 -> SERVIÇOS INICIAIS | C10: =1/6 -> 0.16666667 | E10: =1/6 -> 0.16666667 | G10: =1/6 -> 0.16666667 | I10: =1/6 -> 0.16666667 | K10: =1/6 -> 0.16666667 | M10: =1/6 -> 0.16666667 | O10: ='RESUMO DSONERADO'!E12 -> 54480.11
C12: =C10*$O10 -> 9080.0183 | E12: =E10*$O10 -> 9080.0183 | G12: =G10*$O10 -> 9080.0183 | I12: =I10*$O10 -> 9080.0183 | K12: =K10*$O10 -> 9080.0183 | M12: =M10*$O10 -> 9080.0183 | P12: =SUM(C12:N12) -> 54480.11
A13: 2 | B13: ='PLANILHA DESONERA RESUMO'!D14 -> ADMINISTRAÇÃO | C13: 1 | O13: ='RESUMO DSONERADO'!E13 -> 139567.2
C15: =C13*$O13 -> 139567.2
A16: 3 | B16: ='PLANILHA DESONERA RESUMO'!D17 -> MOBILIZAÇÃO E DESMOBILIZAÇÃO | C16: 1 | O16: ='RESUMO DSONERADO'!E14 -> 9862.2
C18: =C16*$O16 -> 9862.2
A19: 4 | B19: ='PLANILHA DESONERA RESUMO'!D19 -> REVESTIMENTO PRIMÁRIO DAS VICINAIS - EXT.: 17,01 Km | C19: 0.1 | E19: =0.9/5 -> 0.18 | G19: =0.9/5 -> 0.18 | I19: =0.9/5 -> 0.18 | K19: =0.9/5 -> 0.18 | M19: =0.9/5 -> 0.18 | O19: ='RESUMO DSONERADO'!E15 -> 4270286.3 | Q19: =#REF! -> #REF! | R19: =#REF! -> #REF! | S19: =#REF! -> #REF! | T19: =#REF! -> #REF!
C21: =C19*$O19 -> 427028.63 | E21: =E19*$O19 -> 768651.53 | G21: =G19*$O19 -> 768651.53 | I21: =I19*$O19 -> 768651.53 | K21: =K19*$O19 -> 768651.53 | M21: =M19*$O19 -> 768651.53
A22: 5 | B22: ='PLANILHA DESONERA RESUMO'!D91 -> DRENAGEM SUPERFICIAL E PROFUNDA | C22: 0.1 | E22: =0.9/5 -> 0.18 | G22: =0.9/5 -> 0.18 | I22: =0.9/5 -> 0.18 | K22: =0.9/5 -> 0.18 | M22: =0.9/5 -> 0.18 | O22: ='RESUMO DSONERADO'!E16 -> 339879.79 | Q22: =#REF! -> #REF! | R22: =#REF! -> #REF! | S22: =#REF! -> #REF! | T22: =#REF! -> #REF!
C24: =C22*$O22 -> 33987.979 | E24: =E22*$O22 -> 61178.362 | G24: =G22*$O22 -> 61178.362 | I24: =I22*$O22 -> 61178.362 | K24: =K22*$O22 -> 61178.362 | M24: =M22*$O22 -> 61178.362
A25: TOTAL DO GERAL (R$) | O25: =SUM(O10:O24) -> 4814075.6 | Q25: =SUM(Q10:Q24) -> #REF! | R25: =SUM(R10:R24) -> #REF! | S25: =SUM(S10:S24) -> #REF! | T25: =SUM(T10:T24) -> #REF!
A26: TOTAL DO MÊS (R$) | C26: =SUM(C12,C15,C18,C24,C21) -> 619526.03 | E26: =SUM(E12,E15,E18,E24,E21) -> 838909.91 | G26: =SUM(G12,G15,G18,G24,G21) -> 838909.91 | I26: =SUM(I12,I15,I18,I24,I21) -> 838909.91 | K26: =SUM(K12,K15,K18,K24,K21) -> 838909.91 | M26: =SUM(M12,M15,M18,M24,M21) -> 838909.91 | O26: =SUM(C26:N26) -> 4814075.6
A27: TOTAL (%) | C27: =C26/$O$26 -> 0.12869055 | E27: =E26/$O$26 -> 0.17426189 | G27: =G26/$O$26 -> 0.17426189 | I27: =I26/$O$26 -> 0.17426189 | K27: =K26/$O$26 -> 0.17426189 | M27: =M26/$O$26 -> 0.17426189
A28: ACUMULADO NO MÊS (R$) | C28: =C26 -> 619526.03 | E28: =C28+E26 -> 1458435.9 | G28: =E28+G26 -> 2297345.9 | I28: =I26+G28 -> 3136255.8 | K28: =I28+K26 -> 3975165.7 | M28: =K28+M26 -> 4814075.6
A29: ACUMULADO (%) | C29: =C27 -> 0.12869055 | E29: =C29+E27 -> 0.30295244 | G29: =E29+G27 -> 0.47721433 | I29: =G29+I27 -> 0.65147622 | K29: =I29+K27 -> 0.82573811 | M29: =K29+M27 -> 1
A34: MAYCON LEONAN DA SILVA MATOS ENGENHEIRO CIVIL CREA/PA: 1518018386PA

Sheet BDI
A1: COMPOSIÇÃO ANALÍTICA DA TAXA DE BENEFÍCIO E DESPESAS INDIRETAS (BDI)
A2: DESONERADO
A3: ='[3]PANILHA NÃO DESONERADA'!A3 -> PROPONENTE | C3: ='PLANILHA DESONERA RESUMO'!C3:E3 -> PREFEITURA MUNICIPAL DE PRIMAVERA | F3: MUNICÍPIO/UF | G3: PRIMAVERA - PARÁ
A4: ='[3]PANILHA NÃO DESONERADA'!A4 -> OBJETO | C4: SERVIÇOS DE REVESTIMENTO PRIMÁRIO NAS VICINAIS
A5: ='[3]PANILHA NÃO DESONERADA'!A5 -> ENDEREÇO OBRA | C5: ='PLANILHA DESONERA RESUMO'!C5:E6 -> VICINAIS DO MUNICÍPIO DE PRIMAVERA
A6: BDI (%) | C6: =I24 -> 0.2467
A7: RESP. TÉCNICO | C7: ='[3]PANILHA NÃO DESONERADA'!C6 -> 0 | F7: REGISTRO | G7: ='[3]PANILHA NÃO DESONERADA'!H6 -> 0
A9: Item | B9: Parcela do BDI
A10: 1 | B10: AC = Taxa de Administração Central | I10: 0.0401
A11: 2 | B11: S e G = Taxas de Seguro e Garantia | I11: 0.004
A12: 3 | B12: R = Taxa de Risco | I12: 0.0056
A13: 4 | B13: DF = Taxa de Despesas Financeiras | I13: 0.0111
A14: 5 | B14: L = Taxa de Lucro / Remuneração | I14: 0.073
A15: 6 | B15: I = Taxa de incidência de Impostos (PIS, COFINS e ISS) | I15: =I22 -> 0.0865
A17: Item | B17: Impostos
A18: 6.1 | B18: ISS | I18: 0.05
A19: 6.2 | B19: PIS | I19: 0.0065
A20: 6.3 | B20: COFINS | I20: 0.03
A21: 6.4 | B21: CPRB | I21: 0
A22: Total Impostos = | I22: =SUM(I18:I21) -> 0.0865
A23: Fórmula para o cálculo de BDI
I24: =ROUND((((1+I10+I11+I12)*(1+I13)*(1+I14))/(1-I15))-1,4) -> 0.2467
A26: Notas:
A27: 1) Alíquota de ISS é determinada pela “Relação de Serviços” do município onde se prestará o serviço.
A28: 2) Alíquota máxima de PIS é de até 1,65% conforme Lei nº10.637/02 em consonância com o Regime de Tributação da Empresa.
A29: 3) Alíquota máxima de COFINS é de 3% conforme inciso XX do art. 10 da Lei nº10.833/03.
A30: 4) Os percentuais dos itens que compõem analiticamente o BDI são so limites referenciais máximos adotados pela Administração consoante com o art.40 inciso X da Lei 8.666/93.
A31: 5) Antes da aplicação do BDI (Teto Empresa de Lucros Real ) os insumos constantes do art.3º da Lei nº10.637/02 deverão sofrer redução de 1,65%, após 31/12/2008, reduzir também do insumo o percentual de 7,6% da COFINS conforme art. 3º da Lei nº10.833/03 combinado com o inciso XX do art.10 da mesma Lei.
C38: MAYCON LEONAN DA SILVA MATOS ENGENHEIRO CIVIL CREA/PA: 1518018386PA

Sheet BDI DIFER.
A1: COMPOSIÇÃO ANALÍTICA DA TAXA DE BENEFÍCIO E DESPESAS INDIRETAS (BDI)
A2: NÃO DESONERADO
A3: ='[3]PANILHA NÃO DESONERADA'!A3 -> PROPONENTE | C3: ='PLANILHA DESONERA RESUMO'!C3:E3 -> PREFEITURA MUNICIPAL DE PRIMAVERA | F3: MUNICÍPIO/UF | G3: PRIMAVERA - PARÁ
A4: ='[3]PANILHA NÃO DESONERADA'!A4 -> OBJETO | C4: =BDI!C4 -> SERVIÇOS DE REVESTIMENTO PRIMÁRIO NAS VICINAIS
A5: ='[3]PANILHA NÃO DESONERADA'!A5 -> ENDEREÇO OBRA | C5: ='PLANILHA DESONERA RESUMO'!C5:E6 -> VICINAIS DO MUNICÍPIO DE PRIMAVERA
A6: BDI (%) | C6: =I24 -> 0.13
A7: RESP. TÉCNICO | C7: ='[3]PANILHA NÃO DESONERADA'!C6 -> 0 | F7: REGISTRO | G7: ='[3]PANILHA NÃO DESONERADA'!H6 -> 0
A9: Item | B9: Parcela do BDI
A10: 1 | B10: AC = Taxa de Administração Central | I10: 0.0345
A11: 2 | B11: S e G = Taxas de Seguro e Garantia | I11: 0.003
A12: 3 | B12: R = Taxa de Risco | I12: 0.0056
A13: 4 | B13: DF = Taxa de Despesas Financeiras | I13: 0.0085
A14: 5 | B14: L = Taxa de Lucro / Remuneração | I14: 0.035
A15: 6 | B15: I = Taxa de incidência de Impostos (PIS, COFINS e ISS) | I15: =I22 -> 0.0365
A17: Item | B17: Impostos
A18: 6.1 | B18: ISS | I18: 0
A19: 6.2 | B19: PIS | I19: 0.0065
A20: 6.3 | B20: COFINS | I20: 0.03
A21: 6.4 | B21: CPRB | I21: 0
A22: Total Impostos = | I22: =SUM(I18:I21) -> 0.0365
A23: Fórmula para o cálculo de BDI
I24: =ROUND((((1+I10+I11+I12)*(1+I13)*(1+I14))/(1-I15))-1,4) -> 0.13
A26: Notas:
A27: 1) Alíquota de ISS é determinada pela “Relação de Serviços” do município onde se prestará o serviço.
A28: 2) Alíquota máxima de PIS é de até 1,65% conforme Lei nº10.637/02 em consonância com o Regime de Tributação da Empresa.
A29: 3) Alíquota máxima de COFINS é de 3% conforme inciso XX do art. 10 da Lei nº10.833/03.
A30: 4) Os percentuais dos itens que compõem analiticamente o BDI são so limites referenciais máximos adotados pela Administração consoante com o art.40 inciso X da Lei 8.666/93.
A31: 5) Antes da aplicação do BDI (Teto Empresa de Lucros Real ) os insumos constantes do art.3º da Lei nº10.637/02 deverão sofrer redução de 1,65%, após 31/12/2008, reduzir também do insumo o percentual de 7,6% da COFINS conforme art. 3º da Lei nº10.833/03 combinado com o inciso XX do art.10 da mesma Lei.
C37: MAYCON LEONAN DA SILVA MATOS ENGENHEIRO CIVIL CREA/PA: 1518018386PA

Sheet COMPOSIÇÕES ANALÍTICAS
C2: Composições Analíticas com Preço Unitário | E2: Bancos | G2: B.D.I. | I2: Encargos Sociais
C3: SERVIÇOS DE REVESTIMENTO PRIMÁRIO NAS VICINAIS | E3: SINAPI - 04/2025 - Pará SICRO3 - 01/2025 - Pará SICRO2 - 11/2016 - Pará SEDOP - 02/2025 - Pará | G3: =BDI!I24 -> 0.2467 | I3: Desonerado: embutido nos preços unitário dos insumos de mão de obra, de acordo com as bases.
A4: Composições Analíticas com Preço Unitário
A5: Composições Principais
F7: Total sem BDI | H7: 6792153.9
F8: Total do BDI | H8: 0
F9: Total Geral | H9: 6792153.9
A13: Composições Principais
A14: 1.1 | B14: Código | C14: Banco | D14: Descrição | E14: Tipo | G14: Und | H14: Quant. | I14: Valor Unit | J14: Total
A15: Composição | B15: 010000 | C15: SEDOP | D15: Licenças e taxas da obra (acima de 500m2) | E15: 0 | G15: cj | H15: 1 | I15: 14713.3 | J15: 14713.3
A16: Insumo | B16: D00342 | C16: SEDOP | D16: Taxas da PMB (I) | E16: Taxas | G16: CJ | H16: 1 | I16: 11488.13 | J16: 11488.13
A17: Insumo | B17: D00343 | C17: SEDOP | D17: Taxa de Incêndio | E17: Taxas | G17: un | H17: 1 | I17: 1321.15 | J17: 1321.15
A18: Insumo | B18: D00321 | C18: SEDOP | D18: Ligação provisoria - agua/esgoto | E18: Taxas | G18: un | H18: 1 | I18: 528.96 | J18: 528.96
A19: Insumo | B19: D00323 | C19: SEDOP | D19: Taxa do CREA (I) | E19: Taxas | G19: un | H19: 1 | I19: 1124.49 | J19: 1124.49
A20: Insumo | B20: D00322 | C20: SEDOP | D20: Ligação provisória - luz | E20: Taxas | G20: un | H20: 1 | I20: 250.57 | J20: 250.57
E21: MO sem LS => | F21: 0 | G21: LS => | H21: 0 | I21: MO com LS => | J21: 0
E22: Valor do BDI => | F22: 3629.77 | H22: Valor com BDI => | J22: 18343.07
A24: 1.2 | B24: Código | C24: Banco | D24: Descrição | E24: Tipo | G24: Und | H24: Quant. | I24: Valor Unit | J24: Total
A25: Composição | B25: 74210/001 | C25: SINAPI | D25: BARRACAO PARA DEPOSITO EM TABUAS DE MADEIRA, COBERTURA EM FIBROCIMENTO 4 MM, INCLUSO PISO ARGAMASSA TRAÇO 1:6 (CIMENTO E AREIA) | E25: CANT - CANTEIRO DE OBRAS | G25: m² | H25: 1 | I25: 671.84 | J25: 671.84
A26: Composição Auxiliar | B26: 88262 | C26: SINAPI | D26: CARPINTEIRO DE FORMAS COM ENCARGOS COMPLEMENTARES | E26: Livro SINAPI: Cálculos e Parâmetros | G26: H | H26: 6 | I26: 28.12 | J26: 168.72
A27: Composição Auxiliar | B27: 88309 | C27: SINAPI | D27: PEDREIRO COM ENCARGOS COMPLEMENTARES | E27: Livro SINAPI: Cálculos e Parâmetros | G27: H | H27: 0.8 | I27: 28.51 | J27: 22.8
A28: Composição Auxiliar | B28: 88316 | C28: SINAPI | D28: SERVENTE COM ENCARGOS COMPLEMENTARES | E28: Livro SINAPI: Cálculos e Parâmetros | G28: H | H28: 8 | I28: 23.48 | J28: 187.84
A29: Composição Auxiliar | B29: 73965/010 | C29: SINAPI | D29: ESCAVACAO MANUAL DE VALA EM MATERIAL DE 1A CATEGORIA ATE 1,5M EXCLUINDO ESGOTAMENTO / ESCORAMENTO | E29: MOVT - MOVIMENTO DE TERRA | G29: m³ | H29: 0.06 | I29: 82.18 | J29: 4.93
A30: Insumo | B30: 00000367 | C30: SINAPI | D30: AREIA GROSSA - POSTO JAZIDA/FORNECEDOR (RETIRADO NA JAZIDA, SEM TRANSPORTE) | E30: Material | G30: m³ | H30: 0.02 | I30: 121.56 | J30: 2.43
A31: Insumo | B31: 00001379 | C31: SINAPI | D31: CIMENTO PORTLAND COMPOSTO CP II-32 | E31: Material | G31: KG | H31: 3.62 | I31: 1.16 | J31: 4.19
A32: Insumo | B32: 00002418 | C32: SINAPI | D32: DOBRADICA EM ACO/FERRO, 3" X 2 1/2", E= 1,2 A 1,8 MM, SEM ANEL, CROMADO OU ZINCADO, TAMPA BOLA, COM PARAFUSOS | E32: Material | G32: UN | H32: 0.33 | I32: 13.32 | J32: 4.39
A33: Insumo | B33: 00002745 | C33: SINAPI | D33: PONTALETE ROLICO SEM TRATAMENTO, D = 8 A 11 CM, H = 3 M, EM EUCALIPTO OU EQUIVALENTE DA REGIAO - BRUTA (PARA ESCORAMENTO) | E33: Material | G33: M | H33: 4.5 | I33: 3.64 | J33: 16.38
A34: Insumo | B34: 00004408 | C34: SINAPI | D34: RIPA NAO APARELHADA, *1,5 X 5* CM, EM MACARANDUBA/MASSARANDUBA, ANGELIM OU EQUIVALENTE DA REGIAO - BRUTA | E34: Material | G34: M | H34: 5 | I34: 2.28 | J34: 11.4
A35: Insumo | B35: 00005061 | C35: SINAPI | D35: PREGO DE ACO POLIDO COM CABECA 18 X 27 (2 1/2 X 10) | E35: Material | G35: KG | H35: 0.5 | I35: 17.5 | J35: 8.75
A36: Insumo | B36: 00006189 | C36: SINAPI | D36: TABUA NAO APARELHADA *2,5 X 30* CM, EM MACARANDUBA/MASSARANDUBA, ANGELIM OU EQUIVALENTE DA REGIAO - BRUTA | E36: Material | G36: M | H36: 8 | I36: 24.75 | J36: 198
... A38: Insumo | B38: 00011467 | C38: SINAPI | D38: FECHADURA DE SOBREPOR TIPO CAIXAO, EM FERRO COM ACABAMENTO RESINADO, SEM MACANETA, SEM CILINDRO, INCLUINDO CHAVE TIPO SIMPLES | E38: Material | G38: UN | H38: 0.11 | I38: 20.54 | J38: 2.25
E39: MO sem LS => | F39: 238.65 | G39: LS => | H39: 0 | I39: MO com LS => | J39: 238.65
E40: Valor do BDI => | F40: 165.74 | H40: Valor com BDI => | J40: 837.58
A42: 1.2.1 | B42: Código | C42: Banco | D42: Descrição | E42: Tipo | G42: Und | H42: Quant. | I42: Valor Unit | J42: Total
A43: Composição | B43: 90778 | C43: SINAPI | D43: ENGENHEIRO CIVIL DE OBRA PLENO COM ENCARGOS COMPLEMENTARES | E43: Livro SINAPI: Cálculos e Parâmetros | G43: H | H43: 1 | I43: 124.1 | J43: 124.1
A44: Composição Auxiliar | B44: 95403 | C44: SINAPI | D44: CURSO DE CAPACITAÇÃO PARA ENGENHEIRO CIVIL DE OBRA PLENO (ENCARGOS COMPLEMENTARES) - HORISTA | E44: Livro SINAPI: Cálculos e Parâmetros | G44: H | H44: 1 | I44: 1.77 | J44: 1.77
A45: Insumo | B45: 00002707 | C45: SINAPI | D45: ENGENHEIRO CIVIL DE OBRA PLENO (HORISTA) | E45: Mão de Obra | G45: H | H45: 1 | I45: 120.04 | J45: 120.04
A46: Insumo | B46: 00037372 | C46: SINAPI | D46: EXAMES - HORISTA (COLETADO CAIXA - ENCARGOS COMPLEMENTARES) | E46: Material | G46: H | H46: 1 | I46: 1.43 | J46: 1.43
A47: Insumo | B47: 00037373 | C47: SINAPI | D47: SEGURO - HORISTA (COLETADO CAIXA - ENCARGOS COMPLEMENTARES) | E47: Material | G47: H | H47: 1 | I47: 0.08 | J47: 0.08
A48: Insumo | B48: 00043462 | C48: SINAPI | D48: FERRAMENTAS - FAMILIA ENGENHEIRO CIVIL - HORISTA (ENCARGOS COMPLEMENTARES - COLETADO CAIXA) | E48: Material | G48: H | H48: 1 | I48: 0.01 | J48: 0.01
...

Sheet MOB. E DESMOB COMPOS.
A2: ='[1]PANILHA NÃO DESONERADA'!$A$2 -> CONVÊNIO
A3: ='[1]PANILHA NÃO DESONERADA'!$A$3 -> PROPONENTE | C3: PREFEITURA MUNICIPAL DE PRIMAVERA
A4: ='[1]PANILHA NÃO DESONERADA'!$F$2 -> MUNICÍPIO/UF | C4: PRIMAVERA
A5: ='[1]PANILHA NÃO DESONERADA'!$A$4 -> OBJETO | C5: SERVIÇOS DE REVESTIMENTO PRIMÁRIO NAS VICINAIS
A6: ='[1]PANILHA NÃO DESONERADA'!$A$5 -> ENDEREÇO OBRA
A8: MOBILIZAÇÃO E DESMOBILIZAÇÃO
A9: COMPOSIÇÃO 02
A10: Composição Auxiliar | B10: Código | C10: Banco | D10: Descrição | E10: Tipo | G10: Und | H10: Quant. | I10: Valor Unit | J10: Total
A11: Composição Auxiliar | B11: Comp_002 | C11: Próprio | D11: MOBILIZAÇÃO EQUIPAMENTOS OBRA DE TERRAPLENAGEM | E11: PAVI - PAVIMENTAÇÃO | G11: UND | H11: 1 | I11: 3955.33 | J11: 3955.33
A12: Composição Auxiliar | B12: 5849 | C12: SINAPI | D12: TRATOR DE ESTEIRAS, POTÊNCIA 170 HP, PESO OPERACIONAL 19 T, CAÇAMBA 5,2 M3 - CHI DIURNO. AF_06/2014 | E12: Custos Horários Produtivo e Improdutivo dos Equipamentos | G12: CHI | H12: 1 | I12: 89.4 | J12: 89.4
A13: Composição Auxiliar | B13: 5942 | C13: SINAPI | D13: PÁ CARREGADEIRA SOBRE RODAS, POTÊNCIA LÍQUIDA 128 HP, CAPACIDADE DA CAÇAMBA 1,7 A 2,8 M3, PESO OPERACIONAL 11632 KG - CHI DIURNO. AF_06/2014 | E13: Custos Horários Produtivo e Improdutivo dos Equipamentos | G13: CHI | H13: 1 | I13: 86.79 | J13: 86.79
A14: Composição Auxiliar | B14: 5934 | C14: SINAPI | D14: MOTONIVELADORA POTÊNCIA BÁSICA LÍQUIDA (PRIMEIRA MARCHA) 125 HP, PESO BRUTO 13032 KG, LARGURA DA LÂMINA DE 3,7 M - CHI DIURNO. AF_06/2014 | E14: Custos Horários Produtivo e Improdutivo dos Equipamentos | G14: CHI | H14: 1 | I14: 106.39 | J14: 106.39
A15: Composição Auxiliar | B15: 93244 | C15: SINAPI | D15: ROLO COMPACTADOR VIBRATÓRIO PÉ DE CARNEIRO PARA SOLOS, POTÊNCIA 80 HP, PESO OPERACIONAL SEM/COM LASTRO 7,4 / 8,8 T, LARGURA DE TRABALHO 1,68 M - CHI DIURNO. AF_02/2016 | E15: Custos Horários Produtivo e Improdutivo dos Equipamentos | G15: CHI | H15: 1 | I15: 68.88 | J15: 68.88
A16: Composição Auxiliar | B16: 6880 | C16: SINAPI | D16: ROLO COMPACTADOR DE PNEUS ESTÁTICO, PRESSÃO VARIÁVEL, POTÊNCIA 111 HP, PESO SEM/COM LASTRO 9,5 / 26 T, LARGURA DE TRABALHO 1,90 M - CHI DIURNO. AF_07/2014 | E16: Custos Horários Produtivo e Improdutivo dos Equipamentos | G16: CHI | H16: 1 | I16: 90.09 | J16: 90.09
A17: Composição Auxiliar | B17: 5681 | C17: SINAPI | D17: RETROESCAVADEIRA SOBRE RODAS COM CARREGADEIRA, TRAÇÃO 4X2, POTÊNCIA LÍQ. 79 HP, CAÇAMBA CARREG. CAP. MÍN. 1 M3, CAÇAMBA RETRO CAP. 0,20 M3, PESO OPERACIONAL MÍN. 6.570 KG, PROFUNDIDADE ESCAVAÇÃO MÁX. 4,37 M - CHI DIURNO. AF_06/2014 | E17: Custos Horários Produtivo e Improdutivo dos Equipamentos | G17: CHI | H17: 1 | I17: 61.11 | J17: 61.11
A18: Composição Auxiliar | B18: 89876 | C18: SINAPI | D18: CAMINHÃO BASCULANTE 14 M3, COM CAVALO MECÂNICO DE CAPACIDADE MÁXIMA DE TRAÇÃO COMBINADO DE 36000 KG, POTÊNCIA 286 CV, INCLUSIVE SEMIREBOQUE COM CAÇAMBA METÁLICA - CHP DIURNO. AF_12/2014 | E18: Custos Horários Produtivo e Improdutivo dos Equipamentos | G18: CHP | H18: 1 | I18: 351.11 | J18: 351.11
A19: Insumo | B19: 5901 | C19: SINAPI | D19: CAMINHÃO PIPA 10.000 L TRUCADO, PESO BRUTO TOTAL 23.000 KG, CARGA ÚTIL MÁXIMA 15.935 KG, DISTÂNCIA ENTRE EIXOS 4,8 M, POTÊNCIA 230 CV, INCLUSIVE TANQUE DE AÇO PARA TRANSPORTE DE ÁGUA - CHP DIURNO. AF_06/2014 | E19: Custos Horários Produtivo e Improdutivo dos Equipamentos | G19: CHP | H19: 1 | I19: 341.13 | J19: 341.13
B20: 73467 | C20: SINAPI | D20: CAMINHÃO TOCO, PBT 14.300 KG, CARGA ÚTIL MÁX. 9.710 KG, DIST. ENTRE EIXOS 3,56 M, POTÊNCIA 185 CV, INCLUSIVE CARROCERIA FIXA ABERTA DE MADEIRA P/ TRANSPORTE GERAL DE CARGA SECA, DIMEN. APROX. 2,50 X 6,50 X 0,50 M - CHP DIURNO. AF_06/2014 | E20: Custos Horários Produtivo e Improdutivo dos Equipamentos | G20: CHP | H20: 1 | I20: 267.06 | J20: 267.06
B21: E9666 | C21: SICRO3 | D21: Cavalo mecânico com semirreboque com capacidade de 30 t - 265 kW | E21: Equipamento | G21: H | H21: 6 | I21: 415.5631 | J21: 2493.37
D22: MAYCON LEONAN DA SILVA MATOS ENGENHEIRO CIVIL CREA/PA: 1518018386PA | E22: MO sem LS => | F22: 175.87 | G22: LS => | H22: 0 | I22: MO com LS => | J22: 175.87
E23: Valor do BDI => | F23: 975.77 | H23: Valor com BDI => | J23: 4931.1
A97: INFORMAÇÕES COMPLEMENTARES:
A98: ONDE: CMob = REPRESENTA O CUSTO DE MOBILIZAÇÃO; DM = REPRESENTA A DISTÂNCIA DE MOBILIZAÇÃO, EM QUILÔMETROS (KM) OU EM MILHAS NÁUTICAS (MI); K = REPRESENTA O FATOR RELACIONADO À NECESSIDADE DE RETORNO DO VEÍCULO A SUA ORIGEM; FU = REPRESENTA O FATOR DE UTILIZAÇÃO DO VEÍCULO TRANSPORTADOR; V = REPRESENTA A VELOCIDADE MÉDIA DE TRANSPORTE, EM KM/H OU NÓS; CH = REPRESENTA O CUSTO HORÁRIO DO VEÍCULO TRANSPORTADOR.
A99: BIBLIORAFIA: MANUAL MANUAL DE CUSTOS DE INFRAESTRUTURA DE TRANSPORTES. VOLUME 09 - MOBILIZAÇÃO E DESMOBILIZAÇÃO. DNIT. 2017. MANUAL MANUAL DE CUSTOS DE INFRAESTRUTURA DE TRANSPORTES. VOLUME 03 - EQUIPAMENTOS. DNIT. 2017.
H133: Responsável Técnico

Sheet ENC.SOC. 
A1: PROPONENTE | B1: PREFEITURA MUNICIPAL DE PRIMAVERA
A2: OBJETO | B2: SERVIÇOS DE REVESTIMENTO PRIMÁRIO NAS VICINAIS
A3: ENDEREÇO OBRA | B3: VICINAIS DO MUNICÍPIO DE PRIMAVERA
A4: =#REF! -> #REF! | B4: =#REF! -> #REF!
A5: =#REF! -> #REF! | B5: =#REF! -> #REF!
A7: ENCARGOS SOCIAIS SOBRE A MÃO DE OBRA
A8: CÓDIGO | B8: DESCRIÇÃO | C8: COM DESONERAÇÃO | E8: SEM DESONERAÇÃO
C9: HORISTA (%) | D9: MENSALISTA (%) | E9: HORISTA (%) | F9: MENSALISTA (%)
A10: GRUPO A
A11: A1 | B11: INSS | C11: 0 | D11: 0 | E11: 0.2 | F11: 0.2
A12: A2 | B12: SESI | C12: 0.015 | D12: 0.015 | E12: 0.015 | F12: 0.015
A13: A3 | B13: SENAI | C13: 0.01 | D13: 0.01 | E13: 0.01 | F13: 0.01
A14: A4 | B14: INCRA | C14: 0.002 | D14: 0.002 | E14: 0.002 | F14: 0.002
A15: A5 | B15: SEBRAE | C15: 0.006 | D15: 0.006 | E15: 0.006 | F15: 0.006
A16: A6 | B16: Salário Educação | C16: 0.025 | D16: 0.025 | E16: 0.025 | F16: 0.025
A17: A7 | B17: Seguro Contra Acidentes de Trabalho | C17: 0.03 | D17: 0.03 | E17: 0.03 | F17: 0.03
A18: A8 | B18: FGTS | C18: 0.08 | D18: 0.08 | E18: 0.08 | F18: 0.08
A19: A9 | B19: SECONCI | C19: 0 | D19: 0 | E19: 0 | F19: 0
A20: A | B20: Total | C20: =SUM(C11:C19) -> 0.168 | D20: =SUM(D11:D19) -> 0.168 | E20: =SUM(E11:E19) -> 0.368 | F20: =SUM(F11:F19) -> 0.368
A21: GRUPO B
A22: B1 | B22: Repouso Semanal Remunerado | C22: 0.1814 | D22: Não incide | E22: 0.1814 | F22: Não incide
A23: B2 | B23: Feriados | C23: 0.0416 | D23: Não incide | E23: 0.0416 | F23: Não incide
A24: B3 | B24: Auxílio - Enfermidade | C24: 0.0093 | D24: 0.007 | E24: 0.0093 | F24: 0.007
A25: B4 | B25: 13º Salário | C25: 0.111 | D25: 0.0833 | E25: 0.111 | F25: 0.0833
A26: B5 | B26: Licença Paternidade | C26: 0.0007 | D26: 0.0005 | E26: 0.0007 | F26: 0.0005
A27: B6 | B27: Faltas Justificadas | C27: 0.0074 | D27: 0.0056 | E27: 0.0074 | F27: 0.0056
A28: B7 | B28: Dias de Chuvas | C28: 0.0283 | D28: Não incide | E28: 0.0283 | F28: Não incide
A29: B8 | B29: Auxílio Acidente de Trabalho | C29: 0.0011 | D29: 0.0008 | E29: 0.0011 | F29: 0.0008
A30: B9 | B30: Férias Gozadas | C30: 0.1086 | D30: 0.0815 | E30: 0.1086 | F30: 0.0815
A31: B10 | B31: Salário Maternidade | C31: 0.0003 | D31: 0.0002 | E31: 0.0003 | F31: 0.0002
A32: B | B32: Total | C32: =SUM(C22:C31) -> 0.4897 | D32: =SUM(D22:D31) -> 0.1789 | E32: =SUM(E22:E31) -> 0.4897 | F32: =SUM(F22:F31) -> 0.1789
A33: GRUPO C
A34: C1 | B34: Aviso Prévio Indenizado | C34: 0.0714 | D34: 0.0536 | E34: 0.0714 | F34: 0.0536
A35: C2 | B35: Aviso Prévio Trabalhado | C35: 0.0017 | D35: 0.0013 | E35: 0.0017 | F35: 0.0013
A36: C3 | B36: Férias Indenizadas | C36: 0.032 | D36: 0.0241 | E36: 0.032 | F36: 0.0241
A37: C4 | B37: Depósito Rescisão Sem Justa Causa | C37: 0.0531 | D37: 0.0399 | E37: 0.0531 | F37: 0.0399
A38: C5 | B38: Indenização Adicional | C38: 0.006 | D38: 0.0045 | E38: 0.006 | F38: 0.0045
A39: C | B39: Total | C39: =SUM(C34:C38) -> 0.1642 | D39: =SUM(D34:D38) -> 0.1234 | E39: =SUM(E34:E38) -> 0.1642 | F39: =SUM(F34:F38) -> 0.1234
A40: GRUPO D
A41: D1 | B41: Reincidência de Grupo A sobre Grupo B | C41: 0.0823 | D41: 0.0301 | E41: 0.1802 | F41: 0.0658
...

Sheet 3A.MOB NÃO DESONERADA
A1: =#REF! -> #REF!
A2: =#REF! -> #REF! | C2: =#REF! -> #REF!
A3: =#REF! -> #REF! | C3: =#REF! -> #REF!
A4: =#REF! -> #REF! | C4: =#REF! -> #REF!
A5: =#REF! -> #REF! | C5: VICINAIS: RIBEIRA; TREVO GLEBA 5 PARA NOVO HORIZONTE; TREVO DA SÃO VICENTE PARA O TREVO DA CAIXA DÁGUA DA 10; TREVO DA GLEBA 10 PARA GLEBA 8; TREVO GLEBA 8 PARA GLEBA 10; VICINAL ÁGUA BOA PARA TREVO DA GLEBA 11; VICINAL GLEBA 11; ESTRADA ENALCO; VICINAL MUTUM; TREVO DA SÃO VICENTE PARA COMUNIDADE MINAS PARA.
A7: 3A- MOBILIZAÇÃO E DESMOBILIZAÇÃO - SEM DESONERAÇÃO
A8: COMPOSIÇÃO 01
A9: EQUIPAMENTOS TRANSPORTADOS | D9: EQUIPAMENTOS TRANSPORTADORES | G9: ORIGEM | H9: DESTINO | I9: K (Nº VIAGENS) | J9: DIST. | K9: VELOC. (KM/H) | L9: QUANT. EQUIP. | M9: FU | N9: PREÇO UNIT. | O9: PREÇO TOTAL
A10: FONTE | B10: CÓDIGO | C10: DESCRIÇÃO | D10: FONTE | E10: CÓDIGO | F10: DESCRIÇÃO
A11: SICRO | B11: E010 | C11: Carregadeira de Pneus : Caterpillar : 950H - 3,3 m3 | D11: SINAPI | E11: 89876 | F11: Cavalo mecânico com semi-reboque com capacidade de 30 t - 240 Kw | G11: Castanhal | H11: Igarapé Açú | I11: 1 | J11: 44.2 | K11: 60 | L11: 1 | M11: 0.5 | N11: 199.78 | O11: =ROUND((I11*J11*L11*M11/K11)*N11,2) -> 73.59
A12: SINAPI | B12: 89032 | C12: TRATOR DE ESTEIRAS, POTÊNCIA 100 HP, PESO OPERACIONAL 9,4 T, COM LÂMINA 2,19 M3 - CHP DIURNO. AF_06/2014 (CHP) | D12: SINAPI | E12: 89876 | F12: Cavalo mecânico com semi-reboque com capacidade de 30 t - 240 Kw | G12: Castanhal | H12: Igarapé Açú | I12: 1 | J12: 44.2 | K12: 60 | L12: 1 | M12: 0.5 | N12: 199.78 | O12: =ROUND((I12*J12*L12*M12/K12)*N12,2) -> 73.59
A13: SINAPI | B13: 5932 | C13: MOTONIVELADORA POTÊNCIA BÁSICA LÍQUIDA (PRIMEIRA MARCHA) 125 HP, PESO BRUTO 13032 KG, LARGURA DA LÂMINA DE 3,7 M - CHP DIURNO. AF_06/2014 (CHP) | D13: SINAPI | E13: 89876 | F13: Cavalo mecânico com semi-reboque com capacidade de 30 t - 240 Kw | G13: Castanhal | H13: Igarapé Açú | I13: 1 | J13: 44.2 | K13: 60 | L13: 2 | M13: 1 | N13: 199.78 | O13: =ROUND((I13*J13*L13*M13/K13)*N13,2) -> 294.34
A14: SINAPI | B14: 6879 | C14: ROLO COMPACTADOR DE PNEUS ESTÁTICO, PRESSÃO VARIÁVEL, POTÊNCIA 111 HP, PESO SEM/COM LASTRO 9,5 / 26 T, LARGURA DE TRABALHO 1,90 M - CHP DIURNO. AF_07/2014 (CHP) | D14: SINAPI | E14: 89876 | F14: Cavalo mecânico com semi-reboque com capacidade de 30 t - 240 Kw | G14: Castanhal | H14: Igarapé Açú | I14: 1 | J14: 44.2 | K14: 60 | L14: 1 | M14: 1 | N14: 199.78 | O14: =ROUND((I14*J14*L14*M14/K14)*N14,2) -> 147.17
A15: SINAPI | B15: 73436 | C15: ROLO COMPACTADOR VIBRATÓRIO PÉ DE CARNEIRO PARA SOLOS, POTÊNCIA 80 HP, PESO OPERACIONAL SEM/COM LASTRO 7,4 / 8,8 T, LARGURA DE TRABALHO 1,68 M - CHP DIURNO. AF_02/2016 (CHP) | D15: SINAPI | E15: 89876 | F15: Cavalo mecânico com semi-reboque com capacidade de 30 t - 240 Kw | G15: Castanhal | H15: Igarapé Açú | I15: 1 | J15: 44.2 | K15: 60 | L15: 2 | M15: 0.5 | N15: 199.78 | O15: =ROUND((I15*J15*L15*M15/K15)*N15,2) -> 147.17
A16: SICRO | B16: E007 | C16: Trator Agrícola : Massey Ferguson : MF 4291/4 449A | D16: SINAPI | E16: 89876 | F16: Cavalo mecânico com semi-reboque com capacidade de 30 t - 240 Kw | G16: Castanhal | H16: Igarapé Açú | I16: 1 | J16: 44.2 | K16: 60 | L16: 2 | M16: 0.5 | N16: 199.78 | O16: =ROUND((I16*J16*L16*M16/K16)*N16,2) -> 147.17
A17: SINAPI | B17: 5680 | C17: RETROESCAVADEIRA SOBRE RODAS COM CARREGADEIRA, TRAÇÃO 4X2, POTÊNCIA LÍQ. 79 HP, CAÇAMBA CARREG. CAP. MÍN. 1 M3, CAÇAMBA RETRO CAP. 0,20 M3, PESO OPERACIONAL MÍN. 6.570 KG, PROFUNDIDADE ESCAVAÇÃO MÁX. 4,37 M - CHP DIURNO. AF_06/2014 (CHP) | D17: SINAPI | E17: 89876 | F17: Cavalo mecânico com semi-reboque com capacidade de 30 t - 240 Kw | G17: Castanhal | H17: Igarapé Açú | I17: 1 | J17: 44.2 | K17: 60 | L17: 1 | M17: 0.5 | N17: 199.78 | O17: =ROUND((I17*J17*L17*M17/K17)*N17,2) -> 73.59
A18: SINAPI | B18: 89876 | C18: CAMINHÃO BASCULANTE 14 M3, COM CAVALO MECÂNICO DE CAPACIDADE MÁXIMA DE TRAÇÃO COMBINADO DE 36000 KG, POTÊNCIA 286 CV, INCLUSIVE SEMIREBOQUE COM CAÇAMBA METÁLICA - CHP DIURNO. AF_12/2014 (CHP) | D18: SINAPI | E18: - | F18: Condução por conta própria | G18: Castanhal | H18: Igarapé Açú | I18: 1 | J18: 44.2 | K18: 60 | L18: 3 | M18: 1 | N18: 199.78 | O18: =ROUND((I18*J18*L18*M18/K18)*N18,2) -> 441.51
A19: SINAPI | B19: 5901 | C19: CAMINHÃO PIPA 10.000 L TRUCADO, PESO BRUTO TOTAL 23.000 KG, CARGA ÚTIL MÁXIMA 15.935 KG, DISTÂNCIA ENTRE EIXOS 4,8 M, POTÊNCIA 230 CV, INCLUSIVE TANQUE DE AÇO PARA TRANSPORTE DE ÁGUA - CHP DIURNO. AF_06/2014 (CHP) | D19: SINAPI | E19: - | F19: Condução por conta própria | G19: Castanhal | H19: Igarapé Açú | I19: 1 | J19: 44.2 | K19: 60 | L19: 1 | M19: 1 | N19: 184.79 | O19: =ROUND((I19*J19*L19*M19/K19)*N19,2) -> 136.13
A20: SINAPI | B20: 5689 | C20: GRADE DE DISCO CONTROLE REMOTO REBOCÁVEL, COM 24 DISCOS 24 X 6 MM COM PNEUS PARA TRANSPORTE - CHP DIURNO. AF_06/2014 (CHP) | D20: SINAPI | E20: - | F20: Condução por conta própria | G20: Castanhal | H20: Igarapé Açú | I20: 1 | J20: 44.2 | K20: 60 | L20: 1 | M20: 1 | N20: 3.59 | O20: =ROUND((I20*J20*L20*M20/K20)*N20,2) -> 2.64
A21: SINAPI | B21: 73467 | C21: CAMINHÃO TOCO, PBT 14.300 KG, CARGA ÚTIL MÁX. 9.710 KG, DIST. ENTRE EIXOS 3,56 M, POTÊNCIA 185 CV, INCLUSIVE CARROCERIA FIXA ABERTA DE MADEIRA P/ TRANSPORTE GERAL DE CARGA SECA, DIMEN. APROX. 2,50 X 6,50 X 0,50 M - CHP DIURNO. AF_06/2014 (CHP) | D21: SINAPI | E21: - | F21: Condução por conta própria | G21: Castanhal | H21: Igarapé Açú | I21: 1 | J21: 44.2 | K21: 60 | L21: 1 | M21: 1 | N21: 104.51 | O21: =ROUND((I21*J21*L21*M21/K21)*N21,2) -> 76.99
A22: TOTAL | O22: =ROUND(SUM(O11:O21),2) -> 1613.89
A24: INFORMAÇÕES COMPLEMENTARES:
A25: ONDE: CMob = REPRESENTA O CUSTO DE MOBILIZAÇÃO; DM = REPRESENTA A DISTÂNCIA DE MOBILIZAÇÃO, EM QUILÔMETROS (KM) OU EM MILHAS NÁUTICAS (MI); K = REPRESENTA O FATOR RELACIONADO À NECESSIDADE DE RETORNO DO VEÍCULO A SUA ORIGEM; FU = REPRESENTA O FATOR DE UTILIZAÇÃO DO VEÍCULO TRANSPORTADOR; V = REPRESENTA A VELOCIDADE MÉDIA DE TRANSPORTE, EM KM/H OU NÓS; CH = REPRESENTA O CUSTO HORÁRIO DO VEÍCULO TRANSPORTADOR.
A26: BIBLIORAFIA: MANUAL MANUAL DE CUSTOS DE INFRAESTRUTURA DE TRANSPORTES. VOLUME 09 - MOBILIZAÇÃO E DESMOBILIZAÇÃO. DNIT. 2017. MANUAL MANUAL DE CUSTOS DE INFRAESTRUTURA DE TRANSPORTES. VOLUME 03 - EQUIPAMENTOS. DNIT. 2017.
B68: Responsável Técnico
