Workbook
Name _Hlk121662434: Planilha1!$L$57

Sheet População
B5: População
B6: ANO | D6: Municipal | E6: Rural | F6: TCG Rural | G6: Urbana | H6: TCG Urbana | I6: Municipal | J6: TCG Municipal | L6: Saturação
D7: Hab. | E7: Hab. | F7: % | G7: Hab. | I7: Hab. | J7: %
B8: CENSO | C8: 2022 | D8: 46099 | E8: 2524 | G8: 43575 | I8: =E8+G8 -> 46099 | J8: 0.0086 | L8: 60730
B9: -2 | C9: 2023 | D9: 46410.389 | E9: 2197.8234 | F9: =E9/E8-1 -> -0.12923004 | G9: 44212.566 | H9: =1-(G9/G8)^(1/(C8-C9)) -> 0.014420468 | I9: =E9+G9 -> 46410.389 | J9: =1-(D9/D8)^(1/(C8-C9)) -> 0.0067094737 | L9: 60730
B10: -1 | C10: 2024 | D10: 47001.047 | E10: 2169.852 | F10: =E10/E9-1 -> -0.012726853 | G10: 44831.195 | H10: =1-(G10/G9)^(1/(C9-C10)) -> 0.013799087 | I10: =E10+G10 -> 47001.047 | J10: =1-(D10/D9)^(1/(C9-C10)) -> 0.012566915 | L10: 60730
B11: Base | C11: 2025 | D11: 47574.249 | E11: 2143.3896 | F11: =E11/E10-1 -> -0.0121955 | G11: 45430.859 | H11: =1-(G11/G10)^(1/(C10-C11)) -> 0.01319948 | I11: =E11+G11 -> 47574.249 | J11: =1-(D11/D10)^(1/(C10-C11)) -> 0.012048562 | L11: 60730
B12: 0 | C12: 2026 | D12: 48129.934 | E12: 2118.354 | F12: =E12/E11-1 -> -0.011680385 | G12: 46011.58 | H12: =1-(G12/G11)^(1/(C11-C12)) -> 0.012621196 | I12: =E12+G12 -> 48129.934 | J12: =1-(D12/D11)^(1/(C11-C12)) -> 0.011545529 | L12: 60730
B13: 1 | C13: 2027 | D13: 48668.1 | E13: 2094.6676 | F13: =E13/E12-1 -> -0.011181511 | G13: 46573.432 | H13: =1-(G13/G12)^(1/(C12-C13)) -> 0.012063783 | I13: =E13+G13 -> 48668.1 | J13: =1-(D13/D12)^(1/(C12-C13)) -> 0.011057867 | L13: 60730
B14: =B13+1 -> 2 | C14: 2028 | D14: 49188.792 | E14: 2072.2571 | F14: =E14/E13-1 -> -0.010698834 | G14: 47116.535 | H14: =1-(G14/G13)^(1/(C13-C14)) -> 0.011526791 | I14: =E14+G14 -> 49188.792 | J14: =1-(D14/D13)^(1/(C13-C14)) -> 0.010585581 | L14: 60730
B15: =B14+1 -> 3 | C15: 2029 | D15: 49692.105 | E15: 2051.0532 | F15: =E15/E14-1 -> -0.010232268 | G15: 47641.051 | H15: =1-(G15/G14)^(1/(C14-C15)) -> 0.011009765 | I15: =E15+G15 -> 49692.105 | J15: =1-(D15/D14)^(1/(C14-C15)) -> 0.010128629 | L15: 60730
B16: =B15+1 -> 4 | C16: 2030 | D16: 50178.177 | E16: 2030.9904 | F16: =E16/E15-1 -> -0.0097816835 | G16: 48147.187 | H16: =1-(G16/G15)^(1/(C15-C16)) -> 0.010512249 | I16: =E16+G16 -> 50178.177 | J16: =1-(D16/D15)^(1/(C15-C16)) -> 0.009686929 | L16: 60730
B17: =B16+1 -> 5 | C17: 2031 | D17: 50647.188 | E17: 2012.0069 | F17: =E17/E16-1 -> -0.0093469146 | G17: 48635.181 | H17: =1-(G17/G16)^(1/(C16-C17)) -> 0.010033778 | I17: =E17+G17 -> 50647.188 | J17: =1-(D17/D16)^(1/(C16-C17)) -> 0.0092603588 | L17: 60730
B18: =B17+1 -> 6 | C18: 2032 | D18: 51099.354 | E18: 1994.0442 | F18: =E18/E17-1 -> -0.008927761 | G18: 49105.31 | H18: =1-(G18/G17)^(1/(C17-C18)) -> 0.0095738874 | I18: =E18+G18 -> 51099.354 | J18: =1-(D18/D17)^(1/(C17-C18)) -> 0.0088487614 | L18: 60730
B19: =B18+1 -> 7 | C19: 2033 | D19: 51534.925 | E19: 1977.047 | F19: =E19/E18-1 -> -0.0085239913 | G19: 49557.878 | H19: =1-(G19/G18)^(1/(C18-C19)) -> 0.0091321035 | I19: =E19+G19 -> 51534.925 | J19: =1-(D19/D18)^(1/(C18-C19)) -> 0.008451947 | L19: 60730
B20: =B19+1 -> 8 | C20: 2034 | D20: 51954.179 | E20: 1960.963 | F20: =E20/E19-1 -> -0.0081353464 | G20: 49993.216 | H20: =1-(G20/G19)^(1/(C19-C20)) -> 0.00870795 | I20: =E20+G20 -> 51954.179 | J20: =1-(D20/D19)^(1/(C19-C20)) -> 0.0080696966 | L20: 60730
B21: =B20+1 -> 9 | C21: 2035 | D21: 52357.424 | E21: 1945.7429 | F21: =E21/E20-1 -> -0.0077615425 | G21: 50411.681 | H21: =1-(G21/G20)^(1/(C20-C21)) -> 0.0083009465 | I21: =E21+G21 -> 52357.424 | J21: =1-(D21/D20)^(1/(C20-C21)) -> 0.0077017649 | L21: 60730
B22: =B21+1 -> 10 | C22: 2036 | D22: 52744.988 | E22: 1931.34 | F22: =E22/E21-1 -> -0.0074022743 | G22: 50813.648 | H22: =1-(G22/G21)^(1/(C21-C22)) -> 0.0079106097 | I22: =E22+G22 -> 52744.988 | J22: =1-(D22/D21)^(1/(C21-C22)) -> 0.0073478832 | L22: 60730
B23: =B22+1 -> 11 | C23: 2037 | D23: 53117.22 | E23: 1917.7101 | F23: =E23/E22-1 -> -0.0070572179 | G23: 51199.51 | H23: =1-(G23/G22)^(1/(C22-C23)) -> 0.0075364541 | I23: =E23+G23 -> 53117.22 | J23: =1-(D23/D22)^(1/(C22-C23)) -> 0.0070077626 | L23: 60730
B24: =B23+1 -> 12 | C24: 2038 | D24: 53474.489 | E24: 1904.8115 | F24: =E24/E23-1 -> -0.0067260337 | G24: 51569.677 | H24: =1-(G24/G23)^(1/(C23-C24)) -> 0.0071779933 | I24: =E24+G24 -> 53474.489 | J24: =1-(D24/D23)^(1/(C23-C24)) -> 0.0066810964 | L24: 60730
B25: =B24+1 -> 13 | C25: 2039 | D25: 53817.173 | E25: 1892.6048 | F25: =E25/E24-1 -> -0.0064083686 | G25: 51924.568 | H25: =1-(G25/G24)^(1/(C24-C25)) -> 0.0068347409 | I25: =E25+G25 -> 53817.173 | J25: =1-(D25/D24)^(1/(C24-C25)) -> 0.0063675629 | L25: 60730
... B47: =B46+1 -> 35 | C47: 2061 | D47: 58228.914 | E47: 1748.6196 | F47: =E47/E46-1 -> 0 | G47: 56482.295 | H47: =1-(G47/G46)^(1/(C46-C47)) -> -0.0023495059 | I47: =E47+G47 -> 58230.914 | J47: =1-(D47/D46)^(1/(C46-C47)) -> 0 | L47: 60730

Sheet Imóveis
K2: k Comer | L2: k Ind | M2: k Publico | N2: k Especial | O2: k Vago | P2: Diminuição de Lotes Vagos
K3: 0.078072047 | L3: 0.00784486 | M3: 0.0059620936 | N3: 0.010606251 | O3: 0.0232 | P3: 0.005
B5: Imóveis | S5: Densidade de Morador por Domicilio
B6: =População!B6 -> ANO | D6: Imóveis Saturação Urbana | E6: Residencial Total (Urbano e Rural) | F6: Tx Crescimento | G6: Residencial Rural | H6: Tx Crescimento | I6: Residencial Urbano | J6: Pop/Eco Urb | K6: Residencial Urbano Total - Hab Eco Constante | L6: Comercial | M6: Industrial | N6: Público | O6: Especial | P6: Vago | Q6: Total | S6: =População!B6 -> ANO | U6: Densidade de Morador por Domicilio (Rural e Urbano) | V6: Densidade de Morador por Domicilio Urbano | W6: Densidade de Morador por Domicilio Rural
D7: Unidade | E7: Unidade | F7: Unidade | G7: Unidade | H7: Unidade | I7: Unidade | J7: hab./economia | K7: Unidade | L7: Unidade | M7: Unidade | N7: Unidade | O7: Unidade | P7: Unidade | Q7: Unidade | U7: háb./domicílio | V7: háb./domicílio | W7: háb./domicílio
B8: =População!B8 -> CENSO | C8: =População!C8 -> 2022 | D8: 32697.5 | E8: 16658.833 | F8: 0 | G8: 841 | H8: 0.005 | I8: =E8-G8 -> 15817.833 | J8: =População!G8/I8 -> 2.7548022 | K8: =ROUND(População!G8/$J$8,0) -> 15818 | L8: =ROUND($K8*K$3,0) -> 1235 | M8: =ROUND($K8*L$3,0) -> 124 | N8: =ROUND($K8*M$3,0) -> 94 | O8: =ROUND($K8*N$3,0) -> 168 | P8: =ROUND($I8*$O$3*(1-F8),0) -> 367 | Q8: =L8+I8+M8+N8+O8+P8 -> 17805.833 | S8: =População!B8 -> CENSO | T8: =População!C8 -> 2022 | U8: =(População!D8/E8) -> 2.7672407 | V8: =(População!G8/I8) -> 2.7548022 | W8: =População!E8/Imóveis!G8 -> 3.0011891
B9: =População!B9 -> -2 | C9: =População!C9 -> 2023 | D9: 32697.5 | E9: 17071.129 | F9: =E9/E8-1 -> 0.024749413 | G9: =G8*(1+H9) -> 845.205 | H9: 0.005 | I9: =E9-G9 -> 16225.924 | J9: =População!G9/I9 -> 2.7248104 | K9: =ROUND(População!G9/$J$8,0) -> 16049 | L9: =ROUND($K9*K$3,0) -> 1253 | M9: =ROUND($K9*L$3,0) -> 126 | N9: =ROUND($K9*M$3,0) -> 96 | O9: =ROUND($K9*N$3,0) -> 170 | P9: =ROUND($I9*$O$3*(1-F9),0) -> 367 | Q9: =L9+I9+M9+N9+O9+P9 -> 18237.924 | S9: =População!B9 -> -2 | T9: =População!C9 -> 2023 | U9: =(População!D9/E9) -> 2.7186479 | V9: =(População!G9/I9) -> 2.7248104 | W9: =População!E9/Imóveis!G9 -> 2.6003436
B10: =População!B10 -> -1 | C10: =População!C10 -> 2024 | D10: 32697.5 | E10: 17482.507 | F10: =E10/E9-1 -> 0.024097864 | G10: =G9*(1+H10) -> 849.43103 | H10: 0.005 | I10: =E10-G10 -> 16633.076 | J10: =População!G10/I10 -> 2.695304 | K10: =ROUND(População!G10/$J$8,0) -> 16274 | L10: =ROUND($K10*K$3,0) -> 1271 | M10: =ROUND($K10*L$3,0) -> 128 | N10: =ROUND($K10*M$3,0) -> 97 | O10: =ROUND($K10*N$3,0) -> 173 | P10: =P9*(1-$P$3) -> 365.165 | Q10: =L10+I10+M10+N10+O10+P10 -> 18667.241 | S10: =População!B10 -> -1 | T10: =População!C10 -> 2024 | U10: =(População!D10/E10) -> 2.6884616 | V10: =(População!G10/I10) -> 2.695304 | W10: =População!E10/Imóveis!G10 -> 2.554477
B11: =População!B11 -> Base | C11: =População!C11 -> 2025 | D11: 32697.5 | E11: 17892.447 | F11: =E11/E10-1 -> 0.023448591 | G11: =G10*(1+H11) -> 853.67818 | H11: 0.005 | I11: =E11-G11 -> 17038.769 | J11: =População!G11/I11 -> 2.6663229 | K11: =ROUND(População!G11/$J$8,0) -> 16492 | L11: =ROUND($K11*K$3,0) -> 1288 | M11: =ROUND($K11*L$3,0) -> 129 | N11: =ROUND($K11*M$3,0) -> 98 | O11: =ROUND($K11*N$3,0) -> 175 | P11: =P10*(1-$P$3) -> 363.33918 | Q11: =L11+I11+M11+N11+O11+P11 -> 19092.108 | S11: =População!B11 -> Base | T11: =População!C11 -> 2025 | U11: =(População!D11/E11) -> 2.6589012 | V11: =(População!G11/I11) -> 2.6663229 | W11: =População!E11/Imóveis!G11 -> 2.51077
B12: =População!B12 -> 0 | C12: =População!C12 -> 2026 | D12: 32697.5 | E12: 18300.438 | F12: =E12/E11-1 -> 0.022802405 | G12: =G11*(1+H12) -> 857.94657 | H12: 0.005 | I12: =E12-G12 -> 17442.491 | J12: =População!G12/I12 -> 2.6379019 | K12: =ROUND(População!G12/$J$8,0) -> 16702 | L12: =ROUND($K12*K$3,0) -> 1304 | M12: =ROUND($K12*L$3,0) -> 131 | N12: =ROUND($K12*M$3,0) -> 100 | O12: =ROUND($K12*N$3,0) -> 177 | P12: =P11*(1-$P$3) -> 361.52248 | Q12: =L12+I12+M12+N12+O12+P12 -> 19516.014 | S12: =População!B12 -> 0 | T12: =População!C12 -> 2026 | U12: =(População!D12/E12) -> 2.6299882 | V12: =(População!G12/I12) -> 2.6379019 | W12: =População!E12/Imóveis!G12 -> 2.4690978
B13: =População!B13 -> 1 | C13: =População!C13 -> 2027 | D13: 32697.5 | E13: 18705.977 | F13: =E13/E12-1 -> 0.022160102 | G13: =G12*(1+H13) -> 862.2363 | H13: 0.005 | I13: =E13-G13 -> 17843.741 | J13: =População!G13/I13 -> 2.6100711 | K13: =ROUND(População!G13/$J$8,0) -> 16906 | L13: =ROUND($K13*K$3,0) -> 1320 | M13: =ROUND($K13*L$3,0) -> 133 | N13: =ROUND($K13*M$3,0) -> 101 | O13: =ROUND($K13*N$3,0) -> 179 | P13: =P12*(1-$P$3) -> 359.71487 | Q13: =L13+I13+M13+N13+O13+P13 -> 19936.456 | S13: =População!B13 -> 1 | T13: =População!C13 -> 2027 | U13: =(População!D13/E13) -> 2.6017406 | V13: =(População!G13/I13) -> 2.6100711 | W13: =População!E13/Imóveis!G13 -> 2.4293428
B14: =População!B14 -> 2 | C14: =População!C14 -> 2028 | D14: 32697.5 | E14: 19108.576 | F14: =E14/E13-1 -> 0.021522457 | G14: =G13*(1+H14) -> 866.54749 | H14: 0.005 | I14: =E14-G14 -> 18242.028 | J14: =População!G14/I14 -> 2.5828561 | K14: =ROUND(População!G14/$J$8,0) -> 17103 | L14: =ROUND($K14*K$3,0) -> 1335 | M14: =ROUND($K14*L$3,0) -> 134 | N14: =ROUND($K14*M$3,0) -> 102 | O14: =ROUND($K14*N$3,0) -> 181 | P14: =P13*(1-$P$3) -> 357.91629 | Q14: =L14+I14+M14+N14+O14+P14 -> 20351.945 | S14: =População!B14 -> 2 | T14: =População!C14 -> 2028 | U14: =(População!D14/E14) -> 2.5741736 | V14: =(População!G14/I14) -> 2.5828561 | W14: =População!E14/Imóveis!G14 -> 2.3913947
B15: =População!B15 -> 3 | C15: =População!C15 -> 2029 | D15: 32697.5 | E15: 19507.758 | F15: =E15/E14-1 -> 0.020890223 | G15: =G14*(1+H15) -> 870.88022 | H15: 0.005 | I15: =E15-G15 -> 18636.878 | J15: =População!G15/I15 -> 2.5562785 | K15: =ROUND(População!G15/$J$8,0) -> 17294 | L15: =ROUND($K15*K$3,0) -> 1350 | M15: =ROUND($K15*L$3,0) -> 136 | N15: =ROUND($K15*M$3,0) -> 103 | O15: =ROUND($K15*N$3,0) -> 183 | P15: =P14*(1-$P$3) -> 356.12671 | Q15: =L15+I15+M15+N15+O15+P15 -> 20765.005 | S15: =População!B15 -> 3 | T15: =População!C15 -> 2029 | U15: =(População!D15/E15) -> 2.5472996 | V15: =(População!G15/I15) -> 2.5562785 | W15: =População!E15/Imóveis!G15 -> 2.3551496
B16: =População!B16 -> 4 | C16: =População!C16 -> 2030 | D16: 32697.5 | E16: 19903.066 | F16: =E16/E15-1 -> 0.020264125 | G16: =G15*(1+H16) -> 875.23462 | H16: 0.005 | I16: =E16-G16 -> 19027.831 | J16: =População!G16/I16 -> 2.530356 | K16: =ROUND(População!G16/$J$8,0) -> 17478 | L16: =ROUND($K16*K$3,0) -> 1365 | M16: =ROUND($K16*L$3,0) -> 137 | N16: =ROUND($K16*M$3,0) -> 104 | O16: =ROUND($K16*N$3,0) -> 185 | P16: =P15*(1-$P$3) -> 354.34608 | Q16: =L16+I16+M16+N16+O16+P16 -> 21173.177 | S16: =População!B16 -> 4 | T16: =População!C16 -> 2030 | U16: =(População!D16/E16) -> 2.521128 | V16: =(População!G16/I16) -> 2.530356 | W16: =População!E16/Imóveis!G16 -> 2.3205097
B17: =População!B17 -> 5 | C17: =População!C17 -> 2031 | D17: 32697.5 | E17: 20294.059 | F17: =E17/E16-1 -> 0.019644861 | G17: =G16*(1+H17) -> 879.6108 | H17: 0.005 | I17: =E17-G17 -> 19414.448 | J17: =População!G17/I17 -> 2.5051024 | K17: =ROUND(População!G17/$J$8,0) -> 17655 | L17: =ROUND($K17*K$3,0) -> 1378 | M17: =ROUND($K17*L$3,0) -> 139 | N17: =ROUND($K17*M$3,0) -> 105 | O17: =ROUND($K17*N$3,0) -> 187 | P17: =P16*(1-$P$3) -> 352.57435 | Q17: =L17+I17+M17+N17+O17+P17 -> 21576.022 | S17: =População!B17 -> 5 | T17: =População!C17 -> 2031 | U17: =(População!D17/E17) -> 2.4956658 | V17: =(População!G17/I17) -> 2.5051024 | W17: =População!E17/Imóveis!G17 -> 2.2873832
B18: =População!B18 -> 6 | C18: =População!C18 -> 2032 | D18: 32697.5 | E18: 20680.318 | F18: =E18/E17-1 -> 0.019033096 | G18: =G17*(1+H18) -> 884.00885 | H18: 0.005 | I18: =E18-G18 -> 19796.309 | J18: =População!G18/I18 -> 2.4805286 | K18: =ROUND(População!G18/$J$8,0) -> 17825 | L18: =ROUND($K18*K$3,0) -> 1392 | M18: =ROUND($K18*L$3,0) -> 140 | N18: =ROUND($K18*M$3,0) -> 106 | O18: =ROUND($K18*N$3,0) -> 189 | P18: =P17*(1-$P$3) -> 350.81148 | Q18: =L18+I18+M18+N18+O18+P18 -> 21974.12 | S18: =População!B18 -> 6 | T18: =População!C18 -> 2032 | U18: =(População!D18/E18) -> 2.4709173 | V18: =(População!G18/I18) -> 2.4805286 | W18: =População!E18/Imóveis!G18 -> 2.2556835
B19: =População!B19 -> 7 | C19: =População!C19 -> 2033 | D19: 32697.5 | E19: 21061.445 | F19: =E19/E18-1 -> 0.018429458 | G19: =G18*(1+H19) -> 888.4289 | H19: 0.005 | I19: =E19-G19 -> 20173.016 | J19: =População!G19/I19 -> 2.456642 | K19: =ROUND(População!G19/$J$8,0) -> 17990 | L19: =ROUND($K19*K$3,0) -> 1405 | M19: =ROUND($K19*L$3,0) -> 141 | N19: =ROUND($K19*M$3,0) -> 107 | O19: =ROUND($K19*N$3,0) -> 191 | P19: =P18*(1-$P$3) -> 349.05742 | Q19: =L19+I19+M19+N19+O19+P19 -> 22366.073 | S19: =População!B19 -> 7 | T19: =População!C19 -> 2033 | U19: =(População!D19/E19) -> 2.4468846 | V19: =(População!G19/I19) -> 2.456642 | W19: =População!E19/Imóveis!G19 -> 2.2253295
B20: =População!B20 -> 8 | C20: =População!C20 -> 2034 | D20: 32697.5 | E20: 21437.066 | F20: =E20/E19-1 -> 0.01783454 | G20: =G19*(1+H20) -> 892.87104 | H20: 0.005 | I20: =E20-G20 -> 20544.195 | J20: =População!G20/I20 -> 2.4334473 | K20: =ROUND(População!G20/$J$8,0) -> 18148 | L20: =ROUND($K20*K$3,0) -> 1417 | M20: =ROUND($K20*L$3,0) -> 142 | N20: =ROUND($K20*M$3,0) -> 108 | O20: =ROUND($K20*N$3,0) -> 192 | P20: =P19*(1-$P$3) -> 347.31213 | Q20: =L20+I20+M20+N20+O20+P20 -> 22750.507 | S20: =População!B20 -> 8 | T20: =População!C20 -> 2034 | U20: =(População!D20/E20) -> 2.4235676 | V20: =(População!G20/I20) -> 2.4334473 | W20: =População!E20/Imóveis!G20 -> 2.1962444
B21: =População!B21 -> 9 | C21: =População!C21 -> 2035 | D21: 32697.5 | E21: 21806.832 | F21: =E21/E20-1 -> 0.017248896 | G21: =G20*(1+H21) -> 897.33539 | H21: 0.005 | I21: =E21-G21 -> 20909.496 | J21: =População!G21/I21 -> 2.4109467 | K21: =ROUND(População!G21/$J$8,0) -> 18300 | L21: =ROUND($K21*K$3,0) -> 1429 | M21: =ROUND($K21*L$3,0) -> 144 | N21: =ROUND($K21*M$3,0) -> 109 | O21: =ROUND($K21*N$3,0) -> 194 | P21: =P20*(1-$P$3) -> 345.57557 | Q21: =L21+I21+M21+N21+O21+P21 -> 23131.072 | S21: =População!B21 -> 9 | T21: =População!C21 -> 2035 | U21: =(População!D21/E21) -> 2.4009643 | V21: =(População!G21/I21) -> 2.4109467 | W21: =População!E21/Imóveis!G21 -> 2.1683564
... B45: =População!B45 -> 33 | C45: =População!C45 -> 2059 | D45: 32697.5 | E45: 28465.778 | F45: =E45/E44-1 -> 0.0067023014 | G45: =G44*(1+H45) -> 1011.4404 | H45: 0.005 | I45: =E45-G45 -> 27454.337 | J45: =População!G45/I45 -> 2.0572449 | K45: =ROUND(População!G45/$J$8,0) -> 20502 | L45: =ROUND($K45*K$3,0) -> 1601 | M45: =ROUND($K45*L$3,0) -> 161 | N45: =ROUND($K45*M$3,0) -> 122 | O45: =ROUND($K45*N$3,0) -> 217 | P45: =P44*(1-$P$3) -> 306.40579 | Q45: =L45+I45+M45+N45+O45+P45 -> 29861.743 | S45: =População!B45 -> 33 | T45: =População!C45 -> 2059 | U45: =(População!D45/E45) -> 2.0455761 | V45: =(População!G45/I45) -> 2.0572449 | W45: =População!E45/Imóveis!G45 -> 1.728841
B46: =População!B46 -> 34 | C46: =População!C46 -> 2060 | D46: 32697.5 | E46: 28634 | F46: =E46/E45-1 -> 0.0059096395 | G46: 1016 | H46: 0.005 | I46: =E46-G46 -> 27618 | J46: =População!G46/I46 -> 2.0499312 | K46: =ROUND(População!G46/$J$8,0) -> 20551 | L46: =ROUND($K46*K$3,0) -> 1604 | M46: =ROUND($K46*L$3,0) -> 161 | N46: =ROUND($K46*M$3,0) -> 123 | O46: =ROUND($K46*N$3,0) -> 218 | P46: =P45*(1-$P$3) -> 304.87376 | Q46: =L46+I46+M46+N46+O46+P46 -> 30028.874 | S46: =População!B46 -> 34 | T46: =População!C46 -> 2060 | U46: =(População!D46/E46) -> 2.0335585 | V46: =(População!G46/I46) -> 2.0499312 | W46: =População!E46/Imóveis!G46 -> 1.7210822
B47: =População!B47 -> 35 | C47: =População!C47 -> 2061 | D47: 32697.5 | E47: 28839.9 | F47: =E47/E46-1 -> 0.0071907656 | G47: 1021 | H47: 0.005 | I47: =E47-G47 -> 27818.9 | J47: =População!G47/I47 -> 2.0303568 | K47: =ROUND(População!G47/$J$8,0) -> 20503 | L47: =ROUND($K47*K$3,0) -> 1601 | M47: =ROUND($K47*L$3,0) -> 161 | N47: =ROUND($K47*M$3,0) -> 122 | O47: =ROUND($K47*N$3,0) -> 217 | P47: =P46*(1-$P$3) -> 303.34939 | Q47: =L47+I47+M47+N47+O47+P47 -> 30223.25 | S47: =População!B47 -> 35 | T47: =População!C47 -> 2061 | U47: =(População!D47/E47) -> 2.0190401 | V47: =(População!G47/I47) -> 2.0303568 | W47: =População!E47/Imóveis!G47 -> 1.7126538

Sheet Atendimento 
B5: ATENDIMENTO
B6: =População!B6 -> ANO | D6: Índice de Atendimento Total de Água | E6: Densidade de Economias por Ligação Água | F6: Índice de Atendimento Total de Esgoto | G6: Densidade de Economias por Ligação Esgoto | H6: População Atendida Água | I6: população Atendida Esgoto
D7: % | E7: un. | F7: % | G7: un. | H7: hab. | I7: hab.
B8: =População!B8 -> CENSO | C8: =População!C8 -> 2022 | D8: 0.964 | E8: 1.3351 | F8: 0 | G8: =IF(F8=0,0,E8) -> 0 | H8: =ROUND(População!G8*D8,0) -> 42006 | I8: =ROUND(População!G8*F8,0) -> 0
B9: =População!B9 -> -2 | C9: =População!C9 -> 2023 | D9: =D8 -> 0.964 | E9: =E8*(1+$E$3*Imóveis!F9) -> 1.3351 | F9: 0 | G9: =IF(F9=0,0,E9) -> 0 | H9: =ROUND(População!G9*D9,0) -> 42621 | I9: =ROUND(População!G9*F9,0) -> 0
B10: =População!B10 -> -1 | C10: =População!C10 -> 2024 | D10: 0.964 | E10: =E9 -> 1.3351 | F10: 0 | G10: =IF(F10=0,0,E10) -> 0 | H10: =ROUND(População!G10*D10,0) -> 43217 | I10: =ROUND(População!G10*F10,0) -> 0
B11: =População!B11 -> Base | C11: =População!C11 -> 2025 | D11: 0.964 | E11: =E10 -> 1.3351 | F11: 0 | G11: =IF(F11=0,0,E11) -> 0 | H11: =ROUND(População!G11*D11,0) -> 43795 | I11: =ROUND(População!G11*F11,0) -> 0
B12: =População!B12 -> 0 | C12: =População!C12 -> 2026 | D12: 0.964 | E12: =E11 -> 1.3351 | F12: 0 | G12: =IF(F12=0,0,E12) -> 0 | H12: =ROUND(População!G12*D12,0) -> 44355 | I12: =ROUND(População!G12*F12,0) -> 0
B13: =População!B13 -> 1 | C13: =População!C13 -> 2027 | D13: 0.964 | E13: =E12 -> 1.3351 | F13: 0 | G13: =IF(F13=0,0,E13) -> 0 | H13: =ROUND(População!G13*D13,0) -> 44897 | I13: =ROUND(População!G13*F13,0) -> 0
B14: =População!B14 -> 2 | C14: =População!C14 -> 2028 | D14: 0.994 | E14: =E13 -> 1.3351 | F14: 0.2 | G14: =IF(F14=0,0,E14) -> 1.3351 | H14: =ROUND(População!G14*D14,0) -> 46834 | I14: =ROUND(População!G14*F14,0) -> 9423
B15: =População!B15 -> 3 | C15: =População!C15 -> 2029 | D15: 1 | E15: =E14 -> 1.3351 | F15: 0.4 | G15: =IF(F15=0,0,E15) -> 1.3351 | H15: =ROUND(População!G15*D15,0) -> 47641 | I15: =ROUND(População!G15*F15,0) -> 19056
B16: =População!B16 -> 4 | C16: =População!C16 -> 2030 | D16: =D15 -> 1 | E16: =E15 -> 1.3351 | F16: 0.6 | G16: =IF(F16=0,0,E16) -> 1.3351 | H16: =ROUND(População!G16*D16,0) -> 48147 | I16: =ROUND(População!G16*F16,0) -> 28888
B17: =População!B17 -> 5 | C17: =População!C17 -> 2031 | D17: =D16 -> 1 | E17: =E16 -> 1.3351 | F17: 0.8 | G17: =IF(F17=0,0,E17) -> 1.3351 | H17: =ROUND(População!G17*D17,0) -> 48635 | I17: =ROUND(População!G17*F17,0) -> 38908
B18: =População!B18 -> 6 | C18: =População!C18 -> 2032 | D18: =D17 -> 1 | E18: =E17 -> 1.3351 | F18: 0.85 | G18: =IF(F18=0,0,E18) -> 1.3351 | H18: =ROUND(População!G18*D18,0) -> 49105 | I18: =ROUND(População!G18*F18,0) -> 41740
B19: =População!B19 -> 7 | C19: =População!C19 -> 2033 | D19: =D18 -> 1 | E19: =E18 -> 1.3351 | F19: 0.9 | G19: =IF(F19=0,0,E19) -> 1.3351 | H19: =ROUND(População!G19*D19,0) -> 49558 | I19: =ROUND(População!G19*F19,0) -> 44602
B20: =População!B20 -> 8 | C20: =População!C20 -> 2034 | D20: =D19 -> 1 | E20: =E19 -> 1.3351 | F20: 0.92 | G20: =IF(F20=0,0,E20) -> 1.3351 | H20: =ROUND(População!G20*D20,0) -> 49993 | I20: =ROUND(População!G20*F20,0) -> 45994
B21: =População!B21 -> 9 | C21: =População!C21 -> 2035 | D21: =D20 -> 1 | E21: =E20 -> 1.3351 | F21: 0.94 | G21: =IF(F21=0,0,E21) -> 1.3351 | H21: =ROUND(População!G21*D21,0) -> 50412 | I21: =ROUND(População!G21*F21,0) -> 47387
B22: =População!B22 -> 10 | C22: =População!C22 -> 2036 | D22: =D21 -> 1 | E22: =E21 -> 1.3351 | F22: 0.96 | G22: =IF(F22=0,0,E22) -> 1.3351 | H22: =ROUND(População!G22*D22,0) -> 50814 | I22: =ROUND(População!G22*F22,0) -> 48781
B23: =População!B23 -> 11 | C23: =População!C23 -> 2037 | D23: =D22 -> 1 | E23: =E22 -> 1.3351 | F23: 0.98 | G23: =IF(F23=0,0,E23) -> 1.3351 | H23: =ROUND(População!G23*D23,0) -> 51200 | I23: =ROUND(População!G23*F23,0) -> 50176
B24: =População!B24 -> 12 | C24: =População!C24 -> 2038 | D24: =D23 -> 1 | E24: =E23 -> 1.3351 | F24: 1 | G24: =IF(F24=0,0,E24) -> 1.3351 | H24: =ROUND(População!G24*D24,0) -> 51570 | I24: =ROUND(População!G24*F24,0) -> 51570
B25: =População!B25 -> 13 | C25: =População!C25 -> 2039 | D25: =D24 -> 1 | E25: =E24 -> 1.3351 | F25: 1 | G25: =IF(F25=0,0,E25) -> 1.3351 | H25: =ROUND(População!G25*D25,0) -> 51925 | I25: =ROUND(População!G25*F25,0) -> 51925
B26: =População!B26 -> 14 | C26: =População!C26 -> 2040 | D26: =D25 -> 1 | E26: =E25 -> 1.3351 | F26: 1 | G26: =IF(F26=0,0,E26) -> 1.3351 | H26: =ROUND(População!G26*D26,0) -> 52265 | I26: =ROUND(População!G26*F26,0) -> 52265
B27: =População!B27 -> 15 | C27: =População!C27 -> 2041 | D27: =D26 -> 1 | E27: =E26 -> 1.3351 | F27: 1 | G27: =IF(F27=0,0,E27) -> 1.3351 | H27: =ROUND(População!G27*D27,0) -> 52590 | I27: =ROUND(População!G27*F27,0) -> 52590
... B47: =População!B47 -> 35 | C47: =População!C47 -> 2061 | D47: =D46 -> 1 | E47: =E46 -> 1.3351 | F47: 1 | G47: =IF(F47=0,0,E47) -> 1.3351 | H47: =ROUND(População!G47*D47,0) -> 56482 | I47: =ROUND(População!G47*F47,0) -> 56482

Sheet Economais e Ligações Água
B5: ECONOMIAS E LIGAÇÕES ÁGUA
B6: =População!B6 -> ANO | D6: Economia Residencial | E6: Ligação Residencial | F6: Eco/Lig Residencial | G6: Economia Comercial | H6: Eco/Lig Comercial | I6: Ligação Comercial | J6: Economia Industrial | K6: Eco/Lig industial | L6: Ligação Industrial | M6: Economia Pública | N6: Eco/Lig Pública | O6: Ligação Pública | P6: Economia Especial | Q6: Eco/Lig Especial | R6: Ligação Especial | S6: Economias Ativas Totais | T6: Ligações Ativas Totais | U6: Diminuição de Lotes vago sobre móveis | V6: Diminuição de Lote vago Sobreligações total | W6: Economias Totais de Água (Com e Sem Atendimento) | X6: Ligações Totais de Água (Com e Sem Atendimento)
D7: un. | E7: un. | F7: un. | G7: un. | H7: un. | I7: un. | J7: un. | K7: un. | L7: un. | M7: un. | N7: un. | O7: un. | P7: un. | Q7: un. | R7: un. | S7: un. | T7: un. | U7: un. | V7: un. | W7: un. | X7: un.
B8: =População!B8 -> CENSO | C8: =População!C8 -> 2022 | D8: =Imóveis!I8*'Atendimento '!D8 -> 15248.391 | E8: =D8/'Atendimento '!$E8 -> 11421.16 | F8: =D8/E8 -> 1.3351 | G8: =Imóveis!L8*'Atendimento '!D8 -> 1190.54 | H8: 1.2918 | I8: =G8/H8 -> 921.61325 | J8: =Imóveis!M8*'Atendimento '!D8 -> 119.536 | K8: 1.0246 | L8: =J8/K8 -> 116.66602 | M8: =Imóveis!N8*'Atendimento '!D8 -> 90.616 | N8: 1.0106 | O8: =M8/N8 -> 89.665545 | P8: =Imóveis!O8*'Atendimento '!D8 -> 161.952 | Q8: 1 | R8: =P8/Q8 -> 161.952 | S8: =D8+G8+J8+M8+P8 -> 16811.035 | T8: =E8+I8+L8+O8+R8 -> 12711.057 | U8: =Imóveis!P8 -> 367 | V8: =Imóveis!P8 -> 367 | W8: =S8/'Atendimento '!D8 -> 17438.833 | X8: =T8/'Atendimento '!D8 -> 13185.743
B9: =População!B9 -> -2 | C9: =População!C9 -> 2023 | D9: =Imóveis!I9*'Atendimento '!D9 -> 15641.791 | E9: =D9/'Atendimento '!$E9 -> 11715.82 | F9: =D9/E9 -> 1.3351 | G9: =Imóveis!L9*'Atendimento '!D9 -> 1207.892 | H9: =H8 -> 1.2918 | I9: =G9/H9 -> 935.04567 | J9: =Imóveis!M9*'Atendimento '!D9 -> 121.464 | K9: =K8 -> 1.0246 | L9: =J9/K9 -> 118.54773 | M9: =Imóveis!N9*'Atendimento '!D9 -> 92.544 | N9: =N8 -> 1.0106 | O9: =M9/N9 -> 91.573323 | P9: =Imóveis!O9*'Atendimento '!D9 -> 163.88 | Q9: 1 | R9: =P9/Q9 -> 163.88 | S9: =D9+G9+J9+M9+P9 -> 17227.571 | T9: =E9+I9+L9+O9+R9 -> 13024.866 | U9: =Imóveis!P9 -> 367 | V9: =Imóveis!P9 -> 367 | W9: =S9/'Atendimento '!D9 -> 17870.924 | X9: =T9/'Atendimento '!D9 -> 13511.272
B10: =População!B10 -> -1 | C10: =População!C10 -> 2024 | D10: =Imóveis!I10*'Atendimento '!D10 -> 16034.285 | E10: =D10/'Atendimento '!$E10 -> 12009.801 | F10: =D10/E10 -> 1.3351 | G10: =Imóveis!L10*'Atendimento '!D10 -> 1225.244 | H10: =H9 -> 1.2918 | I10: =G10/H10 -> 948.47809 | J10: =Imóveis!M10*'Atendimento '!D10 -> 123.392 | K10: =K9 -> 1.0246 | L10: =J10/K10 -> 120.42944 | M10: =Imóveis!N10*'Atendimento '!D10 -> 93.508 | N10: =N9 -> 1.0106 | O10: =M10/N10 -> 92.527212 | P10: =Imóveis!O10*'Atendimento '!D10 -> 166.772 | Q10: 1 | R10: =P10/Q10 -> 166.772 | S10: =D10+G10+J10+M10+P10 -> 17643.201 | T10: =E10+I10+L10+O10+R10 -> 13338.007 | U10: =Imóveis!P10 -> 365.165 | V10: =Imóveis!P10 -> 365.165 | W10: =S10/'Atendimento '!D10 -> 18302.076 | X10: =T10/'Atendimento '!D10 -> 13836.107
B11: =População!B11 -> Base | C11: =População!C11 -> 2025 | D11: =Imóveis!I11*'Atendimento '!D11 -> 16425.373 | E11: =D11/'Atendimento '!$E11 -> 12302.729 | F11: =D11/E11 -> 1.3351 | G11: =Imóveis!L11*'Atendimento '!D11 -> 1241.632 | H11: =H10 -> 1.2918 | I11: =G11/H11 -> 961.16427 | J11: =Imóveis!M11*'Atendimento '!D11 -> 124.356 | K11: =K10 -> 1.0246 | L11: =J11/K11 -> 121.37029 | M11: =Imóveis!N11*'Atendimento '!D11 -> 94.472 | N11: =N10 -> 1.0106 | O11: =M11/N11 -> 93.4811 | P11: =Imóveis!O11*'Atendimento '!D11 -> 168.7 | Q11: 1 | R11: =P11/Q11 -> 168.7 | S11: =D11+G11+J11+M11+P11 -> 18054.533 | T11: =E11+I11+L11+O11+R11 -> 13647.444 | U11: =Imóveis!P11 -> 363.33918 | V11: =Imóveis!P11 -> 363.33918 | W11: =S11/'Atendimento '!D11 -> 18728.769 | X11: =T11/'Atendimento '!D11 -> 14157.1
B12: =População!B12 -> 0 | C12: =População!C12 -> 2026 | D12: =Imóveis!I12*'Atendimento '!D12 -> 16814.561 | E12: =D12/'Atendimento '!$E12 -> 12594.234 | F12: =D12/E12 -> 1.3351 | G12: =Imóveis!L12*'Atendimento '!D12 -> 1257.056 | H12: =H11 -> 1.2918 | I12: =G12/H12 -> 973.1042 | J12: =Imóveis!M12*'Atendimento '!D12 -> 126.284 | K12: =K11 -> 1.0246 | L12: =J12/K12 -> 123.252 | M12: =Imóveis!N12*'Atendimento '!D12 -> 96.4 | N12: =N11 -> 1.0106 | O12: =M12/N12 -> 95.388878 | P12: =Imóveis!O12*'Atendimento '!D12 -> 170.628 | Q12: 1 | R12: =P12/Q12 -> 170.628 | S12: =D12+G12+J12+M12+P12 -> 18464.929 | T12: =E12+I12+L12+O12+R12 -> 13956.607 | U12: =Imóveis!P12 -> 361.52248 | V12: =Imóveis!P12 -> 361.52248 | W12: =S12/'Atendimento '!D12 -> 19154.491 | X12: =T12/'Atendimento '!D12 -> 14477.808
B13: =População!B13 -> 1 | C13: =População!C13 -> 2027 | D13: =Imóveis!I13*'Atendimento '!D13 -> 17201.366 | E13: =D13/'Atendimento '!$E13 -> 12883.953 | F13: =D13/E13 -> 1.3351 | G13: =Imóveis!L13*'Atendimento '!D13 -> 1272.48 | H13: =H12 -> 1.2918 | I13: =G13/H13 -> 985.04412 | J13: =Imóveis!M13*'Atendimento '!D13 -> 128.212 | K13: =K12 -> 1.0246 | L13: =J13/K13 -> 125.13371 | M13: =Imóveis!N13*'Atendimento '!D13 -> 97.364 | N13: =N12 -> 1.0106 | O13: =M13/N13 -> 96.342767 | P13: =Imóveis!O13*'Atendimento '!D13 -> 172.556 | Q13: 1 | R13: =P13/Q13 -> 172.556 | S13: =D13+G13+J13+M13+P13 -> 18871.978 | T13: =E13+I13+L13+O13+R13 -> 14263.03 | U13: =Imóveis!P13 -> 359.71487 | V13: =Imóveis!P13 -> 359.71487 | W13: =S13/'Atendimento '!D13 -> 19576.741 | X13: =T13/'Atendimento '!D13 -> 14795.674
B14: =População!B14 -> 2 | C14: =População!C14 -> 2028 | D14: =Imóveis!I14*'Atendimento '!D14 -> 18132.576 | E14: =D14/'Atendimento '!$E14 -> 13581.437 | F14: =D14/E14 -> 1.3351 | G14: =Imóveis!L14*'Atendimento '!D14 -> 1326.99 | H14: =H13 -> 1.2918 | I14: =G14/H14 -> 1027.2411 | J14: =Imóveis!M14*'Atendimento '!D14 -> 133.196 | K14: =K13 -> 1.0246 | L14: =J14/K14 -> 129.99805 | M14: =Imóveis!N14*'Atendimento '!D14 -> 101.388 | N14: =N13 -> 1.0106 | O14: =M14/N14 -> 100.32456 | P14: =Imóveis!O14*'Atendimento '!D14 -> 179.914 | Q14: 1 | R14: =P14/Q14 -> 179.914 | S14: =D14+G14+J14+M14+P14 -> 19874.064 | T14: =E14+I14+L14+O14+R14 -> 15018.914 | U14: =Imóveis!P14 -> 357.91629 | V14: =Imóveis!P14 -> 357.91629 | W14: =S14/'Atendimento '!D14 -> 19994.028 | X14: =T14/'Atendimento '!D14 -> 15109.572
B15: =População!B15 -> 3 | C15: =População!C15 -> 2029 | D15: =Imóveis!I15*'Atendimento '!D15 -> 18636.878 | E15: =D15/'Atendimento '!$E15 -> 13959.163 | F15: =D15/E15 -> 1.3351 | G15: =Imóveis!L15*'Atendimento '!D15 -> 1350 | H15: =H14 -> 1.2918 | I15: =G15/H15 -> 1045.0534 | J15: =Imóveis!M15*'Atendimento '!D15 -> 136 | K15: =K14 -> 1.0246 | L15: =J15/K15 -> 132.73473 | M15: =Imóveis!N15*'Atendimento '!D15 -> 103 | N15: =N14 -> 1.0106 | O15: =M15/N15 -> 101.91965 | P15: =Imóveis!O15*'Atendimento '!D15 -> 183 | Q15: 1 | R15: =P15/Q15 -> 183 | S15: =D15+G15+J15+M15+P15 -> 20408.878 | T15: =E15+I15+L15+O15+R15 -> 15421.87 | U15: =Imóveis!P15 -> 356.12671 | V15: =Imóveis!P15 -> 356.12671 | W15: =S15/'Atendimento '!D15 -> 20408.878 | X15: =T15/'Atendimento '!D15 -> 15421.87
B16: =População!B16 -> 4 | C16: =População!C16 -> 2030 | D16: =Imóveis!I16*'Atendimento '!D16 -> 19027.831 | E16: =D16/'Atendimento '!$E16 -> 14251.99 | F16: =D16/E16 -> 1.3351 | G16: =Imóveis!L16*'Atendimento '!D16 -> 1365 | H16: =H15 -> 1.2918 | I16: =G16/H16 -> 1056.6651 | J16: =Imóveis!M16*'Atendimento '!D16 -> 137 | K16: =K15 -> 1.0246 | L16: =J16/K16 -> 133.71072 | M16: =Imóveis!N16*'Atendimento '!D16 -> 104 | N16: =N15 -> 1.0106 | O16: =M16/N16 -> 102.90916 | P16: =Imóveis!O16*'Atendimento '!D16 -> 185 | Q16: 1 | R16: =P16/Q16 -> 185 | S16: =D16+G16+J16+M16+P16 -> 20818.831 | T16: =E16+I16+L16+O16+R16 -> 15730.275 | U16: =Imóveis!P16 -> 354.34608 | V16: =Imóveis!P16 -> 354.34608 | W16: =S16/'Atendimento '!D16 -> 20818.831 | X16: =T16/'Atendimento '!D16 -> 15730.275
B17: =População!B17 -> 5 | C17: =População!C17 -> 2031 | D17: =Imóveis!I17*'Atendimento '!D17 -> 19414.448 | E17: =D17/'Atendimento '!$E17 -> 14541.568 | F17: =D17/E17 -> 1.3351 | G17: =Imóveis!L17*'Atendimento '!D17 -> 1378 | H17: =H16 -> 1.2918 | I17: =G17/H17 -> 1066.7286 | J17: =Imóveis!M17*'Atendimento '!D17 -> 139 | K17: =K16 -> 1.0246 | L17: =J17/K17 -> 135.6627 | M17: =Imóveis!N17*'Atendimento '!D17 -> 105 | N17: =N16 -> 1.0106 | O17: =M17/N17 -> 103.89867 | P17: =Imóveis!O17*'Atendimento '!D17 -> 187 | Q17: 1 | R17: =P17/Q17 -> 187 | S17: =D17+G17+J17+M17+P17 -> 21223.448 | T17: =E17+I17+L17+O17+R17 -> 16034.858 | U17: =Imóveis!P17 -> 352.57435 | V17: =Imóveis!P17 -> 352.57435 | W17: =S17/'Atendimento '!D17 -> 21223.448 | X17: =T17/'Atendimento '!D17 -> 16034.858
B18: =População!B18 -> 6 | C18: =População!C18 -> 2032 | D18: =Imóveis!I18*'Atendimento '!D18 -> 19796.309 | E18: =D18/'Atendimento '!$E18 -> 14827.585 | F18: =D18/E18 -> 1.3351 | G18: =Imóveis!L18*'Atendimento '!D18 -> 1392 | H18: =H17 -> 1.2918 | I18: =G18/H18 -> 1077.5662 | J18: =Imóveis!M18*'Atendimento '!D18 -> 140 | K18: =K17 -> 1.0246 | L18: =J18/K18 -> 136.63869 | M18: =Imóveis!N18*'Atendimento '!D18 -> 106 | N18: =N17 -> 1.0106 | O18: =M18/N18 -> 104.88819 | P18: =Imóveis!O18*'Atendimento '!D18 -> 189 | Q18: 1 | R18: =P18/Q18 -> 189 | S18: =D18+G18+J18+M18+P18 -> 21623.309 | T18: =E18+I18+L18+O18+R18 -> 16335.678 | U18: =Imóveis!P18 -> 350.81148 | V18: =Imóveis!P18 -> 350.81148 | W18: =S18/'Atendimento '!D18 -> 21623.309 | X18: =T18/'Atendimento '!D18 -> 16335.678
B19: =População!B19 -> 7 | C19: =População!C19 -> 2033 | D19: =Imóveis!I19*'Atendimento '!D19 -> 20173.016 | E19: =D19/'Atendimento '!$E19 -> 15109.741 | F19: =D19/E19 -> 1.3351 | G19: =Imóveis!L19*'Atendimento '!D19 -> 1405 | H19: =H18 -> 1.2918 | I19: =G19/H19 -> 1087.6297 | J19: =Imóveis!M19*'Atendimento '!D19 -> 141 | K19: =K18 -> 1.0246 | L19: =J19/K19 -> 137.61468 | M19: =Imóveis!N19*'Atendimento '!D19 -> 107 | N19: =N18 -> 1.0106 | O19: =M19/N19 -> 105.8777 | P19: =Imóveis!O19*'Atendimento '!D19 -> 191 | Q19: 1 | R19: =P19/Q19 -> 191 | S19: =D19+G19+J19+M19+P19 -> 22017.016 | T19: =E19+I19+L19+O19+R19 -> 16631.863 | U19: =Imóveis!P19 -> 349.05742 | V19: =Imóveis!P19 -> 349.05742 | W19: =S19/'Atendimento '!D19 -> 22017.016 | X19: =T19/'Atendimento '!D19 -> 16631.863
B20: =População!B20 -> 8 | C20: =População!C20 -> 2034 | D20: =Imóveis!I20*'Atendimento '!D20 -> 20544.195 | E20: =D20/'Atendimento '!$E20 -> 15387.757 | F20: =D20/E20 -> 1.3351 | G20: =Imóveis!L20*'Atendimento '!D20 -> 1417 | H20: =H19 -> 1.2918 | I20: =G20/H20 -> 1096.919 | J20: =Imóveis!M20*'Atendimento '!D20 -> 142 | K20: =K19 -> 1.0246 | L20: =J20/K20 -> 138.59067 | M20: =Imóveis!N20*'Atendimento '!D20 -> 108 | N20: =N19 -> 1.0106 | O20: =M20/N20 -> 106.86721 | P20: =Imóveis!O20*'Atendimento '!D20 -> 192 | Q20: 1 | R20: =P20/Q20 -> 192 | S20: =D20+G20+J20+M20+P20 -> 22403.195 | T20: =E20+I20+L20+O20+R20 -> 16922.134 | U20: =Imóveis!P20 -> 347.31213 | V20: =Imóveis!P20 -> 347.31213 | W20: =S20/'Atendimento '!D20 -> 22403.195 | X20: =T20/'Atendimento '!D20 -> 16922.134
... B47: =População!B47 -> 35 | C47: =População!C47 -> 2061 | D47: =Imóveis!I47*'Atendimento '!D47 -> 27818.9 | E47: =D47/'Atendimento '!$E47 -> 20836.567 | F47: =D47/E47 -> 1.3351 | G47: =Imóveis!L47*'Atendimento '!D47 -> 1601 | H47: =H46 -> 1.2918 | I47: =G47/H47 -> 1239.3559 | J47: =Imóveis!M47*'Atendimento '!D47 -> 161 | K47: =K46 -> 1.0246 | L47: =J47/K47 -> 157.13449 | M47: =Imóveis!N47*'Atendimento '!D47 -> 122 | N47: =N46 -> 1.0106 | O47: =M47/N47 -> 120.72036 | P47: =Imóveis!O47*'Atendimento '!D47 -> 217 | Q47: 3 | R47: =P47/Q47 -> 72.333333 | S47: =D47+G47+J47+M47+P47 -> 29919.9 | T47: =E47+I47+L47+O47+R47 -> 22426.111 | U47: =Imóveis!P47 -> 303.34939 | V47: =Imóveis!P47 -> 303.34939 | W47: =S47/'Atendimento '!D47 -> 29919.9 | X47: =T47/'Atendimento '!D47 -> 22426.111

Sheet Economais e Ligações Esgoto
B5: ECONOMIAS E LIGAÇÕES DE ESGOTO
B6: =População!B6 -> ANO | D6: Economia Residencial | E6: Ligação Residencial | F6: Economia Comercial | G6: Eco/Lig Comercial | H6: Ligação Comercial | I6: Economia Industrial | J6: Eco/Lig Industrial | K6: Ligação Industrial | L6: Economia Pública | M6: Eco/Lig Pública | N6: Ligação Pública | O6: Economia Especial | P6: Eco/Lig Especial | Q6: Ligação Especial | R6: Economias Ativas Totais | S6: Ligações Ativas Totais | T6: Economias Totais de Esgoto (Com e Sem Atendimento) | U6: Ligações Totais de Esgoto (Com e Sem Atendimento)
D7: un. | E7: un. | F7: un. | G7: un. | H7: un. | I7: un. | J7: un. | K7: un. | L7: un. | M7: un. | N7: un. | O7: un. | P7: un. | Q7: un. | R7: un. | S7: un. | T7: un. | U7: un.
B8: =População!B8 -> CENSO | C8: =População!C8 -> 2022 | D8: =Imóveis!$I8*'Atendimento '!$F8 -> 0 | E8: =Imóveis!$I8*'Atendimento '!$F8 -> 0 | F8: =Imóveis!L8*'Atendimento '!F8 -> 0 | G8: ='Economais e Ligações Água'!H8 -> 1.2918 | H8: =F8/G8 -> 0 | I8: =Imóveis!M8*'Atendimento '!F8 -> 0 | J8: ='Economais e Ligações Água'!K8 -> 1.0246 | K8: =I8/J8 -> 0 | L8: =Imóveis!N8*'Atendimento '!F8 -> 0 | M8: ='Economais e Ligações Água'!N8 -> 1.0106 | N8: =L8/M8 -> 0 | O8: =Imóveis!O8*'Atendimento '!F8 -> 0 | P8: ='Economais e Ligações Água'!Q8 -> 1 | Q8: =O8/P8 -> 0 | R8: =D8+F8+I8+L8+O8 -> 0 | S8: =E8+H8+K8+N8+Q8 -> 0 | T8: =IFERROR(R8/'Atendimento '!F8,0) -> 0 | U8: =IFERROR(S8/'Atendimento '!F8,0) -> 0
B9: =População!B9 -> -2 | C9: =População!C9 -> 2023 | D9: =Imóveis!$I9*'Atendimento '!$F9 -> 0 | E9: =Imóveis!$I9*'Atendimento '!$F9 -> 0 | F9: =Imóveis!L9*'Atendimento '!F9 -> 0 | G9: ='Economais e Ligações Água'!H9 -> 1.2918 | H9: =F9/G9 -> 0 | I9: =Imóveis!M9*'Atendimento '!F9 -> 0 | J9: ='Economais e Ligações Água'!K9 -> 1.0246 | K9: =I9/J9 -> 0 | L9: =Imóveis!N9*'Atendimento '!F9 -> 0 | M9: ='Economais e Ligações Água'!N9 -> 1.0106 | N9: =L9/M9 -> 0 | O9: =Imóveis!O9*'Atendimento '!F9 -> 0 | P9: ='Economais e Ligações Água'!Q9 -> 1 | Q9: =O9/P9 -> 0 | R9: =D9+F9+I9+L9+O9 -> 0 | S9: =E9+H9+K9+N9+Q9 -> 0 | T9: =IFERROR(R9/'Atendimento '!F9,0) -> 0 | U9: =IFERROR(S9/'Atendimento '!F9,0) -> 0
B10: =População!B10 -> -1 | C10: =População!C10 -> 2024 | D10: =Imóveis!$I10*'Atendimento '!$F10 -> 0 | E10: =Imóveis!$I10*'Atendimento '!$F10 -> 0 | F10: =Imóveis!L10*'Atendimento '!F10 -> 0 | G10: ='Economais e Ligações Água'!H10 -> 1.2918 | H10: =F10/G10 -> 0 | I10: =Imóveis!M10*'Atendimento '!F10 -> 0 | J10: ='Economais e Ligações Água'!K10 -> 1.0246 | K10: =I10/J10 -> 0 | L10: =Imóveis!N10*'Atendimento '!F10 -> 0 | M10: ='Economais e Ligações Água'!N10 -> 1.0106 | N10: =L10/M10 -> 0 | O10: =Imóveis!O10*'Atendimento '!F10 -> 0 | P10: ='Economais e Ligações Água'!Q10 -> 1 | Q10: =O10/P10 -> 0 | R10: =D10+F10+I10+L10+O10 -> 0 | S10: =E10+H10+K10+N10+Q10 -> 0 | T10: =IFERROR(R10/'Atendimento '!F10,0) -> 0 | U10: =IFERROR(S10/'Atendimento '!F10,0) -> 0
B11: =População!B11 -> Base | C11: =População!C11 -> 2025 | D11: =Imóveis!$I11*'Atendimento '!$F11 -> 0 | E11: =Imóveis!$I11*'Atendimento '!$F11 -> 0 | F11: =Imóveis!L11*'Atendimento '!F11 -> 0 | G11: ='Economais e Ligações Água'!H11 -> 1.2918 | H11: =F11/G11 -> 0 | I11: =Imóveis!M11*'Atendimento '!F11 -> 0 | J11: ='Economais e Ligações Água'!K11 -> 1.0246 | K11: =I11/J11 -> 0 | L11: =Imóveis!N11*'Atendimento '!F11 -> 0 | M11: ='Economais e Ligações Água'!N11 -> 1.0106 | N11: =L11/M11 -> 0 | O11: =Imóveis!O11*'Atendimento '!F11 -> 0 | P11: ='Economais e Ligações Água'!Q11 -> 1 | Q11: =O11/P11 -> 0 | R11: =D11+F11+I11+L11+O11 -> 0 | S11: =E11+H11+K11+N11+Q11 -> 0 | T11: =IFERROR(R11/'Atendimento '!F11,0) -> 0 | U11: =IFERROR(S11/'Atendimento '!F11,0) -> 0
B12: =População!B12 -> 0 | C12: =População!C12 -> 2026 | D12: =Imóveis!$I12*'Atendimento '!$F12 -> 0 | E12: =Imóveis!$I12*'Atendimento '!$F12 -> 0 | F12: =Imóveis!L12*'Atendimento '!F12 -> 0 | G12: ='Economais e Ligações Água'!H12 -> 1.2918 | H12: =F12/G12 -> 0 | I12: =Imóveis!M12*'Atendimento '!F12 -> 0 | J12: ='Economais e Ligações Água'!K12 -> 1.0246 | K12: =I12/J12 -> 0 | L12: =Imóveis!N12*'Atendimento '!F12 -> 0 | M12: ='Economais e Ligações Água'!N12 -> 1.0106 | N12: =L12/M12 -> 0 | O12: =Imóveis!O12*'Atendimento '!F12 -> 0 | P12: ='Economais e Ligações Água'!Q12 -> 1 | Q12: =O12/P12 -> 0 | R12: =D12+F12+I12+L12+O12 -> 0 | S12: =E12+H12+K12+N12+Q12 -> 0 | T12: =IFERROR(R12/'Atendimento '!F12,0) -> 0 | U12: =IFERROR(S12/'Atendimento '!F12,0) -> 0
B13: =População!B13 -> 1 | C13: =População!C13 -> 2027 | D13: =Imóveis!$I13*'Atendimento '!$F13 -> 0 | E13: =Imóveis!$I13*'Atendimento '!$F13 -> 0 | F13: =Imóveis!L13*'Atendimento '!F13 -> 0 | G13: ='Economais e Ligações Água'!H13 -> 1.2918 | H13: =F13/G13 -> 0 | I13: =Imóveis!M13*'Atendimento '!F13 -> 0 | J13: ='Economais e Ligações Água'!K13 -> 1.0246 | K13: =I13/J13 -> 0 | L13: =Imóveis!N13*'Atendimento '!F13 -> 0 | M13: ='Economais e Ligações Água'!N13 -> 1.0106 | N13: =L13/M13 -> 0 | O13: =Imóveis!O13*'Atendimento '!F13 -> 0 | P13: ='Economais e Ligações Água'!Q13 -> 1 | Q13: =O13/P13 -> 0 | R13: =D13+F13+I13+L13+O13 -> 0 | S13: =E13+H13+K13+N13+Q13 -> 0 | T13: =IFERROR(R13/'Atendimento '!F13,0) -> 0 | U13: =IFERROR(S13/'Atendimento '!F13,0) -> 0
B14: =População!B14 -> 2 | C14: =População!C14 -> 2028 | D14: =Imóveis!$I14*'Atendimento '!$F14 -> 3648.4057 | E14: =D14/'Atendimento '!G14 -> 2732.6834 | F14: =Imóveis!L14*'Atendimento '!F14 -> 267 | G14: ='Economais e Ligações Água'!H14 -> 1.2918 | H14: =F14/G14 -> 206.68834 | I14: =Imóveis!M14*'Atendimento '!F14 -> 26.8 | J14: ='Economais e Ligações Água'!K14 -> 1.0246 | K14: =I14/J14 -> 26.156549 | L14: =Imóveis!N14*'Atendimento '!F14 -> 20.4 | M14: ='Economais e Ligações Água'!N14 -> 1.0106 | N14: =L14/M14 -> 20.186028 | O14: =Imóveis!O14*'Atendimento '!F14 -> 36.2 | P14: ='Economais e Ligações Água'!Q14 -> 1 | Q14: =O14/P14 -> 36.2 | R14: =D14+F14+I14+L14+O14 -> 3998.8057 | S14: =E14+H14+K14+N14+Q14 -> 3021.9144 | T14: =IFERROR(R14/'Atendimento '!F14,0) -> 19994.028 | U14: =IFERROR(S14/'Atendimento '!F14,0) -> 15109.572
B15: =População!B15 -> 3 | C15: =População!C15 -> 2029 | D15: =Imóveis!$I15*'Atendimento '!$F15 -> 7454.7512 | E15: =D15/'Atendimento '!G15 -> 5583.665 | F15: =Imóveis!L15*'Atendimento '!F15 -> 540 | G15: ='Economais e Ligações Água'!H15 -> 1.2918 | H15: =F15/G15 -> 418.02137 | I15: =Imóveis!M15*'Atendimento '!F15 -> 54.4 | J15: ='Economais e Ligações Água'!K15 -> 1.0246 | K15: =I15/J15 -> 53.09389 | L15: =Imóveis!N15*'Atendimento '!F15 -> 41.2 | M15: ='Economais e Ligações Água'!N15 -> 1.0106 | N15: =L15/M15 -> 40.767861 | O15: =Imóveis!O15*'Atendimento '!F15 -> 73.2 | P15: ='Economais e Ligações Água'!Q15 -> 1 | Q15: =O15/P15 -> 73.2 | R15: =D15+F15+I15+L15+O15 -> 8163.5512 | S15: =E15+H15+K15+N15+Q15 -> 6168.7481 | T15: =IFERROR(R15/'Atendimento '!F15,0) -> 20408.878 | U15: =IFERROR(S15/'Atendimento '!F15,0) -> 15421.87
B16: =População!B16 -> 4 | C16: =População!C16 -> 2030 | D16: =Imóveis!$I16*'Atendimento '!$F16 -> 11416.699 | E16: =D16/'Atendimento '!G16 -> 8551.1937 | F16: =Imóveis!L16*'Atendimento '!F16 -> 819 | G16: ='Economais e Ligações Água'!H16 -> 1.2918 | H16: =F16/G16 -> 633.99907 | I16: =Imóveis!M16*'Atendimento '!F16 -> 82.2 | J16: ='Economais e Ligações Água'!K16 -> 1.0246 | K16: =I16/J16 -> 80.22643 | L16: =Imóveis!N16*'Atendimento '!F16 -> 62.4 | M16: ='Economais e Ligações Água'!N16 -> 1.0106 | N16: =L16/M16 -> 61.745498 | O16: =Imóveis!O16*'Atendimento '!F16 -> 111 | P16: ='Economais e Ligações Água'!Q16 -> 1 | Q16: =O16/P16 -> 111 | R16: =D16+F16+I16+L16+O16 -> 12491.299 | S16: =E16+H16+K16+N16+Q16 -> 9438.1647 | T16: =IFERROR(R16/'Atendimento '!F16,0) -> 20818.831 | U16: =IFERROR(S16/'Atendimento '!F16,0) -> 15730.275
B17: =População!B17 -> 5 | C17: =População!C17 -> 2031 | D17: =Imóveis!$I17*'Atendimento '!$F17 -> 15531.558 | E17: =D17/'Atendimento '!G17 -> 11633.255 | F17: =Imóveis!L17*'Atendimento '!F17 -> 1102.4 | G17: ='Economais e Ligações Água'!H17 -> 1.2918 | H17: =F17/G17 -> 853.38288 | I17: =Imóveis!M17*'Atendimento '!F17 -> 111.2 | J17: ='Economais e Ligações Água'!K17 -> 1.0246 | K17: =I17/J17 -> 108.53016 | L17: =Imóveis!N17*'Atendimento '!F17 -> 84 | M17: ='Economais e Ligações Água'!N17 -> 1.0106 | N17: =L17/M17 -> 83.118939 | O17: =Imóveis!O17*'Atendimento '!F17 -> 149.6 | P17: ='Economais e Ligações Água'!Q17 -> 1 | Q17: =O17/P17 -> 149.6 | R17: =D17+F17+I17+L17+O17 -> 16978.758 | S17: =E17+H17+K17+N17+Q17 -> 12827.887 | T17: =IFERROR(R17/'Atendimento '!F17,0) -> 21223.448 | U17: =IFERROR(S17/'Atendimento '!F17,0) -> 16034.858
B18: =População!B18 -> 6 | C18: =População!C18 -> 2032 | D18: =Imóveis!$I18*'Atendimento '!$F18 -> 16826.862 | E18: =D18/'Atendimento '!G18 -> 12603.447 | F18: =Imóveis!L18*'Atendimento '!F18 -> 1183.2 | G18: ='Economais e Ligações Água'!H18 -> 1.2918 | H18: =F18/G18 -> 915.93126 | I18: =Imóveis!M18*'Atendimento '!F18 -> 119 | J18: ='Economais e Ligações Água'!K18 -> 1.0246 | K18: =I18/J18 -> 116.14289 | L18: =Imóveis!N18*'Atendimento '!F18 -> 90.1 | M18: ='Economais e Ligações Água'!N18 -> 1.0106 | N18: =L18/M18 -> 89.154957 | O18: =Imóveis!O18*'Atendimento '!F18 -> 160.65 | P18: ='Economais e Ligações Água'!Q18 -> 1 | Q18: =O18/P18 -> 160.65 | R18: =D18+F18+I18+L18+O18 -> 18379.812 | S18: =E18+H18+K18+N18+Q18 -> 13885.326 | T18: =IFERROR(R18/'Atendimento '!F18,0) -> 21623.309 | U18: =IFERROR(S18/'Atendimento '!F18,0) -> 16335.678
B19: =População!B19 -> 7 | C19: =População!C19 -> 2033 | D19: =Imóveis!$I19*'Atendimento '!$F19 -> 18155.714 | E19: =D19/'Atendimento '!G19 -> 13598.767 | F19: =Imóveis!L19*'Atendimento '!F19 -> 1264.5 | G19: ='Economais e Ligações Água'!H19 -> 1.2918 | H19: =F19/G19 -> 978.8667 | I19: =Imóveis!M19*'Atendimento '!F19 -> 126.9 | J19: ='Economais e Ligações Água'!K19 -> 1.0246 | K19: =I19/J19 -> 123.85321 | L19: =Imóveis!N19*'Atendimento '!F19 -> 96.3 | M19: ='Economais e Ligações Água'!N19 -> 1.0106 | N19: =L19/M19 -> 95.289927 | O19: =Imóveis!O19*'Atendimento '!F19 -> 171.9 | P19: ='Economais e Ligações Água'!Q19 -> 1 | Q19: =O19/P19 -> 171.9 | R19: =D19+F19+I19+L19+O19 -> 19815.314 | S19: =E19+H19+K19+N19+Q19 -> 14968.677 | T19: =IFERROR(R19/'Atendimento '!F19,0) -> 22017.016 | U19: =IFERROR(S19/'Atendimento '!F19,0) -> 16631.863
B20: =População!B20 -> 8 | C20: =População!C20 -> 2034 | D20: =Imóveis!$I20*'Atendimento '!$F20 -> 18900.659 | E20: =D20/'Atendimento '!G20 -> 14156.737 | F20: =Imóveis!L20*'Atendimento '!F20 -> 1303.64 | G20: ='Economais e Ligações Água'!H20 -> 1.2918 | H20: =F20/G20 -> 1009.1655 | I20: =Imóveis!M20*'Atendimento '!F20 -> 130.64 | J20: ='Economais e Ligações Água'!K20 -> 1.0246 | K20: =I20/J20 -> 127.50342 | L20: =Imóveis!N20*'Atendimento '!F20 -> 99.36 | M20: ='Economais e Ligações Água'!N20 -> 1.0106 | N20: =L20/M20 -> 98.317831 | O20: =Imóveis!O20*'Atendimento '!F20 -> 176.64 | P20: ='Economais e Ligações Água'!Q20 -> 1 | Q20: =O20/P20 -> 176.64 | R20: =D20+F20+I20+L20+O20 -> 20610.939 | S20: =E20+H20+K20+N20+Q20 -> 15568.363 | T20: =IFERROR(R20/'Atendimento '!F20,0) -> 22403.195 | U20: =IFERROR(S20/'Atendimento '!F20,0) -> 16922.134
B21: =População!B21 -> 9 | C21: =População!C21 -> 2035 | D21: =Imóveis!$I21*'Atendimento '!$F21 -> 19654.926 | E21: =D21/'Atendimento '!G21 -> 14721.689 | F21: =Imóveis!L21*'Atendimento '!F21 -> 1343.26 | G21: ='Economais e Ligações Água'!H21 -> 1.2918 | H21: =F21/G21 -> 1039.8359 | I21: =Imóveis!M21*'Atendimento '!F21 -> 135.36 | J21: ='Economais e Ligações Água'!K21 -> 1.0246 | K21: =I21/J21 -> 132.11009 | L21: =Imóveis!N21*'Atendimento '!F21 -> 102.46 | M21: ='Economais e Ligações Água'!N21 -> 1.0106 | N21: =L21/M21 -> 101.38532 | O21: =Imóveis!O21*'Atendimento '!F21 -> 182.36 | P21: ='Economais e Ligações Água'!Q21 -> 1 | Q21: =O21/P21 -> 182.36 | R21: =D21+F21+I21+L21+O21 -> 21418.366 | S21: =E21+H21+K21+N21+Q21 -> 16177.38 | T21: =IFERROR(R21/'Atendimento '!F21,0) -> 22785.496 | U21: =IFERROR(S21/'Atendimento '!F21,0) -> 17209.979
B22: =População!B22 -> 10 | C22: =População!C22 -> 2036 | D22: =Imóveis!$I22*'Atendimento '!$F22 -> 20417.852 | E22: =D22/'Atendimento '!G22 -> 15293.125 | F22: =Imóveis!L22*'Atendimento '!F22 -> 1382.4 | G22: ='Economais e Ligações Água'!H22 -> 1.2918 | H22: =F22/G22 -> 1070.1347 | I22: =Imóveis!M22*'Atendimento '!F22 -> 139.2 | J22: ='Economais e Ligações Água'!K22 -> 1.0246 | K22: =I22/J22 -> 135.8579 | L22: =Imóveis!N22*'Atendimento '!F22 -> 105.6 | M22: ='Economais e Ligações Água'!N22 -> 1.0106 | N22: =L22/M22 -> 104.49238 | O22: =Imóveis!O22*'Atendimento '!F22 -> 188.16 | P22: ='Economais e Ligações Água'!Q22 -> 1 | Q22: =O22/P22 -> 188.16 | R22: =D22+F22+I22+L22+O22 -> 22233.212 | S22: =E22+H22+K22+N22+Q22 -> 16791.77 | T22: =IFERROR(R22/'Atendimento '!F22,0) -> 23159.596 | U22: =IFERROR(S22/'Atendimento '!F22,0) -> 17491.428
B23: =População!B23 -> 11 | C23: =População!C23 -> 2037 | D23: =Imóveis!$I23*'Atendimento '!$F23 -> 21188.771 | E23: =D23/'Atendimento '!G23 -> 15870.55 | F23: =Imóveis!L23*'Atendimento '!F23 -> 1421.98 | G23: ='Economais e Ligações Água'!H23 -> 1.2918 | H23: =F23/G23 -> 1100.7741 | I23: =Imóveis!M23*'Atendimento '!F23 -> 143.08 | J23: ='Economais e Ligações Água'!K23 -> 1.0246 | K23: =I23/J23 -> 139.64474 | L23: =Imóveis!N23*'Atendimento '!F23 -> 108.78 | M23: ='Economais e Ligações Água'!N23 -> 1.0106 | N23: =L23/M23 -> 107.63903 | O23: =Imóveis!O23*'Atendimento '!F23 -> 193.06 | P23: ='Economais e Ligações Água'!Q23 -> 1 | Q23: =O23/P23 -> 193.06 | R23: =D23+F23+I23+L23+O23 -> 23055.671 | S23: =E23+H23+K23+N23+Q23 -> 17411.668 | T23: =IFERROR(R23/'Atendimento '!F23,0) -> 23526.195 | U23: =IFERROR(S23/'Atendimento '!F23,0) -> 17767.008
B24: =População!B24 -> 12 | C24: =População!C24 -> 2038 | D24: =Imóveis!$I24*'Atendimento '!$F24 -> 21967.024 | E24: =D24/'Atendimento '!G24 -> 16453.467 | F24: =Imóveis!L24*'Atendimento '!F24 -> 1462 | G24: ='Economais e Ligações Água'!H24 -> 1.2918 | H24: =F24/G24 -> 1131.7541 | I24: =Imóveis!M24*'Atendimento '!F24 -> 147 | J24: ='Economais e Ligações Água'!K24 -> 1.0246 | K24: =I24/J24 -> 143.47062 | L24: =Imóveis!N24*'Atendimento '!F24 -> 112 | M24: ='Economais e Ligações Água'!N24 -> 1.0106 | N24: =L24/M24 -> 110.82525 | O24: =Imóveis!O24*'Atendimento '!F24 -> 199 | P24: ='Economais e Ligações Água'!Q24 -> 1 | Q24: =O24/P24 -> 199 | R24: =D24+F24+I24+L24+O24 -> 23887.024 | S24: =E24+H24+K24+N24+Q24 -> 18038.517 | T24: =IFERROR(R24/'Atendimento '!F24,0) -> 23887.024 | U24: =IFERROR(S24/'Atendimento '!F24,0) -> 18038.517
B25: =População!B25 -> 13 | C25: =População!C25 -> 2039 | D25: =Imóveis!$I25*'Atendimento '!$F25 -> 22305.837 | E25: =D25/'Atendimento '!G25 -> 16707.24 | F25: =Imóveis!L25*'Atendimento '!F25 -> 1472 | G25: ='Economais e Ligações Água'!H25 -> 1.2918 | H25: =F25/G25 -> 1139.4953 | I25: =Imóveis!M25*'Atendimento '!F25 -> 148 | J25: ='Economais e Ligações Água'!K25 -> 1.0246 | K25: =I25/J25 -> 144.44661 | L25: =Imóveis!N25*'Atendimento '!F25 -> 112 | M25: ='Economais e Ligações Água'!N25 -> 1.0106 | N25: =L25/M25 -> 110.82525 | O25: =Imóveis!O25*'Atendimento '!F25 -> 200 | P25: ='Economais e Ligações Água'!Q25 -> 1 | Q25: =O25/P25 -> 200 | R25: =D25+F25+I25+L25+O25 -> 24237.837 | S25: =E25+H25+K25+N25+Q25 -> 18302.008 | T25: =IFERROR(R25/'Atendimento '!F25,0) -> 24237.837 | U25: =IFERROR(S25/'Atendimento '!F25,0) -> 18302.008
... B47: =População!B47 -> 35 | C47: =População!C47 -> 2061 | D47: =Imóveis!$I47*'Atendimento '!$F47 -> 27818.9 | E47: =D47/'Atendimento '!G47 -> 20836.567 | F47: =Imóveis!L47*'Atendimento '!F47 -> 1601 | G47: ='Economais e Ligações Água'!H47 -> 1.2918 | H47: =F47/G47 -> 1239.3559 | I47: =Imóveis!M47*'Atendimento '!F47 -> 161 | J47: ='Economais e Ligações Água'!K47 -> 1.0246 | K47: =I47/J47 -> 157.13449 | L47: =Imóveis!N47*'Atendimento '!F47 -> 122 | M47: ='Economais e Ligações Água'!N47 -> 1.0106 | N47: =L47/M47 -> 120.72036 | O47: =Imóveis!O47*'Atendimento '!F47 -> 217 | P47: ='Economais e Ligações Água'!Q47 -> 3 | Q47: =O47/P47 -> 72.333333 | R47: =D47+F47+I47+L47+O47 -> 29919.9 | S47: =E47+H47+K47+N47+Q47 -> 22426.111 | T47: =IFERROR(R47/'Atendimento '!F47,0) -> 29919.9 | U47: =IFERROR(S47/'Atendimento '!F47,0) -> 22426.111

Sheet Cota per capita e por economia 
T2: Resid | U2: Comercial | V2: Industrial | W2: Público | X2: Especial
T3: 147.92962 | U3: 451.57655 | V3: 2255.6617 | W3: 1923.9473 | X3: 323.74648
B5: COTA PER CAPITA | L5: VOLUMES DE ÁGUA - DISPONIBILIZADO, MEDIDO E CONSUMIDO - POR CATEGORIA
B6: =População!B6 -> ANO | D6: Per Capita Disponibilizado Resid. | E6: Per Capita Consumido Resid Médio | F6: Per Capita Medido Resid Médio | G6: Cota per capita Disponibilidada Média | H6: Cota per capita Consumida Média | I6: Cota per capita Medida Média | L6: =População!B6 -> ANO | N6: Disponibilizado por Economia Resid | O6: Consumido por Economia Resid | P6: MEDIDO Por Economia Residencial | Q6: Disponibilizado por Economia COMERCIAL | R6: Consumido por Economais COMERCIAL | S6: MEDIDO Por Economia Comercial | T6: Disponibilizado por Economia INDUSTRIAL | U6: Consumido por Economais INDUSTRIAL | V6: MEDIDO Por Economia Industrial | W6: Disponibilizado por Economia PÚBLICO | X6: Consumido por Economais PÚBLICO | Y6: MEDIDO Por Economia Público | Z6: Disponibilizado por Economia Especial | AA6: Consumido por Economais Especial | AB6: MEDIDO Por Economia Especial | AC6: Q Água Resid Medido | AD6: Q Água Com Medido | AE6: Q Água Ind Medido | AF6: Q Água Públ Medido | AG6: Q Água Esp Medido | AH6: Q Medido Total | AI6: Q Água Resid Cons | AJ6: Q Água Com Cons | AK6: Q Água Ind Cons | AL6: Q Água Públ Cons | AM6: Q Água Esp Cons | AN6: Q Água Cons | AO6: Disponibilizado Por Economia | AP6: Consumido Por Economia | AQ6: Medido Por Economia | AR6: Disponibilizado Por Ligação | AS6: Consumido Por Ligação | AT6: Medido Por Ligação | AU6: Vol Disponibilizado Total | AV6: Vol Consumido Total | AW6: Vol Medido Total
D7: L/Hab x dia | E7: L/Hab x dia | F7: L/Hab x dia | G7: L/Hab x dia | H7: L/Hab x dia | I7: L/Hab x dia | N7: m³/mês | O7: m³/mês | P7: m³/mês | Q7: m³/mês | R7: m³/mês | T7: m³/mês | U7: m³/mês | W7: m³/mês | X7: m³/mês | Z7: m³/mês | AA7: m³/mês | AC7: m³/mês (categoria) | AD7: m³/mês (categoria) | AE7: m³/mês (categoria) | AF7: m³/mês (categoria) | AG7: m³/mês (categoria) | AH7: m³/mês | AI7: m³/mês (categoria) | AJ7: m³/mês (categoria) | AK7: m³/mês (categoria) | AL7: m³/mês (categoria) | AM7: m³/mês (categoria) | AN7: m³/mês | AO7: m³/mês | AP7: m³/mês | AQ7: m³/mês | AR7: m³/mês | AS7: m³/mês | AT7: m³/mês | AU7: m³/ano | AV7: m³/ano | AW7: m³/ano
B8: =População!B8 -> CENSO | C8: =População!C8 -> 2022 | D8: =F8/(1-'Perdas e Vazões de Água'!F8) -> 232.64579 | E8: =(D8*'Perdas e Vazões de Água'!E8)+F8 -> 144.24039 | F8: 124.07 | G8: =ROUND(AU8/12/30.4375/'Atendimento '!H8*1000,2) -> 272.35 | H8: =ROUND(AV8/12/30.4375/'Atendimento '!H8*1000,2) -> 168.86 | I8: =ROUND(AW8/12/30.4375/'Atendimento '!H8*1000,2) -> 145.24 | L8: =População!B8 -> CENSO | M8: =População!C8 -> 2022 | N8: =D8*30.4375*Imóveis!J8/1000 -> 19.507185 | O8: =N8*(1-'Perdas e Vazões de Água'!D8) -> 12.094455 | P8: =N8*(1-'Perdas e Vazões de Água'!$F8) -> 10.403182 | Q8: =$U$3/(1-'Perdas e Vazões de Água'!D8)*30.4375/1000 -> 22.169131 | R8: =Q8*(1-'Perdas e Vazões de Água'!D8) -> 13.744861 | S8: =Q8*(1-'Perdas e Vazões de Água'!$F8) -> 11.822797 | T8: =$V$3/(1-'Perdas e Vazões de Água'!D8)*30.4375/1000 -> 110.73662 | U8: =T8*(1-'Perdas e Vazões de Água'!D8) -> 68.656704 | V8: =T8*(1-'Perdas e Vazões de Água'!$F8) -> 59.055839 | W8: =$W$3/(1-'Perdas e Vazões de Água'!D8)*30.4375/1000 -> 94.451851 | X8: =W8*(1-'Perdas e Vazões de Água'!D8) -> 58.560147 | Y8: =W8*(1-'Perdas e Vazões de Água'!$F8) -> 50.371172 | Z8: =$X$3/(1-'Perdas e Vazões de Água'!D8)*30.4375/1000 -> 15.893602 | AA8: =Z8*(1-'Perdas e Vazões de Água'!D8) -> 9.8540335 | AB8: =Z8*(1-'Perdas e Vazões de Água'!$F8) -> 8.4760581 | AC8: =P8*'Economais e Ligações Água'!D8 -> 158631.78 | AD8: =S8*'Economais e Ligações Água'!G8 -> 14075.513 | AE8: =V8*'Economais e Ligações Água'!J8 -> 7059.2988 | AF8: =Y8*'Economais e Ligações Água'!M8 -> 4564.4341 | AG8: =AB8*'Economais e Ligações Água'!P8 -> 1372.7146 | AH8: =SUM(AC8:AG8) -> 185703.74 | AI8: =O8*'Economais e Ligações Água'!D8 -> 184420.97 | AJ8: =R8*'Economais e Ligações Água'!G8 -> 16363.807 | AK8: =U8*'Economais e Ligações Água'!J8 -> 8206.9478 | AL8: =X8*'Economais e Ligações Água'!M8 -> 5306.4863 | AM8: =AA8*'Economais e Ligações Água'!P8 -> 1595.8804 | AN8: =AI8+AJ8+AK8+AL8+AM8 -> 215894.09 | AO8: =AP8/(1-'Perdas e Vazões de Água'!D8) -> 20.713554 | AP8: =SUM(AI8:AM8)/'Economais e Ligações Água'!S8 -> 12.842403 | AQ8: =AP8-('Perdas e Vazões de Água'!E8*AO8) -> 11.046538 | AR8: =AS8/(1-'Perdas e Vazões de Água'!D8) -> 27.394754 | AS8: =SUM(AI8:AM8)/'Economais e Ligações Água'!T8 -> 16.984748 | AT8: =AR8*(1-'Perdas e Vazões de Água'!F8) -> 14.609622 | AU8: =AO8*'Economais e Ligações Água'!S8*12 -> 4178595.3 | AV8: =AP8*'Economais e Ligações Água'!S8*12 -> 2590729.1 | AW8: =AQ8*'Economais e Ligações Água'!S8*12 -> 2228444.9
B9: =População!B9 -> -2 | C9: =População!C9 -> 2023 | D9: =(E9/(1-'Perdas e Vazões de Água'!D9)) -> 232.64579 | E9: =E8 -> 144.24039 | F9: =E9-(D9*'Perdas e Vazões de Água'!E9) -> 124.07 | G9: =ROUND(AU9/12/30.4375/'Atendimento '!H9*1000,2) -> 272.4 | H9: =ROUND(AV9/12/30.4375/'Atendimento '!H9*1000,2) -> 168.89 | I9: =ROUND(AW9/12/30.4375/'Atendimento '!H9*1000,2) -> 145.27 | L9: =População!B9 -> -2 | M9: =População!C9 -> 2023 | N9: =D9*30.4375*Imóveis!J9/1000 -> 19.294808 | O9: =N9*(1-'Perdas e Vazões de Água'!D9) -> 11.962781 | P9: =N9*(1-'Perdas e Vazões de Água'!$F9) -> 10.289921 | Q9: =$U$3/(1-'Perdas e Vazões de Água'!D9)*30.4375/1000 -> 22.169131 | R9: =Q9*(1-'Perdas e Vazões de Água'!D9) -> 13.744861 | S9: =Q9*(1-'Perdas e Vazões de Água'!$F9) -> 11.822797 | T9: =$V$3/(1-'Perdas e Vazões de Água'!D9)*30.4375/1000 -> 110.73662 | U9: =T9*(1-'Perdas e Vazões de Água'!D9) -> 68.656704 | V9: =T9*(1-'Perdas e Vazões de Água'!$F9) -> 59.055839 | W9: =$W$3/(1-'Perdas e Vazões de Água'!D9)*30.4375/1000 -> 94.451851 | X9: =W9*(1-'Perdas e Vazões de Água'!D9) -> 58.560147 | Y9: =W9*(1-'Perdas e Vazões de Água'!$F9) -> 50.371172 | Z9: =$X$3/(1-'Perdas e Vazões de Água'!D9)*30.4375/1000 -> 15.893602 | AA9: =Z9*(1-'Perdas e Vazões de Água'!D9) -> 9.8540335 | AB9: =Z9*(1-'Perdas e Vazões de Água'!$F9) -> 8.4760581 | AC9: =P9*'Economais e Ligações Água'!D9 -> 160952.79 | AD9: =S9*'Economais e Ligações Água'!G9 -> 14280.663 | AE9: =V9*'Economais e Ligações Água'!J9 -> 7173.1585 | AF9: =Y9*'Economais e Ligações Água'!M9 -> 4661.5497 | AG9: =AB9*'Economais e Ligações Água'!P9 -> 1389.0564 | AH9: =SUM(AC9:AG9) -> 188457.22 | AI9: =O9*'Economais e Ligações Água'!D9 -> 187119.32 | AJ9: =R9*'Economais e Ligações Água'!G9 -> 16602.308 | AK9: =U9*'Economais e Ligações Água'!J9 -> 8339.3179 | AL9: =X9*'Economais e Ligações Água'!M9 -> 5419.3903 | AM9: =AA9*'Economais e Ligações Água'!P9 -> 1614.879 | AN9: =AI9+AJ9+AK9+AL9+AM9 -> 219095.21 | AO9: =AP9/(1-'Perdas e Vazões de Água'!D9) -> 20.512432 | AP9: =SUM(AI9:AM9)/'Economais e Ligações Água'!S9 -> 12.717708 | AQ9: =AP9-('Perdas e Vazões de Água'!E9*AO9) -> 10.93928 | AR9: =AS9/(1-'Perdas e Vazões de Água'!D9) -> 27.131133 | AS9: =SUM(AI9:AM9)/'Economais e Ligações Água'!T9 -> 16.821302 | AT9: =AR9*(1-'Perdas e Vazões de Água'!F9) -> 14.469033 | AU9: =AO9*'Economais e Ligações Água'!S9*12 -> 4240552.5 | AV9: =AP9*'Economais e Ligações Água'!S9*12 -> 2629142.5 | AW9: =AQ9*'Economais e Ligações Água'!S9*12 -> 2261486.6
