Workbook
Name _Hlk121662434: Planilha1!$L$57

Sheet População
B5: População
B6: ANO | D6: Municipal | E6: Rural | F6: TCG Rural | G6: Urbana | H6: TCG Urbana | I6: Municipal | J6: TCG Municipal | L6: Saturação
D7: Hab. | E7: Hab. | F7: % | G7: Hab. | I7: Hab. | J7: %
B8: CENSO | C8: 2022 | D8: 46099 | E8: 2524 | G8: 43575 | I8: =E8+G8 -> 46099 | J8: 0.0086 | L8: 60730
B9: -2 | C9: 2023 | D9: 46410.389 | E9: 2197.8234 | F9: =E9/E8-1 -> -0.12923004 | G9: 44212.566 | H9: =1-(G9/G8)^(1/(C8-C9)) -> 0.014420468 | I9: =E9+G9 -> 46410.389 | J9: =1-(D9/D8)^(1/(C8-C9)) -> 0.0067094737 | L9: 60730
B10: -1 | C10: 2024 | D10: 47001.047 | E10: 2169.852 | F10: =E10/E9-1 -> -0.012726853 | G10: 44831.195 | H10: =1-(G10/G9)^(1/(C9-C10)) -> 0.013799087 | I10: =E10+G10 -> 47001.047 | J10: =1-(D10/D9)^(1/(C9-C10)) -> 0.012566915 | L10: 60730
B11: Base | C11: 2025 | D11: 47574.249 | E11: 2143.3896 | F11: =E11/E10-1 -> -0.0121955 | G11: 45430.859 | H11: =1-(G11/G10)^(1/(C10-C11)) -> 0.01319948 | I11: =E11+G11 -> 47574.249 | J11: =1-(D11/D10)^(1/(C10-C11)) -> 0.012048562 | L11: 60730
B12: 0 | C12: 2026 | D12: 48129.934 | E12: 2118.354 | F12: =E12/E11-1 -> -0.011680385 | G12: 46011.58 | H12: =1-(G12/G11)^(1/(C11-C12)) -> 0.012621196 | I12: =E12+G12 -> 48129.934 | J12: =1-(D12/D11)^(1/(C11-C12)) -> 0.011545529 | L12: 60730
B13: 1 | C13: 2027 | D13: 48668.1 | E13: 2094.6676 | F13: =E13/E12-1 -> -0.011181511 | G13: 46573.432 | H13: =1-(G13/G12)^(1/(C12-C13)) -> 0.012063783 | I13: =E13+G13 -> 48668.1 | J13: =1-(D13/D12)^(1/(C12-C13)) -> 0.011057867 | L13: 60730
B14: =B13+1 -> 2 | C14: 2028 | D14: 49188.792 | E14: 2072.2571 | F14: =E14/E13-1 -> -0.010698834 | G14: 47116.535 | H14: =1-(G14/G13)^(1/(C13-C14)) -> 0.011526791 | I14: =E14+G14 -> 49188.792 | J14: =1-(D14/D13)^(1/(C13-C14)) -> 0.010585581 | L14: 60730
B15: =B14+1 -> 3 | C15: 2029 | D15: 49692.105 | E15: 2051.0532 | F15: =E15/E14-1 -> -0.010232268 | G15: 47641.051 | H15: =1-(G15/G14)^(1/(C14-C15)) -> 0.011009765 | I15: =E15+G15 -> 49692.105 | J15: =1-(D15/D14)^(1/(C14-C15)) -> 0.010128629 | L15: 60730
B16: =B15+1 -> 4 | C16: 2030 | D16: 50178.177 | E16: 2030.9904 | F16: =E16/E15-1 -> -0.0097816835 | G16: 48147.187 | H16: =1-(G16/G15)^(1/(C15-C16)) -> 0.010512249 | I16: =E16+G16 -> 50178.177 | J16: =1-(D16/D15)^(1/(C15-C16)) -> 0.009686929 | L16: 60730
B17: =B16+1 -> 5 | C17: 2031 | D17: 50647.188 | E17: 2012.0069 | F17: =E17/E16-1 -> -0.0093469146 | G17: 48635.181 | H17: =1-(G17/G16)^(1/(C16-C17)) -> 0.010033778 | I17: =E17+G17 -> 50647.188 | J17: =1-(D17/D16)^(1/(C16-C17)) -> 0.0092603588 | L17: 60730
B18: =B17+1 -> 6 | C18: 2032 | D18: 51099.354 | E18: 1994.0442 | F18: =E18/E17-1 -> -0.008927761 | G18: 49105.31 | H18: =1-(G18/G17)^(1/(C17-C18)) -> 0.0095738874 | I18: =E18+G18 -> 51099.354 | J18: =1-(D18/D17)^(1/(C17-C18)) -> 0.0088487614 | L18: 60730
B19: =B18+1 -> 7 | C19: 2033 | D19: 51534.925 | E19: 1977.047 | F19: =E19/E18-1 -> -0.0085239913 | G19: 49557.878 | H19: =1-(G19/G18)^(1/(C18-C19)) -> 0.0091321035 | I19: =E19+G19 -> 51534.925 | J19: =1-(D19/D18)^(1/(C18-C19)) -> 0.008451947 | L19: 60730
B20: =B19+1 -> 8 | C20: 2034 | D20: 51954.179 | E20: 1960.963 | F20: =E20/E19-1 -> -0.0081353464 | G20: 49993.216 | H20: =1-(G20/G19)^(1/(C19-C20)) -> 0.00870795 | I20: =E20+G20 -> 51954.179 | J20: =1-(D20/D19)^(1/(C19-C20)) -> 0.0080696966 | L20: 60730
B21: =B20+1 -> 9 | C21: 2035 | D21: 52357.424 | E21: 1945.7429 | F21: =E21/E20-1 -> -0.0077615425 | G21: 50411.681 | H21: =1-(G21/G20)^(1/(C20-C21)) -> 0.0083009465 | I21: =E21+G21 -> 52357.424 | J21: =1-(D21/D20)^(1/(C20-C21)) -> 0.0077017649 | L21: 60730
B22: =B21+1 -> 10 | C22: 2036 | D22: 52744.988 | E22: 1931.34 | F22: =E22/E21-1 -> -0.0074022743 | G22: 50813.648 | H22: =1-(G22/G21)^(1/(C21-C22)) -> 0.0079106097 | I22: =E22+G22 -> 52744.988 | J22: =1-(D22/D21)^(1/(C21-C22)) -> 0.0073478832 | L22: 60730
B23: =B22+1 -> 11 | C23: 2037 | D23: 53117.22 | E23: 1917.7101 | F23: =E23/E22-1 -> -0.0070572179 | G23: 51199.51 | H23: =1-(G23/G22)^(1/(C22-C23)) -> 0.0075364541 | I23: =E23+G23 -> 53117.22 | J23: =1-(D23/D22)^(1/(C22-C23)) -> 0.0070077626 | L23: 60730
B24: =B23+1 -> 12 | C24: 2038 | D24: 53474.489 | E24: 1904.8115 | F24: =E24/E23-1 -> -0.0067260337 | G24: 51569.677 | H24: =1-(G24/G23)^(1/(C23-C24)) -> 0.0071779933 | I24: =E24+G24 -> 53474.489 | J24: =1-(D24/D23)^(1/(C23-C24)) -> 0.0066810964 | L24: 60730
B25: =B24+1 -> 13 | C25: 2039 | D25: 53817.173 | E25: 1892.6048 | F25: =E25/E24-1 -> -0.0064083686 | G25: 51924.568 | H25: =1-(G25/G24)^(1/(C24-C25)) -> 0.0068347409 | I25: =E25+G25 -> 53817.173 | J25: =1-(D25/D24)^(1/(C24-C25)) -> 0.0063675629 | L25: 60730
... B47: =B46+1 -> 35 | C47: 2061 | D47: 58228.914 | E47: 1748.6196 | F47: =E47/E46-1 -> 0 | G47: 56482.295 | H47: =1-(G47/G46)^(1/(C46-C47)) -> -0.0023495059 | I47: =E47+G47 -> 58230.914 | J47: =1-(D47/D46)^(1/(C46-C47)) -> 0 | L47: 60730

Sheet Imóveis
K2: k Comer | L2: k Ind | M2: k Publico | N2: k Especial | O2: k Vago | P2: Diminuição de Lotes Vagos
K3: 0.078072047 | L3: 0.00784486 | M3: 0.0059620936 | N3: 0.010606251 | O3: 0.0232 | P3: 0.005
B5: Imóveis | S5: Densidade de Morador por Domicilio
B6: =População!B6 -> ANO | D6: Imóveis Saturação Urbana | E6: Residencial Total (Urbano e Rural) | F6: Tx Crescimento | G6: Residencial Rural | H6: Tx Crescimento | I6: Residencial Urbano | J6: Pop/Eco Urb | K6: Residencial Urbano Total - Hab Eco Constante | L6: Comercial | M6: Industrial | N6: Público | O6: Especial | P6: Vago | Q6: Total | S6: =População!B6 -> ANO | U6: Densidade de Morador por Domicilio (Rural e Urbano) | V6: Densidade de Morador por Domicilio Urbano | W6: Densidade de Morador por Domicilio Rural
D7: Unidade | E7: Unidade | F7: Unidade | G7: Unidade | H7: Unidade | I7: Unidade | J7: hab./economia | K7: Unidade | L7: Unidade | M7: Unidade | N7: Unidade | O7: Unidade | P7: Unidade | Q7: Unidade | U7: háb./domicílio | V7: háb./domicílio | W7: háb./domicílio
B8: =População!B8 -> CENSO | C8: =População!C8 -> 2022 | D8: 32697.5 | E8: 16658.833 | F8: 0 | G8: 841 | H8: 0.005 | I8: =E8-G8 -> 15817.833 | J8: =População!G8/I8 -> 2.7548022 | K8: =ROUND(População!G8/$J$8,0) -> 15818 | L8: =ROUND($K8*K$3,0) -> 1235 | M8: =ROUND($K8*L$3,0) -> 124 | N8: =ROUND($K8*M$3,0) -> 94 | O8: =ROUND($K8*N$3,0) -> 168 | P8: =ROUND($I8*$O$3*(1-F8),0) -> 367 | Q8: =L8+I8+M8+N8+O8+P8 -> 17805.833 | S8: =População!B8 -> CENSO | T8: =População!C8 -> 2022 | U8: =(População!D8/E8) -> 2.7672407 | V8: =(População!G8/I8) -> 2.7548022 | W8: =População!E8/Imóveis!G8 -> 3.0011891
B9: =População!B9 -> -2 | C9: =População!C9 -> 2023 | D9: 32697.5 | E9: 17071.129 | F9: =E9/E8-1 -> 0.024749413 | G9: =G8*(1+H9) -> 845.205 | H9: 0.005 | I9: =E9-G9 -> 16225.924 | J9: =População!G9/I9 -> 2.7248104 | K9: =ROUND(População!G9/$J$8,0) -> 16049 | L9: =ROUND($K9*K$3,0) -> 1253 | M9: =ROUND($K9*L$3,0) -> 126 | N9: =ROUND($K9*M$3,0) -> 96 | O9: =ROUND($K9*N$3,0) -> 170 | P9: =ROUND($I9*$O$3*(1-F9),0) -> 367 | Q9: =L9+I9+M9+N9+O9+P9 -> 18237.924 | S9: =População!B9 -> -2 | T9: =População!C9 -> 2023 | U9: =(População!D9/E9) -> 2.7186479 | V9: =(População!G9/I9) -> 2.7248104 | W9: =População!E9/Imóveis!G9 -> 2.6003436
B10: =População!B10 -> -1 | C10: =População!C10 -> 2024 | D10: 32697.5 | E10: 17482.507 | F10: =E10/E9-1 -> 0.024097864 | G10: =G9*(1+H10) -> 849.43103 | H10: 0.005 | I10: =E10-G10 -> 16633.076 | J10: =População!G10/I10 -> 2.695304 | K10: =ROUND(População!G10/$J$8,0) -> 16274 | L10: =ROUND($K10*K$3,0) -> 1271 | M10: =ROUND($K10*L$3,0) -> 128 | N10: =ROUND($K10*M$3,0) -> 97 | O10: =ROUND($K10*N$3,0) -> 173 | P10: =P9*(1-$P$3) -> 365.165 | Q10: =L10+I10+M10+N10+O10+P10 -> 18667.241 | S10: =População!B10 -> -1 | T10: =População!C10 -> 2024 | U10: =(População!D10/E10) -> 2.6884616 | V10: =(População!G10/I10) -> 2.695304 | W10: =População!E10/Imóveis!G10 -> 2.554477
B11: =População!B11 -> Base | C11: =População!C11 -> 2025 | D11: 32697.5 | E11: 17892.447 | F11: =E11/E10-1 -> 0.023448591 | G11: =G10*(1+H11) -> 853.67818 | H11: 0.005 | I11: =E11-G11 -> 17038.769 | J11: =População!G11/I11 -> 2.6663229 | K11: =ROUND(População!G11/$J$8,0) -> 16492 | L11: =ROUND($K11*K$3,0) -> 1288 | M11: =ROUND($K11*L$3,0) -> 129 | N11: =ROUND($K11*M$3,0) -> 98 | O11: =ROUND($K11*N$3,0) -> 175 | P11: =P10*(1-$P$3) -> 363.33918 | Q11: =L11+I11+M11+N11+O11+P11 -> 19092.108 | S11: =População!B11 -> Base | T11: =População!C11 -> 2025 | U11: =(População!D11/E11) -> 2.6589012 | V11: =(População!G11/I11) -> 2.6663229 | W11: =População!E11/Imóveis!G11 -> 2.51077
B12: =População!B12 -> 0 | C12: =População!C12 -> 2026 | D12: 32697.5 | E12: 18300.438 | F12: =E12/E11-1 -> 0.022802405 | G12: =G11*(1+H12) -> 857.94657 | H12: 0.005 | I12: =E12-G12 -> 17442.491 | J12: =População!G12/I12 -> 2.6379019 | K12: =ROUND(População!G12/$J$8,0) -> 16702 | L12: =ROUND($K12*K$3,0) -> 1304 | M12: =ROUND($K12*L$3,0) -> 131 | N12: =ROUND($K12*M$3,0) -> 100 | O12: =ROUND($K12*N$3,0) -> 177 | P12: =P11*(1-$P$3) -> 361.52248 | Q12: =L12+I12+M12+N12+O12+P12 -> 19516.014 | S12: =População!B12 -> 0 | T12: =População!C12 -> 2026 | U12: =(População!D12/E12) -> 2.6299882 | V12: =(População!G12/I12) -> 2.6379019 | W12: =População!E12/Imóveis!G12 -> 2.4690978
B13: =População!B13 -> 1 | C13: =População!C13 -> 2027 | D13: 32697.5 | E13: 18705.977 | F13: =E13/E12-1 -> 0.022160102 | G13: =G12*(1+H13) -> 862.2363 | H13: 0.005 | I13: =E13-G13 -> 17843.741 | J13: =População!G13/I13 -> 2.6100711 | K13: =ROUND(População!G13/$J$8,0) -> 16906 | L13: =ROUND($K13*K$3,0) -> 1320 | M13: =ROUND($K13*L$3,0) -> 133 | N13: =ROUND($K13*M$3,0) -> 101 | O13: =ROUND($K13*N$3,0) -> 179 | P13: =P12*(1-$P$3) -> 359.71487 | Q13: =L13+I13+M13+N13+O13+P13 -> 19936.456 | S13: =População!B13 -> 1 | T13: =População!C13 -> 2027 | U13: =(População!D13/E13) -> 2.6017406 | V13: =(População!G13/I13) -> 2.6100711 | W13: =População!E13/Imóveis!G13 -> 2.4293428
B14: =População!B14 -> 2 | C14: =População!C14 -> 2028 | D14: 32697.5 | E14: 19108.576 | F14: =E14/E13-1 -> 0.021522457 | G14: =G13*(1+H14) -> 866.54749 | H14: 0.005 | I14: =E14-G14 -> 18242.028 | J14: =População!G14/I14 -> 2.5828561 | K14: =ROUND(População!G14/$J$8,0) -> 17103 | L14: =ROUND($K14*K$3,0) -> 1335 | M14: =ROUND($K14*L$3,0) -> 134 | N14: =ROUND($K14*M$3,0) -> 102 | O14: =ROUND($K14*N$3,0) -> 181 | P14: =P13*(1-$P$3) -> 357.91629 | Q14: =L14+I14+M14+N14+O14+P14 -> 20351.945 | S14: =População!B14 -> 2 | T14: =População!C14 -> 2028 | U14: =(População!D14/E14) -> 2.5741736 | V14: =(População!G14/I14) -> 2.5828561 | W14: =População!E14/Imóveis!G14 -> 2.3913947
B15: =População!B15 -> 3 | C15: =População!C15 -> 2029 | D15: 32697.5 | E15: 19507.758 | F15: =E15/E14-1 -> 0.020890223 | G15: =G14*(1+H15) -> 870.88022 | H15: 0.005 | I15: =E15-G15 -> 18636.878 | J15: =População!G15/I15 -> 2.5562785 | K15: =ROUND(População!G15/$J$8,0) -> 17294 | L15: =ROUND($K15*K$3,0) -> 1350 | M15: =ROUND($K15*L$3,0) -> 136 | N15: =ROUND($K15*M$3,0) -> 103 | O15: =ROUND($K15*N$3,0) -> 183 | P15: =P14*(1-$P$3) -> 356.12671 | Q15: =L15+I15+M15+N15+O15+P15 -> 20765.005 | S15: =População!B15 -> 3 | T15: =População!C15 -> 2029 | U15: =(População!D15/E15) -> 2.5472996 | V15: =(População!G15/I15) -> 2.5562785 | W15: =População!E15/Imóveis!G15 -> 2.3551496
B16: =População!B16 -> 4 | C16: =População!C16 -> 2030 | D16: 32697.5 | E16: 19903.066 | F16: =E16/E15-1 -> 0.020264125 | G16: =G15*(1+H16) -> 875.23462 | H16: 0.005 | I16: =E16-G16 -> 19027.831 | J16: =População!G16/I16 -> 2.530356 | K16: =ROUND(População!G16/$J$8,0) -> 17478 | L16: =ROUND($K16*K$3,0) -> 1365 | M16: =ROUND($K16*L$3,0) -> 137 | N16: =ROUND($K16*M$3,0) -> 104 | O16: =ROUND($K16*N$3,0) -> 185 | P16: =P15*(1-$P$3) -> 354.34608 | Q16: =L16+I16+M16+N16+O16+P16 -> 21173.177 | S16: =População!B16 -> 4 | T16: =População!C16 -> 2030 | U16: =(População!D16/E16) -> 2.521128 | V16: =(População!G16/I16) -> 2.530356 | W16: =População!E16/Imóveis!G16 -> 2.3205097
B17: =População!B17 -> 5 | C17: =População!C17 -> 2031 | D17: 32697.5 | E17: 20294.059 | F17: =E17/E16-1 -> 0.019644861 | G17: =G16*(1+H17) -> 879.6108 | H17: 0.005 | I17: =E17-G17 -> 19414.448 | J17: =População!G17/I17 -> 2.5051024 | K17: =ROUND(População!G17/$J$8,0) -> 17655 | L17: =ROUND($K17*K$3,0) -> 1378 | M17: =ROUND($K17*L$3,0) -> 139 | N17: =ROUND($K17*M$3,0) -> 105 | O17: =ROUND($K17*N$3,0) -> 187 | P17: =P16*(1-$P$3) -> 352.57435 | Q17: =L17+I17+M17+N17+O17+P17 -> 21576.022 | S17: =População!B17 -> 5 | T17: =População!C17 -> 2031 | U17: =(População!D17/E17) -> 2.4956658 | V17: =(População!G17/I17) -> 2.5051024 | W17: =População!E17/Imóveis!G17 -> 2.2873832
B18: =População!B18 -> 6 | C18: =População!C18 -> 2032 | D18: 32697.5 | E18: 20680.318 | F18: =E18/E17-1 -> 0.019033096 | G18: =G17*(1+H18) -> 884.00885 | H18: 0.005 | I18: =E18-G18 -> 19796.309 | J18: =População!G18/I18 -> 2.4805286 | K18: =ROUND(População!G18/$J$8,0) -> 17825 | L18: =ROUND($K18*K$3,0) -> 1392 | M18: =ROUND($K18*L$3,0) -> 140 | N18: =ROUND($K18*M$3,0) -> 106 | O18: =ROUND($K18*N$3,0) -> 189 | P18: =P17*(1-$P$3) -> 350.81148 | Q18: =L18+I18+M18+N18+O18+P18 -> 21974.12 | S18: =População!B18 -> 6 | T18: =População!C18 -> 2032 | U18: =(População!D18/E18) -> 2.4709173 | V18: =(População!G18/I18) -> 2.4805286 | W18: =População!E18/Imóveis!G18 -> 2.2556835
B19: =População!B19 -> 7 | C19: =População!C19 -> 2033 | D19: 32697.5 | E19: 21061.445 | F19: =E19/E18-1 -> 0.018429458 | G19: =G18*(1+H19) -> 888.4289 | H19: 0.005 | I19: =E19-G19 -> 20173.016 | J19: =População!G19/I19 -> 2.456642 | K19: =ROUND(População!G19/$J$8,0) -> 17990 | L19: =ROUND($K19*K$3,0) -> 1405 | M19: =ROUND($K19*L$3,0) -> 141 | N19: =ROUND($K19*M$3,0) -> 107 | O19: =ROUND($K19*N$3,0) -> 191 | P19: =P18*(1-$P$3) -> 349.05742 | Q19: =L19+I19+M19+N19+O19+P19 -> 22366.073 | S19: =População!B19 -> 7 | T19: =População!C19 -> 2033 | U19: =(População!D19/E19) -> 2.4468846 | V19: =(População!G19/I19) -> 2.456642 | W19: =População!E19/Imóveis!G19 -> 2.2253295
B20: =População!B20 -> 8 | C20: =População!C20 -> 2034 | D20: 32697.5 | E20: 21437.066 | F20: =E20/E19-1 -> 0.01783454 | G20: =G19*(1+H20) -> 892.87104 | H20: 0.005 | I20: =E20-G20 -> 20544.195 | J20: =População!G20/I20 -> 2.4334473 | K20: =ROUND(População!G20/$J$8,0) -> 18148 | L20: =ROUND($K20*K$3,0) -> 1417 | M20: =ROUND($K20*L$3,0) -> 142 | N20: =ROUND($K20*M$3,0) -> 108 | O20: =ROUND($K20*N$3,0) -> 192 | P20: =P19*(1-$P$3) -> 347.31213 | Q20: =L20+I20+M20+N20+O20+P20 -> 22750.507 | S20: =População!B20 -> 8 | T20: =População!C20 -> 2034 | U20: =(População!D20/E20) -> 2.4235676 | V20: =(População!G20/I20) -> 2.4334473 | W20: =População!E20/Imóveis!G20 -> 2.1962444
B21: =População!B21 -> 9 | C21: =População!C21 -> 2035 | D21: 32697.5 | E21: 21806.832 | F21: =E21/E20-1 -> 0.017248896 | G21: =G20*(1+H21) -> 897.33539 | H21: 0.005 | I21: =E21-G21 -> 20909.496 | J21: =População!G21/I21 -> 2.4109467 | K21: =ROUND(População!G21/$J$8,0) -> 18300 | L21: =ROUND($K21*K$3,0) -> 1429 | M21: =ROUND($K21*L$3,0) -> 144 | N21: =ROUND($K21*M$3,0) -> 109 | O21: =ROUND($K21*N$3,0) -> 194 | P21: =P20*(1-$P$3) -> 345.57557 | Q21: =L21+I21+M21+N21+O21+P21 -> 23131.072 | S21: =População!B21 -> 9 | T21: =População!C21 -> 2035 | U21: =(População!D21/E21) -> 2.4009643 | V21: =(População!G21/I21) -> 2.4109467 | W21: =População!E21/Imóveis!G21 -> 2.1683564
... B45: =População!B45 -> 33 | C45: =População!C45 -> 2059 | D45: 32697.5 | E45: 28465.778 | F45: =E45/E44-1 -> 0.0067023014 | G45: =G44*(1+H45) -> 1011.4404 | H45: 0.005 | I45: =E45-G45 -> 27454.337 | J45: =População!G45/I45 -> 2.0572449 | K45: =ROUND(População!G45/$J$8,0) -> 20502 | L45: =ROUND($K45*K$3,0) -> 1601 | M45: =ROUND($K45*L$3,0) -> 161 | N45: =ROUND($K45*M$3,0) -> 122 | O45: =ROUND($K45*N$3,0) -> 217 | P45: =P44*(1-$P$3) -> 306.40579 | Q45: =L45+I45+M45+N45+O45+P45 -> 29861.743 | S45: =População!B45 -> 33 | T45: =População!C45 -> 2059 | U45: =(População!D45/E45) -> 2.0455761 | V45: =(População!G45/I45) -> 2.0572449 | W45: =População!E45/Imóveis!G45 -> 1.728841
B46: =População!B46 -> 34 | C46: =População!C46 -> 2060 | D46: 32697.5 | E46: 28634 | F46: =E46/E45-1 -> 0.0059096395 | G46: 1016 | H46: 0.005 | I46: =E46-G46 -> 27618 | J46: =População!G46/I46 -> 2.0499312 | K46: =ROUND(População!G46/$J$8,0) -> 20551 | L46: =ROUND($K46*K$3,0) -> 1604 | M46: =ROUND($K46*L$3,0) -> 161 | N46: =ROUND($K46*M$3,0) -> 123 | O46: =ROUND($K46*N$3,0) -> 218 | P46: =P45*(1-$P$3) -> 304.87376 | Q46: =L46+I46+M46+N46+O46+P46 -> 30028.874 | S46: =População!B46 -> 34 | T46: =População!C46 -> 2060 | U46: =(População!D46/E46) -> 2.0335585 | V46: =(População!G46/I46) -> 2.0499312 | W46: =População!E46/Imóveis!G46 -> 1.7210822
B47: =População!B47 -> 35 | C47: =População!C47 -> 2061 | D47: 32697.5 | E47: 28839.9 | F47: =E47/E46-1 -> 0.0071907656 | G47: 1021 | H47: 0.005 | I47: =E47-G47 -> 27818.9 | J47: =População!G47/I47 -> 2.0303568 | K47: =ROUND(População!G47/$J$8,0) -> 20503 | L47: =ROUND($K47*K$3,0) -> 1601 | M47: =ROUND($K47*L$3,0) -> 161 | N47: =ROUND($K47*M$3,0) -> 122 | O47: =ROUND($K47*N$3,0) -> 217 | P47: =P46*(1-$P$3) -> 303.34939 | Q47: =L47+I47+M47+N47+O47+P47 -> 30223.25 | S47: =População!B47 -> 35 | T47: =População!C47 -> 2061 | U47: =(População!D47/E47) -> 2.0190401 | V47: =(População!G47/I47) -> 2.0303568 | W47: =População!E47/Imóveis!G47 -> 1.7126538

Sheet Atendimento 
B5: ATENDIMENTO
B6: =População!B6 -> ANO | D6: Índice de Atendimento Total de Água | E6: Densidade de Economias por Ligação Água | F6: Índice de Atendimento Total de Esgoto | G6: Densidade de Economias por Ligação Esgoto | H6: População Atendida Água | I6: população Atendida Esgoto
D7: % | E7: un. | F7: % | G7: un. | H7: hab. | I7: hab.
B8: =População!B8 -> CENSO | C8: =População!C8 -> 2022 | D8: 0.964 | E8: 1.3351 | F8: 0 | G8: =IF(F8=0,0,E8) -> 0 | H8: =ROUND(População!G8*D8,0) -> 42006 | I8: =ROUND(População!G8*F8,0) -> 0
B9: =População!B9 -> -2 | C9: =População!C9 -> 2023 | D9: =D8 -> 0.964 | E9: =E8*(1+$E$3*Imóveis!F9) -> 1.3351 | F9: 0 | G9: =IF(F9=0,0,E9) -> 0 | H9: =ROUND(População!G9*D9,0) -> 42621 | I9: =ROUND(População!G9*F9,0) -> 0
B10: =População!B10 -> -1 | C10: =População!C10 -> 2024 | D10: 0.964 | E10: =E9 -> 1.3351 | F10: 0 | G10: =IF(F10=0,0,E10) -> 0 | H10: =ROUND(População!G10*D10,0) -> 43217 | I10: =ROUND(População!G10*F10,0) -> 0
B11: =População!B11 -> Base | C11: =População!C11 -> 2025 | D11: 0.964 | E11: =E10 -> 1.3351 | F11: 0 | G11: =IF(F11=0,0,E11) -> 0 | H11: =ROUND(População!G11*D11,0) -> 43795 | I11: =ROUND(População!G11*F11,0) -> 0
B12: =População!B12 -> 0 | C12: =População!C12 -> 2026 | D12: 0.964 | E12: =E11 -> 1.3351 | F12: 0 | G12: =IF(F12=0,0,E12) -> 0 | H12: =ROUND(População!G12*D12,0) -> 44355 | I12: =ROUND(População!G12*F12,0) -> 0
B13: =População!B13 -> 1 | C13: =População!C13 -> 2027 | D13: 0.964 | E13: =E12 -> 1.3351 | F13: 0 | G13: =IF(F13=0,0,E13) -> 0 | H13: =ROUND(População!G13*D13,0) -> 44897 | I13: =ROUND(População!G13*F13,0) -> 0
B14: =População!B14 -> 2 | C14: =População!C14 -> 2028 | D14: 0.994 | E14: =E13 -> 1.3351 | F14: 0.2 | G14: =IF(F14=0,0,E14) -> 1.3351 | H14: =ROUND(População!G14*D14,0) -> 46834 | I14: =ROUND(População!G14*F14,0) -> 9423
B15: =População!B15 -> 3 | C15: =População!C15 -> 2029 | D15: 1 | E15: =E14 -> 1.3351 | F15: 0.4 | G15: =IF(F15=0,0,E15) -> 1.3351 | H15: =ROUND(População!G15*D15,0) -> 47641 | I15: =ROUND(População!G15*F15,0) -> 19056
B16: =População!B16 -> 4 | C16: =População!C16 -> 2030 | D16: =D15 -> 1 | E16: =E15 -> 1.3351 | F16: 0.6 | G16: =IF(F16=0,0,E16) -> 1.3351 | H16: =ROUND(População!G16*D16,0) -> 48147 | I16: =ROUND(População!G16*F16,0) -> 28888
B17: =População!B17 -> 5 | C17: =População!C17 -> 2031 | D17: =D16 -> 1 | E17: =E16 -> 1.3351 | F17: 0.8 | G17: =IF(F17=0,0,E17) -> 1.3351 | H17: =ROUND(População!G17*D17,0) -> 48635 | I17: =ROUND(População!G17*F17,0) -> 38908
B18: =População!B18 -> 6 | C18: =População!C18 -> 2032 | D18: =D17 -> 1 | E18: =E17 -> 1.3351 | F18: 0.85 | G18: =IF(F18=0,0,E18) -> 1.3351 | H18: =ROUND(População!G18*D18,0) -> 49105 | I18: =ROUND(População!G18*F18,0) -> 41740
B19: =População!B19 -> 7 | C19: =População!C19 -> 2033 | D19: =D18 -> 1 | E19: =E18 -> 1.3351 | F19: 0.9 | G19: =IF(F19=0,0,E19) -> 1.3351 | H19: =ROUND(População!G19*D19,0) -> 49558 | I19: =ROUND(População!G19*F19,0) -> 44602
B20: =População!B20 -> 8 | C20: =População!C20 -> 2034 | D20: =D19 -> 1 | E20: =E19 -> 1.3351 | F20: 0.92 | G20: =IF(F20=0,0,E20) -> 1.3351 | H20: =ROUND(População!G20*D20,0) -> 49993 | I20: =ROUND(População!G20*F20,0) -> 45994
B21: =População!B21 -> 9 | C21: =População!C21 -> 2035 | D21: =D20 -> 1 | E21: =E20 -> 1.3351 | F21: 0.94 | G21: =IF(F21=0,0,E21) -> 1.3351 | H21: =ROUND(População!G21*D21,0) -> 50412 | I21: =ROUND(População!G21*F21,0) -> 47387
B22: =População!B22 -> 10 | C22: =População!C22 -> 2036 | D22: =D21 -> 1 | E22: =E21 -> 1.3351 | F22: 0.96 | G22: =IF(F22=0,0,E22) -> 1.3351 | H22: =ROUND(População!G22*D22,0) -> 50814 | I22: =ROUND(População!G22*F22,0) -> 48781
B23: =População!B23 -> 11 | C23: =População!C23 -> 2037 | D23: =D22 -> 1 | E23: =E22 -> 1.3351 | F23: 0.98 | G23: =IF(F23=0,0,E23) -> 1.3351 | H23: =ROUND(População!G23*D23,0) -> 51200 | I23: =ROUND(População!G23*F23,0) -> 50176
B24: =População!B24 -> 12 | C24: =População!C24 -> 2038 | D24: =D23 -> 1 | E24: =E23 -> 1.3351 | F24: 1 | G24: =IF(F24=0,0,E24) -> 1.3351 | H24: =ROUND(População!G24*D24,0) -> 51570 | I24: =ROUND(População!G24*F24,0) -> 51570
B25: =População!B25 -> 13 | C25: =População!C25 -> 2039 | D25: =D24 -> 1 | E25: =E24 -> 1.3351 | F25: 1 | G25: =IF(F25=0,0,E25) -> 1.3351 | H25: =ROUND(População!G25*D25,0) -> 51925 | I25: =ROUND(População!G25*F25,0) -> 51925
B26: =População!B26 -> 14 | C26: =População!C26 -> 2040 | D26: =D25 -> 1 | E26: =E25 -> 1.3351 | F26: 1 | G26: =IF(F26=0,0,E26) -> 1.3351 | H26: =ROUND(População!G26*D26,0) -> 52265 | I26: =ROUND(População!G26*F26,0) -> 52265
B27: =População!B27 -> 15 | C27: =População!C27 -> 2041 | D27: =D26 -> 1 | E27: =E26 -> 1.3351 | F27: 1 | G27: =IF(F27=0,0,E27) -> 1.3351 | H27: =ROUND(População!G27*D27,0) -> 52590 | I27: =ROUND(População!G27*F27,0) -> 52590
... B47: =População!B47 -> 35 | C47: =População!C47 -> 2061 | D47: =D46 -> 1 | E47: =E46 -> 1.3351 | F47: 1 | G47: =IF(F47=0,0,E47) -> 1.3351 | H47: =ROUND(População!G47*D47,0) -> 56482 | I47: =ROUND(População!G47*F47,0) -> 56482

Sheet Economais e Ligações Água
B5: ECONOMIAS E LIGAÇÕES ÁGUA
B6: =População!B6 -> ANO | D6: Economia Residencial | E6: Ligação Residencial | F6: Eco/Lig Residencial | G6: Economia Comercial | H6: Eco/Lig Comercial | I6: Ligação Comercial | J6: Economia Industrial | K6: Eco/Lig industial | L6: Ligação Industrial | M6: Economia Pública | N6: Eco/Lig Pública | O6: Ligação Pública | P6: Economia Especial | Q6: Eco/Lig Especial | R6: Ligação Especial | S6: Economias Ativas Totais | T6: Ligações Ativas Totais | U6: Diminuição de Lotes vago sobre móveis | V6: Diminuição de Lote vago Sobreligações total | W6: Economias Totais de Água (Com e Sem Atendimento) | X6: Ligações Totais de Água (Com e Sem Atendimento)
D7: un. | E7: un. | F7: un. | G7: un. | H7: un. | I7: un. | J7: un. | K7: un. | L7: un. | M7: un. | N7: un. | O7: un. | P7: un. | Q7: un. | R7: un. | S7: un. | T7: un. | U7: un. | V7: un. | W7: un. | X7: un.
B8: =População!B8 -> CENSO | C8: =População!C8 -> 2022 | D8: =Imóveis!I8*'Atendimento '!D8 -> 15248.391 | E8: =D8/'Atendimento '!$E8 -> 11421.16 | F8: =D8/E8 -> 1.3351 | G8: =Imóveis!L8*'Atendimento '!D8 -> 1190.54 | H8: 1.2918 | I8: =G8/H8 -> 921.61325 | J8: =Imóveis!M8*'Atendimento '!D8 -> 119.536 | K8: 1.0246 | L8: =J8/K8 -> 116.66602 | M8: =Imóveis!N8*'Atendimento '!D8 -> 90.616 | N8: 1.0106 | O8: =M8/N8 -> 89.665545 | P8: =Imóveis!O8*'Atendimento '!D8 -> 161.952 | Q8: 1 | R8: =P8/Q8 -> 161.952 | S8: =D8+G8+J8+M8+P8 -> 16811.035 | T8: =E8+I8+L8+O8+R8 -> 12711.057 | U8: =Imóveis!P8 -> 367 | V8: =Imóveis!P8 -> 367 | W8: =S8/'Atendimento '!D8 -> 17438.833 | X8: =T8/'Atendimento '!D8 -> 13185.743
B9: =População!B9 -> -2 | C9: =População!C9 -> 2023 | D9: =Imóveis!I9*'Atendimento '!D9 -> 15641.791 | E9: =D9/'Atendimento '!$E9 -> 11715.82 | F9: =D9/E9 -> 1.3351 | G9: =Imóveis!L9*'Atendimento '!D9 -> 1207.892 | H9: =H8 -> 1.2918 | I9: =G9/H9 -> 935.04567 | J9: =Imóveis!M9*'Atendimento '!D9 -> 121.464 | K9: =K8 -> 1.0246 | L9: =J9/K9 -> 118.54773 | M9: =Imóveis!N9*'Atendimento '!D9 -> 92.544 | N9: =N8 -> 1.0106 | O9: =M9/N9 -> 91.573323 | P9: =Imóveis!O9*'Atendimento '!D9 -> 163.88 | Q9: 1 | R9: =P9/Q9 -> 163.88 | S9: =D9+G9+J9+M9+P9 -> 17227.571 | T9: =E9+I9+L9+O9+R9 -> 13024.866 | U9: =Imóveis!P9 -> 367 | V9: =Imóveis!P9 -> 367 | W9: =S9/'Atendimento '!D9 -> 17870.924 | X9: =T9/'Atendimento '!D9 -> 13511.272
B10: =População!B10 -> -1 | C10: =População!C10 -> 2024 | D10: =Imóveis!I10*'Atendimento '!D10 -> 16034.285 | E10: =D10/'Atendimento '!$E10 -> 12009.801 | F10: =D10/E10 -> 1.3351 | G10: =Imóveis!L10*'Atendimento '!D10 -> 1225.244 | H10: =H9 -> 1.2918 | I10: =G10/H10 -> 948.47809 | J10: =Imóveis!M10*'Atendimento '!D10 -> 123.392 | K10: =K9 -> 1.0246 | L10: =J10/K10 -> 120.42944 | M10: =Imóveis!N10*'Atendimento '!D10 -> 93.508 | N10: =N9 -> 1.0106 | O10: =M10/N10 -> 92.527212 | P10: =Imóveis!O10*'Atendimento '!D10 -> 166.772 | Q10: 1 | R10: =P10/Q10 -> 166.772 | S10: =D10+G10+J10+M10+P10 -> 17643.201 | T10: =E10+I10+L10+O10+R10 -> 13338.007 | U10: =Imóveis!P10 -> 365.165 | V10: =Imóveis!P10 -> 365.165 | W10: =S10/'Atendimento '!D10 -> 18302.076 | X10: =T10/'Atendimento '!D10 -> 13836.107
B11: =População!B11 -> Base | C11: =População!C11 -> 2025 | D11: =Imóveis!I11*'Atendimento '!D11 -> 16425.373 | E11: =D11/'Atendimento '!$E11 -> 12302.729 | F11: =D11/E11 -> 1.3351 | G11: =Imóveis!L11*'Atendimento '!D11 -> 1241.632 | H11: =H10 -> 1.2918 | I11: =G11/H11 -> 961.16427 | J11: =Imóveis!M11*'Atendimento '!D11 -> 124.356 | K11: =K10 -> 1.0246 | L11: =J11/K11 -> 121.37029 | M11: =Imóveis!N11*'Atendimento '!D11 -> 94.472 | N11: =N10 -> 1.0106 | O11: =M11/N11 -> 93.4811 | P11: =Imóveis!O11*'Atendimento '!D11 -> 168.7 | Q11: 1 | R11: =P11/Q11 -> 168.7 | S11: =D11+G11+J11+M11+P11 -> 18054.533 | T11: =E11+I11+L11+O11+R11 -> 13647.444 | U11: =Imóveis!P11 -> 363.33918 | V11: =Imóveis!P11 -> 363.33918 | W11: =S11/'Atendimento '!D11 -> 18728.769 | X11: =T11/'Atendimento '!D11 -> 14157.1
B12: =População!B12 -> 0 | C12: =População!C12 -> 2026 | D12: =Imóveis!I12*'Atendimento '!D12 -> 16814.561 | E12: =D12/'Atendimento '!$E12 -> 12594.234 | F12: =D12/E12 -> 1.3351 | G12: =Imóveis!L12*'Atendimento '!D12 -> 1257.056 | H12: =H11 -> 1.2918 | I12: =G12/H12 -> 973.1042 | J12: =Imóveis!M12*'Atendimento '!D12 -> 126.284 | K12: =K11 -> 1.0246 | L12: =J12/K12 -> 123.252 | M12: =Imóveis!N12*'Atendimento '!D12 -> 96.4 | N12: =N11 -> 1.0106 | O12: =M12/N12 -> 95.388878 | P12: =Imóveis!O12*'Atendimento '!D12 -> 170.628 | Q12: 1 | R12: =P12/Q12 -> 170.628 | S12: =D12+G12+J12+M12+P12 -> 18464.929 | T12: =E12+I12+L12+O12+R12 -> 13956.607 | U12: =Imóveis!P12 -> 361.52248 | V12: =Imóveis!P12 -> 361.52248 | W12: =S12/'Atendimento '!D12 -> 19154.491 | X12: =T12/'Atendimento '!D12 -> 14477.808
B13: =População!B13 -> 1 | C13: =População!C13 -> 2027 | D13: =Imóveis!I13*'Atendimento '!D13 -> 17201.366 | E13: =D13/'Atendimento '!$E13 -> 12883.953 | F13: =D13/E13 -> 1.3351 | G13: =Imóveis!L13*'Atendimento '!D13 -> 1272.48 | H13: =H12 -> 1.2918 | I13: =G13/H13 -> 985.04412 | J13: =Imóveis!M13*'Atendimento '!D13 -> 128.212 | K13: =K12 -> 1.0246 | L13: =J13/K13 -> 125.13371 | M13: =Imóveis!N13*'Atendimento '!D13 -> 97.364 | N13: =N12 -> 1.0106 | O13: =M13/N13 -> 96.342767 | P13: =Imóveis!O13*'Atendimento '!D13 -> 172.556 | Q13: 1 | R13: =P13/Q13 -> 172.556 | S13: =D13+G13+J13+M13+P13 -> 18871.978 | T13: =E13+I13+L13+O13+R13 -> 14263.03 | U13: =Imóveis!P13 -> 359.71487 | V13: =Imóveis!P13 -> 359.71487 | W13: =S13/'Atendimento '!D13 -> 19576.741 | X13: =T13/'Atendimento '!D13 -> 14795.674
B14: =População!B14 -> 2 | C14: =População!C14 -> 2028 | D14: =Imóveis!I14*'Atendimento '!D14 -> 18132.576 | E14: =D14/'Atendimento '!$E14 -> 13581.437 | F14: =D14/E14 -> 1.3351 | G14: =Imóveis!L14*'Atendimento '!D14 -> 1326.99 | H14: =H13 -> 1.2918 | I14: =G14/H14 -> 1027.2411 | J14: =Imóveis!M14*'Atendimento '!D14 -> 133.196 | K14: =K13 -> 1.0246 | L14: =J14/K14 -> 129.99805 | M14: =Imóveis!N14*'Atendimento '!D14 -> 101.388 | N14: =N13 -> 1.0106 | O14: =M14/N14 -> 100.32456 | P14: =Imóveis!O14*'Atendimento '!D14 -> 179.914 | Q14: 1 | R14: =P14/Q14 -> 179.914 | S14: =D14+G14+J14+M14+P14 -> 19874.064 | T14: =E14+I14+L14+O14+R14 -> 15018.914 | U14: =Imóveis!P14 -> 357.91629 | V14: =Imóveis!P14 -> 357.91629 | W14: =S14/'Atendimento '!D14 -> 19994.028 | X14: =T14/'Atendimento '!D14 -> 15109.572
B15: =População!B15 -> 3 | C15: =População!C15 -> 2029 | D15: =Imóveis!I15*'Atendimento '!D15 -> 18636.878 | E15: =D15/'Atendimento '!$E15 -> 13959.163 | F15: =D15/E15 -> 1.3351 | G15: =Imóveis!L15*'Atendimento '!D15 -> 1350 | H15: =H14 -> 1.2918 | I15: =G15/H15 -> 1045.0534 | J15: =Imóveis!M15*'Atendimento '!D15 -> 136 | K15: =K14 -> 1.0246 | L15: =J15/K15 -> 132.73473 | M15: =Imóveis!N15*'Atendimento '!D15 -> 103 | N15: =N14 -> 1.0106 | O15: =M15/N15 -> 101.91965 | P15: =Imóveis!O15*'Atendimento '!D15 -> 183 | Q15: 1 | R15: =P15/Q15 -> 183 | S15: =D15+G15+J15+M15+P15 -> 20408.878 | T15: =E15+I15+L15+O15+R15 -> 15421.87 | U15: =Imóveis!P15 -> 356.12671 | V15: =Imóveis!P15 -> 356.12671 | W15: =S15/'Atendimento '!D15 -> 20408.878 | X15: =T15/'Atendimento '!D15 -> 15421.87
B16: =População!B16 -> 4 | C16: =População!C16 -> 2030 | D16: =Imóveis!I16*'Atendimento '!D16 -> 19027.831 | E16: =D16/'Atendimento '!$E16 -> 14251.99 | F16: =D16/E16 -> 1.3351 | G16: =Imóveis!L16*'Atendimento '!D16 -> 1365 | H16: =H15 -> 1.2918 | I16: =G16/H16 -> 1056.6651 | J16: =Imóveis!M16*'Atendimento '!D16 -> 137 | K16: =K15 -> 1.0246 | L16: =J16/K16 -> 133.71072 | M16: =Imóveis!N16*'Atendimento '!D16 -> 104 | N16: =N15 -> 1.0106 | O16: =M16/N16 -> 102.90916 | P16: =Imóveis!O16*'Atendimento '!D16 -> 185 | Q16: 1 | R16: =P16/Q16 -> 185 | S16: =D16+G16+J16+M16+P16 -> 20818.831 | T16: =E16+I16+L16+O16+R16 -> 15730.275 | U16: =Imóveis!P16 -> 354.34608 | V16: =Imóveis!P16 -> 354.34608 | W16: =S16/'Atendimento '!D16 -> 20818.831 | X16: =T16/'Atendimento '!D16 -> 15730.275
B17: =População!B17 -> 5 | C17: =População!C17 -> 2031 | D17: =Imóveis!I17*'Atendimento '!D17 -> 19414.448 | E17: =D17/'Atendimento '!$E17 -> 14541.568 | F17: =D17/E17 -> 1.3351 | G17: =Imóveis!L17*'Atendimento '!D17 -> 1378 | H17: =H16 -> 1.2918 | I17: =G17/H17 -> 1066.7286 | J17: =Imóveis!M17*'Atendimento '!D17 -> 139 | K17: =K16 -> 1.0246 | L17: =J17/K17 -> 135.6627 | M17: =Imóveis!N17*'Atendimento '!D17 -> 105 | N17: =N16 -> 1.0106 | O17: =M17/N17 -> 103.89867 | P17: =Imóveis!O17*'Atendimento '!D17 -> 187 | Q17: 1 | R17: =P17/Q17 -> 187 | S17: =D17+G17+J17+M17+P17 -> 21223.448 | T17: =E17+I17+L17+O17+R17 -> 16034.858 | U17: =Imóveis!P17 -> 352.57435 | V17: =Imóveis!P17 -> 352.57435 | W17: =S17/'Atendimento '!D17 -> 21223.448 | X17: =T17/'Atendimento '!D17 -> 16034.858
B18: =População!B18 -> 6 | C18: =População!C18 -> 2032 | D18: =Imóveis!I18*'Atendimento '!D18 -> 19796.309 | E18: =D18/'Atendimento '!$E18 -> 14827.585 | F18: =D18/E18 -> 1.3351 | G18: =Imóveis!L18*'Atendimento '!D18 -> 1392 | H18: =H17 -> 1.2918 | I18: =G18/H18 -> 1077.5662 | J18: =Imóveis!M18*'Atendimento '!D18 -> 140 | K18: =K17 -> 1.0246 | L18: =J18/K18 -> 136.63869 | M18: =Imóveis!N18*'Atendimento '!D18 -> 106 | N18: =N17 -> 1.0106 | O18: =M18/N18 -> 104.88819 | P18: =Imóveis!O18*'Atendimento '!D18 -> 189 | Q18: 1 | R18: =P18/Q18 -> 189 | S18: =D18+G18+J18+M18+P18 -> 21623.309 | T18: =E18+I18+L18+O18+R18 -> 16335.678 | U18: =Imóveis!P18 -> 350.81148 | V18: =Imóveis!P18 -> 350.81148 | W18: =S18/'Atendimento '!D18 -> 21623.309 | X18: =T18/'Atendimento '!D18 -> 16335.678
B19: =População!B19 -> 7 | C19: =População!C19 -> 2033 | D19: =Imóveis!I19*'Atendimento '!D19 -> 20173.016 | E19: =D19/'Atendimento '!$E19 -> 15109.741 | F19: =D19/E19 -> 1.3351 | G19: =Imóveis!L19*'Atendimento '!D19 -> 1405 | H19: =H18 -> 1.2918 | I19: =G19/H19 -> 1087.6297 | J19: =Imóveis!M19*'Atendimento '!D19 -> 141 | K19: =K18 -> 1.0246 | L19: =J19/K19 -> 137.61468 | M19: =Imóveis!N19*'Atendimento '!D19 -> 107 | N19: =N18 -> 1.0106 | O19: =M19/N19 -> 105.8777 | P19: =Imóveis!O19*'Atendimento '!D19 -> 191 | Q19: 1 | R19: =P19/Q19 -> 191 | S19: =D19+G19+J19+M19+P19 -> 22017.016 | T19: =E19+I19+L19+O19+R19 -> 16631.863 | U19: =Imóveis!P19 -> 349.05742 | V19: =Imóveis!P19 -> 349.05742 | W19: =S19/'Atendimento '!D19 -> 22017.016 | X19: =T19/'Atendimento '!D19 -> 16631.863
B20: =População!B20 -> 8 | C20: =População!C20 -> 2034 | D20: =Imóveis!I20*'Atendimento '!D20 -> 20544.195 | E20: =D20/'Atendimento '!$E20 -> 15387.757 | F20: =D20/E20 -> 1.3351 | G20: =Imóveis!L20*'Atendimento '!D20 -> 1417 | H20: =H19 -> 1.2918 | I20: =G20/H20 -> 1096.919 | J20: =Imóveis!M20*'Atendimento '!D20 -> 142 | K20: =K19 -> 1.0246 | L20: =J20/K20 -> 138.59067 | M20: =Imóveis!N20*'Atendimento '!D20 -> 108 | N20: =N19 -> 1.0106 | O20: =M20/N20 -> 106.86721 | P20: =Imóveis!O20*'Atendimento '!D20 -> 192 | Q20: 1 | R20: =P20/Q20 -> 192 | S20: =D20+G20+J20+M20+P20 -> 22403.195 | T20: =E20+I20+L20+O20+R20 -> 16922.134 | U20: =Imóveis!P20 -> 347.31213 | V20: =Imóveis!P20 -> 347.31213 | W20: =S20/'Atendimento '!D20 -> 22403.195 | X20: =T20/'Atendimento '!D20 -> 16922.134
... B47: =População!B47 -> 35 | C47: =População!C47 -> 2061 | D47: =Imóveis!I47*'Atendimento '!D47 -> 27818.9 | E47: =D47/'Atendimento '!$E47 -> 20836.567 | F47: =D47/E47 -> 1.3351 | G47: =Imóveis!L47*'Atendimento '!D47 -> 1601 | H47: =H46 -> 1.2918 | I47: =G47/H47 -> 1239.3559 | J47: =Imóveis!M47*'Atendimento '!D47 -> 161 | K47: =K46 -> 1.0246 | L47: =J47/K47 -> 157.13449 | M47: =Imóveis!N47*'Atendimento '!D47 -> 122 | N47: =N46 -> 1.0106 | O47: =M47/N47 -> 120.72036 | P47: =Imóveis!O47*'Atendimento '!D47 -> 217 | Q47: 3 | R47: =P47/Q47 -> 72.333333 | S47: =D47+G47+J47+M47+P47 -> 29919.9 | T47: =E47+I47+L47+O47+R47 -> 22426.111 | U47: =Imóveis!P47 -> 303.34939 | V47: =Imóveis!P47 -> 303.34939 | W47: =S47/'Atendimento '!D47 -> 29919.9 | X47: =T47/'Atendimento '!D47 -> 22426.111

Sheet Economais e Ligações Esgoto
B5: ECONOMIAS E LIGAÇÕES DE ESGOTO
B6: =População!B6 -> ANO | D6: Economia Residencial | E6: Ligação Residencial | F6: Economia Comercial | G6: Eco/Lig Comercial | H6: Ligação Comercial | I6: Economia Industrial | J6: Eco/Lig Industrial | K6: Ligação Industrial | L6: Economia Pública | M6: Eco/Lig Pública | N6: Ligação Pública | O6: Economia Especial | P6: Eco/Lig Especial | Q6: Ligação Especial | R6: Economias Ativas Totais | S6: Ligações Ativas Totais | T6: Economias Totais de Esgoto (Com e Sem Atendimento) | U6: Ligações Totais de Esgoto (Com e Sem Atendimento)
D7: un. | E7: un. | F7: un. | G7: un. | H7: un. | I7: un. | J7: un. | K7: un. | L7: un. | M7: un. | N7: un. | O7: un. | P7: un. | Q7: un. | R7: un. | S7: un. | T7: un. | U7: un.
B8: =População!B8 -> CENSO | C8: =População!C8 -> 2022 | D8: =Imóveis!$I8*'Atendimento '!$F8 -> 0 | E8: =Imóveis!$I8*'Atendimento '!$F8 -> 0 | F8: =Imóveis!L8*'Atendimento '!F8 -> 0 | G8: ='Economais e Ligações Água'!H8 -> 1.2918 | H8: =F8/G8 -> 0 | I8: =Imóveis!M8*'Atendimento '!F8 -> 0 | J8: ='Economais e Ligações Água'!K8 -> 1.0246 | K8: =I8/J8 -> 0 | L8: =Imóveis!N8*'Atendimento '!F8 -> 0 | M8: ='Economais e Ligações Água'!N8 -> 1.0106 | N8: =L8/M8 -> 0 | O8: =Imóveis!O8*'Atendimento '!F8 -> 0 | P8: ='Economais e Ligações Água'!Q8 -> 1 | Q8: =O8/P8 -> 0 | R8: =D8+F8+I8+L8+O8 -> 0 | S8: =E8+H8+K8+N8+Q8 -> 0 | T8: =IFERROR(R8/'Atendimento '!F8,0) -> 0 | U8: =IFERROR(S8/'Atendimento '!F8,0) -> 0
B9: =População!B9 -> -2 | C9: =População!C9 -> 2023 | D9: =Imóveis!$I9*'Atendimento '!$F9 -> 0 | E9: =Imóveis!$I9*'Atendimento '!$F9 -> 0 | F9: =Imóveis!L9*'Atendimento '!F9 -> 0 | G9: ='Economais e Ligações Água'!H9 -> 1.2918 | H9: =F9/G9 -> 0 | I9: =Imóveis!M9*'Atendimento '!F9 -> 0 | J9: ='Economais e Ligações Água'!K9 -> 1.0246 | K9: =I9/J9 -> 0 | L9: =Imóveis!N9*'Atendimento '!F9 -> 0 | M9: ='Economais e Ligações Água'!N9 -> 1.0106 | N9: =L9/M9 -> 0 | O9: =Imóveis!O9*'Atendimento '!F9 -> 0 | P9: ='Economais e Ligações Água'!Q9 -> 1 | Q9: =O9/P9 -> 0 | R9: =D9+F9+I9+L9+O9 -> 0 | S9: =E9+H9+K9+N9+Q9 -> 0 | T9: =IFERROR(R9/'Atendimento '!F9,0) -> 0 | U9: =IFERROR(S9/'Atendimento '!F9,0) -> 0
B10: =População!B10 -> -1 | C10: =População!C10 -> 2024 | D10: =Imóveis!$I10*'Atendimento '!$F10 -> 0 | E10: =Imóveis!$I10*'Atendimento '!$F10 -> 0 | F10: =Imóveis!L10*'Atendimento '!F10 -> 0 | G10: ='Economais e Ligações Água'!H10 -> 1.2918 | H10: =F10/G10 -> 0 | I10: =Imóveis!M10*'Atendimento '!F10 -> 0 | J10: ='Economais e Ligações Água'!K10 -> 1.0246 | K10: =I10/J10 -> 0 | L10: =Imóveis!N10*'Atendimento '!F10 -> 0 | M10: ='Economais e Ligações Água'!N10 -> 1.0106 | N10: =L10/M10 -> 0 | O10: =Imóveis!O10*'Atendimento '!F10 -> 0 | P10: ='Economais e Ligações Água'!Q10 -> 1 | Q10: =O10/P10 -> 0 | R10: =D10+F10+I10+L10+O10 -> 0 | S10: =E10+H10+K10+N10+Q10 -> 0 | T10: =IFERROR(R10/'Atendimento '!F10,0) -> 0 | U10: =IFERROR(S10/'Atendimento '!F10,0) -> 0
B11: =População!B11 -> Base | C11: =População!C11 -> 2025 | D11: =Imóveis!$I11*'Atendimento '!$F11 -> 0 | E11: =Imóveis!$I11*'Atendimento '!$F11 -> 0 | F11: =Imóveis!L11*'Atendimento '!F11 -> 0 | G11: ='Economais e Ligações Água'!H11 -> 1.2918 | H11: =F11/G11 -> 0 | I11: =Imóveis!M11*'Atendimento '!F11 -> 0 | J11: ='Economais e Ligações Água'!K11 -> 1.0246 | K11: =I11/J11 -> 0 | L11: =Imóveis!N11*'Atendimento '!F11 -> 0 | M11: ='Economais e Ligações Água'!N11 -> 1.0106 | N11: =L11/M11 -> 0 | O11: =Imóveis!O11*'Atendimento '!F11 -> 0 | P11: ='Economais e Ligações Água'!Q11 -> 1 | Q11: =O11/P11 -> 0 | R11: =D11+F11+I11+L11+O11 -> 0 | S11: =E11+H11+K11+N11+Q11 -> 0 | T11: =IFERROR(R11/'Atendimento '!F11,0) -> 0 | U11: =IFERROR(S11/'Atendimento '!F11,0) -> 0
B12: =População!B12 -> 0 | C12: =População!C12 -> 2026 | D12: =Imóveis!$I12*'Atendimento '!$F12 -> 0 | E12: =Imóveis!$I12*'Atendimento '!$F12 -> 0 | F12: =Imóveis!L12*'Atendimento '!F12 -> 0 | G12: ='Economais e Ligações Água'!H12 -> 1.2918 | H12: =F12/G12 -> 0 | I12: =Imóveis!M12*'Atendimento '!F12 -> 0 | J12: ='Economais e Ligações Água'!K12 -> 1.0246 | K12: =I12/J12 -> 0 | L12: =Imóveis!N12*'Atendimento '!F12 -> 0 | M12: ='Economais e Ligações Água'!N12 -> 1.0106 | N12: =L12/M12 -> 0 | O12: =Imóveis!O12*'Atendimento '!F12 -> 0 | P12: ='Economais e Ligações Água'!Q12 -> 1 | Q12: =O12/P12 -> 0 | R12: =D12+F12+I12+L12+O12 -> 0 | S12: =E12+H12+K12+N12+Q12 -> 0 | T12: =IFERROR(R12/'Atendimento '!F12,0) -> 0 | U12: =IFERROR(S12/'Atendimento '!F12,0) -> 0
B13: =População!B13 -> 1 | C13: =População!C13 -> 2027 | D13: =Imóveis!$I13*'Atendimento '!$F13 -> 0 | E13: =Imóveis!$I13*'Atendimento '!$F13 -> 0 | F13: =Imóveis!L13*'Atendimento '!F13 -> 0 | G13: ='Economais e Ligações Água'!H13 -> 1.2918 | H13: =F13/G13 -> 0 | I13: =Imóveis!M13*'Atendimento '!F13 -> 0 | J13: ='Economais e Ligações Água'!K13 -> 1.0246 | K13: =I13/J13 -> 0 | L13: =Imóveis!N13*'Atendimento '!F13 -> 0 | M13: ='Economais e Ligações Água'!N13 -> 1.0106 | N13: =L13/M13 -> 0 | O13: =Imóveis!O13*'Atendimento '!F13 -> 0 | P13: ='Economais e Ligações Água'!Q13 -> 1 | Q13: =O13/P13 -> 0 | R13: =D13+F13+I13+L13+O13 -> 0 | S13: =E13+H13+K13+N13+Q13 -> 0 | T13: =IFERROR(R13/'Atendimento '!F13,0) -> 0 | U13: =IFERROR(S13/'Atendimento '!F13,0) -> 0
B14: =População!B14 -> 2 | C14: =População!C14 -> 2028 | D14: =Imóveis!$I14*'Atendimento '!$F14 -> 3648.4057 | E14: =D14/'Atendimento '!G14 -> 2732.6834 | F14: =Imóveis!L14*'Atendimento '!F14 -> 267 | G14: ='Economais e Ligações Água'!H14 -> 1.2918 | H14: =F14/G14 -> 206.68834 | I14: =Imóveis!M14*'Atendimento '!F14 -> 26.8 | J14: ='Economais e Ligações Água'!K14 -> 1.0246 | K14: =I14/J14 -> 26.156549 | L14: =Imóveis!N14*'Atendimento '!F14 -> 20.4 | M14: ='Economais e Ligações Água'!N14 -> 1.0106 | N14: =L14/M14 -> 20.186028 | O14: =Imóveis!O14*'Atendimento '!F14 -> 36.2 | P14: ='Economais e Ligações Água'!Q14 -> 1 | Q14: =O14/P14 -> 36.2 | R14: =D14+F14+I14+L14+O14 -> 3998.8057 | S14: =E14+H14+K14+N14+Q14 -> 3021.9144 | T14: =IFERROR(R14/'Atendimento '!F14,0) -> 19994.028 | U14: =IFERROR(S14/'Atendimento '!F14,0) -> 15109.572
B15: =População!B15 -> 3 | C15: =População!C15 -> 2029 | D15: =Imóveis!$I15*'Atendimento '!$F15 -> 7454.7512 | E15: =D15/'Atendimento '!G15 -> 5583.665 | F15: =Imóveis!L15*'Atendimento '!F15 -> 540 | G15: ='Economais e Ligações Água'!H15 -> 1.2918 | H15: =F15/G15 -> 418.02137 | I15: =Imóveis!M15*'Atendimento '!F15 -> 54.4 | J15: ='Economais e Ligações Água'!K15 -> 1.0246 | K15: =I15/J15 -> 53.09389 | L15: =Imóveis!N15*'Atendimento '!F15 -> 41.2 | M15: ='Economais e Ligações Água'!N15 -> 1.0106 | N15: =L15/M15 -> 40.767861 | O15: =Imóveis!O15*'Atendimento '!F15 -> 73.2 | P15: ='Economais e Ligações Água'!Q15 -> 1 | Q15: =O15/P15 -> 73.2 | R15: =D15+F15+I15+L15+O15 -> 8163.5512 | S15: =E15+H15+K15+N15+Q15 -> 6168.7481 | T15: =IFERROR(R15/'Atendimento '!F15,0) -> 20408.878 | U15: =IFERROR(S15/'Atendimento '!F15,0) -> 15421.87
B16: =População!B16 -> 4 | C16: =População!C16 -> 2030 | D16: =Imóveis!$I16*'Atendimento '!$F16 -> 11416.699 | E16: =D16/'Atendimento '!G16 -> 8551.1937 | F16: =Imóveis!L16*'Atendimento '!F16 -> 819 | G16: ='Economais e Ligações Água'!H16 -> 1.2918 | H16: =F16/G16 -> 633.99907 | I16: =Imóveis!M16*'Atendimento '!F16 -> 82.2 | J16: ='Economais e Ligações Água'!K16 -> 1.0246 | K16: =I16/J16 -> 80.22643 | L16: =Imóveis!N16*'Atendimento '!F16 -> 62.4 | M16: ='Economais e Ligações Água'!N16 -> 1.0106 | N16: =L16/M16 -> 61.745498 | O16: =Imóveis!O16*'Atendimento '!F16 -> 111 | P16: ='Economais e Ligações Água'!Q16 -> 1 | Q16: =O16/P16 -> 111 | R16: =D16+F16+I16+L16+O16 -> 12491.299 | S16: =E16+H16+K16+N16+Q16 -> 9438.1647 | T16: =IFERROR(R16/'Atendimento '!F16,0) -> 20818.831 | U16: =IFERROR(S16/'Atendimento '!F16,0) -> 15730.275
B17: =População!B17 -> 5 | C17: =População!C17 -> 2031 | D17: =Imóveis!$I17*'Atendimento '!$F17 -> 15531.558 | E17: =D17/'Atendimento '!G17 -> 11633.255 | F17: =Imóveis!L17*'Atendimento '!F17 -> 1102.4 | G17: ='Economais e Ligações Água'!H17 -> 1.2918 | H17: =F17/G17 -> 853.38288 | I17: =Imóveis!M17*'Atendimento '!F17 -> 111.2 | J17: ='Economais e Ligações Água'!K17 -> 1.0246 | K17: =I17/J17 -> 108.53016 | L17: =Imóveis!N17*'Atendimento '!F17 -> 84 | M17: ='Economais e Ligações Água'!N17 -> 1.0106 | N17: =L17/M17 -> 83.118939 | O17: =Imóveis!O17*'Atendimento '!F17 -> 149.6 | P17: ='Economais e Ligações Água'!Q17 -> 1 | Q17: =O17/P17 -> 149.6 | R17: =D17+F17+I17+L17+O17 -> 16978.758 | S17: =E17+H17+K17+N17+Q17 -> 12827.887 | T17: =IFERROR(R17/'Atendimento '!F17,0) -> 21223.448 | U17: =IFERROR(S17/'Atendimento '!F17,0) -> 16034.858
B18: =População!B18 -> 6 | C18: =População!C18 -> 2032 | D18: =Imóveis!$I18*'Atendimento '!$F18 -> 16826.862 | E18: =D18/'Atendimento '!G18 -> 12603.447 | F18: =Imóveis!L18*'Atendimento '!F18 -> 1183.2 | G18: ='Economais e Ligações Água'!H18 -> 1.2918 | H18: =F18/G18 -> 915.93126 | I18: =Imóveis!M18*'Atendimento '!F18 -> 119 | J18: ='Economais e Ligações Água'!K18 -> 1.0246 | K18: =I18/J18 -> 116.14289 | L18: =Imóveis!N18*'Atendimento '!F18 -> 90.1 | M18: ='Economais e Ligações Água'!N18 -> 1.0106 | N18: =L18/M18 -> 89.154957 | O18: =Imóveis!O18*'Atendimento '!F18 -> 160.65 | P18: ='Economais e Ligações Água'!Q18 -> 1 | Q18: =O18/P18 -> 160.65 | R18: =D18+F18+I18+L18+O18 -> 18379.812 | S18: =E18+H18+K18+N18+Q18 -> 13885.326 | T18: =IFERROR(R18/'Atendimento '!F18,0) -> 21623.309 | U18: =IFERROR(S18/'Atendimento '!F18,0) -> 16335.678
B19: =População!B19 -> 7 | C19: =População!C19 -> 2033 | D19: =Imóveis!$I19*'Atendimento '!$F19 -> 18155.714 | E19: =D19/'Atendimento '!G19 -> 13598.767 | F19: =Imóveis!L19*'Atendimento '!F19 -> 1264.5 | G19: ='Economais e Ligações Água'!H19 -> 1.2918 | H19: =F19/G19 -> 978.8667 | I19: =Imóveis!M19*'Atendimento '!F19 -> 126.9 | J19: ='Economais e Ligações Água'!K19 -> 1.0246 | K19: =I19/J19 -> 123.85321 | L19: =Imóveis!N19*'Atendimento '!F19 -> 96.3 | M19: ='Economais e Ligações Água'!N19 -> 1.0106 | N19: =L19/M19 -> 95.289927 | O19: =Imóveis!O19*'Atendimento '!F19 -> 171.9 | P19: ='Economais e Ligações Água'!Q19 -> 1 | Q19: =O19/P19 -> 171.9 | R19: =D19+F19+I19+L19+O19 -> 19815.314 | S19: =E19+H19+K19+N19+Q19 -> 14968.677 | T19: =IFERROR(R19/'Atendimento '!F19,0) -> 22017.016 | U19: =IFERROR(S19/'Atendimento '!F19,0) -> 16631.863
B20: =População!B20 -> 8 | C20: =População!C20 -> 2034 | D20: =Imóveis!$I20*'Atendimento '!$F20 -> 18900.659 | E20: =D20/'Atendimento '!G20 -> 14156.737 | F20: =Imóveis!L20*'Atendimento '!F20 -> 1303.64 | G20: ='Economais e Ligações Água'!H20 -> 1.2918 | H20: =F20/G20 -> 1009.1655 | I20: =Imóveis!M20*'Atendimento '!F20 -> 130.64 | J20: ='Economais e Ligações Água'!K20 -> 1.0246 | K20: =I20/J20 -> 127.50342 | L20: =Imóveis!N20*'Atendimento '!F20 -> 99.36 | M20: ='Economais e Ligações Água'!N20 -> 1.0106 | N20: =L20/M20 -> 98.317831 | O20: =Imóveis!O20*'Atendimento '!F20 -> 176.64 | P20: ='Economais e Ligações Água'!Q20 -> 1 | Q20: =O20/P20 -> 176.64 | R20: =D20+F20+I20+L20+O20 -> 20610.939 | S20: =E20+H20+K20+N20+Q20 -> 15568.363 | T20: =IFERROR(R20/'Atendimento '!F20,0) -> 22403.195 | U20: =IFERROR(S20/'Atendimento '!F20,0) -> 16922.134
B21: =População!B21 -> 9 | C21: =População!C21 -> 2035 | D21: =Imóveis!$I21*'Atendimento '!$F21 -> 19654.926 | E21: =D21/'Atendimento '!G21 -> 14721.689 | F21: =Imóveis!L21*'Atendimento '!F21 -> 1343.26 | G21: ='Economais e Ligações Água'!H21 -> 1.2918 | H21: =F21/G21 -> 1039.8359 | I21: =Imóveis!M21*'Atendimento '!F21 -> 135.36 | J21: ='Economais e Ligações Água'!K21 -> 1.0246 | K21: =I21/J21 -> 132.11009 | L21: =Imóveis!N21*'Atendimento '!F21 -> 102.46 | M21: ='Economais e Ligações Água'!N21 -> 1.0106 | N21: =L21/M21 -> 101.38532 | O21: =Imóveis!O21*'Atendimento '!F21 -> 182.36 | P21: ='Economais e Ligações Água'!Q21 -> 1 | Q21: =O21/P21 -> 182.36 | R21: =D21+F21+I21+L21+O21 -> 21418.366 | S21: =E21+H21+K21+N21+Q21 -> 16177.38 | T21: =IFERROR(R21/'Atendimento '!F21,0) -> 22785.496 | U21: =IFERROR(S21/'Atendimento '!F21,0) -> 17209.979
B22: =População!B22 -> 10 | C22: =População!C22 -> 2036 | D22: =Imóveis!$I22*'Atendimento '!$F22 -> 20417.852 | E22: =D22/'Atendimento '!G22 -> 15293.125 | F22: =Imóveis!L22*'Atendimento '!F22 -> 1382.4 | G22: ='Economais e Ligações Água'!H22 -> 1.2918 | H22: =F22/G22 -> 1070.1347 | I22: =Imóveis!M22*'Atendimento '!F22 -> 139.2 | J22: ='Economais e Ligações Água'!K22 -> 1.0246 | K22: =I22/J22 -> 135.8579 | L22: =Imóveis!N22*'Atendimento '!F22 -> 105.6 | M22: ='Economais e Ligações Água'!N22 -> 1.0106 | N22: =L22/M22 -> 104.49238 | O22: =Imóveis!O22*'Atendimento '!F22 -> 188.16 | P22: ='Economais e Ligações Água'!Q22 -> 1 | Q22: =O22/P22 -> 188.16 | R22: =D22+F22+I22+L22+O22 -> 22233.212 | S22: =E22+H22+K22+N22+Q22 -> 16791.77 | T22: =IFERROR(R22/'Atendimento '!F22,0) -> 23159.596 | U22: =IFERROR(S22/'Atendimento '!F22,0) -> 17491.428
B23: =População!B23 -> 11 | C23: =População!C23 -> 2037 | D23: =Imóveis!$I23*'Atendimento '!$F23 -> 21188.771 | E23: =D23/'Atendimento '!G23 -> 15870.55 | F23: =Imóveis!L23*'Atendimento '!F23 -> 1421.98 | G23: ='Economais e Ligações Água'!H23 -> 1.2918 | H23: =F23/G23 -> 1100.7741 | I23: =Imóveis!M23*'Atendimento '!F23 -> 143.08 | J23: ='Economais e Ligações Água'!K23 -> 1.0246 | K23: =I23/J23 -> 139.64474 | L23: =Imóveis!N23*'Atendimento '!F23 -> 108.78 | M23: ='Economais e Ligações Água'!N23 -> 1.0106 | N23: =L23/M23 -> 107.63903 | O23: =Imóveis!O23*'Atendimento '!F23 -> 193.06 | P23: ='Economais e Ligações Água'!Q23 -> 1 | Q23: =O23/P23 -> 193.06 | R23: =D23+F23+I23+L23+O23 -> 23055.671 | S23: =E23+H23+K23+N23+Q23 -> 17411.668 | T23: =IFERROR(R23/'Atendimento '!F23,0) -> 23526.195 | U23: =IFERROR(S23/'Atendimento '!F23,0) -> 17767.008
B24: =População!B24 -> 12 | C24: =População!C24 -> 2038 | D24: =Imóveis!$I24*'Atendimento '!$F24 -> 21967.024 | E24: =D24/'Atendimento '!G24 -> 16453.467 | F24: =Imóveis!L24*'Atendimento '!F24 -> 1462 | G24: ='Economais e Ligações Água'!H24 -> 1.2918 | H24: =F24/G24 -> 1131.7541 | I24: =Imóveis!M24*'Atendimento '!F24 -> 147 | J24: ='Economais e Ligações Água'!K24 -> 1.0246 | K24: =I24/J24 -> 143.47062 | L24: =Imóveis!N24*'Atendimento '!F24 -> 112 | M24: ='Economais e Ligações Água'!N24 -> 1.0106 | N24: =L24/M24 -> 110.82525 | O24: =Imóveis!O24*'Atendimento '!F24 -> 199 | P24: ='Economais e Ligações Água'!Q24 -> 1 | Q24: =O24/P24 -> 199 | R24: =D24+F24+I24+L24+O24 -> 23887.024 | S24: =E24+H24+K24+N24+Q24 -> 18038.517 | T24: =IFERROR(R24/'Atendimento '!F24,0) -> 23887.024 | U24: =IFERROR(S24/'Atendimento '!F24,0) -> 18038.517
B25: =População!B25 -> 13 | C25: =População!C25 -> 2039 | D25: =Imóveis!$I25*'Atendimento '!$F25 -> 22305.837 | E25: =D25/'Atendimento '!G25 -> 16707.24 | F25: =Imóveis!L25*'Atendimento '!F25 -> 1472 | G25: ='Economais e Ligações Água'!H25 -> 1.2918 | H25: =F25/G25 -> 1139.4953 | I25: =Imóveis!M25*'Atendimento '!F25 -> 148 | J25: ='Economais e Ligações Água'!K25 -> 1.0246 | K25: =I25/J25 -> 144.44661 | L25: =Imóveis!N25*'Atendimento '!F25 -> 112 | M25: ='Economais e Ligações Água'!N25 -> 1.0106 | N25: =L25/M25 -> 110.82525 | O25: =Imóveis!O25*'Atendimento '!F25 -> 200 | P25: ='Economais e Ligações Água'!Q25 -> 1 | Q25: =O25/P25 -> 200 | R25: =D25+F25+I25+L25+O25 -> 24237.837 | S25: =E25+H25+K25+N25+Q25 -> 18302.008 | T25: =IFERROR(R25/'Atendimento '!F25,0) -> 24237.837 | U25: =IFERROR(S25/'Atendimento '!F25,0) -> 18302.008
... B47: =População!B47 -> 35 | C47: =População!C47 -> 2061 | D47: =Imóveis!$I47*'Atendimento '!$F47 -> 27818.9 | E47: =D47/'Atendimento '!G47 -> 20836.567 | F47: =Imóveis!L47*'Atendimento '!F47 -> 1601 | G47: ='Economais e Ligações Água'!H47 -> 1.2918 | H47: =F47/G47 -> 1239.3559 | I47: =Imóveis!M47*'Atendimento '!F47 -> 161 | J47: ='Economais e Ligações Água'!K47 -> 1.0246 | K47: =I47/J47 -> 157.13449 | L47: =Imóveis!N47*'Atendimento '!F47 -> 122 | M47: ='Economais e Ligações Água'!N47 -> 1.0106 | N47: =L47/M47 -> 120.72036 | O47: =Imóveis!O47*'Atendimento '!F47 -> 217 | P47: ='Economais e Ligações Água'!Q47 -> 3 | Q47: =O47/P47 -> 72.333333 | R47: =D47+F47+I47+L47+O47 -> 29919.9 | S47: =E47+H47+K47+N47+Q47 -> 22426.111 | T47: =IFERROR(R47/'Atendimento '!F47,0) -> 29919.9 | U47: =IFERROR(S47/'Atendimento '!F47,0) -> 22426.111

Sheet Cota per capita e por economia 
T2: Resid | U2: Comercial | V2: Industrial | W2: Público | X2: Especial
T3: 147.92962 | U3: 451.57655 | V3: 2255.6617 | W3: 1923.9473 | X3: 323.74648
B5: COTA PER CAPITA | L5: VOLUMES DE ÁGUA - DISPONIBILIZADO, MEDIDO E CONSUMIDO - POR CATEGORIA
B6: =População!B6 -> ANO | D6: Per Capita Disponibilizado Resid. | E6: Per Capita Consumido Resid Médio | F6: Per Capita Medido Resid Médio | G6: Cota per capita Disponibilidada Média | H6: Cota per capita Consumida Média | I6: Cota per capita Medida Média | L6: =População!B6 -> ANO | N6: Disponibilizado por Economia Resid | O6: Consumido por Economia Resid | P6: MEDIDO Por Economia Residencial | Q6: Disponibilizado por Economia COMERCIAL | R6: Consumido por Economais COMERCIAL | S6: MEDIDO Por Economia Comercial | T6: Disponibilizado por Economia INDUSTRIAL | U6: Consumido por Economais INDUSTRIAL | V6: MEDIDO Por Economia Industrial | W6: Disponibilizado por Economia PÚBLICO | X6: Consumido por Economais PÚBLICO | Y6: MEDIDO Por Economia Público | Z6: Disponibilizado por Economia Especial | AA6: Consumido por Economais Especial | AB6: MEDIDO Por Economia Especial | AC6: Q Água Resid Medido | AD6: Q Água Com Medido | AE6: Q Água Ind Medido | AF6: Q Água Públ Medido | AG6: Q Água Esp Medido | AH6: Q Medido Total | AI6: Q Água Resid Cons | AJ6: Q Água Com Cons | AK6: Q Água Ind Cons | AL6: Q Água Públ Cons | AM6: Q Água Esp Cons | AN6: Q Água Cons | AO6: Disponibilizado Por Economia | AP6: Consumido Por Economia | AQ6: Medido Por Economia | AR6: Disponibilizado Por Ligação | AS6: Consumido Por Ligação | AT6: Medido Por Ligação | AU6: Vol Disponibilizado Total | AV6: Vol Consumido Total | AW6: Vol Medido Total
D7: L/Hab x dia | E7: L/Hab x dia | F7: L/Hab x dia | G7: L/Hab x dia | H7: L/Hab x dia | I7: L/Hab x dia | N7: m³/mês | O7: m³/mês | P7: m³/mês | Q7: m³/mês | R7: m³/mês | T7: m³/mês | U7: m³/mês | W7: m³/mês | X7: m³/mês | Z7: m³/mês | AA7: m³/mês | AC7: m³/mês (categoria) | AD7: m³/mês (categoria) | AE7: m³/mês (categoria) | AF7: m³/mês (categoria) | AG7: m³/mês (categoria) | AH7: m³/mês | AI7: m³/mês (categoria) | AJ7: m³/mês (categoria) | AK7: m³/mês (categoria) | AL7: m³/mês (categoria) | AM7: m³/mês (categoria) | AN7: m³/mês | AO7: m³/mês | AP7: m³/mês | AQ7: m³/mês | AR7: m³/mês | AS7: m³/mês | AT7: m³/mês | AU7: m³/ano | AV7: m³/ano | AW7: m³/ano
B8: =População!B8 -> CENSO | C8: =População!C8 -> 2022 | D8: =F8/(1-'Perdas e Vazões de Água'!F8) -> 232.64579 | E8: =(D8*'Perdas e Vazões de Água'!E8)+F8 -> 144.24039 | F8: 124.07 | G8: =ROUND(AU8/12/30.4375/'Atendimento '!H8*1000,2) -> 272.35 | H8: =ROUND(AV8/12/30.4375/'Atendimento '!H8*1000,2) -> 168.86 | I8: =ROUND(AW8/12/30.4375/'Atendimento '!H8*1000,2) -> 145.24 | L8: =População!B8 -> CENSO | M8: =População!C8 -> 2022 | N8: =D8*30.4375*Imóveis!J8/1000 -> 19.507185 | O8: =N8*(1-'Perdas e Vazões de Água'!D8) -> 12.094455 | P8: =N8*(1-'Perdas e Vazões de Água'!$F8) -> 10.403182 | Q8: =$U$3/(1-'Perdas e Vazões de Água'!D8)*30.4375/1000 -> 22.169131 | R8: =Q8*(1-'Perdas e Vazões de Água'!D8) -> 13.744861 | S8: =Q8*(1-'Perdas e Vazões de Água'!$F8) -> 11.822797 | T8: =$V$3/(1-'Perdas e Vazões de Água'!D8)*30.4375/1000 -> 110.73662 | U8: =T8*(1-'Perdas e Vazões de Água'!D8) -> 68.656704 | V8: =T8*(1-'Perdas e Vazões de Água'!$F8) -> 59.055839 | W8: =$W$3/(1-'Perdas e Vazões de Água'!D8)*30.4375/1000 -> 94.451851 | X8: =W8*(1-'Perdas e Vazões de Água'!D8) -> 58.560147 | Y8: =W8*(1-'Perdas e Vazões de Água'!$F8) -> 50.371172 | Z8: =$X$3/(1-'Perdas e Vazões de Água'!D8)*30.4375/1000 -> 15.893602 | AA8: =Z8*(1-'Perdas e Vazões de Água'!D8) -> 9.8540335 | AB8: =Z8*(1-'Perdas e Vazões de Água'!$F8) -> 8.4760581 | AC8: =P8*'Economais e Ligações Água'!D8 -> 158631.78 | AD8: =S8*'Economais e Ligações Água'!G8 -> 14075.513 | AE8: =V8*'Economais e Ligações Água'!J8 -> 7059.2988 | AF8: =Y8*'Economais e Ligações Água'!M8 -> 4564.4341 | AG8: =AB8*'Economais e Ligações Água'!P8 -> 1372.7146 | AH8: =SUM(AC8:AG8) -> 185703.74 | AI8: =O8*'Economais e Ligações Água'!D8 -> 184420.97 | AJ8: =R8*'Economais e Ligações Água'!G8 -> 16363.807 | AK8: =U8*'Economais e Ligações Água'!J8 -> 8206.9478 | AL8: =X8*'Economais e Ligações Água'!M8 -> 5306.4863 | AM8: =AA8*'Economais e Ligações Água'!P8 -> 1595.8804 | AN8: =AI8+AJ8+AK8+AL8+AM8 -> 215894.09 | AO8: =AP8/(1-'Perdas e Vazões de Água'!D8) -> 20.713554 | AP8: =SUM(AI8:AM8)/'Economais e Ligações Água'!S8 -> 12.842403 | AQ8: =AP8-('Perdas e Vazões de Água'!E8*AO8) -> 11.046538 | AR8: =AS8/(1-'Perdas e Vazões de Água'!D8) -> 27.394754 | AS8: =SUM(AI8:AM8)/'Economais e Ligações Água'!T8 -> 16.984748 | AT8: =AR8*(1-'Perdas e Vazões de Água'!F8) -> 14.609622 | AU8: =AO8*'Economais e Ligações Água'!S8*12 -> 4178595.3 | AV8: =AP8*'Economais e Ligações Água'!S8*12 -> 2590729.1 | AW8: =AQ8*'Economais e Ligações Água'!S8*12 -> 2228444.9
B9: =População!B9 -> -2 | C9: =População!C9 -> 2023 | D9: =(E9/(1-'Perdas e Vazões de Água'!D9)) -> 232.64579 | E9: =E8 -> 144.24039 | F9: =E9-(D9*'Perdas e Vazões de Água'!E9) -> 124.07 | G9: =ROUND(AU9/12/30.4375/'Atendimento '!H9*1000,2) -> 272.4 | H9: =ROUND(AV9/12/30.4375/'Atendimento '!H9*1000,2) -> 168.89 | I9: =ROUND(AW9/12/30.4375/'Atendimento '!H9*1000,2) -> 145.27 | L9: =População!B9 -> -2 | M9: =População!C9 -> 2023 | N9: =D9*30.4375*Imóveis!J9/1000 -> 19.294808 | O9: =N9*(1-'Perdas e Vazões de Água'!D9) -> 11.962781 | P9: =N9*(1-'Perdas e Vazões de Água'!$F9) -> 10.289921 | Q9: =$U$3/(1-'Perdas e Vazões de Água'!D9)*30.4375/1000 -> 22.169131 | R9: =Q9*(1-'Perdas e Vazões de Água'!D9) -> 13.744861 | S9: =Q9*(1-'Perdas e Vazões de Água'!$F9) -> 11.822797 | T9: =$V$3/(1-'Perdas e Vazões de Água'!D9)*30.4375/1000 -> 110.73662 | U9: =T9*(1-'Perdas e Vazões de Água'!D9) -> 68.656704 | V9: =T9*(1-'Perdas e Vazões de Água'!$F9) -> 59.055839 | W9: =$W$3/(1-'Perdas e Vazões de Água'!D9)*30.4375/1000 -> 94.451851 | X9: =W9*(1-'Perdas e Vazões de Água'!D9) -> 58.560147 | Y9: =W9*(1-'Perdas e Vazões de Água'!$F9) -> 50.371172 | Z9: =$X$3/(1-'Perdas e Vazões de Água'!D9)*30.4375/1000 -> 15.893602 | AA9: =Z9*(1-'Perdas e Vazões de Água'!D9) -> 9.8540335 | AB9: =Z9*(1-'Perdas e Vazões de Água'!$F9) -> 8.4760581 | AC9: =P9*'Economais e Ligações Água'!D9 -> 160952.79 | AD9: =S9*'Economais e Ligações Água'!G9 -> 14280.663 | AE9: =V9*'Economais e Ligações Água'!J9 -> 7173.1585 | AF9: =Y9*'Economais e Ligações Água'!M9 -> 4661.5497 | AG9: =AB9*'Economais e Ligações Água'!P9 -> 1389.0564 | AH9: =SUM(AC9:AG9) -> 188457.22 | AI9: =O9*'Economais e Ligações Água'!D9 -> 187119.32 | AJ9: =R9*'Economais e Ligações Água'!G9 -> 16602.308 | AK9: =U9*'Economais e Ligações Água'!J9 -> 8339.3179 | AL9: =X9*'Economais e Ligações Água'!M9 -> 5419.3903 | AM9: =AA9*'Economais e Ligações Água'!P9 -> 1614.879 | AN9: =AI9+AJ9+AK9+AL9+AM9 -> 219095.21 | AO9: =AP9/(1-'Perdas e Vazões de Água'!D9) -> 20.512432 | AP9: =SUM(AI9:AM9)/'Economais e Ligações Água'!S9 -> 12.717708 | AQ9: =AP9-('Perdas e Vazões de Água'!E9*AO9) -> 10.93928 | AR9: =AS9/(1-'Perdas e Vazões de Água'!D9) -> 27.131133 | AS9: =SUM(AI9:AM9)/'Economais e Ligações Água'!T9 -> 16.821302 | AT9: =AR9*(1-'Perdas e Vazões de Água'!F9) -> 14.469033 | AU9: =AO9*'Economais e Ligações Água'!S9*12 -> 4240552.5 | AV9: =AP9*'Economais e Ligações Água'!S9*12 -> 2629142.5 | AW9: =AQ9*'Economais e Ligações Água'!S9*12 -> 2261486.6
B10: =População!B10 -> -1 | C10: =População!C10 -> 2024 | D10: =(E10/(1-'Perdas e Vazões de Água'!D10)) -> 232.64579 | E10: =E9 -> 144.24039 | F10: =E10-(D10*'Perdas e Vazões de Água'!E10) -> 124.07 | G10: =ROUND(AU10/12/30.4375/'Atendimento '!H10*1000,2) -> 272.41 | H10: =ROUND(AV10/12/30.4375/'Atendimento '!H10*1000,2) -> 168.9 | I10: =ROUND(AW10/12/30.4375/'Atendimento '!H10*1000,2) -> 145.28 | L10: =População!B10 -> -1 | M10: =População!C10 -> 2024 | N10: =D10*30.4375*Imóveis!J10/1000 -> 19.085869 | O10: =N10*(1-'Perdas e Vazões de Água'!D10) -> 11.833239 | P10: =N10*(1-'Perdas e Vazões de Água'!$F10) -> 10.178494 | Q10: =$U$3/(1-'Perdas e Vazões de Água'!D10)*30.4375/1000 -> 22.169131 | R10: =Q10*(1-'Perdas e Vazões de Água'!D10) -> 13.744861 | S10: =Q10*(1-'Perdas e Vazões de Água'!$F10) -> 11.822797 | T10: =$V$3/(1-'Perdas e Vazões de Água'!D10)*30.4375/1000 -> 110.73662 | U10: =T10*(1-'Perdas e Vazões de Água'!D10) -> 68.656704 | V10: =T10*(1-'Perdas e Vazões de Água'!$F10) -> 59.055839 | W10: =$W$3/(1-'Perdas e Vazões de Água'!D10)*30.4375/1000 -> 94.451851 | X10: =W10*(1-'Perdas e Vazões de Água'!D10) -> 58.560147 | Y10: =W10*(1-'Perdas e Vazões de Água'!$F10) -> 50.371172 | Z10: =$X$3/(1-'Perdas e Vazões de Água'!D10)*30.4375/1000 -> 15.893602 | AA10: =Z10*(1-'Perdas e Vazões de Água'!D10) -> 9.8540335 | AB10: =Z10*(1-'Perdas e Vazões de Água'!$F10) -> 8.4760581 | AC10: =P10*'Economais e Ligações Água'!D10 -> 163204.87 | AD10: =S10*'Economais e Ligações Água'!G10 -> 14485.812 | AE10: =V10*'Economais e Ligações Água'!J10 -> 7287.0181 | AF10: =Y10*'Economais e Ligações Água'!M10 -> 4710.1075 | AG10: =AB10*'Economais e Ligações Água'!P10 -> 1413.5692 | AH10: =SUM(AC10:AG10) -> 191101.38 | AI10: =O10*'Economais e Ligações Água'!D10 -> 189737.52 | AJ10: =R10*'Economais e Ligações Água'!G10 -> 16840.809 | AK10: =U10*'Economais e Ligações Água'!J10 -> 8471.688 | AL10: =X10*'Economais e Ligações Água'!M10 -> 5475.8423 | AM10: =AA10*'Economais e Ligações Água'!P10 -> 1643.3769 | AN10: =AI10+AJ10+AK10+AL10+AM10 -> 222169.24 | AO10: =AP10/(1-'Perdas e Vazões de Água'!D10) -> 20.310231 | AP10: =SUM(AI10:AM10)/'Economais e Ligações Água'!S10 -> 12.592343 | AQ10: =AP10-('Perdas e Vazões de Água'!E10*AO10) -> 10.831446 | AR10: =AS10/(1-'Perdas e Vazões de Água'!D10) -> 26.865893 | AS10: =SUM(AI10:AM10)/'Economais e Ligações Água'!T10 -> 16.656854 | AT10: =AR10*(1-'Perdas e Vazões de Água'!F10) -> 14.327581 | AU10: =AO10*'Economais e Ligações Água'!S10*12 -> 4300049.7 | AV10: =AP10*'Economais e Ligações Água'!S10*12 -> 2666030.8 | AW10: =AQ10*'Economais e Ligações Água'!S10*12 -> 2293216.5
B11: =População!B11 -> Base | C11: =População!C11 -> 2025 | D11: =(E11/(1-'Perdas e Vazões de Água'!D11)) -> 232.64579 | E11: =E10 -> 144.24039 | F11: =E11-(D11*'Perdas e Vazões de Água'!E11) -> 124.07 | G11: =ROUND(AU11/12/30.4375/'Atendimento '!H11*1000,2) -> 272.33 | H11: =ROUND(AV11/12/30.4375/'Atendimento '!H11*1000,2) -> 168.85 | I11: =ROUND(AW11/12/30.4375/'Atendimento '!H11*1000,2) -> 145.24 | L11: =População!B11 -> Base | M11: =População!C11 -> 2025 | N11: =D11*30.4375*Imóveis!J11/1000 -> 18.880649 | O11: =N11*(1-'Perdas e Vazões de Água'!D11) -> 11.706002 | P11: =N11*(1-'Perdas e Vazões de Água'!$F11) -> 10.06905 | Q11: =$U$3/(1-'Perdas e Vazões de Água'!D11)*30.4375/1000 -> 22.169131 | R11: =Q11*(1-'Perdas e Vazões de Água'!D11) -> 13.744861 | S11: =Q11*(1-'Perdas e Vazões de Água'!$F11) -> 11.822797 | T11: =$V$3/(1-'Perdas e Vazões de Água'!D11)*30.4375/1000 -> 110.73662 | U11: =T11*(1-'Perdas e Vazões de Água'!D11) -> 68.656704 | V11: =T11*(1-'Perdas e Vazões de Água'!$F11) -> 59.055839 | W11: =$W$3/(1-'Perdas e Vazões de Água'!D11)*30.4375/1000 -> 94.451851 | X11: =W11*(1-'Perdas e Vazões de Água'!D11) -> 58.560147 | Y11: =W11*(1-'Perdas e Vazões de Água'!$F11) -> 50.371172 | Z11: =$X$3/(1-'Perdas e Vazões de Água'!D11)*30.4375/1000 -> 15.893602 | AA11: =Z11*(1-'Perdas e Vazões de Água'!D11) -> 9.8540335 | AB11: =Z11*(1-'Perdas e Vazões de Água'!$F11) -> 8.4760581 | AC11: =P11*'Economais e Ligações Água'!D11 -> 165387.9 | AD11: =S11*'Economais e Ligações Água'!G11 -> 14679.564 | AE11: =V11*'Economais e Ligações Água'!J11 -> 7343.9479 | AF11: =Y11*'Economais e Ligações Água'!M11 -> 4758.6654 | AG11: =AB11*'Economais e Ligações Água'!P11 -> 1429.911 | AH11: =SUM(AC11:AG11) -> 193599.99 | AI11: =O11*'Economais e Ligações Água'!D11 -> 192275.46 | AJ11: =R11*'Economais e Ligações Água'!G11 -> 17066.059 | AK11: =U11*'Economais e Ligações Água'!J11 -> 8537.8731 | AL11: =X11*'Economais e Ligações Água'!M11 -> 5532.2942 | AM11: =AA11*'Economais e Ligações Água'!P11 -> 1662.3754 | AN11: =AI11+AJ11+AK11+AL11+AM11 -> 225074.06 | AO11: =AP11/(1-'Perdas e Vazões de Água'!D11) -> 20.10701 | AP11: =SUM(AI11:AM11)/'Economais e Ligações Água'!S11 -> 12.466346 | AQ11: =AP11-('Perdas e Vazões de Água'!E11*AO11) -> 10.723068 | AR11: =AS11/(1-'Perdas e Vazões de Água'!D11) -> 26.600048 | AS11: =SUM(AI11:AM11)/'Economais e Ligações Água'!T11 -> 16.49203 | AT11: =AR11*(1-'Perdas e Vazões de Água'!F11) -> 14.185806 | AU11: =AO11*'Economais e Ligações Água'!S11*12 -> 4356272.1 | AV11: =AP11*'Economais e Ligações Água'!S11*12 -> 2700888.7 | AW11: =AQ11*'Economais e Ligações Água'!S11*12 -> 2323199.9
B12: =População!B12 -> 0 | C12: =População!C12 -> 2026 | D12: =(E12/(1-'Perdas e Vazões de Água'!D12)) -> 233.77697 | E12: =E11 -> 144.24039 | F12: =E12-(D12*'Perdas e Vazões de Água'!E12) -> 124.67326 | G12: =ROUND(AU12/12/30.4375/'Atendimento '!H12*1000,2) -> 273.72 | H12: =ROUND(AV12/12/30.4375/'Atendimento '!H12*1000,2) -> 168.89 | I12: =ROUND(AW12/12/30.4375/'Atendimento '!H12*1000,2) -> 145.98 | L12: =População!B12 -> 0 | M12: =População!C12 -> 2026 | N12: =D12*30.4375*Imóveis!J12/1000 -> 18.770219 | O12: =N12*(1-'Perdas e Vazões de Água'!D12) -> 11.581225 | P12: =N12*(1-'Perdas e Vazões de Água'!$F12) -> 10.010158 | Q12: =$U$3/(1-'Perdas e Vazões de Água'!D12)*30.4375/1000 -> 22.276922 | R12: =Q12*(1-'Perdas e Vazões de Água'!D12) -> 13.744861 | S12: =Q12*(1-'Perdas e Vazões de Água'!$F12) -> 11.880283 | T12: =$V$3/(1-'Perdas e Vazões de Água'!D12)*30.4375/1000 -> 111.27505 | U12: =T12*(1-'Perdas e Vazões de Água'!D12) -> 68.656704 | V12: =T12*(1-'Perdas e Vazões de Água'!$F12) -> 59.342983 | W12: =$W$3/(1-'Perdas e Vazões de Água'!D12)*30.4375/1000 -> 94.911098 | X12: =W12*(1-'Perdas e Vazões de Água'!D12) -> 58.560147 | Y12: =W12*(1-'Perdas e Vazões de Água'!$F12) -> 50.616089 | Z12: =$X$3/(1-'Perdas e Vazões de Água'!D12)*30.4375/1000 -> 15.970881 | AA12: =Z12*(1-'Perdas e Vazões de Água'!D12) -> 9.8540335 | AB12: =Z12*(1-'Perdas e Vazões de Água'!$F12) -> 8.5172707 | AC12: =P12*'Economais e Ligações Água'!D12 -> 168316.41 | AD12: =S12*'Economais e Ligações Água'!G12 -> 14934.181 | AE12: =V12*'Economais e Ligações Água'!J12 -> 7494.0692 | AF12: =Y12*'Economais e Ligações Água'!M12 -> 4879.3909 | AG12: =AB12*'Economais e Ligações Água'!P12 -> 1453.2849 | AH12: =SUM(AC12:AG12) -> 197077.34 | AI12: =O12*'Economais e Ligações Água'!D12 -> 194733.22 | AJ12: =R12*'Economais e Ligações Água'!G12 -> 17278.06 | AK12: =U12*'Economais e Ligações Água'!J12 -> 8670.2432 | AL12: =X12*'Economais e Ligações Água'!M12 -> 5645.1982 | AM12: =AA12*'Economais e Ligações Água'!P12 -> 1681.374 | AN12: =AI12+AJ12+AK12+AL12+AM12 -> 228008.1 | AO12: =AP12/(1-'Perdas e Vazões de Água'!D12) -> 20.013242 | AP12: =SUM(AI12:AM12)/'Economais e Ligações Água'!S12 -> 12.348171 | AQ12: =AP12-('Perdas e Vazões de Água'!E12*AO12) -> 10.673062 | AR12: =AS12/(1-'Perdas e Vazões de Água'!D12) -> 26.478005 | AS12: =SUM(AI12:AM12)/'Economais e Ligações Água'!T12 -> 16.336929 | AT12: =AR12*(1-'Perdas e Vazões de Água'!F12) -> 14.12072 | AU12: =AO12*'Economais e Ligações Água'!S12*12 -> 4434517.3 | AV12: =AP12*'Economais e Ligações Água'!S12*12 -> 2736097.2 | AW12: =AQ12*'Economais e Ligações Água'!S12*12 -> 2364928.1
B13: =População!B13 -> 1 | C13: =População!C13 -> 2027 | D13: =(E13/(1-'Perdas e Vazões de Água'!D13)) -> 220.61276 | E13: =E12 -> 144.24039 | F13: =E13-(D13*'Perdas e Vazões de Água'!E13) -> 126.43694 | G13: =ROUND(AU13/12/30.4375/'Atendimento '!H13*1000,2) -> 258.32 | H13: =ROUND(AV13/12/30.4375/'Atendimento '!H13*1000,2) -> 168.9 | I13: =ROUND(AW13/12/30.4375/'Atendimento '!H13*1000,2) -> 148.05 | L13: =População!B13 -> 1 | M13: =População!C13 -> 2027 | N13: =D13*30.4375*Imóveis!J13/1000 -> 17.526369 | O13: =N13*(1-'Perdas e Vazões de Água'!D13) -> 11.459039 | P13: =N13*(1-'Perdas e Vazões de Água'!$F13) -> 10.044661 | Q13: =$U$3/(1-'Perdas e Vazões de Água'!D13)*30.4375/1000 -> 21.022488 | R13: =Q13*(1-'Perdas e Vazões de Água'!D13) -> 13.744861 | S13: =Q13*(1-'Perdas e Vazões de Água'!$F13) -> 12.048346 | T13: =$V$3/(1-'Perdas e Vazões de Água'!D13)*30.4375/1000 -> 105.00904 | U13: =T13*(1-'Perdas e Vazões de Água'!D13) -> 68.656704 | V13: =T13*(1-'Perdas e Vazões de Água'!$F13) -> 60.182474 | W13: =$W$3/(1-'Perdas e Vazões de Água'!D13)*30.4375/1000 -> 89.566563 | X13: =W13*(1-'Perdas e Vazões de Água'!D13) -> 58.560147 | Y13: =W13*(1-'Perdas e Vazões de Água'!$F13) -> 51.332126 | Z13: =$X$3/(1-'Perdas e Vazões de Água'!D13)*30.4375/1000 -> 15.071545 | AA13: =Z13*(1-'Perdas e Vazões de Água'!D13) -> 9.8540335 | AB13: =Z13*(1-'Perdas e Vazões de Água'!$F13) -> 8.6377598 | AC13: =P13*'Economais e Ligações Água'!D13 -> 172781.89 | AD13: =S13*'Economais e Ligações Água'!G13 -> 15331.28 | AE13: =V13*'Economais e Ligações Água'!J13 -> 7716.1154 | AF13: =Y13*'Economais e Ligações Água'!M13 -> 4997.9011 | AG13: =AB13*'Economais e Ligações Água'!P13 -> 1490.4973 | AH13: =SUM(AC13:AG13) -> 202317.69 | AI13: =O13*'Economais e Ligações Água'!D13 -> 197111.13 | AJ13: =R13*'Economais e Ligações Água'!G13 -> 17490.061 | AK13: =U13*'Economais e Ligações Água'!J13 -> 8802.6134 | AL13: =X13*'Economais e Ligações Água'!M13 -> 5701.6502 | AM13: =AA13*'Economais e Ligações Água'!P13 -> 1700.3726 | AN13: =AI13+AJ13+AK13+AL13+AM13 -> 230805.83 | AO13: =AP13/(1-'Perdas e Vazões de Água'!D13) -> 18.705662 | AP13: =SUM(AI13:AM13)/'Economais e Ligações Água'!S13 -> 12.230081 | AQ13: =AP13-('Perdas e Vazões de Água'!E13*AO13) -> 10.720534 | AR13: =AS13/(1-'Perdas e Vazões de Água'!D13) -> 24.7502 | AS13: =SUM(AI13:AM13)/'Economais e Ligações Água'!T13 -> 16.182103 | AT13: =AR13*(1-'Perdas e Vazões de Água'!F13) -> 14.184762 | AU13: =AO13*'Economais e Ligações Água'!S13*12 -> 4236154.2 | AV13: =AP13*'Economais e Ligações Água'!S13*12 -> 2769669.9 | AW13: =AQ13*'Economais e Ligações Água'!S13*12 -> 2427812.3
B14: =População!B14 -> 2 | C14: =População!C14 -> 2028 | D14: =(E14/(1-'Perdas e Vazões de Água'!D14)) -> 209.88447 | E14: =E13 -> 144.24039 | F14: =E14-(D14*'Perdas e Vazões de Água'!E14) -> 127.93237 | G14: =ROUND(AU14/12/30.4375/'Atendimento '!H14*1000,2) -> 245.71 | H14: =ROUND(AV14/12/30.4375/'Atendimento '!H14*1000,2) -> 168.86 | I14: =ROUND(AW14/12/30.4375/'Atendimento '!H14*1000,2) -> 149.77 | L14: =População!B14 -> 2 | M14: =População!C14 -> 2028 | N14: =D14*30.4375*Imóveis!J14/1000 -> 16.500211 | O14: =N14*(1-'Perdas e Vazões de Água'!D14) -> 11.339557 | P14: =N14*(1-'Perdas e Vazões de Água'!$F14) -> 10.05749 | Q14: =$U$3/(1-'Perdas e Vazões de Água'!D14)*30.4375/1000 -> 20.000174 | R14: =Q14*(1-'Perdas e Vazões de Água'!D14) -> 13.744861 | S14: =Q14*(1-'Perdas e Vazões de Água'!$F14) -> 12.190848 | T14: =$V$3/(1-'Perdas e Vazões de Água'!D14)*30.4375/1000 -> 99.902502 | U14: =T14*(1-'Perdas e Vazões de Água'!D14) -> 68.656704 | V14: =T14*(1-'Perdas e Vazões de Água'!$F14) -> 60.89428 | W14: =$W$3/(1-'Perdas e Vazões de Água'!D14)*30.4375/1000 -> 85.210983 | X14: =W14*(1-'Perdas e Vazões de Água'!D14) -> 58.560147 | Y14: =W14*(1-'Perdas e Vazões de Água'!$F14) -> 51.939254 | Z14: =$X$3/(1-'Perdas e Vazões de Água'!D14)*30.4375/1000 -> 14.338623 | AA14: =Z14*(1-'Perdas e Vazões de Água'!D14) -> 9.8540335 | AB14: =Z14*(1-'Perdas e Vazões de Água'!$F14) -> 8.7399225 | AC14: =P14*'Economais e Ligações Água'!D14 -> 182368.21 | AD14: =S14*'Economais e Ligações Água'!G14 -> 16177.133 | AE14: =V14*'Economais e Ligações Água'!J14 -> 8110.8745 | AF14: =Y14*'Economais e Ligações Água'!M14 -> 5266.0171 | AG14: =AB14*'Economais e Ligações Água'!P14 -> 1572.4344 | AH14: =SUM(AC14:AG14) -> 213494.67 | AI14: =O14*'Economais e Ligações Água'!D14 -> 205615.38 | AJ14: =R14*'Economais e Ligações Água'!G14 -> 18239.293 | AK14: =U14*'Economais e Ligações Água'!J14 -> 9144.7984 | AL14: =X14*'Economais e Ligações Água'!M14 -> 5937.2962 | AM14: =AA14*'Economais e Ligações Água'!P14 -> 1772.8786 | AN14: =AI14+AJ14+AK14+AL14+AM14 -> 240709.64 | AO14: =AP14/(1-'Perdas e Vazões de Água'!D14) -> 17.623827 | AP14: =SUM(AI14:AM14)/'Economais e Ligações Água'!S14 -> 12.111747 | AQ14: =AP14-('Perdas e Vazões de Água'!E14*AO14) -> 10.742376 | AR14: =AS14/(1-'Perdas e Vazões de Água'!D14) -> 23.321064 | AS14: =SUM(AI14:AM14)/'Economais e Ligações Água'!T14 -> 16.0271 | AT14: =AR14*(1-'Perdas e Vazões de Água'!F14) -> 14.215053 | AU14: =AO14*'Economais e Ligações Água'!S14*12 -> 4203084.8 | AV14: =AP14*'Economais e Ligações Água'!S14*12 -> 2888515.7 | AW14: =AQ14*'Economais e Ligações Água'!S14*12 -> 2561936
B15: =População!B15 -> 3 | C15: =População!C15 -> 2029 | D15: =(E15/(1-'Perdas e Vazões de Água'!D15)) -> 203.57125 | E15: =E14 -> 144.24039 | F15: =E15-(D15*'Perdas e Vazões de Água'!E15) -> 130.86576 | G15: =ROUND(AU15/12/30.4375/'Atendimento '!H15*1000,2) -> 238.34 | H15: =ROUND(AV15/12/30.4375/'Atendimento '!H15*1000,2) -> 168.88 | I15: =ROUND(AW15/12/30.4375/'Atendimento '!H15*1000,2) -> 153.22 | L15: =População!B15 -> 3 | M15: =População!C15 -> 2029 | N15: =D15*30.4375*Imóveis!J15/1000 -> 15.839213 | O15: =N15*(1-'Perdas e Vazões de Água'!D15) -> 11.222873 | P15: =N15*(1-'Perdas e Vazões de Água'!$F15) -> 10.182237 | Q15: =$U$3/(1-'Perdas e Vazões de Água'!D15)*30.4375/1000 -> 19.398579 | R15: =Q15*(1-'Perdas e Vazões de Água'!D15) -> 13.744861 | S15: =Q15*(1-'Perdas e Vazões de Água'!$F15) -> 12.470374 | T15: =$V$3/(1-'Perdas e Vazões de Água'!D15)*30.4375/1000 -> 96.897487 | U15: =T15*(1-'Perdas e Vazões de Água'!D15) -> 68.656704 | V15: =T15*(1-'Perdas e Vazões de Água'!$F15) -> 62.290539 | W15: =$W$3/(1-'Perdas e Vazões de Água'!D15)*30.4375/1000 -> 82.647881 | X15: =W15*(1-'Perdas e Vazões de Água'!D15) -> 58.560147 | Y15: =W15*(1-'Perdas e Vazões de Água'!$F15) -> 53.130182 | Z15: =$X$3/(1-'Perdas e Vazões de Água'!D15)*30.4375/1000 -> 13.907325 | AA15: =Z15*(1-'Perdas e Vazões de Água'!D15) -> 9.8540335 | AB15: =Z15*(1-'Perdas e Vazões de Água'!$F15) -> 8.9403222 | AC15: =P15*'Economais e Ligações Água'!D15 -> 189765.1 | AD15: =S15*'Economais e Ligações Água'!G15 -> 16835.006 | AE15: =V15*'Economais e Ligações Água'!J15 -> 8471.5133 | AF15: =Y15*'Economais e Ligações Água'!M15 -> 5472.4087 | AG15: =AB15*'Economais e Ligações Água'!P15 -> 1636.079 | AH15: =SUM(AC15:AG15) -> 222180.11 | AI15: =O15*'Economais e Ligações Água'!D15 -> 209159.31 | AJ15: =R15*'Economais e Ligações Água'!G15 -> 18555.563 | AK15: =U15*'Economais e Ligações Água'!J15 -> 9337.3118 | AL15: =X15*'Economais e Ligações Água'!M15 -> 6031.6952 | AM15: =AA15*'Economais e Ligações Água'!P15 -> 1803.2881 | AN15: =AI15+AJ15+AK15+AL15+AM15 -> 244887.17 | AO15: =AP15/(1-'Perdas e Vazões de Água'!D15) -> 16.934659 | AP15: =SUM(AI15:AM15)/'Economais e Ligações Água'!S15 -> 11.999051 | AQ15: =AP15-('Perdas e Vazões de Água'!E15*AO15) -> 10.886444 | AR15: =AS15/(1-'Perdas e Vazões de Água'!D15) -> 22.410861 | AS15: =SUM(AI15:AM15)/'Economais e Ligações Água'!T15 -> 15.879213 | AT15: =AR15*(1-'Perdas e Vazões de Água'!F15) -> 14.40682 | AU15: =AO15*'Economais e Ligações Água'!S15*12 -> 4147408.8 | AV15: =AP15*'Economais e Ligações Água'!S15*12 -> 2938646 | AW15: =AQ15*'Economais e Ligações Água'!S15*12 -> 2666161.3
B16: =População!B16 -> 4 | C16: =População!C16 -> 2030 | D16: =(E16/(1-'Perdas e Vazões de Água'!D16)) -> 196.56084 | E16: =E15 -> 144.24039 | F16: =E16-(D16*'Perdas e Vazões de Água'!E16) -> 132.34846 | G16: =ROUND(AU16/12/30.4375/'Atendimento '!H16*1000,2) -> 230.11 | H16: =ROUND(AV16/12/30.4375/'Atendimento '!H16*1000,2) -> 168.86 | I16: =ROUND(AW16/12/30.4375/'Atendimento '!H16*1000,2) -> 154.94 | L16: =População!B16 -> 4 | M16: =População!C16 -> 2030 | N16: =D16*30.4375*Imóveis!J16/1000 -> 15.138666 | O16: =N16*(1-'Perdas e Vazões de Água'!D16) -> 11.109065 | P16: =N16*(1-'Perdas e Vazões de Água'!$F16) -> 10.193175 | Q16: =$U$3/(1-'Perdas e Vazões de Água'!D16)*30.4375/1000 -> 18.730547 | R16: =Q16*(1-'Perdas e Vazões de Água'!D16) -> 13.744861 | S16: =Q16*(1-'Perdas e Vazões de Água'!$F16) -> 12.611663 | T16: =$V$3/(1-'Perdas e Vazões de Água'!D16)*30.4375/1000 -> 93.560615 | U16: =T16*(1-'Perdas e Vazões de Água'!D16) -> 68.656704 | V16: =T16*(1-'Perdas e Vazões de Água'!$F16) -> 62.996287 | W16: =$W$3/(1-'Perdas e Vazões de Água'!D16)*30.4375/1000 -> 79.801724 | X16: =W16*(1-'Perdas e Vazões de Água'!D16) -> 58.560147 | Y16: =W16*(1-'Perdas e Vazões de Água'!$F16) -> 53.732143 | Z16: =$X$3/(1-'Perdas e Vazões de Água'!D16)*30.4375/1000 -> 13.428396 | AA16: =Z16*(1-'Perdas e Vazões de Água'!D16) -> 9.8540335 | AB16: =Z16*(1-'Perdas e Vazões de Água'!$F16) -> 9.0416155 | AC16: =P16*'Economais e Ligações Água'!D16 -> 193954.02 | AD16: =S16*'Economais e Ligações Água'!G16 -> 17214.92 | AE16: =V16*'Economais e Ligações Água'!J16 -> 8630.4913 | AF16: =Y16*'Economais e Ligações Água'!M16 -> 5588.1429 | AG16: =AB16*'Economais e Ligações Água'!P16 -> 1672.6989 | AH16: =SUM(AC16:AG16) -> 227060.27 | AI16: =O16*'Economais e Ligações Água'!D16 -> 211381.41 | AJ16: =R16*'Economais e Ligações Água'!G16 -> 18761.735 | AK16: =U16*'Economais e Ligações Água'!J16 -> 9405.9685 | AL16: =X16*'Economais e Ligações Água'!M16 -> 6090.2553 | AM16: =AA16*'Economais e Ligações Água'!P16 -> 1822.9962 | AN16: =AI16+AJ16+AK16+AL16+AM16 -> 247462.36 | AO16: =AP16/(1-'Perdas e Vazões de Água'!D16) -> 16.198057 | AP16: =SUM(AI16:AM16)/'Economais e Ligações Água'!S16 -> 11.886468 | AQ16: =AP16-('Perdas e Vazões de Água'!E16*AO16) -> 10.906485 | AR16: =AS16/(1-'Perdas e Vazões de Água'!D16) -> 21.437936 | AS16: =SUM(AI16:AM16)/'Economais e Ligações Água'!T16 -> 15.731598 | AT16: =AR16*(1-'Perdas e Vazões de Água'!F16) -> 14.434603 | AU16: =AO16*'Economais e Ligações Água'!S16*12 -> 4046695.4 | AV16: =AP16*'Economais e Ligações Água'!S16*12 -> 2969548.3 | AW16: =AQ16*'Economais e Ligações Água'!S16*12 -> 2724723.3
B17: =População!B17 -> 5 | C17: =População!C17 -> 2031 | D17: =(E17/(1-'Perdas e Vazões de Água'!D17)) -> 190.69538 | E17: =E16 -> 144.24039 | F17: =E17-(D17*'Perdas e Vazões de Água'!E17) -> 133.714 | G17: =ROUND(AU17/12/30.4375/'Atendimento '!H17*1000,2) -> 223.27 | H17: =ROUND(AV17/12/30.4375/'Atendimento '!H17*1000,2) -> 168.88 | I17: =ROUND(AW17/12/30.4375/'Atendimento '!H17*1000,2) -> 156.56 | L17: =População!B17 -> 5 | M17: =População!C17 -> 2031 | N17: =D17*30.4375*Imóveis!J17/1000 -> 14.540343 | O17: =N17*(1-'Perdas e Vazões de Água'!D17) -> 10.998194 | P17: =N17*(1-'Perdas e Vazões de Água'!$F17) -> 10.195567 | Q17: =$U$3/(1-'Perdas e Vazões de Água'!D17)*30.4375/1000 -> 18.17162 | R17: =Q17*(1-'Perdas e Vazões de Água'!D17) -> 13.744861 | S17: =Q17*(1-'Perdas e Vazões de Água'!$F17) -> 12.741788 | T17: =$V$3/(1-'Perdas e Vazões de Água'!D17)*30.4375/1000 -> 90.768727 | U17: =T17*(1-'Perdas e Vazões de Água'!D17) -> 68.656704 | V17: =T17*(1-'Perdas e Vazões de Água'!$F17) -> 63.64627 | W17: =$W$3/(1-'Perdas e Vazões de Água'!D17)*30.4375/1000 -> 77.420408 | X17: =W17*(1-'Perdas e Vazões de Água'!D17) -> 58.560147 | Y17: =W17*(1-'Perdas e Vazões de Água'!$F17) -> 54.286541 | Z17: =$X$3/(1-'Perdas e Vazões de Água'!D17)*30.4375/1000 -> 13.027687 | AA17: =Z17*(1-'Perdas e Vazões de Água'!D17) -> 9.8540335 | AB17: =Z17*(1-'Perdas e Vazões de Água'!$F17) -> 9.1349051 | AC17: =P17*'Economais e Ligações Água'!D17 -> 197941.3 | AD17: =S17*'Economais e Ligações Água'!G17 -> 17558.183 | AE17: =V17*'Economais e Ligações Água'!J17 -> 8846.8316 | AF17: =Y17*'Economais e Ligações Água'!M17 -> 5700.0868 | AG17: =AB17*'Economais e Ligações Água'!P17 -> 1708.2273 | AH17: =SUM(AC17:AG17) -> 231754.63 | AI17: =O17*'Economais e Ligações Água'!D17 -> 213523.86 | AJ17: =R17*'Economais e Ligações Água'!G17 -> 18940.419 | AK17: =U17*'Economais e Ligações Água'!J17 -> 9543.2819 | AL17: =X17*'Economais e Ligações Água'!M17 -> 6148.8155 | AM17: =AA17*'Economais e Ligações Água'!P17 -> 1842.7043 | AN17: =AI17+AJ17+AK17+AL17+AM17 -> 249999.08 | AO17: =AP17/(1-'Perdas e Vazões de Água'!D17) -> 15.573124 | AP17: =SUM(AI17:AM17)/'Economais e Ligações Água'!S17 -> 11.779381 | AQ17: =AP17-('Perdas e Vazões de Água'!E17*AO17) -> 10.919744 | AR17: =AS17/(1-'Perdas e Vazões de Água'!D17) -> 20.612305 | AS17: =SUM(AI17:AM17)/'Economais e Ligações Água'!T17 -> 15.590975 | AT17: =AR17*(1-'Perdas e Vazões de Água'!F17) -> 14.453176 | AU17: =AO17*'Economais e Ligações Água'!S17*12 -> 3966184.8 | AV17: =AP17*'Economais e Ligações Água'!S17*12 -> 2999988.9 | AW17: =AQ17*'Economais e Ligações Água'!S17*12 -> 2781055.5
B18: =População!B18 -> 6 | C18: =População!C18 -> 2032 | D18: =(E18/(1-'Perdas e Vazões de Água'!D18)) -> 185.7129 | E18: =E17 -> 144.24039 | F18: =E18-(D18*'Perdas e Vazões de Água'!E18) -> 134.95474 | G18: =ROUND(AU18/12/30.4375/'Atendimento '!H18*1000,2) -> 217.43 | H18: =ROUND(AV18/12/30.4375/'Atendimento '!H18*1000,2) -> 168.87 | I18: =ROUND(AW18/12/30.4375/'Atendimento '!H18*1000,2) -> 158 | L18: =População!B18 -> 6 | M18: =População!C18 -> 2032 | N18: =D18*30.4375*Imóveis!J18/1000 -> 14.021526 | O18: =N18*(1-'Perdas e Vazões de Água'!D18) -> 10.890307 | P18: =N18*(1-'Perdas e Vazões de Água'!$F18) -> 10.18923 | Q18: =$U$3/(1-'Perdas e Vazões de Água'!D18)*30.4375/1000 -> 17.696833 | R18: =Q18*(1-'Perdas e Vazões de Água'!D18) -> 13.744861 | S18: =Q18*(1-'Perdas e Vazões de Água'!$F18) -> 12.86002 | T18: =$V$3/(1-'Perdas e Vazões de Água'!D18)*30.4375/1000 -> 88.397125 | U18: =T18*(1-'Perdas e Vazões de Água'!D18) -> 68.656704 | V18: =T18*(1-'Perdas e Vazões de Água'!$F18) -> 64.236848 | W18: =$W$3/(1-'Perdas e Vazões de Água'!D18)*30.4375/1000 -> 75.39757 | X18: =W18*(1-'Perdas e Vazões de Água'!D18) -> 58.560147 | Y18: =W18*(1-'Perdas e Vazões de Água'!$F18) -> 54.790269 | Z18: =$X$3/(1-'Perdas e Vazões de Água'!D18)*30.4375/1000 -> 12.6873 | AA18: =Z18*(1-'Perdas e Vazões de Água'!D18) -> 9.8540335 | AB18: =Z18*(1-'Perdas e Vazões de Água'!$F18) -> 9.2196684 | AC18: =P18*'Economais e Ligações Água'!D18 -> 201709.15 | AD18: =S18*'Economais e Ligações Água'!G18 -> 17901.147 | AE18: =V18*'Economais e Ligações Água'!J18 -> 8993.1587 | AF18: =Y18*'Economais e Ligações Água'!M18 -> 5807.7685 | AG18: =AB18*'Economais e Ligações Água'!P18 -> 1742.5173 | AH18: =SUM(AC18:AG18) -> 236153.74 | AI18: =O18*'Economais e Ligações Água'!D18 -> 215587.87 | AJ18: =R18*'Economais e Ligações Água'!G18 -> 19132.847 | AK18: =U18*'Economais e Ligações Água'!J18 -> 9611.9386 | AL18: =X18*'Economais e Ligações Água'!M18 -> 6207.3756 | AM18: =AA18*'Economais e Ligações Água'!P18 -> 1862.4123 | AN18: =AI18+AJ18+AK18+AL18+AM18 -> 252402.44 | AO18: =AP18/(1-'Perdas e Vazões de Água'!D18) -> 15.028879 | AP18: =SUM(AI18:AM18)/'Economais e Ligações Água'!S18 -> 11.672702 | AQ18: =AP18-('Perdas e Vazões de Água'!E18*AO18) -> 10.921258 | AR18: =AS18/(1-'Perdas e Vazões de Água'!D18) -> 19.893517 | AS18: =SUM(AI18:AM18)/'Economais e Ligações Água'!T18 -> 15.450993 | AT18: =AR18*(1-'Perdas e Vazões de Água'!F18) -> 14.456317 | AU18: =AO18*'Economais e Ligações Água'!S18*12 -> 3899689.1 | AV18: =AP18*'Economais e Ligações Água'!S18*12 -> 3028829.3 | AW18: =AQ18*'Economais e Ligações Água'!S18*12 -> 2833844.9
B19: =População!B19 -> 7 | C19: =População!C19 -> 2033 | D19: =(E19/(1-'Perdas e Vazões de Água'!D19)) -> 180.29981 | E19: =E18 -> 144.24039 | F19: =E19-(D19*'Perdas e Vazões de Água'!E19) -> 135.2254 | G19: =ROUND(AU19/12/30.4375/'Atendimento '!H19*1000,2) -> 211.08 | H19: =ROUND(AV19/12/30.4375/'Atendimento '!H19*1000,2) -> 168.86 | I19: =ROUND(AW19/12/30.4375/'Atendimento '!H19*1000,2) -> 158.31 | L19: =População!B19 -> 7 | M19: =População!C19 -> 2033 | N19: =D19*30.4375*Imóveis!J19/1000 -> 13.481745 | O19: =N19*(1-'Perdas e Vazões de Água'!D19) -> 10.785437 | P19: =N19*(1-'Perdas e Vazões de Água'!$F19) -> 10.11135 | Q19: =$U$3/(1-'Perdas e Vazões de Água'!D19)*30.4375/1000 -> 17.181012 | R19: =Q19*(1-'Perdas e Vazões de Água'!D19) -> 13.744861 | S19: =Q19*(1-'Perdas e Vazões de Água'!$F19) -> 12.885811 | T19: =$V$3/(1-'Perdas e Vazões de Água'!D19)*30.4375/1000 -> 85.820556 | U19: =T19*(1-'Perdas e Vazões de Água'!D19) -> 68.656704 | V19: =T19*(1-'Perdas e Vazões de Água'!$F19) -> 64.365676 | W19: =$W$3/(1-'Perdas e Vazões de Água'!D19)*30.4375/1000 -> 73.199908 | X19: =W19*(1-'Perdas e Vazões de Água'!D19) -> 58.560147 | Y19: =W19*(1-'Perdas e Vazões de Água'!$F19) -> 54.900152 | Z19: =$X$3/(1-'Perdas e Vazões de Água'!D19)*30.4375/1000 -> 12.317495 | AA19: =Z19*(1-'Perdas e Vazões de Água'!D19) -> 9.8540335 | AB19: =Z19*(1-'Perdas e Vazões de Água'!$F19) -> 9.2381587 | AC19: =P19*'Economais e Ligações Água'!D19 -> 203976.41 | AD19: =S19*'Economais e Ligações Água'!G19 -> 18104.564 | AE19: =V19*'Economais e Ligações Água'!J19 -> 9075.5604 | AF19: =Y19*'Economais e Ligações Água'!M19 -> 5874.3163 | AG19: =AB19*'Economais e Ligações Água'!P19 -> 1764.4883 | AH19: =SUM(AC19:AG19) -> 238795.34 | AI19: =O19*'Economais e Ligações Água'!D19 -> 217574.79 | AJ19: =R19*'Economais e Ligações Água'!G19 -> 19311.53 | AK19: =U19*'Economais e Ligações Água'!J19 -> 9680.5953 | AL19: =X19*'Economais e Ligações Água'!M19 -> 6265.9358 | AM19: =AA19*'Economais e Ligações Água'!P19 -> 1882.1204 | AN19: =AI19+AJ19+AK19+AL19+AM19 -> 254714.97 | AO19: =AP19/(1-'Perdas e Vazões de Água'!D19) -> 14.461202 | AP19: =SUM(AI19:AM19)/'Economais e Ligações Água'!S19 -> 11.569005 | AQ19: =AP19-('Perdas e Vazões de Água'!E19*AO19) -> 10.845945 | AR19: =AS19/(1-'Perdas e Vazões de Água'!D19) -> 19.143526 | AS19: =SUM(AI19:AM19)/'Economais e Ligações Água'!T19 -> 15.314878 | AT19: =AR19*(1-'Perdas e Vazões de Água'!F19) -> 14.357702 | AU19: =AO19*'Economais e Ligações Água'!S19*12 -> 3820710.1 | AV19: =AP19*'Economais e Ligações Água'!S19*12 -> 3056579.6 | AW19: =AQ19*'Economais e Ligações Água'!S19*12 -> 2865544.1
B20: =População!B20 -> 8 | C20: =População!C20 -> 2034 | D20: =(E20/(1-'Perdas e Vazões de Água'!D20)) -> 179.17561 | E20: =E19 -> 144.24039 | F20: =E20-(D20*'Perdas e Vazões de Água'!E20) -> 135.28161 | G20: =ROUND(AU20/12/30.4375/'Atendimento '!H20*1000,2) -> 209.74 | H20: =ROUND(AV20/12/30.4375/'Atendimento '!H20*1000,2) -> 168.85 | I20: =ROUND(AW20/12/30.4375/'Atendimento '!H20*1000,2) -> 158.36 | L20: =População!B20 -> 8 | M20: =População!C20 -> 2034 | N20: =D20*30.4375*Imóveis!J20/1000 -> 13.271188 | O20: =N20*(1-'Perdas e Vazões de Água'!D20) -> 10.683605 | P20: =N20*(1-'Perdas e Vazões de Água'!$F20) -> 10.020045 | Q20: =$U$3/(1-'Perdas e Vazões de Água'!D20)*30.4375/1000 -> 17.073885 | R20: =Q20*(1-'Perdas e Vazões de Água'!D20) -> 13.744861 | S20: =Q20*(1-'Perdas e Vazões de Água'!$F20) -> 12.891167 | T20: =$V$3/(1-'Perdas e Vazões de Água'!D20)*30.4375/1000 -> 85.28545 | U20: =T20*(1-'Perdas e Vazões de Água'!D20) -> 68.656704 | V20: =T20*(1-'Perdas e Vazões de Água'!$F20) -> 64.392432 | W20: =$W$3/(1-'Perdas e Vazões de Água'!D20)*30.4375/1000 -> 72.743494 | X20: =W20*(1-'Perdas e Vazões de Água'!D20) -> 58.560147 | Y20: =W20*(1-'Perdas e Vazões de Água'!$F20) -> 54.922973 | Z20: =$X$3/(1-'Perdas e Vazões de Água'!D20)*30.4375/1000 -> 12.240694 | AA20: =Z20*(1-'Perdas e Vazões de Água'!D20) -> 9.8540335 | AB20: =Z20*(1-'Perdas e Vazões de Água'!$F20) -> 9.2419988 | AC20: =P20*'Economais e Ligações Água'!D20 -> 205853.77 | AD20: =S20*'Economais e Ligações Água'!G20 -> 18266.783 | AE20: =V20*'Economais e Ligações Água'!J20 -> 9143.7253 | AF20: =Y20*'Economais e Ligações Água'!M20 -> 5931.6811 | AG20: =AB20*'Economais e Ligações Água'!P20 -> 1774.4638 | AH20: =SUM(AC20:AG20) -> 240970.42 | AI20: =O20*'Economais e Ligações Água'!D20 -> 219486.06 | AJ20: =R20*'Economais e Ligações Água'!G20 -> 19476.468 | AK20: =U20*'Economais e Ligações Água'!J20 -> 9749.252 | AL20: =X20*'Economais e Ligações Água'!M20 -> 6324.4959 | AM20: =AA20*'Economais e Ligações Água'!P20 -> 1891.9744 | AN20: =AI20+AJ20+AK20+AL20+AM20 -> 256928.25 | AO20: =AP20/(1-'Perdas e Vazões de Água'!D20) -> 14.246031 | AP20: =SUM(AI20:AM20)/'Economais e Ligações Água'!S20 -> 11.468376 | AQ20: =AP20-('Perdas e Vazões de Água'!E20*AO20) -> 10.756074 | AR20: =AS20/(1-'Perdas e Vazões de Água'!D20) -> 18.860305 | AS20: =SUM(AI20:AM20)/'Economais e Ligações Água'!T20 -> 15.18297 | AT20: =AR20*(1-'Perdas e Vazões de Água'!F20) -> 14.239954 | AU20: =AO20*'Economais e Ligações Água'!S20*12 -> 3829879.4 | AV20: =AP20*'Economais e Ligações Água'!S20*12 -> 3083139 | AW20: =AQ20*'Economais e Ligações Água'!S20*12 -> 2891645
... B47: =População!B47 -> 35 | C47: =População!C47 -> 2061 | D47: =(E47/(1-'Perdas e Vazões de Água'!D47)) -> 169.69559 | E47: =E46 -> 144.24039 | F47: =E47-(D47*'Perdas e Vazões de Água'!E47) -> 135.75561 | G47: =ROUND(AU47/12/30.4375/'Atendimento '!H47*1000,2) -> 198.67 | H47: =ROUND(AV47/12/30.4375/'Atendimento '!H47*1000,2) -> 168.87 | I47: =ROUND(AW47/12/30.4375/'Atendimento '!H47*1000,2) -> 158.94 | L47: =População!B47 -> 35 | M47: =População!C47 -> 2061 | N47: =D47*30.4375*Imóveis!J47/1000 -> 10.487015 | O47: =N47*(1-'Perdas e Vazões de Água'!D47) -> 8.9139099 | P47: =N47*(1-'Perdas e Vazões de Água'!$F47) -> 8.3895591 | Q47: =$U$3/(1-'Perdas e Vazões de Água'!D47)*30.4375/1000 -> 16.170521 | R47: =Q47*(1-'Perdas e Vazões de Água'!D47) -> 13.744861 | S47: =Q47*(1-'Perdas e Vazões de Água'!$F47) -> 12.936335 | T47: =$V$3/(1-'Perdas e Vazões de Água'!D47)*30.4375/1000 -> 80.773075 | U47: =T47*(1-'Perdas e Vazões de Água'!D47) -> 68.656704 | V47: =T47*(1-'Perdas e Vazões de Água'!$F47) -> 64.61805 | W47: =$W$3/(1-'Perdas e Vazões de Água'!D47)*30.4375/1000 -> 68.894702 | X47: =W47*(1-'Perdas e Vazões de Água'!D47) -> 58.560147 | Y47: =W47*(1-'Perdas e Vazões de Água'!$F47) -> 55.115412 | Z47: =$X$3/(1-'Perdas e Vazões de Água'!D47)*30.4375/1000 -> 11.59305 | AA47: =Z47*(1-'Perdas e Vazões de Água'!D47) -> 9.8540335 | AB47: =Z47*(1-'Perdas e Vazões de Água'!$F47) -> 9.274381 | AC47: =P47*'Economais e Ligações Água'!D47 -> 233388.31 | AD47: =S47*'Economais e Ligações Água'!G47 -> 20711.072 | AE47: =V47*'Economais e Ligações Água'!J47 -> 10403.506 | AF47: =Y47*'Economais e Ligações Água'!M47 -> 6724.0803 | AG47: =AB47*'Economais e Ligações Água'!P47 -> 2012.5407 | AH47: =SUM(AC47:AG47) -> 273239.51 | AI47: =O47*'Economais e Ligações Água'!D47 -> 247975.17 | AJ47: =R47*'Economais e Ligações Água'!G47 -> 22005.523 | AK47: =U47*'Economais e Ligações Água'!J47 -> 11053.729 | AL47: =X47*'Economais e Ligações Água'!M47 -> 7144.338 | AM47: =AA47*'Economais e Ligações Água'!P47 -> 2138.3253 | AN47: =AI47+AJ47+AK47+AL47+AM47 -> 290317.09 | AO47: =AP47/(1-'Perdas e Vazões de Água'!D47) -> 11.415531 | AP47: =SUM(AI47:AM47)/'Economais e Ligações Água'!S47 -> 9.7031435 | AQ47: =AP47-('Perdas e Vazões de Água'!E47*AO47) -> 9.1323669 | AR47: =AS47/(1-'Perdas e Vazões de Água'!D47) -> 15.230084 | AS47: =SUM(AI47:AM47)/'Economais e Ligações Água'!T47 -> 12.945494 | AT47: =AR47*(1-'Perdas e Vazões de Água'!F47) -> 12.18399 | AU47: =AO47*'Economais e Ligações Água'!S47*12 -> 4098618.6 | AV47: =AP47*'Economais e Ligações Água'!S47*12 -> 3483805 | AW47: =AQ47*'Economais e Ligações Água'!S47*12 -> 3278874.1

Sheet Perdas e Vazões de Água
D1: F redução Perdas | J1: Distribuição das Vazões | R1: Coeficientes
D2: Ano 1-10 | E2: Ano 11-20 | F2: Ano 21-35 | J2: Resid | K2: Comercial | L2: Industrial | M2: Público | N2: Especial | R2: K1 | S2: K2 | T2: K3 | U2: Retorno | V2: Funcio/o | W2: Perda na Cap/ETA | AD2: Umidade da Torta de Lodo | AE2: Lodo Gerado em ton ST/m³ | AF2: Solidos Grosseiros t/m³.ano
D3: 0.085316185 | E3: 0.020078073 | F3: 0 | J3: =J8/O8 -> 0.85421962 | K3: =K8/O8 -> 0.07579553 | L3: =L8/O8 -> 0.038013768 | M3: =M8/O8 -> 0.024579118 | N3: =N8/O8 -> 0.0073919598 | R3: 1.2 | S3: 1.5 | T3: 0.5 | U3: 0.8 | V3: 18 | W3: 0.04 | AD3: 0.2 | AE3: 7.5368372e-05 | AF3: 1.6305351e-05
B5: Perdas | H5: VAZÕES DE ÁGUA (L/s) | AA5: DISTRIBUIÇÃO DA CAPATAÇÃO
B6: =População!B6 -> ANO | D6: Perdas Fisicas | E6: Perdas Aparentes | F6: Perdas Totais | H6: =População!B6 -> ANO | J6: Vazão Consumida Média Categoria Resid | K6: Vazão Consumida Média Categoria Comercial | L6: Vazão Consumida Média Categoria Industral | M6: Vazão Consumida Média Categoria Público | N6: Vazão Consumida Média Categoria Especial | O6: Vazão Consumida Média por todas a Categorias | P6: Vazão Média de Perdas Física | Q6: Vazão Disponibilizada Média | R6: Vazaão de Captação | S6: Vazão do Dia de Maior Consumo | T6: Vazão da Hora de Maior Consumo | U6: Vazão Minima Noturna | V6: Vazão do do Dia e Hora de Maior Consumo | W6: Volume Consumido Total | X6: Volume Disponibilizado Total | Y6: Volume Capitado Total | AA6: Captação Subterrânea | AB6: Volume na Captação Subterrânea | AC6: Captação Superficial | AD6: Volume na Captação Superficial | AE6: Volume de Lodo Gerada em ETA | AF6: Volume de Sólidos Grosseiros na captação
D7: % | E7: % | F7: % | J7: L/s | K7: L/s | L7: L/s | M7: L/s | N7: L/s | O7: L/s | P7: L/s | Q7: L/s | R7: L/s | S7: L/s | T7: L/s | U7: L/s | V7: L/s | W7: m³/Ano | X7: m³/Ano | Y7: m³/Ano | AA7: % | AB7: m³/Ano | AC7: % | AD7: m³/Ano | AE7: ton/ano | AF7: ton/ano
B8: =População!B8 -> CENSO | C8: =População!C8 -> 2022 | D8: 0.38 | E8: 0.0867 | F8: =D8+E8 -> 0.4667 | H8: =População!B8 -> CENSO | I8: =População!C8 -> 2022 | J8: ='Cota per capita e por economia '!AI8/30.4375/86.4 -> 70.127374 | K8: ='Cota per capita e por economia '!AJ8/30.4375/86.4 -> 6.222453 | L8: ='Cota per capita e por economia '!AK8/30.4375/86.4 -> 3.1207498 | M8: ='Cota per capita e por economia '!AL8/30.4375/86.4 -> 2.0178289 | N8: ='Cota per capita e por economia '!AM8/30.4375/86.4 -> 0.60684479 | O8: =J8+K8+L8+M8+N8 -> 82.09525 | P8: =Q8-O8 -> 50.316444 | Q8: =O8/(1-D8) -> 132.41169 | R8: =((O8)*$R$3)*((1+$W$3)*24/$V$3)+(Q8-O8) -> 186.92294 | S8: =O8*$R$3+(Q8-O8) -> 148.83074 | T8: =(O8)*$S$3+(Q8-O8) -> 173.45932 | U8: =(Q8)*$T$3 -> 66.205847 | V8: =O8*$R$3*$S$3+(Q8-O8) -> 198.08789 | W8: =(O8)*86.4*365.25 -> 2590729.1 | X8: =(Q8)*86.4*365.25 -> 4178595.3 | Y8: =(R8)*$V$3/24*86.4*365.25 -> 4424129.5 | AA8: 0 | AB8: =Y8*AA8 -> 0 | AC8: =1-AA8 -> 1 | AD8: =Y8-AB8 -> 4424129.5 | AE8: =($AE$3*AD8/(1-$AD$3)) -> 416.7993 | AF8: =$AF$3*AD8 -> 72.136984
B9: =População!B9 -> -2 | C9: =População!C9 -> 2023 | D9: =F9-E9 -> 0.38 | E9: 0.0867 | F9: =F8 -> 0.4667 | H9: =População!B9 -> -2 | I9: =População!C9 -> 2023 | J9: ='Cota per capita e por economia '!AI9/30.4375/86.4 -> 71.15344 | K9: ='Cota per capita e por economia '!AJ9/30.4375/86.4 -> 6.3131447 | L9: ='Cota per capita e por economia '!AK9/30.4375/86.4 -> 3.1710845 | M9: ='Cota per capita e por economia '!AL9/30.4375/86.4 -> 2.0607614 | N9: ='Cota per capita e por economia '!AM9/30.4375/86.4 -> 0.61406913 | O9: =J9+K9+L9+M9+N9 -> 83.312499 | P9: =Q9-O9 -> 51.0625 | Q9: =O9/(1-D9) -> 134.375 | R9: =((O9)*$R$3)*((1+$W$3)*24/$V$3)+(Q9-O9) -> 189.6945 | S9: =O9*$R$3+(Q9-O9) -> 151.0375 | T9: =(O9)*$S$3+(Q9-O9) -> 176.03125 | U9: =(Q9)*$T$3 -> 67.187499 | V9: =O9*$R$3*$S$3+(Q9-O9) -> 201.025 | W9: =(O9)*86.4*365.25 -> 2629142.5 | X9: =(Q9)*86.4*365.25 -> 4240552.5 | Y9: =(R9)*$V$3/24*86.4*365.25 -> 4489727.3 | AA9: 0 | AB9: =V9*AA9 -> 0 | AC9: =1-AA9 -> 1 | AD9: =Y9-AB9 -> 4489727.3 | AE9: =($AE$3*AD9/(1-$AD$3)) -> 422.9793 | AF9: =$AF$3*AD9 -> 73.206579
B10: =População!B10 -> -1 | C10: =População!C10 -> 2024 | D10: =F10-E10 -> 0.38 | E10: 0.0867 | F10: =F9 -> 0.4667 | H10: =População!B10 -> -1 | I10: =População!C10 -> 2024 | J10: ='Cota per capita e por economia '!AI10/30.4375/86.4 -> 72.14903 | K10: ='Cota per capita e por economia '!AJ10/30.4375/86.4 -> 6.4038363 | L10: ='Cota per capita e por economia '!AK10/30.4375/86.4 -> 3.2214191 | M10: ='Cota per capita e por economia '!AL10/30.4375/86.4 -> 2.0822276 | N10: ='Cota per capita e por economia '!AM10/30.4375/86.4 -> 0.62490565 | O10: =J10+K10+L10+M10+N10 -> 84.481419 | P10: =Q10-O10 -> 51.778934 | Q10: =O10/(1-D10) -> 136.26035 | R10: =((O10)*$R$3)*((1+$W$3)*24/$V$3)+(Q10-O10) -> 192.35602 | S10: =O10*$R$3+(Q10-O10) -> 153.15664 | T10: =(O10)*$S$3+(Q10-O10) -> 178.50106 | U10: =(Q10)*$T$3 -> 68.130177 | V10: =O10*$R$3*$S$3+(Q10-O10) -> 203.84549 | W10: =(O10)*86.4*365.25 -> 2666030.8 | X10: =(Q10)*86.4*365.25 -> 4300049.7 | Y10: =(R10)*$V$3/24*86.4*365.25 -> 4552720.7 | AA10: 0 | AB10: =V10*AA10 -> 0 | AC10: =1-AA10 -> 1 | AD10: =Y10-AB10 -> 4552720.7 | AE10: =($AE$3*AD10/(1-$AD$3)) -> 428.91393 | AF10: =$AF$3*AD10 -> 74.233707
B11: =População!B11 -> Base | C11: =População!C11 -> 2025 | D11: =F11-E11 -> 0.38 | E11: 0.0867 | F11: =F10 -> 0.4667 | H11: =População!B11 -> Base | I11: =População!C11 -> 2025 | J11: ='Cota per capita e por economia '!AI11/30.4375/86.4 -> 73.114099 | K11: ='Cota per capita e por economia '!AJ11/30.4375/86.4 -> 6.4894895 | L11: ='Cota per capita e por economia '!AK11/30.4375/86.4 -> 3.2465865 | M11: ='Cota per capita e por economia '!AL11/30.4375/86.4 -> 2.1036939 | N11: ='Cota per capita e por economia '!AM11/30.4375/86.4 -> 0.63212999 | O11: =J11+K11+L11+M11+N11 -> 85.585998 | P11: =Q11-O11 -> 52.455934 | Q11: =O11/(1-D11) -> 138.04193 | R11: =((O11)*$R$3)*((1+$W$3)*24/$V$3)+(Q11-O11) -> 194.87104 | S11: =O11*$R$3+(Q11-O11) -> 155.15913 | T11: =(O11)*$S$3+(Q11-O11) -> 180.83493 | U11: =(Q11)*$T$3 -> 69.020966 | V11: =O11*$R$3*$S$3+(Q11-O11) -> 206.51073 | W11: =(O11)*86.4*365.25 -> 2700888.7 | X11: =(Q11)*86.4*365.25 -> 4356272.1 | Y11: =(R11)*$V$3/24*86.4*365.25 -> 4612246.7 | AA11: 0 | AB11: =V11*AA11 -> 0 | AC11: =1-AA11 -> 1 | AD11: =Y11-AB11 -> 4612246.7 | AE11: =($AE$3*AD11/(1-$AD$3)) -> 434.5219 | AF11: =$AF$3*AD11 -> 75.2043
B12: =População!B12 -> 0 | C12: =População!C12 -> 2026 | D12: =F12-E12 -> 0.383 | E12: =($E$15-$E$8)/7+E11 -> 0.0837 | F12: =F11 -> 0.4667 | H12: =População!B12 -> 0 | I12: =População!C12 -> 2026 | J12: ='Cota per capita e por economia '!AI12/30.4375/86.4 -> 74.048681 | K12: ='Cota per capita e por economia '!AJ12/30.4375/86.4 -> 6.5701043 | L12: ='Cota per capita e por economia '!AK12/30.4375/86.4 -> 3.2969211 | M12: ='Cota per capita e por economia '!AL12/30.4375/86.4 -> 2.1466264 | N12: ='Cota per capita e por economia '!AM12/30.4375/86.4 -> 0.63935433 | O12: =J12+K12+L12+M12+N12 -> 86.701688 | P12: =Q12-O12 -> 53.819686 | Q12: =O12/(1-D12) -> 140.52137 | R12: =((O12)*$R$3)*((1+$W$3)*24/$V$3)+(Q12-O12) -> 198.09129 | S12: =O12*$R$3+(Q12-O12) -> 157.86171 | T12: =(O12)*$S$3+(Q12-O12) -> 183.87222 | U12: =(Q12)*$T$3 -> 70.260687 | V12: =O12*$R$3*$S$3+(Q12-O12) -> 209.88272 | W12: =(O12)*86.4*365.25 -> 2736097.2 | X12: =(Q12)*86.4*365.25 -> 4434517.3 | Y12: =(R12)*$V$3/24*86.4*365.25 -> 4688464.4 | AA12: 0 | AB12: =V12*AA12 -> 0 | AC12: =1-AA12 -> 1 | AD12: =Y12-AB12 -> 4688464.4 | AE12: =($AE$3*AD12/(1-$AD$3)) -> 441.70241 | AF12: =$AF$3*AD12 -> 76.447056
B13: =População!B13 -> 1 | C13: =População!C13 -> 2027 | D13: =F13-E13 -> 0.34618294 | E13: =($E$15-$E$8)/7+E12 -> 0.0807 | F13: =F12*(1-$D$3) -> 0.42688294 | H13: =População!B13 -> 1 | I13: =População!C13 -> 2027 | J13: ='Cota per capita e por economia '!AI13/30.4375/86.4 -> 74.952897 | K13: ='Cota per capita e por economia '!AJ13/30.4375/86.4 -> 6.650719 | L13: ='Cota per capita e por economia '!AK13/30.4375/86.4 -> 3.3472558 | M13: ='Cota per capita e por economia '!AL13/30.4375/86.4 -> 2.1680927 | N13: ='Cota per capita e por economia '!AM13/30.4375/86.4 -> 0.64657867 | O13: =J13+K13+L13+M13+N13 -> 87.765543 | P13: =Q13-O13 -> 46.470083 | Q13: =O13/(1-D13) -> 134.23563 | R13: =((O13)*$R$3)*((1+$W$3)*24/$V$3)+(Q13-O13) -> 192.51195 | S13: =O13*$R$3+(Q13-O13) -> 151.78874 | T13: =(O13)*$S$3+(Q13-O13) -> 178.1184 | U13: =(Q13)*$T$3 -> 67.117813 | V13: =O13*$R$3*$S$3+(Q13-O13) -> 204.44806 | W13: =(O13)*86.4*365.25 -> 2769669.9 | X13: =(Q13)*86.4*365.25 -> 4236154.2 | Y13: =(R13)*$V$3/24*86.4*365.25 -> 4556411.3 | AA13: 0 | AB13: =V13*AA13 -> 0 | AC13: =1-AA13 -> 1 | AD13: =Y13-AB13 -> 4556411.3 | AE13: =($AE$3*AD13/(1-$AD$3)) -> 429.26163 | AF13: =$AF$3*AD13 -> 74.293884
B14: =População!B14 -> 2 | C14: =População!C14 -> 2028 | D14: =F14-E14 -> 0.31276291 | E14: =($E$15-$E$8)/7+E13 -> 0.0777 | F14: =F13*(1-$D$3) -> 0.39046291 | H14: =População!B14 -> 2 | I14: =População!C14 -> 2028 | J14: ='Cota per capita e por economia '!AI14/30.4375/86.4 -> 78.186698 | K14: ='Cota per capita e por economia '!AJ14/30.4375/86.4 -> 6.9356199 | L14: ='Cota per capita e por economia '!AK14/30.4375/86.4 -> 3.4773741 | M14: ='Cota per capita e por economia '!AL14/30.4375/86.4 -> 2.2576988 | N14: ='Cota per capita e por economia '!AM14/30.4375/86.4 -> 0.67414958 | O14: =J14+K14+L14+M14+N14 -> 91.53154 | P14: =Q14-O14 -> 41.656179 | Q14: =O14/(1-D14) -> 133.18772 | R14: =((O14)*$R$3)*((1+$W$3)*24/$V$3)+(Q14-O14) -> 193.96466 | S14: =O14*$R$3+(Q14-O14) -> 151.49403 | T14: =(O14)*$S$3+(Q14-O14) -> 178.95349 | U14: =(Q14)*$T$3 -> 66.59386 | V14: =O14*$R$3*$S$3+(Q14-O14) -> 206.41295 | W14: =(O14)*86.4*365.25 -> 2888515.7 | X14: =(Q14)*86.4*365.25 -> 4203084.8 | Y14: =(R14)*$V$3/24*86.4*365.25 -> 4590794.4 | AA14: 0 | AB14: =V14*AA14 -> 0 | AC14: =1-AA14 -> 1 | AD14: =Y14-AB14 -> 4590794.4 | AE14: =($AE$3*AD14/(1-$AD$3)) -> 432.50088 | AF14: =$AF$3*AD14 -> 74.854513
B15: =População!B15 -> 3 | C15: =População!C15 -> 2029 | D15: =F15-E15 -> 0.29145011 | E15: 0.0657 | F15: =F14*(1-$D$3) -> 0.35715011 | H15: =População!B15 -> 3 | I15: =População!C15 -> 2029 | J15: ='Cota per capita e por economia '!AI15/30.4375/86.4 -> 79.534304 | K15: ='Cota per capita e por economia '!AJ15/30.4375/86.4 -> 7.0558835 | L15: ='Cota per capita e por economia '!AK15/30.4375/86.4 -> 3.5505787 | M15: ='Cota per capita e por economia '!AL15/30.4375/86.4 -> 2.2935946 | N15: ='Cota per capita e por economia '!AM15/30.4375/86.4 -> 0.68571303 | O15: =J15+K15+L15+M15+N15 -> 93.120073 | P15: =Q15-O15 -> 38.303379 | Q15: =O15/(1-D15) -> 131.42345 | R15: =((O15)*$R$3)*((1+$W$3)*24/$V$3)+(Q15-O15) -> 193.25518 | S15: =O15*$R$3+(Q15-O15) -> 150.04747 | T15: =(O15)*$S$3+(Q15-O15) -> 177.98349 | U15: =(Q15)*$T$3 -> 65.711726 | V15: =O15*$R$3*$S$3+(Q15-O15) -> 205.91951 | W15: =(O15)*86.4*365.25 -> 2938646 | X15: =(Q15)*86.4*365.25 -> 4147408.8 | Y15: =(R15)*$V$3/24*86.4*365.25 -> 4574002.3 | AA15: 0 | AB15: =V15*AA15 -> 0 | AC15: =1-AA15 -> 1 | AD15: =Y15-AB15 -> 4574002.3 | AE15: =($AE$3*AD15/(1-$AD$3)) -> 430.91888 | AF15: =$AF$3*AD15 -> 74.580712
B16: =População!B16 -> 4 | C16: =População!C16 -> 2030 | D16: =F16-E16 -> 0.26617942 | E16: 0.0605 | F16: =F15*(1-$D$3) -> 0.32667942 | H16: =População!B16 -> 4 | I16: =População!C16 -> 2030 | J16: ='Cota per capita e por economia '!AI16/30.4375/86.4 -> 80.37927 | K16: ='Cota per capita e por economia '!AJ16/30.4375/86.4 -> 7.1342822 | L16: ='Cota per capita e por economia '!AK16/30.4375/86.4 -> 3.5766859 | M16: ='Cota per capita e por economia '!AL16/30.4375/86.4 -> 2.3158625 | N16: ='Cota per capita e por economia '!AM16/30.4375/86.4 -> 0.69320716 | O16: =J16+K16+L16+M16+N16 -> 94.099308 | P16: =Q16-O16 -> 34.13273 | Q16: =O16/(1-D16) -> 128.23204 | R16: =((O16)*$R$3)*((1+$W$3)*24/$V$3)+(Q16-O16) -> 190.71398 | S16: =O16*$R$3+(Q16-O16) -> 147.0519 | T16: =(O16)*$S$3+(Q16-O16) -> 175.28169 | U16: =(Q16)*$T$3 -> 64.116019 | V16: =O16*$R$3*$S$3+(Q16-O16) -> 203.51148 | W16: =(O16)*86.4*365.25 -> 2969548.3 | X16: =(Q16)*86.4*365.25 -> 4046695.4 | Y16: =(R16)*$V$3/24*86.4*365.25 -> 4513856.6 | AA16: 0 | AB16: =V16*AA16 -> 0 | AC16: =1-AA16 -> 1 | AD16: =Y16-AB16 -> 4513856.6 | AE16: =($AE$3*AD16/(1-$AD$3)) -> 425.25253 | AF16: =$AF$3*AD16 -> 73.600015
B17: =População!B17 -> 5 | C17: =População!C17 -> 2031 | D17: =F17-E17 -> 0.24360838 | E17: 0.0552 | F17: =F16*(1-$D$3) -> 0.29880838 | H17: =População!B17 -> 5 | I17: =População!C17 -> 2031 | J17: ='Cota per capita e por economia '!AI17/30.4375/86.4 -> 81.193953 | K17: ='Cota per capita e por economia '!AJ17/30.4375/86.4 -> 7.2022278 | L17: ='Cota per capita e por economia '!AK17/30.4375/86.4 -> 3.6289003 | M17: ='Cota per capita e por economia '!AL17/30.4375/86.4 -> 2.3381305 | N17: ='Cota per capita e por economia '!AM17/30.4375/86.4 -> 0.70070129 | O17: =J17+K17+L17+M17+N17 -> 95.063912 | P17: =Q17-O17 -> 30.616899 | Q17: =O17/(1-D17) -> 125.68081 | R17: =((O17)*$R$3)*((1+$W$3)*24/$V$3)+(Q17-O17) -> 188.80325 | S17: =O17*$R$3+(Q17-O17) -> 144.69359 | T17: =(O17)*$S$3+(Q17-O17) -> 173.21277 | U17: =(Q17)*$T$3 -> 62.840406 | V17: =O17*$R$3*$S$3+(Q17-O17) -> 201.73194 | W17: =(O17)*86.4*365.25 -> 2999988.9 | X17: =(Q17)*86.4*365.25 -> 3966184.8 | Y17: =(R17)*$V$3/24*86.4*365.25 -> 4468633.1 | AA17: 0 | AB17: =V17*AA17 -> 0 | AC17: =1-AA17 -> 1 | AD17: =Y17-AB17 -> 4468633.1 | AE17: =($AE$3*AD17/(1-$AD$3)) -> 420.992 | AF17: =$AF$3*AD17 -> 72.86263
B18: =População!B18 -> 6 | C18: =População!C18 -> 2032 | D18: =F18-E18 -> 0.22331519 | E18: 0.05 | F18: =F17*(1-$D$3) -> 0.27331519 | H18: =População!B18 -> 6 | I18: =População!C18 -> 2032 | J18: ='Cota per capita e por economia '!AI18/30.4375/86.4 -> 81.978808 | K18: ='Cota per capita e por economia '!AJ18/30.4375/86.4 -> 7.2753999 | L18: ='Cota per capita e por economia '!AK18/30.4375/86.4 -> 3.6550074 | M18: ='Cota per capita e por economia '!AL18/30.4375/86.4 -> 2.3603984 | N18: ='Cota per capita e por economia '!AM18/30.4375/86.4 -> 0.70819542 | O18: =J18+K18+L18+M18+N18 -> 95.97781 | P18: =Q18-O18 -> 27.595883 | Q18: =O18/(1-D18) -> 123.57369 | R18: =((O18)*$R$3)*((1+$W$3)*24/$V$3)+(Q18-O18) -> 187.30296 | S18: =O18*$R$3+(Q18-O18) -> 142.76925 | T18: =(O18)*$S$3+(Q18-O18) -> 171.5626 | U18: =(Q18)*$T$3 -> 61.786846 | V18: =O18*$R$3*$S$3+(Q18-O18) -> 200.35594 | W18: =(O18)*86.4*365.25 -> 3028829.3 | X18: =(Q18)*86.4*365.25 -> 3899689.1 | Y18: =(R18)*$V$3/24*86.4*365.25 -> 4433123.9 | AA18: 0 | AB18: =V18*AA18 -> 0 | AC18: =1-AA18 -> 1 | AD18: =Y18-AB18 -> 4433123.9 | AE18: =($AE$3*AD18/(1-$AD$3)) -> 417.64666 | AF18: =$AF$3*AD18 -> 72.28364
B19: =População!B19 -> 7 | C19: =População!C19 -> 2033 | D19: =F19-E19 -> 0.19999698 | E19: =E18 -> 0.05 | F19: =F18*(1-$D$3) -> 0.24999698 | H19: =População!B19 -> 7 | I19: =População!C19 -> 2033 | J19: ='Cota per capita e por economia '!AI19/30.4375/86.4 -> 82.734347 | K19: ='Cota per capita e por economia '!AJ19/30.4375/86.4 -> 7.3433455 | L19: ='Cota per capita e por economia '!AK19/30.4375/86.4 -> 3.6811146 | M19: ='Cota per capita e por economia '!AL19/30.4375/86.4 -> 2.3826663 | N19: ='Cota per capita e por economia '!AM19/30.4375/86.4 -> 0.71568955 | O19: =J19+K19+L19+M19+N19 -> 96.857163 | P19: =Q19-O19 -> 24.213834 | Q19: =O19/(1-D19) -> 121.071 | R19: =((O19)*$R$3)*((1+$W$3)*24/$V$3)+(Q19-O19) -> 185.38415 | S19: =O19*$R$3+(Q19-O19) -> 140.44243 | T19: =(O19)*$S$3+(Q19-O19) -> 169.49958 | U19: =(Q19)*$T$3 -> 60.535498 | V19: =O19*$R$3*$S$3+(Q19-O19) -> 198.55673 | W19: =(O19)*86.4*365.25 -> 3056579.6 | X19: =(Q19)*86.4*365.25 -> 3820710.1 | Y19: =(R19)*$V$3/24*86.4*365.25 -> 4387709.2 | AA19: 0 | AB19: =V19*AA19 -> 0 | AC19: =1-AA19 -> 1 | AD19: =Y19-AB19 -> 4387709.2 | AE19: =($AE$3*AD19/(1-$AD$3)) -> 413.36813 | AF19: =$AF$3*AD19 -> 71.543138
B20: =População!B20 -> 8 | C20: =População!C20 -> 2034 | D20: =F20-E20 -> 0.19497752 | E20: =E19 -> 0.05 | F20: =F19*(1-$E$3) -> 0.24497752 | H20: =População!B20 -> 8 | I20: =População!C20 -> 2034 | J20: ='Cota per capita e por economia '!AI20/30.4375/86.4 -> 83.461122 | K20: ='Cota per capita e por economia '!AJ20/30.4375/86.4 -> 7.4060644 | L20: ='Cota per capita e por economia '!AK20/30.4375/86.4 -> 3.7072218 | M20: ='Cota per capita e por economia '!AL20/30.4375/86.4 -> 2.4049342 | N20: ='Cota per capita e por economia '!AM20/30.4375/86.4 -> 0.71943662 | O20: =J20+K20+L20+M20+N20 -> 97.698779 | P20: =Q20-O20 -> 23.662775 | Q20: =O20/(1-D20) -> 121.36155 | R20: =((O20)*$R$3)*((1+$W$3)*24/$V$3)+(Q20-O20) -> 186.23354 | S20: =O20*$R$3+(Q20-O20) -> 140.90131 | T20: =(O20)*$S$3+(Q20-O20) -> 170.21094 | U20: =(Q20)*$T$3 -> 60.680777 | V20: =O20*$R$3*$S$3+(Q20-O20) -> 199.52058 | W20: =(O20)*86.4*365.25 -> 3083139 | X20: =(Q20)*86.4*365.25 -> 3829879.4 | Y20: =(R20)*$V$3/24*86.4*365.25 -> 4407812.8 | AA20: 0 | AB20: =V20*AA20 -> 0 | AC20: =1-AA20 -> 1 | AD20: =Y20-AB20 -> 4407812.8 | AE20: =($AE$3*AD20/(1-$AD$3)) -> 415.26209 | AF20: =$AF$3*AD20 -> 71.870934
B21: =População!B21 -> 9 | C21: =População!C21 -> 2035 | D21: =F21-E21 -> 0.19005885 | E21: =E20 -> 0.05 | F21: =F20*(1-$E$3) -> 0.24005885 | H21: =População!B21 -> 9 | I21: =População!C21 -> 2035 | J21: ='Cota per capita e por economia '!AI21/30.4375/86.4 -> 84.159728 | K21: ='Cota per capita e por economia '!AJ21/30.4375/86.4 -> 7.4687834 | L21: ='Cota per capita e por economia '!AK21/30.4375/86.4 -> 3.7594362 | M21: ='Cota per capita e por economia '!AL21/30.4375/86.4 -> 2.4272021 | N21: ='Cota per capita e por economia '!AM21/30.4375/86.4 -> 0.72693075 | O21: =J21+K21+L21+M21+N21 -> 98.54208 | P21: =Q21-O21 -> 23.123648 | Q21: =O21/(1-D21) -> 121.66573 | R21: =((O21)*$R$3)*((1+$W$3)*24/$V$3)+(Q21-O21) -> 187.09767 | S21: =O21*$R$3+(Q21-O21) -> 141.37414 | T21: =(O21)*$S$3+(Q21-O21) -> 170.93677 | U21: =(Q21)*$T$3 -> 60.832864 | V21: =O21*$R$3*$S$3+(Q21-O21) -> 200.49939 | W21: =(O21)*86.4*365.25 -> 3109751.6 | X21: =(Q21)*86.4*365.25 -> 3839478.4 | Y21: =(R21)*$V$3/24*86.4*365.25 -> 4428265.1 | AA21: 0 | AB21: =V21*AA21 -> 0 | AC21: =1-AA21 -> 1 | AD21: =Y21-AB21 -> 4428265.1 | AE21: =($AE$3*AD21/(1-$AD$3)) -> 417.18891 | AF21: =$AF$3*AD21 -> 72.204415
B22: =População!B22 -> 10 | C22: =População!C22 -> 2036 | D22: =F22-E22 -> 0.18523893 | E22: =E21 -> 0.05 | F22: =F21*(1-$E$3) -> 0.23523893 | H22: =População!B22 -> 10 | I22: =População!C22 -> 2036 | J22: ='Cota per capita e por economia '!AI22/30.4375/86.4 -> 84.830791 | K22: ='Cota per capita e por economia '!AJ22/30.4375/86.4 -> 7.5262758 | L22: ='Cota per capita e por economia '!AK22/30.4375/86.4 -> 3.7855434 | M22: ='Cota per capita e por economia '!AL22/30.4375/86.4 -> 2.44947 | N22: ='Cota per capita e por economia '!AM22/30.4375/86.4 -> 0.73442488 | O22: =J22+K22+L22+M22+N22 -> 99.326505 | P22: =Q22-O22 -> 22.582246 | Q22: =O22/(1-D22) -> 121.90875 | R22: =((O22)*$R$3)*((1+$W$3)*24/$V$3)+(Q22-O22) -> 187.86155 | S22: =O22*$R$3+(Q22-O22) -> 141.77405 | T22: =(O22)*$S$3+(Q22-O22) -> 171.572 | U22: =(Q22)*$T$3 -> 60.954376 | V22: =O22*$R$3*$S$3+(Q22-O22) -> 201.36996 | W22: =(O22)*86.4*365.25 -> 3134506.1 | X22: =(Q22)*86.4*365.25 -> 3847147.6 | Y22: =(R22)*$V$3/24*86.4*365.25 -> 4446344.8 | AA22: 0 | AB22: =V22*AA22 -> 0 | AC22: =1-AA22 -> 1 | AD22: =Y22-AB22 -> 4446344.8 | AE22: =($AE$3*AD22/(1-$AD$3)) -> 418.89221 | AF22: =$AF$3*AD22 -> 72.499211
B23: =População!B23 -> 11 | C23: =População!C23 -> 2037 | D23: =F23-E23 -> 0.18051578 | E23: =E22 -> 0.05 | F23: =F22*(1-$E$3) -> 0.23051578 | H23: =População!B23 -> 11 | I23: =População!C23 -> 2037 | J23: ='Cota per capita e por economia '!AI23/30.4375/86.4 -> 85.474969 | K23: ='Cota per capita e por economia '!AJ23/30.4375/86.4 -> 7.5837682 | L23: ='Cota per capita e por economia '!AK23/30.4375/86.4 -> 3.8116506 | M23: ='Cota per capita e por economia '!AL23/30.4375/86.4 -> 2.4717379 | N23: ='Cota per capita e por economia '!AM23/30.4375/86.4 -> 0.73817195 | O23: =J23+K23+L23+M23+N23 -> 100.0803 | P23: =Q23-O23 -> 22.045664 | Q23: =O23/(1-D23) -> 122.12596 | R23: =((O23)*$R$3)*((1+$W$3)*24/$V$3)+(Q23-O23) -> 188.57928 | S23: =O23*$R$3+(Q23-O23) -> 142.14202 | T23: =(O23)*$S$3+(Q23-O23) -> 172.16611 | U23: =(Q23)*$T$3 -> 61.062981 | V23: =O23*$R$3*$S$3+(Q23-O23) -> 202.1902 | W23: =(O23)*86.4*365.25 -> 3158294 | X23: =(Q23)*86.4*365.25 -> 3854002.2 | Y23: =(R23)*$V$3/24*86.4*365.25 -> 4463332.1 | AA23: 0 | AB23: =V23*AA23 -> 0 | AC23: =1-AA23 -> 1 | AD23: =Y23-AB23 -> 4463332.1 | AE23: =($AE$3*AD23/(1-$AD$3)) -> 420.49259 | AF23: =$AF$3*AD23 -> 72.776196
B24: =População!B24 -> 12 | C24: =População!C24 -> 2038 | D24: =F24-E24 -> 0.17588747 | E24: =E23 -> 0.05 | F24: =F23*(1-$E$3) -> 0.22588747 | H24: =População!B24 -> 12 | I24: =População!C24 -> 2038 | J24: ='Cota per capita e por economia '!AI24/30.4375/86.4 -> 86.092944 | K24: ='Cota per capita e por economia '!AJ24/30.4375/86.4 -> 7.6412605 | L24: ='Cota per capita e por economia '!AK24/30.4375/86.4 -> 3.8377578 | M24: ='Cota per capita e por economia '!AL24/30.4375/86.4 -> 2.4940058 | N24: ='Cota per capita e por economia '!AM24/30.4375/86.4 -> 0.74566608 | O24: =J24+K24+L24+M24+N24 -> 100.81163 | P24: =Q24-O24 -> 21.515876 | Q24: =O24/(1-D24) -> 122.32751 | R24: =((O24)*$R$3)*((1+$W$3)*24/$V$3)+(Q24-O24) -> 189.26644 | S24: =O24*$R$3+(Q24-O24) -> 142.48984 | T24: =(O24)*$S$3+(Q24-O24) -> 172.73333 | U24: =(Q24)*$T$3 -> 61.163755 | V24: =O24*$R$3*$S$3+(Q24-O24) -> 202.97682 | W24: =(O24)*86.4*365.25 -> 3181373.2 | X24: =(Q24)*86.4*365.25 -> 3860362.6 | Y24: =(R24)*$V$3/24*86.4*365.25 -> 4479595.8 | AA24: 0 | AB24: =V24*AA24 -> 0 | AC24: =1-AA24 -> 1 | AD24: =Y24-AB24 -> 4479595.8 | AE24: =($AE$3*AD24/(1-$AD$3)) -> 422.02481 | AF24: =$AF$3*AD24 -> 73.041382
B25: =População!B25 -> 13 | C25: =População!C25 -> 2039 | D25: =F25-E25 -> 0.17135209 | E25: =E24 -> 0.05 | F25: =F24*(1-$E$3) -> 0.22135209 | H25: =População!B25 -> 13 | I25: =População!C25 -> 2039 | J25: ='Cota per capita e por economia '!AI25/30.4375/86.4 -> 86.685416 | K25: ='Cota per capita e por economia '!AJ25/30.4375/86.4 -> 7.6935264 | L25: ='Cota per capita e por economia '!AK25/30.4375/86.4 -> 3.863865 | M25: ='Cota per capita e por economia '!AL25/30.4375/86.4 -> 2.4940058 | N25: ='Cota per capita e por economia '!AM25/30.4375/86.4 -> 0.74941315 | O25: =J25+K25+L25+M25+N25 -> 101.48623 | P25: =Q25-O25 -> 20.985845 | Q25: =O25/(1-D25) -> 122.47207 | R25: =((O25)*$R$3)*((1+$W$3)*24/$V$3)+(Q25-O25) -> 189.85893 | S25: =O25*$R$3+(Q25-O25) -> 142.76932 | T25: =(O25)*$S$3+(Q25-O25) -> 173.21518 | U25: =(Q25)*$T$3 -> 61.236036 | V25: =O25*$R$3*$S$3+(Q25-O25) -> 203.66105 | W25: =(O25)*86.4*365.25 -> 3202661.7 | X25: =(Q25)*86.4*365.25 -> 3864924.6 | Y25: =(R25)*$V$3/24*86.4*365.25 -> 4493619 | AA25: 0 | AB25: =V25*AA25 -> 0 | AC25: =1-AA25 -> 1 | AD25: =Y25-AB25 -> 4493619 | AE25: =($AE$3*AD25/(1-$AD$3)) -> 423.34594 | AF25: =$AF$3*AD25 -> 73.270035
B26: =População!B26 -> 14 | C26: =População!C26 -> 2040 | D26: =F26-E26 -> 0.16690776 | E26: =E25 -> 0.05 | F26: =F25*(1-$E$3) -> 0.21690776 | H26: =População!B26 -> 14 | I26: =População!C26 -> 2040 | J26: ='Cota per capita e por economia '!AI26/30.4375/86.4 -> 87.253103 | K26: ='Cota per capita e por economia '!AJ26/30.4375/86.4 -> 7.7405656 | L26: ='Cota per capita e por economia '!AK26/30.4375/86.4 -> 3.8899722 | M26: ='Cota per capita e por economia '!AL26/30.4375/86.4 -> 2.5162737 | N26: ='Cota per capita e por economia '!AM26/30.4375/86.4 -> 0.75316021 | O26: =J26+K26+L26+M26+N26 -> 102.15308 | P26: =Q26-O26 -> 20.466091 | Q26: =O26/(1-D26) -> 122.61917 | R26: =((O26)*$R$3)*((1+$W$3)*24/$V$3)+(Q26-O26) -> 190.44881 | S26: =O26*$R$3+(Q26-O26) -> 143.04978 | T26: =(O26)*$S$3+(Q26-O26) -> 173.6957 | U26: =(Q26)*$T$3 -> 61.309583 | V26: =O26*$R$3*$S$3+(Q26-O26) -> 204.34163 | W26: =(O26)*86.4*365.25 -> 3223705.9 | X26: =(Q26)*86.4*365.25 -> 3869566.6 | Y26: =(R26)*$V$3/24*86.4*365.25 -> 4507580.5 | AA26: 0 | AB26: =V26*AA26 -> 0 | AC26: =1-AA26 -> 1 | AD26: =Y26-AB26 -> 4507580.5 | AE26: =($AE$3*AD26/(1-$AD$3)) -> 424.66125 | AF26: =$AF$3*AD26 -> 73.497681
B27: =População!B27 -> 15 | C27: =População!C27 -> 2041 | D27: =F27-E27 -> 0.16255267 | E27: =E26 -> 0.05 | F27: =F26*(1-$E$3) -> 0.21255267 | H27: =População!B27 -> 15 | I27: =População!C27 -> 2041 | J27: ='Cota per capita e por economia '!AI27/30.4375/86.4 -> 87.796734 | K27: ='Cota per capita e por economia '!AJ27/30.4375/86.4 -> 7.7876048 | L27: ='Cota per capita e por economia '!AK27/30.4375/86.4 -> 3.9160794 | M27: ='Cota per capita e por economia '!AL27/30.4375/86.4 -> 2.5385416 | N27: ='Cota per capita e por economia '!AM27/30.4375/86.4 -> 0.75690728 | O27: =J27+K27+L27+M27+N27 -> 102.79587 | P27: =Q27-O27 -> 19.953187 | Q27: =O27/(1-D27) -> 122.74905 | R27: =((O27)*$R$3)*((1+$W$3)*24/$V$3)+(Q27-O27) -> 191.00551 | S27: =O27*$R$3+(Q27-O27) -> 143.30823 | T27: =(O27)*$S$3+(Q27-O27) -> 174.14699 | U27: =(Q27)*$T$3 -> 61.374527 | V27: =O27*$R$3*$S$3+(Q27-O27) -> 204.98575 | W27: =(O27)*86.4*365.25 -> 3243990.9 | X27: =(Q27)*86.4*365.25 -> 3873665.5 | Y27: =(R27)*$V$3/24*86.4*365.25 -> 4520756.6 | AA27: 0 | AB27: =V27*AA27 -> 0 | AC27: =1-AA27 -> 1 | AD27: =Y27-AB27 -> 4520756.6 | AE27: =($AE$3*AD27/(1-$AD$3)) -> 425.90258 | AF27: =$AF$3*AD27 -> 73.712522
B28: =População!B28 -> 16 | C28: =População!C28 -> 2042 | D28: =F28-E28 -> 0.15828502 | E28: =E27 -> 0.05 | F28: =F27*(1-$E$3) -> 0.20828502 | H28: =População!B28 -> 16 | I28: =População!C28 -> 2042 | J28: ='Cota per capita e por economia '!AI28/30.4375/86.4 -> 88.317045 | K28: ='Cota per capita e por economia '!AJ28/30.4375/86.4 -> 7.834644 | L28: ='Cota per capita e por economia '!AK28/30.4375/86.4 -> 3.9421866 | M28: ='Cota per capita e por economia '!AL28/30.4375/86.4 -> 2.5385416 | N28: ='Cota per capita e por economia '!AM28/30.4375/86.4 -> 0.76440141 | O28: =J28+K28+L28+M28+N28 -> 103.39682 | P28: =Q28-O28 -> 19.443836 | Q28: =O28/(1-D28) -> 122.84065 | R28: =((O28)*$R$3)*((1+$W$3)*24/$V$3)+(Q28-O28) -> 191.49614 | S28: =O28*$R$3+(Q28-O28) -> 143.52002 | T28: =(O28)*$S$3+(Q28-O28) -> 174.53906 | U28: =(Q28)*$T$3 -> 61.420327 | V28: =O28*$R$3*$S$3+(Q28-O28) -> 205.55811 | W28: =(O28)*86.4*365.25 -> 3262955.4 | X28: =(Q28)*86.4*365.25 -> 3876556.2 | Y28: =(R28)*$V$3/24*86.4*365.25 -> 4532369 | AA28: 0 | AB28: =V28*AA28 -> 0 | AC28: =1-AA28 -> 1 | AD28: =Y28-AB28 -> 4532369 | AE28: =($AE$3*AD28/(1-$AD$3)) -> 426.99659 | AF28: =$AF$3*AD28 -> 73.901866
B29: =População!B29 -> 17 | C29: =População!C29 -> 2043 | D29: =F29-E29 -> 0.15410306 | E29: =E28 -> 0.05 | F29: =F28*(1-$E$3) -> 0.20410306 | H29: =População!B29 -> 17 | I29: =População!C29 -> 2043 | J29: ='Cota per capita e por economia '!AI29/30.4375/86.4 -> 88.814776 | K29: ='Cota per capita e por economia '!AJ29/30.4375/86.4 -> 7.8816832 | L29: ='Cota per capita e por economia '!AK29/30.4375/86.4 -> 3.9421866 | M29: ='Cota per capita e por economia '!AL29/30.4375/86.4 -> 2.5608095 | N29: ='Cota per capita e por economia '!AM29/30.4375/86.4 -> 0.76814848 | O29: =J29+K29+L29+M29+N29 -> 103.9676 | P29: =Q29-O29 -> 18.940518 | Q29: =O29/(1-D29) -> 122.90812 | R29: =((O29)*$R$3)*((1+$W$3)*24/$V$3)+(Q29-O29) -> 191.94261 | S29: =O29*$R$3+(Q29-O29) -> 143.70164 | T29: =(O29)*$S$3+(Q29-O29) -> 174.89192 | U29: =(Q29)*$T$3 -> 61.454061 | V29: =O29*$R$3*$S$3+(Q29-O29) -> 206.08221 | W29: =(O29)*86.4*365.25 -> 3280968.1 | X29: =(Q29)*86.4*365.25 -> 3878685.4 | Y29: =(R29)*$V$3/24*86.4*365.25 -> 4542936.1 | AA29: 0 | AB29: =V29*AA29 -> 0 | AC29: =1-AA29 -> 1 | AD29: =Y29-AB29 -> 4542936.1 | AE29: =($AE$3*AD29/(1-$AD$3)) -> 427.99213 | AF29: =$AF$3*AD29 -> 74.074167
B30: =População!B30 -> 18 | C30: =População!C30 -> 2044 | D30: =F30-E30 -> 0.15000507 | E30: =E29 -> 0.05 | F30: =F29*(1-$E$3) -> 0.20000507 | H30: =População!B30 -> 18 | I30: =População!C30 -> 2044 | J30: ='Cota per capita e por economia '!AI30/30.4375/86.4 -> 89.290671 | K30: ='Cota per capita e por economia '!AJ30/30.4375/86.4 -> 7.9234959 | L30: ='Cota per capita e por economia '!AK30/30.4375/86.4 -> 3.9682938 | M30: ='Cota per capita e por economia '!AL30/30.4375/86.4 -> 2.5830775 | N30: ='Cota per capita e por economia '!AM30/30.4375/86.4 -> 0.77189554 | O30: =J30+K30+L30+M30+N30 -> 104.53743 | P30: =Q30-O30 -> 18.448515 | Q30: =O30/(1-D30) -> 122.98595 | R30: =((O30)*$R$3)*((1+$W$3)*24/$V$3)+(Q30-O30) -> 192.39881 | S30: =O30*$R$3+(Q30-O30) -> 143.89344 | T30: =(O30)*$S$3+(Q30-O30) -> 175.25467 | U30: =(Q30)*$T$3 -> 61.492975 | V30: =O30*$R$3*$S$3+(Q30-O30) -> 206.6159 | W30: =(O30)*86.4*365.25 -> 3298950.5 | X30: =(Q30)*86.4*365.25 -> 3881141.4 | Y30: =(R30)*$V$3/24*86.4*365.25 -> 4553733.4 | AA30: 0 | AB30: =V30*AA30 -> 0 | AC30: =1-AA30 -> 1 | AD30: =Y30-AB30 -> 4553733.4 | AE30: =($AE$3*AD30/(1-$AD$3)) -> 429.00934 | AF30: =$AF$3*AD30 -> 74.250221
B31: =População!B31 -> 19 | C31: =População!C31 -> 2045 | D31: =F31-E31 -> 0.15000507 | E31: =E30 -> 0.05 | F31: =F30*(1-$F$3) -> 0.20000507 | H31: =População!B31 -> 19 | I31: =População!C31 -> 2045 | J31: ='Cota per capita e por economia '!AI31/30.4375/86.4 -> 89.74547 | K31: ='Cota per capita e por economia '!AJ31/30.4375/86.4 -> 7.960082 | L31: ='Cota per capita e por economia '!AK31/30.4375/86.4 -> 3.994401 | M31: ='Cota per capita e por economia '!AL31/30.4375/86.4 -> 2.5830775 | N31: ='Cota per capita e por economia '!AM31/30.4375/86.4 -> 0.77564261 | O31: =J31+K31+L31+M31+N31 -> 105.05867 | P31: =Q31-O31 -> 18.540503 | Q31: =O31/(1-D31) -> 123.59918 | R31: =((O31)*$R$3)*((1+$W$3)*24/$V$3)+(Q31-O31) -> 193.35813 | S31: =O31*$R$3+(Q31-O31) -> 144.61091 | T31: =(O31)*$S$3+(Q31-O31) -> 176.12851 | U31: =(Q31)*$T$3 -> 61.799588 | V31: =O31*$R$3*$S$3+(Q31-O31) -> 207.64611 | W31: =(O31)*86.4*365.25 -> 3315399.6 | X31: =(Q31)*86.4*365.25 -> 3900493.3 | Y31: =(R31)*$V$3/24*86.4*365.25 -> 4576439 | AA31: 0 | AB31: =V31*AA31 -> 0 | AC31: =1-AA31 -> 1 | AD31: =Y31-AB31 -> 4576439 | AE31: =($AE$3*AD31/(1-$AD$3)) -> 431.14845 | AF31: =$AF$3*AD31 -> 74.620443
B32: =População!B32 -> 20 | C32: =População!C32 -> 2046 | D32: =F32-E32 -> 0.15000507 | E32: =E31 -> 0.05 | F32: =F31*(1-$F$3) -> 0.20000507 | H32: =População!B32 -> 20 | I32: =População!C32 -> 2046 | J32: ='Cota per capita e por economia '!AI32/30.4375/86.4 -> 90.17991 | K32: ='Cota per capita e por economia '!AJ32/30.4375/86.4 -> 8.0018946 | L32: ='Cota per capita e por economia '!AK32/30.4375/86.4 -> 4.0205082 | M32: ='Cota per capita e por economia '!AL32/30.4375/86.4 -> 2.6053454 | N32: ='Cota per capita e por economia '!AM32/30.4375/86.4 -> 0.77938967 | O32: =J32+K32+L32+M32+N32 -> 105.58705 | P32: =Q32-O32 -> 18.633749 | Q32: =O32/(1-D32) -> 124.2208 | R32: =((O32)*$R$3)*((1+$W$3)*24/$V$3)+(Q32-O32) -> 194.3306 | S32: =O32*$R$3+(Q32-O32) -> 145.33821 | T32: =(O32)*$S$3+(Q32-O32) -> 177.01432 | U32: =(Q32)*$T$3 -> 62.110398 | V32: =O32*$R$3*$S$3+(Q32-O32) -> 208.69043 | W32: =(O32)*86.4*365.25 -> 3332073.8 | X32: =(Q32)*86.4*365.25 -> 3920110.2 | Y32: =(R32)*$V$3/24*86.4*365.25 -> 4599455.4 | AA32: 0 | AB32: =V32*AA32 -> 0 | AC32: =1-AA32 -> 1 | AD32: =Y32-AB32 -> 4599455.4 | AE32: =($AE$3*AD32/(1-$AD$3)) -> 433.31684 | AF32: =$AF$3*AD32 -> 74.995734
B33: =População!B33 -> 21 | C33: =População!C33 -> 2047 | D33: =F33-E33 -> 0.15000507 | E33: =E32 -> 0.05 | F33: =F32*(1-$F$3) -> 0.20000507 | H33: =População!B33 -> 21 | I33: =População!C33 -> 2047 | J33: ='Cota per capita e por economia '!AI33/30.4375/86.4 -> 90.59472 | K33: ='Cota per capita e por economia '!AJ33/30.4375/86.4 -> 8.0384807 | L33: ='Cota per capita e por economia '!AK33/30.4375/86.4 -> 4.0466154 | M33: ='Cota per capita e por economia '!AL33/30.4375/86.4 -> 2.6053454 | N33: ='Cota per capita e por economia '!AM33/30.4375/86.4 -> 0.78313674 | O33: =J33+K33+L33+M33+N33 -> 106.0683 | P33: =Q33-O33 -> 18.718679 | Q33: =O33/(1-D33) -> 124.78698 | R33: =((O33)*$R$3)*((1+$W$3)*24/$V$3)+(Q33-O33) -> 195.21633 | S33: =O33*$R$3+(Q33-O33) -> 146.00064 | T33: =(O33)*$S$3+(Q33-O33) -> 177.82113 | U33: =(Q33)*$T$3 -> 62.393489 | V33: =O33*$R$3*$S$3+(Q33-O33) -> 209.64162 | W33: =(O33)*86.4*365.25 -> 3347260.9 | X33: =(Q33)*86.4*365.25 -> 3937977.5 | Y33: =(R33)*$V$3/24*86.4*365.25 -> 4620419.1 | AA33: 0 | AB33: =V33*AA33 -> 0 | AC33: =1-AA33 -> 1 | AD33: =Y33-AB33 -> 4620419.1 | AE33: =($AE$3*AD33/(1-$AD$3)) -> 435.29183 | AF33: =$AF$3*AD33 -> 75.337554
B34: =População!B34 -> 22 | C34: =População!C34 -> 2048 | D34: =F34-E34 -> 0.15000507 | E34: =E33 -> 0.05 | F34: =F33*(1-$F$3) -> 0.20000507 | H34: =População!B34 -> 22 | I34: =População!C34 -> 2048 | J34: ='Cota per capita e por economia '!AI34/30.4375/86.4 -> 90.990623 | K34: ='Cota per capita e por economia '!AJ34/30.4375/86.4 -> 8.0750667 | L34: ='Cota per capita e por economia '!AK34/30.4375/86.4 -> 4.0466154 | M34: ='Cota per capita e por economia '!AL34/30.4375/86.4 -> 2.6276133 | N34: ='Cota per capita e por economia '!AM34/30.4375/86.4 -> 0.7868838 | O34: =J34+K34+L34+M34+N34 -> 106.5268 | P34: =Q34-O34 -> 18.799594 | Q34: =O34/(1-D34) -> 125.3264 | R34: =((O34)*$R$3)*((1+$W$3)*24/$V$3)+(Q34-O34) -> 196.06019 | S34: =O34*$R$3+(Q34-O34) -> 146.63176 | T34: =(O34)*$S$3+(Q34-O34) -> 178.5898 | U34: =(Q34)*$T$3 -> 62.663198 | V34: =O34*$R$3*$S$3+(Q34-O34) -> 210.54784 | W34: =(O34)*86.4*365.25 -> 3361730.2 | X34: =(Q34)*86.4*365.25 -> 3955000.3 | Y34: =(R34)*$V$3/24*86.4*365.25 -> 4640391.9 | AA34: 0 | AB34: =V34*AA34 -> 0 | AC34: =1-AA34 -> 1 | AD34: =Y34-AB34 -> 4640391.9 | AE34: =($AE$3*AD34/(1-$AD$3)) -> 437.17348 | AF34: =$AF$3*AD34 -> 75.663217
B35: =População!B35 -> 23 | C35: =População!C35 -> 2049 | D35: =F35-E35 -> 0.15000507 | E35: =E34 -> 0.05 | F35: =F34*(1-$F$3) -> 0.20000507 | H35: =População!B35 -> 23 | I35: =População!C35 -> 2049 | J35: ='Cota per capita e por economia '!AI35/30.4375/86.4 -> 91.368329 | K35: ='Cota per capita e por economia '!AJ35/30.4375/86.4 -> 8.1064262 | L35: ='Cota per capita e por economia '!AK35/30.4375/86.4 -> 4.0727226 | M35: ='Cota per capita e por economia '!AL35/30.4375/86.4 -> 2.6276133 | N35: ='Cota per capita e por economia '!AM35/30.4375/86.4 -> 0.79063087 | O35: =J35+K35+L35+M35+N35 -> 106.96572 | P35: =Q35-O35 -> 18.877054 | Q35: =O35/(1-D35) -> 125.84278 | R35: =((O35)*$R$3)*((1+$W$3)*24/$V$3)+(Q35-O35) -> 196.86802 | S35: =O35*$R$3+(Q35-O35) -> 147.23592 | T35: =(O35)*$S$3+(Q35-O35) -> 179.32564 | U35: =(Q35)*$T$3 -> 62.921388 | V35: =O35*$R$3*$S$3+(Q35-O35) -> 211.41535 | W35: =(O35)*86.4*365.25 -> 3375581.5 | X35: =(Q35)*86.4*365.25 -> 3971296 | Y35: =(R35)*$V$3/24*86.4*365.25 -> 4659511.6 | AA35: 0 | AB35: =V35*AA35 -> 0 | AC35: =1-AA35 -> 1 | AD35: =Y35-AB35 -> 4659511.6 | AE35: =($AE$3*AD35/(1-$AD$3)) -> 438.97475 | AF35: =$AF$3*AD35 -> 75.974971
B36: =População!B36 -> 24 | C36: =População!C36 -> 2050 | D36: =F36-E36 -> 0.15000507 | E36: =E35 -> 0.05 | F36: =F35*(1-$F$3) -> 0.20000507 | H36: =População!B36 -> 24 | I36: =População!C36 -> 2050 | J36: ='Cota per capita e por economia '!AI36/30.4375/86.4 -> 91.728538 | K36: ='Cota per capita e por economia '!AJ36/30.4375/86.4 -> 8.1377857 | L36: ='Cota per capita e por economia '!AK36/30.4375/86.4 -> 4.0727226 | M36: ='Cota per capita e por economia '!AL36/30.4375/86.4 -> 2.6498812 | N36: ='Cota per capita e por economia '!AM36/30.4375/86.4 -> 0.79437794 | O36: =J36+K36+L36+M36+N36 -> 107.38331 | P36: =Q36-O36 -> 18.950748 | Q36: =O36/(1-D36) -> 126.33405 | R36: =((O36)*$R$3)*((1+$W$3)*24/$V$3)+(Q36-O36) -> 197.63657 | S36: =O36*$R$3+(Q36-O36) -> 147.81071 | T36: =(O36)*$S$3+(Q36-O36) -> 180.02571 | U36: =(Q36)*$T$3 -> 63.167027 | V36: =O36*$R$3*$S$3+(Q36-O36) -> 212.2407 | W36: =(O36)*86.4*365.25 -> 3388759.4 | X36: =(Q36)*86.4*365.25 -> 3986799.5 | Y36: =(R36)*$V$3/24*86.4*365.25 -> 4677701.8 | AA36: 0 | AB36: =V36*AA36 -> 0 | AC36: =1-AA36 -> 1 | AD36: =Y36-AB36 -> 4677701.8 | AE36: =($AE$3*AD36/(1-$AD$3)) -> 440.68847 | AF36: =$AF$3*AD36 -> 76.271569
B37: =População!B37 -> 25 | C37: =População!C37 -> 2051 | D37: =F37-E37 -> 0.15000507 | E37: =E36 -> 0.05 | F37: =F36*(1-$F$3) -> 0.20000507 | H37: =População!B37 -> 25 | I37: =População!C37 -> 2051 | J37: ='Cota per capita e por economia '!AI37/30.4375/86.4 -> 92.071935 | K37: ='Cota per capita e por economia '!AJ37/30.4375/86.4 -> 8.1691452 | L37: ='Cota per capita e por economia '!AK37/30.4375/86.4 -> 4.0988298 | M37: ='Cota per capita e por economia '!AL37/30.4375/86.4 -> 2.6498812 | N37: ='Cota per capita e por economia '!AM37/30.4375/86.4 -> 0.79437794 | O37: =J37+K37+L37+M37+N37 -> 107.78417 | P37: =Q37-O37 -> 19.021492 | Q37: =O37/(1-D37) -> 126.80566 | R37: =((O37)*$R$3)*((1+$W$3)*24/$V$3)+(Q37-O37) -> 198.37435 | S37: =O37*$R$3+(Q37-O37) -> 148.36249 | T37: =(O37)*$S$3+(Q37-O37) -> 180.69775 | U37: =(Q37)*$T$3 -> 63.40283 | V37: =O37*$R$3*$S$3+(Q37-O37) -> 213.033 | W37: =(O37)*86.4*365.25 -> 3401409.7 | X37: =(Q37)*86.4*365.25 -> 4001682.3 | Y37: =(R37)*$V$3/24*86.4*365.25 -> 4695163.8 | AA37: 0 | AB37: =V37*AA37 -> 0 | AC37: =1-AA37 -> 1 | AD37: =Y37-AB37 -> 4695163.8 | AE37: =($AE$3*AD37/(1-$AD$3)) -> 442.33356 | AF37: =$AF$3*AD37 -> 76.556292
B38: =População!B38 -> 26 | C38: =População!C38 -> 2052 | D38: =F38-E38 -> 0.15000507 | E38: =E37 -> 0.05 | F38: =F37*(1-$F$3) -> 0.20000507 | H38: =População!B38 -> 26 | I38: =População!C38 -> 2052 | J38: ='Cota per capita e por economia '!AI38/30.4375/86.4 -> 92.399192 | K38: ='Cota per capita e por economia '!AJ38/30.4375/86.4 -> 8.2005047 | L38: ='Cota per capita e por economia '!AK38/30.4375/86.4 -> 4.124937 | M38: ='Cota per capita e por economia '!AL38/30.4375/86.4 -> 2.6721491 | N38: ='Cota per capita e por economia '!AM38/30.4375/86.4 -> 0.798125 | O38: =J38+K38+L38+M38+N38 -> 108.19491 | P38: =Q38-O38 -> 19.093978 | Q38: =O38/(1-D38) -> 127.28889 | R38: =((O38)*$R$3)*((1+$W$3)*24/$V$3)+(Q38-O38) -> 199.1303 | S38: =O38*$R$3+(Q38-O38) -> 148.92787 | T38: =(O38)*$S$3+(Q38-O38) -> 181.38634 | U38: =(Q38)*$T$3 -> 63.644443 | V38: =O38*$R$3*$S$3+(Q38-O38) -> 213.84481 | W38: =(O38)*86.4*365.25 -> 3414371.6 | X38: =(Q38)*86.4*365.25 -> 4016931.7 | Y38: =(R38)*$V$3/24*86.4*365.25 -> 4713055.9 | AA38: 0 | AB38: =V38*AA38 -> 0 | AC38: =1-AA38 -> 1 | AD38: =Y38-AB38 -> 4713055.9 | AE38: =($AE$3*AD38/(1-$AD$3)) -> 444.01919 | AF38: =$AF$3*AD38 -> 76.848029
B39: =População!B39 -> 27 | C39: =População!C39 -> 2053 | D39: =F39-E39 -> 0.15000507 | E39: =E38 -> 0.05 | F39: =F38*(1-$F$3) -> 0.20000507 | H39: =População!B39 -> 27 | I39: =População!C39 -> 2053 | J39: ='Cota per capita e por economia '!AI39/30.4375/86.4 -> 92.710963 | K39: ='Cota per capita e por economia '!AJ39/30.4375/86.4 -> 8.2266376 | L39: ='Cota per capita e por economia '!AK39/30.4375/86.4 -> 4.124937 | M39: ='Cota per capita e por economia '!AL39/30.4375/86.4 -> 2.6721491 | N39: ='Cota per capita e por economia '!AM39/30.4375/86.4 -> 0.80187207 | O39: =J39+K39+L39+M39+N39 -> 108.53656 | P39: =Q39-O39 -> 19.154271 | Q39: =O39/(1-D39) -> 127.69083 | R39: =((O39)*$R$3)*((1+$W$3)*24/$V$3)+(Q39-O39) -> 199.75911 | S39: =O39*$R$3+(Q39-O39) -> 149.39814 | T39: =(O39)*$S$3+(Q39-O39) -> 181.95911 | U39: =(Q39)*$T$3 -> 63.845415 | V39: =O39*$R$3*$S$3+(Q39-O39) -> 214.52008 | W39: =(O39)*86.4*365.25 -> 3425153.3 | X39: =(Q39)*86.4*365.25 -> 4029616.1 | Y39: =(R39)*$V$3/24*86.4*365.25 -> 4727938.5 | AA39: 0 | AB39: =V39*AA39 -> 0 | AC39: =1-AA39 -> 1 | AD39: =Y39-AB39 -> 4727938.5 | AE39: =($AE$3*AD39/(1-$AD$3)) -> 445.42128 | AF39: =$AF$3*AD39 -> 77.090695
B40: =População!B40 -> 28 | C40: =População!C40 -> 2054 | D40: =F40-E40 -> 0.15000507 | E40: =E39 -> 0.05 | F40: =F39*(1-$F$3) -> 0.20000507 | H40: =População!B40 -> 28 | I40: =População!C40 -> 2054 | J40: ='Cota per capita e por economia '!AI40/30.4375/86.4 -> 93.007888 | K40: ='Cota per capita e por economia '!AJ40/30.4375/86.4 -> 8.2527705 | L40: ='Cota per capita e por economia '!AK40/30.4375/86.4 -> 4.1510442 | M40: ='Cota per capita e por economia '!AL40/30.4375/86.4 -> 2.694417 | N40: ='Cota per capita e por economia '!AM40/30.4375/86.4 -> 0.80187207 | O40: =J40+K40+L40+M40+N40 -> 108.90799 | P40: =Q40-O40 -> 19.219821 | Q40: =O40/(1-D40) -> 128.12781 | R40: =((O40)*$R$3)*((1+$W$3)*24/$V$3)+(Q40-O40) -> 200.44272 | S40: =O40*$R$3+(Q40-O40) -> 149.90941 | T40: =(O40)*$S$3+(Q40-O40) -> 182.58181 | U40: =(Q40)*$T$3 -> 64.063907 | V40: =O40*$R$3*$S$3+(Q40-O40) -> 215.25421 | W40: =(O40)*86.4*365.25 -> 3436874.8 | X40: =(Q40)*86.4*365.25 -> 4043406.3 | Y40: =(R40)*$V$3/24*86.4*365.25 -> 4744118.4 | AA40: 0 | AB40: =V40*AA40 -> 0 | AC40: =1-AA40 -> 1 | AD40: =Y40-AB40 -> 4744118.4 | AE40: =($AE$3*AD40/(1-$AD$3)) -> 446.9456 | AF40: =$AF$3*AD40 -> 77.354514
B41: =População!B41 -> 29 | C41: =População!C41 -> 2055 | D41: =F41-E41 -> 0.15000507 | E41: =E40 -> 0.05 | F41: =F40*(1-$F$3) -> 0.20000507 | H41: =População!B41 -> 29 | I41: =População!C41 -> 2055 | J41: ='Cota per capita e por economia '!AI41/30.4375/86.4 -> 93.29059 | K41: ='Cota per capita e por economia '!AJ41/30.4375/86.4 -> 8.2789034 | L41: ='Cota per capita e por economia '!AK41/30.4375/86.4 -> 4.1510442 | M41: ='Cota per capita e por economia '!AL41/30.4375/86.4 -> 2.694417 | N41: ='Cota per capita e por economia '!AM41/30.4375/86.4 -> 0.80561913 | O41: =J41+K41+L41+M41+N41 -> 109.22057 | P41: =Q41-O41 -> 19.274985 | Q41: =O41/(1-D41) -> 128.49556 | R41: =((O41)*$R$3)*((1+$W$3)*24/$V$3)+(Q41-O41) -> 201.01802 | S41: =O41*$R$3+(Q41-O41) -> 150.33967 | T41: =(O41)*$S$3+(Q41-O41) -> 183.10584 | U41: =(Q41)*$T$3 -> 64.247779 | V41: =O41*$R$3*$S$3+(Q41-O41) -> 215.87202 | W41: =(O41)*86.4*365.25 -> 3446739.2 | X41: =(Q41)*86.4*365.25 -> 4055011.4 | Y41: =(R41)*$V$3/24*86.4*365.25 -> 4757734.7 | AA41: 0 | AB41: =V41*AA41 -> 0 | AC41: =1-AA41 -> 1 | AD41: =Y41-AB41 -> 4757734.7 | AE41: =($AE$3*AD41/(1-$AD$3)) -> 448.2284 | AF41: =$AF$3*AD41 -> 77.576533
B42: =População!B42 -> 30 | C42: =População!C42 -> 2056 | D42: =F42-E42 -> 0.15000507 | E42: =E41 -> 0.05 | F42: =F41*(1-$F$3) -> 0.20000507 | H42: =População!B42 -> 30 | I42: =População!C42 -> 2056 | J42: ='Cota per capita e por economia '!AI42/30.4375/86.4 -> 93.559671 | K42: ='Cota per capita e por economia '!AJ42/30.4375/86.4 -> 8.2998097 | L42: ='Cota per capita e por economia '!AK42/30.4375/86.4 -> 4.1771514 | M42: ='Cota per capita e por economia '!AL42/30.4375/86.4 -> 2.694417 | N42: ='Cota per capita e por economia '!AM42/30.4375/86.4 -> 0.8093662 | O42: =J42+K42+L42+M42+N42 -> 109.54042 | P42: =Q42-O42 -> 19.33143 | Q42: =O42/(1-D42) -> 128.87184 | R42: =((O42)*$R$3)*((1+$W$3)*24/$V$3)+(Q42-O42) -> 201.60668 | S42: =O42*$R$3+(Q42-O42) -> 150.77993 | T42: =(O42)*$S$3+(Q42-O42) -> 183.64205 | U42: =(Q42)*$T$3 -> 64.435922 | V42: =O42*$R$3*$S$3+(Q42-O42) -> 216.50418 | W42: =(O42)*86.4*365.25 -> 3456832.6 | X42: =(Q42)*86.4*365.25 -> 4066886.1 | Y42: =(R42)*$V$3/24*86.4*365.25 -> 4771667.2 | AA42: 0 | AB42: =V42*AA42 -> 0 | AC42: =1-AA42 -> 1 | AD42: =Y42-AB42 -> 4771667.2 | AE42: =($AE$3*AD42/(1-$AD$3)) -> 449.54099 | AF42: =$AF$3*AD42 -> 77.803708
... B47: =População!B47 -> 35 | C47: =População!C47 -> 2061 | D47: =F47-E47 -> 0.15000507 | E47: =E46 -> 0.05 | F47: =F46*(1-$F$3) -> 0.20000507 | H47: =População!B47 -> 35 | I47: =População!C47 -> 2061 | J47: ='Cota per capita e por economia '!AI47/30.4375/86.4 -> 94.294308 | K47: ='Cota per capita e por economia '!AJ47/30.4375/86.4 -> 8.3677552 | L47: ='Cota per capita e por economia '!AK47/30.4375/86.4 -> 4.2032586 | M47: ='Cota per capita e por economia '!AL47/30.4375/86.4 -> 2.7166849 | N47: ='Cota per capita e por economia '!AM47/30.4375/86.4 -> 0.81311326 | O47: =J47+K47+L47+M47+N47 -> 110.39512 | P47: =Q47-O47 -> 19.482266 | Q47: =O47/(1-D47) -> 129.87739 | R47: =((O47)*$R$3)*((1+$W$3)*24/$V$3)+(Q47-O47) -> 203.17975 | S47: =O47*$R$3+(Q47-O47) -> 151.95641 | T47: =(O47)*$S$3+(Q47-O47) -> 185.07495 | U47: =(Q47)*$T$3 -> 64.938693 | V47: =O47*$R$3*$S$3+(Q47-O47) -> 218.19348 | W47: =(O47)*86.4*365.25 -> 3483805 | X47: =(Q47)*86.4*365.25 -> 4098618.6 | Y47: =(R47)*$V$3/24*86.4*365.25 -> 4808898.8 | AA47: 0 | AB47: =V47*AA47 -> 0 | AC47: =1-AA47 -> 1 | AD47: =Y47-AB47 -> 4808898.8 | AE47: =($AE$3*AD47/(1-$AD$3)) -> 453.0486 | AF47: =$AF$3*AD47 -> 78.410783

Sheet Vazões de Esgoto
D2: Infiltração L/s.km | M2: Umidade da Torta de Lodo | N2: Lodo Gerado em ton ST/hab.dia | O2: Solidos Grosseiros t/m³.ano | Q2: Quantidade de Lodo ΔX L.A.A.P. | R2: 4.3e-05 | S2: ton ST/hab.dia
D3: 0.07 | M3: 0.2 | N3: 4.3e-05 | O3: 6.6305351e-05 | Q3: Quantidade de Lodo ΔX UASB | R3: 2.7e-05 | S3: ton ST/hab.dia
Q4: * Ref. Tabela 5.3 - Principais características dos sistemas de lodos ativados utilizados para o tratamento de esgoto doméstico. Livro: "Pós-Tratamento de Efluentes de Reatores Anaeróbios" - PROSAB - pág. 293
B5: VAZÕES DE ESGOTO (L/s)
B6: =População!B6 -> ANO | D6: Vazão Média Infiltração | E6: Do Dia e Hora de Maior Consumo | F6: Vazão Total de Esgotamento - MÁXIMA | G6: Dia de Maior Consumo | H6: Hora de Maior Consumo | I6: Minima Noturna | J6: Volume Medido | K6: Volume Gerado | L6: Volume Infiltrado | M6: Volume Tratado | N6: Volume Lodo Gerado | O6: Sólidos Grosseiros Gerado
D7: L/s | E7: L/s | F7: L/s | G7: L/s | H7: L/s | I7: L/s | J7: m³/ano | K7: m³/ano | L7: m³/ano | M7: m³/ano | N7: ton/ano | O7: ton/ano
B8: =População!B8 -> CENSO | C8: =População!C8 -> 2022 | D8: =$D$3*'Redes e Reservasão'!U8/1000 -> 0 | E8: ='Atendimento '!F8*'Perdas e Vazões de Água'!V8/'Atendimento '!D8*'Perdas e Vazões de Água'!$U$3 -> 0 | F8: =D8+E8 -> 0 | G8: ='Atendimento '!F8*'Perdas e Vazões de Água'!S8/'Atendimento '!D8*'Perdas e Vazões de Água'!$U$3+D8 -> 0 | H8: ='Atendimento '!F8*'Perdas e Vazões de Água'!T8/'Atendimento '!D8*'Perdas e Vazões de Água'!$U$3+D8 -> 0 | I8: ='Atendimento '!F8*'Perdas e Vazões de Água'!U8/'Atendimento '!D8*'Perdas e Vazões de Água'!$U$3+D8 -> 0 | J8: ='Cota per capita e por economia '!I8*'Economais e Ligações Esgoto'!R8 -> 0 | K8: =J8*'Perdas e Vazões de Água'!$U$3 -> 0 | L8: =ROUND(D8*86.4*365.25,0) -> 0 | M8: =K8+L8 -> 0 | N8: =($N$3*365.25*'Atendimento '!I8/(1-$M$3)) -> 0 | O8: =$O$3*M8 -> 0
B9: =População!B9 -> -2 | C9: =População!C9 -> 2023 | D9: =$D$3*'Redes e Reservasão'!U9/1000 -> 0 | E9: ='Atendimento '!F9*'Perdas e Vazões de Água'!V9/'Atendimento '!D9*'Perdas e Vazões de Água'!$U$3 -> 0 | F9: =D9+E9 -> 0 | G9: ='Atendimento '!F9*'Perdas e Vazões de Água'!S9/'Atendimento '!D9*'Perdas e Vazões de Água'!$U$3+D9 -> 0 | H9: ='Atendimento '!F9*'Perdas e Vazões de Água'!T9/'Atendimento '!D9*'Perdas e Vazões de Água'!$U$3+D9 -> 0 | I9: ='Atendimento '!F9*'Perdas e Vazões de Água'!U9/'Atendimento '!D9*'Perdas e Vazões de Água'!$U$3+D9 -> 0 | J9: ='Cota per capita e por economia '!I9*'Economais e Ligações Esgoto'!R9 -> 0 | K9: =J9*'Perdas e Vazões de Água'!$U$3 -> 0 | L9: =ROUND(D9*86.4*365.25,0) -> 0 | M9: =K9+L9 -> 0 | N9: =($N$3*365.25*'Atendimento '!I9/(1-$M$3)) -> 0 | O9: =$O$3*M9 -> 0
B10: =População!B10 -> -1 | C10: =População!C10 -> 2024 | D10: =$D$3*'Redes e Reservasão'!U10/1000 -> 0 | E10: ='Atendimento '!F10*'Perdas e Vazões de Água'!V10/'Atendimento '!D10*'Perdas e Vazões de Água'!$U$3 -> 0 | F10: =D10+E10 -> 0 | G10: ='Atendimento '!F10*'Perdas e Vazões de Água'!S10/'Atendimento '!D10*'Perdas e Vazões de Água'!$U$3+D10 -> 0 | H10: ='Atendimento '!F10*'Perdas e Vazões de Água'!T10/'Atendimento '!D10*'Perdas e Vazões de Água'!$U$3+D10 -> 0 | I10: ='Atendimento '!F10*'Perdas e Vazões de Água'!U10/'Atendimento '!D10*'Perdas e Vazões de Água'!$U$3+D10 -> 0 | J10: ='Cota per capita e por economia '!I10*'Economais e Ligações Esgoto'!R10 -> 0 | K10: =J10*'Perdas e Vazões de Água'!$U$3 -> 0 | L10: =ROUND(D10*86.4*365.25,0) -> 0 | M10: =K10+L10 -> 0 | N10: =($N$3*365.25*'Atendimento '!I10/(1-$M$3)) -> 0 | O10: =$O$3*M10 -> 0
B11: =População!B11 -> Base | C11: =População!C11 -> 2025 | D11: =$D$3*'Redes e Reservasão'!U11/1000 -> 0 | E11: ='Atendimento '!F11*'Perdas e Vazões de Água'!V11/'Atendimento '!D11*'Perdas e Vazões de Água'!$U$3 -> 0 | F11: =D11+E11 -> 0 | G11: ='Atendimento '!F11*'Perdas e Vazões de Água'!S11/'Atendimento '!D11*'Perdas e Vazões de Água'!$U$3+D11 -> 0 | H11: ='Atendimento '!F11*'Perdas e Vazões de Água'!T11/'Atendimento '!D11*'Perdas e Vazões de Água'!$U$3+D11 -> 0 | I11: ='Atendimento '!F11*'Perdas e Vazões de Água'!U11/'Atendimento '!D11*'Perdas e Vazões de Água'!$U$3+D11 -> 0 | J11: ='Cota per capita e por economia '!I11*'Economais e Ligações Esgoto'!R11 -> 0 | K11: =J11*'Perdas e Vazões de Água'!$U$3 -> 0 | L11: =ROUND(D11*86.4*365.25,0) -> 0 | M11: =K11+L11 -> 0 | N11: =($N$3*365.25*'Atendimento '!I11/(1-$M$3)) -> 0 | O11: =$O$3*M11 -> 0
B12: =População!B12 -> 0 | C12: =População!C12 -> 2026 | D12: =$D$3*'Redes e Reservasão'!U12/1000 -> 0 | E12: ='Atendimento '!F12*'Perdas e Vazões de Água'!V12/'Atendimento '!D12*'Perdas e Vazões de Água'!$U$3 -> 0 | F12: =D12+E12 -> 0 | G12: ='Atendimento '!F12*'Perdas e Vazões de Água'!S12/'Atendimento '!D12*'Perdas e Vazões de Água'!$U$3+D12 -> 0 | H12: ='Atendimento '!F12*'Perdas e Vazões de Água'!T12/'Atendimento '!D12*'Perdas e Vazões de Água'!$U$3+D12 -> 0 | I12: ='Atendimento '!F12*'Perdas e Vazões de Água'!U12/'Atendimento '!D12*'Perdas e Vazões de Água'!$U$3+D12 -> 0 | J12: ='Cota per capita e por economia '!I12*'Economais e Ligações Esgoto'!R12 -> 0 | K12: =J12*'Perdas e Vazões de Água'!$U$3 -> 0 | L12: =ROUND(D12*86.4*365.25,0) -> 0 | M12: =K12+L12 -> 0 | N12: =($N$3*365.25*'Atendimento '!I12/(1-$M$3)) -> 0 | O12: =$O$3*M12 -> 0
B13: =População!B13 -> 1 | C13: =População!C13 -> 2027 | D13: =$D$3*'Redes e Reservasão'!U13/1000 -> 0 | E13: ='Atendimento '!F13*'Perdas e Vazões de Água'!V13/'Atendimento '!D13*'Perdas e Vazões de Água'!$U$3 -> 0 | F13: =D13+E13 -> 0 | G13: ='Atendimento '!F13*'Perdas e Vazões de Água'!S13/'Atendimento '!D13*'Perdas e Vazões de Água'!$U$3+D13 -> 0 | H13: ='Atendimento '!F13*'Perdas e Vazões de Água'!T13/'Atendimento '!D13*'Perdas e Vazões de Água'!$U$3+D13 -> 0 | I13: ='Atendimento '!F13*'Perdas e Vazões de Água'!U13/'Atendimento '!D13*'Perdas e Vazões de Água'!$U$3+D13 -> 0 | J13: ='Cota per capita e por economia '!I13*'Economais e Ligações Esgoto'!R13 -> 0 | K13: =J13*'Perdas e Vazões de Água'!$U$3 -> 0 | L13: =ROUND(D13*86.4*365.25,0) -> 0 | M13: =K13+L13 -> 0 | N13: =($N$3*365.25*'Atendimento '!I13/(1-$M$3)) -> 0 | O13: =$O$3*M13 -> 0
B14: =População!B14 -> 2 | C14: =População!C14 -> 2028 | D14: =$D$3*'Redes e Reservasão'!U14/1000 -> 4.4866362 | E14: ='Atendimento '!F14*'Perdas e Vazões de Água'!V14/'Atendimento '!D14*'Perdas e Vazões de Água'!$U$3 -> 33.225425 | F14: =D14+E14 -> 37.712061 | G14: ='Atendimento '!F14*'Perdas e Vazões de Água'!S14/'Atendimento '!D14*'Perdas e Vazões de Água'!$U$3+D14 -> 28.871993 | H14: ='Atendimento '!F14*'Perdas e Vazões de Água'!T14/'Atendimento '!D14*'Perdas e Vazões de Água'!$U$3+D14 -> 33.292027 | I14: ='Atendimento '!F14*'Perdas e Vazões de Água'!U14/'Atendimento '!D14*'Perdas e Vazões de Água'!$U$3+D14 -> 15.20597 | J14: ='Cota per capita e por economia '!I14*'Economais e Ligações Esgoto'!R14 -> 598901.12 | K14: =J14*'Perdas e Vazões de Água'!$U$3 -> 479120.9 | L14: =ROUND(D14*86.4*365.25,0) -> 141587 | M14: =K14+L14 -> 620707.9 | N14: =($N$3*365.25*'Atendimento '!I14/(1-$M$3)) -> 184.9941 | O14: =$O$3*M14 -> 41.156255
B15: =População!B15 -> 3 | C15: =População!C15 -> 2029 | D15: =$D$3*'Redes e Reservasão'!U15/1000 -> 9.1587404 | E15: ='Atendimento '!F15*'Perdas e Vazões de Água'!V15/'Atendimento '!D15*'Perdas e Vazões de Água'!$U$3 -> 65.894244 | F15: =D15+E15 -> 75.052984 | G15: ='Atendimento '!F15*'Perdas e Vazões de Água'!S15/'Atendimento '!D15*'Perdas e Vazões de Água'!$U$3+D15 -> 57.17393 | H15: ='Atendimento '!F15*'Perdas e Vazões de Água'!T15/'Atendimento '!D15*'Perdas e Vazões de Água'!$U$3+D15 -> 66.113457 | I15: ='Atendimento '!F15*'Perdas e Vazões de Água'!U15/'Atendimento '!D15*'Perdas e Vazões de Água'!$U$3+D15 -> 30.186493 | J15: ='Cota per capita e por economia '!I15*'Economais e Ligações Esgoto'!R15 -> 1250819.3 | K15: =J15*'Perdas e Vazões de Água'!$U$3 -> 1000655.5 | L15: =ROUND(D15*86.4*365.25,0) -> 289028 | M15: =K15+L15 -> 1289683.5 | N15: =($N$3*365.25*'Atendimento '!I15/(1-$M$3)) -> 374.11096 | O15: =$O$3*M15 -> 85.512914
B16: =População!B16 -> 4 | C16: =População!C16 -> 2030 | D16: =$D$3*'Redes e Reservasão'!U16/1000 -> 14.012843 | E16: ='Atendimento '!F16*'Perdas e Vazões de Água'!V16/'Atendimento '!D16*'Perdas e Vazões de Água'!$U$3 -> 97.685513 | F16: =D16+E16 -> 111.69836 | G16: ='Atendimento '!F16*'Perdas e Vazões de Água'!S16/'Atendimento '!D16*'Perdas e Vazões de Água'!$U$3+D16 -> 84.597755 | H16: ='Atendimento '!F16*'Perdas e Vazões de Água'!T16/'Atendimento '!D16*'Perdas e Vazões de Água'!$U$3+D16 -> 98.148055 | I16: ='Atendimento '!F16*'Perdas e Vazões de Água'!U16/'Atendimento '!D16*'Perdas e Vazões de Água'!$U$3+D16 -> 44.788532 | J16: ='Cota per capita e por economia '!I16*'Economais e Ligações Esgoto'!R16 -> 1935401.8 | K16: =J16*'Perdas e Vazões de Água'!$U$3 -> 1548321.5 | L16: =ROUND(D16*86.4*365.25,0) -> 442212 | M16: =K16+L16 -> 1990533.5 | N16: =($N$3*365.25*'Atendimento '!I16/(1-$M$3)) -> 567.13463 | O16: =$O$3*M16 -> 131.98302
B17: =População!B17 -> 5 | C17: =População!C17 -> 2031 | D17: =$D$3*'Redes e Reservasão'!U17/1000 -> 19.045563 | E17: ='Atendimento '!F17*'Perdas e Vazões de Água'!V17/'Atendimento '!D17*'Perdas e Vazões de Água'!$U$3 -> 129.10844 | F17: =D17+E17 -> 148.15401 | G17: ='Atendimento '!F17*'Perdas e Vazões de Água'!S17/'Atendimento '!D17*'Perdas e Vazões de Água'!$U$3+D17 -> 111.64946 | H17: ='Atendimento '!F17*'Perdas e Vazões de Água'!T17/'Atendimento '!D17*'Perdas e Vazões de Água'!$U$3+D17 -> 129.90173 | I17: ='Atendimento '!F17*'Perdas e Vazões de Água'!U17/'Atendimento '!D17*'Perdas e Vazões de Água'!$U$3+D17 -> 59.263423 | J17: ='Cota per capita e por economia '!I17*'Economais e Ligações Esgoto'!R17 -> 2658194.4 | K17: =J17*'Perdas e Vazões de Água'!$U$3 -> 2126555.5 | L17: =ROUND(D17*86.4*365.25,0) -> 601032 | M17: =K17+L17 -> 2727587.5 | N17: =($N$3*365.25*'Atendimento '!I17/(1-$M$3)) -> 763.84915 | O17: =$O$3*M17 -> 180.85365
B18: =População!B18 -> 6 | C18: =População!C18 -> 2032 | D18: =$D$3*'Redes e Reservasão'!U18/1000 -> 20.615544 | E18: ='Atendimento '!F18*'Perdas e Vazões de Água'!V18/'Atendimento '!D18*'Perdas e Vazões de Água'!$U$3 -> 136.24204 | F18: =D18+E18 -> 156.85758 | G18: ='Atendimento '!F18*'Perdas e Vazões de Água'!S18/'Atendimento '!D18*'Perdas e Vazões de Água'!$U$3+D18 -> 117.69864 | H18: ='Atendimento '!F18*'Perdas e Vazões de Água'!T18/'Atendimento '!D18*'Perdas e Vazões de Água'!$U$3+D18 -> 137.27811 | I18: ='Atendimento '!F18*'Perdas e Vazões de Água'!U18/'Atendimento '!D18*'Perdas e Vazões de Água'!$U$3+D18 -> 62.630599 | J18: ='Cota per capita e por economia '!I18*'Economais e Ligações Esgoto'!R18 -> 2904010.4 | K18: =J18*'Perdas e Vazões de Água'!$U$3 -> 2323208.3 | L18: =ROUND(D18*86.4*365.25,0) -> 650577 | M18: =K18+L18 -> 2973785.3 | N18: =($N$3*365.25*'Atendimento '!I18/(1-$M$3)) -> 819.44751 | O18: =$O$3*M18 -> 197.17788
B19: =População!B19 -> 7 | C19: =População!C19 -> 2033 | D19: =$D$3*'Redes e Reservasão'!U19/1000 -> 22.223995 | E19: ='Atendimento '!F19*'Perdas e Vazões de Água'!V19/'Atendimento '!D19*'Perdas e Vazões de Água'!$U$3 -> 142.96084 | F19: =D19+E19 -> 165.18484 | G19: ='Atendimento '!F19*'Perdas e Vazões de Água'!S19/'Atendimento '!D19*'Perdas e Vazões de Água'!$U$3+D19 -> 123.34254 | H19: ='Atendimento '!F19*'Perdas e Vazões de Água'!T19/'Atendimento '!D19*'Perdas e Vazões de Água'!$U$3+D19 -> 144.26369 | I19: ='Atendimento '!F19*'Perdas e Vazões de Água'!U19/'Atendimento '!D19*'Perdas e Vazões de Água'!$U$3+D19 -> 65.809554 | J19: ='Cota per capita e por economia '!I19*'Economais e Ligações Esgoto'!R19 -> 3136962.4 | K19: =J19*'Perdas e Vazões de Água'!$U$3 -> 2509569.9 | L19: =ROUND(D19*86.4*365.25,0) -> 701336 | M19: =K19+L19 -> 3210905.9 | N19: =($N$3*365.25*'Atendimento '!I19/(1-$M$3)) -> 875.63483 | O19: =$O$3*M19 -> 212.90024
... B47: =População!B47 -> 35 | C47: =População!C47 -> 2061 | D47: =$D$3*'Redes e Reservasão'!U47/1000 -> 33.296047 | E47: ='Atendimento '!F47*'Perdas e Vazões de Água'!V47/'Atendimento '!D47*'Perdas e Vazões de Água'!$U$3 -> 174.55479 | F47: =D47+E47 -> 207.85083 | G47: ='Atendimento '!F47*'Perdas e Vazões de Água'!S47/'Atendimento '!D47*'Perdas e Vazões de Água'!$U$3+D47 -> 154.86117 | H47: ='Atendimento '!F47*'Perdas e Vazões de Água'!T47/'Atendimento '!D47*'Perdas e Vazões de Água'!$U$3+D47 -> 181.356 | I47: ='Atendimento '!F47*'Perdas e Vazões de Água'!U47/'Atendimento '!D47*'Perdas e Vazões de Água'!$U$3+D47 -> 85.247001 | J47: ='Cota per capita e por economia '!I47*'Economais e Ligações Esgoto'!R47 -> 4755469 | K47: =J47*'Perdas e Vazões de Água'!$U$3 -> 3804375.2 | L47: =ROUND(D47*86.4*365.25,0) -> 1050743 | M47: =K47+L47 -> 4855118.2 | N47: =($N$3*365.25*'Atendimento '!I47/(1-$M$3)) -> 1108.8652 | O47: =$O$3*M47 -> 321.92031

Sheet Redes e Reservasão
D1: Coeficientes
D2: Reservasão/ | E2: m/lig A | F2: m/lig E | AA2: DN 50 mm | AB2: DN 75 mm | AC2: DN 100 mm | AD2: DN 150 mm | AE2: DN 200 mm | AF2: DN 250 mm | AG2: DN 300 mm | AH2: DN 400 mm | AI2: Total | AM2: DN 100 mm | AN2: DN 150 mm | AO2: DN 200 mm | AP2: DN 250 mm | AQ2: DN 300 mm | AR2: DN 400 mm | AS2: DN 500 mm | AT2: DN 600 mm | AU2: Total
D3: 3 | E3: 21.21 | F3: 21.21 | AA3: 0.802 | AB3: 0.0208 | AC3: 0.1073 | AD3: 0.0388 | AE3: 0.0267 | AF3: 0.0015 | AG3: 0.0015 | AH3: 0.0014 | AI3: =SUM(AA3:AH3) -> 1 | AM3: 0.3 | AN3: 0.606 | AO3: 0.05 | AP3: 0.02 | AQ3: 0.01 | AR3: 0.009 | AS3: 0.005 | AT3: 0 | AU3: =SUM(AM3:AT3) -> 1
B5: RESERVAÇÃO e REDES | Y5: REDE DE ÁGUA | AK5: REDE DE ESGOTO
B6: =População!B6 -> ANO | D6: Volume de Reservação Total | E6: Volume de Reservação RET | F6: Volume de Reservação REL | G6: Volume instalado RET | H6: Volume instalado REL | I6: Volume instalado Total | J6: Volume acrescido RET | K6: Volume acrescido REL | L6: Volume acrescido Total | M6: Defict ou Superavit de Reservação RET | N6: Defict ou Superavit de Reservação REL | O6: Defict ou Superavit de Reservação | P6: Incremento Médio de Rede de Água por Ligação | Q6: Extensão de rede de Água | R6: Incremento anual de rede de Água | S6: Ligações de Água | T6: Rede por Ligação de Esgoto | U6: Extensão de rede de Esgoto | V6: Incremento anual de rede de Esgoto | W6: Ligações Esgoto | Y6: =B6 -> ANO | AA6: Rede de Água DN 50 mm | AB6: Rede de Água DN 75 mm | AC6: Rede de Água DN 100 mm | AD6: Rede de Água DN 150 mm | AE6: Rede de Água DN 200 mm | AF6: Rede de Água DN 250 mm | AG6: Rede de Água DN 300 mm | AH6: Rede de Água DN 400 mm | AI6: Total de Rede de Água | AK6: =Y6 -> ANO | AM6: Rede de Esgoto DN 100 mm | AN6: Rede de Esgoto DN 150 mm | AO6: Rede de Esgoto DN 200 mm | AP6: Rede de Esgoto DN 250 mm | AQ6: Rede de Esgoto DN 300 mm | AR6: Rede de Esgoto DN 400 mm | AS6: Rede de Esgoto DN 500 mm | AT6: Rede de Esgoto DN 600 mm | AU6: Total de Rede de Esgoto
D7: m³ | E7: m³ | F7: m³ | G7: m³ | H7: m³ | I7: m³ | J7: m³ | K7: m³ | L7: m³ | M7: m³ | N7: m³ | O7: m³ | P7: m | Q7: m | R7: m | S7: Unidade | T7: m/lig E | U7: m | V7: m | W7: Uniade | AA7: m | AB7: m | AC7: m | AD7: m | AE7: m | AF7: m | AG7: m | AH7: m | AI7: m | AM7: m | AN7: m | AO7: m | AP7: m | AQ7: m | AR7: m | AS7: m | AT7: m | AU7: m
B8: =População!B8 -> CENSO | C8: =População!C8 -> 2022 | D8: =ROUND('Perdas e Vazões de Água'!V8*86.4/$D$3,0) -> 5705 | E8: =ROUND(D8*3/5,0) -> 3423 | F8: =D8-E8 -> 2282 | G8: 4100 | H8: 0 | I8: 4100 | J8: 0 | K8: 0 | L8: =J8+K8 -> 0 | M8: =G8+J8-E8 -> 677 | N8: =H8+K8-F8 -> -2282 | O8: =M8+N8 -> -1605 | P8: =E3 -> 21.21 | Q8: ='Economais e Ligações Água'!X8*'Atendimento '!D8*$E$3 -> 269601.51 | R8: 0 | S8: =ROUND(Q8/$E$3,0) -> 12711 | T8: =$F$3 -> 21.21 | U8: ='Economais e Ligações Esgoto'!U8*'Atendimento '!F8*T8 -> 0 | V8: 0 | W8: =ROUND(U8/$F$3,0) -> 0 | Y8: =B8 -> CENSO | Z8: =C8 -> 2022 | AA8: =ROUND($Q8*AA$3,0) -> 216220 | AB8: =ROUND($Q8*AB$3,0) -> 5608 | AC8: =ROUND($Q8*AC$3,0) -> 28928 | AD8: =ROUND($Q8*AD$3,0) -> 10461 | AE8: =ROUND($Q8*AE$3,0) -> 7198 | AF8: =ROUND($Q8*AF$3,0) -> 404 | AG8: =ROUND($Q8*AG$3,0) -> 404 | AH8: =ROUND($Q8*AH$3,0) -> 377 | AI8: =SUM(AA8:AH8) -> 269600 | AK8: =Y8 -> CENSO | AL8: =Z8 -> 2022 | AM8: =ROUND($U8*AM$3,0) -> 0 | AN8: =ROUND($U8*AN$3,0) -> 0 | AO8: =ROUND($U8*AO$3,0) -> 0 | AP8: =ROUND($U8*AP$3,0) -> 0 | AQ8: =ROUND($U8*AQ$3,0) -> 0 | AR8: =ROUND($U8*AR$3,0) -> 0 | AS8: =ROUND($U8*AS$3,0) -> 0 | AT8: =ROUND($U8*AT$3,0) -> 0 | AU8: =SUM(AM8:AT8) -> 0
B9: =População!B9 -> -2 | C9: =População!C9 -> 2023 | D9: =ROUND('Perdas e Vazões de Água'!V9*86.4/$D$3,0) -> 5790 | E9: =ROUND(D9*3/5,0) -> 3474 | F9: =D9-E9 -> 2316 | G9: =G8+J8 -> 4100 | H9: =H8+K8 -> 0 | I9: =I8+L8 -> 4100 | L9: =J9+K9 -> 0 | M9: =G9+J9-E9 -> 626 | N9: =H9+K9-F9 -> -2316 | O9: =M9+N9 -> -1690 | P9: =P8 -> 21.21 | Q9: =Q8+(P9*('Economais e Ligações Água'!T9-'Economais e Ligações Água'!T8)) -> 276257.41 | R9: =Q9-Q8 -> 6655.8999 | S9: =ROUND(Q9/$E$3,0) -> 13025 | T9: =$T$8 -> 21.21 | U9: ='Economais e Ligações Esgoto'!U9*'Atendimento '!F9*T9 -> 0 | V9: =U9-U8 -> 0 | W9: =ROUND(U9/$F$3,0) -> 0 | Y9: =B9 -> -2 | Z9: =C9 -> 2023 | AA9: =ROUND($Q9*AA$3,0) -> 221558 | AB9: =ROUND($Q9*AB$3,0) -> 5746 | AC9: =ROUND($Q9*AC$3,0) -> 29642 | AD9: =ROUND($Q9*AD$3,0) -> 10719 | AE9: =ROUND($Q9*AE$3,0) -> 7376 | AF9: =ROUND($Q9*AF$3,0) -> 414 | AG9: =ROUND($Q9*AG$3,0) -> 414 | AH9: =ROUND($Q9*AH$3,0) -> 387 | AI9: =SUM(AA9:AH9) -> 276256 | AK9: =Y9 -> -2 | AL9: =Z9 -> 2023 | AM9: =ROUND($U9*AM$3,0) -> 0 | AN9: =ROUND($U9*AN$3,0) -> 0 | AO9: =ROUND($U9*AO$3,0) -> 0 | AP9: =ROUND($U9*AP$3,0) -> 0 | AQ9: =ROUND($U9*AQ$3,0) -> 0 | AR9: =ROUND($U9*AR$3,0) -> 0 | AS9: =ROUND($U9*AS$3,0) -> 0 | AT9: =ROUND($U9*AT$3,0) -> 0 | AU9: =SUM(AM9:AT9) -> 0
B10: =População!B10 -> -1 | C10: =População!C10 -> 2024 | D10: =ROUND('Perdas e Vazões de Água'!V10*86.4/$D$3,0) -> 5871 | E10: =ROUND(D10*3/5,0) -> 3523 | F10: =D10-E10 -> 2348 | G10: =G9+J9 -> 4100 | H10: =H9+K9 -> 0 | I10: =I9+L9 -> 4100 | L10: =J10+K10 -> 0 | M10: =G10+J10-E10 -> 577 | N10: =H10+K10-F10 -> -2348 | O10: =M10+N10 -> -1771 | P10: =P9 -> 21.21 | Q10: =Q9+(P10*('Economais e Ligações Água'!T10-'Economais e Ligações Água'!T9)) -> 282899.14 | R10: =Q10-Q9 -> 6641.7245 | S10: =ROUND(Q10/$E$3,0) -> 13338 | T10: =$T$8 -> 21.21 | U10: ='Economais e Ligações Esgoto'!U10*'Atendimento '!F10*T10 -> 0 | V10: =U10-U9 -> 0 | W10: =ROUND(U10/$F$3,0) -> 0 | Y10: =B10 -> -1 | Z10: =C10 -> 2024 | AA10: =ROUND($Q10*AA$3,0) -> 226885 | AB10: =ROUND($Q10*AB$3,0) -> 5884 | AC10: =ROUND($Q10*AC$3,0) -> 30355 | AD10: =ROUND($Q10*AD$3,0) -> 10976 | AE10: =ROUND($Q10*AE$3,0) -> 7553 | AF10: =ROUND($Q10*AF$3,0) -> 424 | AG10: =ROUND($Q10*AG$3,0) -> 424 | AH10: =ROUND($Q10*AH$3,0) -> 396 | AI10: =SUM(AA10:AH10) -> 282897 | AK10: =Y10 -> -1 | AL10: =Z10 -> 2024 | AM10: =ROUND($U10*AM$3,0) -> 0 | AN10: =ROUND($U10*AN$3,0) -> 0 | AO10: =ROUND($U10*AO$3,0) -> 0 | AP10: =ROUND($U10*AP$3,0) -> 0 | AQ10: =ROUND($U10*AQ$3,0) -> 0 | AR10: =ROUND($U10*AR$3,0) -> 0 | AS10: =ROUND($U10*AS$3,0) -> 0 | AT10: =ROUND($U10*AT$3,0) -> 0 | AU10: =SUM(AM10:AT10) -> 0
B11: =População!B11 -> Base | C11: =População!C11 -> 2025 | D11: =ROUND('Perdas e Vazões de Água'!V11*86.4/$D$3,0) -> 5948 | E11: =ROUND(D11*3/5,0) -> 3569 | F11: =D11-E11 -> 2379 | G11: =G10+J10 -> 4100 | H11: =H10+K10 -> 0 | I11: =I10+L10 -> 4100 | L11: =J11+K11 -> 0 | M11: =G11+J11-E11 -> 531 | N11: =H11+K11-F11 -> -2379 | O11: =M11+N11 -> -1848 | P11: =P10 -> 21.21 | Q11: =Q10+(P11*('Economais e Ligações Água'!T11-'Economais e Ligações Água'!T10)) -> 289462.29 | R11: =Q11-Q10 -> 6563.155 | S11: =ROUND(Q11/$E$3,0) -> 13647 | T11: =$T$8 -> 21.21 | U11: ='Economais e Ligações Esgoto'!U11*'Atendimento '!F11*T11 -> 0 | V11: =U11-U10 -> 0 | W11: =ROUND(U11/$F$3,0) -> 0 | Y11: =B11 -> Base | Z11: =C11 -> 2025 | AA11: =ROUND($Q11*AA$3,0) -> 232149 | AB11: =ROUND($Q11*AB$3,0) -> 6021 | AC11: =ROUND($Q11*AC$3,0) -> 31059 | AD11: =ROUND($Q11*AD$3,0) -> 11231 | AE11: =ROUND($Q11*AE$3,0) -> 7729 | AF11: =ROUND($Q11*AF$3,0) -> 434 | AG11: =ROUND($Q11*AG$3,0) -> 434 | AH11: =ROUND($Q11*AH$3,0) -> 405 | AI11: =SUM(AA11:AH11) -> 289462 | AK11: =Y11 -> Base | AL11: =Z11 -> 2025 | AM11: =ROUND($U11*AM$3,0) -> 0 | AN11: =ROUND($U11*AN$3,0) -> 0 | AO11: =ROUND($U11*AO$3,0) -> 0 | AP11: =ROUND($U11*AP$3,0) -> 0 | AQ11: =ROUND($U11*AQ$3,0) -> 0 | AR11: =ROUND($U11*AR$3,0) -> 0 | AS11: =ROUND($U11*AS$3,0) -> 0 | AT11: =ROUND($U11*AT$3,0) -> 0 | AU11: =SUM(AM11:AT11) -> 0
B12: =População!B12 -> 0 | C12: =População!C12 -> 2026 | D12: =ROUND('Perdas e Vazões de Água'!V12*86.4/$D$3,0) -> 6045 | E12: =ROUND(D12*3/5,0) -> 3627 | F12: =D12-E12 -> 2418 | G12: =G11+J11 -> 4100 | H12: =H11+K11 -> 0 | I12: =I11+L11 -> 4100 | L12: =J12+K12 -> 0 | M12: =G12+J12-E12 -> 473 | N12: =H12+K12-F12 -> -2418 | O12: =M12+N12 -> -1945 | P12: =P11 -> 21.21 | Q12: =Q11+(P12*('Economais e Ligações Água'!T12-'Economais e Ligações Água'!T11)) -> 296019.63 | R12: =Q12-Q11 -> 6557.3365 | S12: =ROUND(Q12/$E$3,0) -> 13957 | T12: =$T$8 -> 21.21 | U12: ='Economais e Ligações Esgoto'!U12*'Atendimento '!F12*T12 -> 0 | V12: =U12-U11 -> 0 | W12: =ROUND(U12/$F$3,0) -> 0 | Y12: =B12 -> 0 | Z12: =C12 -> 2026 | AA12: =ROUND($Q12*AA$3,0) -> 237408 | AB12: =ROUND($Q12*AB$3,0) -> 6157 | AC12: =ROUND($Q12*AC$3,0) -> 31763 | AD12: =ROUND($Q12*AD$3,0) -> 11486 | AE12: =ROUND($Q12*AE$3,0) -> 7904 | AF12: =ROUND($Q12*AF$3,0) -> 444 | AG12: =ROUND($Q12*AG$3,0) -> 444 | AH12: =ROUND($Q12*AH$3,0) -> 414 | AI12: =SUM(AA12:AH12) -> 296020 | AK12: =Y12 -> 0 | AL12: =Z12 -> 2026 | AM12: =ROUND($U12*AM$3,0) -> 0 | AN12: =ROUND($U12*AN$3,0) -> 0 | AO12: =ROUND($U12*AO$3,0) -> 0 | AP12: =ROUND($U12*AP$3,0) -> 0 | AQ12: =ROUND($U12*AQ$3,0) -> 0 | AR12: =ROUND($U12*AR$3,0) -> 0 | AS12: =ROUND($U12*AS$3,0) -> 0 | AT12: =ROUND($U12*AT$3,0) -> 0 | AU12: =SUM(AM12:AT12) -> 0
B13: =População!B13 -> 1 | C13: =População!C13 -> 2027 | D13: =ROUND('Perdas e Vazões de Água'!V13*86.4/$D$3,0) -> 5888 | E13: =ROUND(D13*3/5,0) -> 3533 | F13: =D13-E13 -> 2355 | G13: =G12+J12 -> 4100 | H13: =H12+K12 -> 0 | I13: =I12+L12 -> 4100 | K13: 600 | L13: =J13+K13 -> 600 | M13: =G13+J13-E13 -> 567 | N13: =H13+K13-F13 -> -1755 | O13: =M13+N13 -> -1188 | P13: =P12 -> 21.21 | Q13: =Q12+(P13*('Economais e Ligações Água'!T13-'Economais e Ligações Água'!T12)) -> 302518.87 | R13: =Q13-Q12 -> 6499.2378 | S13: =ROUND(Q13/$E$3,0) -> 14263 | T13: =$T$8 -> 21.21 | U13: ='Economais e Ligações Esgoto'!U13*'Atendimento '!F13*T13 -> 0 | V13: =U13-U12 -> 0 | W13: =ROUND(U13/$F$3,0) -> 0 | Y13: =B13 -> 1 | Z13: =C13 -> 2027 | AA13: =ROUND($Q13*AA$3,0) -> 242620 | AB13: =ROUND($Q13*AB$3,0) -> 6292 | AC13: =ROUND($Q13*AC$3,0) -> 32460 | AD13: =ROUND($Q13*AD$3,0) -> 11738 | AE13: =ROUND($Q13*AE$3,0) -> 8077 | AF13: =ROUND($Q13*AF$3,0) -> 454 | AG13: =ROUND($Q13*AG$3,0) -> 454 | AH13: =ROUND($Q13*AH$3,0) -> 424 | AI13: =SUM(AA13:AH13) -> 302519 | AK13: =Y13 -> 1 | AL13: =Z13 -> 2027 | AM13: =ROUND($U13*AM$3,0) -> 0 | AN13: =ROUND($U13*AN$3,0) -> 0 | AO13: =ROUND($U13*AO$3,0) -> 0 | AP13: =ROUND($U13*AP$3,0) -> 0 | AQ13: =ROUND($U13*AQ$3,0) -> 0 | AR13: =ROUND($U13*AR$3,0) -> 0 | AS13: =ROUND($U13*AS$3,0) -> 0 | AT13: =ROUND($U13*AT$3,0) -> 0 | AU13: =SUM(AM13:AT13) -> 0
B14: =População!B14 -> 2 | C14: =População!C14 -> 2028 | D14: =ROUND('Perdas e Vazões de Água'!V14*86.4/$D$3,0) -> 5945 | E14: =ROUND(D14*3/5,0) -> 3567 | F14: =D14-E14 -> 2378 | G14: =G13+J13 -> 4100 | H14: =H13+K13 -> 600 | I14: =I13+L13 -> 4700 | K14: 550 | L14: =J14+K14 -> 550 | M14: =G14+J14-E14 -> 533 | N14: =H14+K14-F14 -> -1228 | O14: =M14+N14 -> -695 | P14: =P13 -> 21.21 | Q14: =Q13+(P14*('Economais e Ligações Água'!T14-'Economais e Ligações Água'!T13)) -> 318551.17 | R14: =Q14-Q13 -> 16032.307 | S14: =ROUND(Q14/$E$3,0) -> 15019 | T14: =$T$8 -> 21.21 | U14: ='Economais e Ligações Esgoto'!U14*'Atendimento '!F14*T14 -> 64094.804 | V14: =U14-U13 -> 64094.804 | W14: =ROUND(U14/$F$3,0) -> 3022 | Y14: =B14 -> 2 | Z14: =C14 -> 2028 | AA14: =ROUND($Q14*AA$3,0) -> 255478 | AB14: =ROUND($Q14*AB$3,0) -> 6626 | AC14: =ROUND($Q14*AC$3,0) -> 34181 | AD14: =ROUND($Q14*AD$3,0) -> 12360 | AE14: =ROUND($Q14*AE$3,0) -> 8505 | AF14: =ROUND($Q14*AF$3,0) -> 478 | AG14: =ROUND($Q14*AG$3,0) -> 478 | AH14: =ROUND($Q14*AH$3,0) -> 446 | AI14: =SUM(AA14:AH14) -> 318552 | AK14: =Y14 -> 2 | AL14: =Z14 -> 2028 | AM14: =ROUND($U14*AM$3,0) -> 19228 | AN14: =ROUND($U14*AN$3,0) -> 38841 | AO14: =ROUND($U14*AO$3,0) -> 3205 | AP14: =ROUND($U14*AP$3,0) -> 1282 | AQ14: =ROUND($U14*AQ$3,0) -> 641 | AR14: =ROUND($U14*AR$3,0) -> 577 | AS14: =ROUND($U14*AS$3,0) -> 320 | AT14: =ROUND($U14*AT$3,0) -> 0 | AU14: =SUM(AM14:AT14) -> 64094
B15: =População!B15 -> 3 | C15: =População!C15 -> 2029 | D15: =ROUND('Perdas e Vazões de Água'!V15*86.4/$D$3,0) -> 5930 | E15: =ROUND(D15*3/5,0) -> 3558 | F15: =D15-E15 -> 2372 | G15: =G14+J14 -> 4100 | H15: =H14+K14 -> 1150 | I15: =I14+L14 -> 5250 | K15: 750 | L15: =J15+K15 -> 750 | M15: =G15+J15-E15 -> 542 | N15: =H15+K15-F15 -> -472 | O15: =M15+N15 -> 70 | P15: =P14 -> 21.21 | Q15: =Q14+(P15*('Economais e Ligações Água'!T15-'Economais e Ligações Água'!T14)) -> 327097.87 | R15: =Q15-Q14 -> 8546.6971 | S15: =ROUND(Q15/$E$3,0) -> 15422 | T15: =$T$8 -> 21.21 | U15: ='Economais e Ligações Esgoto'!U15*'Atendimento '!F15*T15 -> 130839.15 | V15: =U15-U14 -> 66744.345 | W15: =ROUND(U15/$F$3,0) -> 6169 | Y15: =B15 -> 3 | Z15: =C15 -> 2029 | AA15: =ROUND($Q15*AA$3,0) -> 262332 | AB15: =ROUND($Q15*AB$3,0) -> 6804 | AC15: =ROUND($Q15*AC$3,0) -> 35098 | AD15: =ROUND($Q15*AD$3,0) -> 12691 | AE15: =ROUND($Q15*AE$3,0) -> 8734 | AF15: =ROUND($Q15*AF$3,0) -> 491 | AG15: =ROUND($Q15*AG$3,0) -> 491 | AH15: =ROUND($Q15*AH$3,0) -> 458 | AI15: =SUM(AA15:AH15) -> 327099 | AK15: =Y15 -> 3 | AL15: =Z15 -> 2029 | AM15: =ROUND($U15*AM$3,0) -> 39252 | AN15: =ROUND($U15*AN$3,0) -> 79289 | AO15: =ROUND($U15*AO$3,0) -> 6542 | AP15: =ROUND($U15*AP$3,0) -> 2617 | AQ15: =ROUND($U15*AQ$3,0) -> 1308 | AR15: =ROUND($U15*AR$3,0) -> 1178 | AS15: =ROUND($U15*AS$3,0) -> 654 | AT15: =ROUND($U15*AT$3,0) -> 0 | AU15: =SUM(AM15:AT15) -> 130840
B16: =População!B16 -> 4 | C16: =População!C16 -> 2030 | D16: =ROUND('Perdas e Vazões de Água'!V16*86.4/$D$3,0) -> 5861 | E16: =ROUND(D16*3/5,0) -> 3517 | F16: =D16-E16 -> 2344 | G16: =G15+J15 -> 4100 | H16: =H15+K15 -> 1900 | I16: =I15+L15 -> 6000 | K16: 200 | L16: =J16+K16 -> 200 | M16: =G16+J16-E16 -> 583 | N16: =H16+K16-F16 -> -244 | O16: =M16+N16 -> 339 | P16: =P15 -> 21.21 | Q16: =Q15+(P16*('Economais e Ligações Água'!T16-'Economais e Ligações Água'!T15)) -> 333639.12 | R16: =Q16-Q15 -> 6541.252 | S16: =ROUND(Q16/$E$3,0) -> 15730 | T16: =$T$8 -> 21.21 | U16: ='Economais e Ligações Esgoto'!U16*'Atendimento '!F16*T16 -> 200183.47 | V16: =U16-U15 -> 69344.325 | W16: =ROUND(U16/$F$3,0) -> 9438 | Y16: =B16 -> 4 | Z16: =C16 -> 2030 | AA16: =ROUND($Q16*AA$3,0) -> 267579 | AB16: =ROUND($Q16*AB$3,0) -> 6940 | AC16: =ROUND($Q16*AC$3,0) -> 35799 | AD16: =ROUND($Q16*AD$3,0) -> 12945 | AE16: =ROUND($Q16*AE$3,0) -> 8908 | AF16: =ROUND($Q16*AF$3,0) -> 500 | AG16: =ROUND($Q16*AG$3,0) -> 500 | AH16: =ROUND($Q16*AH$3,0) -> 467 | AI16: =SUM(AA16:AH16) -> 333638 | AK16: =Y16 -> 4 | AL16: =Z16 -> 2030 | AM16: =ROUND($U16*AM$3,0) -> 60055 | AN16: =ROUND($U16*AN$3,0) -> 121311 | AO16: =ROUND($U16*AO$3,0) -> 10009 | AP16: =ROUND($U16*AP$3,0) -> 4004 | AQ16: =ROUND($U16*AQ$3,0) -> 2002 | AR16: =ROUND($U16*AR$3,0) -> 1802 | AS16: =ROUND($U16*AS$3,0) -> 1001 | AT16: =ROUND($U16*AT$3,0) -> 0 | AU16: =SUM(AM16:AT16) -> 200184
B17: =População!B17 -> 5 | C17: =População!C17 -> 2031 | D17: =ROUND('Perdas e Vazões de Água'!V17*86.4/$D$3,0) -> 5810 | E17: =ROUND(D17*3/5,0) -> 3486 | F17: =D17-E17 -> 2324 | G17: =G16+J16 -> 4100 | H17: =H16+K16 -> 2100 | I17: =I16+L16 -> 6200 | K17: 100 | L17: =J17+K17 -> 100 | M17: =G17+J17-E17 -> 614 | N17: =H17+K17-F17 -> -124 | O17: =M17+N17 -> 490 | P17: =P16 -> 21.21 | Q17: =Q16+(P17*('Economais e Ligações Água'!T17-'Economais e Ligações Água'!T16)) -> 340099.35 | R17: =Q17-Q16 -> 6460.224 | S17: =ROUND(Q17/$E$3,0) -> 16035 | T17: =$T$8 -> 21.21 | U17: ='Economais e Ligações Esgoto'!U17*'Atendimento '!F17*T17 -> 272079.48 | V17: =U17-U16 -> 71896.004 | W17: =ROUND(U17/$F$3,0) -> 12828 | Y17: =B17 -> 5 | Z17: =C17 -> 2031 | AA17: =ROUND($Q17*AA$3,0) -> 272760 | AB17: =ROUND($Q17*AB$3,0) -> 7074 | AC17: =ROUND($Q17*AC$3,0) -> 36493 | AD17: =ROUND($Q17*AD$3,0) -> 13196 | AE17: =ROUND($Q17*AE$3,0) -> 9081 | AF17: =ROUND($Q17*AF$3,0) -> 510 | AG17: =ROUND($Q17*AG$3,0) -> 510 | AH17: =ROUND($Q17*AH$3,0) -> 476 | AI17: =SUM(AA17:AH17) -> 340100 | AK17: =Y17 -> 5 | AL17: =Z17 -> 2031 | AM17: =ROUND($U17*AM$3,0) -> 81624 | AN17: =ROUND($U17*AN$3,0) -> 164880 | AO17: =ROUND($U17*AO$3,0) -> 13604 | AP17: =ROUND($U17*AP$3,0) -> 5442 | AQ17: =ROUND($U17*AQ$3,0) -> 2721 | AR17: =ROUND($U17*AR$3,0) -> 2449 | AS17: =ROUND($U17*AS$3,0) -> 1360 | AT17: =ROUND($U17*AT$3,0) -> 0 | AU17: =SUM(AM17:AT17) -> 272080
B18: =População!B18 -> 6 | C18: =População!C18 -> 2032 | D18: =ROUND('Perdas e Vazões de Água'!V18*86.4/$D$3,0) -> 5770 | E18: =ROUND(D18*3/5,0) -> 3462 | F18: =D18-E18 -> 2308 | G18: =G17+J17 -> 4100 | H18: =H17+K17 -> 2200 | I18: =I17+L17 -> 6300 | L18: =J18+K18 -> 0 | M18: =G18+J18-E18 -> 638 | N18: =H18+K18-F18 -> -108 | O18: =M18+N18 -> 530 | P18: =P17 -> 21.21 | Q18: =Q17+(P18*('Economais e Ligações Água'!T18-'Economais e Ligações Água'!T17)) -> 346479.73 | R18: =Q18-Q17 -> 6380.3848 | S18: =ROUND(Q18/$E$3,0) -> 16336 | T18: =$T$8 -> 21.21 | U18: ='Economais e Ligações Esgoto'!U18*'Atendimento '!F18*T18 -> 294507.77 | V18: =U18-U17 -> 22428.294 | W18: =ROUND(U18/$F$3,0) -> 13885 | Y18: =B18 -> 6 | Z18: =C18 -> 2032 | AA18: =ROUND($Q18*AA$3,0) -> 277877 | AB18: =ROUND($Q18*AB$3,0) -> 7207 | AC18: =ROUND($Q18*AC$3,0) -> 37177 | AD18: =ROUND($Q18*AD$3,0) -> 13443 | AE18: =ROUND($Q18*AE$3,0) -> 9251 | AF18: =ROUND($Q18*AF$3,0) -> 520 | AG18: =ROUND($Q18*AG$3,0) -> 520 | AH18: =ROUND($Q18*AH$3,0) -> 485 | AI18: =SUM(AA18:AH18) -> 346480 | AK18: =Y18 -> 6 | AL18: =Z18 -> 2032 | AM18: =ROUND($U18*AM$3,0) -> 88352 | AN18: =ROUND($U18*AN$3,0) -> 178472 | AO18: =ROUND($U18*AO$3,0) -> 14725 | AP18: =ROUND($U18*AP$3,0) -> 5890 | AQ18: =ROUND($U18*AQ$3,0) -> 2945 | AR18: =ROUND($U18*AR$3,0) -> 2651 | AS18: =ROUND($U18*AS$3,0) -> 1473 | AT18: =ROUND($U18*AT$3,0) -> 0 | AU18: =SUM(AM18:AT18) -> 294508
B19: =População!B19 -> 7 | C19: =População!C19 -> 2033 | D19: =ROUND('Perdas e Vazões de Água'!V19*86.4/$D$3,0) -> 5718 | E19: =ROUND(D19*3/5,0) -> 3431 | F19: =D19-E19 -> 2287 | G19: =G18+J18 -> 4100 | H19: =H18+K18 -> 2200 | I19: =I18+L18 -> 6300 | L19: =J19+K19 -> 0 | M19: =G19+J19-E19 -> 669 | N19: =H19+K19-F19 -> -87 | O19: =M19+N19 -> 582 | P19: =P18 -> 21.21 | Q19: =Q18+(P19*('Economais e Ligações Água'!T19-'Economais e Ligações Água'!T18)) -> 352761.82 | R19: =Q19-Q18 -> 6282.0916 | S19: =ROUND(Q19/$E$3,0) -> 16632 | T19: =$T$8 -> 21.21 | U19: ='Economais e Ligações Esgoto'!U19*'Atendimento '!F19*T19 -> 317485.64 | V19: =U19-U18 -> 22977.869 | W19: =ROUND(U19/$F$3,0) -> 14969 | Y19: =B19 -> 7 | Z19: =C19 -> 2033 | AA19: =ROUND($Q19*AA$3,0) -> 282915 | AB19: =ROUND($Q19*AB$3,0) -> 7337 | AC19: =ROUND($Q19*AC$3,0) -> 37851 | AD19: =ROUND($Q19*AD$3,0) -> 13687 | AE19: =ROUND($Q19*AE$3,0) -> 9419 | AF19: =ROUND($Q19*AF$3,0) -> 529 | AG19: =ROUND($Q19*AG$3,0) -> 529 | AH19: =ROUND($Q19*AH$3,0) -> 494 | AI19: =SUM(AA19:AH19) -> 352761 | AK19: =Y19 -> 7 | AL19: =Z19 -> 2033 | AM19: =ROUND($U19*AM$3,0) -> 95246 | AN19: =ROUND($U19*AN$3,0) -> 192396 | AO19: =ROUND($U19*AO$3,0) -> 15874 | AP19: =ROUND($U19*AP$3,0) -> 6350 | AQ19: =ROUND($U19*AQ$3,0) -> 3175 | AR19: =ROUND($U19*AR$3,0) -> 2857 | AS19: =ROUND($U19*AS$3,0) -> 1587 | AT19: =ROUND($U19*AT$3,0) -> 0 | AU19: =SUM(AM19:AT19) -> 317485
B20: =População!B20 -> 8 | C20: =População!C20 -> 2034 | D20: =ROUND('Perdas e Vazões de Água'!V20*86.4/$D$3,0) -> 5746 | E20: =ROUND(D20*3/5,0) -> 3448 | F20: =D20-E20 -> 2298 | G20: =G19+J19 -> 4100 | H20: =H19+K19 -> 2200 | I20: =I19+L19 -> 6300 | L20: =J20+K20 -> 0 | M20: =G20+J20-E20 -> 652 | N20: =H20+K20-F20 -> -98 | O20: =M20+N20 -> 554 | P20: =P19 -> 21.21 | Q20: =Q19+(P20*('Economais e Ligações Água'!T20-'Economais e Ligações Água'!T19)) -> 358918.47 | R20: =Q20-Q19 -> 6156.643 | S20: =ROUND(Q20/$E$3,0) -> 16922 | T20: =$T$8 -> 21.21 | U20: ='Economais e Ligações Esgoto'!U20*'Atendimento '!F20*T20 -> 330204.99 | V20: =U20-U19 -> 12719.348 | W20: =ROUND(U20/$F$3,0) -> 15568 | Y20: =B20 -> 8 | Z20: =C20 -> 2034 | AA20: =ROUND($Q20*AA$3,0) -> 287853 | AB20: =ROUND($Q20*AB$3,0) -> 7466 | AC20: =ROUND($Q20*AC$3,0) -> 38512 | AD20: =ROUND($Q20*AD$3,0) -> 13926 | AE20: =ROUND($Q20*AE$3,0) -> 9583 | AF20: =ROUND($Q20*AF$3,0) -> 538 | AG20: =ROUND($Q20*AG$3,0) -> 538 | AH20: =ROUND($Q20*AH$3,0) -> 502 | AI20: =SUM(AA20:AH20) -> 358918 | AK20: =Y20 -> 8 | AL20: =Z20 -> 2034 | AM20: =ROUND($U20*AM$3,0) -> 99061 | AN20: =ROUND($U20*AN$3,0) -> 200104 | AO20: =ROUND($U20*AO$3,0) -> 16510 | AP20: =ROUND($U20*AP$3,0) -> 6604 | AQ20: =ROUND($U20*AQ$3,0) -> 3302 | AR20: =ROUND($U20*AR$3,0) -> 2972 | AS20: =ROUND($U20*AS$3,0) -> 1651 | AT20: =ROUND($U20*AT$3,0) -> 0 | AU20: =SUM(AM20:AT20) -> 330204
B21: =População!B21 -> 9 | C21: =População!C21 -> 2035 | D21: =ROUND('Perdas e Vazões de Água'!V21*86.4/$D$3,0) -> 5774 | E21: =ROUND(D21*3/5,0) -> 3464 | F21: =D21-E21 -> 2310 | G21: =G20+J20 -> 4100 | H21: =H20+K20 -> 2200 | I21: =I20+L20 -> 6300 | L21: =J21+K21 -> 0 | M21: =G21+J21-E21 -> 636 | N21: =H21+K21-F21 -> -110 | O21: =M21+N21 -> 526 | P21: =P20 -> 21.21 | Q21: =Q20+(P21*('Economais e Ligações Água'!T21-'Economais e Ligações Água'!T20)) -> 365023.64 | R21: =Q21-Q20 -> 6105.1786 | S21: =ROUND(Q21/$E$3,0) -> 17210 | T21: =$T$8 -> 21.21 | U21: ='Economais e Ligações Esgoto'!U21*'Atendimento '!F21*T21 -> 343122.23 | V21: =U21-U20 -> 12917.237 | W21: =ROUND(U21/$F$3,0) -> 16177 | Y21: =B21 -> 9 | Z21: =C21 -> 2035 | AA21: =ROUND($Q21*AA$3,0) -> 292749 | AB21: =ROUND($Q21*AB$3,0) -> 7592 | AC21: =ROUND($Q21*AC$3,0) -> 39167 | AD21: =ROUND($Q21*AD$3,0) -> 14163 | AE21: =ROUND($Q21*AE$3,0) -> 9746 | AF21: =ROUND($Q21*AF$3,0) -> 548 | AG21: =ROUND($Q21*AG$3,0) -> 548 | AH21: =ROUND($Q21*AH$3,0) -> 511 | AI21: =SUM(AA21:AH21) -> 365024 | AK21: =Y21 -> 9 | AL21: =Z21 -> 2035 | AM21: =ROUND($U21*AM$3,0) -> 102937 | AN21: =ROUND($U21*AN$3,0) -> 207932 | AO21: =ROUND($U21*AO$3,0) -> 17156 | AP21: =ROUND($U21*AP$3,0) -> 6862 | AQ21: =ROUND($U21*AQ$3,0) -> 3431 | AR21: =ROUND($U21*AR$3,0) -> 3088 | AS21: =ROUND($U21*AS$3,0) -> 1716 | AT21: =ROUND($U21*AT$3,0) -> 0 | AU21: =SUM(AM21:AT21) -> 343122
B22: =População!B22 -> 10 | C22: =População!C22 -> 2036 | D22: =ROUND('Perdas e Vazões de Água'!V22*86.4/$D$3,0) -> 5799 | E22: =ROUND(D22*3/5,0) -> 3479 | F22: =D22-E22 -> 2320 | G22: =G21+J21 -> 4100 | H22: =H21+K21 -> 2200 | I22: =I21+L21 -> 6300 | L22: =J22+K22 -> 0 | M22: =G22+J22-E22 -> 621 | N22: =H22+K22-F22 -> -120 | O22: =M22+N22 -> 501 | P22: =P21 -> 21.21 | Q22: =Q21+(P22*('Economais e Ligações Água'!T22-'Economais e Ligações Água'!T21)) -> 370993.18 | R22: =Q22-Q21 -> 5969.5331 | S22: =ROUND(Q22/$E$3,0) -> 17491 | T22: =$T$8 -> 21.21 | U22: ='Economais e Ligações Esgoto'!U22*'Atendimento '!F22*T22 -> 356153.45 | V22: =U22-U21 -> 13031.225 | W22: =ROUND(U22/$F$3,0) -> 16792 | Y22: =B22 -> 10 | Z22: =C22 -> 2036 | AA22: =ROUND($Q22*AA$3,0) -> 297537 | AB22: =ROUND($Q22*AB$3,0) -> 7717 | AC22: =ROUND($Q22*AC$3,0) -> 39808 | AD22: =ROUND($Q22*AD$3,0) -> 14395 | AE22: =ROUND($Q22*AE$3,0) -> 9906 | AF22: =ROUND($Q22*AF$3,0) -> 556 | AG22: =ROUND($Q22*AG$3,0) -> 556 | AH22: =ROUND($Q22*AH$3,0) -> 519 | AI22: =SUM(AA22:AH22) -> 370994 | AK22: =Y22 -> 10 | AL22: =Z22 -> 2036 | AM22: =ROUND($U22*AM$3,0) -> 106846 | AN22: =ROUND($U22*AN$3,0) -> 215829 | AO22: =ROUND($U22*AO$3,0) -> 17808 | AP22: =ROUND($U22*AP$3,0) -> 7123 | AQ22: =ROUND($U22*AQ$3,0) -> 3562 | AR22: =ROUND($U22*AR$3,0) -> 3205 | AS22: =ROUND($U22*AS$3,0) -> 1781 | AT22: =ROUND($U22*AT$3,0) -> 0 | AU22: =SUM(AM22:AT22) -> 356154
B23: =População!B23 -> 11 | C23: =População!C23 -> 2037 | D23: =ROUND('Perdas e Vazões de Água'!V23*86.4/$D$3,0) -> 5823 | E23: =ROUND(D23*3/5,0) -> 3494 | F23: =D23-E23 -> 2329 | G23: =G22+J22 -> 4100 | H23: =H22+K22 -> 2200 | I23: =I22+L22 -> 6300 | L23: =J23+K23 -> 0 | M23: =G23+J23-E23 -> 606 | N23: =H23+K23-F23 -> -129 | O23: =M23+N23 -> 477 | P23: =P22 -> 21.21 | Q23: =Q22+(P23*('Economais e Ligações Água'!T23-'Economais e Ligações Água'!T22)) -> 376838.24 | R23: =Q23-Q22 -> 5845.0632 | S23: =ROUND(Q23/$E$3,0) -> 17767 | T23: =$T$8 -> 21.21 | U23: ='Economais e Ligações Esgoto'!U23*'Atendimento '!F23*T23 -> 369301.48 | V23: =U23-U22 -> 13148.026 | W23: =ROUND(U23/$F$3,0) -> 17412 | Y23: =B23 -> 11 | Z23: =C23 -> 2037 | AA23: =ROUND($Q23*AA$3,0) -> 302224 | AB23: =ROUND($Q23*AB$3,0) -> 7838 | AC23: =ROUND($Q23*AC$3,0) -> 40435 | AD23: =ROUND($Q23*AD$3,0) -> 14621 | AE23: =ROUND($Q23*AE$3,0) -> 10062 | AF23: =ROUND($Q23*AF$3,0) -> 565 | AG23: =ROUND($Q23*AG$3,0) -> 565 | AH23: =ROUND($Q23*AH$3,0) -> 528 | AI23: =SUM(AA23:AH23) -> 376838 | AK23: =Y23 -> 11 | AL23: =Z23 -> 2037 | AM23: =ROUND($U23*AM$3,0) -> 110790 | AN23: =ROUND($U23*AN$3,0) -> 223797 | AO23: =ROUND($U23*AO$3,0) -> 18465 | AP23: =ROUND($U23*AP$3,0) -> 7386 | AQ23: =ROUND($U23*AQ$3,0) -> 3693 | AR23: =ROUND($U23*AR$3,0) -> 3324 | AS23: =ROUND($U23*AS$3,0) -> 1847 | AT23: =ROUND($U23*AT$3,0) -> 0 | AU23: =SUM(AM23:AT23) -> 369302
B24: =População!B24 -> 12 | C24: =População!C24 -> 2038 | D24: =ROUND('Perdas e Vazões de Água'!V24*86.4/$D$3,0) -> 5846 | E24: =ROUND(D24*3/5,0) -> 3508 | F24: =D24-E24 -> 2338 | G24: =G23+J23 -> 4100 | H24: =H23+K23 -> 2200 | I24: =I23+L23 -> 6300 | L24: =J24+K24 -> 0 | M24: =G24+J24-E24 -> 592 | N24: =H24+K24-F24 -> -138 | O24: =M24+N24 -> 454 | P24: =P23 -> 21.21 | Q24: =Q23+(P24*('Economais e Ligações Água'!T24-'Economais e Ligações Água'!T23)) -> 382596.94 | R24: =Q24-Q23 -> 5758.7036 | S24: =ROUND(Q24/$E$3,0) -> 18039 | T24: =$T$8 -> 21.21 | U24: ='Economais e Ligações Esgoto'!U24*'Atendimento '!F24*T24 -> 382596.94 | V24: =U24-U23 -> 13295.468 | W24: =ROUND(U24/$F$3,0) -> 18039 | Y24: =B24 -> 12 | Z24: =C24 -> 2038 | AA24: =ROUND($Q24*AA$3,0) -> 306843 | AB24: =ROUND($Q24*AB$3,0) -> 7958 | AC24: =ROUND($Q24*AC$3,0) -> 41053 | AD24: =ROUND($Q24*AD$3,0) -> 14845 | AE24: =ROUND($Q24*AE$3,0) -> 10215 | AF24: =ROUND($Q24*AF$3,0) -> 574 | AG24: =ROUND($Q24*AG$3,0) -> 574 | AH24: =ROUND($Q24*AH$3,0) -> 536 | AI24: =SUM(AA24:AH24) -> 382598 | AK24: =Y24 -> 12 | AL24: =Z24 -> 2038 | AM24: =ROUND($U24*AM$3,0) -> 114779 | AN24: =ROUND($U24*AN$3,0) -> 231854 | AO24: =ROUND($U24*AO$3,0) -> 19130 | AP24: =ROUND($U24*AP$3,0) -> 7652 | AQ24: =ROUND($U24*AQ$3,0) -> 3826 | AR24: =ROUND($U24*AR$3,0) -> 3443 | AS24: =ROUND($U24*AS$3,0) -> 1913 | AT24: =ROUND($U24*AT$3,0) -> 0 | AU24: =SUM(AM24:AT24) -> 382597
B25: =População!B25 -> 13 | C25: =População!C25 -> 2039 | D25: =ROUND('Perdas e Vazões de Água'!V25*86.4/$D$3,0) -> 5865 | E25: =ROUND(D25*3/5,0) -> 3519 | F25: =D25-E25 -> 2346 | G25: =G24+J24 -> 4100 | H25: =H24+K24 -> 2200 | I25: =I24+L24 -> 6300 | L25: =J25+K25 -> 0 | M25: =G25+J25-E25 -> 581 | N25: =H25+K25-F25 -> -146 | O25: =M25+N25 -> 435 | P25: =P24 -> 21.21 | Q25: =Q24+(P25*('Economais e Ligações Água'!T25-'Economais e Ligações Água'!T24)) -> 388185.58 | R25: =Q25-Q24 -> 5588.6369 | S25: =ROUND(Q25/$E$3,0) -> 18302 | T25: =$T$8 -> 21.21 | U25: ='Economais e Ligações Esgoto'!U25*'Atendimento '!F25*T25 -> 388185.58 | V25: =U25-U24 -> 5588.6369 | W25: =ROUND(U25/$F$3,0) -> 18302 | Y25: =B25 -> 13 | Z25: =C25 -> 2039 | AA25: =ROUND($Q25*AA$3,0) -> 311325 | AB25: =ROUND($Q25*AB$3,0) -> 8074 | AC25: =ROUND($Q25*AC$3,0) -> 41652 | AD25: =ROUND($Q25*AD$3,0) -> 15062 | AE25: =ROUND($Q25*AE$3,0) -> 10365 | AF25: =ROUND($Q25*AF$3,0) -> 582 | AG25: =ROUND($Q25*AG$3,0) -> 582 | AH25: =ROUND($Q25*AH$3,0) -> 543 | AI25: =SUM(AA25:AH25) -> 388185 | AK25: =Y25 -> 13 | AL25: =Z25 -> 2039 | AM25: =ROUND($U25*AM$3,0) -> 116456 | AN25: =ROUND($U25*AN$3,0) -> 235240 | AO25: =ROUND($U25*AO$3,0) -> 19409 | AP25: =ROUND($U25*AP$3,0) -> 7764 | AQ25: =ROUND($U25*AQ$3,0) -> 3882 | AR25: =ROUND($U25*AR$3,0) -> 3494 | AS25: =ROUND($U25*AS$3,0) -> 1941 | AT25: =ROUND($U25*AT$3,0) -> 0 | AU25: =SUM(AM25:AT25) -> 388186
B26: =População!B26 -> 14 | C26: =População!C26 -> 2040 | D26: =ROUND('Perdas e Vazões de Água'!V26*86.4/$D$3,0) -> 5885 | E26: =ROUND(D26*3/5,0) -> 3531 | F26: =D26-E26 -> 2354 | G26: =G25+J25 -> 4100 | H26: =H25+K25 -> 2200 | I26: =I25+L25 -> 6300 | L26: =J26+K26 -> 0 | M26: =G26+J26-E26 -> 569 | N26: =H26+K26-F26 -> -154 | O26: =M26+N26 -> 415 | P26: =P25 -> 21.21 | Q26: =Q25+(P26*('Economais e Ligações Água'!T26-'Economais e Ligações Água'!T25)) -> 393663.89 | R26: =Q26-Q25 -> 5478.3052 | S26: =ROUND(Q26/$E$3,0) -> 18560 | T26: =$T$8 -> 21.21 | U26: ='Economais e Ligações Esgoto'!U26*'Atendimento '!F26*T26 -> 393663.89 | V26: =U26-U25 -> 5478.3052 | W26: =ROUND(U26/$F$3,0) -> 18560 | Y26: =B26 -> 14 | Z26: =C26 -> 2040 | AA26: =ROUND($Q26*AA$3,0) -> 315718 | AB26: =ROUND($Q26*AB$3,0) -> 8188 | AC26: =ROUND($Q26*AC$3,0) -> 42240 | AD26: =ROUND($Q26*AD$3,0) -> 15274 | AE26: =ROUND($Q26*AE$3,0) -> 10511 | AF26: =ROUND($Q26*AF$3,0) -> 590 | AG26: =ROUND($Q26*AG$3,0) -> 590 | AH26: =ROUND($Q26*AH$3,0) -> 551 | AI26: =SUM(AA26:AH26) -> 393662 | AK26: =Y26 -> 14 | AL26: =Z26 -> 2040 | AM26: =ROUND($U26*AM$3,0) -> 118099 | AN26: =ROUND($U26*AN$3,0) -> 238560 | AO26: =ROUND($U26*AO$3,0) -> 19683 | AP26: =ROUND($U26*AP$3,0) -> 7873 | AQ26: =ROUND($U26*AQ$3,0) -> 3937 | AR26: =ROUND($U26*AR$3,0) -> 3543 | AS26: =ROUND($U26*AS$3,0) -> 1968 | AT26: =ROUND($U26*AT$3,0) -> 0 | AU26: =SUM(AM26:AT26) -> 393663
B27: =População!B27 -> 15 | C27: =População!C27 -> 2041 | D27: =ROUND('Perdas e Vazões de Água'!V27*86.4/$D$3,0) -> 5904 | E27: =ROUND(D27*3/5,0) -> 3542 | F27: =D27-E27 -> 2362 | G27: =G26+J26 -> 4100 | H27: =H26+K26 -> 2200 | I27: =I26+L26 -> 6300 | L27: =J27+K27 -> 0 | M27: =G27+J27-E27 -> 558 | N27: =H27+K27-F27 -> -162 | O27: =M27+N27 -> 396 | P27: =P26 -> 21.21 | Q27: =Q26+(P27*('Economais e Ligações Água'!T27-'Economais e Ligações Água'!T26)) -> 399024.27 | R27: =Q27-Q26 -> 5360.3836 | S27: =ROUND(Q27/$E$3,0) -> 18813 | T27: =$T$8 -> 21.21 | U27: ='Economais e Ligações Esgoto'!U27*'Atendimento '!F27*T27 -> 399024.27 | V27: =U27-U26 -> 5360.3836 | W27: =ROUND(U27/$F$3,0) -> 18813 | Y27: =B27 -> 15 | Z27: =C27 -> 2041 | AA27: =ROUND($Q27*AA$3,0) -> 320017 | AB27: =ROUND($Q27*AB$3,0) -> 8300 | AC27: =ROUND($Q27*AC$3,0) -> 42815 | AD27: =ROUND($Q27*AD$3,0) -> 15482 | AE27: =ROUND($Q27*AE$3,0) -> 10654 | AF27: =ROUND($Q27*AF$3,0) -> 599 | AG27: =ROUND($Q27*AG$3,0) -> 599 | AH27: =ROUND($Q27*AH$3,0) -> 559 | AI27: =SUM(AA27:AH27) -> 399025 | AK27: =Y27 -> 15 | AL27: =Z27 -> 2041 | AM27: =ROUND($U27*AM$3,0) -> 119707 | AN27: =ROUND($U27*AN$3,0) -> 241809 | AO27: =ROUND($U27*AO$3,0) -> 19951 | AP27: =ROUND($U27*AP$3,0) -> 7980 | AQ27: =ROUND($U27*AQ$3,0) -> 3990 | AR27: =ROUND($U27*AR$3,0) -> 3591 | AS27: =ROUND($U27*AS$3,0) -> 1995 | AT27: =ROUND($U27*AT$3,0) -> 0 | AU27: =SUM(AM27:AT27) -> 399023
B28: =População!B28 -> 16 | C28: =População!C28 -> 2042 | D28: =ROUND('Perdas e Vazões de Água'!V28*86.4/$D$3,0) -> 5920 | E28: =ROUND(D28*3/5,0) -> 3552 | F28: =D28-E28 -> 2368 | G28: =G27+J27 -> 4100 | H28: =H27+K27 -> 2200 | I28: =I27+L27 -> 6300 | L28: =J28+K28 -> 0 | M28: =G28+J28-E28 -> 548 | N28: =H28+K28-F28 -> -168 | O28: =M28+N28 -> 380 | P28: =P27 -> 21.21 | Q28: =Q27+(P28*('Economais e Ligações Água'!T28-'Economais e Ligações Água'!T27)) -> 404264.36 | R28: =Q28-Q27 -> 5240.0875 | S28: =ROUND(Q28/$E$3,0) -> 19060 | T28: =$T$8 -> 21.21 | U28: ='Economais e Ligações Esgoto'!U28*'Atendimento '!F28*T28 -> 404264.36 | V28: =U28-U27 -> 5240.0875 | W28: =ROUND(U28/$F$3,0) -> 19060 | Y28: =B28 -> 16 | Z28: =C28 -> 2042 | AA28: =ROUND($Q28*AA$3,0) -> 324220 | AB28: =ROUND($Q28*AB$3,0) -> 8409 | AC28: =ROUND($Q28*AC$3,0) -> 43378 | AD28: =ROUND($Q28*AD$3,0) -> 15685 | AE28: =ROUND($Q28*AE$3,0) -> 10794 | AF28: =ROUND($Q28*AF$3,0) -> 606 | AG28: =ROUND($Q28*AG$3,0) -> 606 | AH28: =ROUND($Q28*AH$3,0) -> 566 | AI28: =SUM(AA28:AH28) -> 404264 | AK28: =Y28 -> 16 | AL28: =Z28 -> 2042 | AM28: =ROUND($U28*AM$3,0) -> 121279 | AN28: =ROUND($U28*AN$3,0) -> 244984 | AO28: =ROUND($U28*AO$3,0) -> 20213 | AP28: =ROUND($U28*AP$3,0) -> 8085 | AQ28: =ROUND($U28*AQ$3,0) -> 4043 | AR28: =ROUND($U28*AR$3,0) -> 3638 | AS28: =ROUND($U28*AS$3,0) -> 2021 | AT28: =ROUND($U28*AT$3,0) -> 0 | AU28: =SUM(AM28:AT28) -> 404263
B29: =População!B29 -> 17 | C29: =População!C29 -> 2043 | D29: =ROUND('Perdas e Vazões de Água'!V29*86.4/$D$3,0) -> 5935 | E29: =ROUND(D29*3/5,0) -> 3561 | F29: =D29-E29 -> 2374 | G29: =G28+J28 -> 4100 | H29: =H28+K28 -> 2200 | I29: =I28+L28 -> 6300 | L29: =J29+K29 -> 0 | M29: =G29+J29-E29 -> 539 | N29: =H29+K29-F29 -> -174 | O29: =M29+N29 -> 365 | P29: =P28 -> 21.21 | Q29: =Q28+(P29*('Economais e Ligações Água'!T29-'Economais e Ligações Água'!T28)) -> 409360.82 | R29: =Q29-Q28 -> 5096.4657 | S29: =ROUND(Q29/$E$3,0) -> 19300 | T29: =$T$8 -> 21.21 | U29: ='Economais e Ligações Esgoto'!U29*'Atendimento '!F29*T29 -> 409360.82 | V29: =U29-U28 -> 5096.4657 | W29: =ROUND(U29/$F$3,0) -> 19300 | Y29: =B29 -> 17 | Z29: =C29 -> 2043 | AA29: =ROUND($Q29*AA$3,0) -> 328307 | AB29: =ROUND($Q29*AB$3,0) -> 8515 | AC29: =ROUND($Q29*AC$3,0) -> 43924 | AD29: =ROUND($Q29*AD$3,0) -> 15883 | AE29: =ROUND($Q29*AE$3,0) -> 10930 | AF29: =ROUND($Q29*AF$3,0) -> 614 | AG29: =ROUND($Q29*AG$3,0) -> 614 | AH29: =ROUND($Q29*AH$3,0) -> 573 | AI29: =SUM(AA29:AH29) -> 409360 | AK29: =Y29 -> 17 | AL29: =Z29 -> 2043 | AM29: =ROUND($U29*AM$3,0) -> 122808 | AN29: =ROUND($U29*AN$3,0) -> 248073 | AO29: =ROUND($U29*AO$3,0) -> 20468 | AP29: =ROUND($U29*AP$3,0) -> 8187 | AQ29: =ROUND($U29*AQ$3,0) -> 4094 | AR29: =ROUND($U29*AR$3,0) -> 3684 | AS29: =ROUND($U29*AS$3,0) -> 2047 | AT29: =ROUND($U29*AT$3,0) -> 0 | AU29: =SUM(AM29:AT29) -> 409361
... B47: =População!B47 -> 35 | C47: =População!C47 -> 2061 | D47: =ROUND('Perdas e Vazões de Água'!V47*86.4/$D$3,0) -> 6284 | E47: =ROUND(D47*3/5,0) -> 3770 | F47: =D47-E47 -> 2514 | G47: =G46+J46 -> 4100 | H47: =H46+K46 -> 2200 | I47: =I46+L46 -> 6300 | L47: =J47+K47 -> 0 | M47: =G47+J47-E47 -> 330 | N47: =H47+K47-F47 -> -314 | O47: =M47+N47 -> 16 | P47: =P46 -> 21.21 | Q47: =Q46+(P47*('Economais e Ligações Água'!T47-'Economais e Ligações Água'!T46)) -> 475657.81 | R47: =Q47-Q46 -> 2343.6496 | S47: =ROUND(Q47/$E$3,0) -> 22426 | T47: =$T$8 -> 21.21 | U47: ='Economais e Ligações Esgoto'!U47*'Atendimento '!F47*T47 -> 475657.81 | V47: =U47-U46 -> 2343.6496 | W47: =ROUND(U47/$F$3,0) -> 22426 | Y47: =B47 -> 35 | Z47: =C47 -> 2061 | AA47: =ROUND($Q47*AA$3,0) -> 381478 | AB47: =ROUND($Q47*AB$3,0) -> 9894 | AC47: =ROUND($Q47*AC$3,0) -> 51038 | AD47: =ROUND($Q47*AD$3,0) -> 18456 | AE47: =ROUND($Q47*AE$3,0) -> 12700 | AF47: =ROUND($Q47*AF$3,0) -> 713 | AG47: =ROUND($Q47*AG$3,0) -> 713 | AH47: =ROUND($Q47*AH$3,0) -> 666 | AI47: =SUM(AA47:AH47) -> 475658 | AK47: =Y47 -> 35 | AL47: =Z47 -> 2061 | AM47: =ROUND($U47*AM$3,0) -> 142697 | AN47: =ROUND($U47*AN$3,0) -> 288249 | AO47: =ROUND($U47*AO$3,0) -> 23783 | AP47: =ROUND($U47*AP$3,0) -> 9513 | AQ47: =ROUND($U47*AQ$3,0) -> 4757 | AR47: =ROUND($U47*AR$3,0) -> 4281 | AS47: =ROUND($U47*AS$3,0) -> 2378 | AT47: =ROUND($U47*AT$3,0) -> 0 | AU47: =SUM(AM47:AT47) -> 475658

Sheet Dados de Entrada EVTE
B1: ANO | C1: Unidade | D1: {=TRANSPOSE(População!B11:C47)} -> Base | E1: 0 | F1: 1 | G1: 2 | H1: 3 | I1: 4 | J1: 5 | K1: 6 | L1: 7 | M1: 8 | N1: 9 | O1: 10 | P1: 11 | Q1: 12 | R1: 13 | S1: 14 | T1: 15 | U1: 16 | V1: 17 | W1: 18 | X1: 19 | Y1: 20 | Z1: 21 | AA1: 22 | AB1: 23 | AC1: 24 | AD1: 25 | AE1: 26 | AF1: 27 | AG1: 28 | AH1: 29 | AI1: 30 | AJ1: 31 | AK1: 32 | AL1: 33 | AM1: 34 | AN1: 35
D2: 2025 | E2: 2026 | F2: 2027 | G2: 2028 | H2: 2029 | I2: 2030 | J2: 2031 | K2: 2032 | L2: 2033 | M2: 2034 | N2: 2035 | O2: 2036 | P2: 2037 | Q2: 2038 | R2: 2039 | S2: 2040 | T2: 2041 | U2: 2042 | V2: 2043 | W2: 2044 | X2: 2045 | Y2: 2046 | Z2: 2047 | AA2: 2048 | AB2: 2049 | AC2: 2050 | AD2: 2051 | AE2: 2052 | AF2: 2053 | AG2: 2054 | AH2: 2055 | AI2: 2056 | AJ2: 2057 | AK2: 2058 | AL2: 2059 | AM2: 2060 | AN2: 2061
B3: População
B4: População Urbana | C4: hab. | D4: {=TRANSPOSE(População!G11:G47)} -> 45430.859 | E4: 46011.58 | F4: 46573.432 | G4: 47116.535 | H4: 47641.051 | I4: 48147.187 | J4: 48635.181 | K4: 49105.31 | L4: 49557.878 | M4: 49993.216 | N4: 50411.681 | O4: 50813.648 | P4: 51199.51 | Q4: 51569.677 | R4: 51924.568 | S4: 52264.613 | T4: 52590.248 | U4: 52901.914 | V4: 53200.055 | W4: 53485.116 | X4: 53757.541 | Y4: 54017.77 | Z4: 54266.241 | AA4: 54503.387 | AB4: 54729.633 | AC4: 54945.398 | AD4: 55151.093 | AE4: 55347.12 | AF4: 55533.871 | AG4: 55711.729 | AH4: 55881.067 | AI4: 56042.247 | AJ4: 56195.62 | AK4: 56341.526 | AL4: 56480.295 | AM4: 56615 | AN4: 56482.295
B6: Índice de atendimento
B7: Atendimento Água | C7: % | D7: {=TRANSPOSE('Atendimento '!D11:D47)} -> 0.964 | E7: 0.964 | F7: 0.964 | G7: 0.994 | H7: 1 | I7: 1 | J7: 1 | K7: 1 | L7: 1 | M7: 1 | N7: 1 | O7: 1 | P7: 1 | Q7: 1 | R7: 1 | S7: 1 | T7: 1 | U7: 1 | V7: 1 | W7: 1 | X7: 1 | Y7: 1 | Z7: 1 | AA7: 1 | AB7: 1 | AC7: 1 | AD7: 1 | AE7: 1 | AF7: 1 | AG7: 1 | AH7: 1 | AI7: 1 | AJ7: 1 | AK7: 1 | AL7: 1 | AM7: 1 | AN7: 1
B8: Atendimento Esgoto | C8: % | D8: {=TRANSPOSE('Atendimento '!F11:F47)} -> 0 | E8: 0 | F8: 0 | G8: 0.2 | H8: 0.4 | I8: 0.6 | J8: 0.8 | K8: 0.85 | L8: 0.9 | M8: 0.92 | N8: 0.94 | O8: 0.96 | P8: 0.98 | Q8: 1 | R8: 1 | S8: 1 | T8: 1 | U8: 1 | V8: 1 | W8: 1 | X8: 1 | Y8: 1 | Z8: 1 | AA8: 1 | AB8: 1 | AC8: 1 | AD8: 1 | AE8: 1 | AF8: 1 | AG8: 1 | AH8: 1 | AI8: 1 | AJ8: 1 | AK8: 1 | AL8: 1 | AM8: 1 | AN8: 1
B10: Extensão da rede
B11: Extensão da rede de Água | C11: m | D11: {=TRANSPOSE('Redes e Reservasão'!Q11:Q47)} -> 289462.29 | E11: 296019.63 | F11: 302518.87 | G11: 318551.17 | H11: 327097.87 | I11: 333639.12 | J11: 340099.35 | K11: 346479.73 | L11: 352761.82 | M11: 358918.47 | N11: 365023.64 | O11: 370993.18 | P11: 376838.24 | Q11: 382596.94 | R11: 388185.58 | S11: 393663.89 | T11: 399024.27 | U11: 404264.36 | V11: 409360.82 | W11: 414337.1 | X11: 419150.12 | Y11: 423873.7 | Z11: 428432.41 | AA11: 432863.64 | AB11: 437150.46 | AC11: 441310.23 | AD11: 445321.81 | AE11: 449249.83 | AF11: 452995.15 | AG11: 456637.78 | AH11: 460138.37 | AI11: 463523.5 | AJ11: 466786.37 | AK11: 469917.41 | AL11: 472934.58 | AM11: 473314.16 | AN11: 475657.81
B12: Extensão da rede de esgoto | C12: m | D12: {=TRANSPOSE('Redes e Reservasão'!U11:U47)} -> 0 | E12: 0 | F12: 0 | G12: 64094.804 | H12: 130839.15 | I12: 200183.47 | J12: 272079.48 | K12: 294507.77 | L12: 317485.64 | M12: 330204.99 | N12: 343122.23 | O12: 356153.45 | P12: 369301.48 | Q12: 382596.94 | R12: 388185.58 | S12: 393663.89 | T12: 399024.27 | U12: 404264.36 | V12: 409360.82 | W12: 414337.1 | X12: 419150.12 | Y12: 423873.7 | Z12: 428432.41 | AA12: 432863.64 | AB12: 437150.46 | AC12: 441310.23 | AD12: 445321.81 | AE12: 449249.83 | AF12: 452995.15 | AG12: 456637.78 | AH12: 460138.37 | AI12: 463523.5 | AJ12: 466786.37 | AK12: 469917.41 | AL12: 472934.58 | AM12: 473314.16 | AN12: 475657.81
B15: Cota per capita Disponibilizada | C15: l/hab.dia | D15: {=TRANSPOSE('Cota per capita e por economia '!G11:G47)} -> 272.33 | E15: 273.72 | F15: 258.32 | G15: 245.71 | H15: 238.34 | I15: 230.11 | J15: 223.27 | K15: 217.43 | L15: 211.08 | M15: 209.74 | N15: 208.52 | O15: 207.28 | P15: 206.09 | Q15: 204.95 | R15: 203.79 | S15: 202.7 | T15: 201.66 | U15: 200.62 | V15: 199.61 | W15: 198.67 | X15: 198.65 | Y15: 198.69 | Z15: 198.68 | AA15: 198.67 | AB15: 198.66 | AC15: 198.66 | AD15: 198.65 | AE15: 198.71 | AF15: 198.66 | AG15: 198.7 | AH15: 198.67 | AI15: 198.68 | AJ15: 198.69 | AK15: 198.66 | AL15: 198.67 | AM15: 198.68 | AN15: 198.67
B16: Cota per capita Consumida | C16: l/hab.dia | D16: {=TRANSPOSE('Cota per capita e por economia '!H11:H47)} -> 168.85 | E16: 168.89 | F16: 168.9 | G16: 168.86 | H16: 168.88 | I16: 168.86 | J16: 168.88 | K16: 168.87 | L16: 168.86 | M16: 168.85 | N16: 168.89 | O16: 168.89 | P16: 168.89 | Q16: 168.9 | R16: 168.87 | S16: 168.87 | T16: 168.88 | U16: 168.87 | V16: 168.85 | W16: 168.87 | X16: 168.85 | Y16: 168.88 | Z16: 168.88 | AA16: 168.87 | AB16: 168.86 | AC16: 168.86 | AD16: 168.86 | AE16: 168.9 | AF16: 168.86 | AG16: 168.9 | AH16: 168.87 | AI16: 168.88 | AJ16: 168.88 | AK16: 168.86 | AL16: 168.87 | AM16: 168.88 | AN16: 168.87
B17: Cota per capita Medida | C17: l/hab.dia | D17: {=TRANSPOSE('Cota per capita e por economia '!I11:I47)} -> 145.24 | E17: 145.98 | F17: 148.05 | G17: 149.77 | H17: 153.22 | I17: 154.94 | J17: 156.56 | K17: 158 | L17: 158.31 | M17: 158.36 | N17: 158.46 | O17: 158.52 | P17: 158.58 | Q17: 158.65 | R17: 158.68 | S17: 158.74 | T17: 158.8 | U17: 158.84 | V17: 158.87 | W17: 158.94 | X17: 158.92 | Y17: 158.95 | Z17: 158.94 | AA17: 158.94 | AB17: 158.93 | AC17: 158.93 | AD17: 158.92 | AE17: 158.96 | AF17: 158.93 | AG17: 158.96 | AH17: 158.94 | AI17: 158.94 | AJ17: 158.95 | AK17: 158.92 | AL17: 158.94 | AM17: 158.94 | AN17: 158.94
B19: Perda Total | C19: % | D19: {=TRANSPOSE('Perdas e Vazões de Água'!F11:F47)} -> 0.4667 | E19: 0.4667 | F19: 0.42688294 | G19: 0.39046291 | H19: 0.35715011 | I19: 0.32667942 | J19: 0.29880838 | K19: 0.27331519 | L19: 0.24999698 | M19: 0.24497752 | N19: 0.24005885 | O19: 0.23523893 | P19: 0.23051578 | Q19: 0.22588747 | R19: 0.22135209 | S19: 0.21690776 | T19: 0.21255267 | U19: 0.20828502 | V19: 0.20410306 | W19: 0.20000507 | X19: 0.20000507 | Y19: 0.20000507 | Z19: 0.20000507 | AA19: 0.20000507 | AB19: 0.20000507 | AC19: 0.20000507 | AD19: 0.20000507 | AE19: 0.20000507 | AF19: 0.20000507 | AG19: 0.20000507 | AH19: 0.20000507 | AI19: 0.20000507 | AJ19: 0.20000507 | AK19: 0.20000507 | AL19: 0.20000507 | AM19: 0.20000507 | AN19: 0.20000507
B20: Perda Física | C20: % | D20: {=TRANSPOSE('Perdas e Vazões de Água'!D11:D47)} -> 0.38 | E20: 0.383 | F20: 0.34618294 | G20: 0.31276291 | H20: 0.29145011 | I20: 0.26617942 | J20: 0.24360838 | K20: 0.22331519 | L20: 0.19999698 | M20: 0.19497752 | N20: 0.19005885 | O20: 0.18523893 | P20: 0.18051578 | Q20: 0.17588747 | R20: 0.17135209 | S20: 0.16690776 | T20: 0.16255267 | U20: 0.15828502 | V20: 0.15410306 | W20: 0.15000507 | X20: 0.15000507 | Y20: 0.15000507 | Z20: 0.15000507 | AA20: 0.15000507 | AB20: 0.15000507 | AC20: 0.15000507 | AD20: 0.15000507 | AE20: 0.15000507 | AF20: 0.15000507 | AG20: 0.15000507 | AH20: 0.15000507 | AI20: 0.15000507 | AJ20: 0.15000507 | AK20: 0.15000507 | AL20: 0.15000507 | AM20: 0.15000507 | AN20: 0.15000507
B21: Perda Aparente | C21: % | D21: {=TRANSPOSE('Perdas e Vazões de Água'!E11:E47)} -> 0.0867 | E21: 0.0837 | F21: 0.0807 | G21: 0.0777 | H21: 0.0657 | I21: 0.0605 | J21: 0.0552 | K21: 0.05 | L21: 0.05 | M21: 0.05 | N21: 0.05 | O21: 0.05 | P21: 0.05 | Q21: 0.05 | R21: 0.05 | S21: 0.05 | T21: 0.05 | U21: 0.05 | V21: 0.05 | W21: 0.05 | X21: 0.05 | Y21: 0.05 | Z21: 0.05 | AA21: 0.05 | AB21: 0.05 | AC21: 0.05 | AD21: 0.05 | AE21: 0.05 | AF21: 0.05 | AG21: 0.05 | AH21: 0.05 | AI21: 0.05 | AJ21: 0.05 | AK21: 0.05 | AL21: 0.05 | AM21: 0.05 | AN21: 0.05
B22: Perda Produção | C22: % | D22: ='Perdas e Vazões de Água'!$W$3 -> 0.04 | E22: =D22 -> 0.04 | F22: =E22 -> 0.04 | G22: =F22 -> 0.04 | H22: =G22 -> 0.04 | I22: =H22 -> 0.04 | J22: =I22 -> 0.04 | K22: =J22 -> 0.04 | L22: =K22 -> 0.04 | ... AN22: =AM22 -> 0.04
B23: Inadimplência | C23: % | D23: 0.0581 | E23: 0.0581 | F23: 0.0581 | G23: 0.02 | H23: 0.02 | I23: 0.02 | J23: 0.02 | K23: 0.02 | L23: 0.02 | M23: 0.02 | N23: 0.02 | O23: 0.02 | P23: 0.02 | Q23: 0.02 | R23: 0.02 | S23: 0.02 | T23: 0.02 | U23: 0.02 | V23: 0.02 | W23: 0.02 | X23: 0.02 | Y23: 0.02 | Z23: 0.02 | AA23: 0.02 | AB23: 0.02 | AC23: 0.02 | AD23: 0.02 | AE23: 0.02 | AF23: 0.02 | AG23: 0.02 | AH23: 0.02 | AI23: 0.02 | AJ23: 0.02 | AK23: 0.02 | AL23: 0.02 | AM23: 0.02 | AN23: 0.02
B24: Volume Faturado sobre Medido | C24: % | D24: 0 | E24: 0 | F24: 0 | G24: 0 | H24: 0 | I24: 0 | J24: 0 | K24: 0 | L24: 0 | M24: 0 | N24: 0 | O24: 0 | P24: 0 | Q24: 0 | R24: 0 | S24: 0 | T24: 0 | U24: 0 | V24: 0 | W24: 0 | X24: 0 | Y24: 0 | Z24: 0 | AA24: 0 | AB24: 0 | AC24: 0 | AD24: 0 | AE24: 0 | AF24: 0 | AG24: 0 | AH24: 0 | AI24: 0 | AJ24: 0 | AK24: 0 | AL24: 0 | AM24: 0 | AN24: 0
B27: Economias Ativas
B28: Água | C28: Econ. | D28: {=TRANSPOSE('Economais e Ligações Água'!S11:S47)} -> 18054.533 | E28: 18464.929 | F28: 18871.978 | G28: 19874.064 | H28: 20408.878 | I28: 20818.831 | J28: 21223.448 | K28: 21623.309 | L28: 22017.016 | M28: 22403.195 | N28: 22785.496 | O28: 23159.596 | P28: 23526.195 | Q28: 23887.024 | R28: 24237.837 | S28: 24581.417 | T28: 24917.575 | U28: 25246.146 | V28: 25565.994 | W28: 25878.007 | X28: 26180.098 | Y28: 26476.205 | Z28: 26762.288 | AA28: 27040.328 | AB28: 27309.331 | AC28: 27570.317 | AD28: 27822.329 | AE28: 28068.424 | AF28: 28303.677 | AG28: 28532.177 | AH28: 28752.025 | AI28: 28964.336 | AJ28: 29169.234 | AK28: 29365.853 | AL28: 29555.337 | AM28: 29724 | AN28: 29919.9
B29: Esgoto | C29: Econ. | D29: {=TRANSPOSE('Economais e Ligações Esgoto'!R11:R47)} -> 0 | E29: 0 | F29: 0 | G29: 3998.8057 | H29: 8163.5512 | I29: 12491.299 | J29: 16978.758 | K29: 18379.812 | L29: 19815.314 | M29: 20610.939 | N29: 21418.366 | O29: 22233.212 | P29: 23055.671 | Q29: 23887.024 | R29: 24237.837 | S29: 24581.417 | T29: 24917.575 | U29: 25246.146 | V29: 25565.994 | W29: 25878.007 | X29: 26180.098 | Y29: 26476.205 | Z29: 26762.288 | AA29: 27040.328 | AB29: 27309.331 | AC29: 27570.317 | AD29: 27822.329 | AE29: 28068.424 | AF29: 28303.677 | AG29: 28532.177 | AH29: 28752.025 | AI29: 28964.336 | AJ29: 29169.234 | AK29: 29365.853 | AL29: 29555.337 | AM29: 29724 | AN29: 29919.9
B31: Ligações Ativas
B32: Água | C32: Lig. | D32: {=TRANSPOSE('Economais e Ligações Água'!T11:T47)} -> 13647.444 | E32: 13956.607 | F32: 14263.03 | G32: 15018.914 | H32: 15421.87 | I32: 15730.275 | J32: 16034.858 | K32: 16335.678 | L32: 16631.863 | M32: 16922.134 | N32: 17209.979 | O32: 17491.428 | P32: 17767.008 | Q32: 18038.517 | R32: 18302.008 | S32: 18560.296 | T32: 18813.025 | U32: 19060.083 | V32: 19300.369 | W32: 19534.988 | X32: 19761.91 | Y32: 19984.616 | Z32: 20199.548 | AA32: 20408.47 | AB32: 20610.583 | AC32: 20806.706 | AD32: 20995.842 | AE32: 21181.038 | AF32: 21357.621 | AG32: 21529.362 | AH32: 21694.407 | AI32: 21854.008 | AJ32: 22007.844 | AK32: 22155.465 | AL32: 22297.717 | AM32: 22315.614 | AN32: 22426.111
B33: Esgoto | C33: Lig. | D33: {=TRANSPOSE('Economais e Ligações Esgoto'!S11:S47)} -> 0 | E33: 0 | F33: 0 | G33: 3021.9144 | H33: 6168.7481 | I33: 9438.1647 | J33: 12827.887 | K33: 13885.326 | L33: 14968.677 | M33: 15568.363 | N33: 16177.38 | O33: 16791.77 | P33: 17411.668 | Q33: 18038.517 | R33: 18302.008 | S33: 18560.296 | T33: 18813.025 | U33: 19060.083 | V33: 19300.369 | W33: 19534.988 | X33: 19761.91 | Y33: 19984.616 | Z33: 20199.548 | AA33: 20408.47 | AB33: 20610.583 | AC33: 20806.706 | AD33: 20995.842 | AE33: 21181.038 | AF33: 21357.621 | AG33: 21529.362 | AH33: 21694.407 | AI33: 21854.008 | AJ33: 22007.844 | AK33: 22155.465 | AL33: 22297.717 | AM33: 22315.614 | AN33: 22426.111

Sheet Conf pré Correção
A2: =#REF! -> #REF! | B2: =#REF! -> #REF! | C2: =#REF! -> #REF! | D2: =#REF! -> #REF! | E2: =#REF! -> #REF! | F2: =#REF! -> #REF! | G2: =#REF! -> #REF! | H2: =#REF! -> #REF! | ... Y2: =#REF! -> #REF! | AA2: SJB | AB2: Urbana Permanente | AC2: Urbana Sazonal | AD2: Total Urbano Permanente | AE2: Total Urbano Sazonal | AF2: Não Resid. Urbano Permanente | AG2: Não Resid. Urbano Sazonal | AH2: Índice de Atendimento Total de Água | AI2: Densidade de Economias por Ligação Água | AJ2: Índice de Atendimento Total de Esgoto | AK2: Densidade de Economias por Ligação Esgoto | AL2: População Atendida Água | AM2: população Atendida Esgoto | AN2: Perdas Fisicas | AO2: Perdas Aparentes | AP2: Perdas Totais | AQ2: Vazão Média Infiltração | AR2: Do Dia e Hora de Maior Consumo | AS2: Vazão Total de Esgotamento - MÁXIMA | AT2: Dia de Maior Consumo | AU2: Hora de Maior Consumo | AV2: Minima Noturna | AW2: Extensão de rede de Esgoto | AX2: Incremento anual de rede de Esgoto | AY2: Ligações Esgoto
B3: =#REF! -> #REF! | C3: =#REF! -> #REF! | D3: =#REF! -> #REF! | E3: =#REF! -> #REF! | F3: =#REF! -> #REF! | G3: =#REF! -> #REF! | H3: =#REF! -> #REF! | I3: =#REF! -> #REF! | ... Y3: =#REF! -> #REF! | AB3: Hab. | AC3: Hab. | AD3: Imóveis | AE3: Imóveis | AF3: Imóveis | AG3: Imóveis | AH3: % | AI3: % | AJ3: % | AK3: % | AL3: 0 | AM3: 0 | AN3: % | AO3: % | AP3: % | AQ3: L/s | AR3: L/s | AS3: L/s | AT3: L/s | AU3: L/s | AV3: L/s | AW3: m | AX3: m | AY3: Uniade
B4: =#REF! -> #REF! | C4: =#REF! -> #REF! | D4: =#REF! -> #REF! | E4: =#REF! -> #REF! | F4: =#REF! -> #REF! | G4: =#REF! -> #REF! | H4: =#REF! -> #REF! | I4: =#REF! -> #REF! | ... Y4: =#REF! -> #REF! | AB4: 28256.249 | AC4: 22418.335 | AD4: 11059.906 | AE4: 5649.7848 | AF4: 763.03488 | AG4: 389.78477 | AH4: 0.73504511 | AI4: 1.093466 | AJ4: 0.14459302 | AK4: 1.093466 | AL4: 37248 | AM4: 7327 | AN4: 0.41755322 | AO4: 0.27836881 | AP4: 0.69592203 | AQ4: 0.375897 | AR4: 34.28786 | AS4: 34.663757 | AT4: 23.234471 | AU4: 28.949114 | AV4: 9.9003027 | AW4: 5369.9572 | AX4: 0 | AY4: 0
B5: =#REF! -> #REF! | C5: =#REF! -> #REF! | D5: =#REF! -> #REF! | E5: =#REF! -> #REF! | F5: =#REF! -> #REF! | G5: =#REF! -> #REF! | H5: =#REF! -> #REF! | I5: =#REF! -> #REF! | ... Y5: =#REF! -> #REF! | AB5: 28607.846 | AC5: 22705.614 | AD5: 11257.189 | AE5: 5750.7019 | AF5: 772.64195 | AG5: 394.70187 | AH5: 0.75550057 | AI5: 1.0944786 | AJ5: 0.14171381 | AK5: 1.0944786 | AL5: 38767 | AM5: 7272 | AN5: 0.41702842 | AO5: 0.27801895 | AP5: 0.69504737 | AQ5: 2.5911658 | AR5: 34.017473 | AS5: 36.608639 | AT5: 25.269481 | AU5: 30.93906 | AV5: 12.040464 | AW5: 37016.654 | AX5: 0 | AY5: 2217
B6: =#REF! -> #REF! | C6: =#REF! -> #REF! | D6: =#REF! -> #REF! | E6: =#REF! -> #REF! | F6: =#REF! -> #REF! | G6: =#REF! -> #REF! | H6: =#REF! -> #REF! | I6: =#REF! -> #REF! | ... Y6: =#REF! -> #REF! | AB6: 28945.52 | AC6: 22981.734 | AD6: 11453.536 | AE6: 5850.3843 | AF6: 781.89089 | AG6: 399.38429 | AH6: 0.77614867 | AI6: 1.095474 | AJ6: 0.13891423 | AK6: 1.095474 | AL6: 40303 | AM6: 7213 | AN6: 0.41651367 | AO6: 0.27767578 | AP6: 0.69418946 | AQ6: 2.5817699 | AR6: 33.728644 | AS6: 36.310414 | AT6: 25.067532 | AU6: 30.688973 | AV6: 11.950838 | AW6: 36882.428 | AX6: 0 | AY6: 2209
B7: =#REF! -> #REF! | C7: =#REF! -> #REF! | D7: =#REF! -> #REF! | E7: =#REF! -> #REF! | F7: =#REF! -> #REF! | G7: =#REF! -> #REF! | H7: =#REF! -> #REF! | I7: =#REF! -> #REF! | ... Y7: =#REF! -> #REF! | AB7: 29269.656 | AC7: 23246.982 | AD7: 11648.835 | AE7: 5949.9086 | AF7: 790.77925 | AG7: 403.90857 | AH7: 0.79697538 | AI7: 1.0964523 | AJ7: 0.17000886 | AK7: 1.0964523 | AL7: 41855 | AM7: 8928 | AN7: 0.40442584 | AO7: 0.23391408 | AP7: 0.63833992 | AQ7: 3.2108553 | AR7: 41.392856 | AS7: 44.603712 | AT7: 30.806093 | AU7: 37.704902 | AV7: 14.708871 | AW7: 45869.361 | AX7: 8986.9332 | AY7: 2747
B8: =#REF! -> #REF! | C8: =#REF! -> #REF! | D8: =#REF! -> #REF! | E8: =#REF! -> #REF! | F8: =#REF! -> #REF! | G8: =#REF! -> #REF! | H8: =#REF! -> #REF! | I8: =#REF! -> #REF! | ... Y8: =#REF! -> #REF! | AB8: 29580.638 | AC8: 23501.65 | AD8: 11842.978 | AE8: 6049.277 | AF8: 799.30471 | AG8: 408.27702 | AH8: 0.81842267 | AI8: 1.0973451 | AJ8: 0.25111919 | AK8: 1.0973451 | AL8: 43444 | AM8: 13330 | AN8: 0.38993442 | AO8: 0.19704922 | AP8: 0.58698364 | AQ8: 4.8180499 | AR8: 61.162437 | AS8: 65.980487 | AT8: 45.593008 | AU8: 55.786747 | AV8: 21.807616 | AW8: 68829.285 | AX8: 22959.924 | AY8: 4122
B9: =#REF! -> #REF! | C9: =#REF! -> #REF! | D9: =#REF! -> #REF! | E9: =#REF! -> #REF! | F9: =#REF! -> #REF! | G9: =#REF! -> #REF! | H9: =#REF! -> #REF! | I9: =#REF! -> #REF! | ... Y9: =#REF! -> #REF! | AB9: 29878.854 | AC9: 23746.034 | AD9: 12035.855 | AE9: 6148.4919 | AF9: 807.46506 | AG9: 412.49186 | AH9: 0.83986995 | AI9: 1.098238 | AJ9: 0.33222953 | AK9: 1.098238 | AL9: 45038 | AM9: 17816 | AN9: 0.37376486 | AO9: 0.16599426 | AP9: 0.53975913 | AQ9: 6.4726471 | AR9: 80.783105 | AS9: 87.255752 | AT9: 60.32805 | AU9: 73.791901 | AV9: 28.912398 | AW9: 92466.387 | AX9: 23637.102 | AY9: 5537
B10: =#REF! -> #REF! | C10: =#REF! -> #REF! | D10: =#REF! -> #REF! | E10: =#REF! -> #REF! | F10: =#REF! -> #REF! | G10: =#REF! -> #REF! | H10: =#REF! -> #REF! | I10: =#REF! -> #REF! | ... Y10: =#REF! -> #REF! | AB10: 30164.694 | AC10: 23980.432 | AD10: 12227.361 | AE10: 6246.4828 | AF10: 815.25648 | AG10: 416.48281 | AH10: 0.86131724 | AI10: 1.0991309 | AJ10: 0.41333986 | AK10: 1.0991309 | AL10: 46636 | AM10: 22380 | AN10: 0.35650039 | AO10: 0.13983357 | AP10: 0.49633395 | AQ10: 8.1746978 | AR10: 100.2063 | AS10: 108.381 | AT10: 74.978898 | AU10: 91.679948 | AV10: 36.009781 | AW10: 116781.4 | AX10: 24315.011 | AY10: 6993
B11: =#REF! -> #REF! | C11: =#REF! -> #REF! | D11: =#REF! -> #REF! | E11: =#REF! -> #REF! | F11: =#REF! -> #REF! | G11: =#REF! -> #REF! | H11: =#REF! -> #REF! | I11: =#REF! -> #REF! | ... Y11: =#REF! -> #REF! | AB11: 30438.546 | AC11: 24205.143 | AD11: 12417.487 | AE11: 6343.3029 | AF11: 822.77415 | AG11: 420.30289 | AH11: 0.88276453 | AI11: 1.1000238 | AJ11: 0.4944502 | AK11: 1.1000238 | AL11: 48238 | AM11: 27019 | AN11: 0.33860667 | AO11: 0.1177958 | AP11: 0.45640246 | AQ11: 9.9226497 | AR11: 119.37369 | AS11: 129.29634 | AT11: 89.50511 | AU11: 109.40073 | AV11: 43.082008 | AW11: 141752.14 | AX11: 24970.741 | AY11: 8488
B12: =#REF! -> #REF! | C12: =#REF! -> #REF! | D12: =#REF! -> #REF! | E12: =#REF! -> #REF! | F12: =#REF! -> #REF! | G12: =#REF! -> #REF! | H12: =#REF! -> #REF! | I12: =#REF! -> #REF! | ... Y12: =#REF! -> #REF! | AB12: 30700.797 | AC12: 24420.466 | AD12: 12606.132 | AE12: 6438.9549 | AF12: 830.01529 | AG12: 423.95488 | AH12: 0.90421181 | AI12: 1.1009166 | AJ12: 0.57556053 | AK12: 1.1009166 | AL12: 49841 | AM12: 31725 | AN12: 0.3204524 | AO12: 0.09923118 | AP12: 0.41968358 | AQ12: 11.717524 | AR12: 138.30865 | AS12: 150.02617 | AT12: 103.92329 | AU12: 126.97473 | AV12: 50.136593 | AW12: 167393.21 | AX12: 25641.066 | AY12: 10024
B13: =#REF! -> #REF! | C13: =#REF! -> #REF! | D13: =#REF! -> #REF! | E13: =#REF! -> #REF! | F13: =#REF! -> #REF! | G13: =#REF! -> #REF! | H13: =#REF! -> #REF! | I13: =#REF! -> #REF! | ... Y13: =#REF! -> #REF! | AB13: 30951.832 | AC13: 24626.701 | AD13: 12793.099 | AE13: 6534.4627 | AF13: 836.88185 | AG13: 427.46274 | AH13: 0.9256591 | AI13: 1.1018095 | AJ13: 0.65667087 | AK13: 1.1018095 | AL13: 51447 | AM13: 36497 | AN13: 0.30232648 | AO13: 0.083592346 | AP13: 0.38591883 | AQ13: 13.556006 | AR13: 156.91807 | AS13: 170.47407 | AT13: 118.16805 | AU13: 144.32106 | AV13: 57.144359 | AW13: 193657.23 | AX13: 26264.029 | AY13: 11596
