Workbook

Sheet Folha de dados
B1: Dados de entrada | BA1: Indice de Reajuste = | BD1: 1.0974
B3: PRINCIPAIS RESULTADOS DO PROJETO | C3: Unid. | D3: Ano | AO3: Remuneração Média dos Cargos do Quadro Permanente | AZ3: Remuneração Média dos Cargos do Quadro Permanente
D4: 1 | E4: 2 | F4: 3 | G4: 4 | H4: 5 | I4: 6 | J4: 7 | K4: 8 | L4: 9 | M4: 10 | N4: 11 | O4: 12 | P4: 13 | Q4: 14 | R4: 15 | S4: 16 | T4: 17 | U4: 18 | V4: 19 | W4: 20 | X4: 21 | Y4: 22 | Z4: 23 | AA4: 24 | AB4: 25 | AC4: 26 | AD4: 27 | AE4: 28 | AF4: 29 | AG4: 30 | AH4: 31 | AI4: 32 | AJ4: 33 | AK4: 34 | AL4: 35 | AO4: Área técnica - Atividade-fim | AT4: Área Administrativa - Atividade-meio | AZ4: Área técnica - Atividade-fim | BE4: Área Administrativa - Atividade-meio
B5: Tipo de Operador : Público (0) ou SEM/Empresa Privada (1) | D5: 1
B6: População Atendida Água | C6: hab. | D6: 43795 | E6: 44815 | F6: 45828 | G6: 46834 | H6: 47641 | I6: 48147 | J6: 48635 | K6: 49105 | L6: 49558 | M6: 49993 | N6: 50412 | O6: 50814 | P6: 51200 | Q6: 51570 | R6: 51925 | S6: 52265 | T6: 52590 | U6: 52902 | V6: 53200 | W6: 53485 | X6: 53758 | Y6: 54018 | Z6: 54266 | AA6: 54503 | AB6: 54730 | AC6: 54945 | AD6: 55151 | AE6: 55347 | AF6: 55534 | AG6: 55712 | AH6: 55881 | AI6: 56042 | AJ6: 56196 | AK6: 56342 | AL6: 56480 | AO6: Classe | AP6: Descrição | AQ6: Valor | AR6: Classe | AS6: Descrição | AT6: Valor | AU6: Classe | AV6: Descrição | AW6: Valor | AZ6: Classe | BA6: Descrição | BB6: Valor | BC6: Classe | BD6: Descrição | BE6: Valor | BF6: Classe | BG6: Descrição | BH6: Valor
B7: População Atendida Esgoto | C7: hab. | D7: 0 | E7: 9202 | F7: 13972 | G7: 18847 | H7: 23821 | I7: 28888 | J7: 34045 | K7: 39284 | L7: 44602 | M7: 45994 | N7: 47387 | O7: 48781 | P7: 50176 | Q7: 51570 | R7: 51925 | S7: 52265 | T7: 52590 | U7: 52902 | V7: 53200 | W7: 53485 | X7: 53758 | Y7: 54018 | Z7: 54266 | AA7: 54503 | AB7: 54730 | AC7: 54945 | AD7: 55151 | AE7: 55347 | AF7: 55534 | AG7: 55712 | AH7: 55881 | AI7: 56042 | AJ7: 56196 | AK7: 56342 | AL7: 56480 | AO7: C | AP7: Auxiliar Operacional (Calceteiro/Pedreiro) | AQ7: =TRUNC(BB7*$BD$1,2) -> 2280.28 | AR7: C | AS7: Assistente Técnico (Desenhista) | AT7: =TRUNC(BE7*$BD$1,2) -> 3797.55 | AU7: B | AV7: Auxiliar Administrativo (Call Center) | AW7: =TRUNC(BH7*$BD$1,2) -> 1876.82 | AZ7: C | BA7: Auxiliar Operacional (Calceteiro/Pedreiro) | BB7: 2077.9 | BC7: C | BD7: Assistente Técnico (Desenhista) | BE7: 3460.5 | BF7: B | BG7: Auxiliar Administrativo (Call Center) | BH7: 1710.25
B8: Testada média (m) | D8: 21.21 | E8: 21.21 | F8: 21.21 | G8: 21.21 | H8: 21.21 | I8: 21.21 | J8: 21.21 | K8: 21.21 | L8: 21.21 | M8: 21.21 | N8: 21.21 | O8: 21.21 | P8: 21.21 | Q8: 21.21 | R8: 21.21 | S8: 21.21 | T8: 21.21 | U8: 21.21 | V8: 21.21 | W8: 21.21 | X8: 21.21 | Y8: 21.21 | Z8: 21.21 | AA8: 21.21 | AB8: 21.21 | AC8: 21.21 | AD8: 21.21 | AE8: 21.21 | AF8: 21.21 | AG8: 21.21 | AH8: 21.21 | AI8: 21.21 | AJ8: 21.21 | AK8: 21.21 | AL8: 21.21
B9: Testada média (m) | D9: 0 | E9: 21.21 | F9: 21.21 | G9: 21.21 | H9: 21.21 | I9: 21.21 | J9: 21.21 | K9: 21.21 | L9: 21.21 | M9: 21.21 | N9: 21.21 | O9: 21.21 | P9: 21.21 | Q9: 21.21 | R9: 21.21 | S9: 21.21 | T9: 21.21 | U9: 21.21 | V9: 21.21 | W9: 21.21 | X9: 21.21 | Y9: 21.21 | Z9: 21.21 | AA9: 21.21 | AB9: 21.21 | AC9: 21.21 | AD9: 21.21 | AE9: 21.21 | AF9: 21.21 | AG9: 21.21 | AH9: 21.21 | AI9: 21.21 | AJ9: 21.21 | AK9: 21.21 | AL9: 21.21
B10: Rel. Economias A/Ligação A | D10: 1.3229241 | E10: 1.3230226 | F10: 1.3231378 | G10: 1.323246 | H10: 1.3233499 | I10: 1.323466 | J10: 1.3235788 | K10: 1.3236845 | L10: 1.3237838 | M10: 1.3238783 | N10: 1.3239686 | O10: 1.3240526 | P10: 1.3241492 | Q10: 1.3242233 | R10: 1.3243267 | S10: 1.3244073 | T10: 1.3244667 | U10: 1.3245383 | V10: 1.3246224 | W10: 1.3247004 | X10: 1.3247744 | Y10: 1.3248293 | Z10: 1.3248954 | AA10: 1.3249575 | AB10: 1.325015 | AC10: 1.3250857 | AD10: 1.3251364 | AE10: 1.3251687 | AF10: 1.3252273 | AG10: 1.3252837 | AH10: 1.3253221 | AI10: 1.3253704 | AJ10: 1.3254182 | AK10: 1.3254475 | AL10: 1.3254895
B11: Rel. Economias E/Ligação E | D11: 0 | E11: 1.3230226 | F11: 1.3231378 | G11: 1.323246 | H11: 1.3233499 | I11: 1.323466 | J11: 1.3235788 | K11: 1.3236845 | L11: 1.3237838 | M11: 1.3238783 | N11: 1.3239686 | O11: 1.3240526 | P11: 1.3241492 | Q11: 1.3242233 | R11: 1.3243267 | S11: 1.3244073 | T11: 1.3244667 | U11: 1.3245383 | V11: 1.3246224 | W11: 1.3247004 | X11: 1.3247744 | Y11: 1.3248293 | Z11: 1.3248954 | AA11: 1.3249575 | AB11: 1.325015 | AC11: 1.3250857 | AD11: 1.3251364 | AE11: 1.3251687 | AF11: 1.3252273 | AG11: 1.3252837 | AH11: 1.3253221 | AI11: 1.3253704 | AJ11: 1.3254182 | AK11: 1.3254475 | AL11: 1.3254895
B12: Grau de automação dos sistemas A | C12: % | D12: 0 | E12: 0.25 | F12: 0.5 | G12: 0.75 | H12: 1 | I12: 1 | J12: 1 | K12: 1 | L12: 1 | M12: 1 | N12: 1 | O12: 1 | P12: 1 | Q12: 1 | R12: 1 | S12: 1 | T12: 1 | U12: 1 | V12: 1 | W12: 1 | X12: 1 | Y12: 1 | Z12: 1 | AA12: 1 | AB12: 1 | AC12: 1 | AD12: 1 | AE12: 1 | AF12: 1 | AG12: 1 | AH12: 1 | AI12: 1 | AJ12: 1 | AK12: 1 | AL12: 1 | AO12: C | AP12: Auxiliar Operacional (Mecânico) | AQ12: =TRUNC(BB12*$BD$1,2) -> 2454.44 | AR12: C | AS12: Assistente Técnico (Quimica) | AT12: =TRUNC(BE12*$BD$1,2) -> 3685.61 | AU12: B | AV12: Assistente Administrativo | AW12: =TRUNC(BH12*$BD$1,2) -> 2681.22 | AZ12: C | BA12: Auxiliar Operacional (Mecânico) | BB12: 2236.6 | BC12: C | BD12: Assistente Técnico (Quimica) | BE12: 3358.5 | BF12: B | BG12: Assistente Administrativo | BH12: 2443.25
B13: Grau de automação dos sistemas E | C13: % | D13: 0 | E13: 0.25 | F13: 0.5 | G13: 0.75 | H13: 1 | I13: 1 | J13: 1 | K13: 1 | L13: 1 | M13: 1 | N13: 1 | O13: 1 | P13: 1 | Q13: 1 | R13: 1 | S13: 1 | T13: 1 | U13: 1 | V13: 1 | W13: 1 | X13: 1 | Y13: 1 | Z13: 1 | AA13: 1 | AB13: 1 | AC13: 1 | AD13: 1 | AE13: 1 | AF13: 1 | AG13: 1 | AH13: 1 | AI13: 1 | AJ13: 1 | AK13: 1 | AL13: 1 | AO13: C | AP13: Auxiliar Operacional (Motorista classe D) | AQ13: =TRUNC(BB13*$BD$1,2) -> 2444.56 | AR13: C | AS13: Assistente Técnico (Saneamento) | AT13: =TRUNC(BE13*$BD$1,2) -> 3942.95 | AU13: B | AV13: Assistente Técnico (Fiscal de Postura) | AW13: =TRUNC(BH13*$BD$1,2) -> 4172.58 | AZ13: C | BA13: Auxiliar Operacional (Motorista classe D) | BB13: 2227.6 | BC13: C | BD13: Assistente Técnico (Saneamento) | BE13: 3593 | BF13: B | BG13: Assistente Técnico (Fiscal de Postura) | BH13: 3802.25
B14: Nº de Economias Água | C14: unid. | D14: 18054.533 | E14: 18656.474 | F14: 19263.513 | G14: 19874.064 | H14: 20408.878 | I14: 20818.831 | J14: 21223.448 | K14: 21623.309 | L14: 22017.016 | M14: 22403.195 | N14: 22785.496 | O14: 23159.596 | P14: 23526.195 | Q14: 23887.024 | R14: 24237.837 | S14: 24581.417 | T14: 24917.575 | U14: 25246.146 | V14: 25565.994 | W14: 25878.007 | X14: 26180.098 | Y14: 26476.205 | Z14: 26762.288 | AA14: 27040.328 | AB14: 27309.331 | AC14: 27570.317 | AD14: 27822.329 | AE14: 28068.424 | AF14: 28303.677 | AG14: 28532.177 | AH14: 28752.025 | AI14: 28964.336 | AJ14: 29169.234 | AK14: 29365.853 | AL14: 29555.337 | AO14: D | AP14: Auxiliar Operacional (Motorista classe E) | AQ14: =TRUNC(BB14*$BD$1,2) -> 2539.58 | AR14: C | AS14: Assistente Técnico (Topógrafo) | AT14: =TRUNC(BE14*$BD$1,2) -> 4042.27 | AU14: B | AV14: Assistente Técnico (Computação/TI) | AW14: =TRUNC(BH14*$BD$1,2) -> 7892.5 | AZ14: D | BA14: Auxiliar Operacional (Motorista classe E) | BB14: 2314.18 | BC14: C | BD14: Assistente Técnico (Topógrafo) | BE14: 3683.5 | BF14: B | BG14: Assistente Técnico (Computação/TI) | BH14: 7192
B15: Nº de Economias Esgoto | C15: unid. | D15: 0 | E15: 3830.8982 | F15: 5873.0223 | G15: 7997.6113 | H15: 10204.439 | I15: 12491.299 | J15: 14856.414 | K15: 17298.647 | L15: 19815.314 | M15: 20610.939 | N15: 21418.366 | O15: 22233.212 | P15: 23055.671 | Q15: 23887.024 | R15: 24237.837 | S15: 24581.417 | T15: 24917.575 | U15: 25246.146 | V15: 25565.994 | W15: 25878.007 | X15: 26180.098 | Y15: 26476.205 | Z15: 26762.288 | AA15: 27040.328 | AB15: 27309.331 | AC15: 27570.317 | AD15: 27822.329 | AE15: 28068.424 | AF15: 28303.677 | AG15: 28532.177 | AH15: 28752.025 | AI15: 28964.336 | AJ15: 29169.234 | AK15: 29365.853 | AL15: 29555.337 | AO15: E | AP15: Auxiliar Operacional (Mestre de Obras) | AQ15: =TRUNC(BB15*$BD$1,2) -> 4126.44 | AR15: B | AS15: Analista (Biólogo) | AT15: =TRUNC(BE15*$BD$1,2) -> 4813.19 | AU15: C | AV15: Assistente Técnico (Contabilidade) | AW15: =TRUNC(BH15*$BD$1,2) -> 4657.63 | AZ15: E | BA15: Auxiliar Operacional (Mestre de Obras) | BB15: 3760.2 | BC15: B | BD15: Analista (Biólogo) | BE15: 4386 | BF15: C | BG15: Assistente Técnico (Contabilidade) | BH15: 4244.25
B16: Nº de Ligações A | C16: unid. | D16: 13647.444 | E16: 14101.385 | F16: 14558.944 | G16: 15018.914 | H16: 15421.87 | I16: 15730.275 | J16: 16034.858 | K16: 16335.678 | L16: 16631.863 | M16: 16922.134 | N16: 17209.979 | O16: 17491.428 | P16: 17767.008 | Q16: 18038.517 | R16: 18302.008 | S16: 18560.296 | T16: 18813.025 | U16: 19060.083 | V16: 19300.369 | W16: 19534.988 | X16: 19761.91 | Y16: 19984.616 | Z16: 20199.548 | AA16: 20408.47 | AB16: 20610.583 | AC16: 20806.706 | AD16: 20995.842 | AE16: 21181.038 | AF16: 21357.621 | AG16: 21529.362 | AH16: 21694.407 | AI16: 21854.008 | AJ16: 22007.844 | AK16: 22155.465 | AL16: 22297.717 | AO16: D | AP16: Auxiliar Operacional (Nivelador) | AQ16: =TRUNC(BB16*$BD$1,2) -> 2857.51 | AR16: C | AS16: Analista (Quimico) | AT16: =TRUNC(BE16*$BD$1,2) -> 6713.01 | AU16: B | AV16: Assistente Técnico (Seg. trabalho) | AW16: =TRUNC(BH16*$BD$1,2) -> 4086.16 | AZ16: D | BA16: Auxiliar Operacional (Nivelador) | BB16: 2603.9 | BC16: C | BD16: Analista (Quimico) | BE16: 6117.2 | BF16: B | BG16: Assistente Técnico (Seg. trabalho) | BH16: 3723.5
B17: Nº de Ligações E | C17: unid. | D17: 0 | E17: 2895.5616 | F17: 4438.7023 | G17: 6043.8287 | H17: 7710.9352 | I17: 9438.1647 | J17: 11224.401 | K17: 13068.542 | L17: 14968.677 | M17: 15568.363 | N17: 16177.38 | O17: 16791.77 | P17: 17411.668 | Q17: 18038.517 | R17: 18302.008 | S17: 18560.296 | T17: 18813.025 | U17: 19060.083 | V17: 19300.369 | W17: 19534.988 | X17: 19761.91 | Y17: 19984.616 | Z17: 20199.548 | AA17: 20408.47 | AB17: 20610.583 | AC17: 20806.706 | AD17: 20995.842 | AE17: 21181.038 | AF17: 21357.621 | AG17: 21529.362 | AH17: 21694.407 | AI17: 21854.008 | AJ17: 22007.844 | AK17: 22155.465 | AL17: 22297.717 | AO17: C | AP17: Auxiliar Operacional (Operador de bombas) | AQ17: =TRUNC(BB17*$BD$1,2) -> 2270.74 | AR17: D | AS17: Analista (Eng Ambiental) | AT17: =TRUNC(BE17*$BD$1,2) -> 9683.34 | AU17: C | AV17: Analista (Advogado) | AW17: =TRUNC(BH17*$BD$1,2) -> 6875.48 | AZ17: C | BA17: Auxiliar Operacional (Operador de bombas) | BB17: 2069.2 | BC17: D | BD17: Analista (Eng Ambiental) | BE17: 8823.9 | BF17: C | BG17: Analista (Advogado) | BH17: 6265.25
B18: Extensão rede de água | C18: Km | D18: 289462.29 | E18: 299090.37 | F18: 308795.19 | G18: 318551.17 | H18: 327097.87 | I18: 333639.12 | J18: 340099.35 | K18: 346479.73 | L18: 352761.82 | M18: 358918.47 | N18: 365023.64 | O18: 370993.18 | P18: 376838.24 | Q18: 382596.94 | R18: 388185.58 | S18: 393663.89 | T18: 399024.27 | U18: 404264.36 | V18: 409360.82 | W18: 414337.1 | X18: 419150.12 | Y18: 423873.7 | Z18: 428432.41 | AA18: 432863.64 | AB18: 437150.46 | AC18: 441310.23 | AD18: 445321.81 | AE18: 449249.83 | AF18: 452995.15 | AG18: 456637.78 | AH18: 460138.37 | AI18: 463523.5 | AJ18: 466786.37 | AK18: 469917.41 | AL18: 472934.58 | AO18: C | AP18: Auxiliar Operacional (Operador de ETA) | AQ18: =TRUNC(BB18*$BD$1,2) -> 2270.74 | AR18: D | AS18: Analista (Eng Civil ) | AT18: =TRUNC(BE18*$BD$1,2) -> 11356.16 | AU18: C | AV18: Analista (Administração/Ecomonia) | AW18: =TRUNC(BH18*$BD$1,2) -> 6500.17 | AZ18: C | BA18: Auxiliar Operacional (Operador de ETA) | BB18: 2069.2 | BC18: D | BD18: Analista (Eng Civil ) | BE18: 10348.25 | BF18: C | BG18: Analista (Administração/Ecomonia) | BH18: 5923.25
B19: Extensão rede de esgoto | C19: Km | D19: 0 | E19: 61414.861 | F19: 94144.876 | G19: 128189.61 | H19: 163548.94 | I19: 200183.47 | J19: 238069.54 | K19: 277183.79 | L19: 317485.64 | M19: 330204.99 | N19: 343122.23 | O19: 356153.45 | P19: 369301.48 | Q19: 382596.94 | R19: 388185.58 | S19: 393663.89 | T19: 399024.27 | U19: 404264.36 | V19: 409360.82 | W19: 414337.1 | X19: 419150.12 | Y19: 423873.7 | Z19: 428432.41 | AA19: 432863.64 | AB19: 437150.46 | AC19: 441310.23 | AD19: 445321.81 | AE19: 449249.83 | AF19: 452995.15 | AG19: 456637.78 | AH19: 460138.37 | AI19: 463523.5 | AJ19: 466786.37 | AK19: 469917.41 | AL19: 472934.58 | AO19: C | AP19: Auxiliar Operacional (Operador de ETE) | AQ19: =TRUNC(BB19*$BD$1,2) -> 2270.74 | AR19: D | AS19: Analista (Eng Cartografia) | AT19: =TRUNC(BE19*$BD$1,2) -> 7879.82 | AU19: A | AV19: Analista (Assistente Social) | AW19: =TRUNC(BH19*$BD$1,2) -> 3989.87 | AZ19: C | BA19: Auxiliar Operacional (Operador de ETE) | BB19: 2069.2 | BC19: D | BD19: Analista (Eng Cartografia) | BE19: 7180.45 | BF19: A | BG19: Analista (Assistente Social) | BH19: 3635.75
I21: Indice de Reajuste = | L21: 1.0974 | AO21: C | AP21: Auxiliar Operacional (Oper de microsistemas) | AQ21: =TRUNC(BB21*$BD$1,2) -> 2270.74 | AR21: D | AS21: Analista (Eng de Automação/Mecatrônica) | AT21: =TRUNC(BE21*$BD$1,2) -> 11550.24 | AU21: D | AV21: Analista (Eng Computação/Sistemas/TI) | AW21: =TRUNC(BH21*$BD$1,2) -> 9147.26 | AZ21: C | BA21: Auxiliar Operacional (Oper de microsistemas) | BB21: 2069.2 | BC21: D | BD21: Analista (Eng de Automação/Mecatrônica) | BE21: 10525.1 | BF21: D | BG21: Analista (Eng Computação/Sistemas/TI) | BH21: 8335.4
B22: Área Estratégica | C22: CBO | D22: R$/mês | E22: Mínimo | F22: Máximo | G22: Mediana | I22: R$/mês | J22: Mínimo | K22: Máximo | L22: Mediana | AO22: B | AP22: Auxiliar Operacional (Pedreiro) | AQ22: =TRUNC(BB22*$BD$1,2) -> 2306.95 | AR22: D | AS22: Analista (Eng Eletricista) | AT22: =TRUNC(BE22*$BD$1,2) -> 11205.77 | AU22: C | AV22: Analista (Contador) | AW22: =TRUNC(BH22*$BD$1,2) -> 6337.04 | AZ22: B | BA22: Auxiliar Operacional (Pedreiro) | BB22: 2102.2 | BC22: D | BD22: Analista (Eng Eletricista) | BE22: 10211.2 | BF22: C | BG22: Analista (Contador) | BH22: 5774.6
B23: Diretor Presidente | C23: 1210-10 | D23: =TRUNC(I23*$L$21,2) -> 18758.02 | E23: =TRUNC(J23*$L$21,2) -> 12937.24 | F23: =TRUNC(K23*$L$21,2) -> 45786.82 | G23: =TRUNC(L23*$L$21,2) -> 18758.02 | I23: 17093.15 | J23: 11789 | K23: 41723 | L23: 17093.15 | AO23: A | AP23: Auxiliar Operacional (Servente/Ajudante) | AQ23: =TRUNC(BB23*$BD$1,2) -> 1712.93 | AR23: D | AS23: Analista (Eng Mecânico) | AT23: =TRUNC(BE23*$BD$1,2) -> 9799.94 | AU23: D | AV23: Analista (Eng Segurança do Trab.) | AW23: =TRUNC(BH23*$BD$1,2) -> 9138.48 | AZ23: A | BA23: Auxiliar Operacional (Servente/Ajudante) | BB23: 1560.9 | BC23: D | BD23: Analista (Eng Mecânico) | BE23: 8930.15 | BF23: D | BG23: Analista (Eng Segurança do Trab.) | BH23: 8327.4
B24: Diretor de Negócios Jurídicos | C24: 2410-40 | D24: =TRUNC(I24*$L$21,2) -> 15006.41 | E24: =TRUNC(J24*$L$21,2) -> 7035.43 | F24: =TRUNC(K24*$L$21,2) -> 18544.96 | G24: =TRUNC(L24*$L$21,2) -> 14631.72 | I24: 13674.517 | J24: 6411 | K24: 16899 | L24: =(J24*0.34+K24*0.66) -> 13333.08 | O24: Item | P24: Descrição | R24: LST | AO24: D | AP24: Auxiliar Operacional (Soldador) | AQ24: =TRUNC(BB24*$BD$1,2) -> 3016.31 | AR24: D | AS24: Analista (Eng Quimico) | AT24: =TRUNC(BE24*$BD$1,2) -> 9768.34 | AU24: C | AV24: Analista (Jornalista) | AW24: =TRUNC(BH24*$BD$1,2) -> 5318 | AZ24: D | BA24: Auxiliar Operacional (Soldador) | BB24: 2748.6 | BC24: D | BD24: Analista (Eng Quimico) | BE24: 8901.35 | BF24: C | BG24: Analista (Jornalista) | BH24: 4846
B25: Diretor de Gestão Corporativa | C25: 1231-05 | D25: =TRUNC(I25*$L$21,2) -> 15006.41 | E25: =TRUNC(J25*$L$21,2) -> 12028.6 | F25: =TRUNC(K25*$L$21,2) -> 39657.84 | G25: =TRUNC(L25*$L$21,2) -> 15108.78 | I25: 13674.517 | J25: 10961 | K25: 36138 | L25: =(J25*0.9+K25*0.108) -> 13767.804 | O25: 1 | P25: Área técnica - Manutenção de Redes - Operacional | R25: 1.41043 | AO25: D | AP25: Auxiliar Operacional (Serralheiro) | AQ25: =TRUNC(BB25*$BD$1,2) -> 2689.5 | AR25: D | AS25: Analista (Eng Sanitarista) | AT25: =TRUNC(BE25*$BD$1,2) -> 11353.37 | AU25: B | AV25: Analista (Psicológo) | AW25: =TRUNC(BH25*$BD$1,2) -> 4397.28 | AZ25: D | BA25: Auxiliar Operacional (Serralheiro) | BB25: 2450.8 | BC25: D | BD25: Analista (Eng Sanitarista) | BE25: 10345.7 | BF25: B | BG25: Analista (Psicológo) | BH25: 4007
B26: Diretor de Gestão Técnica | C26: 1237-05 | D26: =TRUNC(I26*$L$21,2) -> 15006.41 | E26: =TRUNC(J26*$L$21,2) -> 11190.18 | F26: =TRUNC(K26*$L$21,2) -> 40147.28 | G26: =TRUNC(L26*$L$21,2) -> 15244.18 | I26: 13674.517 | J26: 10197 | K26: 36584 | L26: =(J26*0.86+K26*0.14) -> 13891.18 | O26: =O25+1 -> 2 | P26: Área técnica - Manut de Redes - Técnica | R26: =R25 -> 1.41043 | AO26: C | AP26: Assistente Técnico (Bioquimica) | AQ26: =TRUNC(BB26*$BD$1,2) -> 2441.05 | AR26: D | AS26: Analista (Geólogo) | AT26: =TRUNC(BE26*$BD$1,2) -> 9809.1 | AU26: C | AV26: Analista (Secretário) | AW26: =TRUNC(BH26*$BD$1,2) -> 3469.15 | AZ26: C | BA26: Assistente Técnico (Bioquimica) | BB26: 2224.4 | BC26: D | BD26: Analista (Geólogo) | BE26: 8938.5 | BF26: C | BG26: Analista (Secretário) | BH26: 3161.25
B27: Assessor de Diretoria | C27: 1423-05 | D27: =TRUNC(I27*$L$21,2) -> 12192.7 | E27: =TRUNC(J27*$L$21,2) -> 4526.77 | F27: =TRUNC(K27*$L$21,2) -> 18697.5 | G27: =TRUNC(L27*$L$21,2) -> 11385.79 | I27: 11110.54 | J27: 4125 | K27: 17038 | L27: =(J27*0.45+K27*0.5) -> 10375.25 | O27: =O26+1 -> 3 | P27: Área técnica - Manut Eletromecânica - Operacional | R27: =R26 -> 1.41043
B28: Secretário Executivo | C28: 2323-05 | D28: =TRUNC(I28*$L$21,2) -> 5526.72 | E28: =TRUNC(J28*$L$21,2) -> 2533.89 | F28: =TRUNC(K28*$L$21,2) -> 6274.93 | G28: =TRUNC(L28*$L$21,2) -> 5526.72 | I28: 5036.2 | J28: 2309 | K28: 5718 | L28: =(J28*0.2+K28*0.8) -> 5036.2 | O28: =O27+1 -> 4 | P28: Área técnica - Manut Eletromecânica - Técnica | R28: =R27 -> 1.41043
B29: Auditor Geral | C29: 2522-05 | D29: =TRUNC(I29*$L$21,2) -> 5707.57 | E29: =TRUNC(J29*$L$21,2) -> 5707.57 | F29: =TRUNC(K29*$L$21,2) -> 13377.3 | G29: =TRUNC(L29*$L$21,2) -> 6781.33 | I29: 5201 | J29: 5201 | K29: 12190 | L29: =(J29*0.86+K29*0.14) -> 6179.46 | O29: =O28+1 -> 5 | P29: Área técnica - Operação Água | R29: =R28 -> 1.41043 | AO29: Remuneração dos Cargos Táticos, Executivos e Funções Gratificadas | AZ29: Remuneração dos Cargos Táticos, Executivos e Funções Gratificadas
O30: =O29+1 -> 6 | P30: Área técnica - Operação Esgoto | R30: =R29 -> 1.41043 | AO30: Item | AP30: Descrição | AQ30: Valor | AR30: Item | AS30: Descrição | AT30: Valor | AU30: Item | AV30: Descrição | AW30: Valor | AZ30: Item | BA30: Descrição | BB30: Valor | BC30: Item | BD30: Descrição | BE30: Valor | BF30: Item | BG30: Descrição | BH30: Valor
B31: Área Tática | C31: CBO | D31: R$/mês | E31: Mínimo | F31: Máximo | G31: Mediana | I31: R$/mês | J31: Mínimo | K31: Máximo | L31: Mediana | O31: =O30+1 -> 7 | P31: Área técnica - Planejamento | R31: 0.875 | AO31: 1 | AP31: Diretor Presidente | AQ31: =TRUNC(BB31*$BD$1,2) -> 18758.01 | AR31: =AO34+1 -> 5 | AS31: Ass. CS/ RC/ RI | AT31: =AQ31*0.6 -> 11254.806 | AU31: =AR34+1 -> 9 | AV31: Supervisão Jurídica | AW31: =AQ31*0.065 -> 1219.2706 | AZ31: 1 | BA31: Diretor Presidente | BB31: 17093.146 | BC31: =AZ34+1 -> 5 | BD31: Ass. CS/ RC/ RI | BE31: =BB31*0.6 -> 10255.888 | BF31: =BC34+1 -> 9 | BG31: Supervisão Jurídica | BH31: =BB31*0.065 -> 1111.0545
B32: Gerente Jurídico | O32: =O31+1 -> 8 | P32: Área Administrativa - Comercial | R32: =R31 -> 0.875 | AO32: =AO31+1 -> 2 | AP32: Diretor | AQ32: =$AQ$31*0.8 -> 15006.408 | AR32: =AR31+1 -> 6 | AS32: Secretário Executivo | AT32: =AQ31*0.45 -> 8441.1045 | AU32: =AU31+1 -> 10 | AV32: Chefia de Divisão | AW32: =AQ31*0.065 -> 1219.2706 | AZ32: =AZ31+1 -> 2 | BA32: Diretor | BB32: =$AQ$31*0.8 -> 15006.408 | BC32: =BC31+1 -> 6 | BD32: Secretário Executivo | BE32: =BB31*0.45 -> 7691.9156 | BF32: =BF31+1 -> 10 | BG32: Chefia de Divisão | BH32: =BB31*0.065 -> 1111.0545
B33: Gerente Administrativo e Financeiro | C33: 1421-05 | D33: =TRUNC(I33*$L$21,2) -> 12192.7 | E33: =TRUNC(J33*$L$21,2) -> 4443.37 | F33: =TRUNC(K33*$L$21,2) -> 15366.89 | G33: =TRUNC(L33*$L$21,2) -> 11543.66 | I33: 11110.54 | J33: 4049 | K33: 14003 | L33: =(J33*0.35+K33*0.65) -> 10519.1 | O33: =O32+1 -> 9 | P33: Área Administrativa - Geral | R33: =R32 -> 0.875 | AO33: =AO32+1 -> 3 | AP33: Gerente /Ass Téc. / Ass. Amb/Chefe de Gabinete | AQ33: =AQ31*0.65 -> 12192.707 | AR33: =AR32+1 -> 7 | AS33: Conselheiro Administração | AT33: =AQ31*0.1 -> 1875.801 | AU33: =AU32+1 -> 11 | AV33: Chefia de Setor | AW33: =AQ31*0.065 -> 1219.2706 | AZ33: =AZ32+1 -> 3 | BA33: Gerente /Ass Téc. / Ass. Amb/Chefe de Gabinete | BB33: =BB31*0.65 -> 11110.545 | BC33: =BC32+1 -> 7 | BD33: Conselheiro Administração | BE33: =BB31*0.1 -> 1709.3146 | BF33: =BF32+1 -> 11 | BG33: Chefia de Setor | BH33: =BB31*0.065 -> 1111.0545
B34: Gerente de Relações c/ Usuário | C34: 1423-05 | D34: =TRUNC(I34*$L$21,2) -> 12192.7 | E34: =TRUNC(J34*$L$21,2) -> 4526.77 | F34: =TRUNC(K34*$L$21,2) -> 18697.5 | G34: =TRUNC(L34*$L$21,2) -> 11385.79 | I34: 11110.54 | J34: 4125 | K34: 17038 | L34: =(J34*0.45+K34*0.5) -> 10375.25 | O34: =O33+1 -> 10 | P34: Área Administrativa - Pratimonial | R34: =R33 -> 0.875 | AO34: =AO33+1 -> 4 | AP34: Auditor Geral /Ass Júridico/Corregedor Geral | AQ34: =AQ31*0.6 -> 11254.806 | AR34: =AR33+1 -> 8 | AS34: Conselheiro Fiscal/Comitê Estatutário | AT34: =AQ31*0.1 -> 1875.801 | AU34: =AU33+1 -> 12 | AV34: Supervisão de Equipe | AW34: =AQ31*0.03495726 -> 655.72863 | AZ34: =AZ33+1 -> 4 | BA34: Auditor Geral /Ass Júridico/Corregedor Geral | BB34: =BB31*0.6 -> 10255.888 | BC34: =BC33+1 -> 8 | BD34: Conselheiro Fiscal/Comitê Estatutário | BE34: =BB31*0.1 -> 1709.3146 | BF34: =BF33+1 -> 12 | BG34: Supervisão de Equipe | BH34: =BB31*0.03495726 -> 597.52954
B35: Gerente de Operação e Manutenção | C35: 1527-05 | D35: =TRUNC(I35*$L$21,2) -> 12192.7 | E35: =TRUNC(J35*$L$21,2) -> 8558.62 | F35: =TRUNC(K35*$L$21,2) -> 22203.69 | G35: =TRUNC(L35*$L$21,2) -> 13001.34 | I35: 11110.54 | J35: 7799 | K35: 20233 | L35: =(J35*0.65+K35*0.335) -> 11847.405 | O35: =O34+1 -> 11 | P35: Conselheiro Administração | R35: =R34 -> 0.875
B36: Gerente de Planejamento Projetos e Obras | C36: 1423-05 | D36: =TRUNC(I36*$L$21,2) -> 12192.7 | E36: =TRUNC(J36*$L$21,2) -> 4526.77 | F36: =TRUNC(K36*$L$21,2) -> 18697.5 | G36: =TRUNC(L36*$L$21,2) -> 11385.79 | I36: 11110.54 | J36: 4125 | K36: 17038 | L36: =(J36*0.45+K36*0.5) -> 10375.25 | O36: =O35+1 -> 12 | P36: Conselheiro Fiscal | R36: =R35 -> 0.875
B37: Gerente de Operação e Manutenção - Água | C37: 1423-05 | D37: =TRUNC(I37*$L$21,2) -> 12192.7 | E37: =TRUNC(J37*$L$21,2) -> 4526.77 | F37: =TRUNC(K37*$L$21,2) -> 18697.5 | G37: =TRUNC(L37*$L$21,2) -> 11385.79 | I37: 11110.54 | J37: 4125 | K37: 17038 | L37: =(J37*0.45+K37*0.5) -> 10375.25 | O37: =O36+1 -> 13 | P37: Cargos Executivos | R37: =R36 -> 0.875 | AO37: Cargos do Quadro Permanente
B38: Gerente de Operação e Manutenção - Esgoto | C38: 1423-05 | D38: =TRUNC(I38*$L$21,2) -> 12192.7 | E38: =TRUNC(J38*$L$21,2) -> 4526.77 | F38: =TRUNC(K38*$L$21,2) -> 18697.5 | G38: =TRUNC(L38*$L$21,2) -> 11385.79 | I38: 11110.54 | J38: 4125 | K38: 17038 | L38: =(J38*0.45+K38*0.5) -> 10375.25 | O38: =O37+1 -> 14 | P38: Cargos Táticos | R38: =R37 -> 0.875 | AO38: Área técnica - Atividade-fim | AT38: Área Administrativa - Atividade-meio
O39: =O38+1 -> 15 | P39: Funçoes Gratificadas | R39: =R38 -> 0.875 | AO39: Classe | AP39: Descrição | AQ39: CBO | AR39: Classe | AS39: Descrição | AT39: CBO | AU39: Classe | AV39: Descrição | AW39: CBO
B40: Área Operacional- Atividade-fim | C40: CBO | D40: R$/mês | E40: Mínimo | F40: Máximo | G40: Mediana | I40: R$/mês | J40: Mínimo | K40: Máximo | L40: Mediana | AO40: C | AP40: Auxiliar Operacional (Calceteiro/Pedreiro) | AQ40: 7152-05 | AR40: C | AS40: Assistente Técnico (Desenhista) | AT40: 3180-10 | AU40: B | AV40: Auxiliar Administrativo (Call Center) | AW40: 4222-05
B41: Auxiliar Operacional (Calceteiro/Pedreiro) | C41: 7152-05 | D41: =TRUNC(I41*$L$21,2) -> 2280.28 | E41: =TRUNC(J41*$L$21,2) -> 1933.61 | F41: =TRUNC(K41*$L$21,2) -> 3217.57 | G41: =TRUNC(L41*$L$21,2) -> 2280.28 | H41: =D41-G41 -> 0 | I41: 2077.9 | J41: 1762 | K41: 2932 | L41: =(J41*0.73+K41*0.27) -> 2077.9 | AO41: D | AP41: Auxiliar Operacional (Encarregado Turma) | AQ41: 9501-10 | AR41: C | AS41: Assistente Técnico (Edificações) | AT41: 3121 | AU41: A | AV41: Auxiliar Operacional (Copeiro/Faxineiro) | AW41: 5143-20
B42: Auxiliar Operacional (Encarregado Turma) | C42: 7102-05 | D42: =TRUNC(I42*$L$21,2) -> 5243.15 | E42: =TRUNC(J42*$L$21,2) -> 3754.2 | F42: =TRUNC(K42*$L$21,2) -> 7476.58 | G42: =TRUNC(L42*$L$21,2) -> 5243.15 | H42: =D42-G42 -> 0 | I42: 4777.8 | J42: 3421 | K42: 6813 | L42: =(J42*0.6+K42*0.4) -> 4777.8 | AO42: C | AP42: Auxiliar Operacional (Encanador) | AQ42: 7241-10 | AR42: C | AS42: Assistente Técnico (Eletrônica) | AT42: 3132 | AU42: B | AV42: Auxiliar Operacional (Vigia) | AW42: 5174-20
...

Sheet Resumo
B1: Resultados projetados
B2: PRINCIPAIS RESULTADOS DO PROJETO | C2: Unid. | D2: Ano | AO2: Remuneração Média dos Cargos do Quadro Permanente
D3: 1 | E3: 2 | F3: 3 | G3: 4 | H3: 5 | I3: 6 | J3: 7 | K3: 8 | L3: 9 | M3: 10 | N3: 11 | O3: 12 | P3: 13 | Q3: 14 | R3: 15 | S3: 16 | T3: 17 | U3: 18 | V3: 19 | W3: 20 | X3: 21 | Y3: 22 | Z3: 23 | AA3: 24 | AB3: 25 | AC3: 26 | AD3: 27 | AE3: 28 | AF3: 29 | AG3: 30 | AH3: 31 | AI3: 32 | AJ3: 33 | AK3: 34 | AL3: 35 | AO3: Área técnica - Atividade-fim | AT3: Área Administrativa - Atividade-meio
B4: População Atendida Água | C4: hab. | D4: ='Ano 1'!M55 -> 43795 | E4: ='Ano 2'!M55 -> 44815 | F4: ='Ano 3'!M55 -> 45828 | G4: ='Ano 4'!M55 -> 46834 | H4: ='Ano 5'!M55 -> 47641 | I4: ='Ano 6'!$M55 -> 48147 | J4: ='Ano 7'!$M55 -> 48635 | K4: ='Ano 8'!$M55 -> 49105 | L4: ='Ano 9'!$M55 -> 49558 | M4: ='Ano 10'!$M55 -> 49993 | N4: ='Ano 11'!$M55 -> 50412 | O4: ='Ano 12'!$M55 -> 50814 | P4: ='Ano 13'!$M55 -> 51200 | Q4: ='Ano 14'!$M55 -> 51570 | R4: ='Ano 15'!$M55 -> 51925 | S4: ='Ano 16'!$M55 -> 52265 | T4: ='Ano 17'!$M55 -> 52590 | U4: ='Ano 18'!$M55 -> 52902 | V4: ='Ano 19'!$M55 -> 53200 | W4: ='Ano 20'!$M55 -> 53485 | X4: ='Ano 21'!$M55 -> 53758 | Y4: ='Ano 22'!$M55 -> 54018 | Z4: ='Ano 23'!$M55 -> 54266 | AA4: ='Ano 24'!$M55 -> 54503 | AB4: ='Ano 25'!$M55 -> 54730 | AC4: ='Ano 26'!$M55 -> 54945 | AD4: ='Ano 27'!$M55 -> 55151 | AE4: ='Ano 28'!$M55 -> 55347 | AF4: ='Ano 29'!$M55 -> 55534 | AG4: ='Ano 30'!$M55 -> 55712 | AH4: ='Ano 31'!$M55 -> 55881 | AI4: ='Ano 32'!$M55 -> 56042 | AJ4: ='Ano 33'!$M55 -> 56196 | AK4: ='Ano 34'!$M55 -> 56342 | AL4: ='Ano 35'!$M55 -> 56480 | AO4: Classe | AP4: Descrição | AQ4: Valor | AR4: Classe | AS4: Descrição | AT4: Valor | AU4: Classe | AV4: Descrição | AW4: Valor
B5: População Atendida Esgoto | C5: hab. | D5: ='Ano 1'!M56 -> 0 | E5: ='Ano 2'!M56 -> 9202 | F5: ='Ano 3'!M56 -> 13972 | G5: ='Ano 4'!M56 -> 18847 | H5: ='Ano 5'!M56 -> 23821 | I5: ='Ano 6'!$M56 -> 28888 | J5: ='Ano 7'!$M56 -> 34045 | K5: ='Ano 8'!$M56 -> 39284 | L5: ='Ano 9'!$M56 -> 44602 | M5: ='Ano 10'!$M56 -> 45994 | N5: ='Ano 11'!$M56 -> 47387 | O5: ='Ano 12'!$M56 -> 48781 | P5: ='Ano 13'!$M56 -> 50176 | Q5: ='Ano 14'!$M56 -> 51570 | R5: ='Ano 15'!$M56 -> 51925 | S5: ='Ano 16'!$M56 -> 52265 | T5: ='Ano 17'!$M56 -> 52590 | U5: ='Ano 18'!$M56 -> 52902 | V5: ='Ano 19'!$M56 -> 53200 | W5: ='Ano 20'!$M56 -> 53485 | X5: ='Ano 21'!$M56 -> 53758 | Y5: ='Ano 22'!$M56 -> 54018 | Z5: ='Ano 23'!$M56 -> 54266 | AA5: ='Ano 24'!$M56 -> 54503 | AB5: ='Ano 25'!$M56 -> 54730 | AC5: ='Ano 26'!$M56 -> 54945 | AD5: ='Ano 27'!$M56 -> 55151 | AE5: ='Ano 28'!$M56 -> 55347 | AF5: ='Ano 29'!$M56 -> 55534 | AG5: ='Ano 30'!$M56 -> 55712 | AH5: ='Ano 31'!$M56 -> 55881 | AI5: ='Ano 32'!$M56 -> 56042 | AJ5: ='Ano 33'!$M56 -> 56196 | AK5: ='Ano 34'!$M56 -> 56342 | AL5: ='Ano 35'!$M56 -> 56480 | AO5: ='Folha de dados'!AO7 -> C | AP5: Auxiliar Operacional (Calceteiro/Pedreiro) | AQ5: ='Folha de dados'!AQ7 -> 2280.28 | AR5: ='Folha de dados'!AR7 -> C | AS5: Assistente Técnico (Desenhista) | AT5: ='Folha de dados'!AT7 -> 3797.55 | AU5: ='Folha de dados'!AU7 -> B | AV5: Auxiliar Administrativo (Call Center) | AW5: ='Folha de dados'!AW7 -> 1876.82
B6: Testada média (m) | C6: m | D6: ='Ano 1'!M57 -> 21.21 | E6: ='Ano 2'!M57 -> 21.21 | F6: ='Ano 3'!M57 -> 21.21 | G6: ='Ano 4'!M57 -> 21.21 | H6: ='Ano 5'!M57 -> 21.21 | I6: ='Ano 6'!$M57 -> 21.21 | J6: ='Ano 7'!$M57 -> 21.21 | K6: ='Ano 8'!$M57 -> 21.21 | L6: ='Ano 9'!$M57 -> 21.21 | M6: ='Ano 10'!$M57 -> 21.21 | N6: ='Ano 11'!$M57 -> 21.21 | O6: ='Ano 12'!$M57 -> 21.21 | P6: ='Ano 13'!$M57 -> 21.21 | Q6: ='Ano 14'!$M57 -> 21.21 | R6: ='Ano 15'!$M57 -> 21.21 | S6: ='Ano 16'!$M57 -> 21.21 | T6: ='Ano 17'!$M57 -> 21.21 | U6: ='Ano 18'!$M57 -> 21.21 | V6: ='Ano 19'!$M57 -> 21.21 | W6: ='Ano 20'!$M57 -> 21.21 | X6: ='Ano 21'!$M57 -> 21.21 | Y6: ='Ano 22'!$M57 -> 21.21 | Z6: ='Ano 23'!$M57 -> 21.21 | AA6: ='Ano 24'!$M57 -> 21.21 | AB6: ='Ano 25'!$M57 -> 21.21 | AC6: ='Ano 26'!$M57 -> 21.21 | AD6: ='Ano 27'!$M57 -> 21.21 | AE6: ='Ano 28'!$M57 -> 21.21 | AF6: ='Ano 29'!$M57 -> 21.21 | AG6: ='Ano 30'!$M57 -> 21.21 | AH6: ='Ano 31'!$M57 -> 21.21 | AI6: ='Ano 32'!$M57 -> 21.21 | AJ6: ='Ano 33'!$M57 -> 21.21 | AK6: ='Ano 34'!$M57 -> 21.21 | AL6: ='Ano 35'!$M57 -> 21.21 | AO6: ='Folha de dados'!AO8 -> 0 | AP6: Auxiliar Operacional (Encarregado Turma) | AQ6: ='Folha de dados'!AQ8 -> 0 | AR6: ='Folha de dados'!AR8 -> 0 | AS6: Assistente Técnico (Edificações) | AT6: ='Folha de dados'!AT8 -> 0 | AU6: ='Folha de dados'!AU8 -> 0 | AV6: Auxiliar Operacional (Copeiro/Faxineiro) | AW6: ='Folha de dados'!AW8 -> 0
B7: Testada média (m) | C7: m | D7: ='Ano 1'!M58 -> 0 | E7: ='Ano 2'!M58 -> 21.21 | F7: ='Ano 3'!M58 -> 21.21 | G7: ='Ano 4'!M58 -> 21.21 | H7: ='Ano 5'!M58 -> 21.21 | I7: ='Ano 6'!$M58 -> 21.21 | J7: ='Ano 7'!$M58 -> 21.21 | K7: ='Ano 8'!$M58 -> 21.21 | L7: ='Ano 9'!$M58 -> 21.21 | M7: ='Ano 10'!$M58 -> 21.21 | N7: ='Ano 11'!$M58 -> 21.21 | O7: ='Ano 12'!$M58 -> 21.21 | P7: ='Ano 13'!$M58 -> 21.21 | Q7: ='Ano 14'!$M58 -> 21.21 | R7: ='Ano 15'!$M58 -> 21.21 | S7: ='Ano 16'!$M58 -> 21.21 | T7: ='Ano 17'!$M58 -> 21.21 | U7: ='Ano 18'!$M58 -> 21.21 | V7: ='Ano 19'!$M58 -> 21.21 | W7: ='Ano 20'!$M58 -> 21.21 | X7: ='Ano 21'!$M58 -> 21.21 | Y7: ='Ano 22'!$M58 -> 21.21 | Z7: ='Ano 23'!$M58 -> 21.21 | AA7: ='Ano 24'!$M58 -> 21.21 | AB7: ='Ano 25'!$M58 -> 21.21 | AC7: ='Ano 26'!$M58 -> 21.21 | AD7: ='Ano 27'!$M58 -> 21.21 | AE7: ='Ano 28'!$M58 -> 21.21 | AF7: ='Ano 29'!$M58 -> 21.21 | AG7: ='Ano 30'!$M58 -> 21.21 | AH7: ='Ano 31'!$M58 -> 21.21 | AI7: ='Ano 32'!$M58 -> 21.21 | AJ7: ='Ano 33'!$M58 -> 21.21 | AK7: ='Ano 34'!$M58 -> 21.21 | AL7: ='Ano 35'!$M58 -> 21.21 | AO7: ='Folha de dados'!AO9 -> 0 | AP7: Auxiliar Operacional (Encanador) | AQ7: ='Folha de dados'!AQ9 -> 0 | AR7: ='Folha de dados'!AR9 -> 0 | AS7: Assistente Técnico (Eletrônica) | AT7: ='Folha de dados'!AT9 -> 0 | AU7: ='Folha de dados'!AU9 -> 0 | AV7: Auxiliar Operacional (Vigia) | AW7: ='Folha de dados'!AW9 -> 0
B8: Rel. Economias A/Ligação A | C8: - | D8: ='Ano 1'!M59 -> 1.3229241 | E8: ='Ano 2'!M59 -> 1.3230226 | F8: ='Ano 3'!M59 -> 1.3231378 | G8: ='Ano 4'!M59 -> 1.323246 | H8: ='Ano 5'!M59 -> 1.3233499 | I8: ='Ano 6'!$M59 -> 1.323466 | J8: ='Ano 7'!$M59 -> 1.3235788 | K8: ='Ano 8'!$M59 -> 1.3236845 | L8: ='Ano 9'!$M59 -> 1.3237838 | M8: ='Ano 10'!$M59 -> 1.3238783 | N8: ='Ano 11'!$M59 -> 1.3239686 | O8: ='Ano 12'!$M59 -> 1.3240526 | P8: ='Ano 13'!$M59 -> 1.3241492 | Q8: ='Ano 14'!$M59 -> 1.3242233 | R8: ='Ano 15'!$M59 -> 1.3243267 | S8: ='Ano 16'!$M59 -> 1.3244073 | T8: ='Ano 17'!$M59 -> 1.3244667 | U8: ='Ano 18'!$M59 -> 1.3245383 | V8: ='Ano 19'!$M59 -> 1.3246224 | W8: ='Ano 20'!$M59 -> 1.3247004 | X8: ='Ano 21'!$M59 -> 1.3247744 | Y8: ='Ano 22'!$M59 -> 1.3248293 | Z8: ='Ano 23'!$M59 -> 1.3248954 | AA8: ='Ano 24'!$M59 -> 1.3249575 | AB8: ='Ano 25'!$M59 -> 1.325015 | AC8: ='Ano 26'!$M59 -> 1.3250857 | AD8: ='Ano 27'!$M59 -> 1.3251364 | AE8: ='Ano 28'!$M59 -> 1.3251687 | AF8: ='Ano 29'!$M59 -> 1.3252273 | AG8: ='Ano 30'!$M59 -> 1.3252837 | AH8: ='Ano 31'!$M59 -> 1.3253221 | AI8: ='Ano 32'!$M59 -> 1.3253704 | AJ8: ='Ano 33'!$M59 -> 1.3254182 | AK8: ='Ano 34'!$M59 -> 1.3254475 | AL8: ='Ano 35'!$M59 -> 1.3254895 | AO8: ='Folha de dados'!AO10 -> 0 | AP8: Auxiliar Operacional (Eletricista) | AQ8: ='Folha de dados'!AQ10 -> 0 | AR8: ='Folha de dados'!AR10 -> 0 | AS8: Assistente Técnico (Eletrotécnica) | AT8: ='Folha de dados'!AT10 -> 0 | AU8: ='Folha de dados'!AU10 -> 0 | AV8: Auxiliar Operacional (Leiturista) | AW8: ='Folha de dados'!AW10 -> 0
B9: Rel. Economias E/Ligação E | C9: - | D9: ='Ano 1'!M60 -> 0 | E9: ='Ano 2'!M60 -> 1.3230226 | F9: ='Ano 3'!M60 -> 1.3231378 | G9: ='Ano 4'!M60 -> 1.323246 | H9: ='Ano 5'!M60 -> 1.3233499 | I9: ='Ano 6'!$M60 -> 1.323466 | J9: ='Ano 7'!$M60 -> 1.3235788 | K9: ='Ano 8'!$M60 -> 1.3236845 | L9: ='Ano 9'!$M60 -> 1.3237838 | M9: ='Ano 10'!$M60 -> 1.3238783 | N9: ='Ano 11'!$M60 -> 1.3239686 | O9: ='Ano 12'!$M60 -> 1.3240526 | P9: ='Ano 13'!$M60 -> 1.3241492 | Q9: ='Ano 14'!$M60 -> 1.3242233 | R9: ='Ano 15'!$M60 -> 1.3243267 | S9: ='Ano 16'!$M60 -> 1.3244073 | T9: ='Ano 17'!$M60 -> 1.3244667 | U9: ='Ano 18'!$M60 -> 1.3245383 | V9: ='Ano 19'!$M60 -> 1.3246224 | W9: ='Ano 20'!$M60 -> 1.3247004 | X9: ='Ano 21'!$M60 -> 1.3247744 | Y9: ='Ano 22'!$M60 -> 1.3248293 | Z9: ='Ano 23'!$M60 -> 1.3248954 | AA9: ='Ano 24'!$M60 -> 1.3249575 | AB9: ='Ano 25'!$M60 -> 1.325015 | AC9: ='Ano 26'!$M60 -> 1.3250857 | AD9: ='Ano 27'!$M60 -> 1.3251364 | AE9: ='Ano 28'!$M60 -> 1.3251687 | AF9: ='Ano 29'!$M60 -> 1.3252273 | AG9: ='Ano 30'!$M60 -> 1.3252837 | AH9: ='Ano 31'!$M60 -> 1.3253221 | AI9: ='Ano 32'!$M60 -> 1.3253704 | AJ9: ='Ano 33'!$M60 -> 1.3254182 | AK9: ='Ano 34'!$M60 -> 1.3254475 | AL9: ='Ano 35'!$M60 -> 1.3254895 | AO9: ='Folha de dados'!AO11 -> 0 | AP9: Auxiliar Operacional (Laboratorista) | AQ9: ='Folha de dados'!AQ11 -> 0 | AR9: ='Folha de dados'!AR11 -> 0 | AS9: Assistente Técnico (Mecânica) | AT9: ='Folha de dados'!AT11 -> 0 | AU9: ='Folha de dados'!AU11 -> 0 | AV9: Auxiliar Operacional (Motorista classe A-D) | AW9: ='Folha de dados'!AW11 -> 0
B10: Grau de automação dos sistemas A | C10: % | D10: ='Ano 1'!M61 -> 0 | E10: ='Ano 2'!M61 -> 0.25 | F10: ='Ano 3'!M61 -> 0.5 | G10: ='Ano 4'!M61 -> 0.75 | H10: ='Ano 5'!M61 -> 1 | I10: ='Ano 6'!$M61 -> 1 | J10: ='Ano 7'!$M61 -> 1 | K10: ='Ano 8'!$M61 -> 1 | L10: ='Ano 9'!$M61 -> 1 | M10: ='Ano 10'!$M61 -> 1 | N10: ='Ano 11'!$M61 -> 1 | O10: ='Ano 12'!$M61 -> 1 | P10: ='Ano 13'!$M61 -> 1 | Q10: ='Ano 14'!$M61 -> 1 | R10: ='Ano 15'!$M61 -> 1 | S10: ='Ano 16'!$M61 -> 1 | T10: ='Ano 17'!$M61 -> 1 | U10: ='Ano 18'!$M61 -> 1 | V10: ='Ano 19'!$M61 -> 1 | W10: ='Ano 20'!$M61 -> 1 | X10: ='Ano 21'!$M61 -> 1 | Y10: ='Ano 22'!$M61 -> 1 | Z10: ='Ano 23'!$M61 -> 1 | AA10: ='Ano 24'!$M61 -> 1 | AB10: ='Ano 25'!$M61 -> 1 | AC10: ='Ano 26'!$M61 -> 1 | AD10: ='Ano 27'!$M61 -> 1 | AE10: ='Ano 28'!$M61 -> 1 | AF10: ='Ano 29'!$M61 -> 1 | AG10: ='Ano 30'!$M61 -> 1 | AH10: ='Ano 31'!$M61 -> 1 | AI10: ='Ano 32'!$M61 -> 1 | AJ10: ='Ano 33'!$M61 -> 1 | AK10: ='Ano 34'!$M61 -> 1 | AL10: ='Ano 35'!$M61 -> 1 | AO10: ='Folha de dados'!AO12 -> C | AP10: Auxiliar Operacional (Mecânico) | AQ10: ='Folha de dados'!AQ12 -> 2454.44 | AR10: ='Folha de dados'!AR12 -> C | AS10: Assistente Técnico (Quimica) | AT10: ='Folha de dados'!AT12 -> 3685.61 | AU10: ='Folha de dados'!AU12 -> B | AV10: Assistente Administrativo | AW10: ='Folha de dados'!AW12 -> 2681.22
B11: Grau de automação dos sistemas E | C11: % | D11: ='Ano 1'!M62 -> 0 | E11: ='Ano 2'!M62 -> 0.25 | F11: ='Ano 3'!M62 -> 0.5 | G11: ='Ano 4'!M62 -> 0.75 | H11: ='Ano 5'!M62 -> 1 | I11: ='Ano 6'!$M62 -> 1 | J11: ='Ano 7'!$M62 -> 1 | K11: ='Ano 8'!$M62 -> 1 | L11: ='Ano 9'!$M62 -> 1 | M11: ='Ano 10'!$M62 -> 1 | N11: ='Ano 11'!$M62 -> 1 | O11: ='Ano 12'!$M62 -> 1 | P11: ='Ano 13'!$M62 -> 1 | Q11: ='Ano 14'!$M62 -> 1 | R11: ='Ano 15'!$M62 -> 1 | S11: ='Ano 16'!$M62 -> 1 | T11: ='Ano 17'!$M62 -> 1 | U11: ='Ano 18'!$M62 -> 1 | V11: ='Ano 19'!$M62 -> 1 | W11: ='Ano 20'!$M62 -> 1 | X11: ='Ano 21'!$M62 -> 1 | Y11: ='Ano 22'!$M62 -> 1 | Z11: ='Ano 23'!$M62 -> 1 | AA11: ='Ano 24'!$M62 -> 1 | AB11: ='Ano 25'!$M62 -> 1 | AC11: ='Ano 26'!$M62 -> 1 | AD11: ='Ano 27'!$M62 -> 1 | AE11: ='Ano 28'!$M62 -> 1 | AF11: ='Ano 29'!$M62 -> 1 | AG11: ='Ano 30'!$M62 -> 1 | AH11: ='Ano 31'!$M62 -> 1 | AI11: ='Ano 32'!$M62 -> 1 | AJ11: ='Ano 33'!$M62 -> 1 | AK11: ='Ano 34'!$M62 -> 1 | AL11: ='Ano 35'!$M62 -> 1 | AO11: ='Folha de dados'!AO13 -> C | AP11: Auxiliar Operacional (Motorista classe D) | AQ11: ='Folha de dados'!AQ13 -> 2444.56 | AR11: ='Folha de dados'!AR13 -> C | AS11: Assistente Técnico (Saneamento) | AT11: ='Folha de dados'!AT13 -> 3942.95 | AU11: ='Folha de dados'!AU13 -> B | AV11: Assistente Técnico (Fiscal de Postura) | AW11: ='Folha de dados'!AW13 -> 4172.58
B12: Nº de Economias Água | C12: unid. | D12: ='Ano 1'!M63 -> 18054.533 | E12: ='Ano 2'!M63 -> 18656.474 | F12: ='Ano 3'!M63 -> 19263.513 | G12: ='Ano 4'!M63 -> 19874.064 | H12: ='Ano 5'!M63 -> 20408.878 | I12: ='Ano 6'!$M63 -> 20818.831 | J12: ='Ano 7'!$M63 -> 21223.448 | K12: ='Ano 8'!$M63 -> 21623.309 | L12: ='Ano 9'!$M63 -> 22017.016 | M12: ='Ano 10'!$M63 -> 22403.195 | N12: ='Ano 11'!$M63 -> 22785.496 | O12: ='Ano 12'!$M63 -> 23159.596 | P12: ='Ano 13'!$M63 -> 23526.195 | Q12: ='Ano 14'!$M63 -> 23887.024 | R12: ='Ano 15'!$M63 -> 24237.837 | S12: ='Ano 16'!$M63 -> 24581.417 | T12: ='Ano 17'!$M63 -> 24917.575 | U12: ='Ano 18'!$M63 -> 25246.146 | V12: ='Ano 19'!$M63 -> 25565.994 | W12: ='Ano 20'!$M63 -> 25878.007 | X12: ='Ano 21'!$M63 -> 26180.098 | Y12: ='Ano 22'!$M63 -> 26476.205 | Z12: ='Ano 23'!$M63 -> 26762.288 | AA12: ='Ano 24'!$M63 -> 27040.328 | AB12: ='Ano 25'!$M63 -> 27309.331 | AC12: ='Ano 26'!$M63 -> 27570.317 | AD12: ='Ano 27'!$M63 -> 27822.329 | AE12: ='Ano 28'!$M63 -> 28068.424 | AF12: ='Ano 29'!$M63 -> 28303.677 | AG12: ='Ano 30'!$M63 -> 28532.177 | AH12: ='Ano 31'!$M63 -> 28752.025 | AI12: ='Ano 32'!$M63 -> 28964.336 | AJ12: ='Ano 33'!$M63 -> 29169.234 | AK12: ='Ano 34'!$M63 -> 29365.853 | AL12: ='Ano 35'!$M63 -> 29555.337 | AO12: ='Folha de dados'!AO14 -> D | AP12: Auxiliar Operacional (Motorista classe E) | AQ12: ='Folha de dados'!AQ14 -> 2539.58 | AR12: ='Folha de dados'!AR14 -> C | AS12: Assistente Técnico (Topógrafo) | AT12: ='Folha de dados'!AT14 -> 4042.27 | AU12: ='Folha de dados'!AU14 -> B | AV12: Assistente Técnico (Computação/TI) | AW12: ='Folha de dados'!AW14 -> 7892.5
B13: Nº de Economias Esgoto | C13: unid. | D13: ='Ano 1'!M64 -> 0 | E13: ='Ano 2'!M64 -> 3830.8982 | F13: ='Ano 3'!M64 -> 5873.0223 | G13: ='Ano 4'!M64 -> 7997.6113 | H13: ='Ano 5'!M64 -> 10204.439 | I13: ='Ano 6'!$M64 -> 12491.299 | J13: ='Ano 7'!$M64 -> 14856.414 | K13: ='Ano 8'!$M64 -> 17298.647 | L13: ='Ano 9'!$M64 -> 19815.314 | M13: ='Ano 10'!$M64 -> 20610.939 | N13: ='Ano 11'!$M64 -> 21418.366 | O13: ='Ano 12'!$M64 -> 22233.212 | P13: ='Ano 13'!$M64 -> 23055.671 | Q13: ='Ano 14'!$M64 -> 23887.024 | R13: ='Ano 15'!$M64 -> 24237.837 | S13: ='Ano 16'!$M64 -> 24581.417 | T13: ='Ano 17'!$M64 -> 24917.575 | U13: ='Ano 18'!$M64 -> 25246.146 | V13: ='Ano 19'!$M64 -> 25565.994 | W13: ='Ano 20'!$M64 -> 25878.007 | X13: ='Ano 21'!$M64 -> 26180.098 | Y13: ='Ano 22'!$M64 -> 26476.205 | Z13: ='Ano 23'!$M64 -> 26762.288 | AA13: ='Ano 24'!$M64 -> 27040.328 | AB13: ='Ano 25'!$M64 -> 27309.331 | AC13: ='Ano 26'!$M64 -> 27570.317 | AD13: ='Ano 27'!$M64 -> 27822.329 | AE13: ='Ano 28'!$M64 -> 28068.424 | AF13: ='Ano 29'!$M64 -> 28303.677 | AG13: ='Ano 30'!$M64 -> 28532.177 | AH13: ='Ano 31'!$M64 -> 28752.025 | AI13: ='Ano 32'!$M64 -> 28964.336 | AJ13: ='Ano 33'!$M64 -> 29169.234 | AK13: ='Ano 34'!$M64 -> 29365.853 | AL13: ='Ano 35'!$M64 -> 29555.337 | AO13: ='Folha de dados'!AO15 -> E | AP13: Auxiliar Operacional (Mestre de Obras) | AQ13: ='Folha de dados'!AQ15 -> 4126.44 | AR13: ='Folha de dados'!AR15 -> B | AS13: Analista (Biólogo) | AT13: ='Folha de dados'!AT15 -> 4813.19 | AU13: ='Folha de dados'!AU15 -> C | AV13: Assistente Técnico (Contabilidade) | AW13: ='Folha de dados'!AW15 -> 4657.63
B14: Nº de Ligações A | C14: unid. | D14: ='Ano 1'!M65 -> 13647.444 | E14: ='Ano 2'!M65 -> 14101.385 | F14: ='Ano 3'!M65 -> 14558.944 | G14: ='Ano 4'!M65 -> 15018.914 | H14: ='Ano 5'!M65 -> 15421.87 | I14: ='Ano 6'!$M65 -> 15730.275 | J14: ='Ano 7'!$M65 -> 16034.858 | K14: ='Ano 8'!$M65 -> 16335.678 | L14: ='Ano 9'!$M65 -> 16631.863 | M14: ='Ano 10'!$M65 -> 16922.134 | N14: ='Ano 11'!$M65 -> 17209.979 | O14: ='Ano 12'!$M65 -> 17491.428 | P14: ='Ano 13'!$M65 -> 17767.008 | Q14: ='Ano 14'!$M65 -> 18038.517 | R14: ='Ano 15'!$M65 -> 18302.008 | S14: ='Ano 16'!$M65 -> 18560.296 | T14: ='Ano 17'!$M65 -> 18813.025 | U14: ='Ano 18'!$M65 -> 19060.083 | V14: ='Ano 19'!$M65 -> 19300.369 | W14: ='Ano 20'!$M65 -> 19534.988 | X14: ='Ano 21'!$M65 -> 19761.91 | Y14: ='Ano 22'!$M65 -> 19984.616 | Z14: ='Ano 23'!$M65 -> 20199.548 | AA14: ='Ano 24'!$M65 -> 20408.47 | AB14: ='Ano 25'!$M65 -> 20610.583 | AC14: ='Ano 26'!$M65 -> 20806.706 | AD14: ='Ano 27'!$M65 -> 20995.842 | AE14: ='Ano 28'!$M65 -> 21181.038 | AF14: ='Ano 29'!$M65 -> 21357.621 | AG14: ='Ano 30'!$M65 -> 21529.362 | AH14: ='Ano 31'!$M65 -> 21694.407 | AI14: ='Ano 32'!$M65 -> 21854.008 | AJ14: ='Ano 33'!$M65 -> 22007.844 | AK14: ='Ano 34'!$M65 -> 22155.465 | AL14: ='Ano 35'!$M65 -> 22297.717 | AO14: ='Folha de dados'!AO16 -> D | AP14: Auxiliar Operacional (Nivelador) | AQ14: ='Folha de dados'!AQ16 -> 2857.51 | AR14: ='Folha de dados'!AR16 -> C | AS14: Analista (Quimico) | AT14: ='Folha de dados'!AT16 -> 6713.01 | AU14: ='Folha de dados'!AU16 -> B | AV14: Assistente Técnico (Seg. trabalho) | AW14: ='Folha de dados'!AW16 -> 4086.16
B15: Nº de Ligações E | C15: unid. | D15: ='Ano 1'!M66 -> 0 | E15: ='Ano 2'!M66 -> 2895.5616 | F15: ='Ano 3'!M66 -> 4438.7023 | G15: ='Ano 4'!M66 -> 6043.8287 | H15: ='Ano 5'!M66 -> 7710.9352 | I15: ='Ano 6'!$M66 -> 9438.1647 | J15: ='Ano 7'!$M66 -> 11224.401 | K15: ='Ano 8'!$M66 -> 13068.542 | L15: ='Ano 9'!$M66 -> 14968.677 | M15: ='Ano 10'!$M66 -> 15568.363 | N15: ='Ano 11'!$M66 -> 16177.38 | O15: ='Ano 12'!$M66 -> 16791.77 | P15: ='Ano 13'!$M66 -> 17411.668 | Q15: ='Ano 14'!$M66 -> 18038.517 | R15: ='Ano 15'!$M66 -> 18302.008 | S15: ='Ano 16'!$M66 -> 18560.296 | T15: ='Ano 17'!$M66 -> 18813.025 | U15: ='Ano 18'!$M66 -> 19060.083 | V15: ='Ano 19'!$M66 -> 19300.369 | W15: ='Ano 20'!$M66 -> 19534.988 | X15: ='Ano 21'!$M66 -> 19761.91 | Y15: ='Ano 22'!$M66 -> 19984.616 | Z15: ='Ano 23'!$M66 -> 20199.548 | AA15: ='Ano 24'!$M66 -> 20408.47 | AB15: ='Ano 25'!$M66 -> 20610.583 | AC15: ='Ano 26'!$M66 -> 20806.706 | AD15: ='Ano 27'!$M66 -> 20995.842 | AE15: ='Ano 28'!$M66 -> 21181.038 | AF15: ='Ano 29'!$M66 -> 21357.621 | AG15: ='Ano 30'!$M66 -> 21529.362 | AH15: ='Ano 31'!$M66 -> 21694.407 | AI15: ='Ano 32'!$M66 -> 21854.008 | AJ15: ='Ano 33'!$M66 -> 22007.844 | AK15: ='Ano 34'!$M66 -> 22155.465 | AL15: ='Ano 35'!$M66 -> 22297.717 | AO15: ='Folha de dados'!AO17 -> C | AP15: Auxiliar Operacional (Operador de bombas) | AQ15: ='Folha de dados'!AQ17 -> 2270.74 | AR15: ='Folha de dados'!AR17 -> D | AS15: Analista (Eng Ambiental) | AT15: ='Folha de dados'!AT17 -> 9683.34 | AU15: ='Folha de dados'!AU17 -> C | AV15: Analista (Advogado) | AW15: ='Folha de dados'!AW17 -> 6875.48
B16: Extensão rede de água | C16: Km | D16: ='Ano 1'!M67/1000 -> 289.46229 | E16: ='Ano 2'!M67/1000 -> 299.09037 | F16: ='Ano 3'!M67/1000 -> 308.79519 | G16: ='Ano 4'!M67/1000 -> 318.55117 | H16: ='Ano 5'!M67/1000 -> 327.09787 | I16: ='Ano 6'!$M67/1000 -> 333.63912 | J16: ='Ano 7'!$M67/1000 -> 340.09935 | K16: ='Ano 8'!$M67/1000 -> 346.47973 | L16: ='Ano 9'!$M67/1000 -> 352.76182 | M16: ='Ano 10'!$M67/1000 -> 358.91847 | N16: ='Ano 11'!$M67/1000 -> 365.02364 | O16: ='Ano 12'!$M67/1000 -> 370.99318 | P16: ='Ano 13'!$M67/1000 -> 376.83824 | Q16: ='Ano 14'!$M67/1000 -> 382.59694 | R16: ='Ano 15'!$M67/1000 -> 388.18558 | S16: ='Ano 16'!$M67/1000 -> 393.66389 | T16: ='Ano 17'!$M67/1000 -> 399.02427 | U16: ='Ano 18'!$M67/1000 -> 404.26436 | V16: ='Ano 19'!$M67/1000 -> 409.36082 | W16: ='Ano 20'!$M67/1000 -> 414.3371 | X16: ='Ano 21'!$M67/1000 -> 419.15012 | Y16: ='Ano 22'!$M67/1000 -> 423.8737 | Z16: ='Ano 23'!$M67/1000 -> 428.43241 | AA16: ='Ano 24'!$M67/1000 -> 432.86364 | AB16: ='Ano 25'!$M67/1000 -> 437.15046 | AC16: ='Ano 26'!$M67/1000 -> 441.31023 | AD16: ='Ano 27'!$M67/1000 -> 445.32181 | AE16: ='Ano 28'!$M67/1000 -> 449.24983 | AF16: ='Ano 29'!$M67/1000 -> 452.99515 | AG16: ='Ano 30'!$M67/1000 -> 456.63778 | AH16: ='Ano 31'!$M67/1000 -> 460.13837 | AI16: ='Ano 32'!$M67/1000 -> 463.5235 | AJ16: ='Ano 33'!$M67/1000 -> 466.78637 | AK16: ='Ano 34'!$M67/1000 -> 469.91741 | AL16: ='Ano 35'!$M67/1000 -> 472.93458 | AO16: ='Folha de dados'!AO18 -> C | AP16: Auxiliar Operacional (Operador de ETA) | AQ16: ='Folha de dados'!AQ18 -> 2270.74 | AR16: ='Folha de dados'!AR18 -> D | AS16: Analista (Eng Civil ) | AT16: ='Folha de dados'!AT18 -> 11356.16 | AU16: ='Folha de dados'!AU18 -> C | AV16: Analista (Administração/Ecomonia) | AW16: ='Folha de dados'!AW18 -> 6500.17
B17: Extensão rede de esgoto | C17: Km | D17: ='Ano 1'!M68/1000 -> 0 | E17: ='Ano 2'!M68/1000 -> 61.414861 | F17: ='Ano 3'!M68/1000 -> 94.144876 | G17: ='Ano 4'!M68/1000 -> 128.18961 | H17: ='Ano 5'!M68/1000 -> 163.54894 | I17: ='Ano 6'!$M68/1000 -> 200.18347 | J17: ='Ano 7'!$M68/1000 -> 238.06954 | K17: ='Ano 8'!$M68/1000 -> 277.18379 | L17: ='Ano 9'!$M68/1000 -> 317.48564 | M17: ='Ano 10'!$M68/1000 -> 330.20499 | N17: ='Ano 11'!$M68/1000 -> 343.12223 | O17: ='Ano 12'!$M68/1000 -> 356.15345 | P17: ='Ano 13'!$M68/1000 -> 369.30148 | Q17: ='Ano 14'!$M68/1000 -> 382.59694 | R17: ='Ano 15'!$M68/1000 -> 388.18558 | S17: ='Ano 16'!$M68/1000 -> 393.66389 | T17: ='Ano 17'!$M68/1000 -> 399.02427 | U17: ='Ano 18'!$M68/1000 -> 404.26436 | V17: ='Ano 19'!$M68/1000 -> 409.36082 | W17: ='Ano 20'!$M68/1000 -> 414.3371 | X17: ='Ano 21'!$M68/1000 -> 419.15012 | Y17: ='Ano 22'!$M68/1000 -> 423.8737 | Z17: ='Ano 23'!$M68/1000 -> 428.43241 | AA17: ='Ano 24'!$M68/1000 -> 432.86364 | AB17: ='Ano 25'!$M68/1000 -> 437.15046 | AC17: ='Ano 26'!$M68/1000 -> 441.31023 | AD17: ='Ano 27'!$M68/1000 -> 445.32181 | AE17: ='Ano 28'!$M68/1000 -> 449.24983 | AF17: ='Ano 29'!$M68/1000 -> 452.99515 | AG17: ='Ano 30'!$M68/1000 -> 456.63778 | AH17: ='Ano 31'!$M68/1000 -> 460.13837 | AI17: ='Ano 32'!$M68/1000 -> 463.5235 | AJ17: ='Ano 33'!$M68/1000 -> 466.78637 | AK17: ='Ano 34'!$M68/1000 -> 469.91741 | AL17: ='Ano 35'!$M68/1000 -> 472.93458 | AO17: ='Folha de dados'!AO19 -> C | AP17: Auxiliar Operacional (Operador de ETE) | AQ17: ='Folha de dados'!AQ19 -> 2270.74 | AR17: ='Folha de dados'!AR19 -> D | AS17: Analista (Eng Cartografia) | AT17: ='Folha de dados'!AT19 -> 7879.82 | AU17: ='Folha de dados'!AU19 -> A | AV17: Analista (Assistente Social) | AW17: ='Folha de dados'!AW19 -> 3989.87
B18: Nº de Func. da Manutenção A+E | C18: unid. | D18: ='Ano 1'!M69 -> 15 | E18: ='Ano 2'!M69 -> 15 | F18: ='Ano 3'!M69 -> 19 | G18: ='Ano 4'!M69 -> 20 | H18: ='Ano 5'!M69 -> 23 | I18: ='Ano 6'!$M69 -> 23 | J18: ='Ano 7'!$M69 -> 24 | K18: ='Ano 8'!$M69 -> 25 | L18: ='Ano 9'!$M69 -> 27 | M18: ='Ano 10'!$M69 -> 27 | N18: ='Ano 11'!$M69 -> 27 | O18: ='Ano 12'!$M69 -> 27 | P18: ='Ano 13'!$M69 -> 28 | Q18: ='Ano 14'!$M69 -> 28 | R18: ='Ano 15'!$M69 -> 28 | S18: ='Ano 16'!$M69 -> 28 | T18: ='Ano 17'!$M69 -> 33 | U18: ='Ano 18'!$M69 -> 33 | V18: ='Ano 19'!$M69 -> 35 | W18: ='Ano 20'!$M69 -> 35 | X18: ='Ano 21'!$M69 -> 35 | Y18: ='Ano 22'!$M69 -> 36 | Z18: ='Ano 23'!$M69 -> 36 | AA18: ='Ano 24'!$M69 -> 36 | AB18: ='Ano 25'!$M69 -> 36 | AC18: ='Ano 26'!$M69 -> 36 | AD18: ='Ano 27'!$M69 -> 36 | AE18: ='Ano 28'!$M69 -> 36 | AF18: ='Ano 29'!$M69 -> 41 | AG18: ='Ano 30'!$M69 -> 41 | AH18: ='Ano 31'!$M69 -> 41 | AI18: ='Ano 32'!$M69 -> 41 | AJ18: ='Ano 33'!$M69 -> 41 | AK18: ='Ano 34'!$M69 -> 41 | AL18: ='Ano 35'!$M69 -> 41 | AO18: ='Folha de dados'!AO21 -> C | AP18: Auxiliar Operacional (Oper de microsistemas) | AQ18: ='Folha de dados'!AQ21 -> 2270.74 | AR18: ='Folha de dados'!AR21 -> D | AS18: Analista (Eng de Automação/Mecatrônica) | AT18: ='Folha de dados'!AT21 -> 11550.24 | AU18: ='Folha de dados'!AU21 -> D | AV18: Analista (Eng Computação/Sistemas/TI) | AW18: ='Folha de dados'!AW21 -> 9147.26
B19: Nº de Func. da Operação A+E | C19: unid. | D19: ='Ano 1'!M70 -> 10 | E19: ='Ano 2'!M70 -> 13 | F19: ='Ano 3'!M70 -> 14 | G19: ='Ano 4'!M70 -> 12 | H19: ='Ano 5'!M70 -> 10 | I19: ='Ano 6'!$M70 -> 10 | J19: ='Ano 7'!$M70 -> 10 | K19: ='Ano 8'!$M70 -> 13 | L19: ='Ano 9'!$M70 -> 13 | M19: ='Ano 10'!$M70 -> 13 | N19: ='Ano 11'!$M70 -> 13 | O19: ='Ano 12'!$M70 -> 13 | P19: ='Ano 13'!$M70 -> 13 | Q19: ='Ano 14'!$M70 -> 13 | R19: ='Ano 15'!$M70 -> 13 | S19: ='Ano 16'!$M70 -> 13 | T19: ='Ano 17'!$M70 -> 20 | U19: ='Ano 18'!$M70 -> 20 | V19: ='Ano 19'!$M70 -> 20 | W19: ='Ano 20'!$M70 -> 20 | X19: ='Ano 21'!$M70 -> 20 | Y19: ='Ano 22'!$M70 -> 20 | Z19: ='Ano 23'!$M70 -> 20 | AA19: ='Ano 24'!$M70 -> 20 | AB19: ='Ano 25'!$M70 -> 20 | AC19: ='Ano 26'!$M70 -> 20 | AD19: ='Ano 27'!$M70 -> 20 | AE19: ='Ano 28'!$M70 -> 20 | AF19: ='Ano 29'!$M70 -> 20 | AG19: ='Ano 30'!$M70 -> 20 | AH19: ='Ano 31'!$M70 -> 20 | AI19: ='Ano 32'!$M70 -> 20 | AJ19: ='Ano 33'!$M70 -> 20 | AK19: ='Ano 34'!$M70 -> 20 | AL19: ='Ano 35'!$M70 -> 20 | AO19: ='Folha de dados'!AO22 -> B | AP19: Auxiliar Operacional (Pedreiro) | AQ19: ='Folha de dados'!AQ22 -> 2306.95 | AR19: ='Folha de dados'!AR22 -> D | AS19: Analista (Eng Eletricista) | AT19: ='Folha de dados'!AT22 -> 11205.77 | AU19: ='Folha de dados'!AU22 -> C | AV19: Analista (Contador) | AW19: ='Folha de dados'!AW22 -> 6337.04
B20: Nº de Func. do Planejamento | C20: unid. | D20: ='Ano 1'!M71 -> 1 | E20: ='Ano 2'!M71 -> 1 | F20: ='Ano 3'!M71 -> 1 | G20: ='Ano 4'!M71 -> 1 | H20: ='Ano 5'!M71 -> 1 | I20: ='Ano 6'!$M71 -> 1 | J20: ='Ano 7'!$M71 -> 1 | K20: ='Ano 8'!$M71 -> 1 | L20: ='Ano 9'!$M71 -> 1 | M20: ='Ano 10'!$M71 -> 1 | N20: ='Ano 11'!$M71 -> 1 | O20: ='Ano 12'!$M71 -> 1 | P20: ='Ano 13'!$M71 -> 1 | Q20: ='Ano 14'!$M71 -> 1 | R20: ='Ano 15'!$M71 -> 1 | S20: ='Ano 16'!$M71 -> 1 | T20: ='Ano 17'!$M71 -> 1 | U20: ='Ano 18'!$M71 -> 1 | V20: ='Ano 19'!$M71 -> 1 | W20: ='Ano 20'!$M71 -> 1 | X20: ='Ano 21'!$M71 -> 1 | Y20: ='Ano 22'!$M71 -> 1 | Z20: ='Ano 23'!$M71 -> 1 | AA20: ='Ano 24'!$M71 -> 1 | AB20: ='Ano 25'!$M71 -> 1 | AC20: ='Ano 26'!$M71 -> 1 | AD20: ='Ano 27'!$M71 -> 1 | AE20: ='Ano 28'!$M71 -> 1 | AF20: ='Ano 29'!$M71 -> 1 | AG20: ='Ano 30'!$M71 -> 1 | AH20: ='Ano 31'!$M71 -> 1 | AI20: ='Ano 32'!$M71 -> 1 | AJ20: ='Ano 33'!$M71 -> 1 | AK20: ='Ano 34'!$M71 -> 1 | AL20: ='Ano 35'!$M71 -> 1 | AO20: ='Folha de dados'!AO23 -> A | AP20: Auxiliar Operacional (Servente/Ajudante) | AQ20: ='Folha de dados'!AQ23 -> 1712.93 | AR20: ='Folha de dados'!AR23 -> D | AS20: Analista (Eng Mecânico) | AT20: ='Folha de dados'!AT23 -> 9799.94 | AU20: ='Folha de dados'!AU23 -> D | AV20: Analista (Eng Segurança do Trab.) | AW20: ='Folha de dados'!AW23 -> 9138.48
B21: Nº de Func. do Comercial | C21: unid. | D21: ='Ano 1'!M72 -> 8 | E21: ='Ano 2'!M72 -> 8 | F21: ='Ano 3'!M72 -> 8 | G21: ='Ano 4'!M72 -> 8 | H21: ='Ano 5'!M72 -> 8 | I21: ='Ano 6'!$M72 -> 8 | J21: ='Ano 7'!$M72 -> 9 | K21: ='Ano 8'!$M72 -> 10 | L21: ='Ano 9'!$M72 -> 10 | M21: ='Ano 10'!$M72 -> 10 | N21: ='Ano 11'!$M72 -> 10 | O21: ='Ano 12'!$M72 -> 10 | P21: ='Ano 13'!$M72 -> 10 | Q21: ='Ano 14'!$M72 -> 10 | R21: ='Ano 15'!$M72 -> 10 | S21: ='Ano 16'!$M72 -> 10 | T21: ='Ano 17'!$M72 -> 12 | U21: ='Ano 18'!$M72 -> 12 | V21: ='Ano 19'!$M72 -> 12 | W21: ='Ano 20'!$M72 -> 12 | X21: ='Ano 21'!$M72 -> 12 | Y21: ='Ano 22'!$M72 -> 12 | Z21: ='Ano 23'!$M72 -> 13 | AA21: ='Ano 24'!$M72 -> 13 | AB21: ='Ano 25'!$M72 -> 13 | AC21: ='Ano 26'!$M72 -> 13 | AD21: ='Ano 27'!$M72 -> 13 | AE21: ='Ano 28'!$M72 -> 13 | AF21: ='Ano 29'!$M72 -> 13 | AG21: ='Ano 30'!$M72 -> 13 | AH21: ='Ano 31'!$M72 -> 13 | AI21: ='Ano 32'!$M72 -> 13 | AJ21: ='Ano 33'!$M72 -> 13 | AK21: ='Ano 34'!$M72 -> 13 | AL21: ='Ano 35'!$M72 -> 13 | AO21: ='Folha de dados'!AO24 -> D | AP21: Auxiliar Operacional (Soldador) | AQ21: ='Folha de dados'!AQ24 -> 3016.31 | AR21: ='Folha de dados'!AR24 -> D | AS21: Analista (Eng Quimico) | AT21: ='Folha de dados'!AT24 -> 9768.34 | AU21: ='Folha de dados'!AU24 -> C | AV21: Analista (Jornalista) | AW21: ='Folha de dados'!AW24 -> 5318
B22: Nº de Func. da Administração | C22: unid. | D22: ='Ano 1'!M73 -> 6 | E22: ='Ano 2'!M73 -> 7 | F22: ='Ano 3'!M73 -> 7 | G22: ='Ano 4'!M73 -> 9 | H22: ='Ano 5'!M73 -> 9 | I22: ='Ano 6'!$M73 -> 11 | J22: ='Ano 7'!$M73 -> 11 | K22: ='Ano 8'!$M73 -> 11 | L22: ='Ano 9'!$M73 -> 11 | M22: ='Ano 10'!$M73 -> 11 | N22: ='Ano 11'!$M73 -> 11 | O22: ='Ano 12'!$M73 -> 13 | P22: ='Ano 13'!$M73 -> 14 | Q22: ='Ano 14'!$M73 -> 14 | R22: ='Ano 15'!$M73 -> 14 | S22: ='Ano 16'!$M73 -> 14 | T22: ='Ano 17'!$M73 -> 14 | U22: ='Ano 18'!$M73 -> 14 | V22: ='Ano 19'!$M73 -> 14 | W22: ='Ano 20'!$M73 -> 14 | X22: ='Ano 21'!$M73 -> 14 | Y22: ='Ano 22'!$M73 -> 14 | Z22: ='Ano 23'!$M73 -> 14 | AA22: ='Ano 24'!$M73 -> 14 | AB22: ='Ano 25'!$M73 -> 14 | AC22: ='Ano 26'!$M73 -> 14 | AD22: ='Ano 27'!$M73 -> 14 | AE22: ='Ano 28'!$M73 -> 14 | AF22: ='Ano 29'!$M73 -> 14 | AG22: ='Ano 30'!$M73 -> 14 | AH22: ='Ano 31'!$M73 -> 14 | AI22: ='Ano 32'!$M73 -> 14 | AJ22: ='Ano 33'!$M73 -> 14 | AK22: ='Ano 34'!$M73 -> 14 | AL22: ='Ano 35'!$M73 -> 14 | AO22: ='Folha de dados'!AO25 -> D | AP22: Auxiliar Operacional (Serralheiro) | AQ22: ='Folha de dados'!AQ25 -> 2689.5 | AR22: ='Folha de dados'!AR25 -> D | AS22: Analista (Eng Sanitarista) | AT22: ='Folha de dados'!AT25 -> 11353.37 | AU22: ='Folha de dados'!AU25 -> B | AV22: Analista (Psicológo) | AW22: ='Folha de dados'!AW25 -> 4397.28
B23: Nº de Func Cargos Tático | C23: unid. | D23: ='Ano 1'!M74 -> 3 | E23: ='Ano 2'!M74 -> 3 | F23: ='Ano 3'!M74 -> 3 | G23: ='Ano 4'!M74 -> 3 | H23: ='Ano 5'!M74 -> 3 | I23: ='Ano 6'!$M74 -> 3 | J23: ='Ano 7'!$M74 -> 3 | K23: ='Ano 8'!$M74 -> 3 | L23: ='Ano 9'!$M74 -> 3 | M23: ='Ano 10'!$M74 -> 3 | N23: ='Ano 11'!$M74 -> 3 | O23: ='Ano 12'!$M74 -> 3 | P23: ='Ano 13'!$M74 -> 3 | Q23: ='Ano 14'!$M74 -> 3 | R23: ='Ano 15'!$M74 -> 3 | S23: ='Ano 16'!$M74 -> 3 | T23: ='Ano 17'!$M74 -> 3 | U23: ='Ano 18'!$M74 -> 3 | V23: ='Ano 19'!$M74 -> 3 | W23: ='Ano 20'!$M74 -> 3 | X23: ='Ano 21'!$M74 -> 3 | Y23: ='Ano 22'!$M74 -> 3 | Z23: ='Ano 23'!$M74 -> 3 | AA23: ='Ano 24'!$M74 -> 3 | AB23: ='Ano 25'!$M74 -> 3 | AC23: ='Ano 26'!$M74 -> 3 | AD23: ='Ano 27'!$M74 -> 3 | AE23: ='Ano 28'!$M74 -> 3 | AF23: ='Ano 29'!$M74 -> 3 | AG23: ='Ano 30'!$M74 -> 3 | AH23: ='Ano 31'!$M74 -> 3 | AI23: ='Ano 32'!$M74 -> 3 | AJ23: ='Ano 33'!$M74 -> 3 | AK23: ='Ano 34'!$M74 -> 3 | AL23: ='Ano 35'!$M74 -> 3 | AO23: ='Folha de dados'!AO26 -> C | AP23: Assistente Técnico (Bioquimica) | AQ23: ='Folha de dados'!AQ26 -> 2441.05 | AR23: ='Folha de dados'!AR26 -> D | AS23: Analista (Geólogo) | AT23: ='Folha de dados'!AT26 -> 9809.1 | AU23: ='Folha de dados'!AU26 -> C | AV23: Analista (Secretária) | AW23: ='Folha de dados'!AW26 -> 3469.15
B24: Nº de Func Cargos Executivo | C24: unid. | D24: ='Ano 1'!M75 -> 1 | E24: ='Ano 2'!M75 -> 1 | F24: ='Ano 3'!M75 -> 1 | G24: ='Ano 4'!M75 -> 1 | H24: ='Ano 5'!M75 -> 1 | I24: ='Ano 6'!$M75 -> 1 | J24: ='Ano 7'!$M75 -> 1 | K24: ='Ano 8'!$M75 -> 1 | L24: ='Ano 9'!$M75 -> 1 | M24: ='Ano 10'!$M75 -> 1 | N24: ='Ano 11'!$M75 -> 1 | O24: ='Ano 12'!$M75 -> 1 | P24: ='Ano 13'!$M75 -> 1 | Q24: ='Ano 14'!$M75 -> 1 | R24: ='Ano 15'!$M75 -> 1 | S24: ='Ano 16'!$M75 -> 1 | T24: ='Ano 17'!$M75 -> 1 | U24: ='Ano 18'!$M75 -> 1 | V24: ='Ano 19'!$M75 -> 1 | W24: ='Ano 20'!$M75 -> 1 | X24: ='Ano 21'!$M75 -> 1 | Y24: ='Ano 22'!$M75 -> 1 | Z24: ='Ano 23'!$M75 -> 1 | AA24: ='Ano 24'!$M75 -> 1 | AB24: ='Ano 25'!$M75 -> 1 | AC24: ='Ano 26'!$M75 -> 1 | AD24: ='Ano 27'!$M75 -> 1 | AE24: ='Ano 28'!$M75 -> 1 | AF24: ='Ano 29'!$M75 -> 1 | AG24: ='Ano 30'!$M75 -> 1 | AH24: ='Ano 31'!$M75 -> 1 | AI24: ='Ano 32'!$M75 -> 1 | AJ24: ='Ano 33'!$M75 -> 1 | AK24: ='Ano 34'!$M75 -> 1 | AL24: ='Ano 35'!$M75 -> 1
B25: Nº Total de Funcionários | C25: unid. | D25: ='Ano 1'!M76 -> 44 | E25: ='Ano 2'!M76 -> 48 | F25: ='Ano 3'!M76 -> 53 | G25: ='Ano 4'!M76 -> 54 | H25: ='Ano 5'!M76 -> 55 | I25: ='Ano 6'!$M76 -> 57 | J25: ='Ano 7'!$M76 -> 59 | K25: ='Ano 8'!$M76 -> 64 | L25: ='Ano 9'!$M76 -> 66 | M25: ='Ano 10'!$M76 -> 66 | N25: ='Ano 11'!$M76 -> 66 | O25: ='Ano 12'!$M76 -> 68 | P25: ='Ano 13'!$M76 -> 70 | Q25: ='Ano 14'!$M76 -> 70 | R25: ='Ano 15'!$M76 -> 70 | S25: ='Ano 16'!$M76 -> 70 | T25: ='Ano 17'!$M76 -> 84 | U25: ='Ano 18'!$M76 -> 84 | V25: ='Ano 19'!$M76 -> 86 | W25: ='Ano 20'!$M76 -> 86 | X25: ='Ano 21'!$M76 -> 86 | Y25: ='Ano 22'!$M76 -> 87 | Z25: ='Ano 23'!$M76 -> 88 | AA25: ='Ano 24'!$M76 -> 88 | AB25: ='Ano 25'!$M76 -> 88 | AC25: ='Ano 26'!$M76 -> 88 | AD25: ='Ano 27'!$M76 -> 88 | AE25: ='Ano 28'!$M76 -> 88 | AF25: ='Ano 29'!$M76 -> 93 | AG25: ='Ano 30'!$M76 -> 93 | AH25: ='Ano 31'!$M76 -> 93 | AI25: ='Ano 32'!$M76 -> 93 | AJ25: ='Ano 33'!$M76 -> 93 | AK25: ='Ano 34'!$M76 -> 93 | AL25: ='Ano 35'!$M76 -> 93
B26: Nº Ligações A+E por funcionário | C26: Lig/func | D26: ='Ano 1'!M77 -> 310 | E26: ='Ano 2'!M77 -> 354 | F26: ='Ano 3'!M77 -> 358 | G26: ='Ano 4'!M77 -> 390 | H26: ='Ano 5'!M77 -> 421 | I26: ='Ano 6'!$M77 -> 442 | J26: ='Ano 7'!$M77 -> 462 | K26: ='Ano 8'!$M77 -> 459 | L26: ='Ano 9'!$M77 -> 479 | M26: ='Ano 10'!$M77 -> 492 | N26: ='Ano 11'!$M77 -> 506 | O26: ='Ano 12'!$M77 -> 504 | P26: ='Ano 13'!$M77 -> 503 | Q26: ='Ano 14'!$M77 -> 515 | R26: ='Ano 15'!$M77 -> 523 | S26: ='Ano 16'!$M77 -> 530 | T26: ='Ano 17'!$M77 -> 448 | U26: ='Ano 18'!$M77 -> 454 | V26: ='Ano 19'!$M77 -> 449 | W26: ='Ano 20'!$M77 -> 454 | X26: ='Ano 21'!$M77 -> 460 | Y26: ='Ano 22'!$M77 -> 459 | Z26: ='Ano 23'!$M77 -> 459 | AA26: ='Ano 24'!$M77 -> 464 | AB26: ='Ano 25'!$M77 -> 468 | AC26: ='Ano 26'!$M77 -> 473 | AD26: ='Ano 27'!$M77 -> 477 | AE26: ='Ano 28'!$M77 -> 481 | AF26: ='Ano 29'!$M77 -> 459 | AG26: ='Ano 30'!$M77 -> 463 | AH26: ='Ano 31'!$M77 -> 467 | AI26: ='Ano 32'!$M77 -> 470 | AJ26: ='Ano 33'!$M77 -> 473 | AK26: ='Ano 34'!$M77 -> 476 | AL26: ='Ano 35'!$M77 -> 480 | AO26: Remuneração dos Cargos Táticos, Executivos e Funções Gratificadas
B27: Folha de pagamento sem encargos anual | C27: R$ | D27: ='Ano 1'!R70 -> 1865731.4 | E27: ='Ano 2'!R70 -> 1984578.4 | F27: ='Ano 3'!R70 -> 2082390.9 | G27: ='Ano 4'!R70 -> 2055576.5 | H27: ='Ano 5'!R70 -> 2108986 | I27: ='Ano 6'!R70 -> 2190194.6 | J27: ='Ano 7'!R70 -> 2210749.7 | K27: ='Ano 8'!R70 -> 2313604.4 | L27: ='Ano 9'!R70 -> 2361842.9 | M27: ='Ano 10'!R70 -> 2361842.9 | N27: ='Ano 11'!$R70 -> 2361842.9 | O27: ='Ano 12'!$R70 -> 2361842.9 | P27: ='Ano 13'!$R70 -> 2414572.7 | Q27: ='Ano 14'!$R70 -> 2414572.7 | R27: ='Ano 15'!$R70 -> 2414572.7 | S27: ='Ano 16'!$R70 -> 2414572.7 | T27: ='Ano 17'!$R70 -> 2754881.8 | U27: ='Ano 18'!$R70 -> 2754881.8 | V27: ='Ano 19'!$R70 -> 2825620.4 | W27: ='Ano 20'!R70 -> 2825620.4 | X27: ='Ano 21'!$R70 -> 2825620.4 | Y27: ='Ano 22'!$R70 -> 2825620.4 | Z27: ='Ano 23'!$R70 -> 2875691.3 | AA27: ='Ano 24'!$R70 -> 2875691.3 | AB27: ='Ano 25'!$R70 -> 2875691.3 | AC27: ='Ano 26'!$R70 -> 2875691.3 | AD27: ='Ano 27'!$R70 -> 2875691.3 | AE27: ='Ano 28'!$R70 -> 2875691.3 | AF27: ='Ano 29'!$R70 -> 2992399.6 | AG27: ='Ano 30'!$R70 -> 2992399.6 | AH27: ='Ano 31'!$R70 -> 2992399.6 | AI27: ='Ano 32'!$R70 -> 2992399.6 | AJ27: ='Ano 33'!$R70 -> 2992399.6 | AK27: ='Ano 34'!$R70 -> 2992399.6 | AL27: ='Ano 35'!$R70 -> 2992399.6 | AM27: =SUM(D27:AL27) -> 90930665 | AN27: =AM27/AM29 -> 0.47305333 | AO27: Item | AP27: Descrição | AQ27: Valor | AR27: Item | AS27: Descrição | AT27: Valor | AU27: Item | AV27: Descrição | AW27: Valor
