Workbook

Sheet Folha de dados
B1: Dados de entrada | BA1: Indice de Reajuste = | BD1: 1.0974
B3: PRINCIPAIS RESULTADOS DO PROJETO | C3: Unid. | D3: Ano | AO3: Remuneração Média dos Cargos do Quadro Permanente | AZ3: Remuneração Média dos Cargos do Quadro Permanente
D4: 1 | E4: 2 | F4: 3 | G4: 4 | H4: 5 | I4: 6 | J4: 7 | K4: 8 | L4: 9 | M4: 10 | N4: 11 | O4: 12 | P4: 13 | Q4: 14 | R4: 15 | S4: 16 | T4: 17 | U4: 18 | V4: 19 | W4: 20 | X4: 21 | Y4: 22 | Z4: 23 | AA4: 24 | AB4: 25 | AC4: 26 | AD4: 27 | AE4: 28 | AF4: 29 | AG4: 30 | AH4: 31 | AI4: 32 | AJ4: 33 | AK4: 34 | AL4: 35 | AO4: Área técnica - Atividade-fim | AT4: Área Administrativa - Atividade-meio | AZ4: Área técnica - Atividade-fim | BE4: Área Administrativa - Atividade-meio
B5: Tipo de Operador : Público (0) ou SEM/Empresa Privada (1) | D5: 1
B6: População Atendida Água | C6: hab. | D6: 43795 | E6: 44815 | F6: 45828 | G6: 46834 | H6: 47641 | I6: 48147 | J6: 48635 | K6: 49105 | L6: 49558 | M6: 49993 | N6: 50412 | O6: 50814 | P6: 51200 | Q6: 51570 | R6: 51925 | S6: 52265 | T6: 52590 | U6: 52902 | V6: 53200 | W6: 53485 | X6: 53758 | Y6: 54018 | Z6: 54266 | AA6: 54503 | AB6: 54730 | AC6: 54945 | AD6: 55151 | AE6: 55347 | AF6: 55534 | AG6: 55712 | AH6: 55881 | AI6: 56042 | AJ6: 56196 | AK6: 56342 | AL6: 56480 | AO6: Classe | AP6: Descrição | AQ6: Valor | AR6: Classe | AS6: Descrição | AT6: Valor | AU6: Classe | AV6: Descrição | AW6: Valor | AZ6: Classe | BA6: Descrição | BB6: Valor | BC6: Classe | BD6: Descrição | BE6: Valor | BF6: Classe | BG6: Descrição | BH6: Valor
B7: População Atendida Esgoto | C7: hab. | D7: 0 | E7: 9202 | F7: 13972 | G7: 18847 | H7: 23821 | I7: 28888 | J7: 34045 | K7: 39284 | L7: 44602 | M7: 45994 | N7: 47387 | O7: 48781 | P7: 50176 | Q7: 51570 | R7: 51925 | S7: 52265 | T7: 52590 | U7: 52902 | V7: 53200 | W7: 53485 | X7: 53758 | Y7: 54018 | Z7: 54266 | AA7: 54503 | AB7: 54730 | AC7: 54945 | AD7: 55151 | AE7: 55347 | AF7: 55534 | AG7: 55712 | AH7: 55881 | AI7: 56042 | AJ7: 56196 | AK7: 56342 | AL7: 56480 | AO7: C | AP7: Auxiliar Operacional (Calceteiro/Pedreiro) | AQ7: =TRUNC(BB7*$BD$1,2) -> 2280.28 | AR7: C | AS7: Assistente Técnico (Desenhista) | AT7: =TRUNC(BE7*$BD$1,2) -> 3797.55 | AU7: B | AV7: Auxiliar Administrativo (Call Center) | AW7: =TRUNC(BH7*$BD$1,2) -> 1876.82 | AZ7: C | BA7: Auxiliar Operacional (Calceteiro/Pedreiro) | BB7: 2077.9 | BC7: C | BD7: Assistente Técnico (Desenhista) | BE7: 3460.5 | BF7: B | BG7: Auxiliar Administrativo (Call Center) | BH7: 1710.25
B8: Testada média (m) | D8: 21.21 | E8: 21.21 | F8: 21.21 | G8: 21.21 | H8: 21.21 | I8: 21.21 | J8: 21.21 | K8: 21.21 | L8: 21.21 | M8: 21.21 | N8: 21.21 | O8: 21.21 | P8: 21.21 | Q8: 21.21 | R8: 21.21 | S8: 21.21 | T8: 21.21 | U8: 21.21 | V8: 21.21 | W8: 21.21 | X8: 21.21 | Y8: 21.21 | Z8: 21.21 | AA8: 21.21 | AB8: 21.21 | AC8: 21.21 | AD8: 21.21 | AE8: 21.21 | AF8: 21.21 | AG8: 21.21 | AH8: 21.21 | AI8: 21.21 | AJ8: 21.21 | AK8: 21.21 | AL8: 21.21
B9: Testada média (m) | D9: 0 | E9: 21.21 | F9: 21.21 | G9: 21.21 | H9: 21.21 | I9: 21.21 | J9: 21.21 | K9: 21.21 | L9: 21.21 | M9: 21.21 | N9: 21.21 | O9: 21.21 | P9: 21.21 | Q9: 21.21 | R9: 21.21 | S9: 21.21 | T9: 21.21 | U9: 21.21 | V9: 21.21 | W9: 21.21 | X9: 21.21 | Y9: 21.21 | Z9: 21.21 | AA9: 21.21 | AB9: 21.21 | AC9: 21.21 | AD9: 21.21 | AE9: 21.21 | AF9: 21.21 | AG9: 21.21 | AH9: 21.21 | AI9: 21.21 | AJ9: 21.21 | AK9: 21.21 | AL9: 21.21
B10: Rel. Economias A/Ligação A | D10: 1.3229241 | E10: 1.3230226 | F10: 1.3231378 | G10: 1.323246 | H10: 1.3233499 | I10: 1.323466 | J10: 1.3235788 | K10: 1.3236845 | L10: 1.3237838 | M10: 1.3238783 | N10: 1.3239686 | O10: 1.3240526 | P10: 1.3241492 | Q10: 1.3242233 | R10: 1.3243267 | S10: 1.3244073 | T10: 1.3244667 | U10: 1.3245383 | V10: 1.3246224 | W10: 1.3247004 | X10: 1.3247744 | Y10: 1.3248293 | Z10: 1.3248954 | AA10: 1.3249575 | AB10: 1.325015 | AC10: 1.3250857 | AD10: 1.3251364 | AE10: 1.3251687 | AF10: 1.3252273 | AG10: 1.3252837 | AH10: 1.3253221 | AI10: 1.3253704 | AJ10: 1.3254182 | AK10: 1.3254475 | AL10: 1.3254895
B11: Rel. Economias E/Ligação E | D11: 0 | E11: 1.3230226 | F11: 1.3231378 | G11: 1.323246 | H11: 1.3233499 | I11: 1.323466 | J11: 1.3235788 | K11: 1.3236845 | L11: 1.3237838 | M11: 1.3238783 | N11: 1.3239686 | O11: 1.3240526 | P11: 1.3241492 | Q11: 1.3242233 | R11: 1.3243267 | S11: 1.3244073 | T11: 1.3244667 | U11: 1.3245383 | V11: 1.3246224 | W11: 1.3247004 | X11: 1.3247744 | Y11: 1.3248293 | Z11: 1.3248954 | AA11: 1.3249575 | AB11: 1.325015 | AC11: 1.3250857 | AD11: 1.3251364 | AE11: 1.3251687 | AF11: 1.3252273 | AG11: 1.3252837 | AH11: 1.3253221 | AI11: 1.3253704 | AJ11: 1.3254182 | AK11: 1.3254475 | AL11: 1.3254895
B12: Grau de automação dos sistemas A | C12: % | D12: 0 | E12: 0.25 | F12: 0.5 | G12: 0.75 | H12: 1 | I12: 1 | J12: 1 | K12: 1 | L12: 1 | M12: 1 | N12: 1 | O12: 1 | P12: 1 | Q12: 1 | R12: 1 | S12: 1 | T12: 1 | U12: 1 | V12: 1 | W12: 1 | X12: 1 | Y12: 1 | Z12: 1 | AA12: 1 | AB12: 1 | AC12: 1 | AD12: 1 | AE12: 1 | AF12: 1 | AG12: 1 | AH12: 1 | AI12: 1 | AJ12: 1 | AK12: 1 | AL12: 1 | AO12: C | AP12: Auxiliar Operacional (Mecânico) | AQ12: =TRUNC(BB12*$BD$1,2) -> 2454.44 | AR12: C | AS12: Assistente Técnico (Quimica) | AT12: =TRUNC(BE12*$BD$1,2) -> 3685.61 | AU12: B | AV12: Assistente Administrativo | AW12: =TRUNC(BH12*$BD$1,2) -> 2681.22 | AZ12: C | BA12: Auxiliar Operacional (Mecânico) | BB12: 2236.6 | BC12: C | BD12: Assistente Técnico (Quimica) | BE12: 3358.5 | BF12: B | BG12: Assistente Administrativo | BH12: 2443.25
B13: Grau de automação dos sistemas E | C13: % | D13: 0 | E13: 0.25 | F13: 0.5 | G13: 0.75 | H13: 1 | I13: 1 | J13: 1 | K13: 1 | L13: 1 | M13: 1 | N13: 1 | O13: 1 | P13: 1 | Q13: 1 | R13: 1 | S13: 1 | T13: 1 | U13: 1 | V13: 1 | W13: 1 | X13: 1 | Y13: 1 | Z13: 1 | AA13: 1 | AB13: 1 | AC13: 1 | AD13: 1 | AE13: 1 | AF13: 1 | AG13: 1 | AH13: 1 | AI13: 1 | AJ13: 1 | AK13: 1 | AL13: 1 | AO13: C | AP13: Auxiliar Operacional (Motorista classe D) | AQ13: =TRUNC(BB13*$BD$1,2) -> 2444.56 | AR13: C | AS13: Assistente Técnico (Saneamento) | AT13: =TRUNC(BE13*$BD$1,2) -> 3942.95 | AU13: B | AV13: Assistente Técnico (Fiscal de Postura) | AW13: =TRUNC(BH13*$BD$1,2) -> 4172.58 | AZ13: C | BA13: Auxiliar Operacional (Motorista classe D) | BB13: 2227.6 | BC13: C | BD13: Assistente Técnico (Saneamento) | BE13: 3593 | BF13: B | BG13: Assistente Técnico (Fiscal de Postura) | BH13: 3802.25
B14: Nº de Economias Água | C14: unid. | D14: 18054.533 | E14: 18656.474 | F14: 19263.513 | G14: 19874.064 | H14: 20408.878 | I14: 20818.831 | J14: 21223.448 | K14: 21623.309 | L14: 22017.016 | M14: 22403.195 | N14: 22785.496 | O14: 23159.596 | P14: 23526.195 | Q14: 23887.024 | R14: 24237.837 | S14: 24581.417 | T14: 24917.575 | U14: 25246.146 | V14: 25565.994 | W14: 25878.007 | X14: 26180.098 | Y14: 26476.205 | Z14: 26762.288 | AA14: 27040.328 | AB14: 27309.331 | AC14: 27570.317 | AD14: 27822.329 | AE14: 28068.424 | AF14: 28303.677 | AG14: 28532.177 | AH14: 28752.025 | AI14: 28964.336 | AJ14: 29169.234 | AK14: 29365.853 | AL14: 29555.337 | AO14: D | AP14: Auxiliar Operacional (Motorista classe E) | AQ14: =TRUNC(BB14*$BD$1,2) -> 2539.58 | AR14: C | AS14: Assistente Técnico (Topógrafo) | AT14: =TRUNC(BE14*$BD$1,2) -> 4042.27 | AU14: B | AV14: Assistente Técnico (Computação/TI) | AW14: =TRUNC(BH14*$BD$1,2) -> 7892.5 | AZ14: D | BA14: Auxiliar Operacional (Motorista classe E) | BB14: 2314.18 | BC14: C | BD14: Assistente Técnico (Topógrafo) | BE14: 3683.5 | BF14: B | BG14: Assistente Técnico (Computação/TI) | BH14: 7192
B15: Nº de Economias Esgoto | C15: unid. | D15: 0 | E15: 3830.8982 | F15: 5873.0223 | G15: 7997.6113 | H15: 10204.439 | I15: 12491.299 | J15: 14856.414 | K15: 17298.647 | L15: 19815.314 | M15: 20610.939 | N15: 21418.366 | O15: 22233.212 | P15: 23055.671 | Q15: 23887.024 | R15: 24237.837 | S15: 24581.417 | T15: 24917.575 | U15: 25246.146 | V15: 25565.994 | W15: 25878.007 | X15: 26180.098 | Y15: 26476.205 | Z15: 26762.288 | AA15: 27040.328 | AB15: 27309.331 | AC15: 27570.317 | AD15: 27822.329 | AE15: 28068.424 | AF15: 28303.677 | AG15: 28532.177 | AH15: 28752.025 | AI15: 28964.336 | AJ15: 29169.234 | AK15: 29365.853 | AL15: 29555.337 | AO15: E | AP15: Auxiliar Operacional (Mestre de Obras) | AQ15: =TRUNC(BB15*$BD$1,2) -> 4126.44 | AR15: B | AS15: Analista (Biólogo) | AT15: =TRUNC(BE15*$BD$1,2) -> 4813.19 | AU15: C | AV15: Assistente Técnico (Contabilidade) | AW15: =TRUNC(BH15*$BD$1,2) -> 4657.63 | AZ15: E | BA15: Auxiliar Operacional (Mestre de Obras) | BB15: 3760.2 | BC15: B | BD15: Analista (Biólogo) | BE15: 4386 | BF15: C | BG15: Assistente Técnico (Contabilidade) | BH15: 4244.25
B16: Nº de Ligações A | C16: unid. | D16: 13647.444 | E16: 14101.385 | F16: 14558.944 | G16: 15018.914 | H16: 15421.87 | I16: 15730.275 | J16: 16034.858 | K16: 16335.678 | L16: 16631.863 | M16: 16922.134 | N16: 17209.979 | O16: 17491.428 | P16: 17767.008 | Q16: 18038.517 | R16: 18302.008 | S16: 18560.296 | T16: 18813.025 | U16: 19060.083 | V16: 19300.369 | W16: 19534.988 | X16: 19761.91 | Y16: 19984.616 | Z16: 20199.548 | AA16: 20408.47 | AB16: 20610.583 | AC16: 20806.706 | AD16: 20995.842 | AE16: 21181.038 | AF16: 21357.621 | AG16: 21529.362 | AH16: 21694.407 | AI16: 21854.008 | AJ16: 22007.844 | AK16: 22155.465 | AL16: 22297.717 | AO16: D | AP16: Auxiliar Operacional (Nivelador) | AQ16: =TRUNC(BB16*$BD$1,2) -> 2857.51 | AR16: C | AS16: Analista (Quimico) | AT16: =TRUNC(BE16*$BD$1,2) -> 6713.01 | AU16: B | AV16: Assistente Técnico (Seg. trabalho) | AW16: =TRUNC(BH16*$BD$1,2) -> 4086.16 | AZ16: D | BA16: Auxiliar Operacional (Nivelador) | BB16: 2603.9 | BC16: C | BD16: Analista (Quimico) | BE16: 6117.2 | BF16: B | BG16: Assistente Técnico (Seg. trabalho) | BH16: 3723.5
B17: Nº de Ligações E | C17: unid. | D17: 0 | E17: 2895.5616 | F17: 4438.7023 | G17: 6043.8287 | H17: 7710.9352 | I17: 9438.1647 | J17: 11224.401 | K17: 13068.542 | L17: 14968.677 | M17: 15568.363 | N17: 16177.38 | O17: 16791.77 | P17: 17411.668 | Q17: 18038.517 | R17: 18302.008 | S17: 18560.296 | T17: 18813.025 | U17: 19060.083 | V17: 19300.369 | W17: 19534.988 | X17: 19761.91 | Y17: 19984.616 | Z17: 20199.548 | AA17: 20408.47 | AB17: 20610.583 | AC17: 20806.706 | AD17: 20995.842 | AE17: 21181.038 | AF17: 21357.621 | AG17: 21529.362 | AH17: 21694.407 | AI17: 21854.008 | AJ17: 22007.844 | AK17: 22155.465 | AL17: 22297.717 | AO17: C | AP17: Auxiliar Operacional (Operador de bombas) | AQ17: =TRUNC(BB17*$BD$1,2) -> 2270.74 | AR17: D | AS17: Analista (Eng Ambiental) | AT17: =TRUNC(BE17*$BD$1,2) -> 9683.34 | AU17: C | AV17: Analista (Advogado) | AW17: =TRUNC(BH17*$BD$1,2) -> 6875.48 | AZ17: C | BA17: Auxiliar Operacional (Operador de bombas) | BB17: 2069.2 | BC17: D | BD17: Analista (Eng Ambiental) | BE17: 8823.9 | BF17: C | BG17: Analista (Advogado) | BH17: 6265.25
B18: Extensão rede de água | C18: Km | D18: 289462.29 | E18: 299090.37 | F18: 308795.19 | G18: 318551.17 | H18: 327097.87 | I18: 333639.12 | J18: 340099.35 | K18: 346479.73 | L18: 352761.82 | M18: 358918.47 | N18: 365023.64 | O18: 370993.18 | P18: 376838.24 | Q18: 382596.94 | R18: 388185.58 | S18: 393663.89 | T18: 399024.27 | U18: 404264.36 | V18: 409360.82 | W18: 414337.1 | X18: 419150.12 | Y18: 423873.7 | Z18: 428432.41 | AA18: 432863.64 | AB18: 437150.46 | AC18: 441310.23 | AD18: 445321.81 | AE18: 449249.83 | AF18: 452995.15 | AG18: 456637.78 | AH18: 460138.37 | AI18: 463523.5 | AJ18: 466786.37 | AK18: 469917.41 | AL18: 472934.58 | AO18: C | AP18: Auxiliar Operacional (Operador de ETA) | AQ18: =TRUNC(BB18*$BD$1,2) -> 2270.74 | AR18: D | AS18: Analista (Eng Civil ) | AT18: =TRUNC(BE18*$BD$1,2) -> 11356.16 | AU18: C | AV18: Analista (Administração/Ecomonia) | AW18: =TRUNC(BH18*$BD$1,2) -> 6500.17 | AZ18: C | BA18: Auxiliar Operacional (Operador de ETA) | BB18: 2069.2 | BC18: D | BD18: Analista (Eng Civil ) | BE18: 10348.25 | BF18: C | BG18: Analista (Administração/Ecomonia) | BH18: 5923.25
B19: Extensão rede de esgoto | C19: Km | D19: 0 | E19: 61414.861 | F19: 94144.876 | G19: 128189.61 | H19: 163548.94 | I19: 200183.47 | J19: 238069.54 | K19: 277183.79 | L19: 317485.64 | M19: 330204.99 | N19: 343122.23 | O19: 356153.45 | P19: 369301.48 | Q19: 382596.94 | R19: 388185.58 | S19: 393663.89 | T19: 399024.27 | U19: 404264.36 | V19: 409360.82 | W19: 414337.1 | X19: 419150.12 | Y19: 423873.7 | Z19: 428432.41 | AA19: 432863.64 | AB19: 437150.46 | AC19: 441310.23 | AD19: 445321.81 | AE19: 449249.83 | AF19: 452995.15 | AG19: 456637.78 | AH19: 460138.37 | AI19: 463523.5 | AJ19: 466786.37 | AK19: 469917.41 | AL19: 472934.58 | AO19: C | AP19: Auxiliar Operacional (Operador de ETE) | AQ19: =TRUNC(BB19*$BD$1,2) -> 2270.74 | AR19: D | AS19: Analista (Eng Cartografia) | AT19: =TRUNC(BE19*$BD$1,2) -> 7879.82 | AU19: A | AV19: Analista (Assistente Social) | AW19: =TRUNC(BH19*$BD$1,2) -> 3989.87 | AZ19: C | BA19: Auxiliar Operacional (Operador de ETE) | BB19: 2069.2 | BC19: D | BD19: Analista (Eng Cartografia) | BE19: 7180.45 | BF19: A | BG19: Analista (Assistente Social) | BH19: 3635.75
I21: Indice de Reajuste = | L21: 1.0974 | AO21: C | AP21: Auxiliar Operacional (Oper de microsistemas) | AQ21: =TRUNC(BB21*$BD$1,2) -> 2270.74 | AR21: D | AS21: Analista (Eng de Automação/Mecatrônica) | AT21: =TRUNC(BE21*$BD$1,2) -> 11550.24 | AU21: D | AV21: Analista (Eng Computação/Sistemas/TI) | AW21: =TRUNC(BH21*$BD$1,2) -> 9147.26 | AZ21: C | BA21: Auxiliar Operacional (Oper de microsistemas) | BB21: 2069.2 | BC21: D | BD21: Analista (Eng de Automação/Mecatrônica) | BE21: 10525.1 | BF21: D | BG21: Analista (Eng Computação/Sistemas/TI) | BH21: 8335.4
B22: Área Estratégica | C22: CBO | D22: R$/mês | E22: Mínimo | F22: Máximo | G22: Mediana | I22: R$/mês | J22: Mínimo | K22: Máximo | L22: Mediana | AO22: B | AP22: Auxiliar Operacional (Pedreiro) | AQ22: =TRUNC(BB22*$BD$1,2) -> 2306.95 | AR22: D | AS22: Analista (Eng Eletricista) | AT22: =TRUNC(BE22*$BD$1,2) -> 11205.77 | AU22: C | AV22: Analista (Contador) | AW22: =TRUNC(BH22*$BD$1,2) -> 6337.04 | AZ22: B | BA22: Auxiliar Operacional (Pedreiro) | BB22: 2102.2 | BC22: D | BD22: Analista (Eng Eletricista) | BE22: 10211.2 | BF22: C | BG22: Analista (Contador) | BH22: 5774.6
B23: Diretor Presidente | C23: 1210-10 | D23: =TRUNC(I23*$L$21,2) -> 18758.02 | E23: =TRUNC(J23*$L$21,2) -> 12937.24 | F23: =TRUNC(K23*$L$21,2) -> 45786.82 | G23: =TRUNC(L23*$L$21,2) -> 18758.02 | I23: 17093.15 | J23: 11789 | K23: 41723 | L23: 17093.15 | AO23: A | AP23: Auxiliar Operacional (Servente/Ajudante) | AQ23: =TRUNC(BB23*$BD$1,2) -> 1712.93 | AR23: D | AS23: Analista (Eng Mecânico) | AT23: =TRUNC(BE23*$BD$1,2) -> 9799.94 | AU23: D | AV23: Analista (Eng Segurança do Trab.) | AW23: =TRUNC(BH23*$BD$1,2) -> 9138.48 | AZ23: A | BA23: Auxiliar Operacional (Servente/Ajudante) | BB23: 1560.9 | BC23: D | BD23: Analista (Eng Mecânico) | BE23: 8930.15 | BF23: D | BG23: Analista (Eng Segurança do Trab.) | BH23: 8327.4
B24: Diretor de Negócios Jurídicos | C24: 2410-40 | D24: =TRUNC(I24*$L$21,2) -> 15006.41 | E24: =TRUNC(J24*$L$21,2) -> 7035.43 | F24: =TRUNC(K24*$L$21,2) -> 18544.96 | G24: =TRUNC(L24*$L$21,2) -> 14631.72 | I24: 13674.517 | J24: 6411 | K24: 16899 | L24: =(J24*0.34+K24*0.66) -> 13333.08 | O24: Item | P24: Descrição | R24: LST | AO24: D | AP24: Auxiliar Operacional (Soldador) | AQ24: =TRUNC(BB24*$BD$1,2) -> 3016.31 | AR24: D | AS24: Analista (Eng Quimico) | AT24: =TRUNC(BE24*$BD$1,2) -> 9768.34 | AU24: C | AV24: Analista (Jornalista) | AW24: =TRUNC(BH24*$BD$1,2) -> 5318 | AZ24: D | BA24: Auxiliar Operacional (Soldador) | BB24: 2748.6 | BC24: D | BD24: Analista (Eng Quimico) | BE24: 8901.35 | BF24: C | BG24: Analista (Jornalista) | BH24: 4846
B25: Diretor de Gestão Corporativa | C25: 1231-05 | D25: =TRUNC(I25*$L$21,2) -> 15006.41 | E25: =TRUNC(J25*$L$21,2) -> 12028.6 | F25: =TRUNC(K25*$L$21,2) -> 39657.84 | G25: =TRUNC(L25*$L$21,2) -> 15108.78 | I25: 13674.517 | J25: 10961 | K25: 36138 | L25: =(J25*0.9+K25*0.108) -> 13767.804 | O25: 1 | P25: Área técnica - Manutenção de Redes - Operacional | R25: 1.41043 | AO25: D | AP25: Auxiliar Operacional (Serralheiro) | AQ25: =TRUNC(BB25*$BD$1,2) -> 2689.5 | AR25: D | AS25: Analista (Eng Sanitarista) | AT25: =TRUNC(BE25*$BD$1,2) -> 11353.37 | AU25: B | AV25: Analista (Psicológo) | AW25: =TRUNC(BH25*$BD$1,2) -> 4397.28 | AZ25: D | BA25: Auxiliar Operacional (Serralheiro) | BB25: 2450.8 | BC25: D | BD25: Analista (Eng Sanitarista) | BE25: 10345.7 | BF25: B | BG25: Analista (Psicológo) | BH25: 4007
B26: Diretor de Gestão Técnica | C26: 1237-05 | D26: =TRUNC(I26*$L$21,2) -> 15006.41 | E26: =TRUNC(J26*$L$21,2) -> 11190.18 | F26: =TRUNC(K26*$L$21,2) -> 40147.28 | G26: =TRUNC(L26*$L$21,2) -> 15244.18 | I26: 13674.517 | J26: 10197 | K26: 36584 | L26: =(J26*0.86+K26*0.14) -> 13891.18 | O26: =O25+1 -> 2 | P26: Área técnica - Manut de Redes - Técnica | R26: =R25 -> 1.41043 | AO26: C | AP26: Assistente Técnico (Bioquimica) | AQ26: =TRUNC(BB26*$BD$1,2) -> 2441.05 | AR26: D | AS26: Analista (Geólogo) | AT26: =TRUNC(BE26*$BD$1,2) -> 9809.1 | AU26: C | AV26: Analista (Secretário) | AW26: =TRUNC(BH26*$BD$1,2) -> 3469.15 | AZ26: C | BA26: Assistente Técnico (Bioquimica) | BB26: 2224.4 | BC26: D | BD26: Analista (Geólogo) | BE26: 8938.5 | BF26: C | BG26: Analista (Secretário) | BH26: 3161.25
B27: Assessor de Diretoria | C27: 1423-05 | D27: =TRUNC(I27*$L$21,2) -> 12192.7 | E27: =TRUNC(J27*$L$21,2) -> 4526.77 | F27: =TRUNC(K27*$L$21,2) -> 18697.5 | G27: =TRUNC(L27*$L$21,2) -> 11385.79 | I27: 11110.54 | J27: 4125 | K27: 17038 | L27: =(J27*0.45+K27*0.5) -> 10375.25 | O27: =O26+1 -> 3 | P27: Área técnica - Manut Eletromecânica - Operacional | R27: =R26 -> 1.41043
B28: Secretário Executivo | C28: 2323-05 | D28: =TRUNC(I28*$L$21,2) -> 5526.72 | E28: =TRUNC(J28*$L$21,2) -> 2533.89 | F28: =TRUNC(K28*$L$21,2) -> 6274.93 | G28: =TRUNC(L28*$L$21,2) -> 5526.72 | I28: 5036.2 | J28: 2309 | K28: 5718 | L28: =(J28*0.2+K28*0.8) -> 5036.2 | O28: =O27+1 -> 4 | P28: Área técnica - Manut Eletromecânica - Técnica | R28: =R27 -> 1.41043
B29: Auditor Geral | C29: 2522-05 | D29: =TRUNC(I29*$L$21,2) -> 5707.57 | E29: =TRUNC(J29*$L$21,2) -> 5707.57 | F29: =TRUNC(K29*$L$21,2) -> 13377.3 | G29: =TRUNC(L29*$L$21,2) -> 6781.33 | I29: 5201 | J29: 5201 | K29: 12190 | L29: =(J29*0.86+K29*0.14) -> 6179.46 | O29: =O28+1 -> 5 | P29: Área técnica - Operação Água | R29: =R28 -> 1.41043 | AO29: Remuneração dos Cargos Táticos, Executivos e Funções Gratificadas | AZ29: Remuneração dos Cargos Táticos, Executivos e Funções Gratificadas
O30: =O29+1 -> 6 | P30: Área técnica - Operação Esgoto | R30: =R29 -> 1.41043 | AO30: Item | AP30: Descrição | AQ30: Valor | AR30: Item | AS30: Descrição | AT30: Valor | AU30: Item | AV30: Descrição | AW30: Valor | AZ30: Item | BA30: Descrição | BB30: Valor | BC30: Item | BD30: Descrição | BE30: Valor | BF30: Item | BG30: Descrição | BH30: Valor
B31: Área Tática | C31: CBO | D31: R$/mês | E31: Mínimo | F31: Máximo | G31: Mediana | I31: R$/mês | J31: Mínimo | K31: Máximo | L31: Mediana | O31: =O30+1 -> 7 | P31: Área técnica - Planejamento | R31: 0.875 | AO31: 1 | AP31: Diretor Presidente | AQ31: =TRUNC(BB31*$BD$1,2) -> 18758.01 | AR31: =AO34+1 -> 5 | AS31: Ass. CS/ RC/ RI | AT31: =AQ31*0.6 -> 11254.806 | AU31: =AR34+1 -> 9 | AV31: Supervisão Jurídica | AW31: =AQ31*0.065 -> 1219.2706 | AZ31: 1 | BA31: Diretor Presidente | BB31: 17093.146 | BC31: =AZ34+1 -> 5 | BD31: Ass. CS/ RC/ RI | BE31: =BB31*0.6 -> 10255.888 | BF31: =BC34+1 -> 9 | BG31: Supervisão Jurídica | BH31: =BB31*0.065 -> 1111.0545
B32: Gerente Jurídico | O32: =O31+1 -> 8 | P32: Área Administrativa - Comercial | R32: =R31 -> 0.875 | AO32: =AO31+1 -> 2 | AP32: Diretor | AQ32: =$AQ$31*0.8 -> 15006.408 | AR32: =AR31+1 -> 6 | AS32: Secretário Executivo | AT32: =AQ31*0.45 -> 8441.1045 | AU32: =AU31+1 -> 10 | AV32: Chefia de Divisão | AW32: =AQ31*0.065 -> 1219.2706 | AZ32: =AZ31+1 -> 2 | BA32: Diretor | BB32: =$AQ$31*0.8 -> 15006.408 | BC32: =BC31+1 -> 6 | BD32: Secretário Executivo | BE32: =BB31*0.45 -> 7691.9156 | BF32: =BF31+1 -> 10 | BG32: Chefia de Divisão | BH32: =BB31*0.065 -> 1111.0545
B33: Gerente Administrativo e Financeiro | C33: 1421-05 | D33: =TRUNC(I33*$L$21,2) -> 12192.7 | E33: =TRUNC(J33*$L$21,2) -> 4443.37 | F33: =TRUNC(K33*$L$21,2) -> 15366.89 | G33: =TRUNC(L33*$L$21,2) -> 11543.66 | I33: 11110.54 | J33: 4049 | K33: 14003 | L33: =(J33*0.35+K33*0.65) -> 10519.1 | O33: =O32+1 -> 9 | P33: Área Administrativa - Geral | R33: =R32 -> 0.875 | AO33: =AO32+1 -> 3 | AP33: Gerente /Ass Téc. / Ass. Amb/Chefe de Gabinete | AQ33: =AQ31*0.65 -> 12192.707 | AR33: =AR32+1 -> 7 | AS33: Conselheiro Administração | AT33: =AQ31*0.1 -> 1875.801 | AU33: =AU32+1 -> 11 | AV33: Chefia de Setor | AW33: =AQ31*0.065 -> 1219.2706 | AZ33: =AZ32+1 -> 3 | BA33: Gerente /Ass Téc. / Ass. Amb/Chefe de Gabinete | BB33: =BB31*0.65 -> 11110.545 | BC33: =BC32+1 -> 7 | BD33: Conselheiro Administração | BE33: =BB31*0.1 -> 1709.3146 | BF33: =BF32+1 -> 11 | BG33: Chefia de Setor | BH33: =BB31*0.065 -> 1111.0545
B34: Gerente de Relações c/ Usuário | C34: 1423-05 | D34: =TRUNC(I34*$L$21,2) -> 12192.7 | E34: =TRUNC(J34*$L$21,2) -> 4526.77 | F34: =TRUNC(K34*$L$21,2) -> 18697.5 | G34: =TRUNC(L34*$L$21,2) -> 11385.79 | I34: 11110.54 | J34: 4125 | K34: 17038 | L34: =(J34*0.45+K34*0.5) -> 10375.25 | O34: =O33+1 -> 10 | P34: Área Administrativa - Pratimonial | R34: =R33 -> 0.875 | AO34: =AO33+1 -> 4 | AP34: Auditor Geral /Ass Júridico/Corregedor Geral | AQ34: =AQ31*0.6 -> 11254.806 | AR34: =AR33+1 -> 8 | AS34: Conselheiro Fiscal/Comitê Estatutário | AT34: =AQ31*0.1 -> 1875.801 | AU34: =AU33+1 -> 12 | AV34: Supervisão de Equipe | AW34: =AQ31*0.03495726 -> 655.72863 | AZ34: =AZ33+1 -> 4 | BA34: Auditor Geral /Ass Júridico/Corregedor Geral | BB34: =BB31*0.6 -> 10255.888 | BC34: =BC33+1 -> 8 | BD34: Conselheiro Fiscal/Comitê Estatutário | BE34: =BB31*0.1 -> 1709.3146 | BF34: =BF33+1 -> 12 | BG34: Supervisão de Equipe | BH34: =BB31*0.03495726 -> 597.52954
B35: Gerente de Operação e Manutenção | C35: 1527-05 | D35: =TRUNC(I35*$L$21,2) -> 12192.7 | E35: =TRUNC(J35*$L$21,2) -> 8558.62 | F35: =TRUNC(K35*$L$21,2) -> 22203.69 | G35: =TRUNC(L35*$L$21,2) -> 13001.34 | I35: 11110.54 | J35: 7799 | K35: 20233 | L35: =(J35*0.65+K35*0.335) -> 11847.405 | O35: =O34+1 -> 11 | P35: Conselheiro Administração | R35: =R34 -> 0.875
B36: Gerente de Planejamento Projetos e Obras | C36: 1423-05 | D36: =TRUNC(I36*$L$21,2) -> 12192.7 | E36: =TRUNC(J36*$L$21,2) -> 4526.77 | F36: =TRUNC(K36*$L$21,2) -> 18697.5 | G36: =TRUNC(L36*$L$21,2) -> 11385.79 | I36: 11110.54 | J36: 4125 | K36: 17038 | L36: =(J36*0.45+K36*0.5) -> 10375.25 | O36: =O35+1 -> 12 | P36: Conselheiro Fiscal | R36: =R35 -> 0.875
B37: Gerente de Operação e Manutenção - Água | C37: 1423-05 | D37: =TRUNC(I37*$L$21,2) -> 12192.7 | E37: =TRUNC(J37*$L$21,2) -> 4526.77 | F37: =TRUNC(K37*$L$21,2) -> 18697.5 | G37: =TRUNC(L37*$L$21,2) -> 11385.79 | I37: 11110.54 | J37: 4125 | K37: 17038 | L37: =(J37*0.45+K37*0.5) -> 10375.25 | O37: =O36+1 -> 13 | P37: Cargos Executivos | R37: =R36 -> 0.875 | AO37: Cargos do Quadro Permanente
B38: Gerente de Operação e Manutenção - Esgoto | C38: 1423-05 | D38: =TRUNC(I38*$L$21,2) -> 12192.7 | E38: =TRUNC(J38*$L$21,2) -> 4526.77 | F38: =TRUNC(K38*$L$21,2) -> 18697.5 | G38: =TRUNC(L38*$L$21,2) -> 11385.79 | I38: 11110.54 | J38: 4125 | K38: 17038 | L38: =(J38*0.45+K38*0.5) -> 10375.25 | O38: =O37+1 -> 14 | P38: Cargos Táticos | R38: =R37 -> 0.875 | AO38: Área técnica - Atividade-fim | AT38: Área Administrativa - Atividade-meio
O39: =O38+1 -> 15 | P39: Funçoes Gratificadas | R39: =R38 -> 0.875 | AO39: Classe | AP39: Descrição | AQ39: CBO | AR39: Classe | AS39: Descrição | AT39: CBO | AU39: Classe | AV39: Descrição | AW39: CBO
B40: Área Operacional- Atividade-fim | C40: CBO | D40: R$/mês | E40: Mínimo | F40: Máximo | G40: Mediana | I40: R$/mês | J40: Mínimo | K40: Máximo | L40: Mediana | AO40: C | AP40: Auxiliar Operacional (Calceteiro/Pedreiro) | AQ40: 7152-05 | AR40: C | AS40: Assistente Técnico (Desenhista) | AT40: 3180-10 | AU40: B | AV40: Auxiliar Administrativo (Call Center) | AW40: 4222-05
B41: Auxiliar Operacional (Calceteiro/Pedreiro) | C41: 7152-05 | D41: =TRUNC(I41*$L$21,2) -> 2280.28 | E41: =TRUNC(J41*$L$21,2) -> 1933.61 | F41: =TRUNC(K41*$L$21,2) -> 3217.57 | G41: =TRUNC(L41*$L$21,2) -> 2280.28 | H41: =D41-G41 -> 0 | I41: 2077.9 | J41: 1762 | K41: 2932 | L41: =(J41*0.73+K41*0.27) -> 2077.9 | AO41: D | AP41: Auxiliar Operacional (Encarregado Turma) | AQ41: 9501-10 | AR41: C | AS41: Assistente Técnico (Edificações) | AT41: 3121 | AU41: A | AV41: Auxiliar Operacional (Copeiro/Faxineiro) | AW41: 5143-20
B42: Auxiliar Operacional (Encarregado Turma) | C42: 7102-05 | D42: =TRUNC(I42*$L$21,2) -> 5243.15 | E42: =TRUNC(J42*$L$21,2) -> 3754.2 | F42: =TRUNC(K42*$L$21,2) -> 7476.58 | G42: =TRUNC(L42*$L$21,2) -> 5243.15 | H42: =D42-G42 -> 0 | I42: 4777.8 | J42: 3421 | K42: 6813 | L42: =(J42*0.6+K42*0.4) -> 4777.8 | AO42: C | AP42: Auxiliar Operacional (Encanador) | AQ42: 7241-10 | AR42: C | AS42: Assistente Técnico (Eletrônica) | AT42: 3132 | AU42: B | AV42: Auxiliar Operacional (Vigia) | AW42: 5174-20
B43: Auxiliar Operacional (Encanador) | C43: 7241-10 | D43: =TRUNC(I43*$L$21,2) -> 2833.48 | E43: =TRUNC(J43*$L$21,2) -> 2381.35 | F43: =TRUNC(K43*$L$21,2) -> 4189.87 | G43: =TRUNC(L43*$L$21,2) -> 2833.48 | H43: =D43-G43 -> 0 | I43: 2582 | J43: 2170 | K43: 3818 | L43: =(J43*0.75+K43*0.25) -> 2582 | AO43: D | AP43: Auxiliar Operacional (Eletricista) | AQ43: 9511-05 | AR43: C | AS43: Assistente Técnico (Eletrotécnica) | AT43: 3132 | AU43: B | AV43: Auxiliar Operacional (Leiturista) | AW43: 5199-40
B44: Auxiliar Operacional (Eletricista) | C44: 9511-05 | D44: =TRUNC(I44*$L$21,2) -> 2651.04 | E44: =TRUNC(J44*$L$21,2) -> 2542.67 | F44: =TRUNC(K44*$L$21,2) -> 4710.04 | G44: =TRUNC(L44*$L$21,2) -> 2651.04 | H44: =D44-G44 -> 0 | I44: 2415.75 | J44: 2317 | K44: 4292 | L44: =(J44*0.95+K44*0.05) -> 2415.75 | AO44: C | AP44: Auxiliar Operacional (Laboratorista) | AQ44: 8181-10 | AR44: C | AS44: Assistente Técnico (Mecânica) | AT44: 3003 | AU44: C | AV44: Auxiliar Operacional (Motorista classe A-D) | AW44: 7823-05
B45: Auxiliar Operacional (Laboratorista) | C45: 8181-10 | D45: =TRUNC(I45*$L$21,2) -> 2265.8 | E45: =TRUNC(J45*$L$21,2) -> 2105.91 | F45: =TRUNC(K45*$L$21,2) -> 3704.82 | G45: =TRUNC(L45*$L$21,2) -> 2265.8 | H45: =D45-G45 -> 0 | I45: 2064.7 | J45: 1919 | K45: 3376 | L45: =(J45*0.9+K45*0.1) -> 2064.7 | AO45: C | AP45: Auxiliar Operacional (Mecânico) | AQ45: 7250-10 | AR45: C | AS45: Assistente Técnico (Quimica) | AT45: 3011-10 | AU45: B | AV45: Assistente Administrativo | AW45: 4110
B46: Auxiliar Operacional (Mecânico) | C46: 7250-10 | D46: =TRUNC(I46*$L$21,2) -> 2454.44 | E46: =TRUNC(J46*$L$21,2) -> 2247.47 | F46: =TRUNC(K46*$L$21,2) -> 4317.17 | G46: =TRUNC(L46*$L$21,2) -> 2454.44 | H46: =D46-G46 -> 0 | I46: 2236.6 | J46: 2048 | K46: 3934 | L46: =(J46*0.9+K46*0.1) -> 2236.6 | AO46: C | AP46: Auxiliar Operacional (Motorista classe D) | AQ46: 7825-10 | AR46: C | AS46: Assistente Técnico (Saneamento) | AT46: 3122-10 | AU46: B | AV46: Assistente Técnico (Fiscal de Postura) | AW46: 3121
B47: Auxiliar Operacional (Motorista classe D) | C47: 7825-10 | D47: =TRUNC(I47*$L$21,2) -> 2444.56 | E47: =TRUNC(J47*$L$21,2) -> 2297.95 | F47: =TRUNC(K47*$L$21,2) -> 3764.08 | G47: =TRUNC(L47*$L$21,2) -> 2444.56 | H47: =D47-G47 -> 0 | I47: 2227.6 | J47: 2094 | K47: 3430 | L47: =(J47*0.9+K47*0.1) -> 2227.6 | AO47: D | AP47: Auxiliar Operacional (Motorista classe E) | AQ47: 7151-35 | AR47: C | AS47: Assistente Técnico (Topógrafo) | AT47: 3123-20 | AU47: B | AV47: Assistente Técnico (Computação/TI) | AW47: 3171-10
B48: Auxiliar Operacional (Motorista classe E) | C48: 7151-35 | D48: =TRUNC(I48*$L$21,2) -> 2539.58 | E48: =TRUNC(J48*$L$21,2) -> 2353.92 | F48: =TRUNC(K48*$L$21,2) -> 4041.72 | G48: =TRUNC(L48*$L$21,2) -> 2539.58 | H48: =D48-G48 -> 0 | I48: 2314.18 | J48: 2145 | K48: 3683 | L48: =(J48*0.89+K48*0.11) -> 2314.18 | AO48: E | AP48: Auxiliar Operacional (Mestre de Obras) | AQ48: 7102-05 | AR48: B | AS48: Analista (Biólogo) | AT48: 2211-05 | AU48: C | AV48: Assistente Técnico (Contabilidade) | AW48: 3511
B49: Auxiliar Operacional (Mestre de Obras) | C49: 7102-05 | D49: =TRUNC(I49*$L$21,2) -> 4126.44 | E49: =TRUNC(J49*$L$21,2) -> 3754.2 | F49: =TRUNC(K49*$L$21,2) -> 7476.58 | G49: =TRUNC(L49*$L$21,2) -> 4126.44 | H49: =D49-G49 -> 0 | I49: 3760.2 | J49: 3421 | K49: 6813 | L49: =(J49*0.9+K49*0.1) -> 3760.2 | AO49: D | AP49: Auxiliar Operacional (Nivelador) | AQ49: 3123-20 | AR49: C | AS49: Analista (Quimico) | AT49: 3111-05 | AU49: B | AV49: Assistente Técnico (Seg. trabalho) | AW49: 3516-05
B50: Auxiliar Operacional (Nivelador) | C50: 3123-20 | D50: =TRUNC(I50*$L$21,2) -> 2857.51 | E50: =TRUNC(J50*$L$21,2) -> 2561.33 | F50: =TRUNC(K50*$L$21,2) -> 5523.21 | G50: =TRUNC(L50*$L$21,2) -> 2857.51 | H50: =D50-G50 -> 0 | I50: 2603.9 | J50: 2334 | K50: 5033 | L50: =(J50*0.9+K50*0.1) -> 2603.9 | AO50: C | AP50: Auxiliar Operacional (Operador de bombas) | AQ50: 8621-40 | AR50: D | AS50: Analista (Eng Ambiental) | AT50: 2140-05 | AU50: C | AV50: Analista (Advogado) | AW50: 2410-05
B51: Auxiliar Operacional (Operador de bombas) | C51: 8621-40 | D51: =TRUNC(I51*$L$21,2) -> 2270.74 | E51: =TRUNC(J51*$L$21,2) -> 1736.08 | F51: =TRUNC(K51*$L$21,2) -> 3072.72 | G51: =TRUNC(L51*$L$21,2) -> 2270.74 | H51: =D51-G51 -> 0 | I51: 2069.2 | J51: 1582 | K51: 2800 | L51: =(J51*0.6+K51*0.4) -> 2069.2 | AO51: C | AP51: Auxiliar Operacional (Operador de ETA) | AQ51: 8621-40 | AR51: D | AS51: Analista (Eng Civil ) | AT51: 4142-05 | AU51: C | AV51: Analista (Administração/Ecomonia) | AW51: 2521-05
B52: Auxiliar Operacional (Operador de ETA) | C52: 8621-40 | D52: =TRUNC(I52*$L$21,2) -> 2270.74 | E52: =TRUNC(J52*$L$21,2) -> 1736.08 | F52: =TRUNC(K52*$L$21,2) -> 3072.72 | G52: =TRUNC(L52*$L$21,2) -> 2270.74 | H52: =D52-G52 -> 0 | I52: 2069.2 | J52: 1582 | K52: 2800 | L52: =(J52*0.6+K52*0.4) -> 2069.2 | AO52: C | AP52: Auxiliar Operacional (Operador de ETE) | AQ52: 8621-40 | AR52: D | AS52: Analista (Eng Cartografia) | AT52: 2148-10 | AU52: A | AV52: Analista (Assistente Social) | AW52: 2516-05
B53: Auxiliar Operacional (Operador de ETE) | C53: 8621-40 | D53: =TRUNC(I53*$L$21,2) -> 2270.74 | E53: =TRUNC(J53*$L$21,2) -> 1736.08 | F53: =TRUNC(K53*$L$21,2) -> 3072.72 | G53: =TRUNC(L53*$L$21,2) -> 2270.74 | H53: =D53-G53 -> 0 | I53: 2069.2 | J53: 1582 | K53: 2800 | L53: =(J53*0.6+K53*0.4) -> 2069.2 | AO53: C | AP53: Auxiliar Operacional (Oper de microsistemas) | AQ53: 8621-40 | AR53: D | AS53: Analista (Eng de Automação/Mecatrônica) | AT53: 2021-10 | AU53: D | AV53: Analista (Eng Computação/Sistemas/TI) | AW53: 2122-15
B54: Auxiliar Operacional (Oper de microsistemas) | C54: 8621-40 | D54: =TRUNC(I54*$L$21,2) -> 2270.74 | E54: =TRUNC(J54*$L$21,2) -> 1736.08 | F54: =TRUNC(K54*$L$21,2) -> 3072.72 | G54: =TRUNC(L54*$L$21,2) -> 2270.74 | H54: =D54-G54 -> 0 | I54: 2069.2 | J54: 1582 | K54: 2800 | L54: =(J54*0.6+K54*0.4) -> 2069.2 | AO54: B | AP54: Auxiliar Operacional (Pedreiro) | AQ54: 7152-10 | AR54: D | AS54: Analista (Eng Eletricista) | AT54: 2143-05 | AU54: C | AV54: Analista (Contador) | AW54: 2522-10
B55: Auxiliar Operacional (Pedreiro) | C55: 7152-10 | D55: =TRUNC(I55*$L$21,2) -> 2306.95 | E55: =TRUNC(J55*$L$21,2) -> 2178.33 | F55: =TRUNC(K55*$L$21,2) -> 3464.49 | G55: =TRUNC(L55*$L$21,2) -> 2306.95 | H55: =D55-G55 -> 0 | I55: 2102.2 | J55: 1985 | K55: 3157 | L55: =(J55*0.9+K55*0.1) -> 2102.2 | AO55: A | AP55: Auxiliar Operacional (Servente/Ajudante) | AQ55: 7170-20 | AR55: D | AS55: Analista (Eng Mecânico) | AT55: 2144-05 | AU55: D | AV55: Analista (Eng Segurança do Trab.) | AW55: 2149-15
B56: Auxiliar Operacional (Servente/Ajudante) | C56: 7170-20 | D56: =TRUNC(I56*$L$21,2) -> 1712.93 | E56: =TRUNC(J56*$L$21,2) -> 1608.78 | F56: =TRUNC(K56*$L$21,2) -> 2650.22 | G56: =TRUNC(L56*$L$21,2) -> 1712.93 | H56: =D56-G56 -> 0 | I56: 1560.9 | J56: 1466 | K56: 2415 | L56: =(J56*0.9+K56*0.1) -> 1560.9 | AO56: D | AP56: Auxiliar Operacional (Soldador) | AQ56: 7243-15 | AR56: D | AS56: Analista (Eng Quimico) | AT56: 2145-05 | AU56: C | AV56: Analista (Jornalista) | AW56: 2611-25
B57: Auxiliar Operacional (Soldador) | C57: 7243-15 | D57: =TRUNC(I57*$L$21,2) -> 3016.31 | E57: =TRUNC(J57*$L$21,2) -> 2783 | F57: =TRUNC(K57*$L$21,2) -> 5116.07 | G57: =TRUNC(L57*$L$21,2) -> 3016.31 | H57: =D57-G57 -> 0 | I57: 2748.6 | J57: 2536 | K57: 4662 | L57: =(J57*0.9+K57*0.1) -> 2748.6 | AO57: D | AP57: Auxiliar Operacional (Serralheiro) | AQ57: 7244-40 | AR57: D | AS57: Analista (Eng Sanitarista) | AT57: 2142-60 | AU57: B | AV57: Analista (Psicológo) | AW57: 2515-40
B58: Auxiliar Operacional (Serralheiro) | C58: 7244-40 | D58: =TRUNC(I58*$L$21,2) -> 2689.5 | E58: =TRUNC(J58*$L$21,2) -> 2034.57 | F58: =TRUNC(K58*$L$21,2) -> 3671.9 | G58: =TRUNC(L58*$L$21,2) -> 2689.5 | H58: =D58-G58 -> 0 | I58: 2450.8 | J58: 1854 | K58: 3346 | L58: =(J58*0.6+K58*0.4) -> 2450.8 | AO58: C | AP58: Assistente Técnico (Bioquimica) | AQ58: 8181-10 | AR58: D | AS58: Analista (Geólogo) | AT58: 2134-05 | AU58: C | AV58: Analista (Secretária Executiva) | AW58: 2523-05
B59: Assistente Técnico (Bioquimica) | C59: 8181-10 | D59: =TRUNC(I59*$L$21,2) -> 2441.05 | E59: =TRUNC(J59*$L$21,2) -> 1874.35 | F59: =TRUNC(K59*$L$21,2) -> 3291.1 | G59: =TRUNC(L59*$L$21,2) -> 2441.05 | H59: =D59-G59 -> 0 | I59: 2224.4 | J59: 1708 | K59: 2999 | L59: =(J59*0.6+K59*0.4) -> 2224.4 | AX59: 4223-20
B60: Área Técnica - Atividade-fim | C60: CBO | D60: R$/mês | E60: mínimo | F60: maximo | G60: Mediana | I60: R$/mês | J60: mínimo | K60: maximo | L60: Mediana
B61: Assistente Técnico (Desenhista) | C61: 3180-10 | D61: =TRUNC(I61*$L$21,2) -> 3797.55 | E61: =TRUNC(J61*$L$21,2) -> 2510.85 | F61: =TRUNC(K61*$L$21,2) -> 5084.25 | G61: =TRUNC(L61*$L$21,2) -> 3797.55 | H61: =D61-G61 -> 0 | I61: 3460.5 | J61: 2288 | K61: 4633 | L61: =(J61*0.5+K61*0.5) -> 3460.5
B62: Assistente Técnico (Edificações) | C62: 3121-05 | D62: =TRUNC(I62*$L$21,2) -> 4172.58 | E62: =TRUNC(J62*$L$21,2) -> 3251.59 | F62: =TRUNC(K62*$L$21,2) -> 6935.56 | G62: =TRUNC(L62*$L$21,2) -> 4172.58 | H62: =D62-G62 -> 0 | I62: 3802.25 | J62: 2963 | K62: 6320 | L62: =(J62*0.75+K62*0.25) -> 3802.25
B63: Assistente Técnico (Eletrônica) | C63: 3132-15 | D63: =TRUNC(I63*$L$21,2) -> 3651.04 | E63: =TRUNC(J63*$L$21,2) -> 2362.7 | F63: =TRUNC(K63*$L$21,2) -> 4939.39 | G63: =TRUNC(L63*$L$21,2) -> 3651.04 | H63: =D63-G63 -> 0 | I63: 3327 | J63: 2153 | K63: 4501 | L63: =(J63*0.5+K63*0.5) -> 3327
B64: Assistente Técnico (Eletrotécnica) | C64: 3132-15 | D64: =TRUNC(I64*$L$21,2) -> 3651.04 | E64: =TRUNC(J64*$L$21,2) -> 2362.7 | F64: =TRUNC(K64*$L$21,2) -> 4939.39 | G64: =TRUNC(L64*$L$21,2) -> 3651.04 | H64: =D64-G64 -> 0 | I64: 3327 | J64: 2153 | K64: 4501 | L64: =(J64*0.5+K64*0.5) -> 3327
B65: Assistente Técnico (Mecânica) | C65: 3003-05 | D65: =TRUNC(I65*$L$21,2) -> 3872.17 | E65: =TRUNC(J65*$L$21,2) -> 3094.66 | F65: =TRUNC(K65*$L$21,2) -> 6204.69 | G65: =TRUNC(L65*$L$21,2) -> 3872.17 | H65: =D65-G65 -> 0 | I65: 3528.5 | J65: 2820 | K65: 5654 | L65: =(J65*0.75+K65*0.25) -> 3528.5
B66: Assistente Técnico (Quimica) | C66: 3111-05 | D66: =TRUNC(I66*$L$21,2) -> 3685.61 | E66: =TRUNC(J66*$L$21,2) -> 2902.62 | F66: =TRUNC(K66*$L$21,2) -> 6034.6 | G66: =TRUNC(L66*$L$21,2) -> 3685.61 | H66: =D66-G66 -> 0 | I66: 3358.5 | J66: 2645 | K66: 5499 | L66: =(J66*0.75+K66*0.25) -> 3358.5
B67: Assistente Técnico (Saneamento) | C67: 3122-10 | D67: =TRUNC(I67*$L$21,2) -> 3942.95 | E67: =TRUNC(J67*$L$21,2) -> 2493.29 | F67: =TRUNC(K67*$L$21,2) -> 5392.62 | G67: =TRUNC(L67*$L$21,2) -> 3942.95 | H67: =D67-G67 -> 0 | I67: 3593 | J67: 2272 | K67: 4914 | L67: =(J67*0.5+K67*0.5) -> 3593
B68: Assistente Técnico (Topógrafo) | C68: 3123-20 | D68: =TRUNC(I68*$L$21,2) -> 4042.27 | E68: =TRUNC(J68*$L$21,2) -> 2561.33 | F68: =TRUNC(K68*$L$21,2) -> 5523.21 | G68: =TRUNC(L68*$L$21,2) -> 4042.27 | H68: =D68-G68 -> 0 | I68: 3683.5 | J68: 2334 | K68: 5033 | L68: =(J68*0.5+K68*0.5) -> 3683.5
B69: Analista (Biólogo) | C69: 2211-05 | D69: =TRUNC(I69*$L$21,2) -> 4813.19 | E69: =TRUNC(J69*$L$21,2) -> 3921.01 | F69: =TRUNC(K69*$L$21,2) -> 8381.94 | G69: =TRUNC(L69*$L$21,2) -> 4813.19 | H69: =D69-G69 -> 0 | I69: 4386 | J69: 3573 | K69: 7638 | L69: =(J69*0.8+K69*0.2) -> 4386
B70: Analista (Quimico) | C70: 2132-05 | D70: =TRUNC(I70*$L$21,2) -> 6713.01 | E70: =TRUNC(J70*$L$21,2) -> 5143.51 | F70: =TRUNC(K70*$L$21,2) -> 12991.02 | G70: =TRUNC(L70*$L$21,2) -> 6713.01 | H70: =D70-G70 -> 0 | I70: 6117.2 | J70: 4687 | K70: 11838 | L70: =(J70*0.8+K70*0.2) -> 6117.2
B71: Analista (Eng Ambiental) | C71: 2140-05 | D71: =TRUNC(I71*$L$21,2) -> 9683.34 | E71: =TRUNC(J71*$L$21,2) -> 8128.44 | F71: =TRUNC(K71*$L$21,2) -> 18494.48 | G71: =TRUNC(L71*$L$21,2) -> 9683.34 | H71: =D71-G71 -> 0 | I71: 8823.9 | J71: 7407 | K71: 16853 | L71: =(J71*0.85+K71*0.15) -> 8823.9
B72: Analista (Eng Civil Saneamento ) | C72: 2142-05 | D72: =TRUNC(I72*$L$21,2) -> 11356.16 | E72: =TRUNC(J72*$L$21,2) -> 9760.27 | F72: =TRUNC(K72*$L$21,2) -> 20399.56 | G72: =TRUNC(L72*$L$21,2) -> 11356.16 | H72: =D72-G72 -> 0 | I72: 10348.25 | J72: 8894 | K72: 18589 | L72: =(J72*0.85+K72*0.15) -> 10348.25
B73: Analista (Eng Cartografia) | C73: 2148-10 | D73: =TRUNC(I73*$L$21,2) -> 7879.82 | E73: =TRUNC(J73*$L$21,2) -> 6434.05 | F73: =TRUNC(K73*$L$21,2) -> 16072.52 | G73: =TRUNC(L73*$L$21,2) -> 7879.82 | H73: =D73-G73 -> 0 | I73: 7180.45 | J73: 5863 | K73: 14646 | L73: =(J73*0.85+K73*0.15) -> 7180.45
B74: Analista (Eng de Automação/Mecatrônica) | C74: 2021-10 | D74: =TRUNC(I74*$L$21,2) -> 11550.24 | E74: =TRUNC(J74*$L$21,2) -> 10063.15 | F74: =TRUNC(K74*$L$21,2) -> 19977.06 | G74: =TRUNC(L74*$L$21,2) -> 11550.24 | H74: =D74-G74 -> 0 | I74: 10525.1 | J74: 9170 | K74: 18204 | L74: =(J74*0.85+K74*0.15) -> 10525.1
B75: Analista (Eng Eletricista) | C75: 2143-05 | D75: =TRUNC(I75*$L$21,2) -> 11205.77 | E75: =TRUNC(J75*$L$21,2) -> 9746 | F75: =TRUNC(K75*$L$21,2) -> 19477.75 | G75: =TRUNC(L75*$L$21,2) -> 11205.77 | H75: =D75-G75 -> 0 | I75: 10211.2 | J75: 8881 | K75: 17749 | L75: =(J75*0.85+K75*0.15) -> 10211.2
B76: Analista (Eng Mecânico) | C76: 2144-05 | D76: =TRUNC(I76*$L$21,2) -> 9799.94 | E76: =TRUNC(J76*$L$21,2) -> 8868.08 | F76: =TRUNC(K76*$L$21,2) -> 15080.47 | G76: =TRUNC(L76*$L$21,2) -> 9799.94 | H76: =D76-G76 -> 0 | I76: 8930.15 | J76: 8081 | K76: 13742 | L76: =(J76*0.85+K76*0.15) -> 8930.15
B77: Analista (Eng Quimico) | C77: 2145-05 | D77: =TRUNC(I77*$L$21,2) -> 9768.34 | E77: =TRUNC(J77*$L$21,2) -> 9727.35 | F77: =TRUNC(K77*$L$21,2) -> 10000.6 | G77: =TRUNC(L77*$L$21,2) -> 9768.34 | H77: =D77-G77 -> 0 | I77: 8901.35 | J77: 8864 | K77: 9113 | L77: =(J77*0.85+K77*0.15) -> 8901.35
B78: Analista (Eng Sanitarista) | C78: 2142-60 | D78: =TRUNC(I78*$L$21,2) -> 11353.37 | E78: =TRUNC(J78*$L$21,2) -> 9756.98 | F78: =TRUNC(K78*$L$21,2) -> 20399.56 | G78: =TRUNC(L78*$L$21,2) -> 11353.37 | H78: =D78-G78 -> 0 | I78: 10345.7 | J78: 8891 | K78: 18589 | L78: =(J78*0.85+K78*0.15) -> 10345.7
B79: Analista (Geólogo) | C79: 2134-05 | D79: =TRUNC(I79*$L$21,2) -> 9809.1 | E79: =TRUNC(J79*$L$21,2) -> 9767.95 | F79: =TRUNC(K79*$L$21,2) -> 10042.3 | G79: =TRUNC(L79*$L$21,2) -> 9809.1 | H79: =D79-G79 -> 0 | I79: 8938.5 | J79: 8901 | K79: 9151 | L79: =(J79*0.85+K79*0.15) -> 8938.5
B80: =AT38 -> Área Administrativa - Atividade-meio | C80: CBO | D80: R$/mês | E80: mínimo | F80: maximo | G80: Mediana | I80: R$/mês | J80: mínimo | K80: maximo | L80: Mediana
B81: Auxiliar Administrativo (Call Center) | C81: 4222-05 | D81: =TRUNC(I81*$L$21,2) -> 1876.82 | E81: =TRUNC(J81*$L$21,2) -> 1618.66 | F81: =TRUNC(K81*$L$21,2) -> 2651.31 | G81: =TRUNC(L81*$L$21,2) -> 1876.82 | H81: =D81-G81 -> 0 | I81: 1710.25 | J81: 1475 | K81: 2416 | L81: =(J81*0.75+K81*0.25) -> 1710.25
B82: Auxiliar Operacional (Copeiro/Faxineiro) | C82: 5143-20 | D82: =TRUNC(I82*$L$21,2) -> 1701.51 | E82: =TRUNC(J82*$L$21,2) -> 1501.24 | F82: =TRUNC(K82*$L$21,2) -> 2302.34 | G82: =TRUNC(L82*$L$21,2) -> 1701.51 | H82: =D82-G82 -> 0 | I82: 1550.5 | J82: 1368 | K82: 2098 | L82: =(J82*0.75+K82*0.25) -> 1550.5
B83: Auxiliar Operacional (Vigia) | C83: 5174-20 | D83: =TRUNC(I83*$L$21,2) -> 1884.78 | E83: =TRUNC(J83*$L$21,2) -> 1643.9 | F83: =TRUNC(K83*$L$21,2) -> 2607.42 | G83: =TRUNC(L83*$L$21,2) -> 1884.78 | H83: =D83-G83 -> 0 | I83: 1717.5 | J83: 1498 | K83: 2376 | L83: =(J83*0.75+K83*0.25) -> 1717.5
B84: Auxiliar Operacional (Leiturista) | C84: 5199-40 | D84: =TRUNC(I84*$L$21,2) -> 1898.77 | E84: =TRUNC(J84*$L$21,2) -> 1654.87 | F84: =TRUNC(K84*$L$21,2) -> 2630.46 | G84: =TRUNC(L84*$L$21,2) -> 1898.77 | H84: =D84-G84 -> 0 | I84: 1730.25 | J84: 1508 | K84: 2397 | L84: =(J84*0.75+K84*0.25) -> 1730.25
B85: Auxiliar Operacional (Motorista classe A-D) | C85: 7823-05 | D85: =TRUNC(I85*$L$21,2) -> 2323.47 | E85: =TRUNC(J85*$L$21,2) -> 1961.05 | F85: =TRUNC(K85*$L$21,2) -> 3410.71 | G85: =TRUNC(L85*$L$21,2) -> 2323.47 | H85: =D85-G85 -> 0 | I85: 2117.25 | J85: 1787 | K85: 3108 | L85: =(J85*0.75+K85*0.25) -> 2117.25
B86: Assistente Administrativo | C86: 4110-10 | D86: =TRUNC(I86*$L$21,2) -> 2681.22 | E86: =TRUNC(J86*$L$21,2) -> 2160.78 | F86: =TRUNC(K86*$L$21,2) -> 4242.54 | G86: =TRUNC(L86*$L$21,2) -> 2681.22 | H86: =D86-G86 -> 0 | I86: 2443.25 | J86: 1969 | K86: 3866 | L86: =(J86*0.75+K86*0.25) -> 2443.25
B87: Assistente Técnico (Fiscal de Postura) | C87: 3121-05 | D87: =TRUNC(I87*$L$21,2) -> 4172.58 | E87: =TRUNC(J87*$L$21,2) -> 3251.59 | F87: =TRUNC(K87*$L$21,2) -> 6935.56 | G87: =TRUNC(L87*$L$21,2) -> 4172.58 | H87: =D87-G87 -> 0 | I87: 3802.25 | J87: 2963 | K87: 6320 | L87: =(J87*0.75+K87*0.25) -> 3802.25
B88: Assistente Técnico (Computação/TI) | C88: 3171-10 | D88: =TRUNC(I88*$L$21,2) -> 7892.5 | E88: =TRUNC(J88*$L$21,2) -> 5773.42 | F88: =TRUNC(K88*$L$21,2) -> 14249.73 | G88: =TRUNC(L88*$L$21,2) -> 7892.5 | H88: =D88-G88 -> 0 | I88: 7192 | J88: 5261 | K88: 12985 | L88: =(J88*0.75+K88*0.25) -> 7192
B89: Assistente Técnico (Contabilidade) | C89: 3511-05 | D89: =TRUNC(I89*$L$21,2) -> 4657.63 | E89: =TRUNC(J89*$L$21,2) -> 3628 | F89: =TRUNC(K89*$L$21,2) -> 7746.54 | G89: =TRUNC(L89*$L$21,2) -> 4657.63 | H89: =D89-G89 -> 0 | I89: 4244.25 | J89: 3306 | K89: 7059 | L89: =(J89*0.75+K89*0.25) -> 4244.25
B90: Assistente Técnico (Seg. trabalho) | C90: 3516-05 | D90: =TRUNC(I90*$L$21,2) -> 4086.16 | E90: =TRUNC(J90*$L$21,2) -> 3348.16 | F90: =TRUNC(K90*$L$21,2) -> 6300.17 | G90: =TRUNC(L90*$L$21,2) -> 4086.16 | H90: =D90-G90 -> 0 | I90: 3723.5 | J90: 3051 | K90: 5741 | L90: =(J90*0.75+K90*0.25) -> 3723.5
B91: Analista (Advogado) | C91: 2410-05 | D91: =TRUNC(I91*$L$21,2) -> 6875.48 | E91: =TRUNC(J91*$L$21,2) -> 5027.18 | F91: =TRUNC(K91*$L$21,2) -> 12420.37 | G91: =TRUNC(L91*$L$21,2) -> 6875.48 | H91: =D91-G91 -> 0 | I91: 6265.25 | J91: 4581 | K91: 11318 | L91: =(J91*0.75+K91*0.25) -> 6265.25
B92: Analista (Administração/Ecomonia) | C92: 2521-05 | D92: =TRUNC(I92*$L$21,2) -> 6500.17 | E92: =TRUNC(J92*$L$21,2) -> 4807.7 | F92: =TRUNC(K92*$L$21,2) -> 11577.57 | G92: =TRUNC(L92*$L$21,2) -> 6500.17 | H92: =D92-G92 -> 0 | I92: 5923.25 | J92: 4381 | K92: 10550 | L92: =(J92*0.75+K92*0.25) -> 5923.25
B93: Analista (Assistente Social) | C93: 2516-05 | D93: =TRUNC(I93*$L$21,2) -> 3989.87 | E93: =TRUNC(J93*$L$21,2) -> 3240.62 | F93: =TRUNC(K93*$L$21,2) -> 6237.62 | G93: =TRUNC(L93*$L$21,2) -> 3989.87 | H93: =D93-G93 -> 0 | I93: 3635.75 | J93: 2953 | K93: 5684 | L93: =(J93*0.75+K93*0.25) -> 3635.75
B94: Analista (Eng Computação/Sistemas/TI) | C94: 2122-15 | D94: =TRUNC(I94*$L$21,2) -> 9147.26 | E94: =TRUNC(J94*$L$21,2) -> 7291.12 | F94: =TRUNC(K94*$L$21,2) -> 25852.54 | G94: =TRUNC(L94*$L$21,2) -> 9147.26 | H94: =D94-G94 -> 0 | I94: 8335.4 | J94: 6644 | K94: 23558 | L94: =(J94*0.9+K94*0.1) -> 8335.4
B95: Analista (Contador) | C95: 2522-10 | D95: =TRUNC(I95*$L$21,2) -> 6337.04 | E95: =TRUNC(J95*$L$21,2) -> 5006.33 | F95: =TRUNC(K95*$L$21,2) -> 11659.87 | G95: =TRUNC(L95*$L$21,2) -> 6337.04 | H95: =D95-G95 -> 0 | I95: 5774.6 | J95: 4562 | K95: 10625 | L95: =(J95*0.8+K95*0.2) -> 5774.6
B96: Analista (Eng Segurança do Trab.) | C96: 2149-15 | D96: =TRUNC(I96*$L$21,2) -> 9138.48 | E96: =TRUNC(J96*$L$21,2) -> 8553.13 | F96: =TRUNC(K96*$L$21,2) -> 12455.49 | G96: =TRUNC(L96*$L$21,2) -> 9138.48 | H96: =D96-G96 -> 0 | I96: 8327.4 | J96: 7794 | K96: 11350 | L96: =(J96*0.85+K96*0.15) -> 8327.4
B97: Analista (Jornalista) | C97: 2611-25 | D97: =TRUNC(I97*$L$21,2) -> 5318 | E97: =TRUNC(J97*$L$21,2) -> 3992.34 | F97: =TRUNC(K97*$L$21,2) -> 9294.97 | G97: =TRUNC(L97*$L$21,2) -> 5318 | H97: =D97-G97 -> 0 | I97: 4846 | J97: 3638 | K97: 8470 | L97: =(J97*0.75+K97*0.25) -> 4846
B98: Analista (Psicológo) | C98: 2515-40 | D98: =TRUNC(I98*$L$21,2) -> 4397.28 | E98: =TRUNC(J98*$L$21,2) -> 3497.41 | F98: =TRUNC(K98*$L$21,2) -> 7096.88 | G98: =TRUNC(L98*$L$21,2) -> 4397.28 | H98: =D98-G98 -> 0 | I98: 4007 | J98: 3187 | K98: 6467 | L98: =(J98*0.75+K98*0.25) -> 4007
B99: Analista (Secretária) | C99: 2523-05 | D99: =TRUNC(I99*$L$21,2) -> 3469.15 | E99: =TRUNC(J99*$L$21,2) -> 2533.89 | F99: =TRUNC(K99*$L$21,2) -> 6274.93 | G99: =TRUNC(L99*$L$21,2) -> 3469.15 | H99: =D99-G99 -> 0 | I99: 3161.25 | J99: 2309 | K99: 5718 | L99: =(J99*0.75+K99*0.25) -> 3161.25

Sheet Resumo
B1: Resultados projetados
B2: PRINCIPAIS RESULTADOS DO PROJETO | C2: Unid. | D2: Ano | AO2: Remuneração Média dos Cargos do Quadro Permanente
D3: 1 | E3: 2 | F3: 3 | G3: 4 | H3: 5 | I3: 6 | J3: 7 | K3: 8 | L3: 9 | M3: 10 | N3: 11 | O3: 12 | P3: 13 | Q3: 14 | R3: 15 | S3: 16 | T3: 17 | U3: 18 | V3: 19 | W3: 20 | X3: 21 | Y3: 22 | Z3: 23 | AA3: 24 | AB3: 25 | AC3: 26 | AD3: 27 | AE3: 28 | AF3: 29 | AG3: 30 | AH3: 31 | AI3: 32 | AJ3: 33 | AK3: 34 | AL3: 35 | AO3: Área técnica - Atividade-fim | AT3: Área Administrativa - Atividade-meio
B4: População Atendida Água | C4: hab. | D4: ='Ano 1'!M55 -> 43795 | E4: ='Ano 2'!M55 -> 44815 | F4: ='Ano 3'!M55 -> 45828 | G4: ='Ano 4'!M55 -> 46834 | H4: ='Ano 5'!M55 -> 47641 | I4: ='Ano 6'!$M55 -> 48147 | J4: ='Ano 7'!$M55 -> 48635 | K4: ='Ano 8'!$M55 -> 49105 | L4: ='Ano 9'!$M55 -> 49558 | M4: ='Ano 10'!$M55 -> 49993 | N4: ='Ano 11'!$M55 -> 50412 | O4: ='Ano 12'!$M55 -> 50814 | P4: ='Ano 13'!$M55 -> 51200 | Q4: ='Ano 14'!$M55 -> 51570 | R4: ='Ano 15'!$M55 -> 51925 | S4: ='Ano 16'!$M55 -> 52265 | T4: ='Ano 17'!$M55 -> 52590 | U4: ='Ano 18'!$M55 -> 52902 | V4: ='Ano 19'!$M55 -> 53200 | W4: ='Ano 20'!$M55 -> 53485 | X4: ='Ano 21'!$M55 -> 53758 | Y4: ='Ano 22'!$M55 -> 54018 | Z4: ='Ano 23'!$M55 -> 54266 | AA4: ='Ano 24'!$M55 -> 54503 | AB4: ='Ano 25'!$M55 -> 54730 | AC4: ='Ano 26'!$M55 -> 54945 | AD4: ='Ano 27'!$M55 -> 55151 | AE4: ='Ano 28'!$M55 -> 55347 | AF4: ='Ano 29'!$M55 -> 55534 | AG4: ='Ano 30'!$M55 -> 55712 | AH4: ='Ano 31'!$M55 -> 55881 | AI4: ='Ano 32'!$M55 -> 56042 | AJ4: ='Ano 33'!$M55 -> 56196 | AK4: ='Ano 34'!$M55 -> 56342 | AL4: ='Ano 35'!$M55 -> 56480 | AO4: Classe | AP4: Descrição | AQ4: Valor | AR4: Classe | AS4: Descrição | AT4: Valor | AU4: Classe | AV4: Descrição | AW4: Valor
B5: População Atendida Esgoto | C5: hab. | D5: ='Ano 1'!M56 -> 0 | E5: ='Ano 2'!M56 -> 9202 | F5: ='Ano 3'!M56 -> 13972 | G5: ='Ano 4'!M56 -> 18847 | H5: ='Ano 5'!M56 -> 23821 | I5: ='Ano 6'!$M56 -> 28888 | J5: ='Ano 7'!$M56 -> 34045 | K5: ='Ano 8'!$M56 -> 39284 | L5: ='Ano 9'!$M56 -> 44602 | M5: ='Ano 10'!$M56 -> 45994 | N5: ='Ano 11'!$M56 -> 47387 | O5: ='Ano 12'!$M56 -> 48781 | P5: ='Ano 13'!$M56 -> 50176 | Q5: ='Ano 14'!$M56 -> 51570 | R5: ='Ano 15'!$M56 -> 51925 | S5: ='Ano 16'!$M56 -> 52265 | T5: ='Ano 17'!$M56 -> 52590 | U5: ='Ano 18'!$M56 -> 52902 | V5: ='Ano 19'!$M56 -> 53200 | W5: ='Ano 20'!$M56 -> 53485 | X5: ='Ano 21'!$M56 -> 53758 | Y5: ='Ano 22'!$M56 -> 54018 | Z5: ='Ano 23'!$M56 -> 54266 | AA5: ='Ano 24'!$M56 -> 54503 | AB5: ='Ano 25'!$M56 -> 54730 | AC5: ='Ano 26'!$M56 -> 54945 | AD5: ='Ano 27'!$M56 -> 55151 | AE5: ='Ano 28'!$M56 -> 55347 | AF5: ='Ano 29'!$M56 -> 55534 | AG5: ='Ano 30'!$M56 -> 55712 | AH5: ='Ano 31'!$M56 -> 55881 | AI5: ='Ano 32'!$M56 -> 56042 | AJ5: ='Ano 33'!$M56 -> 56196 | AK5: ='Ano 34'!$M56 -> 56342 | AL5: ='Ano 35'!$M56 -> 56480 | AO5: ='Folha de dados'!AO7 -> C | AP5: Auxiliar Operacional (Calceteiro/Pedreiro) | AQ5: ='Folha de dados'!AQ7 -> 2280.28 | AR5: ='Folha de dados'!AR7 -> C | AS5: Assistente Técnico (Desenhista) | AT5: ='Folha de dados'!AT7 -> 3797.55 | AU5: ='Folha de dados'!AU7 -> B | AV5: Auxiliar Administrativo (Call Center) | AW5: ='Folha de dados'!AW7 -> 1876.82
B6: Testada média (m) | C6: m | D6: ='Ano 1'!M57 -> 21.21 | E6: ='Ano 2'!M57 -> 21.21 | F6: ='Ano 3'!M57 -> 21.21 | G6: ='Ano 4'!M57 -> 21.21 | H6: ='Ano 5'!M57 -> 21.21 | I6: ='Ano 6'!$M57 -> 21.21 | J6: ='Ano 7'!$M57 -> 21.21 | K6: ='Ano 8'!$M57 -> 21.21 | L6: ='Ano 9'!$M57 -> 21.21 | M6: ='Ano 10'!$M57 -> 21.21 | N6: ='Ano 11'!$M57 -> 21.21 | O6: ='Ano 12'!$M57 -> 21.21 | P6: ='Ano 13'!$M57 -> 21.21 | Q6: ='Ano 14'!$M57 -> 21.21 | R6: ='Ano 15'!$M57 -> 21.21 | S6: ='Ano 16'!$M57 -> 21.21 | T6: ='Ano 17'!$M57 -> 21.21 | U6: ='Ano 18'!$M57 -> 21.21 | V6: ='Ano 19'!$M57 -> 21.21 | W6: ='Ano 20'!$M57 -> 21.21 | X6: ='Ano 21'!$M57 -> 21.21 | Y6: ='Ano 22'!$M57 -> 21.21 | Z6: ='Ano 23'!$M57 -> 21.21 | AA6: ='Ano 24'!$M57 -> 21.21 | AB6: ='Ano 25'!$M57 -> 21.21 | AC6: ='Ano 26'!$M57 -> 21.21 | AD6: ='Ano 27'!$M57 -> 21.21 | AE6: ='Ano 28'!$M57 -> 21.21 | AF6: ='Ano 29'!$M57 -> 21.21 | AG6: ='Ano 30'!$M57 -> 21.21 | AH6: ='Ano 31'!$M57 -> 21.21 | AI6: ='Ano 32'!$M57 -> 21.21 | AJ6: ='Ano 33'!$M57 -> 21.21 | AK6: ='Ano 34'!$M57 -> 21.21 | AL6: ='Ano 35'!$M57 -> 21.21 | AO6: ='Folha de dados'!AO8 -> 0 | AP6: Auxiliar Operacional (Encarregado Turma) | AQ6: ='Folha de dados'!AQ8 -> 0 | AR6: ='Folha de dados'!AR8 -> 0 | AS6: Assistente Técnico (Edificações) | AT6: ='Folha de dados'!AT8 -> 0 | AU6: ='Folha de dados'!AU8 -> 0 | AV6: Auxiliar Operacional (Copeiro/Faxineiro) | AW6: ='Folha de dados'!AW8 -> 0
B7: Testada média (m) | C7: m | D7: ='Ano 1'!M58 -> 0 | E7: ='Ano 2'!M58 -> 21.21 | F7: ='Ano 3'!M58 -> 21.21 | G7: ='Ano 4'!M58 -> 21.21 | H7: ='Ano 5'!M58 -> 21.21 | I7: ='Ano 6'!$M58 -> 21.21 | J7: ='Ano 7'!$M58 -> 21.21 | K7: ='Ano 8'!$M58 -> 21.21 | L7: ='Ano 9'!$M58 -> 21.21 | M7: ='Ano 10'!$M58 -> 21.21 | N7: ='Ano 11'!$M58 -> 21.21 | O7: ='Ano 12'!$M58 -> 21.21 | P7: ='Ano 13'!$M58 -> 21.21 | Q7: ='Ano 14'!$M58 -> 21.21 | R7: ='Ano 15'!$M58 -> 21.21 | S7: ='Ano 16'!$M58 -> 21.21 | T7: ='Ano 17'!$M58 -> 21.21 | U7: ='Ano 18'!$M58 -> 21.21 | V7: ='Ano 19'!$M58 -> 21.21 | W7: ='Ano 20'!$M58 -> 21.21 | X7: ='Ano 21'!$M58 -> 21.21 | Y7: ='Ano 22'!$M58 -> 21.21 | Z7: ='Ano 23'!$M58 -> 21.21 | AA7: ='Ano 24'!$M58 -> 21.21 | AB7: ='Ano 25'!$M58 -> 21.21 | AC7: ='Ano 26'!$M58 -> 21.21 | AD7: ='Ano 27'!$M58 -> 21.21 | AE7: ='Ano 28'!$M58 -> 21.21 | AF7: ='Ano 29'!$M58 -> 21.21 | AG7: ='Ano 30'!$M58 -> 21.21 | AH7: ='Ano 31'!$M58 -> 21.21 | AI7: ='Ano 32'!$M58 -> 21.21 | AJ7: ='Ano 33'!$M58 -> 21.21 | AK7: ='Ano 34'!$M58 -> 21.21 | AL7: ='Ano 35'!$M58 -> 21.21 | AO7: ='Folha de dados'!AO9 -> 0 | AP7: Auxiliar Operacional (Encanador) | AQ7: ='Folha de dados'!AQ9 -> 0 | AR7: ='Folha de dados'!AR9 -> 0 | AS7: Assistente Técnico (Eletrônica) | AT7: ='Folha de dados'!AT9 -> 0 | AU7: ='Folha de dados'!AU9 -> 0 | AV7: Auxiliar Operacional (Vigia) | AW7: ='Folha de dados'!AW9 -> 0
B8: Rel. Economias A/Ligação A | C8: - | D8: ='Ano 1'!M59 -> 1.3229241 | E8: ='Ano 2'!M59 -> 1.3230226 | F8: ='Ano 3'!M59 -> 1.3231378 | G8: ='Ano 4'!M59 -> 1.323246 | H8: ='Ano 5'!M59 -> 1.3233499 | I8: ='Ano 6'!$M59 -> 1.323466 | J8: ='Ano 7'!$M59 -> 1.3235788 | K8: ='Ano 8'!$M59 -> 1.3236845 | L8: ='Ano 9'!$M59 -> 1.3237838 | M8: ='Ano 10'!$M59 -> 1.3238783 | N8: ='Ano 11'!$M59 -> 1.3239686 | O8: ='Ano 12'!$M59 -> 1.3240526 | P8: ='Ano 13'!$M59 -> 1.3241492 | Q8: ='Ano 14'!$M59 -> 1.3242233 | R8: ='Ano 15'!$M59 -> 1.3243267 | S8: ='Ano 16'!$M59 -> 1.3244073 | T8: ='Ano 17'!$M59 -> 1.3244667 | U8: ='Ano 18'!$M59 -> 1.3245383 | V8: ='Ano 19'!$M59 -> 1.3246224 | W8: ='Ano 20'!$M59 -> 1.3247004 | X8: ='Ano 21'!$M59 -> 1.3247744 | Y8: ='Ano 22'!$M59 -> 1.3248293 | Z8: ='Ano 23'!$M59 -> 1.3248954 | AA8: ='Ano 24'!$M59 -> 1.3249575 | AB8: ='Ano 25'!$M59 -> 1.325015 | AC8: ='Ano 26'!$M59 -> 1.3250857 | AD8: ='Ano 27'!$M59 -> 1.3251364 | AE8: ='Ano 28'!$M59 -> 1.3251687 | AF8: ='Ano 29'!$M59 -> 1.3252273 | AG8: ='Ano 30'!$M59 -> 1.3252837 | AH8: ='Ano 31'!$M59 -> 1.3253221 | AI8: ='Ano 32'!$M59 -> 1.3253704 | AJ8: ='Ano 33'!$M59 -> 1.3254182 | AK8: ='Ano 34'!$M59 -> 1.3254475 | AL8: ='Ano 35'!$M59 -> 1.3254895 | AO8: ='Folha de dados'!AO10 -> 0 | AP8: Auxiliar Operacional (Eletricista) | AQ8: ='Folha de dados'!AQ10 -> 0 | AR8: ='Folha de dados'!AR10 -> 0 | AS8: Assistente Técnico (Eletrotécnica) | AT8: ='Folha de dados'!AT10 -> 0 | AU8: ='Folha de dados'!AU10 -> 0 | AV8: Auxiliar Operacional (Leiturista) | AW8: ='Folha de dados'!AW10 -> 0
B9: Rel. Economias E/Ligação E | C9: - | D9: ='Ano 1'!M60 -> 0 | E9: ='Ano 2'!M60 -> 1.3230226 | F9: ='Ano 3'!M60 -> 1.3231378 | G9: ='Ano 4'!M60 -> 1.323246 | H9: ='Ano 5'!M60 -> 1.3233499 | I9: ='Ano 6'!$M60 -> 1.323466 | J9: ='Ano 7'!$M60 -> 1.3235788 | K9: ='Ano 8'!$M60 -> 1.3236845 | L9: ='Ano 9'!$M60 -> 1.3237838 | M9: ='Ano 10'!$M60 -> 1.3238783 | N9: ='Ano 11'!$M60 -> 1.3239686 | O9: ='Ano 12'!$M60 -> 1.3240526 | P9: ='Ano 13'!$M60 -> 1.3241492 | Q9: ='Ano 14'!$M60 -> 1.3242233 | R9: ='Ano 15'!$M60 -> 1.3243267 | S9: ='Ano 16'!$M60 -> 1.3244073 | T9: ='Ano 17'!$M60 -> 1.3244667 | U9: ='Ano 18'!$M60 -> 1.3245383 | V9: ='Ano 19'!$M60 -> 1.3246224 | W9: ='Ano 20'!$M60 -> 1.3247004 | X9: ='Ano 21'!$M60 -> 1.3247744 | Y9: ='Ano 22'!$M60 -> 1.3248293 | Z9: ='Ano 23'!$M60 -> 1.3248954 | AA9: ='Ano 24'!$M60 -> 1.3249575 | AB9: ='Ano 25'!$M60 -> 1.325015 | AC9: ='Ano 26'!$M60 -> 1.3250857 | AD9: ='Ano 27'!$M60 -> 1.3251364 | AE9: ='Ano 28'!$M60 -> 1.3251687 | AF9: ='Ano 29'!$M60 -> 1.3252273 | AG9: ='Ano 30'!$M60 -> 1.3252837 | AH9: ='Ano 31'!$M60 -> 1.3253221 | AI9: ='Ano 32'!$M60 -> 1.3253704 | AJ9: ='Ano 33'!$M60 -> 1.3254182 | AK9: ='Ano 34'!$M60 -> 1.3254475 | AL9: ='Ano 35'!$M60 -> 1.3254895 | AO9: ='Folha de dados'!AO11 -> 0 | AP9: Auxiliar Operacional (Laboratorista) | AQ9: ='Folha de dados'!AQ11 -> 0 | AR9: ='Folha de dados'!AR11 -> 0 | AS9: Assistente Técnico (Mecânica) | AT9: ='Folha de dados'!AT11 -> 0 | AU9: ='Folha de dados'!AU11 -> 0 | AV9: Auxiliar Operacional (Motorista classe A-D) | AW9: ='Folha de dados'!AW11 -> 0
B10: Grau de automação dos sistemas A | C10: % | D10: ='Ano 1'!M61 -> 0 | E10: ='Ano 2'!M61 -> 0.25 | F10: ='Ano 3'!M61 -> 0.5 | G10: ='Ano 4'!M61 -> 0.75 | H10: ='Ano 5'!M61 -> 1 | I10: ='Ano 6'!$M61 -> 1 | J10: ='Ano 7'!$M61 -> 1 | K10: ='Ano 8'!$M61 -> 1 | L10: ='Ano 9'!$M61 -> 1 | M10: ='Ano 10'!$M61 -> 1 | N10: ='Ano 11'!$M61 -> 1 | O10: ='Ano 12'!$M61 -> 1 | P10: ='Ano 13'!$M61 -> 1 | Q10: ='Ano 14'!$M61 -> 1 | R10: ='Ano 15'!$M61 -> 1 | S10: ='Ano 16'!$M61 -> 1 | T10: ='Ano 17'!$M61 -> 1 | U10: ='Ano 18'!$M61 -> 1 | V10: ='Ano 19'!$M61 -> 1 | W10: ='Ano 20'!$M61 -> 1 | X10: ='Ano 21'!$M61 -> 1 | Y10: ='Ano 22'!$M61 -> 1 | Z10: ='Ano 23'!$M61 -> 1 | AA10: ='Ano 24'!$M61 -> 1 | AB10: ='Ano 25'!$M61 -> 1 | AC10: ='Ano 26'!$M61 -> 1 | AD10: ='Ano 27'!$M61 -> 1 | AE10: ='Ano 28'!$M61 -> 1 | AF10: ='Ano 29'!$M61 -> 1 | AG10: ='Ano 30'!$M61 -> 1 | AH10: ='Ano 31'!$M61 -> 1 | AI10: ='Ano 32'!$M61 -> 1 | AJ10: ='Ano 33'!$M61 -> 1 | AK10: ='Ano 34'!$M61 -> 1 | AL10: ='Ano 35'!$M61 -> 1 | AO10: ='Folha de dados'!AO12 -> C | AP10: Auxiliar Operacional (Mecânico) | AQ10: ='Folha de dados'!AQ12 -> 2454.44 | AR10: ='Folha de dados'!AR12 -> C | AS10: Assistente Técnico (Quimica) | AT10: ='Folha de dados'!AT12 -> 3685.61 | AU10: ='Folha de dados'!AU12 -> B | AV10: Assistente Administrativo | AW10: ='Folha de dados'!AW12 -> 2681.22
B11: Grau de automação dos sistemas E | C11: % | D11: ='Ano 1'!M62 -> 0 | E11: ='Ano 2'!M62 -> 0.25 | F11: ='Ano 3'!M62 -> 0.5 | G11: ='Ano 4'!M62 -> 0.75 | H11: ='Ano 5'!M62 -> 1 | I11: ='Ano 6'!$M62 -> 1 | J11: ='Ano 7'!$M62 -> 1 | K11: ='Ano 8'!$M62 -> 1 | L11: ='Ano 9'!$M62 -> 1 | M11: ='Ano 10'!$M62 -> 1 | N11: ='Ano 11'!$M62 -> 1 | O11: ='Ano 12'!$M62 -> 1 | P11: ='Ano 13'!$M62 -> 1 | Q11: ='Ano 14'!$M62 -> 1 | R11: ='Ano 15'!$M62 -> 1 | S11: ='Ano 16'!$M62 -> 1 | T11: ='Ano 17'!$M62 -> 1 | U11: ='Ano 18'!$M62 -> 1 | V11: ='Ano 19'!$M62 -> 1 | W11: ='Ano 20'!$M62 -> 1 | X11: ='Ano 21'!$M62 -> 1 | Y11: ='Ano 22'!$M62 -> 1 | Z11: ='Ano 23'!$M62 -> 1 | AA11: ='Ano 24'!$M62 -> 1 | AB11: ='Ano 25'!$M62 -> 1 | AC11: ='Ano 26'!$M62 -> 1 | AD11: ='Ano 27'!$M62 -> 1 | AE11: ='Ano 28'!$M62 -> 1 | AF11: ='Ano 29'!$M62 -> 1 | AG11: ='Ano 30'!$M62 -> 1 | AH11: ='Ano 31'!$M62 -> 1 | AI11: ='Ano 32'!$M62 -> 1 | AJ11: ='Ano 33'!$M62 -> 1 | AK11: ='Ano 34'!$M62 -> 1 | AL11: ='Ano 35'!$M62 -> 1 | AO11: ='Folha de dados'!AO13 -> C | AP11: Auxiliar Operacional (Motorista classe D) | AQ11: ='Folha de dados'!AQ13 -> 2444.56 | AR11: ='Folha de dados'!AR13 -> C | AS11: Assistente Técnico (Saneamento) | AT11: ='Folha de dados'!AT13 -> 3942.95 | AU11: ='Folha de dados'!AU13 -> B | AV11: Assistente Técnico (Fiscal de Postura) | AW11: ='Folha de dados'!AW13 -> 4172.58
B12: Nº de Economias Água | C12: unid. | D12: ='Ano 1'!M63 -> 18054.533 | E12: ='Ano 2'!M63 -> 18656.474 | F12: ='Ano 3'!M63 -> 19263.513 | G12: ='Ano 4'!M63 -> 19874.064 | H12: ='Ano 5'!M63 -> 20408.878 | I12: ='Ano 6'!$M63 -> 20818.831 | J12: ='Ano 7'!$M63 -> 21223.448 | K12: ='Ano 8'!$M63 -> 21623.309 | L12: ='Ano 9'!$M63 -> 22017.016 | M12: ='Ano 10'!$M63 -> 22403.195 | N12: ='Ano 11'!$M63 -> 22785.496 | O12: ='Ano 12'!$M63 -> 23159.596 | P12: ='Ano 13'!$M63 -> 23526.195 | Q12: ='Ano 14'!$M63 -> 23887.024 | R12: ='Ano 15'!$M63 -> 24237.837 | S12: ='Ano 16'!$M63 -> 24581.417 | T12: ='Ano 17'!$M63 -> 24917.575 | U12: ='Ano 18'!$M63 -> 25246.146 | V12: ='Ano 19'!$M63 -> 25565.994 | W12: ='Ano 20'!$M63 -> 25878.007 | X12: ='Ano 21'!$M63 -> 26180.098 | Y12: ='Ano 22'!$M63 -> 26476.205 | Z12: ='Ano 23'!$M63 -> 26762.288 | AA12: ='Ano 24'!$M63 -> 27040.328 | AB12: ='Ano 25'!$M63 -> 27309.331 | AC12: ='Ano 26'!$M63 -> 27570.317 | AD12: ='Ano 27'!$M63 -> 27822.329 | AE12: ='Ano 28'!$M63 -> 28068.424 | AF12: ='Ano 29'!$M63 -> 28303.677 | AG12: ='Ano 30'!$M63 -> 28532.177 | AH12: ='Ano 31'!$M63 -> 28752.025 | AI12: ='Ano 32'!$M63 -> 28964.336 | AJ12: ='Ano 33'!$M63 -> 29169.234 | AK12: ='Ano 34'!$M63 -> 29365.853 | AL12: ='Ano 35'!$M63 -> 29555.337 | AO12: ='Folha de dados'!AO14 -> D | AP12: Auxiliar Operacional (Motorista classe E) | AQ12: ='Folha de dados'!AQ14 -> 2539.58 | AR12: ='Folha de dados'!AR14 -> C | AS12: Assistente Técnico (Topógrafo) | AT12: ='Folha de dados'!AT14 -> 4042.27 | AU12: ='Folha de dados'!AU14 -> B | AV12: Assistente Técnico (Computação/TI) | AW12: ='Folha de dados'!AW14 -> 7892.5
B13: Nº de Economias Esgoto | C13: unid. | D13: ='Ano 1'!M64 -> 0 | E13: ='Ano 2'!M64 -> 3830.8982 | F13: ='Ano 3'!M64 -> 5873.0223 | G13: ='Ano 4'!M64 -> 7997.6113 | H13: ='Ano 5'!M64 -> 10204.439 | I13: ='Ano 6'!$M64 -> 12491.299 | J13: ='Ano 7'!$M64 -> 14856.414 | K13: ='Ano 8'!$M64 -> 17298.647 | L13: ='Ano 9'!$M64 -> 19815.314 | M13: ='Ano 10'!$M64 -> 20610.939 | N13: ='Ano 11'!$M64 -> 21418.366 | O13: ='Ano 12'!$M64 -> 22233.212 | P13: ='Ano 13'!$M64 -> 23055.671 | Q13: ='Ano 14'!$M64 -> 23887.024 | R13: ='Ano 15'!$M64 -> 24237.837 | S13: ='Ano 16'!$M64 -> 24581.417 | T13: ='Ano 17'!$M64 -> 24917.575 | U13: ='Ano 18'!$M64 -> 25246.146 | V13: ='Ano 19'!$M64 -> 25565.994 | W13: ='Ano 20'!$M64 -> 25878.007 | X13: ='Ano 21'!$M64 -> 26180.098 | Y13: ='Ano 22'!$M64 -> 26476.205 | Z13: ='Ano 23'!$M64 -> 26762.288 | AA13: ='Ano 24'!$M64 -> 27040.328 | AB13: ='Ano 25'!$M64 -> 27309.331 | AC13: ='Ano 26'!$M64 -> 27570.317 | AD13: ='Ano 27'!$M64 -> 27822.329 | AE13: ='Ano 28'!$M64 -> 28068.424 | AF13: ='Ano 29'!$M64 -> 28303.677 | AG13: ='Ano 30'!$M64 -> 28532.177 | AH13: ='Ano 31'!$M64 -> 28752.025 | AI13: ='Ano 32'!$M64 -> 28964.336 | AJ13: ='Ano 33'!$M64 -> 29169.234 | AK13: ='Ano 34'!$M64 -> 29365.853 | AL13: ='Ano 35'!$M64 -> 29555.337 | AO13: ='Folha de dados'!AO15 -> E | AP13: Auxiliar Operacional (Mestre de Obras) | AQ13: ='Folha de dados'!AQ15 -> 4126.44 | AR13: ='Folha de dados'!AR15 -> B | AS13: Analista (Biólogo) | AT13: ='Folha de dados'!AT15 -> 4813.19 | AU13: ='Folha de dados'!AU15 -> C | AV13: Assistente Técnico (Contabilidade) | AW13: ='Folha de dados'!AW15 -> 4657.63
B14: Nº de Ligações A | C14: unid. | D14: ='Ano 1'!M65 -> 13647.444 | E14: ='Ano 2'!M65 -> 14101.385 | F14: ='Ano 3'!M65 -> 14558.944 | G14: ='Ano 4'!M65 -> 15018.914 | H14: ='Ano 5'!M65 -> 15421.87 | I14: ='Ano 6'!$M65 -> 15730.275 | J14: ='Ano 7'!$M65 -> 16034.858 | K14: ='Ano 8'!$M65 -> 16335.678 | L14: ='Ano 9'!$M65 -> 16631.863 | M14: ='Ano 10'!$M65 -> 16922.134 | N14: ='Ano 11'!$M65 -> 17209.979 | O14: ='Ano 12'!$M65 -> 17491.428 | P14: ='Ano 13'!$M65 -> 17767.008 | Q14: ='Ano 14'!$M65 -> 18038.517 | R14: ='Ano 15'!$M65 -> 18302.008 | S14: ='Ano 16'!$M65 -> 18560.296 | T14: ='Ano 17'!$M65 -> 18813.025 | U14: ='Ano 18'!$M65 -> 19060.083 | V14: ='Ano 19'!$M65 -> 19300.369 | W14: ='Ano 20'!$M65 -> 19534.988 | X14: ='Ano 21'!$M65 -> 19761.91 | Y14: ='Ano 22'!$M65 -> 19984.616 | Z14: ='Ano 23'!$M65 -> 20199.548 | AA14: ='Ano 24'!$M65 -> 20408.47 | AB14: ='Ano 25'!$M65 -> 20610.583 | AC14: ='Ano 26'!$M65 -> 20806.706 | AD14: ='Ano 27'!$M65 -> 20995.842 | AE14: ='Ano 28'!$M65 -> 21181.038 | AF14: ='Ano 29'!$M65 -> 21357.621 | AG14: ='Ano 30'!$M65 -> 21529.362 | AH14: ='Ano 31'!$M65 -> 21694.407 | AI14: ='Ano 32'!$M65 -> 21854.008 | AJ14: ='Ano 33'!$M65 -> 22007.844 | AK14: ='Ano 34'!$M65 -> 22155.465 | AL14: ='Ano 35'!$M65 -> 22297.717 | AO14: ='Folha de dados'!AO16 -> D | AP14: Auxiliar Operacional (Nivelador) | AQ14: ='Folha de dados'!AQ16 -> 2857.51 | AR14: ='Folha de dados'!AR16 -> C | AS14: Analista (Quimico) | AT14: ='Folha de dados'!AT16 -> 6713.01 | AU14: ='Folha de dados'!AU16 -> B | AV14: Assistente Técnico (Seg. trabalho) | AW14: ='Folha de dados'!AW16 -> 4086.16
B15: Nº de Ligações E | C15: unid. | D15: ='Ano 1'!M66 -> 0 | E15: ='Ano 2'!M66 -> 2895.5616 | F15: ='Ano 3'!M66 -> 4438.7023 | G15: ='Ano 4'!M66 -> 6043.8287 | H15: ='Ano 5'!M66 -> 7710.9352 | I15: ='Ano 6'!$M66 -> 9438.1647 | J15: ='Ano 7'!$M66 -> 11224.401 | K15: ='Ano 8'!$M66 -> 13068.542 | L15: ='Ano 9'!$M66 -> 14968.677 | M15: ='Ano 10'!$M66 -> 15568.363 | N15: ='Ano 11'!$M66 -> 16177.38 | O15: ='Ano 12'!$M66 -> 16791.77 | P15: ='Ano 13'!$M66 -> 17411.668 | Q15: ='Ano 14'!$M66 -> 18038.517 | R15: ='Ano 15'!$M66 -> 18302.008 | S15: ='Ano 16'!$M66 -> 18560.296 | T15: ='Ano 17'!$M66 -> 18813.025 | U15: ='Ano 18'!$M66 -> 19060.083 | V15: ='Ano 19'!$M66 -> 19300.369 | W15: ='Ano 20'!$M66 -> 19534.988 | X15: ='Ano 21'!$M66 -> 19761.91 | Y15: ='Ano 22'!$M66 -> 19984.616 | Z15: ='Ano 23'!$M66 -> 20199.548 | AA15: ='Ano 24'!$M66 -> 20408.47 | AB15: ='Ano 25'!$M66 -> 20610.583 | AC15: ='Ano 26'!$M66 -> 20806.706 | AD15: ='Ano 27'!$M66 -> 20995.842 | AE15: ='Ano 28'!$M66 -> 21181.038 | AF15: ='Ano 29'!$M66 -> 21357.621 | AG15: ='Ano 30'!$M66 -> 21529.362 | AH15: ='Ano 31'!$M66 -> 21694.407 | AI15: ='Ano 32'!$M66 -> 21854.008 | AJ15: ='Ano 33'!$M66 -> 22007.844 | AK15: ='Ano 34'!$M66 -> 22155.465 | AL15: ='Ano 35'!$M66 -> 22297.717 | AO15: ='Folha de dados'!AO17 -> C | AP15: Auxiliar Operacional (Operador de bombas) | AQ15: ='Folha de dados'!AQ17 -> 2270.74 | AR15: ='Folha de dados'!AR17 -> D | AS15: Analista (Eng Ambiental) | AT15: ='Folha de dados'!AT17 -> 9683.34 | AU15: ='Folha de dados'!AU17 -> C | AV15: Analista (Advogado) | AW15: ='Folha de dados'!AW17 -> 6875.48
B16: Extensão rede de água | C16: Km | D16: ='Ano 1'!M67/1000 -> 289.46229 | E16: ='Ano 2'!M67/1000 -> 299.09037 | F16: ='Ano 3'!M67/1000 -> 308.79519 | G16: ='Ano 4'!M67/1000 -> 318.55117 | H16: ='Ano 5'!M67/1000 -> 327.09787 | I16: ='Ano 6'!$M67/1000 -> 333.63912 | J16: ='Ano 7'!$M67/1000 -> 340.09935 | K16: ='Ano 8'!$M67/1000 -> 346.47973 | L16: ='Ano 9'!$M67/1000 -> 352.76182 | M16: ='Ano 10'!$M67/1000 -> 358.91847 | N16: ='Ano 11'!$M67/1000 -> 365.02364 | O16: ='Ano 12'!$M67/1000 -> 370.99318 | P16: ='Ano 13'!$M67/1000 -> 376.83824 | Q16: ='Ano 14'!$M67/1000 -> 382.59694 | R16: ='Ano 15'!$M67/1000 -> 388.18558 | S16: ='Ano 16'!$M67/1000 -> 393.66389 | T16: ='Ano 17'!$M67/1000 -> 399.02427 | U16: ='Ano 18'!$M67/1000 -> 404.26436 | V16: ='Ano 19'!$M67/1000 -> 409.36082 | W16: ='Ano 20'!$M67/1000 -> 414.3371 | X16: ='Ano 21'!$M67/1000 -> 419.15012 | Y16: ='Ano 22'!$M67/1000 -> 423.8737 | Z16: ='Ano 23'!$M67/1000 -> 428.43241 | AA16: ='Ano 24'!$M67/1000 -> 432.86364 | AB16: ='Ano 25'!$M67/1000 -> 437.15046 | AC16: ='Ano 26'!$M67/1000 -> 441.31023 | AD16: ='Ano 27'!$M67/1000 -> 445.32181 | AE16: ='Ano 28'!$M67/1000 -> 449.24983 | AF16: ='Ano 29'!$M67/1000 -> 452.99515 | AG16: ='Ano 30'!$M67/1000 -> 456.63778 | AH16: ='Ano 31'!$M67/1000 -> 460.13837 | AI16: ='Ano 32'!$M67/1000 -> 463.5235 | AJ16: ='Ano 33'!$M67/1000 -> 466.78637 | AK16: ='Ano 34'!$M67/1000 -> 469.91741 | AL16: ='Ano 35'!$M67/1000 -> 472.93458 | AO16: ='Folha de dados'!AO18 -> C | AP16: Auxiliar Operacional (Operador de ETA) | AQ16: ='Folha de dados'!AQ18 -> 2270.74 | AR16: ='Folha de dados'!AR18 -> D | AS16: Analista (Eng Civil ) | AT16: ='Folha de dados'!AT18 -> 11356.16 | AU16: ='Folha de dados'!AU18 -> C | AV16: Analista (Administração/Ecomonia) | AW16: ='Folha de dados'!AW18 -> 6500.17
B17: Extensão rede de esgoto | C17: Km | D17: ='Ano 1'!M68/1000 -> 0 | E17: ='Ano 2'!M68/1000 -> 61.414861 | F17: ='Ano 3'!M68/1000 -> 94.144876 | G17: ='Ano 4'!M68/1000 -> 128.18961 | H17: ='Ano 5'!M68/1000 -> 163.54894 | I17: ='Ano 6'!$M68/1000 -> 200.18347 | J17: ='Ano 7'!$M68/1000 -> 238.06954 | K17: ='Ano 8'!$M68/1000 -> 277.18379 | L17: ='Ano 9'!$M68/1000 -> 317.48564 | M17: ='Ano 10'!$M68/1000 -> 330.20499 | N17: ='Ano 11'!$M68/1000 -> 343.12223 | O17: ='Ano 12'!$M68/1000 -> 356.15345 | P17: ='Ano 13'!$M68/1000 -> 369.30148 | Q17: ='Ano 14'!$M68/1000 -> 382.59694 | R17: ='Ano 15'!$M68/1000 -> 388.18558 | S17: ='Ano 16'!$M68/1000 -> 393.66389 | T17: ='Ano 17'!$M68/1000 -> 399.02427 | U17: ='Ano 18'!$M68/1000 -> 404.26436 | V17: ='Ano 19'!$M68/1000 -> 409.36082 | W17: ='Ano 20'!$M68/1000 -> 414.3371 | X17: ='Ano 21'!$M68/1000 -> 419.15012 | Y17: ='Ano 22'!$M68/1000 -> 423.8737 | Z17: ='Ano 23'!$M68/1000 -> 428.43241 | AA17: ='Ano 24'!$M68/1000 -> 432.86364 | AB17: ='Ano 25'!$M68/1000 -> 437.15046 | AC17: ='Ano 26'!$M68/1000 -> 441.31023 | AD17: ='Ano 27'!$M68/1000 -> 445.32181 | AE17: ='Ano 28'!$M68/1000 -> 449.24983 | AF17: ='Ano 29'!$M68/1000 -> 452.99515 | AG17: ='Ano 30'!$M68/1000 -> 456.63778 | AH17: ='Ano 31'!$M68/1000 -> 460.13837 | AI17: ='Ano 32'!$M68/1000 -> 463.5235 | AJ17: ='Ano 33'!$M68/1000 -> 466.78637 | AK17: ='Ano 34'!$M68/1000 -> 469.91741 | AL17: ='Ano 35'!$M68/1000 -> 472.93458 | AO17: ='Folha de dados'!AO19 -> C | AP17: Auxiliar Operacional (Operador de ETE) | AQ17: ='Folha de dados'!AQ19 -> 2270.74 | AR17: ='Folha de dados'!AR19 -> D | AS17: Analista (Eng Cartografia) | AT17: ='Folha de dados'!AT19 -> 7879.82 | AU17: ='Folha de dados'!AU19 -> A | AV17: Analista (Assistente Social) | AW17: ='Folha de dados'!AW19 -> 3989.87
B18: Nº de Func. da Manutenção A+E | C18: unid. | D18: ='Ano 1'!M69 -> 15 | E18: ='Ano 2'!M69 -> 15 | F18: ='Ano 3'!M69 -> 19 | G18: ='Ano 4'!M69 -> 20 | H18: ='Ano 5'!M69 -> 23 | I18: ='Ano 6'!$M69 -> 23 | J18: ='Ano 7'!$M69 -> 24 | K18: ='Ano 8'!$M69 -> 25 | L18: ='Ano 9'!$M69 -> 27 | M18: ='Ano 10'!$M69 -> 27 | N18: ='Ano 11'!$M69 -> 27 | O18: ='Ano 12'!$M69 -> 27 | P18: ='Ano 13'!$M69 -> 28 | Q18: ='Ano 14'!$M69 -> 28 | R18: ='Ano 15'!$M69 -> 28 | S18: ='Ano 16'!$M69 -> 28 | T18: ='Ano 17'!$M69 -> 33 | U18: ='Ano 18'!$M69 -> 33 | V18: ='Ano 19'!$M69 -> 35 | W18: ='Ano 20'!$M69 -> 35 | X18: ='Ano 21'!$M69 -> 35 | Y18: ='Ano 22'!$M69 -> 36 | Z18: ='Ano 23'!$M69 -> 36 | AA18: ='Ano 24'!$M69 -> 36 | AB18: ='Ano 25'!$M69 -> 36 | AC18: ='Ano 26'!$M69 -> 36 | AD18: ='Ano 27'!$M69 -> 36 | AE18: ='Ano 28'!$M69 -> 36 | AF18: ='Ano 29'!$M69 -> 41 | AG18: ='Ano 30'!$M69 -> 41 | AH18: ='Ano 31'!$M69 -> 41 | AI18: ='Ano 32'!$M69 -> 41 | AJ18: ='Ano 33'!$M69 -> 41 | AK18: ='Ano 34'!$M69 -> 41 | AL18: ='Ano 35'!$M69 -> 41 | AO18: ='Folha de dados'!AO21 -> C | AP18: Auxiliar Operacional (Oper de microsistemas) | AQ18: ='Folha de dados'!AQ21 -> 2270.74 | AR18: ='Folha de dados'!AR21 -> D | AS18: Analista (Eng de Automação/Mecatrônica) | AT18: ='Folha de dados'!AT21 -> 11550.24 | AU18: ='Folha de dados'!AU21 -> D | AV18: Analista (Eng Computação/Sistemas/TI) | AW18: ='Folha de dados'!AW21 -> 9147.26
B19: Nº de Func. da Operação A+E | C19: unid. | D19: ='Ano 1'!M70 -> 10 | E19: ='Ano 2'!M70 -> 13 | F19: ='Ano 3'!M70 -> 14 | G19: ='Ano 4'!M70 -> 12 | H19: ='Ano 5'!M70 -> 10 | I19: ='Ano 6'!$M70 -> 10 | J19: ='Ano 7'!$M70 -> 10 | K19: ='Ano 8'!$M70 -> 13 | L19: ='Ano 9'!$M70 -> 13 | M19: ='Ano 10'!$M70 -> 13 | N19: ='Ano 11'!$M70 -> 13 | O19: ='Ano 12'!$M70 -> 13 | P19: ='Ano 13'!$M70 -> 13 | Q19: ='Ano 14'!$M70 -> 13 | R19: ='Ano 15'!$M70 -> 13 | S19: ='Ano 16'!$M70 -> 13 | T19: ='Ano 17'!$M70 -> 20 | U19: ='Ano 18'!$M70 -> 20 | V19: ='Ano 19'!$M70 -> 20 | W19: ='Ano 20'!$M70 -> 20 | X19: ='Ano 21'!$M70 -> 20 | Y19: ='Ano 22'!$M70 -> 20 | Z19: ='Ano 23'!$M70 -> 20 | AA19: ='Ano 24'!$M70 -> 20 | AB19: ='Ano 25'!$M70 -> 20 | AC19: ='Ano 26'!$M70 -> 20 | AD19: ='Ano 27'!$M70 -> 20 | AE19: ='Ano 28'!$M70 -> 20 | AF19: ='Ano 29'!$M70 -> 20 | AG19: ='Ano 30'!$M70 -> 20 | AH19: ='Ano 31'!$M70 -> 20 | AI19: ='Ano 32'!$M70 -> 20 | AJ19: ='Ano 33'!$M70 -> 20 | AK19: ='Ano 34'!$M70 -> 20 | AL19: ='Ano 35'!$M70 -> 20 | AO19: ='Folha de dados'!AO22 -> B | AP19: Auxiliar Operacional (Pedreiro) | AQ19: ='Folha de dados'!AQ22 -> 2306.95 | AR19: ='Folha de dados'!AR22 -> D | AS19: Analista (Eng Eletricista) | AT19: ='Folha de dados'!AT22 -> 11205.77 | AU19: ='Folha de dados'!AU22 -> C | AV19: Analista (Contador) | AW19: ='Folha de dados'!AW22 -> 6337.04
B20: Nº de Func. do Planejamento | C20: unid. | D20: ='Ano 1'!M71 -> 1 | E20: ='Ano 2'!M71 -> 1 | F20: ='Ano 3'!M71 -> 1 | G20: ='Ano 4'!M71 -> 1 | H20: ='Ano 5'!M71 -> 1 | I20: ='Ano 6'!$M71 -> 1 | J20: ='Ano 7'!$M71 -> 1 | K20: ='Ano 8'!$M71 -> 1 | L20: ='Ano 9'!$M71 -> 1 | M20: ='Ano 10'!$M71 -> 1 | N20: ='Ano 11'!$M71 -> 1 | O20: ='Ano 12'!$M71 -> 1 | P20: ='Ano 13'!$M71 -> 1 | Q20: ='Ano 14'!$M71 -> 1 | R20: ='Ano 15'!$M71 -> 1 | S20: ='Ano 16'!$M71 -> 1 | T20: ='Ano 17'!$M71 -> 1 | U20: ='Ano 18'!$M71 -> 1 | V20: ='Ano 19'!$M71 -> 1 | W20: ='Ano 20'!$M71 -> 1 | X20: ='Ano 21'!$M71 -> 1 | Y20: ='Ano 22'!$M71 -> 1 | Z20: ='Ano 23'!$M71 -> 1 | AA20: ='Ano 24'!$M71 -> 1 | AB20: ='Ano 25'!$M71 -> 1 | AC20: ='Ano 26'!$M71 -> 1 | AD20: ='Ano 27'!$M71 -> 1 | AE20: ='Ano 28'!$M71 -> 1 | AF20: ='Ano 29'!$M71 -> 1 | AG20: ='Ano 30'!$M71 -> 1 | AH20: ='Ano 31'!$M71 -> 1 | AI20: ='Ano 32'!$M71 -> 1 | AJ20: ='Ano 33'!$M71 -> 1 | AK20: ='Ano 34'!$M71 -> 1 | AL20: ='Ano 35'!$M71 -> 1 | AO20: ='Folha de dados'!AO23 -> A | AP20: Auxiliar Operacional (Servente/Ajudante) | AQ20: ='Folha de dados'!AQ23 -> 1712.93 | AR20: ='Folha de dados'!AR23 -> D | AS20: Analista (Eng Mecânico) | AT20: ='Folha de dados'!AT23 -> 9799.94 | AU20: ='Folha de dados'!AU23 -> D | AV20: Analista (Eng Segurança do Trab.) | AW20: ='Folha de dados'!AW23 -> 9138.48
B21: Nº de Func. do Comercial | C21: unid. | D21: ='Ano 1'!M72 -> 8 | E21: ='Ano 2'!M72 -> 8 | F21: ='Ano 3'!M72 -> 8 | G21: ='Ano 4'!M72 -> 8 | H21: ='Ano 5'!M72 -> 8 | I21: ='Ano 6'!$M72 -> 8 | J21: ='Ano 7'!$M72 -> 9 | K21: ='Ano 8'!$M72 -> 10 | L21: ='Ano 9'!$M72 -> 10 | M21: ='Ano 10'!$M72 -> 10 | N21: ='Ano 11'!$M72 -> 10 | O21: ='Ano 12'!$M72 -> 10 | P21: ='Ano 13'!$M72 -> 10 | Q21: ='Ano 14'!$M72 -> 10 | R21: ='Ano 15'!$M72 -> 10 | S21: ='Ano 16'!$M72 -> 10 | T21: ='Ano 17'!$M72 -> 12 | U21: ='Ano 18'!$M72 -> 12 | V21: ='Ano 19'!$M72 -> 12 | W21: ='Ano 20'!$M72 -> 12 | X21: ='Ano 21'!$M72 -> 12 | Y21: ='Ano 22'!$M72 -> 12 | Z21: ='Ano 23'!$M72 -> 13 | AA21: ='Ano 24'!$M72 -> 13 | AB21: ='Ano 25'!$M72 -> 13 | AC21: ='Ano 26'!$M72 -> 13 | AD21: ='Ano 27'!$M72 -> 13 | AE21: ='Ano 28'!$M72 -> 13 | AF21: ='Ano 29'!$M72 -> 13 | AG21: ='Ano 30'!$M72 -> 13 | AH21: ='Ano 31'!$M72 -> 13 | AI21: ='Ano 32'!$M72 -> 13 | AJ21: ='Ano 33'!$M72 -> 13 | AK21: ='Ano 34'!$M72 -> 13 | AL21: ='Ano 35'!$M72 -> 13 | AO21: ='Folha de dados'!AO24 -> D | AP21: Auxiliar Operacional (Soldador) | AQ21: ='Folha de dados'!AQ24 -> 3016.31 | AR21: ='Folha de dados'!AR24 -> D | AS21: Analista (Eng Quimico) | AT21: ='Folha de dados'!AT24 -> 9768.34 | AU21: ='Folha de dados'!AU24 -> C | AV21: Analista (Jornalista) | AW21: ='Folha de dados'!AW24 -> 5318
B22: Nº de Func. da Administração | C22: unid. | D22: ='Ano 1'!M73 -> 6 | E22: ='Ano 2'!M73 -> 7 | F22: ='Ano 3'!M73 -> 7 | G22: ='Ano 4'!M73 -> 9 | H22: ='Ano 5'!M73 -> 9 | I22: ='Ano 6'!$M73 -> 11 | J22: ='Ano 7'!$M73 -> 11 | K22: ='Ano 8'!$M73 -> 11 | L22: ='Ano 9'!$M73 -> 11 | M22: ='Ano 10'!$M73 -> 11 | N22: ='Ano 11'!$M73 -> 11 | O22: ='Ano 12'!$M73 -> 13 | P22: ='Ano 13'!$M73 -> 14 | Q22: ='Ano 14'!$M73 -> 14 | R22: ='Ano 15'!$M73 -> 14 | S22: ='Ano 16'!$M73 -> 14 | T22: ='Ano 17'!$M73 -> 14 | U22: ='Ano 18'!$M73 -> 14 | V22: ='Ano 19'!$M73 -> 14 | W22: ='Ano 20'!$M73 -> 14 | X22: ='Ano 21'!$M73 -> 14 | Y22: ='Ano 22'!$M73 -> 14 | Z22: ='Ano 23'!$M73 -> 14 | AA22: ='Ano 24'!$M73 -> 14 | AB22: ='Ano 25'!$M73 -> 14 | AC22: ='Ano 26'!$M73 -> 14 | AD22: ='Ano 27'!$M73 -> 14 | AE22: ='Ano 28'!$M73 -> 14 | AF22: ='Ano 29'!$M73 -> 14 | AG22: ='Ano 30'!$M73 -> 14 | AH22: ='Ano 31'!$M73 -> 14 | AI22: ='Ano 32'!$M73 -> 14 | AJ22: ='Ano 33'!$M73 -> 14 | AK22: ='Ano 34'!$M73 -> 14 | AL22: ='Ano 35'!$M73 -> 14 | AO22: ='Folha de dados'!AO25 -> D | AP22: Auxiliar Operacional (Serralheiro) | AQ22: ='Folha de dados'!AQ25 -> 2689.5 | AR22: ='Folha de dados'!AR25 -> D | AS22: Analista (Eng Sanitarista) | AT22: ='Folha de dados'!AT25 -> 11353.37 | AU22: ='Folha de dados'!AU25 -> B | AV22: Analista (Psicológo) | AW22: ='Folha de dados'!AW25 -> 4397.28
B23: Nº de Func Cargos Tático | C23: unid. | D23: ='Ano 1'!M74 -> 3 | E23: ='Ano 2'!M74 -> 3 | F23: ='Ano 3'!M74 -> 3 | G23: ='Ano 4'!M74 -> 3 | H23: ='Ano 5'!M74 -> 3 | I23: ='Ano 6'!$M74 -> 3 | J23: ='Ano 7'!$M74 -> 3 | K23: ='Ano 8'!$M74 -> 3 | L23: ='Ano 9'!$M74 -> 3 | M23: ='Ano 10'!$M74 -> 3 | N23: ='Ano 11'!$M74 -> 3 | O23: ='Ano 12'!$M74 -> 3 | P23: ='Ano 13'!$M74 -> 3 | Q23: ='Ano 14'!$M74 -> 3 | R23: ='Ano 15'!$M74 -> 3 | S23: ='Ano 16'!$M74 -> 3 | T23: ='Ano 17'!$M74 -> 3 | U23: ='Ano 18'!$M74 -> 3 | V23: ='Ano 19'!$M74 -> 3 | W23: ='Ano 20'!$M74 -> 3 | X23: ='Ano 21'!$M74 -> 3 | Y23: ='Ano 22'!$M74 -> 3 | Z23: ='Ano 23'!$M74 -> 3 | AA23: ='Ano 24'!$M74 -> 3 | AB23: ='Ano 25'!$M74 -> 3 | AC23: ='Ano 26'!$M74 -> 3 | AD23: ='Ano 27'!$M74 -> 3 | AE23: ='Ano 28'!$M74 -> 3 | AF23: ='Ano 29'!$M74 -> 3 | AG23: ='Ano 30'!$M74 -> 3 | AH23: ='Ano 31'!$M74 -> 3 | AI23: ='Ano 32'!$M74 -> 3 | AJ23: ='Ano 33'!$M74 -> 3 | AK23: ='Ano 34'!$M74 -> 3 | AL23: ='Ano 35'!$M74 -> 3 | AO23: ='Folha de dados'!AO26 -> C | AP23: Assistente Técnico (Bioquimica) | AQ23: ='Folha de dados'!AQ26 -> 2441.05 | AR23: ='Folha de dados'!AR26 -> D | AS23: Analista (Geólogo) | AT23: ='Folha de dados'!AT26 -> 9809.1 | AU23: ='Folha de dados'!AU26 -> C | AV23: Analista (Secretária) | AW23: ='Folha de dados'!AW26 -> 3469.15
B24: Nº de Func Cargos Executivo | C24: unid. | D24: ='Ano 1'!M75 -> 1 | E24: ='Ano 2'!M75 -> 1 | F24: ='Ano 3'!M75 -> 1 | G24: ='Ano 4'!M75 -> 1 | H24: ='Ano 5'!M75 -> 1 | I24: ='Ano 6'!$M75 -> 1 | J24: ='Ano 7'!$M75 -> 1 | K24: ='Ano 8'!$M75 -> 1 | L24: ='Ano 9'!$M75 -> 1 | M24: ='Ano 10'!$M75 -> 1 | N24: ='Ano 11'!$M75 -> 1 | O24: ='Ano 12'!$M75 -> 1 | P24: ='Ano 13'!$M75 -> 1 | Q24: ='Ano 14'!$M75 -> 1 | R24: ='Ano 15'!$M75 -> 1 | S24: ='Ano 16'!$M75 -> 1 | T24: ='Ano 17'!$M75 -> 1 | U24: ='Ano 18'!$M75 -> 1 | V24: ='Ano 19'!$M75 -> 1 | W24: ='Ano 20'!$M75 -> 1 | X24: ='Ano 21'!$M75 -> 1 | Y24: ='Ano 22'!$M75 -> 1 | Z24: ='Ano 23'!$M75 -> 1 | AA24: ='Ano 24'!$M75 -> 1 | AB24: ='Ano 25'!$M75 -> 1 | AC24: ='Ano 26'!$M75 -> 1 | AD24: ='Ano 27'!$M75 -> 1 | AE24: ='Ano 28'!$M75 -> 1 | AF24: ='Ano 29'!$M75 -> 1 | AG24: ='Ano 30'!$M75 -> 1 | AH24: ='Ano 31'!$M75 -> 1 | AI24: ='Ano 32'!$M75 -> 1 | AJ24: ='Ano 33'!$M75 -> 1 | AK24: ='Ano 34'!$M75 -> 1 | AL24: ='Ano 35'!$M75 -> 1
B25: Nº Total de Funcionários | C25: unid. | D25: ='Ano 1'!M76 -> 44 | E25: ='Ano 2'!M76 -> 48 | F25: ='Ano 3'!M76 -> 53 | G25: ='Ano 4'!M76 -> 54 | H25: ='Ano 5'!M76 -> 55 | I25: ='Ano 6'!$M76 -> 57 | J25: ='Ano 7'!$M76 -> 59 | K25: ='Ano 8'!$M76 -> 64 | L25: ='Ano 9'!$M76 -> 66 | M25: ='Ano 10'!$M76 -> 66 | N25: ='Ano 11'!$M76 -> 66 | O25: ='Ano 12'!$M76 -> 68 | P25: ='Ano 13'!$M76 -> 70 | Q25: ='Ano 14'!$M76 -> 70 | R25: ='Ano 15'!$M76 -> 70 | S25: ='Ano 16'!$M76 -> 70 | T25: ='Ano 17'!$M76 -> 84 | U25: ='Ano 18'!$M76 -> 84 | V25: ='Ano 19'!$M76 -> 86 | W25: ='Ano 20'!$M76 -> 86 | X25: ='Ano 21'!$M76 -> 86 | Y25: ='Ano 22'!$M76 -> 87 | Z25: ='Ano 23'!$M76 -> 88 | AA25: ='Ano 24'!$M76 -> 88 | AB25: ='Ano 25'!$M76 -> 88 | AC25: ='Ano 26'!$M76 -> 88 | AD25: ='Ano 27'!$M76 -> 88 | AE25: ='Ano 28'!$M76 -> 88 | AF25: ='Ano 29'!$M76 -> 93 | AG25: ='Ano 30'!$M76 -> 93 | AH25: ='Ano 31'!$M76 -> 93 | AI25: ='Ano 32'!$M76 -> 93 | AJ25: ='Ano 33'!$M76 -> 93 | AK25: ='Ano 34'!$M76 -> 93 | AL25: ='Ano 35'!$M76 -> 93
B26: Nº Ligações A+E por funcionário | C26: Lig/func | D26: ='Ano 1'!M77 -> 310 | E26: ='Ano 2'!M77 -> 354 | F26: ='Ano 3'!M77 -> 358 | G26: ='Ano 4'!M77 -> 390 | H26: ='Ano 5'!M77 -> 421 | I26: ='Ano 6'!$M77 -> 442 | J26: ='Ano 7'!$M77 -> 462 | K26: ='Ano 8'!$M77 -> 459 | L26: ='Ano 9'!$M77 -> 479 | M26: ='Ano 10'!$M77 -> 492 | N26: ='Ano 11'!$M77 -> 506 | O26: ='Ano 12'!$M77 -> 504 | P26: ='Ano 13'!$M77 -> 503 | Q26: ='Ano 14'!$M77 -> 515 | R26: ='Ano 15'!$M77 -> 523 | S26: ='Ano 16'!$M77 -> 530 | T26: ='Ano 17'!$M77 -> 448 | U26: ='Ano 18'!$M77 -> 454 | V26: ='Ano 19'!$M77 -> 449 | W26: ='Ano 20'!$M77 -> 454 | X26: ='Ano 21'!$M77 -> 460 | Y26: ='Ano 22'!$M77 -> 459 | Z26: ='Ano 23'!$M77 -> 459 | AA26: ='Ano 24'!$M77 -> 464 | AB26: ='Ano 25'!$M77 -> 468 | AC26: ='Ano 26'!$M77 -> 473 | AD26: ='Ano 27'!$M77 -> 477 | AE26: ='Ano 28'!$M77 -> 481 | AF26: ='Ano 29'!$M77 -> 459 | AG26: ='Ano 30'!$M77 -> 463 | AH26: ='Ano 31'!$M77 -> 467 | AI26: ='Ano 32'!$M77 -> 470 | AJ26: ='Ano 33'!$M77 -> 473 | AK26: ='Ano 34'!$M77 -> 476 | AL26: ='Ano 35'!$M77 -> 480 | AO26: Remuneração dos Cargos Táticos, Executivos e Funções Gratificadas
B27: Folha de pagamento sem encargos anual | C27: R$ | D27: ='Ano 1'!R70 -> 1865731.4 | E27: ='Ano 2'!R70 -> 1984578.4 | F27: ='Ano 3'!R70 -> 2082390.9 | G27: ='Ano 4'!R70 -> 2055576.5 | H27: ='Ano 5'!R70 -> 2108986 | I27: ='Ano 6'!R70 -> 2190194.6 | J27: ='Ano 7'!R70 -> 2210749.7 | K27: ='Ano 8'!R70 -> 2313604.4 | L27: ='Ano 9'!R70 -> 2361842.9 | M27: ='Ano 10'!R70 -> 2361842.9 | N27: ='Ano 11'!$R70 -> 2361842.9 | O27: ='Ano 12'!$R70 -> 2361842.9 | P27: ='Ano 13'!$R70 -> 2414572.7 | Q27: ='Ano 14'!$R70 -> 2414572.7 | R27: ='Ano 15'!$R70 -> 2414572.7 | S27: ='Ano 16'!$R70 -> 2414572.7 | T27: ='Ano 17'!$R70 -> 2754881.8 | U27: ='Ano 18'!$R70 -> 2754881.8 | V27: ='Ano 19'!$R70 -> 2825620.4 | W27: ='Ano 20'!R70 -> 2825620.4 | X27: ='Ano 21'!$R70 -> 2825620.4 | Y27: ='Ano 22'!$R70 -> 2825620.4 | Z27: ='Ano 23'!$R70 -> 2875691.3 | AA27: ='Ano 24'!$R70 -> 2875691.3 | AB27: ='Ano 25'!$R70 -> 2875691.3 | AC27: ='Ano 26'!$R70 -> 2875691.3 | AD27: ='Ano 27'!$R70 -> 2875691.3 | AE27: ='Ano 28'!$R70 -> 2875691.3 | AF27: ='Ano 29'!$R70 -> 2992399.6 | AG27: ='Ano 30'!$R70 -> 2992399.6 | AH27: ='Ano 31'!$R70 -> 2992399.6 | AI27: ='Ano 32'!$R70 -> 2992399.6 | AJ27: ='Ano 33'!$R70 -> 2992399.6 | AK27: ='Ano 34'!$R70 -> 2992399.6 | AL27: ='Ano 35'!$R70 -> 2992399.6 | AM27: =SUM(D27:AL27) -> 90930665 | AN27: =AM27/AM29 -> 0.47305333 | AO27: Item | AP27: Descrição | AQ27: Valor | AR27: Item | AS27: Descrição | AT27: Valor | AU27: Item | AV27: Descrição | AW27: Valor
B28: Encargos sobre a folha de pagamento anual | C28: R$ | D28: ='Ano 1'!R71 -> 1968865.4 | E28: ='Ano 2'!R71 -> 2119263.6 | F28: ='Ano 3'!R71 -> 2257221.3 | G28: ='Ano 4'!R71 -> 2219401.5 | H28: ='Ano 5'!R71 -> 2282684.6 | I28: ='Ano 6'!R71 -> 2353742.1 | J28: ='Ano 7'!R71 -> 2382733.7 | K28: ='Ano 8'!R71 -> 2527803 | L28: ='Ano 9'!R71 -> 2595840.1 | M28: ='Ano 10'!R71 -> 2595840.1 | N28: ='Ano 11'!R71 -> 2595840.1 | O28: ='Ano 12'!$R71 -> 2595840.1 | P28: ='Ano 13'!$R71 -> 2652984.5 | Q28: ='Ano 14'!$R71 -> 2652984.5 | R28: ='Ano 15'!$R71 -> 2652984.5 | S28: ='Ano 16'!$R71 -> 2652984.5 | T28: ='Ano 17'!$R71 -> 3103680.5 | U28: ='Ano 18'!$R71 -> 3103680.5 | V28: ='Ano 19'!$R71 -> 3191405.1 | W28: ='Ano 20'!R71 -> 3191405.1 | X28: ='Ano 21'!$R71 -> 3191405.1 | Y28: ='Ano 22'!$R71 -> 3191405.1 | Z28: ='Ano 23'!$R71 -> 3235217.2 | AA28: ='Ano 24'!$R71 -> 3235217.2 | AB28: ='Ano 25'!$R71 -> 3235217.2 | AC28: ='Ano 26'!$R71 -> 3235217.2 | AD28: ='Ano 27'!$R71 -> 3235217.2 | AE28: ='Ano 28'!$R71 -> 3235217.2 | AF28: ='Ano 29'!$R71 -> 3399826.1 | AG28: ='Ano 30'!$R71 -> 3399826.1 | AH28: ='Ano 31'!$R71 -> 3399826.1 | AI28: ='Ano 32'!$R71 -> 3399826.1 | AJ28: ='Ano 33'!$R71 -> 3399826.1 | AK28: ='Ano 34'!$R71 -> 3399826.1 | AL28: ='Ano 35'!$R71 -> 3399826.1 | AM28: =SUM(D28:AL28) -> 1.0129008e+08 | AN28: =AM28/AM29 -> 0.52694667 | AO28: 1 | AP28: Diretor Presidente | AQ28: ='Folha de dados'!AQ31 -> 18758.01 | AR28: =AO31+1 -> 5 | AS28: Ass. CS/ RC/ RI | AT28: ='Folha de dados'!AT31 -> 11254.806 | AU28: =AR31+1 -> 9 | AV28: Supervisão Jurídica | AW28: ='Folha de dados'!AW31 -> 1219.2706
B29: Custo anual de mão de obra e encargos sociais | C29: R$ | D29: ='Ano 1'!R72 -> 3834596.8 | E29: ='Ano 2'!R72 -> 4103842 | F29: ='Ano 3'!R72 -> 4339612.1 | G29: ='Ano 4'!R72 -> 4274978 | H29: ='Ano 5'!R72 -> 4391670.6 | I29: ='Ano 6'!R72 -> 4543936.7 | J29: ='Ano 7'!R72 -> 4593483.5 | K29: ='Ano 8'!R72 -> 4841407.4 | L29: ='Ano 9'!R72 -> 4957683 | M29: ='Ano 10'!R72 -> 4957683 | N29: ='Ano 11'!R72 -> 4957683 | O29: ='Ano 12'!$R72 -> 4957683 | P29: ='Ano 13'!$R72 -> 5067557.3 | Q29: ='Ano 14'!$R72 -> 5067557.3 | R29: ='Ano 15'!$R72 -> 5067557.3 | S29: ='Ano 16'!$R72 -> 5067557.3 | T29: ='Ano 17'!$R72 -> 5858562.3 | U29: ='Ano 18'!$R72 -> 5858562.3 | V29: ='Ano 19'!$R72 -> 6017025.5 | W29: ='Ano 20'!R72 -> 6017025.5 | X29: ='Ano 21'!$R72 -> 6017025.5 | Y29: ='Ano 22'!$R72 -> 6017025.5 | Z29: ='Ano 23'!$R72 -> 6110908.5 | AA29: ='Ano 24'!$R72 -> 6110908.5 | AB29: ='Ano 25'!$R72 -> 6110908.5 | AC29: ='Ano 26'!$R72 -> 6110908.5 | AD29: ='Ano 27'!$R72 -> 6110908.5 | AE29: ='Ano 28'!$R72 -> 6110908.5 | AF29: ='Ano 29'!$R72 -> 6392225.7 | AG29: ='Ano 30'!$R72 -> 6392225.7 | AH29: ='Ano 31'!$R72 -> 6392225.7 | AI29: ='Ano 32'!$R72 -> 6392225.7 | AJ29: ='Ano 33'!$R72 -> 6392225.7 | AK29: ='Ano 34'!$R72 -> 6392225.7 | AL29: ='Ano 35'!$R72 -> 6392225.7 | AM29: =SUM(D29:AL29) -> 1.9222075e+08 | AN29: =AM28/AM27 -> 1.1139265 | AO29: =AO28+1 -> 2 | AP29: Diretor | AQ29: ='Folha de dados'!AQ32 -> 15006.408 | AR29: =AR28+1 -> 6 | AS29: Secretário Executivo | AT29: ='Folha de dados'!AT32 -> 8441.1045 | AU29: =AU28+1 -> 10 | AV29: Chefia de Divisão | AW29: ='Folha de dados'!AW32 -> 1219.2706
B30: Crescimento | D30: =D29/$D$29 -> 1 | E30: =E29/$D$29 -> 1.0702147 | F30: =F29/$D$29 -> 1.1316997 | G30: =G29/$D$29 -> 1.1148442 | H30: =H29/$D$29 -> 1.1452757 | I30: =I29/$D$29 -> 1.1849842 | J30: =J29/$D$29 -> 1.1979052 | K30: =K29/$D$29 -> 1.2625597 | ... AL30: =AL29/$D$29 -> 1.6669877 | AO30: =AO29+1 -> 3 | AP30: Gerente /Ass Téc. / Ass. Amb/Chefe de Gabinete | AQ30: ='Folha de dados'!AQ33 -> 12192.707 | AR30: =AR29+1 -> 7 | AS30: Conselheiro Administração | AT30: ='Folha de dados'!AT33 -> 1875.801 | AU30: =AU29+1 -> 11 | AV30: Chefia de Setor | AW30: ='Folha de dados'!AW33 -> 1219.2706
B31: % de Custo cargos de Operacionais | D31: =(D32+D34+D36+D37)/D47 -> 0.3651501 | E31: =(E32+E34+E36+E37)/E47 -> 0.39210123 | F31: =(F32+F34+F36+F37)/F47 -> 0.42512832 | G31: =(G32+G34+G36+G37)/G47 -> 0.41643671 | H31: =(H32+H34+H36+H37)/H47 -> 0.42233654 | I31: =(I32+I34+I36+I37)/I47 -> 0.40818412 | J31: =(J32+J34+J36+J37)/J47 -> 0.41456765 | K31: =(K32+K34+K36+K37)/K47 -> 0.44454717 | ... AL31: =(AL32+AL34+AL36+AL37)/AL47 -> 0.50827206 | AO31: =AO30+1 -> 4 | AP31: Auditor Geral /Ass Júridico/Corregedor Geral | AQ31: ='Folha de dados'!AQ34 -> 11254.806 | AR31: =AR30+1 -> 8 | AS31: Conselheiro Fiscal/Comitê Estatutário | AT31: ='Folha de dados'!AT34 -> 1875.801 | AU31: =AU30+1 -> 12 | AV31: Supervisão de Equipe | AW31: ='Folha de dados'!AW34 -> 655.72863
B32: Área técnica - Manutenção de Redes - Operacional | D32: ='Ano 1'!$R75 -> 795483.26 | E32: ='Ano 2'!$R75 -> 795483.26 | F32: ='Ano 3'!$R75 -> 845030.04 | G32: ='Ano 4'!$R75 -> 911758.94 | H32: ='Ano 5'!$R75 -> 1101492.4 | I32: ='Ano 6'!$R75 -> 1101492.4 | J32: ='Ano 7'!$R75 -> 1151039.1 | K32: ='Ano 8'!$R75 -> 1221748.4 | L32: ='Ano 9'!$R75 -> 1338024.1 | M32: ='Ano 10'!$R75 -> 1338024.1 | N32: ='Ano 11'!$R75 -> 1338024.1 | O32: ='Ano 12'!$R75 -> 1338024.1 | P32: ='Ano 13'!$R75 -> 1387570.9 | Q32: ='Ano 14'!$R75 -> 1387570.9 | R32: ='Ano 15'!$R75 -> 1387570.9 | S32: ='Ano 16'!$R75 -> 1387570.9 | T32: ='Ano 17'!$R75 -> 1453528.3 | U32: ='Ano 18'!$R75 -> 1453528.3 | V32: ='Ano 19'!$R75 -> 1569804 | W32: ='Ano 20'!$R75 -> 1569804 | X32: ='Ano 21'!$R75 -> 1569804 | Y32: ='Ano 22'!$R75 -> 1569804 | Z32: ='Ano 23'!$R75 -> 1569804 | AA32: ='Ano 24'!$R75 -> 1569804 | AB32: ='Ano 25'!$R75 -> 1569804 | AC32: ='Ano 26'!$R75 -> 1569804 | AD32: ='Ano 27'!$R75 -> 1569804 | AE32: ='Ano 28'!$R75 -> 1569804 | AF32: ='Ano 29'!$R75 -> 1619350.8 | AG32: ='Ano 30'!$R75 -> 1619350.8 | AH32: ='Ano 31'!$R75 -> 1619350.8 | AI32: ='Ano 32'!$R75 -> 1619350.8 | AJ32: ='Ano 33'!$R75 -> 1619350.8 | AK32: ='Ano 34'!$R75 -> 1619350.8 | AL32: ='Ano 35'!$R75 -> 1619350.8 | AM32: =SUM(D32:AL32) -> 48766460 | AN32: =AM32/$AM$47 -> 0.25370085
B33: Área técnica - Manut de Redes - Técnica | D33: ='Ano 1'!$R76 -> 114050.46 | E33: ='Ano 2'!$R76 -> 114050.46 | F33: ='Ano 3'!$R76 -> 114050.46 | G33: ='Ano 4'!$R76 -> 114050.46 | H33: ='Ano 5'!$R76 -> 114050.46 | I33: ='Ano 6'!$R76 -> 114050.46 | J33: ='Ano 7'!$R76 -> 114050.46 | K33: ='Ano 8'!$R76 -> 114050.46 | L33: ='Ano 9'!$R76 -> 114050.46 | M33: ='Ano 10'!$R76 -> 114050.46 | N33: ='Ano 11'!$R76 -> 114050.46 | O33: ='Ano 12'!$R76 -> 114050.46 | P33: ='Ano 13'!$R76 -> 114050.46 | Q33: ='Ano 14'!$R76 -> 114050.46 | R33: ='Ano 15'!$R76 -> 114050.46 | S33: ='Ano 16'!$R76 -> 114050.46 | T33: ='Ano 17'!$R76 -> 191605.18 | U33: ='Ano 18'!$R76 -> 191605.18 | V33: ='Ano 19'!$R76 -> 191605.18 | W33: ='Ano 20'!$R76 -> 191605.18 | X33: ='Ano 21'!$R76 -> 191605.18 | Y33: ='Ano 22'!$R76 -> 191605.18 | Z33: ='Ano 23'!$R76 -> 191605.18 | AA33: ='Ano 24'!$R76 -> 191605.18 | AB33: ='Ano 25'!$R76 -> 191605.18 | AC33: ='Ano 26'!$R76 -> 191605.18 | AD33: ='Ano 27'!$R76 -> 191605.18 | AE33: ='Ano 28'!$R76 -> 191605.18 | AF33: ='Ano 29'!$R76 -> 191605.18 | AG33: ='Ano 30'!$R76 -> 191605.18 | AH33: ='Ano 31'!$R76 -> 191605.18 | AI33: ='Ano 32'!$R76 -> 191605.18 | AJ33: ='Ano 33'!$R76 -> 191605.18 | AK33: ='Ano 34'!$R76 -> 191605.18 | AL33: ='Ano 35'!$R76 -> 191605.18 | AM33: =SUM(D33:AL33) -> 5465305.7 | AN33: =AM33/$AM$47 -> 0.028432507
B34: Área técnica - Manut Eletromecânica - Operacional | D34: ='Ano 1'!$R77 -> 0 | E34: ='Ano 2'!$R77 -> 0 | F34: ='Ano 3'!$R77 -> 120541.84 | G34: ='Ano 4'!$R77 -> 120541.84 | H34: ='Ano 5'!$R77 -> 120541.84 | I34: ='Ano 6'!$R77 -> 120541.84 | J34: ='Ano 7'!$R77 -> 120541.84 | K34: ='Ano 8'!$R77 -> 120541.84 | L34: ='Ano 9'!$R77 -> 120541.84 | M34: ='Ano 10'!$R77 -> 120541.84 | N34: ='Ano 11'!$R77 -> 120541.84 | O34: ='Ano 12'!$R77 -> 120541.84 | P34: ='Ano 13'!$R77 -> 120541.84 | Q34: ='Ano 14'!$R77 -> 120541.84 | R34: ='Ano 15'!$R77 -> 120541.84 | S34: ='Ano 16'!$R77 -> 120541.84 | T34: ='Ano 17'!$R77 -> 120541.84 | U34: ='Ano 18'!$R77 -> 120541.84 | V34: ='Ano 19'!$R77 -> 120541.84 | W34: ='Ano 20'!$R77 -> 120541.84 | X34: ='Ano 21'!$R77 -> 120541.84 | Y34: ='Ano 22'!$R77 -> 120541.84 | Z34: ='Ano 23'!$R77 -> 120541.84 | AA34: ='Ano 24'!$R77 -> 120541.84 | AB34: ='Ano 25'!$R77 -> 120541.84 | AC34: ='Ano 26'!$R77 -> 120541.84 | AD34: ='Ano 27'!$R77 -> 120541.84 | AE34: ='Ano 28'!$R77 -> 120541.84 | AF34: ='Ano 29'!$R77 -> 352312.21 | AG34: ='Ano 30'!$R77 -> 352312.21 | AH34: ='Ano 31'!$R77 -> 352312.21 | AI34: ='Ano 32'!$R77 -> 352312.21 | AJ34: ='Ano 33'!$R77 -> 352312.21 | AK34: ='Ano 34'!$R77 -> 352312.21 | AL34: ='Ano 35'!$R77 -> 352312.21 | AM34: =SUM(D34:AL34) -> 5600273.4 | AN34: =AM34/$AM$47 -> 0.029134658
B35: Área técnica - Manut Eletromecânica - Técnica | D35: ='Ano 1'!$R78 -> 0 | E35: ='Ano 2'!$R78 -> 0 | F35: ='Ano 3'!$R78 -> 0 | G35: ='Ano 4'!$R78 -> 0 | H35: ='Ano 5'!$R78 -> 0 | I35: ='Ano 6'!$R78 -> 0 | J35: ='Ano 7'!$R78 -> 0 | K35: ='Ano 8'!$R78 -> 0 | L35: ='Ano 9'!$R78 -> 0 | M35: ='Ano 10'!$R78 -> 0 | N35: ='Ano 11'!$R78 -> 0 | O35: ='Ano 12'!$R78 -> 0 | P35: ='Ano 13'!$R78 -> 0 | Q35: ='Ano 14'!$R78 -> 0 | R35: ='Ano 15'!$R78 -> 0 | S35: ='Ano 16'!$R78 -> 0 | T35: ='Ano 17'!$R78 -> 77554.717 | U35: ='Ano 18'!$R78 -> 77554.717 | V35: ='Ano 19'!$R78 -> 77554.717 | W35: ='Ano 20'!$R78 -> 77554.717 | X35: ='Ano 21'!$R78 -> 77554.717 | Y35: ='Ano 22'!$R78 -> 77554.717 | Z35: ='Ano 23'!$R78 -> 77554.717 | AA35: ='Ano 24'!$R78 -> 77554.717 | AB35: ='Ano 25'!$R78 -> 77554.717 | AC35: ='Ano 26'!$R78 -> 77554.717 | AD35: ='Ano 27'!$R78 -> 77554.717 | AE35: ='Ano 28'!$R78 -> 77554.717 | AF35: ='Ano 29'!$R78 -> 77554.717 | AG35: ='Ano 30'!$R78 -> 77554.717 | AH35: ='Ano 31'!$R78 -> 77554.717 | AI35: ='Ano 32'!$R78 -> 77554.717 | AJ35: ='Ano 33'!$R78 -> 77554.717 | AK35: ='Ano 34'!$R78 -> 77554.717 | AL35: ='Ano 35'!$R78 -> 77554.717 | AM35: =SUM(D35:AL35) -> 1473539.6 | AN35: =AM35/$AM$47 -> 0.0076658887
B36: Área técnica - Operação Água | D36: ='Ano 1'!$R79 -> 604715.76 | E36: ='Ano 2'!$R79 -> 604715.76 | F36: ='Ano 3'!$R79 -> 670397.28 | G36: ='Ano 4'!$R79 -> 539034.24 | H36: ='Ano 5'!$R79 -> 423805.95 | I36: ='Ano 6'!$R79 -> 423805.95 | J36: ='Ano 7'!$R79 -> 423805.95 | K36: ='Ano 8'!$R79 -> 423805.95 | L36: ='Ano 9'!$R79 -> 423805.95 | M36: ='Ano 10'!$R79 -> 423805.95 | N36: ='Ano 11'!$R79 -> 423805.95 | O36: ='Ano 12'!$R79 -> 423805.95 | P36: ='Ano 13'!$R79 -> 423805.95 | Q36: ='Ano 14'!$R79 -> 423805.95 | R36: ='Ano 15'!$R79 -> 423805.95 | S36: ='Ano 16'!$R79 -> 423805.95 | T36: ='Ano 17'!$R79 -> 616588.96 | U36: ='Ano 18'!$R79 -> 616588.96 | V36: ='Ano 19'!$R79 -> 616588.96 | W36: ='Ano 20'!$R79 -> 616588.96 | X36: ='Ano 21'!$R79 -> 616588.96 | Y36: ='Ano 22'!$R79 -> 616588.96 | Z36: ='Ano 23'!$R79 -> 616588.96 | AA36: ='Ano 24'!$R79 -> 616588.96 | AB36: ='Ano 25'!$R79 -> 616588.96 | AC36: ='Ano 26'!$R79 -> 616588.96 | AD36: ='Ano 27'!$R79 -> 616588.96 | AE36: ='Ano 28'!$R79 -> 616588.96 | AF36: ='Ano 29'!$R79 -> 616588.96 | AG36: ='Ano 30'!$R79 -> 616588.96 | AH36: ='Ano 31'!$R79 -> 616588.96 | AI36: ='Ano 32'!$R79 -> 616588.96 | AJ36: ='Ano 33'!$R79 -> 616588.96 | AK36: ='Ano 34'!$R79 -> 616588.96 | AL36: ='Ano 35'!$R79 -> 616588.96 | AM36: =SUM(D36:AL36) -> 19219725 | AN36: =AM36/$AM$47 -> 0.099987993
B37: Área técnica - Operação Esgoto | D37: ='Ano 1'!$R80 -> 0 | E37: ='Ano 2'!$R80 -> 208917.75 | F37: ='Ano 3'!$R80 -> 208917.75 | G37: ='Ano 4'!$R80 -> 208917.75 | H37: ='Ano 5'!$R80 -> 208917.75 | I37: ='Ano 6'!$R80 -> 208917.75 | J37: ='Ano 7'!$R80 -> 208917.75 | K37: ='Ano 8'!$R80 -> 386132.37 | L37: ='Ano 9'!$R80 -> 386132.37 | M37: ='Ano 10'!$R80 -> 386132.37 | N37: ='Ano 11'!$R80 -> 386132.37 | O37: ='Ano 12'!$R80 -> 386132.37 | P37: ='Ano 13'!$R80 -> 386132.37 | Q37: ='Ano 14'!$R80 -> 386132.37 | R37: ='Ano 15'!$R80 -> 386132.37 | S37: ='Ano 16'!$R80 -> 386132.37 | T37: ='Ano 17'!$R80 -> 660731.64 | U37: ='Ano 18'!$R80 -> 660731.64 | V37: ='Ano 19'!$R80 -> 660731.64 | W37: ='Ano 20'!$R80 -> 660731.64 | X37: ='Ano 21'!$R80 -> 660731.64 | Y37: ='Ano 22'!$R80 -> 660731.64 | Z37: ='Ano 23'!$R80 -> 660731.64 | AA37: ='Ano 24'!$R80 -> 660731.64 | AB37: ='Ano 25'!$R80 -> 660731.64 | AC37: ='Ano 26'!$R80 -> 660731.64 | AD37: ='Ano 27'!$R80 -> 660731.64 | AE37: ='Ano 28'!$R80 -> 660731.64 | AF37: ='Ano 29'!$R80 -> 660731.64 | AG37: ='Ano 30'!$R80 -> 660731.64 | AH37: ='Ano 31'!$R80 -> 660731.64 | AI37: ='Ano 32'!$R80 -> 660731.64 | AJ37: ='Ano 33'!$R80 -> 660731.64 | AK37: ='Ano 34'!$R80 -> 660731.64 | AL37: ='Ano 35'!$R80 -> 660731.64 | AM37: =SUM(D37:AL37) -> 17282599 | AN37: =AM37/$AM$47 -> 0.089910362
B38: Área técnica - Planejamento | D38: ='Ano 1'!$R81 -> 255513.6 | E38: ='Ano 2'!$R81 -> 255513.6 | F38: ='Ano 3'!$R81 -> 255513.6 | G38: ='Ano 4'!$R81 -> 255513.6 | H38: ='Ano 5'!$R81 -> 255513.6 | I38: ='Ano 6'!$R81 -> 255513.6 | J38: ='Ano 7'!$R81 -> 255513.6 | K38: ='Ano 8'!$R81 -> 255513.6 | L38: ='Ano 9'!$R81 -> 255513.6 | M38: ='Ano 10'!$R81 -> 255513.6 | N38: ='Ano 11'!$R81 -> 255513.6 | O38: ='Ano 12'!$R81 -> 255513.6 | P38: ='Ano 13'!$R81 -> 255513.6 | Q38: ='Ano 14'!$R81 -> 255513.6 | R38: ='Ano 15'!$R81 -> 255513.6 | S38: ='Ano 16'!$R81 -> 255513.6 | T38: ='Ano 17'!$R81 -> 255513.6 | U38: ='Ano 18'!$R81 -> 255513.6 | V38: ='Ano 19'!$R81 -> 255513.6 | W38: ='Ano 20'!$R81 -> 255513.6 | X38: ='Ano 21'!$R81 -> 255513.6 | Y38: ='Ano 22'!$R81 -> 255513.6 | Z38: ='Ano 23'!$R81 -> 255513.6 | AA38: ='Ano 24'!$R81 -> 255513.6 | AB38: ='Ano 25'!$R81 -> 255513.6 | AC38: ='Ano 26'!$R81 -> 255513.6 | AD38: ='Ano 27'!$R81 -> 255513.6 | AE38: ='Ano 28'!$R81 -> 255513.6 | AF38: ='Ano 29'!$R81 -> 255513.6 | AG38: ='Ano 30'!$R81 -> 255513.6 | AH38: ='Ano 31'!$R81 -> 255513.6 | AI38: ='Ano 32'!$R81 -> 255513.6 | AJ38: ='Ano 33'!$R81 -> 255513.6 | AK38: ='Ano 34'!$R81 -> 255513.6 | AL38: ='Ano 35'!$R81 -> 255513.6 | AM38: =SUM(D38:AL38) -> 8942976 | AN38: =AM38/$AM$47 -> 0.046524612
B39: Área Administrativa - Comercial | D39: ='Ano 1'!$R82 -> 298994.85 | E39: ='Ano 2'!$R82 -> 298994.85 | F39: ='Ano 3'!$R82 -> 298994.85 | G39: ='Ano 4'!$R82 -> 298994.85 | H39: ='Ano 5'!$R82 -> 298994.85 | I39: ='Ano 6'!$R82 -> 298994.85 | J39: ='Ano 7'!$R82 -> 298994.85 | K39: ='Ano 8'!$R82 -> 298994.85 | L39: ='Ano 9'!$R82 -> 298994.85 | M39: ='Ano 10'!$R82 -> 298994.85 | N39: ='Ano 11'!$R82 -> 298994.85 | O39: ='Ano 12'!$R82 -> 298994.85 | P39: ='Ano 13'!$R82 -> 298994.85 | Q39: ='Ano 14'!$R82 -> 298994.85 | R39: ='Ano 15'!$R82 -> 298994.85 | S39: ='Ano 16'!$R82 -> 298994.85 | T39: ='Ano 17'!$R82 -> 401550.75 | U39: ='Ano 18'!$R82 -> 401550.75 | V39: ='Ano 19'!$R82 -> 401550.75 | W39: ='Ano 20'!$R82 -> 401550.75 | X39: ='Ano 21'!$R82 -> 401550.75 | Y39: ='Ano 22'!$R82 -> 401550.75 | Z39: ='Ano 23'!$R82 -> 495433.8 | AA39: ='Ano 24'!$R82 -> 495433.8 | AB39: ='Ano 25'!$R82 -> 495433.8 | AC39: ='Ano 26'!$R82 -> 495433.8 | AD39: ='Ano 27'!$R82 -> 495433.8 | AE39: ='Ano 28'!$R82 -> 495433.8 | AF39: ='Ano 29'!$R82 -> 495433.8 | AG39: ='Ano 30'!$R82 -> 495433.8 | AH39: ='Ano 31'!$R82 -> 495433.8 | AI39: ='Ano 32'!$R82 -> 495433.8 | AJ39: ='Ano 33'!$R82 -> 495433.8 | AK39: ='Ano 34'!$R82 -> 495433.8 | AL39: ='Ano 35'!$R82 -> 495433.8 | AM39: =SUM(D39:AL39) -> 13633862 | AN39: =AM39/$AM$47 -> 0.070928303
B40: Área Administrativa - Geral | D40: ='Ano 1'!$R83 -> 225451.57 | E40: ='Ano 2'!$R83 -> 285779.03 | F40: ='Ano 3'!$R83 -> 285779.03 | G40: ='Ano 4'!$R83 -> 285779.03 | H40: ='Ano 5'!$R83 -> 285779.03 | I40: ='Ano 6'!$R83 -> 438045.07 | J40: ='Ano 7'!$R83 -> 438045.07 | K40: ='Ano 8'!$R83 -> 438045.07 | L40: ='Ano 9'!$R83 -> 438045.07 | M40: ='Ano 10'!$R83 -> 438045.07 | N40: ='Ano 11'!$R83 -> 438045.07 | O40: ='Ano 12'!$R83 -> 438045.07 | P40: ='Ano 13'!$R83 -> 498372.52 | Q40: ='Ano 14'!$R83 -> 498372.52 | R40: ='Ano 15'!$R83 -> 498372.52 | S40: ='Ano 16'!$R83 -> 498372.52 | T40: ='Ano 17'!$R83 -> 498372.52 | U40: ='Ano 18'!$R83 -> 498372.52 | V40: ='Ano 19'!$R83 -> 498372.52 | W40: ='Ano 20'!$R83 -> 498372.52 | X40: ='Ano 21'!$R83 -> 498372.52 | Y40: ='Ano 22'!$R83 -> 498372.52 | Z40: ='Ano 23'!$R83 -> 498372.52 | AA40: ='Ano 24'!$R83 -> 498372.52 | AB40: ='Ano 25'!$R83 -> 498372.52 | AC40: ='Ano 26'!$R83 -> 498372.52 | AD40: ='Ano 27'!$R83 -> 498372.52 | AE40: ='Ano 28'!$R83 -> 498372.52 | AF40: ='Ano 29'!$R83 -> 498372.52 | AG40: ='Ano 30'!$R83 -> 498372.52 | AH40: ='Ano 31'!$R83 -> 498372.52 | AI40: ='Ano 32'!$R83 -> 498372.52 | AJ40: ='Ano 33'!$R83 -> 498372.52 | AK40: ='Ano 34'!$R83 -> 498372.52 | AL40: ='Ano 35'!$R83 -> 498372.52 | AM40: =SUM(D40:AL40) -> 15897451 | AN40: =AM40/$AM$47 -> 0.08270432
B41: Área Administrativa - Pratimonial | D41: ='Ano 1'!$R84 -> 0 | E41: ='Ano 2'!$R84 -> 0 | F41: ='Ano 3'!$R84 -> 0 | G41: ='Ano 4'!$R84 -> 0 | H41: ='Ano 5'!$R84 -> 0 | I41: ='Ano 6'!$R84 -> 0 | J41: ='Ano 7'!$R84 -> 0 | K41: ='Ano 8'!$R84 -> 0 | L41: ='Ano 9'!$R84 -> 0 | M41: ='Ano 10'!$R84 -> 0 | N41: ='Ano 11'!$R84 -> 0 | O41: ='Ano 12'!$R84 -> 0 | P41: ='Ano 13'!$R84 -> 0 | Q41: ='Ano 14'!$R84 -> 0 | R41: ='Ano 15'!$R84 -> 0 | S41: ='Ano 16'!$R84 -> 0 | T41: ='Ano 17'!$R84 -> 0 | U41: ='Ano 18'!$R84 -> 0 | V41: ='Ano 19'!$R84 -> 0 | W41: ='Ano 20'!$R84 -> 0 | X41: ='Ano 21'!$R84 -> 0 | Y41: ='Ano 22'!$R84 -> 0 | Z41: ='Ano 23'!$R84 -> 0 | AA41: ='Ano 24'!$R84 -> 0 | AB41: ='Ano 25'!$R84 -> 0 | AC41: ='Ano 26'!$R84 -> 0 | AD41: ='Ano 27'!$R84 -> 0 | AE41: ='Ano 28'!$R84 -> 0 | AF41: ='Ano 29'!$R84 -> 0 | AG41: ='Ano 30'!$R84 -> 0 | AH41: ='Ano 31'!$R84 -> 0 | AI41: ='Ano 32'!$R84 -> 0 | AJ41: ='Ano 33'!$R84 -> 0 | AK41: ='Ano 34'!$R84 -> 0 | AL41: ='Ano 35'!$R84 -> 0 | AM41: =SUM(D41:AL41) -> 0 | AN41: =AM41/$AM$47 -> 0
B42: Conselheiro Administração | D42: ='Ano 1'!$R85 -> 0 | E42: ='Ano 2'!$R85 -> 0 | F42: ='Ano 3'!$R85 -> 0 | G42: ='Ano 4'!$R85 -> 0 | H42: ='Ano 5'!$R85 -> 0 | I42: ='Ano 6'!$R85 -> 0 | J42: ='Ano 7'!$R85 -> 0 | K42: ='Ano 8'!$R85 -> 0 | L42: ='Ano 9'!$R85 -> 0 | M42: ='Ano 10'!$R85 -> 0 | N42: ='Ano 11'!$R85 -> 0 | O42: ='Ano 12'!$R85 -> 0 | P42: ='Ano 13'!$R85 -> 0 | Q42: ='Ano 14'!$R85 -> 0 | R42: ='Ano 15'!$R85 -> 0 | S42: ='Ano 16'!$R85 -> 0 | T42: ='Ano 17'!$R85 -> 0 | U42: ='Ano 18'!$R85 -> 0 | V42: ='Ano 19'!$R85 -> 0 | W42: ='Ano 20'!$R85 -> 0 | X42: ='Ano 21'!$R85 -> 0 | Y42: ='Ano 22'!$R85 -> 0 | Z42: ='Ano 23'!$R85 -> 0 | AA42: ='Ano 24'!$R85 -> 0 | AB42: ='Ano 25'!$R85 -> 0 | AC42: ='Ano 26'!$R85 -> 0 | AD42: ='Ano 27'!$R85 -> 0 | AE42: ='Ano 28'!$R85 -> 0 | AF42: ='Ano 29'!$R85 -> 0 | AG42: ='Ano 30'!$R85 -> 0 | AH42: ='Ano 31'!$R85 -> 0 | AI42: ='Ano 32'!$R85 -> 0 | AJ42: ='Ano 33'!$R85 -> 0 | AK42: ='Ano 34'!$R85 -> 0 | AL42: ='Ano 35'!$R85 -> 0 | AM42: =SUM(D42:AL42) -> 0 | AN42: =AM42/$AM$47 -> 0
B43: Conselheiro Fiscal | D43: ='Ano 1'!$R86 -> 0 | E43: ='Ano 2'!$R86 -> 0 | F43: ='Ano 3'!$R86 -> 0 | G43: ='Ano 4'!$R86 -> 0 | H43: ='Ano 5'!$R86 -> 0 | I43: ='Ano 6'!$R86 -> 0 | J43: ='Ano 7'!$R86 -> 0 | K43: ='Ano 8'!$R86 -> 0 | L43: ='Ano 9'!$R86 -> 0 | M43: ='Ano 10'!$R86 -> 0 | N43: ='Ano 11'!$R86 -> 0 | O43: ='Ano 12'!$R86 -> 0 | P43: ='Ano 13'!$R86 -> 0 | Q43: ='Ano 14'!$R86 -> 0 | R43: ='Ano 15'!$R86 -> 0 | S43: ='Ano 16'!$R86 -> 0 | T43: ='Ano 17'!$R86 -> 0 | U43: ='Ano 18'!$R86 -> 0 | V43: ='Ano 19'!$R86 -> 0 | W43: ='Ano 20'!$R86 -> 0 | X43: ='Ano 21'!$R86 -> 0 | Y43: ='Ano 22'!$R86 -> 0 | Z43: ='Ano 23'!$R86 -> 0 | AA43: ='Ano 24'!$R86 -> 0 | AB43: ='Ano 25'!$R86 -> 0 | AC43: ='Ano 26'!$R86 -> 0 | AD43: ='Ano 27'!$R86 -> 0 | AE43: ='Ano 28'!$R86 -> 0 | AF43: ='Ano 29'!$R86 -> 0 | AG43: ='Ano 30'!$R86 -> 0 | AH43: ='Ano 31'!$R86 -> 0 | AI43: ='Ano 32'!$R86 -> 0 | AJ43: ='Ano 33'!$R86 -> 0 | AK43: ='Ano 34'!$R86 -> 0 | AL43: ='Ano 35'!$R86 -> 0 | AM43: =SUM(D43:AL43) -> 0 | AN43: =AM43/$AM$47 -> 0
... B46: Funçoes Gratificadas | D46: ='Ano 1'!$R89 -> 295312.39 | E46: ='Ano 2'!$R89 -> 295312.39 | F46: ='Ano 3'!$R89 -> 295312.39 | G46: ='Ano 4'!$R89 -> 295312.39 | H46: ='Ano 5'!$R89 -> 337499.87 | I46: ='Ano 6'!$R89 -> 337499.87 | J46: ='Ano 7'!$R89 -> 337499.87 | K46: ='Ano 8'!$R89 -> 337499.87 | L46: ='Ano 9'!$R89 -> 337499.87 | M46: ='Ano 10'!$R89 -> 337499.87 | N46: ='Ano 11'!$R89 -> 337499.87 | O46: ='Ano 12'!$R89 -> 337499.87 | P46: ='Ano 13'!$R89 -> 337499.87 | Q46: ='Ano 14'!$R89 -> 337499.87 | R46: ='Ano 15'!$R89 -> 337499.87 | S46: ='Ano 16'!$R89 -> 337499.87 | T46: ='Ano 17'!$R89 -> 337499.87 | U46: ='Ano 18'!$R89 -> 337499.87 | V46: ='Ano 19'!$R89 -> 379687.35 | W46: ='Ano 20'!$R89 -> 379687.35 | X46: ='Ano 21'!$R89 -> 379687.35 | Y46: ='Ano 22'!$R89 -> 379687.35 | Z46: ='Ano 23'!$R89 -> 379687.35 | AA46: ='Ano 24'!$R89 -> 379687.35 | AB46: ='Ano 25'!$R89 -> 379687.35 | AC46: ='Ano 26'!$R89 -> 379687.35 | AD46: ='Ano 27'!$R89 -> 379687.35 | AE46: ='Ano 28'!$R89 -> 379687.35 | AF46: ='Ano 29'!$R89 -> 379687.35 | AG46: ='Ano 30'!$R89 -> 379687.35 | AH46: ='Ano 31'!$R89 -> 379687.35 | AI46: ='Ano 32'!$R89 -> 379687.35 | AJ46: ='Ano 33'!$R89 -> 379687.35 | AK46: ='Ano 34'!$R89 -> 379687.35 | AL46: ='Ano 35'!$R89 -> 379687.35 | AM46: =SUM(D46:AL46) -> 12360933 | AN46: =AM46/$AM$47 -> 0.064306065
B47: Total | D47: =SUM(D32:D46) -> 3834584.8 | E47: =SUM(E32:E46) -> 4103830 | F47: =SUM(F32:F46) -> 4339600.1 | G47: =SUM(G32:G46) -> 4274966 | H47: =SUM(H32:H46) -> 4391658.6 | I47: =SUM(I32:I46) -> 4543924.7 | J47: =SUM(J32:J46) -> 4593471.5 | K47: =SUM(K32:K46) -> 4841395.4 | ... AH47: =SUM(AH32:AH46) -> 6392213.7 | AI47: ='Ano 32'!$R90 -> 6392213.7 | AJ47: ='Ano 33'!$R90 -> 6392213.7 | AK47: ='Ano 34'!$R90 -> 6392213.7 | AL47: ='Ano 35'!$R90 -> 6392213.7 | AM47: =SUM(D47:AL47) -> 1.9222033e+08 | AN47: =SUM(AN32:AN46) -> 1
D48: =D29-D47 -> 12 | E48: =E29-E47 -> 12 | F48: =F29-F47 -> 12 | G48: =G29-G47 -> 12 | H48: =H29-H47 -> 12 | I48: =I29-I47 -> 12 | J48: =J29-J47 -> 12 | K48: =K29-K47 -> 12 | ... AL48: =AL29-AL47 -> 12
B52: EVOLUÇÃO ANUAL DOS PRINCIPAIS INDICADORES FINANCEIROS

Sheet Ano 1
C1: Tipo de Operador : Público (0) ou SEM/Empresa Privada (1) | F1: ='Folha de dados'!$D$5 -> 1
P2: Remuneração Média dos Cargos do Quadro Permanente
A3: 0 | C3: Relação de Cargos do Quadro Permanente | G3: Relação de Cargos do Quadro Permanente | K3: Relação de Cargos do Quadro Permanente | P3: Área técnica - Atividade-fim | U3: Área Administrativa - Atividade-meio
C4: Área técnica - Manutenção de Redes Operacional | G4: Área técnica - Operação Água | K4: Área Administrativa - Comercial | P4: Classe | Q4: Descrição | R4: Valor | S4: Classe | T4: Descrição | U4: Valor | V4: Classe | W4: Descrição | X4: Valor
C5: Item | D5: Descrição | E5: Quantidade | G5: Item | H5: Descrição | I5: Quantidade | K5: Item | L5: Descrição | M5: Quantidade | P5: =Resumo!AO5 -> C | Q5: =Resumo!AP5 -> Auxiliar Operacional (Calceteiro/Pedreiro) | R5: =Resumo!AQ5 -> 2280.28 | S5: =Resumo!AR5 -> C | T5: =Resumo!AS5 -> Assistente Técnico (Desenhista) | U5: =Resumo!AT5 -> 3797.55 | V5: =Resumo!AU5 -> B | W5: =Resumo!AV5 -> Auxiliar Administrativo (Call Center) | X5: =Resumo!AW5 -> 1876.82
C6: 1 | D6: =Q51 -> Auxiliar Operacional (Servente/Ajudante) | E6: =IF($M$67+$M$68<81000,1,ROUND((($M$67/25000)*0.31724)+(($M$68/30000)*0.31724)+1,0)) -> 5 | G6: 1 | H6: =Q51 -> Auxiliar Operacional (Servente/Ajudante) | I6: =ROUND(($M$65)/15000*IF($M$61<0.6,1,(1.4-$M$61))+1,0) -> 2 | K6: 1 | L6: =W46 -> Analista (Advogado) | M6: =ROUND(($M$65+$M$66)/400000,0) -> 0 | P6: =Resumo!AO6 -> 0 | Q6: =Resumo!AP6 -> Auxiliar Operacional (Encarregado Turma) | R6: =Resumo!AQ6 -> 0 | S6: =Resumo!AR6 -> 0 | T6: =Resumo!AS6 -> Assistente Técnico (Edificações) | U6: =Resumo!AT6 -> 0 | V6: =Resumo!AU6 -> 0 | W6: =Resumo!AV6 -> Auxiliar Operacional (Copeiro/Faxineiro) | X6: =Resumo!AW6 -> 0
C7: =C6+1 -> 2 | D7: =Q36 -> Auxiliar Operacional (Calceteiro/Pedreiro) | E7: =IF($M$67+$M$68<81000,1,ROUND((($M$67/25000)*0.01717)+(($M$68/30000)*0.01717)+1,0)) -> 1 | G7: =G6+1 -> 2 | H7: =Q46 -> Auxiliar Operacional (Operador de bombas) | I7: =ROUND(($M$65)/15000*IF($M$61<0.6,1,(1.4-$M$61)),0) -> 1 | K7: 1 | L7: =W41 -> Assistente Administrativo | M7: =ROUND(($M$65+$M$66)/25000+1,0) -> 2 | P7: =Resumo!AO7 -> 0 | Q7: =Resumo!AP7 -> Auxiliar Operacional (Encanador) | R7: =Resumo!AQ7 -> 0 | S7: =Resumo!AR7 -> 0 | T7: =Resumo!AS7 -> Assistente Técnico (Eletrônica) | U7: =Resumo!AT7 -> 0 | V7: =Resumo!AU7 -> 0 | W7: =Resumo!AV7 -> Auxiliar Operacional (Vigia) | X7: =Resumo!AW7 -> 0
C8: =C7+1 -> 3 | D8: =Q38 -> Auxiliar Operacional (Encanador) | E8: =IF($M$67+$M$68<81000,1,ROUND((($M$67/25000)*0.1515)+(($M$68/30000)*0.1515)+1,0)) -> 3 | G8: =G7+1 -> 3 | H8: =Q47 -> Auxiliar Operacional (Operador de ETA) | I8: =ROUND((($M$65)/15000+1)*IF($M$61<0.6,1,(1.4-$M$61)),0) -> 2 | K8: =K7+1 -> 2 | L8: =W47 -> Analista (Administração/Ecomonia) | M8: =ROUND(($M$65+$M$66)/100000,0) -> 0 | P8: =Resumo!AO8 -> 0 | Q8: =Resumo!AP8 -> Auxiliar Operacional (Eletricista) | R8: =Resumo!AQ8 -> 0 | S8: =Resumo!AR8 -> 0 | T8: =Resumo!AS8 -> Assistente Técnico (Eletrotécnica) | U8: =Resumo!AT8 -> 0 | V8: =Resumo!AU8 -> 0 | W8: =Resumo!AV8 -> Auxiliar Operacional (Leiturista) | X8: =Resumo!AW8 -> 0
C9: =C8+1 -> 4 | D9: =Q50 -> Auxiliar Operacional (Pedreiro) | E9: =IF($M$67+$M$68<81000,0,ROUND((($M$67/25000)*0.02842)+(($M$68/30000)*0.02842)+1,0)) -> 1 | G9: =G8+1 -> 4 | H9: =Q49 -> Auxiliar Operacional (Oper de microsistemas) | I9: =ROUND(($M$65)/9500*IF($M$61<0.6,1,(1.4-$M$61))+1,0) -> 2 | K9: =K12+1 -> 5 | L9: =W36 -> Auxiliar Administrativo (Call Center) | M9: =ROUND(($M$65+$M$66)/25000+1,0) -> 2 | P9: =Resumo!AO9 -> 0 | Q9: =Resumo!AP9 -> Auxiliar Operacional (Laboratorista) | R9: =Resumo!AQ9 -> 0 | S9: =Resumo!AR9 -> 0 | T9: =Resumo!AS9 -> Assistente Técnico (Mecânica) | U9: =Resumo!AT9 -> 0 | V9: =Resumo!AU9 -> 0 | W9: =Resumo!AV9 -> Auxiliar Operacional (Motorista classe A-D) | X9: =Resumo!AW9 -> 0
C10: =C9+1 -> 5 | D10: =Q43 -> Auxiliar Operacional (Motorista classe E) | E10: =IF($M$67+$M$68<81000,1,ROUND((($M$67/25000)*0.02842)+(($M$68/30000)*0.02842)+1,0)) -> 1 | G10: =G9+1 -> 5 | H10: =Q40 -> Auxiliar Operacional (Laboratorista) | I10: =ROUND(($M$65)/25000,0) -> 1 | K10: =K7+1 -> 2 | L10: =W48 -> Analista (Assistente Social) | M10: =ROUND(($M$65+$M$66)/150000,0) -> 0 | P10: =Resumo!AO10 -> C | Q10: =Resumo!AP10 -> Auxiliar Operacional (Mecânico) | R10: =Resumo!AQ10 -> 2454.44 | S10: =Resumo!AR10 -> C | T10: =Resumo!AS10 -> Assistente Técnico (Quimica) | U10: =Resumo!AT10 -> 3685.61 | V10: =Resumo!AU10 -> B | W10: =Resumo!AV10 -> Assistente Administrativo | X10: =Resumo!AW10 -> 2681.22
C11: =C10+1 -> 6 | D11: =Q42 -> Auxiliar Operacional (Motorista classe D) | E11: =IF($M$67+$M$68<81000,0,ROUND((($M$67/25000)*0.06842)+(($M$68/30000)*0.06842+1),0)) -> 2 | G11: =G10+1 -> 6 | H11: =Q54 -> Assistente Técnico (Bioquimica) | I11: =ROUND(($M$65)/25000,0) -> 1 | K11: =K10+1 -> 3 | L11: =W42 -> Assistente Técnico (Fiscal de Postura) | M11: =(IF($M$65+$M$66<5000,0,ROUND(((($M$65+$M$66)/4000)/20)+1,0))) -> 1 | P11: =Resumo!AO11 -> C | Q11: =Resumo!AP11 -> Auxiliar Operacional (Motorista classe D) | R11: =Resumo!AQ11 -> 2444.56 | S11: =Resumo!AR11 -> C | T11: =Resumo!AS11 -> Assistente Técnico (Saneamento) | U11: =Resumo!AT11 -> 3942.95 | V11: =Resumo!AU11 -> B | W11: =Resumo!AV11 -> Assistente Técnico (Fiscal de Postura) | X11: =Resumo!AW11 -> 4172.58
C12: =C11+1 -> 7 | D12: =Q45 -> Auxiliar Operacional (Nivelador) | E12: =IF($M$67+$M$68<81000,0,ROUND((($M$67/25000)*0.00741)+(($M$68/30000)*0.00741),0)) -> 0 | G12: =G11+1 -> 7 | H12: =T41 -> Assistente Técnico (Quimica) | I12: =ROUND(($M$65)/25000,0) -> 1 | K12: =K11+1 -> 4 | L12: =W39 -> Auxiliar Operacional (Leiturista) | M12: =ROUND((($M$65/320)/20)+1,0) -> 3 | P12: =Resumo!AO12 -> D | Q12: =Resumo!AP12 -> Auxiliar Operacional (Motorista classe E) | R12: =Resumo!AQ12 -> 2539.58 | S12: =Resumo!AR12 -> C | T12: =Resumo!AS12 -> Assistente Técnico (Topógrafo) | U12: =Resumo!AT12 -> 4042.27 | V12: =Resumo!AU12 -> B | W12: =Resumo!AV12 -> Assistente Técnico (Computação/TI) | X12: =Resumo!AW12 -> 7892.5
C13: =C12+1 -> 8 | D13: =T43 -> Assistente Técnico (Topógrafo) | E13: =IF($M$67+$M$68<81000,0,ROUND((($M$67/25000)*0.00575)+(($M$68/30000)*0.00575),0)) -> 0 | G13: =G12+1 -> 8 | H13: =W41 -> Assistente Administrativo | I13: =ROUND(($M$65+$M$66)/75000,0) -> 0 | K13: =K12+1 -> 5 | L13: =T37 -> Assistente Técnico (Edificações) | M13: =ROUND(($M$65+$M$66)/55000,0) -> 0 | P13: =Resumo!AO13 -> E | Q13: =Resumo!AP13 -> Auxiliar Operacional (Mestre de Obras) | R13: =Resumo!AQ13 -> 4126.44 | S13: =Resumo!AR13 -> B | T13: =Resumo!AS13 -> Analista (Biólogo) | U13: =Resumo!AT13 -> 4813.19 | V13: =Resumo!AU13 -> C | W13: =Resumo!AV13 -> Assistente Técnico (Contabilidade) | X13: =Resumo!AW13 -> 4657.63
C14: =C13+1 -> 9 | D14: =T36 -> Assistente Técnico (Desenhista) | E14: =IF($M$67+$M$68<81000,0,ROUND(($M$65+$M$66)/145000,0)) -> 0 | G14: =G13+1 -> 9 | H14: =Q42 -> Auxiliar Operacional (Motorista classe D) | I14: =ROUND(($M$65+$M$66)/100000,0) -> 0 | K14: =K13+1 -> 6 | L14: =T47 -> Analista (Eng Civil ) | M14: =ROUND(($M$65+$M$66)/200000,0) -> 0 | P14: =Resumo!AO14 -> D | Q14: =Resumo!AP14 -> Auxiliar Operacional (Nivelador) | R14: =Resumo!AQ14 -> 2857.51 | S14: =Resumo!AR14 -> C | T14: =Resumo!AS14 -> Analista (Quimico) | U14: =Resumo!AT14 -> 6713.01 | V14: =Resumo!AU14 -> B | W14: =Resumo!AV14 -> Assistente Técnico (Seg. trabalho) | X14: =Resumo!AW14 -> 4086.16
C15: =C14+1 -> 10 | D15: =Q37 -> Auxiliar Operacional (Encarregado Turma) | E15: =IF($M$67+$M$68<81000,0,ROUND((($M$67/25000)*0.014827)+(($M$68/25000)*0.014827)+0,0)) -> 0 | G15: =G14+1 -> 10 | H15: =T44 -> Analista (Biólogo) | I15: =ROUND(($M$65+$M$66)/200000,0) -> 0 | P15: =Resumo!AO15 -> C | Q15: =Resumo!AP15 -> Auxiliar Operacional (Operador de bombas) | R15: =Resumo!AQ15 -> 2270.74 | S15: =Resumo!AR15 -> D | T15: =Resumo!AS15 -> Analista (Eng Ambiental) | U15: =Resumo!AT15 -> 9683.34 | V15: =Resumo!AU15 -> C | W15: =Resumo!AV15 -> Analista (Advogado) | X15: =Resumo!AW15 -> 6875.48
C16: =C15+1 -> 11 | D16: =Q44 -> Auxiliar Operacional (Mestre de Obras) | E16: =IF($M$67+$M$68<81000,0,ROUND((($M$67/22000)*0.00603)+(($M$68/25000)*0.00603),0)) -> 0 | G16: =G15+1 -> 11 | H16: =T45 -> Analista (Quimico) | I16: =ROUND(($M$65+$M$66)/200000,0) -> 0 | P16: =Resumo!AO16 -> C | Q16: =Resumo!AP16 -> Auxiliar Operacional (Operador de ETA) | R16: =Resumo!AQ16 -> 2270.74 | S16: =Resumo!AR16 -> D | T16: =Resumo!AS16 -> Analista (Eng Civil ) | U16: =Resumo!AT16 -> 11356.16 | V16: =Resumo!AU16 -> C | W16: =Resumo!AV16 -> Analista (Administração/Ecomonia) | X16: =Resumo!AW16 -> 6500.17
C17: Total | E17: =ROUND(SUM(E6:E16),0) -> 13 | G17: =G16+1 -> 12 | H17: =T52 -> Analista (Eng Quimico) | I17: =ROUND(($M$65+$M$66)/200000,0) -> 0 | K17: Total | M17: =ROUND(SUM(M6:M16),0) -> 8 | P17: =Resumo!AO17 -> C | Q17: =Resumo!AP17 -> Auxiliar Operacional (Operador de ETE) | R17: =Resumo!AQ17 -> 2270.74 | S17: =Resumo!AR17 -> D | T17: =Resumo!AS17 -> Analista (Eng Cartografia) | U17: =Resumo!AT17 -> 7879.82 | V17: =Resumo!AU17 -> A | W17: =Resumo!AV17 -> Analista (Assistente Social) | X17: =Resumo!AW17 -> 3989.87
G18: =G49+1 -> 14 | H18: =T47 -> Analista (Eng Civil ) | I18: =ROUND(($M$65+$M$66)/200000,0) -> 0 | P18: =Resumo!AO18 -> C | Q18: =Resumo!AP18 -> Auxiliar Operacional (Oper de microsistemas) | R18: =Resumo!AQ18 -> 2270.74 | S18: =Resumo!AR18 -> D | T18: =Resumo!AS18 -> Analista (Eng de Automação/Mecatrônica) | U18: =Resumo!AT18 -> 11550.24 | V18: =Resumo!AU18 -> D | W18: =Resumo!AV18 -> Analista (Eng Computação/Sistemas/TI) | X18: =Resumo!AW18 -> 9147.26
C19: Relação de Cargos do Quadro Permanente | G19: Total | I19: =SUM(I6:I18) -> 10 | K19: Relação de Cargos do Quadro Permanente | P19: =Resumo!AO19 -> B | Q19: =Resumo!AP19 -> Auxiliar Operacional (Pedreiro) | R19: =Resumo!AQ19 -> 2306.95 | S19: =Resumo!AR19 -> D | T19: =Resumo!AS19 -> Analista (Eng Eletricista) | U19: =Resumo!AT19 -> 11205.77 | V19: =Resumo!AU19 -> C | W19: =Resumo!AV19 -> Analista (Contador) | X19: =Resumo!AW19 -> 6337.04
C20: Área técnica - Manutenção de Redes Técnica | K20: Área Administrativa - Geral | P20: =Resumo!AO20 -> A | Q20: =Resumo!AP20 -> Auxiliar Operacional (Servente/Ajudante) | R20: =Resumo!AQ20 -> 1712.93 | S20: =Resumo!AR20 -> D | T20: =Resumo!AS20 -> Analista (Eng Mecânico) | U20: =Resumo!AT20 -> 9799.94 | V20: =Resumo!AU20 -> D | W20: =Resumo!AV20 -> Analista (Eng Segurança do Trab.) | X20: =Resumo!AW20 -> 9138.48
C21: Item | D21: Descrição | E21: Quantidade | G21: Relação de Cargos do Quadro Permanente | K21: Item | L21: Descrição | M21: Quantidade | P21: =Resumo!AO21 -> D | Q21: =Resumo!AP21 -> Auxiliar Operacional (Soldador) | R21: =Resumo!AQ21 -> 3016.31 | S21: =Resumo!AR21 -> D | T21: =Resumo!AS21 -> Analista (Eng Quimico) | U21: =Resumo!AT21 -> 9768.34 | V21: =Resumo!AU21 -> C | W21: =Resumo!AV21 -> Analista (Jornalista) | X21: =Resumo!AW21 -> 5318
C22: 1 | D22: =W41 -> Assistente Administrativo | E22: =IF($M$67+$M$68<81000,0,ROUND(($M$65+$M$66)/75000,0)) -> 0 | G22: Área técnica - Operação Esgoto | K22: 1 | L22: =W46 -> Analista (Advogado) | M22: =IF(M55<450000,ROUND(($M$65+$M$66)/100000,0),ROUND(($M$65+$M$66)/100000+1,0)) -> 0 | P22: =Resumo!AO22 -> D | Q22: =Resumo!AP22 -> Auxiliar Operacional (Serralheiro) | R22: =Resumo!AQ22 -> 2689.5 | S22: =Resumo!AR22 -> D | T22: =Resumo!AS22 -> Analista (Eng Sanitarista) | U22: =Resumo!AT22 -> 11353.37 | V22: =Resumo!AU22 -> B | W22: =Resumo!AV22 -> Analista (Psicológo) | X22: =Resumo!AW22 -> 4397.28
C23: =C22+1 -> 2 | D23: =T37 -> Assistente Técnico (Edificações) | E23: =IF($M$67+$M$68<81000,0,ROUND(IF($M65+$M66<150000,1,($M$65)/75000),0)) -> 1 | G23: Item | H23: Descrição | I23: Quantidade | K23: =K24+1 -> 3 | L23: =W41 -> Assistente Administrativo | M23: =ROUND(($M$65+$M$66)/10000+1,0) -> 2 | P23: =Resumo!AO23 -> C | Q23: =Resumo!AP23 -> Assistente Técnico (Bioquimica) | R23: =Resumo!AQ23 -> 2441.05 | S23: =Resumo!AR23 -> D | T23: =Resumo!AS23 -> Analista (Geólogo) | U23: =Resumo!AT23 -> 9809.1 | V23: =Resumo!AU23 -> C | W23: =Resumo!AV23 -> Analista (Secretária) | X23: =Resumo!AW23 -> 3469.15
C24: =C23+1 -> 3 | D24: =T42 -> Assistente Técnico (Saneamento) | E24: =IF($M$67+$M$68<81000,0,ROUND(IF($M$65+$M$66<150000,1,($M$66)/75000),0)) -> 1 | G24: 1 | H24: =Q51 -> Auxiliar Operacional (Servente/Ajudante) | I24: =IF($M$66<1,0,ROUND(($M$66)/15000*IF($M62<0.6,1,(1.4-$M$62))+1,0)) -> 0 | K24: =K22+1 -> 2 | L24: =W47 -> Analista (Administração/Ecomonia) | M24: =ROUND(($M$65+$M$66)/100000,0) -> 0
C25: =C16+1 -> 12 | D25: =T47 -> Analista (Eng Civil ) | E25: =ROUND(IF($M65+$M66<75000,0,($M$65+$M$66)/75000),0) -> 0 | G25: =G24+1 -> 2 | H25: =Q46 -> Auxiliar Operacional (Operador de bombas) | I25: =IF($M$66<1,0,ROUND(($M$66)/15000*IF($M$62<0.6,1,(1.4-$M$62)),0)) -> 0 | K25: =K23+1 -> 4 | L25: =W49 -> Analista (Eng Computação/Sistemas/TI) | M25: =ROUND(($M$65+$M$66)/200000,0) -> 0
C26: Total | E26: =SUM(E22:E25) -> 2 | G26: =G25+1 -> 3 | H26: =Q48 -> Auxiliar Operacional (Operador de ETE) | I26: =IF($M$66<1,0,ROUND((($M$66)/15000)*IF($M$62<0.6,1,(1.4-$M$62))+1,0)) -> 0 | K26: =K25+1 -> 5 | L26: =W50 -> Analista (Contador) | M26: =ROUND(($M$65+$M$66)/200000+0,0) -> 0 | P26: Remuneração dos Cargos em Comissão e Funções Gratificadas
G27: =G26+1 -> 4 | H27: =Q49 -> Auxiliar Operacional (Oper de microsistemas) | I27: =IF($M$66<1,0,ROUND(($M$66)/15000*IF($M$62<0.6,1,(1.4-$M$62))+1,0)) -> 0 | K27: =K26+1 -> 6 | L27: =W51 -> Analista (Eng Segurança do Trab.) | M27: =ROUND(($M$65+$M$66)/300000,0) -> 0 | P27: Item | Q27: Descrição | R27: Valor | S27: Item | T27: Descrição | U27: Valor | V27: Item | W27: Descrição | X27: Valor
C28: Relação de Cargos do Quadro Permanente | G28: =G27+1 -> 5 | H28: =Q40 -> Auxiliar Operacional (Laboratorista) | I28: =IF($M$66<1,0,ROUND(($M$66)/25000,0)) -> 0 | K28: =K27+1 -> 7 | L28: =W52 -> Analista (Jornalista) | M28: =ROUND(($M$65+$M$66)/250000,0) -> 0 | P28: =Resumo!AO28 -> 1 | Q28: =Resumo!AP28 -> Diretor Presidente | R28: =Resumo!AQ28 -> 18758.01 | S28: =Resumo!AR28 -> 5 | T28: =Resumo!AS28 -> Ass. CS/ RC/ RI | U28: =Resumo!AT28 -> 11254.806 | V28: =Resumo!AU28 -> 9 | W28: =Resumo!AV28 -> Supervisão Jurídica | X28: =Resumo!AW28 -> 1219.2706
C29: Área técnica - Manutenção Eletromecânica Operacional | G29: =G28+1 -> 6 | H29: =Q54 -> Assistente Técnico (Bioquimica) | I29: =IF($M$66<1,0,ROUND(($M$66)/25000,0)) -> 0 | K29: =K28+1 -> 8 | L29: =W40 -> Auxiliar Operacional (Motorista classe A-D) | M29: =ROUND(($M$65+$M$66)/100000,0) -> 0 | P29: =Resumo!AO29 -> 2 | Q29: =Resumo!AP29 -> Diretor | R29: =Resumo!AQ29 -> 15006.408 | S29: =Resumo!AR29 -> 6 | T29: =Resumo!AS29 -> Secretário Executivo | U29: =Resumo!AT29 -> 8441.1045 | V29: =Resumo!AU29 -> 10 | W29: =Resumo!AV29 -> Chefia de Divisão | X29: =Resumo!AW29 -> 1219.2706
C30: Item | D30: Descrição | E30: Quantidade | G30: =G29+1 -> 7 | H30: =T41 -> Assistente Técnico (Quimica) | I30: =IF($M$66<1,0,ROUND(($M$66)/25000,0)) -> 0 | K30: =K29+1 -> 9 | L30: =W53 -> Analista (Psicológo) | M30: =ROUND(($M$65+$M$66)/200000,0) -> 0 | P30: =Resumo!AO30 -> 3 | Q30: =Resumo!AP30 -> Gerente /Ass Téc. / Ass. Amb/Chefe de Gabinete | R30: =Resumo!AQ30 -> 12192.707 | S30: =Resumo!AR30 -> 7 | T30: =Resumo!AS30 -> Conselheiro Administração | U30: =Resumo!AT30 -> 1875.801 | V30: =Resumo!AU30 -> 11 | W30: =Resumo!AV30 -> Chefia de Setor | X30: =Resumo!AW30 -> 1219.2706
C31: 1 | D31: =Q51 -> Auxiliar Operacional (Servente/Ajudante) | E31: =ROUND(($M$65+$M$66)/35000,0) -> 0 | G31: =G30+1 -> 8 | H31: =Q42 -> Auxiliar Operacional (Motorista classe D) | I31: =IF($M$66<100000,0,ROUND(IF($M$66<200000,1,($M$66)/100000),0)) -> 0 | K31: =K30+1 -> 10 | L31: =W54 -> Analista (Secretária Executiva) | M31: =ROUND(($M$65+$M$66)/250000,0) -> 0 | P31: =Resumo!AO31 -> 4 | Q31: =Resumo!AP31 -> Auditor Geral /Ass Júridico/Corregedor Geral | R31: =Resumo!AQ31 -> 11254.806 | S31: =Resumo!AR31 -> 8 | T31: =Resumo!AS31 -> Conselheiro Fiscal/Comitê Estatutário | U31: =Resumo!AT31 -> 1875.801 | V31: =Resumo!AU31 -> 12 | W31: =Resumo!AV31 -> Supervisão de Equipe | X31: =Resumo!AW31 -> 655.72863
C32: 1 | D32: =Q39 -> Auxiliar Operacional (Eletricista) | E32: =ROUND(($M$65+$M$66)/35000,0) -> 0 | G32: =G31+1 -> 9 | H32: =W41 -> Assistente Administrativo | I32: =IF($M$66<100000,0,ROUND(IF($M$66<200000,1,($M$66)/200000),0)) -> 0 | K32: =K31+1 -> 11 | L32: =W43 -> Assistente Técnico (Computação/TI) | M32: =ROUND(($M$65+$M$66)/250000,0) -> 0
C33: =C32+1 -> 2 | D33: =Q41 -> Auxiliar Operacional (Mecânico) | E33: =ROUND(($M$65+$M$66)/35000,0) -> 0 | G33: =G32+1 -> 10 | H33: =T44 -> Analista (Biólogo) | I33: =IF($M$66<100000,0,ROUND(IF($M$66<200000,1,($M$66)/200000),0)) -> 0 | K33: =K32+1 -> 12 | L33: =W44 -> Assistente Técnico (Contabilidade) | M33: =IF($M$55<50000,1,ROUND(($M$65+$M$66)/55000,0)) -> 1 | P33: Relação de Cargos do Quadro Permanente
C34: =C33+1 -> 3 | D34: =Q52 -> Auxiliar Operacional (Soldador) | E34: =ROUND(($M$65+$M$66)/85000,0) -> 0 | G34: =G33+1 -> 11 | H34: =T45 -> Analista (Quimico) | I34: =IF($M$66<5000,0,ROUND(IF($M$66<200000,0,($M$66)/200000),0)) -> 0 | K34: =K33+1 -> 13 | L34: =W45 -> Assistente Técnico (Seg. trabalho) | M34: =ROUND(($M$65+$M$66)/50000,0) -> 0 | P34: Área Operacional e Técnica - Atividade-fim | V34: Área Administrativa - Atividade-meio
C35: =C34+1 -> 4 | D35: =Q53 -> Auxiliar Operacional (Serralheiro) | E35: =ROUND(($M$65+$M$66)/85000,0) -> 0 | G35: =G34+1 -> 12 | H35: =T46 -> Analista (Eng Ambiental) | I35: =IF($M$66<0,0,ROUND(($M$66)/200000,0)) -> 0 | P35: Item | Q35: Descrição | R35: Quantidade | S35: Item | T35: Descrição | U35: Quantidade | V35: Item | W35: Descrição | X35: Quantidade
C36: =C35+1 -> 5 | D36: =Q50 -> Auxiliar Operacional (Pedreiro) | E36: =ROUND(($M$65+$M$66)/85000,0) -> 0 | G36: =G35+1 -> 13 | H36: =T47 -> Analista (Eng Civil ) | I36: =IF($M$66<50000,0,ROUND(IF($M66<100000,1,($M$66)/100000),0)) -> 0 | P36: 1 | Q36: Auxiliar Operacional (Calceteiro/Pedreiro) | R36: =E7 -> 1 | S36: =P54+1 -> 20 | T36: Assistente Técnico (Desenhista) | U36: =E14+I43 -> 0 | V36: =S54+1 -> 38 | W36: Auxiliar Administrativo (Call Center) | X36: =M9 -> 2
C37: =C36+1 -> 6 | D37: =Q37 -> Auxiliar Operacional (Encarregado Turma) | E37: =ROUND(($M$65+$M$66)/85000,0) -> 0 | G37: Total | I37: =SUM(I24:I36) -> 0 | K37: Total | M37: =ROUND(SUM(M22:N36),0) -> 3 | P37: =P36+1 -> 2 | Q37: Auxiliar Operacional (Encarregado Turma) | R37: =E15+E37 -> 0 | S37: =S36+1 -> 21 | T37: Assistente Técnico (Edificações) | U37: =E23+I44+M13 -> 1 | V37: =V36+1 -> 39 | W37: Auxiliar Operacional (Copeiro/Faxineiro) | X37: =M42 -> 1
C38: Total | E38: =SUM(E31:E37) -> 0 | P38: =P37+1 -> 3 | Q38: Auxiliar Operacional (Encanador) | R38: =E8 -> 3 | S38: =S37+1 -> 22 | T38: Assistente Técnico (Eletrônica) | U38: =E45 -> 0 | V38: =V37+1 -> 40 | W38: Auxiliar Operacional (Vigia) | X38: =M43 -> 2
G39: Relação de Cargos do Quadro Permanente | K39: Relação de Cargos do Quadro Permanente | P39: =P38+1 -> 4 | Q39: Auxiliar Operacional (Eletricista) | R39: =E32 -> 0 | S39: =S38+1 -> 23 | T39: Assistente Técnico (Eletrotécnica) | U39: =E44 -> 0 | V39: =V38+1 -> 41 | W39: Auxiliar Operacional (Leiturista) | X39: =M12 -> 3
C40: Relação de Cargos do Quadro Permanente | G40: Área técnica - Planejamento | K40: Área Administrativa - Pratimonial | P40: =P39+1 -> 5 | Q40: Auxiliar Operacional (Laboratorista) | R40: =I10+I28 -> 1 | S40: =S39+1 -> 24 | T40: Assistente Técnico (Mecânica) | U40: =E46 -> 0 | V40: =V39+1 -> 42 | W40: Auxiliar Operacional (Motorista classe A-D) | X40: =M29 -> 0
C41: Área técnica - Manutenção Eletromecânica Técnica | G41: Item | H41: Descrição | I41: Quantidade | K41: Item | L41: Descrição | M41: Quantidade | P41: =P40+1 -> 6 | Q41: Auxiliar Operacional (Mecânico) | R41: =E33 -> 0 | S41: =S40+1 -> 25 | T41: Assistente Técnico (Quimica) | U41: =I12+I30 -> 1 | V41: =V40+1 -> 43 | W41: Assistente Administrativo | X41: =E22+E43+I13+I32+I42+M7+M23 -> 4
C42: Item | D42: Descrição | E42: Quantidade | G42: 1 | H42: =W41 -> Assistente Administrativo | I42: =ROUND(($M$65+$M$66)/150000,0) -> 0 | K42: 1 | L42: =W37 -> Auxiliar Operacional (Copeiro/Faxineiro) | M42: =ROUND(IF(M55<=10000, 1, ($M$65+$M$66)/13500+0),0) -> 1 | P42: =P41+1 -> 7 | Q42: Auxiliar Operacional (Motorista classe D) | R42: =E11+I14+I31 -> 2 | S42: =S41+1 -> 26 | T42: Assistente Técnico (Saneamento) | U42: =E24+I45 -> 1 | V42: =V41+1 -> 44 | W42: Assistente Técnico (Fiscal de Postura) | X42: =M11 -> 1
C43: 1 | D43: =W41 -> Assistente Administrativo | E43: =ROUND(($M$65+$M$66)/75000,0) -> 0 | G43: =G42+1 -> 2 | H43: =T36 -> Assistente Técnico (Desenhista) | I43: =ROUND(IF($M$65+$M$66<50000,0,($M$65+$M$66)/50000),0) -> 0 | K43: =K42+1 -> 2 | L43: =W38 -> Auxiliar Operacional (Vigia) | M43: =IF(M$55<5000,2,ROUND(IF($M$55<=10000, 4, ($M$65+$M$66)/13500+1),0)) -> 2 | P43: =P42+1 -> 8 | Q43: Auxiliar Operacional (Motorista classe E) | R43: =E10 -> 1 | S43: =S42+1 -> 27 | T43: Assistente Técnico (Topógrafo) | U43: =E13 -> 0 | V43: =V42+1 -> 45 | W43: Assistente Técnico (Computação/TI) | X43: =M32 -> 0
C44: =C34+1 -> 4 | D44: =T39 -> Assistente Técnico (Eletrotécnica) | E44: =ROUND(IF($M65+$M66<75000,0,($M$65+$M$66)/75000),0) -> 0 | G44: =G43+1 -> 3 | H44: =T37 -> Assistente Técnico (Edificações) | I44: =ROUND(IF($M$65+$M$66<50000,0,($M$65+$M$66)/50000),0) -> 0 | P44: =P43+1 -> 9 | Q44: Auxiliar Operacional (Mestre de Obras) | R44: =E16 -> 0 | S44: =S43+1 -> 28 | T44: Analista (Biólogo) | U44: =I15+I33 -> 0 | V44: =V43+1 -> 46 | W44: Assistente Técnico (Contabilidade) | X44: =M33 -> 1
C45: =C44+1 -> 5 | D45: =T38 -> Assistente Técnico (Eletrônica) | E45: =ROUND(IF($M66+$M67<75000,0,($M$65+$M$66)/75000),0) -> 0 | G45: =G44+1 -> 4 | H45: =T42 -> Assistente Técnico (Saneamento) | I45: =ROUND(IF($M$65+$M$66<50000,0,($M$65+$M$66)/50000),0) -> 0 | P45: =P44+1 -> 10 | Q45: Auxiliar Operacional (Nivelador) | R45: =E12 -> 0 | S45: =S44+1 -> 29 | T45: Analista (Quimico) | U45: =I16+I34 -> 0 | V45: =V44+1 -> 47 | W45: Assistente Técnico (Seg. trabalho) | X45: =M34 -> 0
C46: =C45+1 -> 6 | D46: =T40 -> Assistente Técnico (Mecânica) | E46: =ROUND(IF($M67+$M68<75000,0,($M$65+$M$66)/75000),0) -> 0 | G46: =G45+1 -> 5 | H46: =T54 -> Analista (Geólogo) | I46: =ROUND(($M$65)/150000,0) -> 0 | P46: =P45+1 -> 11 | Q46: Auxiliar Operacional (Operador de bombas) | R46: =I7+I25 -> 1 | S46: =S45+1 -> 30 | T46: Analista (Eng Ambiental) | U46: =I35 -> 0 | V46: =V45+1 -> 48 | W46: Analista (Advogado) | X46: =M6+M22 -> 0
C47: =C46+1 -> 7 | D47: =T49 -> Analista (Eng de Automação/Mecatrônica) | E47: =ROUND(($M$65+$M$66)/200000,0) -> 0 | G47: =G46+1 -> 6 | H47: =T48 -> Analista (Eng Cartografia) | I47: =ROUND(($M$65+$M$66)/400000,0) -> 0 | P47: =P46+1 -> 12 | Q47: Auxiliar Operacional (Operador de ETA) | R47: =I8 -> 2 | S47: =S45+1 -> 30 | T47: Analista (Eng Civil ) | U47: =E25+I18+I36+I48+M14 -> 1 | V47: =V46+1 -> 49 | W47: Analista (Administração/Ecomonia) | X47: =M8+M24 -> 0
C48: =C47+1 -> 8 | D48: =T50 -> Analista (Eng Eletricista) | E48: =ROUND(($M$65+$M$66)/200000,0) -> 0 | G48: =G47+1 -> 7 | H48: =T47 -> Analista (Eng Civil ) | I48: =IF($M$65+$M$66<5000,0,ROUND(IF($M$65+$M$66<100000,1,($M$65+$M$66)/100000),0)) -> 1 | P48: =P47+1 -> 13 | Q48: Auxiliar Operacional (Operador de ETE) | R48: =I26 -> 0 | S48: =S47+1 -> 31 | T48: Analista (Eng Cartografia) | U48: =I47 -> 0 | V48: =V47+1 -> 50 | W48: Analista (Assistente Social) | X48: =M10 -> 0
C49: =C48+1 -> 9 | D49: =T51 -> Analista (Eng Mecânico) | E49: =ROUND(($M$65+$M$66)/200000,0) -> 0 | G49: =G17+1 -> 13 | H49: =T53 -> Analista (Eng Sanitarista) | I49: =ROUND(($M$65+$M$66)/250000,0) -> 0 | P49: =P48+1 -> 14 | Q49: Auxiliar Operacional (Oper de microsistemas) | R49: =I9+I27 -> 2 | S49: =S48+1 -> 32 | T49: Analista (Eng de Automação/Mecatrônica) | U49: =E47 -> 0 | V49: =V48+1 -> 51 | W49: Analista (Eng Computação/Sistemas/TI) | X49: =M25 -> 0
C50: Total | E50: =ROUND(SUM(E43:E49),0) -> 0 | G50: Total | I50: =SUM(I42:I49) -> 1 | K50: Total | M50: =SUM(M42:M49) -> 3 | P50: =P49+1 -> 15 | Q50: Auxiliar Operacional (Pedreiro) | R50: =E36+E9 -> 1 | S50: =S49+1 -> 33 | T50: Analista (Eng Eletricista) | U50: =E48 -> 0 | V50: =V49+1 -> 52 | W50: Analista (Contador) | X50: =M26 -> 0
P51: =P50+1 -> 16 | Q51: Auxiliar Operacional (Servente/Ajudante) | R51: =E6+I6+E31+I24 -> 7 | S51: =S50+1 -> 34 | T51: Analista (Eng Mecânico) | U51: =E49 -> 0 | V51: =V50+1 -> 53 | W51: Analista (Eng Segurança do Trab.) | X51: =M27 -> 0
C52: Total da Área Mnutenção | E52: =ROUND(E17+E26+E38+E50,0) -> 15 | G52: Total da Área Técnica Operação | I52: =ROUND(I19+I37+I50,0) -> 11 | K52: Total da Área Administrativa | M52: =ROUND(M17+M37+M50,0) -> 14 | P52: =P51+1 -> 17 | Q52: Auxiliar Operacional (Soldador) | R52: =E34 -> 0 | S52: =S51+1 -> 35 | T52: Analista (Eng Quimico) | U52: =I17 -> 0 | V52: =V51+1 -> 54 | W52: Analista (Jornalista) | X52: =M28 -> 0
P53: =P52+1 -> 18 | Q53: Auxiliar Operacional (Serralheiro) | R53: =E35 -> 0 | S53: =S52+1 -> 36 | T53: Analista (Eng Sanitarista) | U53: =I49 -> 0 | V53: =V52+1 -> 55 | W53: Analista (Psicológo) | X53: =M30 -> 0
C54: Relação de Cargos de Governança | G54: Relação de Cargos Executivos em Comissão | K54: Informações do Sistema | P54: =P53+1 -> 19 | Q54: Assistente Técnico (Bioquimica) | R54: =I11+I29 -> 1 | S54: =S53+1 -> 37 | T54: Analista (Geólogo) | U54: =I46 -> 0 | V54: =V53+1 -> 56 | W54: Analista (Secretária Executiva) | X54: =M31 -> 0
C55: Item | D55: Descrição | E55: Quantidade | G55: Item | H55: Descrição | I55: Quantidade | K55: População Atendida Água | M55: ='Folha de dados'!D6 -> 43795 | P55: Total Área Operacional e Técnica | U55: =ROUND(SUM(R36:R54)+SUM(U36:U54),0) -> 26 | V55: Total Área Administrativa | X55: =SUM(X36:X54) -> 14
C56: 1 | D56: AG - Representante dos Acionistas | E56: =IF(F1=1,0,ROUND(IF($M$55<400000,IF($M$55<25001,3,IF($M$55<150001,3,5)),7),0)) -> 0 | G56: 1 | H56: Diretor Presidente | I56: =IF($M$55>=1,1,0) -> 1 | K56: População Atendida Esgoto | M56: ='Folha de dados'!D7 -> 0
C57: =C56+1 -> 2 | D57: CA - Conselheiro Administração | E57: =IF(F1=1,0,ROUND(IF($M$55<400000,IF($M$55<25001,3,IF($M$55<200001,5,7)),7),0)) -> 0 | G57: =G56+1 -> 2 | H57: Diretor de Negócios Jurídicos | I57: =IF($M$55<100000,0,1) -> 0 | K57: Testada média (m) | M57: ='Folha de dados'!D8 -> 21.21 | P57: Custeio de mão de obra e encargos sociais anual
C58: =C57+1 -> 3 | D58: CF - Conselheiro Fiscal e CE - Comitê Estatutário | E58: =IF(F1=1,0,IF($M$55<200000,4,6)) -> 0 | G58: =G57+1 -> 3 | H58: Diretor de Gestão Corporativa | I58: =IF($M$55<100000,0,1) -> 0 | K58: Testada média (m) | M58: ='Folha de dados'!D9 -> 0 | P58: Salario Médio por funcionário | R58: =H97/M76 -> 3533.5594
C59: =C58+1 -> 4 | D59: CC - Conselheiro Consultivo da Comunidade | E59: =IF(F1=1,0,ROUND(IF($M$55<200000,IF($M$55<25001,3,IF($M$55<150000,5,7)),7),0)) -> 0 | G59: =G58+1 -> 4 | H59: Diretor de Gestão Técnica | I59: =IF($M$55<100000,0,1) -> 0 | K59: Rel. Economias A/Ligação A | M59: ='Folha de dados'!D10 -> 1.3229241 | P59: LST médio por funcionário | R59: =I97/M76-R58 -> 3728.9118
C60: Total | E60: =SUM(E56:E59) -> 0 | G60: =G59+1 -> 5 | H60: Chefe de Gabinete | I60: =IF($M$55<200000,0,1) -> 0 | K60: Rel. Economias E/Ligação E | M60: ='Folha de dados'!D11 -> 0 | P60: Custo cargos de Operacionais | R60: =SUM(H82:H87) -> 52350.6 | S60: =R60/H97 -> 0.33671044
G61: =G60+1 -> 6 | H61: Assessor Técnico | I61: =IF($M$55>=200000,1,0) -> 0 | K61: Grau de automação dos sistemas A | M61: ='Folha de dados'!D12 -> 0 | P61: Custo cargos de Administrativos | R61: =SUM(H88:H91) -> 34664.89 | S61: =R61/H97 -> 0.22295887
C62: Relação de Cargos Táticos em Comissão | G62: =G61+1 -> 7 | H62: Assessor de Gestão Ambiental | I62: =IF($M$55>=200000,1,0) -> 0 | K62: Grau de automação dos sistemas E | M62: ='Folha de dados'!D13 -> 0 | P62: Custo de cargos Gerenciais | R62: =+SUM(H94:H96) -> 68461.124 | S62: =R62/H97 -> 0.44033069
C63: Item | D63: Descrição | E63: Quantidade | G63: =G62+1 -> 8 | H63: Assessor de Comunicação Social | I63: =IF($M$55>=100000,1,0) -> 0 | K63: Nº de Economias Água | M63: ='Folha de dados'!D14 -> 18054.533 | P63: Custo cargos de Conselho | R63: =SUM(H92:H93) -> 0 | S63: =R63/H97 -> 0
C64: =G68+1 -> 14 | D64: Gerente Jurídico Administrativo | E64: =IF($M$55<200000,0,1) -> 0 | G64: =G63+1 -> 9 | H64: Assessor de Relações Corporativas | I64: =IF($M$55<400000,0,1) -> 0 | K64: Nº de Economias Esgoto | M64: ='Folha de dados'!D15 -> 0 | P64: Total da folha pagamento Mensal | R64: =SUM(R60:S63) -> 155477.61 | S64: =SUM(S60:S63) -> 1
C65: =C64+1 -> 15 | D65: Gerente Jurídico Contencioso | E65: =IF($M$55<200000,0,1) -> 0 | G65: =G64+1 -> 10 | H65: Assessor de Relações Institucionais | I65: =IF($M$55<400000,0,1) -> 0 | K65: Nº de Ligações A | M65: ='Folha de dados'!D16 -> 13647.444 | P65: LST médio | R65: =I97-H97 -> 164072.12 | S65: =R65/R64 -> 1.0552781
C66: =C65+1 -> 16 | D66: Gerente Administrativo e Financeiro | E66: =IF($M$55>=15000,1,0) -> 1 | G66: =G65+1 -> 11 | H66: Assessor Júridico/Corregedor Geral | I66: =IF($M$55>=100000,1,0) -> 0 | K66: Nº de Ligações E | M66: ='Folha de dados'!D17 -> 0 | P66: Folha de pagamento sem encargos anual | R66: =R64*12 -> 1865731.4
C67: =C66+1 -> 17 | D67: Gerente de Relações c/ Usuário | E67: =IF($M$55>=15000,1,0) -> 1 | G67: =G66+1 -> 12 | H67: Secretário Executivo | I67: =IF($M$55<200000,0,1) -> 0 | K67: Extensão rede de água (m) | M67: ='Folha de dados'!D18 -> 289462.29 | P67: Encargos sobre a folha de pagamento anual | R67: =R65*12 -> 1968865.4
C68: =C67+1 -> 18 | D68: Gerente de Operação e Manutenção | E68: =IF($M$55<=200000,(IF($M$55>=15000,1,0)),0) -> 1 | G68: =G67+1 -> 13 | H68: Auditor Geral | I68: =IF($M$55<100000,0,1) -> 0 | K68: Extensão rede de esgoto (m) | M68: ='Folha de dados'!D19 -> 0 | P68: Custo anual de mão de obra e encargos sociais | R68: =R66+R67 -> 3834596.8
C69: =C68+1 -> 19 | D69: Gerente de Planejamento Projetos e Obras | E69: =IF($M$55>100000,1,0) -> 0 | G69: Cargos em Comissão Remunerados | I69: =SUM(I56:I68) -> 1 | K69: Nº de Func. da Manutenção A+E | M69: =$E$17+$E$26+$E$38+$E$50 -> 15 | N69: =M69/$M$76 -> 0.34090909
C70: =C69+1 -> 20 | D70: Gerente de Operação e Manutenção - Água | E70: =IF($M$55>=200000,1,0) -> 0 | K70: Nº de Func. da Operação A+E | M70: =$I$19+$I$37 -> 10 | N70: =M70/$M$76 -> 0.22727273 | R70: =R66 -> 1865731.4
C71: =C70+1 -> 21 | D71: Gerente de Operação e Manutenção - Esgoto | E71: =IF($M$55>=200000,1,0) -> 0 | G71: Relação de Funções Gratificadas | K71: Nº de Func. do Planejamento | M71: =$I$50 -> 1 | N71: =M71/$M$76 -> 0.022727273 | R71: =R67 -> 1968865.4
C72: Cargos em Comissão Remunerados | E72: =SUM(E64:E71) -> 3 | G72: Item | H72: Descrição | I72: Quantidade | K72: Nº de Func. do Comercial | M72: =$M$17 -> 8 | N72: =M72/$M$76 -> 0.18181818 | R72: =R68 -> 3834596.8
G73: 1 | H73: Supervisão Jurídica | I73: =IF(M55>=200000,4,0) -> 0 | K73: Nº de Func. da Administração | M73: =$M$37+$M$50 -> 6 | N73: =M73/$M$76 -> 0.13636364
C74: Relação de Pessoal | G74: =G73+1 -> 2 | H74: Chefia de Divisão | I74: =ROUND(IF(M55<400000,IF(M55<100000,M55/6250,IF(M55<200000,M55/12500,16)),20),0) -> 7 | K74: Nº de Func Cargos Tático | M74: =$E$72 -> 3 | N74: =M74/$M$76 -> 0.068181818 | P74: Resumo
C75: Nº Func Produção + Manutenção/ Func Total | E75: =ROUND((M69+M70+M71)/(M76),4) -> 0.5909 | G75: =G74+1 -> 3 | H75: Chefia de Setor | I75: =IF(M55<400000,(IF(M55<100000,0,2*I74)),(I74*2+2)) -> 0 | K75: Nº de Func Cargos Executivo | M75: =$I$69 -> 1 | N75: =M75/$M$76 -> 0.022727273 | P75: =D82 -> Área técnica - Manutenção de Redes - Operacional | R75: =I82*12 -> 795483.26 | S75: =R75/$R$90 -> 0.20744965
C76: Nº Func Adm+ Comercial/ Func Total | E76: =ROUND((M72+M73)/(M76),4) -> 0.3182 | G76: =G75+1 -> 4 | H76: Supervisão de Equipe | I76: =IF(M55<400000,(IF(M55<25000,0,I74)),(I74+2)) -> 7 | K76: Nº Total de Funcionários | M76: =SUM($M$69:$M$75) -> 44 | N76: =SUM(N69:N75) -> 1 | P76: =D83 -> Área técnica - Manut de Redes - Técnica | R76: =I83*12 -> 114050.46 | S76: =R76/$R$90 -> 0.029742584
C77: Nº Cargo Comissão/ Func Total | E77: =ROUND((M74+M75)/M76,4) -> 0.0909 | G77: Total | I77: =SUM(I73:I76) -> 14 | K77: Nº Ligações A+E por funcionário | M77: =ROUND(($M$65+$M$66)/($M$76),0) -> 310 | P77: =D84 -> Área técnica - Manut Eletromecânica - Operacional | R77: =I84*12 -> 0 | S77: =R77/$R$90 -> 0
P78: =D85 -> Área técnica - Manut Eletromecânica - Técnica | R78: =I85*12 -> 0 | S78: =R78/$R$90 -> 0
C79: Relação de Cargos do Quadro Permanente | P79: =D86 -> Área técnica - Operação Água | R79: =I86*12 -> 604715.76 | S79: =R79/$R$90 -> 0.15770045
C80: Folha de Pagamento Mensal | P80: =D87 -> Área técnica - Operação Esgoto | R80: =I87*12 -> 0 | S80: =R80/$R$90 -> 0
C81: Item | D81: Descrição | F81: LST | H81: Valor Bruto | I81: Valor co LST | P81: =D88 -> Área técnica - Planejamento | R81: =I88*12 -> 255513.6 | S81: =R81/$R$90 -> 0.066633968
C82: 1 | D82: Área técnica - Manutenção de Redes - Operacional | F82: ='Folha de dados'!R25 -> 1.41043 | H82: =E6*R20+E7*R5+(E8+E9)*R19+E10*R12+E11*R11+E12*R14+E13*U12+E15*R6+E16*R13+E14*OC3740 -> 27501.43 | I82: =(F82+1)*H82 -> 66290.272 | P82: =D89 -> Área Administrativa - Comercial | R82: =I89*12 -> 298994.85 | S82: =R82/$R$90 -> 0.077973201
C83: =C82+1 -> 2 | D83: Área técnica - Manut de Redes - Técnica | F83: ='Folha de dados'!R26 -> 1.41043 | H83: =E22*X10+E23*U6+E24*U11+E25*U16 -> 3942.95 | I83: =(F83+1)*H83 -> 9504.205 | P83: =D90 -> Área Administrativa - Geral | R83: =I90*12 -> 225451.57 | S83: =R83/$R$90 -> 0.05879426
C84: =C83+1 -> 3 | D84: Área técnica - Manut Eletromecânica - Operacional | F84: ='Folha de dados'!R27 -> 1.41043 | H84: =E31*R20+E32*R8+E33*R10+E34*R21+E35*R22+E36*R19+E37*R6 -> 0 | I84: =(F84+1)*H84 -> 0 | P84: =D91 -> Área Administrativa - Pratimonial | R84: =I91*12 -> 0 | S84: =R84/$R$90 -> 0
C85: =C84+1 -> 4 | D85: Área técnica - Manut Eletromecânica - Técnica | F85: ='Folha de dados'!R28 -> 1.41043 | H85: =E43*X10+E44*U8+E45*U7+E46*U9+E47*U18+E48*U19+E49*U20 -> 0 | I85: =(F85+1)*H85 -> 0 | P85: =D92 -> Conselheiro Administração | R85: =I92*12 -> 0 | S85: =R85/$R$90 -> 0
C86: =C85+1 -> 5 | D86: Área técnica - Operação Água | F86: ='Folha de dados'!R29 -> 1.41043 | H86: =I6*R20+I7*R15+I8*R16+I9*R18+I10*R9+I11*R23+I12*U10+I13*X10+I14*R11+I15*U13+I16*U14+I17*U21+I18*U16 -> 20906.22 | I86: =(F86+1)*H86 -> 50392.98 | P86: =D93 -> Conselheiro Fiscal | R86: =I93*12 -> 0 | S86: =R86/$R$90 -> 0
C87: =C86+1 -> 6 | D87: Área técnica - Operação Esgoto | F87: ='Folha de dados'!R30 -> 1.41043 | H87: =I24*X10+I25*R15+I26*R17+I27*R18+I28*R9+I29*R23+I30*U10+I31*R11+I32*X10+I33*U13+I34*U14+I35*U15+I36*U16 -> 0 | I87: =(F87+1)*H87 -> 0 | P87: =D94 -> Cargos Executivos | R87: =I94*12 -> 422055.22 | S87: =R87/$R$90 -> 0.11006543
C88: =C87+1 -> 7 | D88: Área técnica - Planejamento | F88: ='Folha de dados'!R31 -> 0.875 | H88: =I42*X10+I43*U5+I44*U6+I45*U11+I46*U23+I47*U17+I48*U16+I49*U22 -> 11356.16 | I88: =(F88+1)*H88 -> 21292.8 | P88: =D95 -> Cargos Táticos | R88: =I95*12 -> 823007.69 | S88: =R88/$R$90 -> 0.21462759
C89: =C88+1 -> 8 | D89: Área Administrativa - Comercial | F89: ='Folha de dados'!R32 -> 0.875 | H89: =M6*X15+M7*X10+M8*X16+M9*X5+M10*X17+M11*X11+M12*X8+M13*U6+M14*U16 -> 13288.66 | I89: =(F89+1)*H89 -> 24916.237 | P89: =D96 -> Funçoes Gratificadas | R89: =I96*12 -> 295312.39 | S89: =R89/$R$90 -> 0.077012872
C90: =C89+1 -> 9 | D90: Área Administrativa - Geral | F90: ='Folha de dados'!R33 -> 0.875 | H90: =M22*X15+M24*X16+M23*X10+M25*X18+M26*X19+M27*X20+M28*X21+M29*X9+M30*X22+M31*X23+M32*X12+M33*X13+M34*X14 -> 10020.07 | I90: =(F90+1)*H90 -> 18787.631 | P90: Total | R90: =SUM(R75:R89) -> 3834584.8 | S90: =SUM(S75:S89) -> 1
C91: =C90+1 -> 10 | D91: Área Administrativa - Pratimonial | F91: ='Folha de dados'!R34 -> 0.875 | H91: =M42*X6+M43*X7 -> 0 | I91: =(F91+1)*H91 -> 0
C92: =C91+1 -> 11 | D92: Conselheiro Administração | F92: ='Folha de dados'!R35 -> 0.875 | H92: =(E57*U30) -> 0 | I92: =(F92+1)*H92 -> 0 | R92: =R68-R90 -> 12
C93: =C92+1 -> 12 | D93: Conselheiro Fiscal | F93: ='Folha de dados'!R36 -> 0.875 | H93: =(E58*U31) -> 0 | I93: =(F93+1)*H93 -> 0
C94: =C93+1 -> 13 | D94: Cargos Executivos | F94: ='Folha de dados'!R37 -> 0.875 | H94: =I56*R28+I57*R29+I58*R29+I59*R30+I60*+I61*R30+I62*R30+I63*U28+I64*U28+I65*U28+I66*R31+I67*U29+I68*R31 -> 18758.01 | I94: =(F94+1)*H94 -> 35171.269
C95: =C94+1 -> 14 | D95: Cargos Táticos | F95: ='Folha de dados'!R38 -> 0.875 | H95: =E72*R30 -> 36578.12 | I95: =(F95+1)*H95 -> 68583.974
C96: =C95+1 -> 15 | D96: Funçoes Gratificadas | F96: ='Folha de dados'!R39 -> 0.875 | H96: =I73*X28+I74*X29+I75*X30+I76*X31 -> 13124.995 | I96: =(F96+1)*H96 -> 24609.366
C97: Total | H97: =SUM(H82:H96) -> 155476.61 | I97: =SUM(I82:K96) -> 319548.73 | L97: =I97*12 -> 3834584.8
C98: Salário médio Operacional | H98: =(H97-H92-H93)/$M$76 -> 3533.5594 | I98: =(I97-I92-I93)/$M$76 -> 7262.4712 | J98: =J97/$M$77 -> 0 | K98: =K97/$M$77 -> 0
C99: Salário médio Conselho ADM | H99: =H92/$E$57 -> #DIV/0! | I99: =(I92)/$E$57 -> #DIV/0! | J99: =J98/$M$77 -> 0 | K99: =K98/$M$77 -> 0
C100: Salário médio Conselho Fiscal +CE | H100: =H93/$E$58 -> #DIV/0! | I100: =(I93)/$E$57 -> #DIV/0! | J100: =J99/$M$77 -> 0 | K100: =K99/$M$77 -> 0
...

Sheet Ano 2
C1: Tipo de Operador : Público (0) ou SEM/Empresa Privada (1) | F1: ='Folha de dados'!$D$5 -> 1
P2: Remuneração Média dos Cargos do Quadro Permanente
A3: 0 | C3: Relação de Cargos do Quadro Permanente | G3: Relação de Cargos do Quadro Permanente | K3: Relação de Cargos do Quadro Permanente | P3: Área técnica - Atividade-fim | U3: Área Administrativa - Atividade-meio
C4: Área técnica - Manutenção de Redes Operacional | G4: Área técnica - Operação Água | K4: Área Administrativa - Comercial | P4: Classe | Q4: Descrição | R4: Valor | S4: Classe | T4: Descrição | U4: Valor | V4: Classe | W4: Descrição | X4: Valor
C5: Item | D5: Descrição | E5: Quantidade | G5: Item | H5: Descrição | I5: Quantidade | K5: Item | L5: Descrição | M5: Quantidade | P5: =Resumo!AO5 -> C | Q5: =Resumo!AP5 -> Auxiliar Operacional (Calceteiro/Pedreiro) | R5: =Resumo!AQ5 -> 2280.28 | S5: =Resumo!AR5 -> C | T5: =Resumo!AS5 -> Assistente Técnico (Desenhista) | U5: =Resumo!AT5 -> 3797.55 | V5: =Resumo!AU5 -> B | W5: =Resumo!AV5 -> Auxiliar Administrativo (Call Center) | X5: =Resumo!AW5 -> 1876.82
C6: 1 | D6: =Q51 -> Auxiliar Operacional (Servente/Ajudante) | E6: =IF($M$67+$M$68<81000,1,ROUND((($M$67/25000)*0.31724)+(($M$68/30000)*0.31724)+1,0)) -> 5 | G6: 1 | H6: =Q51 -> Auxiliar Operacional (Servente/Ajudante) | I6: =ROUND(($M$65)/15000*IF($M$61<0.6,1,(1.4-$M$61))+1,0) -> 2 | K6: 1 | L6: =W46 -> Analista (Advogado) | M6: =ROUND(($M$65+$M$66)/400000,0) -> 0 | P6: =Resumo!AO6 -> 0 | Q6: =Resumo!AP6 -> Auxiliar Operacional (Encarregado Turma) | R6: =Resumo!AQ6 -> 0 | S6: =Resumo!AR6 -> 0 | T6: =Resumo!AS6 -> Assistente Técnico (Edificações) | U6: =Resumo!AT6 -> 0 | V6: =Resumo!AU6 -> 0 | W6: =Resumo!AV6 -> Auxiliar Operacional (Copeiro/Faxineiro) | X6: =Resumo!AW6 -> 0
C7: =C6+1 -> 2 | D7: =Q36 -> Auxiliar Operacional (Calceteiro/Pedreiro) | E7: =IF($M$67+$M$68<81000,1,ROUND((($M$67/25000)*0.01717)+(($M$68/30000)*0.01717)+1,0)) -> 1 | G7: =G6+1 -> 2 | H7: =Q46 -> Auxiliar Operacional (Operador de bombas) | I7: =ROUND(($M$65)/15000*IF($M$61<0.6,1,(1.4-$M$61)),0) -> 1 | K7: 1 | L7: =W41 -> Assistente Administrativo | M7: =ROUND(($M$65+$M$66)/25000+1,0) -> 2 | P7: =Resumo!AO7 -> 0 | Q7: =Resumo!AP7 -> Auxiliar Operacional (Encanador) | R7: =Resumo!AQ7 -> 0 | S7: =Resumo!AR7 -> 0 | T7: =Resumo!AS7 -> Assistente Técnico (Eletrônica) | U7: =Resumo!AT7 -> 0 | V7: =Resumo!AU7 -> 0 | W7: =Resumo!AV7 -> Auxiliar Operacional (Vigia) | X7: =Resumo!AW7 -> 0
C8: =C7+1 -> 3 | D8: =Q38 -> Auxiliar Operacional (Encanador) | E8: =IF($M$67+$M$68<81000,1,ROUND((($M$67/25000)*0.1515)+(($M$68/30000)*0.1515)+1,0)) -> 3 | G8: =G7+1 -> 3 | H8: =Q47 -> Auxiliar Operacional (Operador de ETA) | I8: =ROUND((($M$65)/15000+1)*IF($M$61<0.6,1,(1.4-$M$61)),0) -> 2 | K8: =K7+1 -> 2 | L8: =W47 -> Analista (Administração/Ecomonia) | M8: =ROUND(($M$65+$M$66)/100000,0) -> 0 | P8: =Resumo!AO8 -> 0 | Q8: =Resumo!AP8 -> Auxiliar Operacional (Eletricista) | R8: =Resumo!AQ8 -> 0 | S8: =Resumo!AR8 -> 0 | T8: =Resumo!AS8 -> Assistente Técnico (Eletrotécnica) | U8: =Resumo!AT8 -> 0 | V8: =Resumo!AU8 -> 0 | W8: =Resumo!AV8 -> Auxiliar Operacional (Leiturista) | X8: =Resumo!AW8 -> 0
C9: =C8+1 -> 4 | D9: =Q50 -> Auxiliar Operacional (Pedreiro) | E9: =IF($M$67+$M$68<81000,0,ROUND((($M$67/25000)*0.02842)+(($M$68/30000)*0.02842)+1,0)) -> 1 | G9: =G8+1 -> 4 | H9: =Q49 -> Auxiliar Operacional (Oper de microsistemas) | I9: =ROUND(($M$65)/9500*IF($M$61<0.6,1,(1.4-$M$61))+1,0) -> 2 | K9: =K12+1 -> 5 | L9: =W36 -> Auxiliar Administrativo (Call Center) | M9: =ROUND(($M$65+$M$66)/25000+1,0) -> 2 | P9: =Resumo!AO9 -> 0 | Q9: =Resumo!AP9 -> Auxiliar Operacional (Laboratorista) | R9: =Resumo!AQ9 -> 0 | S9: =Resumo!AR9 -> 0 | T9: =Resumo!AS9 -> Assistente Técnico (Mecânica) | U9: =Resumo!AT9 -> 0 | V9: =Resumo!AU9 -> 0 | W9: =Resumo!AV9 -> Auxiliar Operacional (Motorista classe A-D) | X9: =Resumo!AW9 -> 0
C10: =C9+1 -> 5 | D10: =Q43 -> Auxiliar Operacional (Motorista classe E) | E10: =IF($M$67+$M$68<81000,1,ROUND((($M$67/25000)*0.02842)+(($M$68/30000)*0.02842)+1,0)) -> 1 | G10: =G9+1 -> 5 | H10: =Q40 -> Auxiliar Operacional (Laboratorista) | I10: =ROUND(($M$65)/25000,0) -> 1 | K10: =K7+1 -> 2 | L10: =W48 -> Analista (Assistente Social) | M10: =ROUND(($M$65+$M$66)/150000,0) -> 0 | P10: =Resumo!AO10 -> C | Q10: =Resumo!AP10 -> Auxiliar Operacional (Mecânico) | R10: =Resumo!AQ10 -> 2454.44 | S10: =Resumo!AR10 -> C | T10: =Resumo!AS10 -> Assistente Técnico (Quimica) | U10: =Resumo!AT10 -> 3685.61 | V10: =Resumo!AU10 -> B | W10: =Resumo!AV10 -> Assistente Administrativo | X10: =Resumo!AW10 -> 2681.22
C11: =C10+1 -> 6 | D11: =Q42 -> Auxiliar Operacional (Motorista classe D) | E11: =IF($M$67+$M$68<81000,0,ROUND((($M$67/25000)*0.06842)+(($M$68/30000)*0.06842+1),0)) -> 2 | G11: =G10+1 -> 6 | H11: =Q54 -> Assistente Técnico (Bioquimica) | I11: =ROUND(($M$65)/25000,0) -> 1 | K11: =K10+1 -> 3 | L11: =W42 -> Assistente Técnico (Fiscal de Postura) | M11: =(IF($M$65+$M$66<5000,0,ROUND(((($M$65+$M$66)/4000)/20)+1,0))) -> 1 | P11: =Resumo!AO11 -> C | Q11: =Resumo!AP11 -> Auxiliar Operacional (Motorista classe D) | R11: =Resumo!AQ11 -> 2444.56 | S11: =Resumo!AR11 -> C | T11: =Resumo!AS11 -> Assistente Técnico (Saneamento) | U11: =Resumo!AT11 -> 3942.95 | V11: =Resumo!AU11 -> B | W11: =Resumo!AV11 -> Assistente Técnico (Fiscal de Postura) | X11: =Resumo!AW11 -> 4172.58
C12: =C11+1 -> 7 | D12: =Q45 -> Auxiliar Operacional (Nivelador) | E12: =IF($M$67+$M$68<81000,0,ROUND((($M$67/25000)*0.00741)+(($M$68/30000)*0.00741),0)) -> 0 | G12: =G11+1 -> 7 | H12: =T41 -> Assistente Técnico (Quimica) | I12: =ROUND(($M$65)/25000,0) -> 1 | K12: =K11+1 -> 4 | L12: =W39 -> Auxiliar Operacional (Leiturista) | M12: =ROUND((($M$65/320)/20)+1,0) -> 3 | P12: =Resumo!AO12 -> D | Q12: =Resumo!AP12 -> Auxiliar Operacional (Motorista classe E) | R12: =Resumo!AQ12 -> 2539.58 | S12: =Resumo!AR12 -> C | T12: =Resumo!AS12 -> Assistente Técnico (Topógrafo) | U12: =Resumo!AT12 -> 4042.27 | V12: =Resumo!AU12 -> B | W12: =Resumo!AV12 -> Assistente Técnico (Computação/TI) | X12: =Resumo!AW12 -> 7892.5
C13: =C12+1 -> 8 | D13: =T43 -> Assistente Técnico (Topógrafo) | E13: =IF($M$67+$M$68<81000,0,ROUND((($M$67/25000)*0.00575)+(($M$68/30000)*0.00575),0)) -> 0 | G13: =G12+1 -> 8 | H13: =W41 -> Assistente Administrativo | I13: =ROUND(($M$65+$M$66)/75000,0) -> 0 | K13: =K12+1 -> 5 | L13: =T37 -> Assistente Técnico (Edificações) | M13: =ROUND(($M$65+$M$66)/55000,0) -> 0 | P13: =Resumo!AO13 -> E | Q13: =Resumo!AP13 -> Auxiliar Operacional (Mestre de Obras) | R13: =Resumo!AQ13 -> 4126.44 | S13: =Resumo!AR13 -> B | T13: =Resumo!AS13 -> Analista (Biólogo) | U13: =Resumo!AT13 -> 4813.19 | V13: =Resumo!AU13 -> C | W13: =Resumo!AV13 -> Assistente Técnico (Contabilidade) | X13: =Resumo!AW13 -> 4657.63
C14: =C13+1 -> 9 | D14: =T36 -> Assistente Técnico (Desenhista) | E14: =IF($M$67+$M$68<81000,0,ROUND(($M$65+$M$66)/145000,0)) -> 0 | G14: =G13+1 -> 9 | H14: =Q42 -> Auxiliar Operacional (Motorista classe D) | I14: =ROUND(($M$65+$M$66)/100000,0) -> 0 | K14: =K13+1 -> 6 | L14: =T47 -> Analista (Eng Civil ) | M14: =ROUND(($M$65+$M$66)/200000,0) -> 0 | P14: =Resumo!AO14 -> D | Q14: =Resumo!AP14 -> Auxiliar Operacional (Nivelador) | R14: =Resumo!AQ14 -> 2857.51 | S14: =Resumo!AR14 -> C | T14: =Resumo!AS14 -> Analista (Quimico) | U14: =Resumo!AT14 -> 6713.01 | V14: =Resumo!AU14 -> B | W14: =Resumo!AV14 -> Assistente Técnico (Seg. trabalho) | X14: =Resumo!AW14 -> 4086.16
C15: =C14+1 -> 10 | D15: =Q37 -> Auxiliar Operacional (Encarregado Turma) | E15: =IF($M$67+$M$68<81000,0,ROUND((($M$67/25000)*0.014827)+(($M$68/25000)*0.014827)+0,0)) -> 0 | G15: =G14+1 -> 10 | H15: =T44 -> Analista (Biólogo) | I15: =ROUND(($M$65+$M$66)/200000,0) -> 0 | P15: =Resumo!AO15 -> C | Q15: =Resumo!AP15 -> Auxiliar Operacional (Operador de bombas) | R15: =Resumo!AQ15 -> 2270.74 | S15: =Resumo!AR15 -> D | T15: =Resumo!AS15 -> Analista (Eng Ambiental) | U15: =Resumo!AT15 -> 9683.34 | V15: =Resumo!AU15 -> C | W15: =Resumo!AV15 -> Analista (Advogado) | X15: =Resumo!AW15 -> 6875.48
C16: =C15+1 -> 11 | D16: =Q44 -> Auxiliar Operacional (Mestre de Obras) | E16: =IF($M$67+$M$68<81000,0,ROUND((($M$67/22000)*0.00603)+(($M$68/25000)*0.00603),0)) -> 0 | G16: =G15+1 -> 11 | H16: =T45 -> Analista (Quimico) | I16: =ROUND(($M$65+$M$66)/200000,0) -> 0 | P16: =Resumo!AO16 -> C | Q16: =Resumo!AP16 -> Auxiliar Operacional (Operador de ETA) | R16: =Resumo!AQ16 -> 2270.74 | S16: =Resumo!AR16 -> D | T16: =Resumo!AS16 -> Analista (Eng Civil ) | U16: =Resumo!AT16 -> 11356.16 | V16: =Resumo!AU16 -> C | W16: =Resumo!AV16 -> Analista (Administração/Ecomonia) | X16: =Resumo!AW16 -> 6500.17
C17: Total | E17: =ROUND(SUM(E6:E16),0) -> 13 | G17: =G16+1 -> 12 | H17: =T52 -> Analista (Eng Quimico) | I17: =ROUND(($M$65+$M$66)/200000,0) -> 0 | K17: Total | M17: =ROUND(SUM(M6:M16),0) -> 8 | P17: =Resumo!AO17 -> C | Q17: =Resumo!AP17 -> Auxiliar Operacional (Operador de ETE) | R17: =Resumo!AQ17 -> 2270.74 | S17: =Resumo!AR17 -> D | T17: =Resumo!AS17 -> Analista (Eng Cartografia) | U17: =Resumo!AT17 -> 7879.82 | V17: =Resumo!AU17 -> A | W17: =Resumo!AV17 -> Analista (Assistente Social) | X17: =Resumo!AW17 -> 3989.87
G18: =G49+1 -> 14 | H18: =T47 -> Analista (Eng Civil ) | I18: =ROUND(($M$65+$M$66)/200000,0) -> 0 | P18: =Resumo!AO18 -> C | Q18: =Resumo!AP18 -> Auxiliar Operacional (Oper de microsistemas) | R18: =Resumo!AQ18 -> 2270.74 | S18: =Resumo!AR18 -> D | T18: =Resumo!AS18 -> Analista (Eng de Automação/Mecatrônica) | U18: =Resumo!AT18 -> 11550.24 | V18: =Resumo!AU18 -> D | W18: =Resumo!AV18 -> Analista (Eng Computação/Sistemas/TI) | X18: =Resumo!AW18 -> 9147.26
C19: Relação de Cargos do Quadro Permanente | G19: Total | I19: =SUM(I6:I18) -> 10 | K19: Relação de Cargos do Quadro Permanente | P19: =Resumo!AO19 -> B | Q19: =Resumo!AP19 -> Auxiliar Operacional (Pedreiro) | R19: =Resumo!AQ19 -> 2306.95 | S19: =Resumo!AR19 -> D | T19: =Resumo!AS19 -> Analista (Eng Eletricista) | U19: =Resumo!AT19 -> 11205.77 | V19: =Resumo!AU19 -> C | W19: =Resumo!AV19 -> Analista (Contador) | X19: =Resumo!AW19 -> 6337.04
C20: Área técnica - Manutenção de Redes Técnica | K20: Área Administrativa - Geral | P20: =Resumo!AO20 -> A | Q20: =Resumo!AP20 -> Auxiliar Operacional (Servente/Ajudante) | R20: =Resumo!AQ20 -> 1712.93 | S20: =Resumo!AR20 -> D | T20: =Resumo!AS20 -> Analista (Eng Mecânico) | U20: =Resumo!AT20 -> 9799.94 | V20: =Resumo!AU20 -> D | W20: =Resumo!AV20 -> Analista (Eng Segurança do Trab.) | X20: =Resumo!AW20 -> 9138.48
C21: Item | D21: Descrição | E21: Quantidade | G21: Relação de Cargos do Quadro Permanente | K21: Item | L21: Descrição | M21: Quantidade | P21: =Resumo!AO21 -> D | Q21: =Resumo!AP21 -> Auxiliar Operacional (Soldador) | R21: =Resumo!AQ21 -> 3016.31 | S21: =Resumo!AR21 -> D | T21: =Resumo!AS21 -> Analista (Eng Quimico) | U21: =Resumo!AT21 -> 9768.34 | V21: =Resumo!AU21 -> C | W21: =Resumo!AV21 -> Analista (Jornalista) | X21: =Resumo!AW21 -> 5318
C22: 1 | D22: =W41 -> Assistente Administrativo | E22: =IF($M$67+$M$68<81000,0,ROUND(($M$65+$M$66)/75000,0)) -> 0 | G22: Área técnica - Operação Esgoto | K22: 1 | L22: =W46 -> Analista (Advogado) | M22: =IF(M55<450000,ROUND(($M$65+$M$66)/100000,0),ROUND(($M$65+$M$66)/100000+1,0)) -> 0 | P22: =Resumo!AO22 -> D | Q22: =Resumo!AP22 -> Auxiliar Operacional (Serralheiro) | R22: =Resumo!AQ22 -> 2689.5 | S22: =Resumo!AR22 -> D | T22: =Resumo!AS22 -> Analista (Eng Sanitarista) | U22: =Resumo!AT22 -> 11353.37 | V22: =Resumo!AU22 -> B | W22: =Resumo!AV22 -> Analista (Psicológo) | X22: =Resumo!AW22 -> 4397.28
C23: =C22+1 -> 2 | D23: =T37 -> Assistente Técnico (Edificações) | E23: =IF($M$67+$M$68<81000,0,ROUND(IF($M65+$M66<150000,1,($M$65)/75000),0)) -> 1 | G23: Item | H23: Descrição | I23: Quantidade | K23: =K24+1 -> 3 | L23: =W41 -> Assistente Administrativo | M23: =ROUND(($M$65+$M$66)/10000+1,0) -> 3 | P23: =Resumo!AO23 -> C | Q23: =Resumo!AP23 -> Assistente Técnico (Bioquimica) | R23: =Resumo!AQ23 -> 2441.05 | S23: =Resumo!AR23 -> D | T23: =Resumo!AS23 -> Analista (Geólogo) | U23: =Resumo!AT23 -> 9809.1 | V23: =Resumo!AU23 -> C | W23: =Resumo!AV23 -> Analista (Secretária) | X23: =Resumo!AW23 -> 3469.15
C24: =C23+1 -> 3 | D24: =T42 -> Assistente Técnico (Saneamento) | E24: =IF($M$67+$M$68<81000,0,ROUND(IF($M$65+$M$66<150000,1,($M$66)/75000),0)) -> 1 | G24: 1 | H24: =Q51 -> Auxiliar Operacional (Servente/Ajudante) | I24: =IF($M$66<1,0,ROUND(($M$66)/15000*IF($M62<0.6,1,(1.4-$M$62))+1,0)) -> 1 | K24: =K22+1 -> 2 | L24: =W47 -> Analista (Administração/Ecomonia) | M24: =ROUND(($M$65+$M$66)/100000,0) -> 0
C25: =C16+1 -> 12 | D25: =T47 -> Analista (Eng Civil ) | E25: =ROUND(IF($M65+$M66<75000,0,($M$65+$M$66)/75000),0) -> 0 | G25: =G24+1 -> 2 | H25: =Q46 -> Auxiliar Operacional (Operador de bombas) | I25: =IF($M$66<1,0,ROUND(($M$66)/15000*IF($M$62<0.6,1,(1.4-$M$62)),0)) -> 0 | K25: =K23+1 -> 4 | L25: =W49 -> Analista (Eng Computação/Sistemas/TI) | M25: =ROUND(($M$65+$M$66)/200000,0) -> 0
C26: Total | E26: =SUM(E22:E25) -> 2 | G26: =G25+1 -> 3 | H26: =Q48 -> Auxiliar Operacional (Operador de ETE) | I26: =IF($M$66<1,0,ROUND((($M$66)/15000)*IF($M$62<0.6,1,(1.4-$M$62))+1,0)) -> 1 | K26: =K25+1 -> 5 | L26: =W50 -> Analista (Contador) | M26: =ROUND(($M$65+$M$66)/200000+0,0) -> 0 | P26: Remuneração dos Cargos em Comissão e Funções Gratificadas
G27: =G26+1 -> 4 | H27: =Q49 -> Auxiliar Operacional (Oper de microsistemas) | I27: =IF($M$66<1,0,ROUND(($M$66)/15000*IF($M$62<0.6,1,(1.4-$M$62))+1,0)) -> 1 | K27: =K26+1 -> 6 | L27: =W51 -> Analista (Eng Segurança do Trab.) | M27: =ROUND(($M$65+$M$66)/300000,0) -> 0 | P27: Item | Q27: Descrição | R27: Valor | S27: Item | T27: Descrição | U27: Valor | V27: Item | W27: Descrição | X27: Valor
C28: Relação de Cargos do Quadro Permanente | G28: =G27+1 -> 5 | H28: =Q40 -> Auxiliar Operacional (Laboratorista) | I28: =IF($M$66<1,0,ROUND(($M$66)/25000,0)) -> 0 | K28: =K27+1 -> 7 | L28: =W52 -> Analista (Jornalista) | M28: =ROUND(($M$65+$M$66)/250000,0) -> 0 | P28: =Resumo!AO28 -> 1 | Q28: =Resumo!AP28 -> Diretor Presidente | R28: =Resumo!AQ28 -> 18758.01 | S28: =Resumo!AR28 -> 5 | T28: =Resumo!AS28 -> Ass. CS/ RC/ RI | U28: =Resumo!AT28 -> 11254.806 | V28: =Resumo!AU28 -> 9 | W28: =Resumo!AV28 -> Supervisão Jurídica | X28: =Resumo!AW28 -> 1219.2706
C29: Área técnica - Manutenção Eletromecânica Operacional | G29: =G28+1 -> 6 | H29: =Q54 -> Assistente Técnico (Bioquimica) | I29: =IF($M$66<1,0,ROUND(($M$66)/25000,0)) -> 0 | K29: =K28+1 -> 8 | L29: =W40 -> Auxiliar Operacional (Motorista classe A-D) | M29: =ROUND(($M$65+$M$66)/100000,0) -> 0 | P29: =Resumo!AO29 -> 2 | Q29: =Resumo!AP29 -> Diretor | R29: =Resumo!AQ29 -> 15006.408 | S29: =Resumo!AR29 -> 6 | T29: =Resumo!AS29 -> Secretário Executivo | U29: =Resumo!AT29 -> 8441.1045 | V29: =Resumo!AU29 -> 10 | W29: =Resumo!AV29 -> Chefia de Divisão | X29: =Resumo!AW29 -> 1219.2706
C30: Item | D30: Descrição | E30: Quantidade | G30: =G29+1 -> 7 | H30: =T41 -> Assistente Técnico (Quimica) | I30: =IF($M$66<1,0,ROUND(($M$66)/25000,0)) -> 0 | K30: =K29+1 -> 9 | L30: =W53 -> Analista (Psicológo) | M30: =ROUND(($M$65+$M$66)/200000,0) -> 0 | P30: =Resumo!AO30 -> 3 | Q30: =Resumo!AP30 -> Gerente /Ass Téc. / Ass. Amb/Chefe de Gabinete | R30: =Resumo!AQ30 -> 12192.707 | S30: =Resumo!AR30 -> 7 | T30: =Resumo!AS30 -> Conselheiro Administração | U30: =Resumo!AT30 -> 1875.801 | V30: =Resumo!AU30 -> 11 | W30: =Resumo!AV30 -> Chefia de Setor | X30: =Resumo!AW30 -> 1219.2706
C31: 1 | D31: =Q51 -> Auxiliar Operacional (Servente/Ajudante) | E31: =ROUND(($M$65+$M$66)/35000,0) -> 0 | G31: =G30+1 -> 8 | H31: =Q42 -> Auxiliar Operacional (Motorista classe D) | I31: =IF($M$66<100000,0,ROUND(IF($M$66<200000,1,($M$66)/100000),0)) -> 0 | K31: =K30+1 -> 10 | L31: =W54 -> Analista (Secretária Executiva) | M31: =ROUND(($M$65+$M$66)/250000,0) -> 0 | P31: =Resumo!AO31 -> 4 | Q31: =Resumo!AP31 -> Auditor Geral /Ass Júridico/Corregedor Geral | R31: =Resumo!AQ31 -> 11254.806 | S31: =Resumo!AR31 -> 8 | T31: =Resumo!AS31 -> Conselheiro Fiscal/Comitê Estatutário | U31: =Resumo!AT31 -> 1875.801 | V31: =Resumo!AU31 -> 12 | W31: =Resumo!AV31 -> Supervisão de Equipe | X31: =Resumo!AW31 -> 655.72863
C32: 1 | D32: =Q39 -> Auxiliar Operacional (Eletricista) | E32: =ROUND(($M$65+$M$66)/35000,0) -> 0 | G32: =G31+1 -> 9 | H32: =W41 -> Assistente Administrativo | I32: =IF($M$66<100000,0,ROUND(IF($M$66<200000,1,($M$66)/200000),0)) -> 0 | K32: =K31+1 -> 11 | L32: =W43 -> Assistente Técnico (Computação/TI) | M32: =ROUND(($M$65+$M$66)/250000,0) -> 0
C33: =C32+1 -> 2 | D33: =Q41 -> Auxiliar Operacional (Mecânico) | E33: =ROUND(($M$65+$M$66)/35000,0) -> 0 | G33: =G32+1 -> 10 | H33: =T44 -> Analista (Biólogo) | I33: =IF($M$66<100000,0,ROUND(IF($M$66<200000,1,($M$66)/200000),0)) -> 0 | K33: =K32+1 -> 12 | L33: =W44 -> Assistente Técnico (Contabilidade) | M33: =IF($M$55<50000,1,ROUND(($M$65+$M$66)/55000,0)) -> 1 | P33: Relação de Cargos do Quadro Permanente
C34: =C33+1 -> 3 | D34: =Q52 -> Auxiliar Operacional (Soldador) | E34: =ROUND(($M$65+$M$66)/85000,0) -> 0 | G34: =G33+1 -> 11 | H34: =T45 -> Analista (Quimico) | I34: =IF($M$66<5000,0,ROUND(IF($M$66<200000,0,($M$66)/200000),0)) -> 0 | K34: =K33+1 -> 13 | L34: =W45 -> Assistente Técnico (Seg. trabalho) | M34: =ROUND(($M$65+$M$66)/50000,0) -> 0 | P34: Área Operacional e Técnica - Atividade-fim | V34: Área Administrativa - Atividade-meio
C35: =C34+1 -> 4 | D35: =Q53 -> Auxiliar Operacional (Serralheiro) | E35: =ROUND(($M$65+$M$66)/85000,0) -> 0 | G35: =G34+1 -> 12 | H35: =T46 -> Analista (Eng Ambiental) | I35: =IF($M$66<0,0,ROUND(($M$66)/200000,0)) -> 0 | P35: Item | Q35: Descrição | R35: Quantidade | S35: Item | T35: Descrição | U35: Quantidade | V35: Item | W35: Descrição | X35: Quantidade
C36: =C35+1 -> 5 | D36: =Q50 -> Auxiliar Operacional (Pedreiro) | E36: =ROUND(($M$65+$M$66)/85000,0) -> 0 | G36: =G35+1 -> 13 | H36: =T47 -> Analista (Eng Civil ) | I36: =IF($M$66<50000,0,ROUND(IF($M66<100000,1,($M$66)/100000),0)) -> 0 | P36: 1 | Q36: Auxiliar Operacional (Calceteiro/Pedreiro) | R36: =E7 -> 1 | S36: =P54+1 -> 20 | T36: Assistente Técnico (Desenhista) | U36: =E14+I43 -> 0 | V36: =S54+1 -> 38 | W36: Auxiliar Administrativo (Call Center) | X36: =M9 -> 2
C37: =C36+1 -> 6 | D37: =Q37 -> Auxiliar Operacional (Encarregado Turma) | E37: =ROUND(($M$65+$M$66)/85000,0) -> 0 | G37: Total | I37: =SUM(I24:I36) -> 3 | K37: Total | M37: =ROUND(SUM(M22:N36),0) -> 4 | P37: =P36+1 -> 2 | Q37: Auxiliar Operacional (Encarregado Turma) | R37: =E15+E37 -> 0 | S37: =S36+1 -> 21 | T37: Assistente Técnico (Edificações) | U37: =E23+I44+M13 -> 1 | V37: =V36+1 -> 39 | W37: Auxiliar Operacional (Copeiro/Faxineiro) | X37: =M42 -> 1
C38: Total | E38: =SUM(E31:E37) -> 0 | P38: =P37+1 -> 3 | Q38: Auxiliar Operacional (Encanador) | R38: =E8 -> 3 | S38: =S37+1 -> 22 | T38: Assistente Técnico (Eletrônica) | U38: =E45 -> 0 | V38: =V37+1 -> 40 | W38: Auxiliar Operacional (Vigia) | X38: =M43 -> 2
G39: Relação de Cargos do Quadro Permanente | K39: Relação de Cargos do Quadro Permanente | P39: =P38+1 -> 4 | Q39: Auxiliar Operacional (Eletricista) | R39: =E32 -> 0 | S39: =S38+1 -> 23 | T39: Assistente Técnico (Eletrotécnica) | U39: =E44 -> 0 | V39: =V38+1 -> 41 | W39: Auxiliar Operacional (Leiturista) | X39: =M12 -> 3
C40: Relação de Cargos do Quadro Permanente | G40: Área técnica - Planejamento | K40: Área Administrativa - Pratimonial | P40: =P39+1 -> 5 | Q40: Auxiliar Operacional (Laboratorista) | R40: =I10+I28 -> 1 | S40: =S39+1 -> 24 | T40: Assistente Técnico (Mecânica) | U40: =E46 -> 0 | V40: =V39+1 -> 42 | W40: Auxiliar Operacional (Motorista classe A-D) | X40: =M29 -> 0
C41: Área técnica - Manutenção Eletromecânica Técnica | G41: Item | H41: Descrição | I41: Quantidade | K41: Item | L41: Descrição | M41: Quantidade | P41: =P40+1 -> 6 | Q41: Auxiliar Operacional (Mecânico) | R41: =E33 -> 0 | S41: =S40+1 -> 25 | T41: Assistente Técnico (Quimica) | U41: =I12+I30 -> 1 | V41: =V40+1 -> 43 | W41: Assistente Administrativo | X41: =E22+E43+I13+I32+I42+M7+M23 -> 5
C42: Item | D42: Descrição | E42: Quantidade | G42: 1 | H42: =W41 -> Assistente Administrativo | I42: =ROUND(($M$65+$M$66)/150000,0) -> 0 | K42: 1 | L42: =W37 -> Auxiliar Operacional (Copeiro/Faxineiro) | M42: =ROUND(IF(M55<=10000, 1, ($M$65+$M$66)/13500+0),0) -> 1 | P42: =P41+1 -> 7 | Q42: Auxiliar Operacional (Motorista classe D) | R42: =E11+I14+I31 -> 2 | S42: =S41+1 -> 26 | T42: Assistente Técnico (Saneamento) | U42: =E24+I45 -> 1 | V42: =V41+1 -> 44 | W42: Assistente Técnico (Fiscal de Postura) | X42: =M11 -> 1
C43: 1 | D43: =W41 -> Assistente Administrativo | E43: =ROUND(($M$65+$M$66)/75000,0) -> 0 | G43: =G42+1 -> 2 | H43: =T36 -> Assistente Técnico (Desenhista) | I43: =ROUND(IF($M$65+$M$66<50000,0,($M$65+$M$66)/50000),0) -> 0 | K43: =K42+1 -> 2 | L43: =W38 -> Auxiliar Operacional (Vigia) | M43: =IF(M$55<5000,2,ROUND(IF($M$55<=10000, 4, ($M$65+$M$66)/13500+1),0)) -> 2 | P43: =P42+1 -> 8 | Q43: Auxiliar Operacional (Motorista classe E) | R43: =E10 -> 1 | S43: =S42+1 -> 27 | T43: Assistente Técnico (Topógrafo) | U43: =E13 -> 0 | V43: =V42+1 -> 45 | W43: Assistente Técnico (Computação/TI) | X43: =M32 -> 0
C44: =C34+1 -> 4 | D44: =T39 -> Assistente Técnico (Eletrotécnica) | E44: =ROUND(IF($M65+$M66<75000,0,($M$65+$M$66)/75000),0) -> 0 | G44: =G43+1 -> 3 | H44: =T37 -> Assistente Técnico (Edificações) | I44: =ROUND(IF($M$65+$M$66<50000,0,($M$65+$M$66)/50000),0) -> 0 | P44: =P43+1 -> 9 | Q44: Auxiliar Operacional (Mestre de Obras) | R44: =E16 -> 0 | S44: =S43+1 -> 28 | T44: Analista (Biólogo) | U44: =I15+I33 -> 0 | V44: =V43+1 -> 46 | W44: Assistente Técnico (Contabilidade) | X44: =M33 -> 1
C45: =C44+1 -> 5 | D45: =T38 -> Assistente Técnico (Eletrônica) | E45: =ROUND(IF($M66+$M67<75000,0,($M$65+$M$66)/75000),0) -> 0 | G45: =G44+1 -> 4 | H45: =T42 -> Assistente Técnico (Saneamento) | I45: =ROUND(IF($M$65+$M$66<50000,0,($M$65+$M$66)/50000),0) -> 0 | P45: =P44+1 -> 10 | Q45: Auxiliar Operacional (Nivelador) | R45: =E12 -> 0 | S45: =S44+1 -> 29 | T45: Analista (Quimico) | U45: =I16+I34 -> 0 | V45: =V44+1 -> 47 | W45: Assistente Técnico (Seg. trabalho) | X45: =M34 -> 0
C46: =C45+1 -> 6 | D46: =T40 -> Assistente Técnico (Mecânica) | E46: =ROUND(IF($M67+$M68<75000,0,($M$65+$M$66)/75000),0) -> 0 | G46: =G45+1 -> 5 | H46: =T54 -> Analista (Geólogo) | I46: =ROUND(($M$65)/150000,0) -> 0 | P46: =P45+1 -> 11 | Q46: Auxiliar Operacional (Operador de bombas) | R46: =I7+I25 -> 1 | S46: =S45+1 -> 30 | T46: Analista (Eng Ambiental) | U46: =I35 -> 0 | V46: =V45+1 -> 48 | W46: Analista (Advogado) | X46: =M6+M22 -> 0
C47: =C46+1 -> 7 | D47: =T49 -> Analista (Eng de Automação/Mecatrônica) | E47: =ROUND(($M$65+$M$66)/200000,0) -> 0 | G47: =G46+1 -> 6 | H47: =T48 -> Analista (Eng Cartografia) | I47: =ROUND(($M$65+$M$66)/400000,0) -> 0 | P47: =P46+1 -> 12 | Q47: Auxiliar Operacional (Operador de ETA) | R47: =I8 -> 2 | S47: =S45+1 -> 30 | T47: Analista (Eng Civil ) | U47: =E25+I18+I36+I48+M14 -> 1 | V47: =V46+1 -> 49 | W47: Analista (Administração/Ecomonia) | X47: =M8+M24 -> 0
C48: =C47+1 -> 8 | D48: =T50 -> Analista (Eng Eletricista) | E48: =ROUND(($M$65+$M$66)/200000,0) -> 0 | G48: =G47+1 -> 7 | H48: =T47 -> Analista (Eng Civil ) | I48: =IF($M$65+$M$66<5000,0,ROUND(IF($M$65+$M$66<100000,1,($M$65+$M$66)/100000),0)) -> 1 | P48: =P47+1 -> 13 | Q48: Auxiliar Operacional (Operador de ETE) | R48: =I26 -> 1 | S48: =S47+1 -> 31 | T48: Analista (Eng Cartografia) | U48: =I47 -> 0 | V48: =V47+1 -> 50 | W48: Analista (Assistente Social) | X48: =M10 -> 0
C49: =C48+1 -> 9 | D49: =T51 -> Analista (Eng Mecânico) | E49: =ROUND(($M$65+$M$66)/200000,0) -> 0 | G49: =G17+1 -> 13 | H49: =T53 -> Analista (Eng Sanitarista) | I49: =ROUND(($M$65+$M$66)/250000,0) -> 0 | P49: =P48+1 -> 14 | Q49: Auxiliar Operacional (Oper de microsistemas) | R49: =I9+I27 -> 3 | S49: =S48+1 -> 32 | T49: Analista (Eng de Automação/Mecatrônica) | U49: =E47 -> 0 | V49: =V48+1 -> 51 | W49: Analista (Eng Computação/Sistemas/TI) | X49: =M25 -> 0
C50: Total | E50: =ROUND(SUM(E43:E49),0) -> 0 | G50: Total | I50: =SUM(I42:I49) -> 1 | K50: Total | M50: =SUM(M42:M49) -> 3 | P50: =P49+1 -> 15 | Q50: Auxiliar Operacional (Pedreiro) | R50: =E36+E9 -> 1 | S50: =S49+1 -> 33 | T50: Analista (Eng Eletricista) | U50: =E48 -> 0 | V50: =V49+1 -> 52 | W50: Analista (Contador) | X50: =M26 -> 0
P51: =P50+1 -> 16 | Q51: Auxiliar Operacional (Servente/Ajudante) | R51: =E6+I6+E31+I24 -> 8 | S51: =S50+1 -> 34 | T51: Analista (Eng Mecânico) | U51: =E49 -> 0 | V51: =V50+1 -> 53 | W51: Analista (Eng Segurança do Trab.) | X51: =M27 -> 0
C52: Total da Área Mnutenção | E52: =ROUND(E17+E26+E38+E50,0) -> 15 | G52: Total da Área Técnica Operação | I52: =ROUND(I19+I37+I50,0) -> 14 | K52: Total da Área Administrativa | M52: =ROUND(M17+M37+M50,0) -> 15 | P52: =P51+1 -> 17 | Q52: Auxiliar Operacional (Soldador) | R52: =E34 -> 0 | S52: =S51+1 -> 35 | T52: Analista (Eng Quimico) | U52: =I17 -> 0 | V52: =V51+1 -> 54 | W52: Analista (Jornalista) | X52: =M28 -> 0
P53: =P52+1 -> 18 | Q53: Auxiliar Operacional (Serralheiro) | R53: =E35 -> 0 | S53: =S52+1 -> 36 | T53: Analista (Eng Sanitarista) | U53: =I49 -> 0 | V53: =V52+1 -> 55 | W53: Analista (Psicológo) | X53: =M30 -> 0
C54: Relação de Cargos de Governança | G54: Relação de Cargos Executivos em Comissão | K54: Informações do Sistema | P54: =P53+1 -> 19 | Q54: Assistente Técnico (Bioquimica) | R54: =I11+I29 -> 1 | S54: =S53+1 -> 37 | T54: Analista (Geólogo) | U54: =I46 -> 0 | V54: =V53+1 -> 56 | W54: Analista (Secretária Executiva) | X54: =M31 -> 0
C55: Item | D55: Descrição | E55: Quantidade | G55: Item | H55: Descrição | I55: Quantidade | K55: População Atendida Água | M55: ='Folha de dados'!E6 -> 44815 | P55: Total Área Operacional e Técnica | U55: =ROUND(SUM(R36:R54)+SUM(U36:U54),0) -> 29 | V55: Total Área Administrativa | X55: =SUM(X36:X54) -> 15
C56: 1 | D56: AG - Representante dos Acionistas | E56: =IF(F1=1,0,ROUND(IF($M$55<400000,IF($M$55<25001,3,IF($M$55<150001,3,5)),7),0)) -> 0 | G56: 1 | H56: Diretor Presidente | I56: =IF($M$55>=1,1,0) -> 1 | K56: População Atendida Esgoto | M56: ='Folha de dados'!E7 -> 9202
C57: =C56+1 -> 2 | D57: CA - Conselheiro Administração | E57: =IF(F1=1,0,ROUND(IF($M$55<400000,IF($M$55<25001,3,IF($M$55<200001,5,7)),7),0)) -> 0 | G57: =G56+1 -> 2 | H57: Diretor de Negócios Jurídicos | I57: =IF($M$55<100000,0,1) -> 0 | K57: Testada média (m) | M57: ='Folha de dados'!E8 -> 21.21 | P57: Custeio de mão de obra e encargos sociais anual
C58: =C57+1 -> 3 | D58: CF - Conselheiro Fiscal e CE - Comitê Estatutário | E58: =IF(F1=1,0,IF($M$55<200000,4,6)) -> 0 | G58: =G57+1 -> 3 | H58: Diretor de Gestão Corporativa | I58: =IF($M$55<100000,0,1) -> 0 | K58: Testada média (m) | M58: ='Folha de dados'!E9 -> 21.21 | P58: Salario Médio por funcionário | R58: =H97/M76 -> 3445.4278
C59: =C58+1 -> 4 | D59: CC - Conselheiro Consultivo da Comunidade | E59: =IF(F1=1,0,ROUND(IF($M$55<200000,IF($M$55<25001,3,IF($M$55<150000,5,7)),7),0)) -> 0 | G59: =G58+1 -> 4 | H59: Diretor de Gestão Técnica | I59: =IF($M$55<100000,0,1) -> 0 | K59: Rel. Economias A/Ligação A | M59: ='Folha de dados'!E10 -> 1.3230226 | P59: LST médio por funcionário | R59: =I97/M76-R58 -> 3679.2771
C60: Total | E60: =SUM(E56:E59) -> 0 | G60: =G59+1 -> 5 | H60: Chefe de Gabinete | I60: =IF($M$55<200000,0,1) -> 0 | K60: Rel. Economias E/Ligação E | M60: ='Folha de dados'!E11 -> 1.3230226 | P60: Custo cargos de Operacionais | R60: =SUM(H82:H87) -> 59573.3 | S60: =R60/H97 -> 0.36021954
G61: =G60+1 -> 6 | H61: Assessor Técnico | I61: =IF($M$55>=200000,1,0) -> 0 | K61: Grau de automação dos sistemas A | M61: ='Folha de dados'!E12 -> 0.25 | P61: Custo cargos de Administrativos | R61: =SUM(H88:H91) -> 37346.11 | S61: =R61/H97 -> 0.22581926
C62: Relação de Cargos Táticos em Comissão | G62: =G61+1 -> 7 | H62: Assessor de Gestão Ambiental | I62: =IF($M$55>=200000,1,0) -> 0 | K62: Grau de automação dos sistemas E | M62: ='Folha de dados'!E13 -> 0.25 | P62: Custo de cargos Gerenciais | R62: =+SUM(H94:H96) -> 68461.124 | S62: =R62/H97 -> 0.4139612
C63: Item | D63: Descrição | E63: Quantidade | G63: =G62+1 -> 8 | H63: Assessor de Comunicação Social | I63: =IF($M$55>=100000,1,0) -> 0 | K63: Nº de Economias Água | M63: ='Folha de dados'!E14 -> 18656.474 | P63: Custo cargos de Conselho | R63: =SUM(H92:H93) -> 0 | S63: =R63/H97 -> 0
C64: =G68+1 -> 14 | D64: Gerente Jurídico Administrativo | E64: =IF($M$55<200000,0,1) -> 0 | G64: =G63+1 -> 9 | H64: Assessor de Relações Corporativas | I64: =IF($M$55<400000,0,1) -> 0 | K64: Nº de Economias Esgoto | M64: ='Folha de dados'!E15 -> 3830.8982 | P64: Total Mensal | R64: =SUM(R60:S63) -> 165381.53 | S64: =SUM(S60:S63) -> 1
C65: =C64+1 -> 15 | D65: Gerente Jurídico Contencioso | E65: =IF($M$55<200000,0,1) -> 0 | G65: =G64+1 -> 10 | H65: Assessor de Relações Institucionais | I65: =IF($M$55<400000,0,1) -> 0 | K65: Nº de Ligações A | M65: ='Folha de dados'!E16 -> 14101.385 | P65: LST médio | R65: =I97-H97 -> 176605.3 | S65: =R65/R64 -> 1.0678659
C66: =C65+1 -> 16 | D66: Gerente Administrativo e Financeiro | E66: =IF($M$55>=15000,1,0) -> 1 | G66: =G65+1 -> 11 | H66: Assessor Júridico/Corregedor Geral | I66: =IF($M$55>=100000,1,0) -> 0 | K66: Nº de Ligações E | M66: ='Folha de dados'!E17 -> 2895.5616 | P66: Folha de pagamento sem encargos anual | R66: =R64*12 -> 1984578.4
C67: =C66+1 -> 17 | D67: Gerente de Relações c/ Usuário | E67: =IF($M$55>=15000,1,0) -> 1 | G67: =G66+1 -> 12 | H67: Secretário Executivo | I67: =IF($M$55<200000,0,1) -> 0 | K67: Extensão rede de água (m) | M67: ='Folha de dados'!E18 -> 299090.37 | P67: Encargos sobre a folha de pagamento anual | R67: =R65*12 -> 2119263.6
C68: =C67+1 -> 18 | D68: Gerente de Operação e Manutenção | E68: =IF($M$55<=200000,(IF($M$55>=15000,1,0)),0) -> 1 | G68: =G67+1 -> 13 | H68: Auditor Geral | I68: =IF($M$55<100000,0,1) -> 0 | K68: Extensão rede de esgoto (m) | M68: ='Folha de dados'!E19 -> 61414.861 | P68: Custo anual de mão de obra e encargos sociais | R68: =R66+R67 -> 4103842
C69: =C68+1 -> 19 | D69: Gerente de Planejamento Projetos e Obras | E69: =IF($M$55>100000,1,0) -> 0 | G69: Cargos em Comissão Remunerados | I69: =SUM(I56:I68) -> 1 | K69: Nº de Func. da Manutenção A+E | M69: =$E$17+$E$26+$E$38+$E$50 -> 15 | N69: =M69/$M$76 -> 0.3125
C70: =C69+1 -> 20 | D70: Gerente de Operação e Manutenção - Água | E70: =IF($M$55>=200000,1,0) -> 0 | K70: Nº de Func. da Operação A+E | M70: =$I$19+$I$37 -> 13 | N70: =M70/$M$76 -> 0.27083333 | R70: =R66 -> 1984578.4
C71: =C70+1 -> 21 | D71: Gerente de Operação e Manutenção - Esgoto | E71: =IF($M$55>=200000,1,0) -> 0 | G71: Relação de Funções Gratificadas | K71: Nº de Func. do Planejamento | M71: =$I$50 -> 1 | N71: =M71/$M$76 -> 0.020833333 | R71: =R67 -> 2119263.6
C72: Cargos em Comissão Remunerados | E72: =SUM(E64:E71) -> 3 | G72: Item | H72: Descrição | I72: Quantidade | K72: Nº de Func. do Comercial | M72: =$M$17 -> 8 | N72: =M72/$M$76 -> 0.16666667 | R72: =R68 -> 4103842
G73: 1 | H73: Supervisão Jurídica | I73: =IF(M55>=200000,4,0) -> 0 | K73: Nº de Func. da Administração | M73: =$M$37+$M$50 -> 7 | N73: =M73/$M$76 -> 0.14583333
C74: Relação de Pessoal | G74: =G73+1 -> 2 | H74: Chefia de Divisão | I74: =ROUND(IF(M55<400000,IF(M55<100000,M55/6250,IF(M55<200000,M55/12500,16)),20),0) -> 7 | K74: Nº de Func Cargos Tático | M74: =$E$72 -> 3 | N74: =M74/$M$76 -> 0.0625 | P74: Resumo
C75: Nº Func Produção + Manutenção/ Func Total | E75: =ROUND((M69+M70+M71)/(M76),4) -> 0.6042 | G75: =G74+1 -> 3 | H75: Chefia de Setor | I75: =IF(M55<400000,(IF(M55<100000,0,2*I74)),(I74*2+2)) -> 0 | K75: Nº de Func Cargos Executivo | M75: =$I$69 -> 1 | N75: =M75/$M$76 -> 0.020833333 | P75: =D82 -> Área técnica - Manutenção de Redes - Operacional | R75: =I82*12 -> 795483.26 | S75: =R75/$R$90 -> 0.19383923
C76: Nº Func Adm+ Comercial/ Func Total | E76: =ROUND((M72+M73)/(M76),4) -> 0.3125 | G76: =G75+1 -> 4 | H76: Supervisão de Equipe | I76: =IF(M55<400000,(IF(M55<25000,0,I74)),(I74+2)) -> 7 | K76: Nº Total de Funcionários | M76: =SUM($M$69:$M$75) -> 48 | N76: =SUM(N69:N75) -> 1 | P76: =D83 -> Área técnica - Manut de Redes - Técnica | R76: =I83*12 -> 114050.46 | S76: =R76/$R$90 -> 0.027791224
C77: Nº Cargo Comissão/ Func Total | E77: =ROUND((M74+M75)/M76,4) -> 0.0833 | G77: Total | I77: =SUM(I73:I76) -> 14 | K77: Nº Ligações A+E por funcionário | M77: =ROUND(($M$65+$M$66)/($M$76),0) -> 354 | P77: =D84 -> Área técnica - Manut Eletromecânica - Operacional | R77: =I84*12 -> 0 | S77: =R77/$R$90 -> 0
P78: =D85 -> Área técnica - Manut Eletromecânica - Técnica | R78: =I85*12 -> 0 | S78: =R78/$R$90 -> 0
C79: Relação de Cargos do Quadro Permanente | P79: =D86 -> Área técnica - Operação Água | R79: =I86*12 -> 604715.76 | S79: =R79/$R$90 -> 0.147354
C80: Folha de Pagamento Mensal | P80: =D87 -> Área técnica - Operação Esgoto | R80: =I87*12 -> 208917.75 | S80: =R80/$R$90 -> 0.050907994
C81: Item | D81: Descrição | F81: LST | H81: Valor Bruto | I81: Valor co LST | P81: =D88 -> Área técnica - Planejamento | R81: =I88*12 -> 255513.6 | S81: =R81/$R$90 -> 0.062262228
C82: 1 | D82: Área técnica - Manutenção de Redes - Operacional | F82: ='Folha de dados'!R25 -> 1.41043 | H82: =E6*R20+E7*R5+(E8+E9)*R19+E10*R12+E11*R11+E12*R14+E13*U12+E15*R6+E16*R13+E14*OC3740 -> 27501.43 | I82: =(F82+1)*H82 -> 66290.272 | L82: =I82 -> 66290.272 | P82: =D89 -> Área Administrativa - Comercial | R82: =I89*12 -> 298994.85 | S82: =R82/$R$90 -> 0.072857513
C83: =C82+1 -> 2 | D83: Área técnica - Manut de Redes - Técnica | F83: ='Folha de dados'!R26 -> 1.41043 | H83: =E22*X10+E23*U6+E24*U11+E25*U16 -> 3942.95 | I83: =(F83+1)*H83 -> 9504.205 | L83: =I83 -> 9504.205 | P83: =D90 -> Área Administrativa - Geral | R83: =I90*12 -> 285779.03 | S83: =R83/$R$90 -> 0.06963715
C84: =C83+1 -> 3 | D84: Área técnica - Manut Eletromecânica - Operacional | F84: ='Folha de dados'!R27 -> 1.41043 | H84: =E31*R20+E32*R8+E33*R10+E34*R21+E35*R22+E36*R19+E37*R6 -> 0 | I84: =(F84+1)*H84 -> 0 | L84: =I84 -> 0 | P84: =D91 -> Área Administrativa - Pratimonial | R84: =I91*12 -> 0 | S84: =R84/$R$90 -> 0
C85: =C84+1 -> 4 | D85: Área técnica - Manut Eletromecânica - Técnica | F85: ='Folha de dados'!R28 -> 1.41043 | H85: =E43*X10+E44*U8+E45*U7+E46*U9+E47*U18+E48*U19+E49*U20 -> 0 | I85: =(F85+1)*H85 -> 0 | L85: =I85 -> 0 | P85: =D92 -> Conselheiro Administração | R85: =I92*12 -> 0 | S85: =R85/$R$90 -> 0
C86: =C85+1 -> 5 | D86: Área técnica - Operação Água | F86: ='Folha de dados'!R29 -> 1.41043 | H86: =I6*R20+I7*R15+I8*R16+I9*R18+I10*R9+I11*R23+I12*U10+I13*X10+I14*R11+I15*U13+I16*U14+I17*U21+I18*U16 -> 20906.22 | I86: =(F86+1)*H86 -> 50392.98 | L86: =I86 -> 50392.98 | P86: =D93 -> Conselheiro Fiscal | R86: =I93*12 -> 0 | S86: =R86/$R$90 -> 0
C87: =C86+1 -> 6 | D87: Área técnica - Operação Esgoto | F87: ='Folha de dados'!R30 -> 1.41043 | H87: =I24*X10+I25*R15+I26*R17+I27*R18+I28*R9+I29*R23+I30*U10+I31*R11+I32*X10+I33*U13+I34*U14+I35*U15+I36*U16 -> 7222.7 | I87: =(F87+1)*H87 -> 17409.813 | L87: =I87 -> 17409.813 | P87: =D94 -> Cargos Executivos | R87: =I94*12 -> 422055.22 | S87: =R87/$R$90 -> 0.10284423
C88: =C87+1 -> 7 | D88: Área técnica - Planejamento | F88: ='Folha de dados'!R31 -> 0.875 | H88: =I42*X10+I43*U5+I44*U6+I45*U11+I46*U23+I47*U17+I48*U16+I49*U22 -> 11356.16 | I88: =(F88+1)*H88 -> 21292.8 | L88: =I88 -> 21292.8 | P88: =D95 -> Cargos Táticos | R88: =I95*12 -> 823007.69 | S88: =R88/$R$90 -> 0.20054624
C89: =C88+1 -> 8 | D89: Área Administrativa - Comercial | F89: ='Folha de dados'!R32 -> 0.875 | H89: =M6*X15+M7*X10+M8*X16+M9*X5+M10*X17+M11*X11+M12*X8+M13*U6+M14*U16 -> 13288.66 | I89: =(F89+1)*H89 -> 24916.237 | L89: =I89 -> 24916.237 | P89: =D96 -> Funçoes Gratificadas | R89: =I96*12 -> 295312.39 | S89: =R89/$R$90 -> 0.07196019
C90: =C89+1 -> 9 | D90: Área Administrativa - Geral | F90: ='Folha de dados'!R33 -> 0.875 | H90: =M22*X15+M24*X16+M23*X10+M25*X18+M26*X19+M27*X20+M28*X21+M29*X9+M30*X22+M31*X23+M32*X12+M33*X13+M34*X14 -> 12701.29 | I90: =(F90+1)*H90 -> 23814.919 | L90: =I90 -> 23814.919 | P90: Total | R90: =I97*12 -> 4103830 | S90: =SUM(S75:S89) -> 1
C91: =C90+1 -> 10 | D91: Área Administrativa - Pratimonial | F91: ='Folha de dados'!R34 -> 0.875 | H91: =M42*X6+M43*X7 -> 0 | I91: =(F91+1)*H91 -> 0 | L91: =I91 -> 0
C92: =C91+1 -> 11 | D92: Conselheiro Administração | F92: ='Folha de dados'!R35 -> 0.875 | H92: =(E57*U30) -> 0 | I92: =(F92+1)*H92 -> 0 | L92: =I92 -> 0 | R92: =R68-R90 -> 12
C93: =C92+1 -> 12 | D93: Conselheiro Fiscal | F93: ='Folha de dados'!R36 -> 0.875 | H93: =(E58*U31) -> 0 | I93: =(F93+1)*H93 -> 0 | L93: =I93 -> 0
C94: =C93+1 -> 13 | D94: Cargos Executivos | F94: ='Folha de dados'!R37 -> 0.875 | H94: =I56*R28+I57*R29+I58*R29+I59*R30+I60*+I61*R30+I62*R30+I63*U28+I64*U28+I65*U28+I66*R31+I67*U29+I68*R31 -> 18758.01 | I94: =(F94+1)*H94 -> 35171.269 | L94: =I94 -> 35171.269
C95: =C94+1 -> 14 | D95: Cargos Táticos | F95: ='Folha de dados'!R38 -> 0.875 | H95: =E72*R30 -> 36578.12 | I95: =(F95+1)*H95 -> 68583.974 | L95: =I95 -> 68583.974
C96: =C95+1 -> 15 | D96: Funçoes Gratificadas | F96: ='Folha de dados'!R39 -> 0.875 | H96: =I73*X28+I74*X29+I75*X30+I76*X31 -> 13124.995 | I96: =(F96+1)*H96 -> 24609.366 | L96: =I96 -> 24609.366
C97: Total | H97: =SUM(H82:H96) -> 165380.53 | I97: =SUM(I82:K96) -> 341985.83
C98: Salário médio Operacional | H98: =(H97-H92-H93)/$M$76 -> 3445.4278 | I98: =(I97-I92-I93)/$M$76 -> 7124.7049 | J98: =J97/$M$77 -> 0 | K98: =K97/$M$77 -> 0
C99: Salário médio Conselho ADM | H99: =H92/$E$57 -> #DIV/0! | I99: =(I92)/$E$57 -> #DIV/0! | J99: =J98/$M$77 -> 0 | K99: =K98/$M$77 -> 0
C100: Salário médio Conselho Fiscal +CE | H100: =H93/$E$58 -> #DIV/0! | I100: =(I93)/$E$57 -> #DIV/0! | J100: =J99/$M$77 -> 0 | K100: =K99/$M$77 -> 0
...

Sheet Ano 3
C1: Tipo de Operador : Público (0) ou SEM/Empresa Privada (1) | F1: ='Folha de dados'!$D$5 -> 1
P2: Remuneração Média dos Cargos do Quadro Permanente
A3: 0 | C3: Relação de Cargos do Quadro Permanente | G3: Relação de Cargos do Quadro Permanente | K3: Relação de Cargos do Quadro Permanente | P3: Área técnica - Atividade-fim | U3: Área Administrativa - Atividade-meio
C4: Área técnica - Manutenção de Redes Operacional | G4: Área técnica - Operação Água | K4: Área Administrativa - Comercial | P4: Classe | Q4: Descrição | R4: Valor | S4: Classe | T4: Descrição | U4: Valor | V4: Classe | W4: Descrição | X4: Valor
C5: Item | D5: Descrição | E5: Quantidade | G5: Item | H5: Descrição | I5: Quantidade | K5: Item | L5: Descrição | M5: Quantidade | P5: =Resumo!AO5 -> C | Q5: =Resumo!AP5 -> Auxiliar Operacional (Calceteiro/Pedreiro) | R5: =Resumo!AQ5 -> 2280.28 | S5: =Resumo!AR5 -> C | T5: =Resumo!AS5 -> Assistente Técnico (Desenhista) | U5: =Resumo!AT5 -> 3797.55 | V5: =Resumo!AU5 -> B | W5: =Resumo!AV5 -> Auxiliar Administrativo (Call Center) | X5: =Resumo!AW5 -> 1876.82
C6: 1 | D6: =Q51 -> Auxiliar Operacional (Servente/Ajudante) | E6: =IF($M$67+$M$68<81000,1,ROUND((($M$67/25000)*0.31724)+(($M$68/30000)*0.31724)+1,0)) -> 6 | G6: 1 | H6: =Q51 -> Auxiliar Operacional (Servente/Ajudante) | I6: =ROUND(($M$65)/15000*IF($M$61<0.6,1,(1.4-$M$61))+1,0) -> 2 | K6: 1 | L6: =W46 -> Analista (Advogado) | M6: =ROUND(($M$65+$M$66)/400000,0) -> 0 | P6: =Resumo!AO6 -> 0 | Q6: =Resumo!AP6 -> Auxiliar Operacional (Encarregado Turma) | R6: =Resumo!AQ6 -> 0 | S6: =Resumo!AR6 -> 0 | T6: =Resumo!AS6 -> Assistente Técnico (Edificações) | U6: =Resumo!AT6 -> 0 | V6: =Resumo!AU6 -> 0 | W6: =Resumo!AV6 -> Auxiliar Operacional (Copeiro/Faxineiro) | X6: =Resumo!AW6 -> 0
C7: =C6+1 -> 2 | D7: =Q36 -> Auxiliar Operacional (Calceteiro/Pedreiro) | E7: =IF($M$67+$M$68<81000,1,ROUND((($M$67/25000)*0.01717)+(($M$68/30000)*0.01717)+1,0)) -> 1 | G7: =G6+1 -> 2 | H7: =Q46 -> Auxiliar Operacional (Operador de bombas) | I7: =ROUND(($M$65)/15000*IF($M$61<0.6,1,(1.4-$M$61)),0) -> 1 | K7: 1 | L7: =W41 -> Assistente Administrativo | M7: =ROUND(($M$65+$M$66)/25000+1,0) -> 2 | P7: =Resumo!AO7 -> 0 | Q7: =Resumo!AP7 -> Auxiliar Operacional (Encanador) | R7: =Resumo!AQ7 -> 0 | S7: =Resumo!AR7 -> 0 | T7: =Resumo!AS7 -> Assistente Técnico (Eletrônica) | U7: =Resumo!AT7 -> 0 | V7: =Resumo!AU7 -> 0 | W7: =Resumo!AV7 -> Auxiliar Operacional (Vigia) | X7: =Resumo!AW7 -> 0
C8: =C7+1 -> 3 | D8: =Q38 -> Auxiliar Operacional (Encanador) | E8: =IF($M$67+$M$68<81000,1,ROUND((($M$67/25000)*0.1515)+(($M$68/30000)*0.1515)+1,0)) -> 3 | G8: =G7+1 -> 3 | H8: =Q47 -> Auxiliar Operacional (Operador de ETA) | I8: =ROUND((($M$65)/15000+1)*IF($M$61<0.6,1,(1.4-$M$61)),0) -> 2 | K8: =K7+1 -> 2 | L8: =W47 -> Analista (Administração/Ecomonia) | M8: =ROUND(($M$65+$M$66)/100000,0) -> 0 | P8: =Resumo!AO8 -> 0 | Q8: =Resumo!AP8 -> Auxiliar Operacional (Eletricista) | R8: =Resumo!AQ8 -> 0 | S8: =Resumo!AR8 -> 0 | T8: =Resumo!AS8 -> Assistente Técnico (Eletrotécnica) | U8: =Resumo!AT8 -> 0 | V8: =Resumo!AU8 -> 0 | W8: =Resumo!AV8 -> Auxiliar Operacional (Leiturista) | X8: =Resumo!AW8 -> 0
C9: =C8+1 -> 4 | D9: =Q50 -> Auxiliar Operacional (Pedreiro) | E9: =IF($M$67+$M$68<81000,0,ROUND((($M$67/25000)*0.02842)+(($M$68/30000)*0.02842)+1,0)) -> 1 | G9: =G8+1 -> 4 | H9: =Q49 -> Auxiliar Operacional (Oper de microsistemas) | I9: =ROUND(($M$65)/9500*IF($M$61<0.6,1,(1.4-$M$61))+1,0) -> 3 | K9: =K12+1 -> 5 | L9: =W36 -> Auxiliar Administrativo (Call Center) | M9: =ROUND(($M$65+$M$66)/25000+1,0) -> 2 | P9: =Resumo!AO9 -> 0 | Q9: =Resumo!AP9 -> Auxiliar Operacional (Laboratorista) | R9: =Resumo!AQ9 -> 0 | S9: =Resumo!AR9 -> 0 | T9: =Resumo!AS9 -> Assistente Técnico (Mecânica) | U9: =Resumo!AT9 -> 0 | V9: =Resumo!AU9 -> 0 | W9: =Resumo!AV9 -> Auxiliar Operacional (Motorista classe A-D) | X9: =Resumo!AW9 -> 0
C10: =C9+1 -> 5 | D10: =Q43 -> Auxiliar Operacional (Motorista classe E) | E10: =IF($M$67+$M$68<81000,1,ROUND((($M$67/25000)*0.02842)+(($M$68/30000)*0.02842)+1,0)) -> 1 | G10: =G9+1 -> 5 | H10: =Q40 -> Auxiliar Operacional (Laboratorista) | I10: =ROUND(($M$65)/25000,0) -> 1 | K10: =K7+1 -> 2 | L10: =W48 -> Analista (Assistente Social) | M10: =ROUND(($M$65+$M$66)/150000,0) -> 0 | P10: =Resumo!AO10 -> C | Q10: =Resumo!AP10 -> Auxiliar Operacional (Mecânico) | R10: =Resumo!AQ10 -> 2454.44 | S10: =Resumo!AR10 -> C | T10: =Resumo!AS10 -> Assistente Técnico (Quimica) | U10: =Resumo!AT10 -> 3685.61 | V10: =Resumo!AU10 -> B | W10: =Resumo!AV10 -> Assistente Administrativo | X10: =Resumo!AW10 -> 2681.22
C11: =C10+1 -> 6 | D11: =Q42 -> Auxiliar Operacional (Motorista classe D) | E11: =IF($M$67+$M$68<81000,0,ROUND((($M$67/25000)*0.06842)+(($M$68/30000)*0.06842+1),0)) -> 2 | G11: =G10+1 -> 6 | H11: =Q54 -> Assistente Técnico (Bioquimica) | I11: =ROUND(($M$65)/25000,0) -> 1 | K11: =K10+1 -> 3 | L11: =W42 -> Assistente Técnico (Fiscal de Postura) | M11: =(IF($M$65+$M$66<5000,0,ROUND(((($M$65+$M$66)/4000)/20)+1,0))) -> 1 | P11: =Resumo!AO11 -> C | Q11: =Resumo!AP11 -> Auxiliar Operacional (Motorista classe D) | R11: =Resumo!AQ11 -> 2444.56 | S11: =Resumo!AR11 -> C | T11: =Resumo!AS11 -> Assistente Técnico (Saneamento) | U11: =Resumo!AT11 -> 3942.95 | V11: =Resumo!AU11 -> B | W11: =Resumo!AV11 -> Assistente Técnico (Fiscal de Postura) | X11: =Resumo!AW11 -> 4172.58
C12: =C11+1 -> 7 | D12: =Q45 -> Auxiliar Operacional (Nivelador) | E12: =IF($M$67+$M$68<81000,0,ROUND((($M$67/25000)*0.00741)+(($M$68/30000)*0.00741),0)) -> 0 | G12: =G11+1 -> 7 | H12: =T41 -> Assistente Técnico (Quimica) | I12: =ROUND(($M$65)/25000,0) -> 1 | K12: =K11+1 -> 4 | L12: =W39 -> Auxiliar Operacional (Leiturista) | M12: =ROUND((($M$65/320)/20)+1,0) -> 3 | P12: =Resumo!AO12 -> D | Q12: =Resumo!AP12 -> Auxiliar Operacional (Motorista classe E) | R12: =Resumo!AQ12 -> 2539.58 | S12: =Resumo!AR12 -> C | T12: =Resumo!AS12 -> Assistente Técnico (Topógrafo) | U12: =Resumo!AT12 -> 4042.27 | V12: =Resumo!AU12 -> B | W12: =Resumo!AV12 -> Assistente Técnico (Computação/TI) | X12: =Resumo!AW12 -> 7892.5
C13: =C12+1 -> 8 | D13: =T43 -> Assistente Técnico (Topógrafo) | E13: =IF($M$67+$M$68<81000,0,ROUND((($M$67/25000)*0.00575)+(($M$68/30000)*0.00575),0)) -> 0 | G13: =G12+1 -> 8 | H13: =W41 -> Assistente Administrativo | I13: =ROUND(($M$65+$M$66)/75000,0) -> 0 | K13: =K12+1 -> 5 | L13: =T37 -> Assistente Técnico (Edificações) | M13: =ROUND(($M$65+$M$66)/55000,0) -> 0 | P13: =Resumo!AO13 -> E | Q13: =Resumo!AP13 -> Auxiliar Operacional (Mestre de Obras) | R13: =Resumo!AQ13 -> 4126.44 | S13: =Resumo!AR13 -> B | T13: =Resumo!AS13 -> Analista (Biólogo) | U13: =Resumo!AT13 -> 4813.19 | V13: =Resumo!AU13 -> C | W13: =Resumo!AV13 -> Assistente Técnico (Contabilidade) | X13: =Resumo!AW13 -> 4657.63
C14: =C13+1 -> 9 | D14: =T36 -> Assistente Técnico (Desenhista) | E14: =IF($M$67+$M$68<81000,0,ROUND(($M$65+$M$66)/145000,0)) -> 0 | G14: =G13+1 -> 9 | H14: =Q42 -> Auxiliar Operacional (Motorista classe D) | I14: =ROUND(($M$65+$M$66)/100000,0) -> 0 | K14: =K13+1 -> 6 | L14: =T47 -> Analista (Eng Civil ) | M14: =ROUND(($M$65+$M$66)/200000,0) -> 0 | P14: =Resumo!AO14 -> D | Q14: =Resumo!AP14 -> Auxiliar Operacional (Nivelador) | R14: =Resumo!AQ14 -> 2857.51 | S14: =Resumo!AR14 -> C | T14: =Resumo!AS14 -> Analista (Quimico) | U14: =Resumo!AT14 -> 6713.01 | V14: =Resumo!AU14 -> B | W14: =Resumo!AV14 -> Assistente Técnico (Seg. trabalho) | X14: =Resumo!AW14 -> 4086.16
C15: =C14+1 -> 10 | D15: =Q37 -> Auxiliar Operacional (Encarregado Turma) | E15: =IF($M$67+$M$68<81000,0,ROUND((($M$67/25000)*0.014827)+(($M$68/25000)*0.014827)+0,0)) -> 0 | G15: =G14+1 -> 10 | H15: =T44 -> Analista (Biólogo) | I15: =ROUND(($M$65+$M$66)/200000,0) -> 0 | P15: =Resumo!AO15 -> C | Q15: =Resumo!AP15 -> Auxiliar Operacional (Operador de bombas) | R15: =Resumo!AQ15 -> 2270.74 | S15: =Resumo!AR15 -> D | T15: =Resumo!AS15 -> Analista (Eng Ambiental) | U15: =Resumo!AT15 -> 9683.34 | V15: =Resumo!AU15 -> C | W15: =Resumo!AV15 -> Analista (Advogado) | X15: =Resumo!AW15 -> 6875.48
C16: =C15+1 -> 11 | D16: =Q44 -> Auxiliar Operacional (Mestre de Obras) | E16: =IF($M$67+$M$68<81000,0,ROUND((($M$67/22000)*0.00603)+(($M$68/25000)*0.00603),0)) -> 0 | G16: =G15+1 -> 11 | H16: =T45 -> Analista (Quimico) | I16: =ROUND(($M$65+$M$66)/200000,0) -> 0 | P16: =Resumo!AO16 -> C | Q16: =Resumo!AP16 -> Auxiliar Operacional (Operador de ETA) | R16: =Resumo!AQ16 -> 2270.74 | S16: =Resumo!AR16 -> D | T16: =Resumo!AS16 -> Analista (Eng Civil ) | U16: =Resumo!AT16 -> 11356.16 | V16: =Resumo!AU16 -> C | W16: =Resumo!AV16 -> Analista (Administração/Ecomonia) | X16: =Resumo!AW16 -> 6500.17
C17: Total | E17: =ROUND(SUM(E6:E16),0) -> 14 | G17: =G16+1 -> 12 | H17: =T52 -> Analista (Eng Quimico) | I17: =ROUND(($M$65+$M$66)/200000,0) -> 0 | K17: Total | M17: =ROUND(SUM(M6:M16),0) -> 8 | P17: =Resumo!AO17 -> C | Q17: =Resumo!AP17 -> Auxiliar Operacional (Operador de ETE) | R17: =Resumo!AQ17 -> 2270.74 | S17: =Resumo!AR17 -> D | T17: =Resumo!AS17 -> Analista (Eng Cartografia) | U17: =Resumo!AT17 -> 7879.82 | V17: =Resumo!AU17 -> A | W17: =Resumo!AV17 -> Analista (Assistente Social) | X17: =Resumo!AW17 -> 3989.87
G18: =G49+1 -> 14 | H18: =T47 -> Analista (Eng Civil ) | I18: =ROUND(($M$65+$M$66)/200000,0) -> 0 | P18: =Resumo!AO18 -> C | Q18: =Resumo!AP18 -> Auxiliar Operacional (Oper de microsistemas) | R18: =Resumo!AQ18 -> 2270.74 | S18: =Resumo!AR18 -> D | T18: =Resumo!AS18 -> Analista (Eng de Automação/Mecatrônica) | U18: =Resumo!AT18 -> 11550.24 | V18: =Resumo!AU18 -> D | W18: =Resumo!AV18 -> Analista (Eng Computação/Sistemas/TI) | X18: =Resumo!AW18 -> 9147.26
C19: Relação de Cargos do Quadro Permanente | G19: Total | I19: =SUM(I6:I18) -> 11 | K19: Relação de Cargos do Quadro Permanente | P19: =Resumo!AO19 -> B | Q19: =Resumo!AP19 -> Auxiliar Operacional (Pedreiro) | R19: =Resumo!AQ19 -> 2306.95 | S19: =Resumo!AR19 -> D | T19: =Resumo!AS19 -> Analista (Eng Eletricista) | U19: =Resumo!AT19 -> 11205.77 | V19: =Resumo!AU19 -> C | W19: =Resumo!AV19 -> Analista (Contador) | X19: =Resumo!AW19 -> 6337.04
C20: Área técnica - Manutenção de Redes Técnica | K20: Área Administrativa - Geral | P20: =Resumo!AO20 -> A | Q20: =Resumo!AP20 -> Auxiliar Operacional (Servente/Ajudante) | R20: =Resumo!AQ20 -> 1712.93 | S20: =Resumo!AR20 -> D | T20: =Resumo!AS20 -> Analista (Eng Mecânico) | U20: =Resumo!AT20 -> 9799.94 | V20: =Resumo!AU20 -> D | W20: =Resumo!AV20 -> Analista (Eng Segurança do Trab.) | X20: =Resumo!AW20 -> 9138.48
C21: Item | D21: Descrição | E21: Quantidade | G21: Relação de Cargos do Quadro Permanente | K21: Item | L21: Descrição | M21: Quantidade | P21: =Resumo!AO21 -> D | Q21: =Resumo!AP21 -> Auxiliar Operacional (Soldador) | R21: =Resumo!AQ21 -> 3016.31 | S21: =Resumo!AR21 -> D | T21: =Resumo!AS21 -> Analista (Eng Quimico) | U21: =Resumo!AT21 -> 9768.34 | V21: =Resumo!AU21 -> C | W21: =Resumo!AV21 -> Analista (Jornalista) | X21: =Resumo!AW21 -> 5318
C22: 1 | D22: =W41 -> Assistente Administrativo | E22: =IF($M$67+$M$68<81000,0,ROUND(($M$65+$M$66)/75000,0)) -> 0 | G22: Área técnica - Operação Esgoto | K22: 1 | L22: =W46 -> Analista (Advogado) | M22: =IF(M55<450000,ROUND(($M$65+$M$66)/100000,0),ROUND(($M$65+$M$66)/100000+1,0)) -> 0 | P22: =Resumo!AO22 -> D | Q22: =Resumo!AP22 -> Auxiliar Operacional (Serralheiro) | R22: =Resumo!AQ22 -> 2689.5 | S22: =Resumo!AR22 -> D | T22: =Resumo!AS22 -> Analista (Eng Sanitarista) | U22: =Resumo!AT22 -> 11353.37 | V22: =Resumo!AU22 -> B | W22: =Resumo!AV22 -> Analista (Psicológo) | X22: =Resumo!AW22 -> 4397.28
C23: =C22+1 -> 2 | D23: =T37 -> Assistente Técnico (Edificações) | E23: =IF($M$67+$M$68<81000,0,ROUND(IF($M65+$M66<150000,1,($M$65)/75000),0)) -> 1 | G23: Item | H23: Descrição | I23: Quantidade | K23: =K24+1 -> 3 | L23: =W41 -> Assistente Administrativo | M23: =ROUND(($M$65+$M$66)/10000+1,0) -> 3 | P23: =Resumo!AO23 -> C | Q23: =Resumo!AP23 -> Assistente Técnico (Bioquimica) | R23: =Resumo!AQ23 -> 2441.05 | S23: =Resumo!AR23 -> D | T23: =Resumo!AS23 -> Analista (Geólogo) | U23: =Resumo!AT23 -> 9809.1 | V23: =Resumo!AU23 -> C | W23: =Resumo!AV23 -> Analista (Secretária) | X23: =Resumo!AW23 -> 3469.15
C24: =C23+1 -> 3 | D24: =T42 -> Assistente Técnico (Saneamento) | E24: =IF($M$67+$M$68<81000,0,ROUND(IF($M$65+$M$66<150000,1,($M$66)/75000),0)) -> 1 | G24: 1 | H24: =Q51 -> Auxiliar Operacional (Servente/Ajudante) | I24: =IF($M$66<1,0,ROUND(($M$66)/15000*IF($M62<0.6,1,(1.4-$M$62))+1,0)) -> 1 | K24: =K22+1 -> 2 | L24: =W47 -> Analista (Administração/Ecomonia) | M24: =ROUND(($M$65+$M$66)/100000,0) -> 0
C25: =C16+1 -> 12 | D25: =T47 -> Analista (Eng Civil ) | E25: =ROUND(IF($M65+$M66<75000,0,($M$65+$M$66)/75000),0) -> 0 | G25: =G24+1 -> 2 | H25: =Q46 -> Auxiliar Operacional (Operador de bombas) | I25: =IF($M$66<1,0,ROUND(($M$66)/15000*IF($M$62<0.6,1,(1.4-$M$62)),0)) -> 0 | K25: =K23+1 -> 4 | L25: =W49 -> Analista (Eng Computação/Sistemas/TI) | M25: =ROUND(($M$65+$M$66)/200000,0) -> 0
C26: Total | E26: =SUM(E22:E25) -> 2 | G26: =G25+1 -> 3 | H26: =Q48 -> Auxiliar Operacional (Operador de ETE) | I26: =IF($M$66<1,0,ROUND((($M$66)/15000)*IF($M$62<0.6,1,(1.4-$M$62))+1,0)) -> 1 | K26: =K25+1 -> 5 | L26: =W50 -> Analista (Contador) | M26: =ROUND(($M$65+$M$66)/200000+0,0) -> 0 | P26: Remuneração dos Cargos em Comissão e Funções Gratificadas
G27: =G26+1 -> 4 | H27: =Q49 -> Auxiliar Operacional (Oper de microsistemas) | I27: =IF($M$66<1,0,ROUND(($M$66)/15000*IF($M$62<0.6,1,(1.4-$M$62))+1,0)) -> 1 | K27: =K26+1 -> 6 | L27: =W51 -> Analista (Eng Segurança do Trab.) | M27: =ROUND(($M$65+$M$66)/300000,0) -> 0 | P27: Item | Q27: Descrição | R27: Valor | S27: Item | T27: Descrição | U27: Valor | V27: Item | W27: Descrição | X27: Valor
C28: Relação de Cargos do Quadro Permanente | G28: =G27+1 -> 5 | H28: =Q40 -> Auxiliar Operacional (Laboratorista) | I28: =IF($M$66<1,0,ROUND(($M$66)/25000,0)) -> 0 | K28: =K27+1 -> 7 | L28: =W52 -> Analista (Jornalista) | M28: =ROUND(($M$65+$M$66)/250000,0) -> 0 | P28: =Resumo!AO28 -> 1 | Q28: =Resumo!AP28 -> Diretor Presidente | R28: =Resumo!AQ28 -> 18758.01 | S28: =Resumo!AR28 -> 5 | T28: =Resumo!AS28 -> Ass. CS/ RC/ RI | U28: =Resumo!AT28 -> 11254.806 | V28: =Resumo!AU28 -> 9 | W28: =Resumo!AV28 -> Supervisão Jurídica | X28: =Resumo!AW28 -> 1219.2706
C29: Área técnica - Manutenção Eletromecânica Operacional | G29: =G28+1 -> 6 | H29: =Q54 -> Assistente Técnico (Bioquimica) | I29: =IF($M$66<1,0,ROUND(($M$66)/25000,0)) -> 0 | K29: =K28+1 -> 8 | L29: =W40 -> Auxiliar Operacional (Motorista classe A-D) | M29: =ROUND(($M$65+$M$66)/100000,0) -> 0 | P29: =Resumo!AO29 -> 2 | Q29: =Resumo!AP29 -> Diretor | R29: =Resumo!AQ29 -> 15006.408 | S29: =Resumo!AR29 -> 6 | T29: =Resumo!AS29 -> Secretário Executivo | U29: =Resumo!AT29 -> 8441.1045 | V29: =Resumo!AU29 -> 10 | W29: =Resumo!AV29 -> Chefia de Divisão | X29: =Resumo!AW29 -> 1219.2706
C30: Item | D30: Descrição | E30: Quantidade | G30: =G29+1 -> 7 | H30: =T41 -> Assistente Técnico (Quimica) | I30: =IF($M$66<1,0,ROUND(($M$66)/25000,0)) -> 0 | K30: =K29+1 -> 9 | L30: =W53 -> Analista (Psicológo) | M30: =ROUND(($M$65+$M$66)/200000,0) -> 0 | P30: =Resumo!AO30 -> 3 | Q30: =Resumo!AP30 -> Gerente /Ass Téc. / Ass. Amb/Chefe de Gabinete | R30: =Resumo!AQ30 -> 12192.707 | S30: =Resumo!AR30 -> 7 | T30: =Resumo!AS30 -> Conselheiro Administração | U30: =Resumo!AT30 -> 1875.801 | V30: =Resumo!AU30 -> 11 | W30: =Resumo!AV30 -> Chefia de Setor | X30: =Resumo!AW30 -> 1219.2706
C31: 1 | D31: =Q51 -> Auxiliar Operacional (Servente/Ajudante) | E31: =ROUND(($M$65+$M$66)/35000,0) -> 1 | G31: =G30+1 -> 8 | H31: =Q42 -> Auxiliar Operacional (Motorista classe D) | I31: =IF($M$66<100000,0,ROUND(IF($M$66<200000,1,($M$66)/100000),0)) -> 0 | K31: =K30+1 -> 10 | L31: =W54 -> Analista (Secretária Executiva) | M31: =ROUND(($M$65+$M$66)/250000,0) -> 0 | P31: =Resumo!AO31 -> 4 | Q31: =Resumo!AP31 -> Auditor Geral /Ass Júridico/Corregedor Geral | R31: =Resumo!AQ31 -> 11254.806 | S31: =Resumo!AR31 -> 8 | T31: =Resumo!AS31 -> Conselheiro Fiscal/Comitê Estatutário | U31: =Resumo!AT31 -> 1875.801 | V31: =Resumo!AU31 -> 12 | W31: =Resumo!AV31 -> Supervisão de Equipe | X31: =Resumo!AW31 -> 655.72863
C32: 1 | D32: =Q39 -> Auxiliar Operacional (Eletricista) | E32: =ROUND(($M$65+$M$66)/35000,0) -> 1 | G32: =G31+1 -> 9 | H32: =W41 -> Assistente Administrativo | I32: =IF($M$66<100000,0,ROUND(IF($M$66<200000,1,($M$66)/200000),0)) -> 0 | K32: =K31+1 -> 11 | L32: =W43 -> Assistente Técnico (Computação/TI) | M32: =ROUND(($M$65+$M$66)/250000,0) -> 0
C33: =C32+1 -> 2 | D33: =Q41 -> Auxiliar Operacional (Mecânico) | E33: =ROUND(($M$65+$M$66)/35000,0) -> 1 | G33: =G32+1 -> 10 | H33: =T44 -> Analista (Biólogo) | I33: =IF($M$66<100000,0,ROUND(IF($M$66<200000,1,($M$66)/200000),0)) -> 0 | K33: =K32+1 -> 12 | L33: =W44 -> Assistente Técnico (Contabilidade) | M33: =IF($M$55<50000,1,ROUND(($M$65+$M$66)/55000,0)) -> 1 | P33: Relação de Cargos do Quadro Permanente
C34: =C33+1 -> 3 | D34: =Q52 -> Auxiliar Operacional (Soldador) | E34: =ROUND(($M$65+$M$66)/85000,0) -> 0 | G34: =G33+1 -> 11 | H34: =T45 -> Analista (Quimico) | I34: =IF($M$66<5000,0,ROUND(IF($M$66<200000,0,($M$66)/200000),0)) -> 0 | K34: =K33+1 -> 13 | L34: =W45 -> Assistente Técnico (Seg. trabalho) | M34: =ROUND(($M$65+$M$66)/50000,0) -> 0 | P34: Área Operacional e Técnica - Atividade-fim | V34: Área Administrativa - Atividade-meio
C35: =C34+1 -> 4 | D35: =Q53 -> Auxiliar Operacional (Serralheiro) | E35: =ROUND(($M$65+$M$66)/85000,0) -> 0 | G35: =G34+1 -> 12 | H35: =T46 -> Analista (Eng Ambiental) | I35: =IF($M$66<0,0,ROUND(($M$66)/200000,0)) -> 0 | P35: Item | Q35: Descrição | R35: Quantidade | S35: Item | T35: Descrição | U35: Quantidade | V35: Item | W35: Descrição | X35: Quantidade
C36: =C35+1 -> 5 | D36: =Q50 -> Auxiliar Operacional (Pedreiro) | E36: =ROUND(($M$65+$M$66)/85000,0) -> 0 | G36: =G35+1 -> 13 | H36: =T47 -> Analista (Eng Civil ) | I36: =IF($M$66<50000,0,ROUND(IF($M66<100000,1,($M$66)/100000),0)) -> 0 | P36: 1 | Q36: Auxiliar Operacional (Calceteiro/Pedreiro) | R36: =E7 -> 1 | S36: =P54+1 -> 20 | T36: Assistente Técnico (Desenhista) | U36: =E14+I43 -> 0 | V36: =S54+1 -> 38 | W36: Auxiliar Administrativo (Call Center) | X36: =M9 -> 2
C37: =C36+1 -> 6 | D37: =Q37 -> Auxiliar Operacional (Encarregado Turma) | E37: =ROUND(($M$65+$M$66)/85000,0) -> 0 | G37: Total | I37: =SUM(I24:I36) -> 3 | K37: Total | M37: =ROUND(SUM(M22:N36),0) -> 4 | P37: =P36+1 -> 2 | Q37: Auxiliar Operacional (Encarregado Turma) | R37: =E15+E37 -> 0 | S37: =S36+1 -> 21 | T37: Assistente Técnico (Edificações) | U37: =E23+I44+M13 -> 1 | V37: =V36+1 -> 39 | W37: Auxiliar Operacional (Copeiro/Faxineiro) | X37: =M42 -> 1
C38: Total | E38: =SUM(E31:E37) -> 3 | P38: =P37+1 -> 3 | Q38: Auxiliar Operacional (Encanador) | R38: =E8 -> 3 | S38: =S37+1 -> 22 | T38: Assistente Técnico (Eletrônica) | U38: =E45 -> 0 | V38: =V37+1 -> 40 | W38: Auxiliar Operacional (Vigia) | X38: =M43 -> 2
G39: Relação de Cargos do Quadro Permanente | K39: Relação de Cargos do Quadro Permanente | P39: =P38+1 -> 4 | Q39: Auxiliar Operacional (Eletricista) | R39: =E32 -> 1 | S39: =S38+1 -> 23 | T39: Assistente Técnico (Eletrotécnica) | U39: =E44 -> 0 | V39: =V38+1 -> 41 | W39: Auxiliar Operacional (Leiturista) | X39: =M12 -> 3
C40: Relação de Cargos do Quadro Permanente | G40: Área técnica - Planejamento | K40: Área Administrativa - Pratimonial | P40: =P39+1 -> 5 | Q40: Auxiliar Operacional (Laboratorista) | R40: =I10+I28 -> 1 | S40: =S39+1 -> 24 | T40: Assistente Técnico (Mecânica) | U40: =E46 -> 0 | V40: =V39+1 -> 42 | W40: Auxiliar Operacional (Motorista classe A-D) | X40: =M29 -> 0
C41: Área técnica - Manutenção Eletromecânica Técnica | G41: Item | H41: Descrição | I41: Quantidade | K41: Item | L41: Descrição | M41: Quantidade | P41: =P40+1 -> 6 | Q41: Auxiliar Operacional (Mecânico) | R41: =E33 -> 1 | S41: =S40+1 -> 25 | T41: Assistente Técnico (Quimica) | U41: =I12+I30 -> 1 | V41: =V40+1 -> 43 | W41: Assistente Administrativo | X41: =E22+E43+I13+I32+I42+M7+M23 -> 5
C42: Item | D42: Descrição | E42: Quantidade | G42: 1 | H42: =W41 -> Assistente Administrativo | I42: =ROUND(($M$65+$M$66)/150000,0) -> 0 | K42: 1 | L42: =W37 -> Auxiliar Operacional (Copeiro/Faxineiro) | M42: =ROUND(IF(M55<=10000, 1, ($M$65+$M$66)/13500+0),0) -> 1 | P42: =P41+1 -> 7 | Q42: Auxiliar Operacional (Motorista classe D) | R42: =E11+I14+I31 -> 2 | S42: =S41+1 -> 26 | T42: Assistente Técnico (Saneamento) | U42: =E24+I45 -> 1 | V42: =V41+1 -> 44 | W42: Assistente Técnico (Fiscal de Postura) | X42: =M11 -> 1
C43: 1 | D43: =W41 -> Assistente Administrativo | E43: =ROUND(($M$65+$M$66)/75000,0) -> 0 | G43: =G42+1 -> 2 | H43: =T36 -> Assistente Técnico (Desenhista) | I43: =ROUND(IF($M$65+$M$66<50000,0,($M$65+$M$66)/50000),0) -> 0 | K43: =K42+1 -> 2 | L43: =W38 -> Auxiliar Operacional (Vigia) | M43: =IF(M$55<5000,2,ROUND(IF($M$55<=10000, 4, ($M$65+$M$66)/13500+1),0)) -> 2 | P43: =P42+1 -> 8 | Q43: Auxiliar Operacional (Motorista classe E) | R43: =E10 -> 1 | S43: =S42+1 -> 27 | T43: Assistente Técnico (Topógrafo) | U43: =E13 -> 0 | V43: =V42+1 -> 45 | W43: Assistente Técnico (Computação/TI) | X43: =M32 -> 0
C44: =C34+1 -> 4 | D44: =T39 -> Assistente Técnico (Eletrotécnica) | E44: =ROUND(IF($M65+$M66<75000,0,($M$65+$M$66)/75000),0) -> 0 | G44: =G43+1 -> 3 | H44: =T37 -> Assistente Técnico (Edificações) | I44: =ROUND(IF($M$65+$M$66<50000,0,($M$65+$M$66)/50000),0) -> 0 | P44: =P43+1 -> 9 | Q44: Auxiliar Operacional (Mestre de Obras) | R44: =E16 -> 0 | S44: =S43+1 -> 28 | T44: Analista (Biólogo) | U44: =I15+I33 -> 0 | V44: =V43+1 -> 46 | W44: Assistente Técnico (Contabilidade) | X44: =M33 -> 1
C45: =C44+1 -> 5 | D45: =T38 -> Assistente Técnico (Eletrônica) | E45: =ROUND(IF($M66+$M67<75000,0,($M$65+$M$66)/75000),0) -> 0 | G45: =G44+1 -> 4 | H45: =T42 -> Assistente Técnico (Saneamento) | I45: =ROUND(IF($M$65+$M$66<50000,0,($M$65+$M$66)/50000),0) -> 0 | P45: =P44+1 -> 10 | Q45: Auxiliar Operacional (Nivelador) | R45: =E12 -> 0 | S45: =S44+1 -> 29 | T45: Analista (Quimico) | U45: =I16+I34 -> 0 | V45: =V44+1 -> 47 | W45: Assistente Técnico (Seg. trabalho) | X45: =M34 -> 0
C46: =C45+1 -> 6 | D46: =T40 -> Assistente Técnico (Mecânica) | E46: =ROUND(IF($M67+$M68<75000,0,($M$65+$M$66)/75000),0) -> 0 | G46: =G45+1 -> 5 | H46: =T54 -> Analista (Geólogo) | I46: =ROUND(($M$65)/150000,0) -> 0 | P46: =P45+1 -> 11 | Q46: Auxiliar Operacional (Operador de bombas) | R46: =I7+I25 -> 1 | S46: =S45+1 -> 30 | T46: Analista (Eng Ambiental) | U46: =I35 -> 0 | V46: =V45+1 -> 48 | W46: Analista (Advogado) | X46: =M6+M22 -> 0
C47: =C46+1 -> 7 | D47: =T49 -> Analista (Eng de Automação/Mecatrônica) | E47: =ROUND(($M$65+$M$66)/200000,0) -> 0 | G47: =G46+1 -> 6 | H47: =T48 -> Analista (Eng Cartografia) | I47: =ROUND(($M$65+$M$66)/400000,0) -> 0 | P47: =P46+1 -> 12 | Q47: Auxiliar Operacional (Operador de ETA) | R47: =I8 -> 2 | S47: =S45+1 -> 30 | T47: Analista (Eng Civil ) | U47: =E25+I18+I36+I48+M14 -> 1 | V47: =V46+1 -> 49 | W47: Analista (Administração/Ecomonia) | X47: =M8+M24 -> 0
C48: =C47+1 -> 8 | D48: =T50 -> Analista (Eng Eletricista) | E48: =ROUND(($M$65+$M$66)/200000,0) -> 0 | G48: =G47+1 -> 7 | H48: =T47 -> Analista (Eng Civil ) | I48: =IF($M$65+$M$66<5000,0,ROUND(IF($M$65+$M$66<100000,1,($M$65+$M$66)/100000),0)) -> 1 | P48: =P47+1 -> 13 | Q48: Auxiliar Operacional (Operador de ETE) | R48: =I26 -> 1 | S48: =S47+1 -> 31 | T48: Analista (Eng Cartografia) | U48: =I47 -> 0 | V48: =V47+1 -> 50 | W48: Analista (Assistente Social) | X48: =M10 -> 0
