Workbook

Sheet Resultados
B1: Resultados projetados
A3: Preenchimento | B3: Tarifa média de água calculada | C3: R$/m³ | D3: =Histograma!Y89 -> 9.36 | F3: Tarifa média de esgoto calculada | G3: R$/m³ | H3: =Histograma!Z89 -> 9.36
A4: Fórmulas
A5: NÂO ALTERAR
B6: PRINCIPAIS RESULTADOS DO PROJETO | C6: Unid. | D6: Valor | F6: PRINCIPAIS RESULTADOS PARA ACIONISTA | G6: Unid. | H6: Valor
B7: TIR do Projeto | C7: % a.a | D7: ='FCD PROJETO'!D5 -> 0.077755274 | F7: TIR do Acionista | G7: % a.a | H7: ='FCD Acionista'!D3 -> 0.12674634
B8: WACC | C8: % a.a | D8: ='FCD PROJETO'!J10 -> 0.077755274 | F8: Ke (Custo de Capital Próprio = TIR)) | G8: % a.a | H8: ='FCD Acionista'!H6 -> 0.12674634
B9: VPL (taxa de desconto real = WACC) | C9: R$ | D9: ='FCD PROJETO'!D6 -> 0 | F9: VPL (taxa de desconto real = Ke) | G9: R$ | H9: ='FCD Acionista'!D4 -> 0
B10: PAYBACK Simples | C10: anos | D10: ='FCD PROJETO'!D7 -> 16 | F10: PAYBACK Simples | G10: anos | H10: ='FCD Acionista'!D5 -> 31
B11: PAYBACK Descontado | C11: anos | D11: ='FCD PROJETO'!D8 -> 35 | F11: PAYBACK Descontado | G11: anos | H11: ='FCD Acionista'!D6 -> 35
B12: Investimentos (CAPEX) | C12: R$ | D12: =-'FCD PROJETO'!$AO$48 -> 3.0600716e+08 | F12: Exposição Máxima | G12: R$ | H12: =MIN('FCD PROJETO'!$F$107:$AI$107) -> -39959345
B13: Valor do Empréstimo do CAPEX | C13: R$ | D13: =SUM('Financiamento '!D96:AI96) -> 2.441621e+08 | F13: Despesas de Licitação | G13: R$ | H13: 0
B14: Contrapartida dos empréstimos do CAPEX | C14: R$ | D14: =IF('FCD PROJETO'!J18=0,0,SUM('Financiamento '!D97:AI97)) -> 26757593 | F14: Ressarcimento da Modelagem | G14: R$ | H14: 0
B15: Necessidade de Capital (Equity) | C15: R$ | D15: ='FCD PROJETO'!$AO$105 -> 1.3127986e+08 | F15: Pagamento de Outorga Mínima | G15: R$ | H15: 0
B16: Contraprestação Total (Valor do Contrato) | C16: R$ | D16: ='FCD PROJETO'!$AO$81 -> 1.9494532e+09 | F16: Capital social a ser integralizado no contrato inicial | G16: R$ | H16: =-0.07*'FCD PROJETO'!AO48 -> 21420501

Sheet DADOS PARA CONTRATO
B1: Condições para Contrato
B3: Data Base do EVTE Dezembro/2025 | F3: Valor total de referência do Contrato Dez 2025= | H3: ='FCD PROJETO'!D10 -> 1.9494532e+09
B5: Obrigações | C5: Eventos | D5: Comprovação / Pagamento | E5: Aliquota | F5: Base de Cálculo | G5: Unid. | H5: Valor Dez 2025
B7: Garantia de proposta | C7: Proposta | D7: Até o 3° dia útil antes da data de entrega da proposta | E7: 0.01 | F7: Valor do Contrato de Referência | G7: R$ | H7: =H3*E7 -> 19494532
B8: Patrrimónio Líquido | C8: Proposta | D8: Data do encerramento do último exercicio social | E8: 0.016 | F8: Valor do Contrato de Referência | G8: R$ | H8: =H3*E8 -> 31191251
B9: Valor mínimo do atestado de captação de recursos | C9: Proposta | D9: Até 15 anos anterior a data da entrega da proposta | E9: 0.15 | F9: Valor do Capex do EVTE | G9: R$ | H9: =-'FCD PROJETO'!AO48*E9 -> 45901074
B10: Valor mínimo para o somatório de atestados | C10: Proposta | D10: Até 15 anos anterior a data da entrega da proposta | E10: 0.2 | F10: Valor do Atestado | G10: R$ | H10: =E10*H9 -> 9180214.9
B11: ='[1]FCFF - Projeto'!G13 -> Pagamento de Indenizações e Bens Reversíveis | C11: Homologação e Adjudicação da Licitação | D11: Até o 5° dia após a Homologação e Adjudicação | E11: - | F11: Valor determinado no EVTE | G11: R$
B12: ='[1]FCFF - Projeto'!G14 -> Indenizações e Ressarecimentos de Modelagem | C12: Homologação e Adjudicação da Licitação | D12: Até o 5° dia após a Homologação e Adjudicação | E12: - | F12: Valor determinado no EVTE | G12: R$ | H12: 4056330.6
B13: ='[1]FCFE - Acionista'!F14 -> Despesas de Licitação | C13: Homologação e Adjudicação da Licitação | D13: Até o 5° dia após a Homologação e Adjudicação | E13: - | F13: Valor determinado no EVTE | G13: R$ | H13: =715646.48*'FCD PROJETO'!S19 -> 785350.45 | I13: B3
B14: Capital Social a ser integralizado no contrato inicial | C14: Assinatura do Contarto | D14: Até o 5° dia após a Homologação e Adjudicação | E14: - | F14: Valor determinado no EVTE | G14: R$ | H14: =Resultados!H16 -> 21420501
B15: ='[1]FCFF - Projeto'!G12 -> Pagamento de Outorga | C15: Assinatura do Contarto | D15: Até o 5° dia após a Homologação e Adjudicação | E15: - | F15: Valor determinado no EVTE | G15: R$
B16: Verificador/Certificador Independente | C16: Apoós assinatura do Contrato | D16: Anual | E16: - | F16: Valor determinado no EVTE | G16: R$ | H16: =-'FCD Acionista'!C27/35 -> 1173869.4
B18: Mutações do Capital Social | C18: Periodo de vigência | D18: Integralização | E18: Aliquota | F18: Base de Cálculo | G18: Unid. | H18: =H5 -> Valor Dez 2025
B20: Capital Social Mínimo | C20: do 1 ao 8° ano do contrato | D20: Até 60 dias após a Homologação e Adjuducação | E20: - | F20: Valor determinado no EVTE | G20: R$ | H20: =Resultados!H16 -> 21420501
B21: Capital Social Mínimo | C21: no 8° ano do contrato | D21: Até o 5° dia util do mês de janeiro do 8° ano do contrato | E21: - | F21: Valor determinado no EVTE | G21: R$ | H21: =H20 -> 21420501
B22: Capital Social Mínimo | C22: no 9° ano do contrato | D22: Até o 5° dia util do mês de janeiro do 9° ano do contrato | E22: - | F22: Valor determinado no EVTE | G22: R$ | H22: =H21 -> 21420501
B23: Capital Social Mínimo | C23: no 10° ano do contrato | D23: Até o 5° dia util do mês de janeiro do 10° ano do contrato | E23: - | F23: Valor determinado no EVTE | G23: R$ | H23: =H22 -> 21420501
B24: Capital Social Mínimo | C24: no 11° ano do contrato | D24: Até o 5° dia util do mês de janeiro do 11° ano do contrato | E24: - | F24: Valor determinado no EVTE | G24: R$ | H24: =H23 -> 21420501
B25: Capital Social Mínimo | C25: no 12° ano do contrato | D25: Até o 5° dia util do mês de janeiro do 12° ano do contrato | E25: - | F25: Valor determinado no EVTE | G25: R$ | H25: =H24 -> 21420501
B26: Capital Social Mínimo | C26: no 13° ano do contrato | D26: Até o 5° dia util do mês de janeiro do 13° ano do contrato | E26: - | F26: Valor determinado no EVTE | G26: R$ | H26: =H25 -> 21420501
B27: Capital Social Mínimo | C27: no 14° ano do contrato | D27: Até o 5° dia util do mês de janeiro do 14° ano do contrato | E27: - | F27: Valor determinado no EVTE | G27: R$ | H27: =H26 -> 21420501
B28: Capital Social Mínimo | C28: no 15° ano do contrato | D28: Até o 5° dia util do mês de janeiro do 15° ano do contrato | E28: - | F28: Valor determinado no EVTE | G28: R$ | H28: =H27 -> 21420501
B29: Capital Social Mínimo | C29: do 16° ao 35° ano do contrato | D29: Até o 5° dia util do mês de janeiro do 16° ano do contrato | E29: - | F29: Valor determinado no EVTE | G29: R$ | H29: =H28 -> 21420501
B31: Seguros e Garantias Contratuais | C31: Periodo de vigência | D31: Pagamento | E31: Aliquota | F31: Base de Cálculo | G31: Unid. | H31: =H18 -> Valor Dez 2025
B33: Seguro de Risco de Engenharia | C33: Durante o Investimento | D33: Até o 5° dia util antes da assinatura do contrato | E33: ='[1]Seguros e Garantias'!D5 -> 1 | F33: Valor do Capex do EVTE | G33: R$ | H33: =-'FCD PROJETO'!AO48 -> 3.0600716e+08
B34: Seguro de Responsabilidade Civil - Obras | C34: Durante o Investimento | D34: Até o 5° dia util antes da assinatura do contrato | E34: ='[1]Seguros e Garantias'!D6 -> 0.07 | F34: Valor do Capex do EVTE | G34: R$ | H34: =-'FCD PROJETO'!AO48*'DADOS PARA CONTRATO'!E34 -> 21420501
B35: Seguro de Responsabilidade Civil - Operação (Durante o Contrato) | C35: Durante o Contrato | D35: Até o 5° dia util antes da assinatura do contrato | E35: ='[1]Seguros e Garantias'!D7 -> 0.16 | F35: Valor do Opex do EVTE | G35: R$ | H35: =-'FCD PROJETO'!AO48*E35 -> 48961146
B36: Seguro Riscos Gerais - "All Risks" (Durante o Contrato) | C36: Durante o Contrato | D36: Até o 5° dia util antes da assinatura do contrato | E36: ='[1]Seguros e Garantias'!D8 -> 0.01 | F36: Valor do Contrato de Referência | G36: R$ | H36: =E36*H3 -> 19494532
B37: Garantia de Execução do Contato | C37: do 1° ao 10° ano | D37: Até o 5° dia util antes da assinatura do contrato | E37: ='[1]Seguros e Garantias'!D9 -> 0.05 | F37: Valor do Contrato de Referência | G37: R$ | H37: =E37*H3 -> 97472658
B38: Garantia de Execução do Contato | C38: do 10° ao 25° ano | D38: Até o 5° dia utíl antes do vencimento da apólice anterior | E38: ='[1]Seguros e Garantias'!D10 -> 0.02 | F38: Valor do Contrato de Referência | G38: R$ | H38: =E38*H3 -> 38989063
B39: Garantia de Execução do Contato | C39: do 25° ao 35° ano | D39: Até o 5° dia utíl antes do vencimento da apólice anterior | E39: ='[1]Seguros e Garantias'!D11 -> 0.03 | F39: Valor do Contrato de Referência | G39: R$ | H39: =E39*H3 -> 58483595

Sheet FCD PROJETO
A1: Preenchimento
A2: Fórmulas
A3: NÂO ALTERAR | B3: RESULTADO DO FLUXO DE CAIXA PROJETO- FCDP | G3: Cálculo das Taxas de Juros | K3: Para Alteração da Matriz Tarifária
B4: Taxa de desconto | D4: =H6 -> 0.077755274 | G4: SELIC no Ano Base | H4: ='Dados ME'!D8 -> 0.1304 | I4: Inflação Ano Base | J4: ='Dados ME'!D6 -> 0.0462
B5: TIR Calculada do projeto | D5: =IRR(F107:AN107) -> 0.077755274 | G5: Taxa Juros Básica | H5: =(1+H4)/(1+J4)-1 -> 0.080481743 | I5: Rf | J5: ='Dados ME'!D12 -> 0.0339
B6: VPL Calculado do projeto | D6: =ROUND(NPV(D4,F107:AN107),2) -> 0 | G6: Taxa de desconto | H6: =J10 -> 0.077755274 | I6: Beta Alavancado | J6: 0.75820399
B7: PAYBACK Simples | D7: =MATCH(0,F108:AN108,1) -> 16 | G7: TMA | H7: =H5+J8 -> 0.099981743 | I7: Rm | J7: ='Dados ME'!D13 -> 0.0692
B8: PAYBACK Descontado | D8: =MATCH(0,F110:AN110,1)+1 -> 35 | G8: ke (Capital Próprio) | H8: =H5+J6*(J7-J5)+J8 -> 0.12674634 | I8: Rc | J8: ='Dados ME'!D14 -> 0.0195
B9: Item | D9: Valor Nominal | E9: VPL | G9: kd (Capital Terceiros) | H9: ='Financiamento '!C29+'Financiamento '!C30+'Financiamento '!C31 -> 0.0779 | I9: TC = CSLL+IRPJ | J9: 0.34
B10: Faturamento | D10: =AO42 -> 1.9494532e+09 | E10: =NPV(D4,F42:AN42) -> 5.8965828e+08 | G10: WACCcalculado | J10: =(('FCD Acionista'!C53/('FCD Acionista'!C53+'FCD Acionista'!C54))*H8)+(('FCD Acionista'!C54/('FCD Acionista'!C53+'FCD Acionista'!C54))*H9*(1-J9)) -> 0.077755274
B11: Arrecadação | D11: =AO43 -> 1.9489523e+09 | E11: =NPV(D4,F43:AN43) -> 5.892605e+08 | L11: =J13/S19 -> 8.529251
B12: Despesas de Capital (CAPEX) | D12: =-AO48 -> 3.0600716e+08 | E12: =-NPV(D4,F48:AN48) -> 1.9443068e+08 | G12: Tarifa média calculada
B13: Despesas operacionais (OPEX) | D13: =-AO53 -> 9.2788285e+08 | E13: =-NPV(D4,F53:AN53) -> 2.7715641e+08 | G13: Tarifa média de Água calculada | J13: =Histograma!Y89 -> 9.36 | L13: Valor Básico para a Matriz Tarifária | N13: Peso dos indices de reajuste (FREI) | P13: Índices | Q13: Io = 12/2023 | R13: In = 12/2025 | S13: Variação
B14: Impostos | D14: =-AO93 -> 3.8482663e+08 | E14: =-NPV(D4,F93:AN93) -> 1.1767341e+08 | G14: Tarifa média de Esgoto calculada | J14: =Histograma!Y90 -> 9.36 | K14: Inicial Cálculo R/m³ | L14: Valor no Io = | M14: 3.17 | N14: P1 (Mão de obra) | O14: =AO55/AO53 -> 0.20733052 | P14: IPCA (IBGE) | Q14: 1 | R14: 1.093554 | S14: =R14/Q14 -> 1.093554
B15: Equity | D15: =AO105 -> 1.3127986e+08 | E15: =NPV(D4,F105:AN105) -> 1.0261461e+08 | G15: Relação Tarifa de Esgoto / Tarifa de Água | J15: =Histograma!G85 -> 1 | K15: 3.48 | L15: Valor no In = | M15: =ROUND(M14*S19,2) -> 3.48 | N15: P2 (Energia Eletrica) | O15: =AO61/AO53 -> 0.09735491 | P15: Tarifa EE Concess | Q15: 0.37832 | R15: 0.44558 | S15: =R15/Q15 -> 1.177786
B16: EBITDA | D16: =(D11-D13)+AO95 -> 8.6159464e+08 | E16: =(E11-E13)+NPV(D4,F95:AN95) -> 2.6381741e+08 | G16: Administração Central (% da Arrecadação do Projeto) | J16: 0.006851939 | K16: Valor Básico Inicial para a construção da matriz tarifária | N16: P3 (Produto Quimico) | O16: =AO62/AO53 -> 0.06792028 | P16: IPP 20C (IBGE) | Q16: 154.95898 | R16: 150.3028 | S16: =R16/Q16 -> 0.96995218
B17: Margem EBITDA | D17: =D16/D11 -> 0.44208093 | E17: =E16/E11 -> 0.4477093 | G17: Taxa de Regulação | J17: 0.005 | N17: P4 (Manut. Redes) | O17: =AO56/AO53 -> 0.21751558 | P17: INCC (FGV ) | Q17: 1 | R17: 1.126749 | S17: 1.112223
B18: EBIT | D18: =D16+AO88 -> 6.6897598e+08 | E18: =E16+NPV(D4,F88:AN88) -> 2.0618308e+08 | G18: % do CAPEX Financiado por terceiros | J18: 0.90123422 | N18: P5 (Outros) | O18: =1-O14-O15-O16-O17 -> 0.40987872 | P18: IPCA (IBGE) | Q18: =Q14 -> 1 | R18: =R14 -> 1.093554 | S18: =R18/Q18 -> 1.093554
B19: Margem EBIT | D19: =D18/D11 -> 0.34324903 | E19: =E18/E11 -> 0.34990141 | N19: Total | O19: =SUM(O14:O18) -> 1 | Q19: Valor de Reajuste Calculado | S19: =ROUND(O14*S14+O15*S15+O16*S16+O17*S17+O18*S18,4) -> 1.0974
G20: VPL Projeto = | H20: =D6 -> 0 | I20: VPL Acionista = | J20: ='FCD Acionista'!D4 -> 0
B22: FLUXO DE CAIXA DO PROJETO
B23: =Cronograma!B1 -> ANO | D23: Base | E23: 0 | F23: =Cronograma!C1 -> 1 | G23: =Cronograma!D1 -> 2 | H23: =Cronograma!E1 -> 3 | I23: =Cronograma!F1 -> 4 | J23: =Cronograma!G1 -> 5 | K23: =Cronograma!H1 -> 6 | L23: =Cronograma!I1 -> 7 | M23: =Cronograma!J1 -> 8 | ... AN23: =Cronograma!AK1 -> 35
D24: 2025 | E24: 2026 | F24: =E24+1 -> 2027 | G24: =F24+1 -> 2028 | H24: =G24+1 -> 2029 | I24: =H24+1 -> 2030 | J24: =I24+1 -> 2031 | K24: =J24+1 -> 2032 | L24: =K24+1 -> 2033 | M24: =L24+1 -> 2034 | ... AN24: =AM24+1 -> 2061 | AO24: ACUMULADO
B25: 1 - RECEITAS
B27: 1.1 - Água
B28: 1.1.1 - Receita faturada Água | F28: =$J$13*'Base Física'!F63 -> 22724367 | G28: =$J$13*'Base Física'!G63 -> 23980161 | H28: =$J$13*'Base Física'!H63 -> 24955276 | I28: =$J$13*'Base Física'!I63 -> 25503445 | J28: =$J$13*'Base Física'!J63 -> 26031293 | K28: =$J$13*'Base Física'!K63 -> 26524602 | L28: =$J$13*'Base Física'!L63 -> 26821819 | M28: =$J$13*'Base Física'!M63 -> 27065797 | ... AN28: =$J$13*'Base Física'!AN63 -> 30690878 | AO28: =+SUM(F28:AN28) -> 9.9780535e+08
B29: 1.1.2 - Receitas faturada com serviços acessórios de Água | C29: 0.02 | F29: =F28*$C29 -> 454487.34 | G29: =G28*$C29 -> 479603.22 | H29: =H28*$C29 -> 499105.53 | I29: =I28*$C29 -> 510068.89 | J29: =J28*$C29 -> 520625.85 | K29: =K28*$C29 -> 530492.04 | L29: =L28*$C29 -> 536436.39 | M29: =M28*$C29 -> 541315.94 | ... AN29: =AN28*$C29 -> 613817.57 | AO29: =+SUM(F29:AN29) -> 19956107
B30: 1.1.3 - Receita recebida Água | F30: =(F28+F29)*(1-'Base Física'!F44) -> 21832163 | G30: =(G28+G29)*(1-'Base Física'!G44) -> 23970569 | H30: =(H28+H29)*(1-'Base Física'!H44) -> 24945294 | I30: =(I28+I29)*(1-'Base Física'!I44) -> 25493243 | J30: =(J28+J29)*(1-'Base Física'!J44) -> 26020880 | K30: =(K28+K29)*(1-'Base Física'!K44) -> 26513992 | L30: =(L28+L29)*(1-'Base Física'!L44) -> 26811091 | M30: =(M28+M29)*(1-'Base Física'!M44) -> 27054971 | ... AN30: =(AN28+AN29)*(1-'Base Física'!AN44) -> 30678602 | AO30: =+SUM(F30:AN30) -> 9.9652312e+08
B31: 1.1.4 - Recuperação de receita de Água no ano | C31: 0.6 | F31: =IF(E31<=0,(F28+F29-F30)*$C31,(E28+E29-E30)*(1-$C$31)+(F28+F29-F30)*$C31) -> 808014.87 | G31: =IF(F31<=0,(G28+G29-G30)*$C31,(F28+F29-F30)*(1-$C$31)+(G28+G29-G30)*$C31) -> 832193.75 | H31: =IF(G31<=0,(H28+H29-H30)*$C31,(G28+G29-G30)*(1-$C$31)+(H28+H29-H30)*$C31) -> 501130.69 | I31: =IF(H31<=0,(I28+I29-I30)*$C31,(H28+H29-H30)*(1-$C$31)+(I28+I29-I30)*$C31) -> 515797.22 | J31: =IF(I31<=0,(J28+J29-J30)*$C31,(I28+I29-I30)*(1-$C$31)+(J28+J29-J30)*$C31) -> 526731.13 | K31: =IF(J31<=0,(K28+K29-K30)*$C31,(J28+J29-J30)*(1-$C$31)+(K28+K29-K30)*$C31) -> 537076.48 | L31: =IF(K31<=0,(L28+L29-L30)*$C31,(K28+K29-K30)*(1-$C$31)+(L28+L29-L30)*$C31) -> 544739.82 | M31: =IF(L31<=0,(M28+M29-M30)*$C31,(L28+L29-L30)*(1-$C$31)+(M28+M29-M30)*$C31) -> 550151.4 | ... AN31: =IF(AM31<=0,(AN28+AN29-AN30)*$C31,(AM28+AM29-AM30)*(1-$C$31)+(AN28+AN29-AN30)*$C31) -> 626683.63 | AO31: =+SUM(F31:AN31) -> 20987906
B32: 1.1.5 - Perda de arrecadação efetiva | F32: =F31 -(F28+F29-F30) -> -538676.58 | G32: =G31 -(G28+G29-G30) -> 342998.46 | H32: =H31 -(H28+H29-H30) -> -7956.942 | I32: =I31 -(I28+I29-I30) -> -4473.0541 | J32: =J31 -(J28+J29-J30) -> -4307.2384 | K32: =K31 -(K28+K29-K30) -> -4025.405 | L32: =L31 -(L28+L29-L30) -> -2425.2943 | M32: =M31 -(M28+M29-M30) -> -1990.8585 | ... AN32: =AN31 -(AN28+AN29-AN30) -> 589.71145 | AO32: =+SUM(F32:AN32) -> -250437.57
B34: 1.2 - Esgoto
B35: 1.2.1 - Receita faturada Esgoto | F35: =$J$14*'Base Física'!F65 -> 0 | G35: =$J$14*'Base Física'!G65 -> 4824808.6 | H35: =$J$14*'Base Física'!H65 -> 9981897.1 | I35: =$J$14*'Base Física'!I65 -> 15301962 | J35: =$J$14*'Base Física'!J65 -> 20825036 | K35: =$J$14*'Base Física'!K65 -> 22546321 | L35: =$J$14*'Base Física'!L65 -> 24139524 | M35: =$J$14*'Base Física'!M65 -> 24900764 | ... AN35: =$J$14*'Base Física'!AN65 -> 30690878 | AO35: =+SUM(F35:AN35) -> 9.1342324e+08
B36: 1.2.2 - Receitas faturada com serviços acessórios de Esgoto | C36: 0.02 | F36: =F35*$C36 -> 0 | G36: =G35*$C36 -> 96496.171 | H36: =H35*$C36 -> 199637.94 | I36: =I35*$C36 -> 306039.24 | J36: =J35*$C36 -> 416500.72 | K36: =K35*$C36 -> 450926.42 | L36: =L35*$C36 -> 482790.48 | M36: =M35*$C36 -> 498015.27 | ... AN36: =AN35*$C36 -> 613817.57 | AO36: =+SUM(F36:AN36) -> 18268465
B37: 1.2.3 - Receita recebida | F37: =(F35+F36)*(1-'Base Física'!F44) -> 0 | G37: =(G35+G36)*(1-'Base Física'!G44) -> 4822878.6 | H37: =(H35+H36)*(1-'Base Física'!H44) -> 9977904.4 | I37: =(I35+I36)*(1-'Base Física'!I44) -> 15295841 | J37: =(J35+J36)*(1-'Base Física'!J44) -> 20816706 | K37: =(K35+K36)*(1-'Base Física'!K44) -> 22537303 | L37: =(L35+L36)*(1-'Base Física'!L44) -> 24129868 | M37: =(M35+M36)*(1-'Base Física'!M44) -> 24890803 | ... AN37: =(AN35+AN36)*(1-'Base Física'!AN44) -> 30678602 | AO37: =+SUM(F37:AN37) -> 9.1305787e+08
B38: 1.2.4 - Recuperação de receita de esgoto | C38: =C31 -> 0.6 | F38: =IF(E38<=0,(F35+F36-F37)*$C38,(E35+E36-E37)*(1-$C$31)+(F35+F36-F37)*$C38) -> 0 | G38: =IF(F38<=0,(G35+G36-G37)*$C38,(F35+F36-F37)*(1-$C$31)+(G35+G36-G37)*$C38) -> 59055.657 | H38: =IF(G38<=0,(H35+H36-H37)*$C38,(G35+G36-G37)*(1-$C$31)+(H35+H36-H37)*$C38) -> 161548.86 | I38: =IF(H38<=0,(I35+I36-I37)*$C38,(H35+H36-H37)*(1-$C$31)+(I35+I36-I37)*$C38) -> 268748.3 | J38: =IF(I38<=0,(J35+J36-J37)*$C38,(I35+I36-I37)*(1-$C$31)+(J35+J36-J37)*$C38) -> 379762.45 | K38: =IF(J38<=0,(K35+K36-K37)*$C38,(J35+J36-J37)*(1-$C$31)+(K35+K36-K37)*$C38) -> 445899.26 | L38: =IF(K38<=0,(L35+L36-L37)*$C38,(K35+K36-K37)*(1-$C$31)+(L35+L36-L37)*$C38) -> 479445.76 | M38: =IF(L38<=0,(M35+M36-M37)*$C38,(L35+L36-L37)*(1-$C$31)+(M35+M36-M37)*$C38) -> 501763.87 | ... AN38: =IF(AM38<=0,(AN35+AN36-AN37)*$C38,(AM35+AM36-AM37)*(1-$C$31)+(AN35+AN36-AN37)*$C38) -> 626683.63 | AO38: =+SUM(F38:AN38) -> 18383397
B39: 1.2.5 - Perda de arrecadação efetiva | F39: =F38 -(F35+F36-F37) -> 0 | G39: =G38 -(G35+G36-G37) -> -39370.438 | H39: =H38 -(H35+H36-H37) -> -42081.843 | I39: =I38 -(I35+I36-I37) -> -43411.729 | J39: =J38 -(J35+J36-J37) -> -45068.283 | K39: =K38 -(K35+K36-K37) -> -14045.688 | L39: =L38 -(L35+L36-L37) -> -13000.537 | M39: =M38 -(M35+M36-M37) -> -6211.7138 | ... AN39: =AN38 -(AN35+AN36-AN37) -> 589.71145 | AO39: =+SUM(F39:AN39) -> -250437.57
B42: 1.3 - Faturamento Bruto anual | F42: =F28+F29+F35+F36 -> 23178854 | G42: =G28+G29+G35+G36 -> 29381069 | H42: =H28+H29+H35+H36 -> 35635917 | I42: =I28+I29+I35+I36 -> 41621515 | J42: =J28+J29+J35+J36 -> 47793455 | K42: =K28+K29+K35+K36 -> 50052342 | L42: =L28+L29+L35+L36 -> 51980571 | M42: =M28+M29+M35+M36 -> 53005892 | ... AN42: =AN28+AN29+AN35+AN36 -> 62609392 | AO42: =+SUM(F42:AN42) -> 1.9494532e+09
B43: 1.4 - Arrecadação Bruta anual | F43: =F30+F31+F37+F38 -> 22640178 | G43: =G30+G31+G37+G38 -> 29684697 | H43: =H30+H31+H37+H38 -> 35585878 | I43: =I30+I31+I37+I38 -> 41573630 | J43: =J30+J31+J37+J38 -> 47744080 | K43: =K30+K31+K37+K38 -> 50034271 | L43: =L30+L31+L37+L38 -> 51965145 | M43: =M30+M31+M37+M38 -> 52997690 | ... AN43: =AN30+AN31+AN37+AN38 -> 62610571 | AO43: =+SUM(F43:AN43) -> 1.9489523e+09
B44: 1.5 - Perda de Receita | F44: =F43-(F28+F29+F35+F36) -> -538676.58 | G44: =G43-(G28+G29+G35+G36) -> 303628.03 | H44: =H43-(H28+H29+H35+H36) -> -50038.785 | I44: =I43-(I28+I29+I35+I36) -> -47884.784 | J44: =J43-(J28+J29+J35+J36) -> -49375.522 | K44: =K43-(K28+K29+K35+K36) -> -18071.093 | L44: =L43-(L28+L29+L35+L36) -> -15425.831 | M44: =M43-(M28+M29+M35+M36) -> -8202.5724 | ... AN44: =AN43-(AN28+AN29+AN35+AN36) -> 1179.4229 | AO44: =+SUM(F44:AN44) -> -500875.14
B46: 2 - DESPESAS
...

Sheet DRE PROJETO
A1: Preenchimento
A2: Fórmulas | B2: DRE - Demonstração de Resultado do Exercício (R$) | C2: ='FCD Acionista'!D20 -> Base | D2: ='FCD Acionista'!E20 -> 0 | E2: ='FCD Acionista'!F20 -> 1 | F2: ='FCD Acionista'!G20 -> 2 | G2: ='FCD Acionista'!H20 -> 3 | H2: ='FCD Acionista'!I20 -> 4 | I2: ='FCD Acionista'!J20 -> 5 | J2: ='FCD Acionista'!K20 -> 6 | ... AM2: ='FCD Acionista'!AN20 -> 35 | AN2: ACUMULADO
C3: ='FCD Acionista'!D21 -> 2025 | D3: ='FCD Acionista'!E21 -> 2026 | E3: ='FCD Acionista'!F21 -> 2027 | F3: ='FCD Acionista'!G21 -> 2028 | G3: ='FCD Acionista'!H21 -> 2029 | H3: ='FCD Acionista'!I21 -> 2030 | I3: ='FCD Acionista'!J21 -> 2031 | J3: ='FCD Acionista'!K21 -> 2032 | ... AM3: ='FCD Acionista'!AN21 -> 2061
B4: Receita Operacional Bruta | E4: =SUM(E5:E7) -> 22640178 | F4: =SUM(F5:F7) -> 29684697 | G4: =SUM(G5:G7) -> 35585878 | H4: =SUM(H5:H7) -> 41573630 | I4: =SUM(I5:I7) -> 47744080 | J4: =SUM(J5:J7) -> 50034271 | K4: =SUM(K5:K7) -> 51965145 | L4: =SUM(L5:L7) -> 52997690 | ... AM4: =SUM(AM5:AM7) -> 62610571 | AN4: =SUM(E4:AM4) -> 1.9489523e+09
B5: Água | E5: =('FCD PROJETO'!F30+'FCD PROJETO'!F31) -> 22640178 | F5: =('FCD PROJETO'!G30+'FCD PROJETO'!G31) -> 24802763 | G5: =('FCD PROJETO'!H30+'FCD PROJETO'!H31) -> 25446425 | H5: =('FCD PROJETO'!I30+'FCD PROJETO'!I31) -> 26009041 | I5: =('FCD PROJETO'!J30+'FCD PROJETO'!J31) -> 26547611 | J5: =('FCD PROJETO'!K30+'FCD PROJETO'!K31) -> 27051069 | K5: =('FCD PROJETO'!L30+'FCD PROJETO'!L31) -> 27355831 | L5: =('FCD PROJETO'!M30+'FCD PROJETO'!M31) -> 27605122 | ... AM5: =('FCD PROJETO'!AN30+'FCD PROJETO'!AN31) -> 31305286 | AN5: =SUM(E5:AM5) -> 1.017511e+09
B6: Esgoto | E6: =('FCD PROJETO'!F37+'FCD PROJETO'!F38) -> 0 | F6: =('FCD PROJETO'!G37+'FCD PROJETO'!G38) -> 4881934.3 | G6: =('FCD PROJETO'!H37+'FCD PROJETO'!H38) -> 10139453 | H6: =('FCD PROJETO'!I37+'FCD PROJETO'!I38) -> 15564590 | I6: =('FCD PROJETO'!J37+'FCD PROJETO'!J38) -> 21196468 | J6: =('FCD PROJETO'!K37+'FCD PROJETO'!K38) -> 22983202 | K6: =('FCD PROJETO'!L37+'FCD PROJETO'!L38) -> 24609314 | L6: =('FCD PROJETO'!M37+'FCD PROJETO'!M38) -> 25392567 | ... AM6: =('FCD PROJETO'!AN37+'FCD PROJETO'!AN38) -> 31305286 | AN6: =SUM(E6:AM6) -> 9.3144127e+08
B7: Receitas acessórias | E7: 0 | F7: 0 | G7: 0 | H7: 0 | I7: 0 | J7: 0 | K7: 0 | L7: 0 | M7: 0 | N7: 0 | O7: 0 | P7: 0 | Q7: 0 | R7: 0 | S7: 0 | T7: 0 | U7: 0 | V7: 0 | W7: 0 | X7: 0 | Y7: 0 | Z7: 0 | AA7: 0 | AB7: 0 | AC7: 0 | AD7: 0 | AE7: 0 | AF7: 0 | AG7: 0 | AH7: 0 | AI7: 0 | AJ7: 0 | AK7: 0 | AL7: 0 | AM7: 0 | AN7: =SUM(E7:AH7) -> 0
B9: Impostos Indiretos | E9: =SUM(E10:E11) -> -2094429.8 | F9: =SUM(F10:F11) -> -2534836.5 | G9: =SUM(G10:G11) -> -2993949.8 | H9: =SUM(H10:H11) -> -3424215.1 | I9: =SUM(I10:I11) -> -3869445.9 | J9: =SUM(J10:J11) -> -4051766.9 | K9: =SUM(K10:K11) -> -4201273.4 | L9: =SUM(L10:L11) -> -4287777.7 | ... AM9: =SUM(AM10:AM11) -> -5232401 | AN9: =SUM(E9:AM9) -> -1.594748e+08
B10: PIS/COFINS | E10: =('FCD PROJETO'!F97+'FCD PROJETO'!F98) -> -2025769.3 | F10: =('FCD PROJETO'!G97+'FCD PROJETO'!G98) -> -2459105.4 | G10: =('FCD PROJETO'!H97+'FCD PROJETO'!H98) -> -2905458.5 | H10: =('FCD PROJETO'!I97+'FCD PROJETO'!I98) -> -3328626.3 | I10: =('FCD PROJETO'!J97+'FCD PROJETO'!J98) -> -3764927 | J10: =('FCD PROJETO'!K97+'FCD PROJETO'!K98) -> -3941728.5 | K10: =('FCD PROJETO'!L97+'FCD PROJETO'!L98) -> -4087217.4 | L10: =('FCD PROJETO'!M97+'FCD PROJETO'!M98) -> -4168154 | ... AM10: =('FCD PROJETO'!AN97+'FCD PROJETO'!AN98) -> -5024847.8 | AN10: =SUM(E10:AM10) -> -1.541513e+08
B11: ISS | E11: ='FCD PROJETO'!F96 -> -68660.512 | F11: ='FCD PROJETO'!G96 -> -75731.057 | G11: ='FCD PROJETO'!H96 -> -88491.31 | H11: ='FCD PROJETO'!I96 -> -95588.769 | I11: ='FCD PROJETO'!J96 -> -104518.9 | J11: ='FCD PROJETO'!K96 -> -110038.37 | K11: ='FCD PROJETO'!L96 -> -114055.95 | L11: ='FCD PROJETO'!M96 -> -119623.73 | ... AM11: ='FCD PROJETO'!AN96 -> -207553.19 | AN11: =SUM(E11:AM11) -> -5323500.5
B13: Receita Operacional Líquida | E13: =E4+E9 -> 20545748 | F13: =F4+F9 -> 27149860 | G13: =G4+G9 -> 32591928 | H13: =H4+H9 -> 38149415 | I13: =I4+I9 -> 43874634 | J13: =J4+J9 -> 45982504 | K13: =K4+K9 -> 47763871 | L13: =L4+L9 -> 48709912 | ... AM13: =AM4+AM9 -> 57378170 | AN13: =SUM(E13:AM13) -> 1.7894775e+09
B15: Custos e Despesas | E15: =SUM(E16:E32) -> -13082229 | F15: =SUM(F16:F32) -> -14743164 | G15: =SUM(G16:G32) -> -16699675 | H15: =SUM(H16:H32) -> -18812998 | I15: =SUM(I16:I32) -> -20368174 | J15: =SUM(J16:J32) -> -21957397 | K15: =SUM(K16:K32) -> -23248219 | L15: =SUM(L16:L32) -> -23994786 | ... AM15: =SUM(AM16:AM32) -> -31799072 | AN15: =SUM(E15:AM15) -> -9.2788285e+08
B16: Pessoal e encargos sociais | E16: ='FCD PROJETO'!F55*'Mão de Obra'!D25+'FCD PROJETO'!F55*(1-'Mão de Obra'!D25) -> -3834602.1 | F16: ='FCD PROJETO'!G55*'Mão de Obra'!E25+'FCD PROJETO'!G55*(1-'Mão de Obra'!E25) -> -4219075.8 | G16: ='FCD PROJETO'!H55*'Mão de Obra'!F25+'FCD PROJETO'!H55*(1-'Mão de Obra'!F25) -> -4339617.8 | H16: ='FCD PROJETO'!I55*'Mão de Obra'!G25+'FCD PROJETO'!I55*(1-'Mão de Obra'!G25) -> -4317171.3 | I16: ='FCD PROJETO'!J55*'Mão de Obra'!H25+'FCD PROJETO'!J55*(1-'Mão de Obra'!H25) -> -4391676.6 | J16: ='FCD PROJETO'!K55*'Mão de Obra'!I25+'FCD PROJETO'!K55*(1-'Mão de Obra'!I25) -> -4543942.9 | K16: ='FCD PROJETO'!L55*'Mão de Obra'!J25+'FCD PROJETO'!L55*(1-'Mão de Obra'!J25) -> -4593489.7 | L16: ='FCD PROJETO'!M55*'Mão de Obra'!K25+'FCD PROJETO'!M55*(1-'Mão de Obra'!K25) -> -4841414.3 | ... AM16: ='FCD PROJETO'!AN55*'Mão de Obra'!AL25+'FCD PROJETO'!AN55*(1-'Mão de Obra'!AL25) -> -6392234.6 | AN16: =SUM(E16:AM16) -> -1.9237843e+08
B17: Serviços e materiais p/ manut. de redes | E17: ='FCD PROJETO'!F56 -> -1129195.6 | F17: ='FCD PROJETO'!G56 -> -1277418.4 | G17: ='FCD PROJETO'!H56 -> -2159277.4 | H17: ='FCD PROJETO'!I56 -> -2710227.1 | I17: ='FCD PROJETO'!J56 -> -3301014.6 | J17: ='FCD PROJETO'!K56 -> -3549880.6 | K17: ='FCD PROJETO'!L56 -> -3811253.3 | L17: ='FCD PROJETO'!M56 -> -4002491 | ... AM17: ='FCD PROJETO'!AN56 -> -9264549.5 | AN17: =SUM(E17:AM17) -> -2.0182897e+08
B18: Serviços e materiais p/ manut. de veículos | E18: ='FCD PROJETO'!F57 -> -335617.07 | F18: ='FCD PROJETO'!G57 -> -335617.07 | G18: ='FCD PROJETO'!H57 -> -335617.07 | H18: ='FCD PROJETO'!I57 -> -335617.07 | I18: ='FCD PROJETO'!J57 -> -342527.46 | J18: ='FCD PROJETO'!K57 -> -378089.84 | K18: ='FCD PROJETO'!L57 -> -378089.84 | L18: ='FCD PROJETO'!M57 -> -378089.84 | ... AM18: ='FCD PROJETO'!AN57 -> -493500.96 | AN18: =SUM(E18:AM18) -> -15382680
B19: Serviços e manut. de equip eletromecânicos | E19: ='FCD PROJETO'!F58 -> -422294.53 | F19: ='FCD PROJETO'!G58 -> -478810.11 | G19: ='FCD PROJETO'!H58 -> -539763.47 | H19: ='FCD PROJETO'!I58 -> -602715.3 | I19: ='FCD PROJETO'!J58 -> -674689.64 | J19: ='FCD PROJETO'!K58 -> -697951.26 | K19: ='FCD PROJETO'!L58 -> -721830.05 | L19: ='FCD PROJETO'!M58 -> -746649.29 | ... AM19: ='FCD PROJETO'!AN58 -> -1145814.5 | AN19: =SUM(E19:AM19) -> -34034958
B20: Reposição de ativos e equipamentos. | E20: ='FCD PROJETO'!F59 -> -418384 | F20: ='FCD PROJETO'!G59 -> -540071.52 | G20: ='FCD PROJETO'!H59 -> -649710.08 | H20: ='FCD PROJETO'!I59 -> -1385222.6 | I20: ='FCD PROJETO'!J59 -> -1371310.2 | J20: ='FCD PROJETO'!K59 -> -2190655.2 | K20: ='FCD PROJETO'!L59 -> -2831453.6 | L20: ='FCD PROJETO'!M59 -> -2918344.6 | ... AM20: ='FCD PROJETO'!AN59 -> -613366.91 | AN20: =SUM(E20:AM20) -> -58004888
B21: Combustíveis e lubrificantes | E21: ='FCD PROJETO'!F60 -> -783095.01 | F21: ='FCD PROJETO'!G60 -> -783095.01 | G21: ='FCD PROJETO'!H60 -> -783095.01 | H21: ='FCD PROJETO'!I60 -> -783095.01 | I21: ='FCD PROJETO'!J60 -> -846302.98 | J21: ='FCD PROJETO'!K60 -> -926416.27 | K21: ='FCD PROJETO'!L60 -> -926416.27 | L21: ='FCD PROJETO'!M60 -> -926416.27 | ... AM21: ='FCD PROJETO'!AN60 -> -1278802.8 | AN21: =SUM(E21:AM21) -> -38691828
B22: Energia elétrica | E22: ='FCD PROJETO'!F61 -> -1129513.8 | F22: ='FCD PROJETO'!G61 -> -1271818.8 | G22: ='FCD PROJETO'!H61 -> -1450021.6 | H22: ='FCD PROJETO'!I61 -> -1618847.6 | I22: ='FCD PROJETO'!J61 -> -1809396.6 | J22: ='FCD PROJETO'!K61 -> -1866798.5 | K22: ='FCD PROJETO'!L61 -> -1924657 | L22: ='FCD PROJETO'!M61 -> -1987324.7 | ... AM22: ='FCD PROJETO'!AN61 -> -3037045.4 | AN22: =SUM(E22:AM22) -> -90333952
B23: Produtos Químicos | E23: ='FCD PROJETO'!F62 -> -1377653.6 | F23: ='FCD PROJETO'!G62 -> -1463078.3 | G23: ='FCD PROJETO'!H62 -> -1543559.7 | H23: ='FCD PROJETO'!I62 -> -1611884.6 | I23: ='FCD PROJETO'!J62 -> -1689260.6 | J23: ='FCD PROJETO'!K62 -> -1697507.6 | K23: ='FCD PROJETO'!L62 -> -1702256.6 | L23: ='FCD PROJETO'!M62 -> -1720541.1 | ... AM23: ='FCD PROJETO'!AN62 -> -1940865.9 | AN23: =SUM(E23:AM23) -> -63022062
B24: Despesas diversas | E24: ='FCD PROJETO'!F65 -> -1275370.6 | F24: ='FCD PROJETO'!G65 -> -1421350.1 | G24: ='FCD PROJETO'!H65 -> -1626088.3 | H24: ='FCD PROJETO'!I65 -> -1845344.3 | I24: ='FCD PROJETO'!J65 -> -2004824.4 | J24: ='FCD PROJETO'!K65 -> -2188278.1 | K24: ='FCD PROJETO'!L65 -> -2323266.2 | L24: ='FCD PROJETO'!M65 -> -2404967.6 | ... AM24: ='FCD PROJETO'!AN65 -> -3259028.5 | AN24: =SUM(E24:AM24) -> -94407193
B25: Custeio administrativo e comercial | E25: ='FCD PROJETO'!F63 -> -696161.56 | F25: ='FCD PROJETO'!G63 -> -882440.97 | G25: ='FCD PROJETO'!H63 -> -1070301.2 | H25: ='FCD PROJETO'!I63 -> -1250074.7 | I25: ='FCD PROJETO'!J63 -> -1435444.8 | J25: ='FCD PROJETO'!K63 -> -1503289 | K25: ='FCD PROJETO'!L63 -> -1561202.1 | L25: ='FCD PROJETO'!M63 -> -1591996.9 | ... AM25: ='FCD PROJETO'!AN63 -> -1880431.7 | AN25: =SUM(E25:AM25) -> -58550537
B26: Custeio legal e regulação | E26: ='FCD PROJETO'!F64 -> -218321.63 | F26: ='FCD PROJETO'!G64 -> -287934.47 | G26: ='FCD PROJETO'!H64 -> -349231.99 | H26: ='FCD PROJETO'!I64 -> -407890.85 | I26: ='FCD PROJETO'!J64 -> -468375.86 | J26: ='FCD PROJETO'!K64 -> -490512.95 | K26: ='FCD PROJETO'!L64 -> -509409.59 | L26: ='FCD PROJETO'!M64 -> -519457.74 | ... AM26: ='FCD PROJETO'!AN64 -> -613572.04 | AN26: =SUM(E26:AM26) -> -19095810
B27: Pagamento pelo uso de recursos hídricos | E27: ='FCD PROJETO'!F66 -> -195631.04 | F27: ='FCD PROJETO'!G66 -> -207575.96 | G27: ='FCD PROJETO'!H66 -> -218827.23 | H27: ='FCD PROJETO'!I66 -> -228347.26 | I27: ='FCD PROJETO'!J66 -> -239138.4 | J27: ='FCD PROJETO'!K66 -> -240271.35 | K27: ='FCD PROJETO'!L66 -> -240884.19 | L27: ='FCD PROJETO'!M66 -> -243448.8 | ... AM27: ='FCD PROJETO'!AN66 -> -274489.68 | AN27: =SUM(E27:AM27) -> -8916673.9
B28: Reserva técnica de contingência e emergências | E28: ='FCD PROJETO'!F67 -> -236316.81 | F28: ='FCD PROJETO'!G67 -> -263365.73 | G28: ='FCD PROJETO'!H67 -> -301302.22 | H28: ='FCD PROJETO'!I67 -> -341928.75 | I28: ='FCD PROJETO'!J67 -> -371479.24 | J28: ='FCD PROJETO'!K67 -> -405471.87 | K28: ='FCD PROJETO'!L67 -> -430484.17 | L28: ='FCD PROJETO'!M67 -> -445622.84 | ... AM28: ='FCD PROJETO'!AN67 -> -603874.05 | AN28: =SUM(E28:AM28) -> -17492960
B29: Seguros | E29: =('FCD PROJETO'!F71+'FCD PROJETO'!F73+'FCD PROJETO'!F74) -> -143897.44 | F29: =('FCD PROJETO'!G71+'FCD PROJETO'!G73+'FCD PROJETO'!G74) -> -377068.72 | G29: =('FCD PROJETO'!H71+'FCD PROJETO'!H73+'FCD PROJETO'!H74) -> -358384.86 | H29: =('FCD PROJETO'!I71+'FCD PROJETO'!I73+'FCD PROJETO'!I74) -> -358726.57 | I29: =('FCD PROJETO'!J71+'FCD PROJETO'!J73+'FCD PROJETO'!J74) -> -364547.75 | J29: =('FCD PROJETO'!K71+'FCD PROJETO'!K73+'FCD PROJETO'!K74) -> -204454.74 | K29: =('FCD PROJETO'!L71+'FCD PROJETO'!L73+'FCD PROJETO'!L74) -> -206419.06 | L29: =('FCD PROJETO'!M71+'FCD PROJETO'!M73+'FCD PROJETO'!M74) -> -173838.95 | ... AM29: =('FCD PROJETO'!AN71+'FCD PROJETO'!AN73+'FCD PROJETO'!AN74) -> -133864.9 | AN29: =SUM(E29:AM29) -> -6304815.8
B30: Garantias | E30: ='FCD PROJETO'!F72 -> -731044.94 | F30: ='FCD PROJETO'!G72 -> -731044.94 | G30: ='FCD PROJETO'!H72 -> -731044.94 | H30: ='FCD PROJETO'!I72 -> -731044.94 | I30: ='FCD PROJETO'!J72 -> -731044.94 | J30: ='FCD PROJETO'!K72 -> -731044.94 | K30: ='FCD PROJETO'!L72 -> -731044.94 | L30: ='FCD PROJETO'!M72 -> -731044.94 | ... AM30: ='FCD PROJETO'!AN72 -> -438626.96 | AN30: =SUM(E30:AM30) -> -16082989
B31: Adm. Central | E31: ='FCD PROJETO'!F76 -> -155129.12 | F31: ='FCD PROJETO'!G76 -> -203397.73 | G31: ='FCD PROJETO'!H76 -> -243832.27 | H31: ='FCD PROJETO'!I76 -> -284859.98 | I31: ='FCD PROJETO'!J76 -> -327139.52 | J31: ='FCD PROJETO'!K76 -> -342831.77 | K31: ='FCD PROJETO'!L76 -> -356062 | L31: ='FCD PROJETO'!M76 -> -363136.94 | ... AM31: ='FCD PROJETO'!AN76 -> -429003.82 | AN31: =SUM(E31:AM31) -> -13354102
AN32: =SUM(E32:AH32) -> 0
E33: =E15-'FCD PROJETO'!F53 -> -0.00011718646 | F33: =F15-'FCD PROJETO'!G53 -> 0.00019531138 | G33: =G15-'FCD PROJETO'!H53 -> 0.0018749982 | H33: =H15-'FCD PROJETO'!I53 -> -0.00054687634 | I33: =I15-'FCD PROJETO'!J53 -> 0.00062500313 | J33: =J15-'FCD PROJETO'!K53 -> -0.00015624985 | K33: =K15-'FCD PROJETO'!L53 -> -0.00046874583 | L33: =L15-'FCD PROJETO'!M53 -> -0.00054687634 | ... AM33: =AM15-'FCD PROJETO'!AN53 -> 0.0028125048
B34: LAJIDA | E34: =E13+E15 -> 7463519.1 | F34: =F13+F15 -> 12406697 | G34: =G13+G15 -> 15892253 | H34: =H13+H15 -> 19336417 | I34: =I13+I15 -> 23506460 | J34: =J13+J15 -> 24025107 | K34: =K13+K15 -> 24515653 | L34: =L13+L15 -> 24715126 | ... AM34: =AM13+AM15 -> 25579098 | AN34: =SUM(E34:AM34) -> 8.6159464e+08
B35: Margem % | E35: =E34/E4 -> 0.32965815 | F35: =F34/F4 -> 0.41794925 | G35: =G34/G4 -> 0.44658876 | H35: =H34/H4 -> 0.46511255 | I35: =I34/I4 -> 0.49234293 | J35: =J34/J4 -> 0.48017302 | K35: =K34/K4 -> 0.47177109 | L35: =L34/L4 -> 0.46634346 | ... AN35: =AN34/AN4 -> 0.44208093
B36: Amortização (deflacionada) | E36: ='FCD PROJETO'!F88 -> -149132.46 | F36: ='FCD PROJETO'!G88 -> -1524326.8 | G36: ='FCD PROJETO'!H88 -> -2775533.4 | H36: ='FCD PROJETO'!I88 -> -4017517.7 | I36: ='FCD PROJETO'!J88 -> -5282144.7 | J36: ='FCD PROJETO'!K88 -> -5572261.6 | K36: ='FCD PROJETO'!L88 -> -5869779.1 | L36: ='FCD PROJETO'!M88 -> -5957443.5 | ... AM36: ='FCD PROJETO'!AN88 -> -5249668.1 | AN36: =SUM(E36:AM36) -> -1.9261866e+08
B38: LAJIR | E38: =E34+E36 -> 7314386.7 | F38: =F34+F36 -> 10882370 | G38: =G34+G36 -> 13116720 | H38: =H34+H36 -> 15318899 | I38: =I34+I36 -> 18224315 | J38: =J34+J36 -> 18452845 | K38: =K34+K36 -> 18645874 | L38: =L34+L36 -> 18757682 | ... AM38: =AM34+AM36 -> 20329430 | AN38: =SUM(E38:AM38) -> 6.6897598e+08
B39: Margem % | E39: =E38/E4 -> 0.32307108 | F39: =F38/F4 -> 0.36659866 | G39: =G38/G4 -> 0.3685934 | H39: =H38/H4 -> 0.36847635 | I39: =I38/I4 -> 0.38170838 | J39: =J38/J4 -> 0.36880412 | K39: =K38/K4 -> 0.35881501 | L39: =L38/L4 -> 0.35393397 | ... AN39: =AN38/AN4 -> 0.34324903
B40: Despesas Financeiras | AN40: =SUM(E40:AH40) -> 0
B42: LAIR | E42: =E38+E40 -> 7314386.7 | F42: =F38+F40 -> 10882370 | G42: =G38+G40 -> 13116720 | H42: =H38+H40 -> 15318899 | I42: =I38+I40 -> 18224315 | J42: =J38+J40 -> 18452845 | K42: =K38+K40 -> 18645874 | L42: =L38+L40 -> 18757682 | ... AM42: =AM38+AM40 -> 20329430 | AN42: =SUM(E42:AM42) -> 6.6897598e+08
B43: Impostos Diretos | E43: =IF(E42>0,-E42*'FCD PROJETO'!$C$102,0)+-IF(E42>0,IF(E42>240000,240000*'FCD PROJETO'!$C$103+(E42-(240000))*'FCD PROJETO'!$C$104,E42*'FCD PROJETO'!$C$103),0) -> -2462891.5 | F43: =IF(F42>0,-F42*'FCD PROJETO'!$C$102,0)+-IF(F42>0,IF(F42>240000,240000*'FCD PROJETO'!$C$103+(F42-(240000))*'FCD PROJETO'!$C$104,F42*'FCD PROJETO'!$C$103),0) -> -3676005.8 | G43: =IF(G42>0,-G42*'FCD PROJETO'!$C$102,0)+-IF(G42>0,IF(G42>240000,240000*'FCD PROJETO'!$C$103+(G42-(240000))*'FCD PROJETO'!$C$104,G42*'FCD PROJETO'!$C$103),0) -> -4435684.7 | H43: =IF(H42>0,-H42*'FCD PROJETO'!$C$102,0)+-IF(H42>0,IF(H42>240000,240000*'FCD PROJETO'!$C$103+(H42-(240000))*'FCD PROJETO'!$C$104,H42*'FCD PROJETO'!$C$103),0) -> -5184425.8 | I43: =IF(I42>0,-I42*'FCD PROJETO'!$C$102,0)+-IF(I42>0,IF(I42>240000,240000*'FCD PROJETO'!$C$103+(I42-(240000))*'FCD PROJETO'!$C$104,I42*'FCD PROJETO'!$C$103),0) -> -6172267.2 | J43: =IF(J42>0,-J42*'FCD PROJETO'!$C$102,0)+-IF(J42>0,IF(J42>240000,240000*'FCD PROJETO'!$C$103+(J42-(240000))*'FCD PROJETO'!$C$104,J42*'FCD PROJETO'!$C$103),0) -> -6249967.4 | K43: =IF(K42>0,-K42*'FCD PROJETO'!$C$102,0)+-IF(K42>0,IF(K42>240000,240000*'FCD PROJETO'!$C$103+(K42-(240000))*'FCD PROJETO'!$C$104,K42*'FCD PROJETO'!$C$103),0) -> -6315597.1 | L43: =IF(L42>0,-L42*'FCD PROJETO'!$C$102,0)+-IF(L42>0,IF(L42>240000,240000*'FCD PROJETO'!$C$103+(L42-(240000))*'FCD PROJETO'!$C$104,L42*'FCD PROJETO'!$C$103),0) -> -6353612 | ... AM43: =IF(AM42>0,-AM42*'FCD PROJETO'!$C$102,0)+-IF(AM42>0,IF(AM42>240000,240000*'FCD PROJETO'!$C$103+(AM42-(240000))*'FCD PROJETO'!$C$104,AM42*'FCD PROJETO'!$C$103),0) -> -6888006.3 | AN43: =SUM(E43:AM43) -> -2.2661183e+08
B45: Lucro Líquido | E45: =E42+E43 -> 4851495.2 | F45: =F42+F43 -> 7206364.2 | G45: =G42+G43 -> 8681035 | H45: =H42+H43 -> 10134474 | I45: =I42+I43 -> 12052048 | J45: =J42+J43 -> 12202878 | K45: =K42+K43 -> 12330277 | L45: =L42+L43 -> 12404070 | ... AM45: =AM42+AM43 -> 13441424 | AN45: =SUM(E45:AM45) -> 4.4236415e+08
B46: Margem Líquida % (Lucro Líquido/Receita Líquida) | E46: =E45/E13 -> 0.23613135 | F46: =F45/F13 -> 0.26542914 | G46: =G45/G13 -> 0.26635537 | H46: =H45/H13 -> 0.26565214 | I46: =I45/I13 -> 0.27469285 | J46: =J45/J13 -> 0.26538089 | K46: =K45/K13 -> 0.2581507 | L46: =L45/L13 -> 0.25465188 | ... AN46: =AN45/AN13 -> 0.24720297

Sheet FCD Acionista
A1: Preenchimento | B1: RESULTADO DO FLUXO DE CAIXA ACIONISTA - FCA | G1: Cálculo das Taxas de Juros
A2: Fórmulas | B2: Taxa de desconto | D2: =H6 -> 0.12674634 | G2: SELIC no Ano Base | H2: ='FCD PROJETO'!H4 -> 0.1304 | I2: Inflação Ano Base | J2: ='FCD PROJETO'!J4 -> 0.0462
A3: NÂO ALTERAR | B3: TIR Calculada do Acionista | D3: =IRR(F45:AN45) -> 0.12674634 | G3: Taxa Juros Básica | H3: ='FCD PROJETO'!H5 -> 0.080481743 | I3: Rf | J3: ='FCD PROJETO'!J5 -> 0.0339
B4: VPL Calculado do Acionista | D4: =ROUND(NPV(D2,F45:AN45),2) -> 0 | G4: Taxa de desconto | H4: ='FCD PROJETO'!H6 -> 0.077755274 | I4: Beta | J4: ='FCD PROJETO'!J6 -> 0.75820399
B5: PAYBACK Simples | D5: =MATCH(0,F46:AN46,1) -> 31 | G5: TMA | H5: ='FCD PROJETO'!H7 -> 0.099981743 | I5: Rm | J5: ='FCD PROJETO'!J7 -> 0.0692
B6: PAYBACK Descontado | D6: =IF(AN48>=0,35,MATCH(0,F48:AN48,1)+1) -> 35 | G6: ke | H6: ='FCD PROJETO'!H8 -> 0.12674634 | I6: Rc | J6: ='FCD PROJETO'!J8 -> 0.0195
B7: Item | D7: Valor Nominal | E7: VPL | G7: kd | H7: ='FCD PROJETO'!H9 -> 0.0779 | I7: TC = CSLL+IRPJ | J7: ='FCD PROJETO'!J9 -> 0.34
B8: Dividendos | D8: =AO23 -> 4.615155e+08 | E8: =NPV(D2,F23:AN23) -> 48994159 | G8: WACC calculado | J8: ='FCD PROJETO'!J10 -> 0.077755274
B9: Equity | D9: =AO24 -> -1.3127986e+08 | E9: =NPV(D2,F24:AN24) -> -88948135
B10: Despesas Operacionais | D10: =(AO26) -> -41085430 | E10: =NPV(D2,F26:AN26) -> -9119407.2
B11: Financiamentos | D11: =(AO34) -> 2.441621e+08 | E11: =NPV(D2,F34:AN34) -> 1.3971682e+08
B12: Juros sobre o financiamento | D12: =(AO35) -> -2.9234224e+08 | E12: =NPV(D2,F35:AN35) -> -77324115
B13: Amortizações | D13: =AO36 -> -2.441621e+08 | E13: =NPV(D2,F36:AN36) -> -31616057
B14: Benefício Fiscal | D14: =AO38 -> 80022641 | E14: =NPV(D2,F38:AN38) -> 20746445 | G14: Reserva Legal | J14: 0.05
B15: Reserva legal | D15: =AO42 -> -23075775 | E15: =NPV(D2,F42:AN42) -> -2449707.9 | G15: Verificador Independente (% do total do Faturamento o) | J15: 0.00060215318
B16: Lucro Líquido | D16: =SUM(D8:D15) -> 53754841 | E16: =ROUND(SUM(E8:E15),2) -> 0
B17: Margem Líquida | D17: =D16/D8 -> 0.11647462 | E17: =E16/E8 -> 0
B19: FLUXO DE CAIXA DO ACIONISTA
B20: ANO | D20: ='FCD PROJETO'!D23 -> Base | E20: ='FCD PROJETO'!E23 -> 0 | F20: ='FCD PROJETO'!F23 -> 1 | G20: ='FCD PROJETO'!G23 -> 2 | H20: ='FCD PROJETO'!H23 -> 3 | I20: ='FCD PROJETO'!I23 -> 4 | J20: ='FCD PROJETO'!J23 -> 5 | K20: ='FCD PROJETO'!K23 -> 6 | ... AN20: ='FCD PROJETO'!AN23 -> 35
D21: ='FCD PROJETO'!D24 -> 2025 | E21: ='FCD PROJETO'!E24 -> 2026 | F21: ='FCD PROJETO'!F24 -> 2027 | G21: ='FCD PROJETO'!G24 -> 2028 | H21: ='FCD PROJETO'!H24 -> 2029 | I21: ='FCD PROJETO'!I24 -> 2030 | J21: ='FCD PROJETO'!J24 -> 2031 | K21: ='FCD PROJETO'!K24 -> 2032 | ... AN21: ='FCD PROJETO'!AN24 -> 2061 | AO21: ACUMULADO
B22: 1 - Fluxo de Caixa do Projeto | C22: =AO22 -> 3.3023564e+08 | F22: ='FCD PROJETO'!F107 -> -469044.67 | G22: ='FCD PROJETO'!G107 -> -39959345 | H22: ='FCD PROJETO'!H107 -> -33231972 | I22: ='FCD PROJETO'!I107 -> -30055128 | J22: ='FCD PROJETO'!J107 -> -27564369 | K22: ='FCD PROJETO'!K107 -> 3256755.7 | L22: ='FCD PROJETO'!L107 -> 3650224.8 | M22: ='FCD PROJETO'!M107 -> 10104615 | ... AN22: ='FCD PROJETO'!AN107 -> 20030036 | AO22: =SUM(F22:AN22) -> 3.3023564e+08
B23: 1.1 - Dividendos Anuais | C23: =AO23 -> 4.615155e+08 | F23: =IF(F22>0,F22,0) -> 0 | G23: =IF(G22>0,G22,0) -> 0 | H23: =IF(H22>0,H22,0) -> 0 | I23: =IF(I22>0,I22,0) -> 0 | J23: =IF(J22>0,J22,0) -> 0 | K23: =IF(K22>0,K22,0) -> 3256755.7 | L23: =IF(L22>0,L22,0) -> 3650224.8 | M23: =IF(M22>0,M22,0) -> 10104615 | ... AN23: =IF(AN22>0,AN22,0) -> 20030036 | AO23: =SUM(F23:AN23) -> 4.615155e+08
B24: 1.2 - Equity | C24: =AO24 -> -1.3127986e+08 | F24: =IF(F22<0,F22,0) -> -469044.67 | G24: =IF(G22<0,G22,0) -> -39959345 | H24: =IF(H22<0,H22,0) -> -33231972 | I24: =IF(I22<0,I22,0) -> -30055128 | J24: =IF(J22<0,J22,0) -> -27564369 | K24: =IF(K22<0,K22,0) -> 0 | L24: =IF(L22<0,L22,0) -> 0 | M24: =IF(M22<0,M22,0) -> 0 | ... AN24: =IF(AN22<0,AN22,0) -> 0 | AO24: =SUM(F24:AN24) -> -1.3127986e+08
B26: 2 - Despesas operacionais | C26: =AO26 -> -41085430 | F26: =SUM(F27:F28) -> -1173869.4 | G26: =SUM(G27:G28) -> -1173869.4 | H26: =SUM(H27:H28) -> -1173869.4 | I26: =SUM(I27:I28) -> -1173869.4 | J26: =SUM(J27:J28) -> -1173869.4 | K26: =SUM(K27:K28) -> -1173869.4 | L26: =SUM(L27:L28) -> -1173869.4 | M26: =SUM(M27:M28) -> -1173869.4 | ... AN26: =SUM(AN27:AN28) -> -1173869.4 | AO26: =SUM(F26:AN26) -> -41085430
B27: 2.1 - Verificador Independente | C27: =AO27 -> -41085430 | F27: =-$J$15*'FCD PROJETO'!$D$10 -> -1173869.4 | G27: =-$J$15*'FCD PROJETO'!$D$10 -> -1173869.4 | H27: =-$J$15*'FCD PROJETO'!$D$10 -> -1173869.4 | I27: =-$J$15*'FCD PROJETO'!$D$10 -> -1173869.4 | J27: =-$J$15*'FCD PROJETO'!$D$10 -> -1173869.4 | K27: =-$J$15*'FCD PROJETO'!$D$10 -> -1173869.4 | L27: =-$J$15*'FCD PROJETO'!$D$10 -> -1173869.4 | M27: =-$J$15*'FCD PROJETO'!$D$10 -> -1173869.4 | ... AN27: =-$J$15*'FCD PROJETO'!$D$10 -> -1173869.4 | AO27: =SUM(F27:AN27) -> -41085430
B30: Saldo de caixa (1+2) | C30: =AO30 -> 4.2043007e+08 | F30: =F23+F26 -> -1173869.4 | G30: =G23+G26 -> -1173869.4 | H30: =H23+H26 -> -1173869.4 | I30: =I23+I26 -> -1173869.4 | J30: =J23+J26 -> -1173869.4 | K30: =K23+K26 -> 2082886.3 | L30: =L23+L26 -> 2476355.3 | M30: =M23+M26 -> 8930745.3 | ... AN30: =AN23+AN26 -> 18856166 | AO30: =SUM(F30:AN30) -> 4.2043007e+08
B31: Saldo de Caixa Acumulado | F31: =F30 -> -1173869.4 | G31: =F31+G30 -> -2347738.9 | H31: =G31+H30 -> -3521608.3 | I31: =H31+I30 -> -4695477.7 | J31: =I31+J30 -> -5869347.1 | K31: =J31+K30 -> -3786460.9 | L31: =K31+L30 -> -1310105.5 | M31: =L31+M30 -> 7620639.8 | N31: =M31+N30 -> 16687745 | ... AN31: =AM31+AN30 -> 4.2043007e+08
B33: 3 - Financiamento | C33: =AO33 -> -2.9234224e+08 | F33: =F34+F35+F36 -> 4575368.3 | G33: =G34+G35+G36 -> 40106172 | H33: =H34+H35+H36 -> 33359950 | I33: =I34+I35+I36 -> 29819937 | J33: =J34+J35+J36 -> 24401972 | K33: =K34+K35+K36 -> -3999492.2 | L33: =L34+L35+L36 -> -4995165.8 | M33: =M34+M35+M36 -> -11248784 | ... AN33: =AN34+AN35+AN36 -> -1207029.8 | AO33: =SUM(F33:AN33) -> -2.9234224e+08
B34: 3.1 - Empréstimos | C34: =AO34 -> 2.441621e+08 | F34: ='Financiamento '!D96 -> 4961900.3 | G34: ='Financiamento '!E96 -> 43913572 | H34: ='Financiamento '!F96 -> 40307287 | I34: ='Financiamento '!G96 -> 39873413 | J34: ='Financiamento '!H96 -> 40496565 | K34: ='Financiamento '!I96 -> 13116909 | L34: ='Financiamento '!J96 -> 13145250 | M34: ='Financiamento '!K96 -> 7473844.5 | ... AN34: ='Financiamento '!AL96 -> 0 | AO34: =SUM(F34:AN34) -> 2.441621e+08
B35: 3.2 - Juros sobre os financiamentos | C35: =AO35 -> -2.9234224e+08 | F35: =-('Financiamento '!D99+'Financiamento '!D100+'Financiamento '!D101) -> -386532.04 | G35: =-('Financiamento '!E99+'Financiamento '!E100+'Financiamento '!E101) -> -3807399.3 | H35: =-('Financiamento '!F99+'Financiamento '!F100+'Financiamento '!F101) -> -6947336.9 | I35: =-('Financiamento '!G99+'Financiamento '!G100+'Financiamento '!G101) -> -10053476 | J35: =-('Financiamento '!H99+'Financiamento '!H100+'Financiamento '!H101) -> -13208158 | K35: =-('Financiamento '!I99+'Financiamento '!I100+'Financiamento '!I101) -> -14005112 | L35: =-('Financiamento '!J99+'Financiamento '!J100+'Financiamento '!J101) -> -14786758 | M35: =-('Financiamento '!K99+'Financiamento '!K100+'Financiamento '!K101) -> -15107720 | ... AN35: =-('Financiamento '!AL99+'Financiamento '!AL100+'Financiamento '!AL101) -> -87232.227 | AO35: =SUM(F35:AN35) -> -2.9234224e+08
B36: 3.2 - Amortizações | C36: =AO36 -> -2.441621e+08 | F36: =-'Financiamento '!D102 -> 0 | G36: =-'Financiamento '!E102 -> 0 | H36: =-'Financiamento '!F102 -> 0 | I36: =-'Financiamento '!G102 -> 0 | J36: =-'Financiamento '!H102 -> -2886435.5 | K36: =-'Financiamento '!I102 -> -3111288.9 | L36: =-'Financiamento '!J102 -> -3353658.3 | M36: =-'Financiamento '!K102 -> -3614908.2 | ... AN36: =-'Financiamento '!AL102 -> -1119797.5 | AO36: =SUM(F36:AN36) -> -2.441621e+08
B38: 4 - Benefício Fiscal | C38: =AO38 -> 80022641 | F38: =F39+F40 -> 374496.35 | G38: =G39+G40 -> 1195504.5 | H38: =H39+H40 -> 1949089.5 | I38: =I39+I40 -> 2694562.8 | J38: =J39+J40 -> 3451686.6 | K38: =K39+K40 -> 3642955.6 | L38: =L39+L40 -> 3830550.5 | M38: =M39+M40 -> 3907581.5 | ... AN38: =AN39+AN40 -> 302664.4 | AO38: =SUM(F38:AN38) -> 80022641
B39: 4.1 - Benefício Fiscal Financiamentos | C39: =AO39 -> 70162137 | F39: =-(IF(F35>240000,240000*15%+(F35-240000)*10%,F35*15%)+F35*9%) -> 92767.689 | G39: =-(IF(G35>240000,240000*15%+(G35-240000)*10%,G35*15%)+G35*9%) -> 913775.82 | H39: =-(IF(H35>240000,240000*15%+(H35-240000)*10%,H35*15%)+H35*9%) -> 1667360.9 | I39: =-(IF(I35>240000,240000*15%+(I35-240000)*10%,I35*15%)+I35*9%) -> 2412834.2 | J39: =-(IF(J35>240000,240000*15%+(J35-240000)*10%,J35*15%)+J35*9%) -> 3169958 | K39: =-(IF(K35>240000,240000*15%+(K35-240000)*10%,K35*15%)+K35*9%) -> 3361226.9 | L39: =-(IF(L35>240000,240000*15%+(L35-240000)*10%,L35*15%)+L35*9%) -> 3548821.8 | M39: =-(IF(M35>240000,240000*15%+(M35-240000)*10%,M35*15%)+M35*9%) -> 3625852.8 | ... AN39: =-(IF(AN35>240000,240000*15%+(AN35-240000)*10%,AN35*15%)+AN35*9%) -> 20935.735 | AO39: =SUM(F39:AN39) -> 70162137
B40: 4.2 - Beneficio Fiscal Ressarcimentos | C40: =AO40 -> 9860503.2 | F40: =-(IF((F27)>240000,240000*15%+((+F27)-240000)*10%,(+F27)*15%)+(+F27)*9%) -> 281728.66 | G40: =-(IF((G27)>240000,240000*15%+((+G27)-240000)*10%,(+G27)*15%)+(+G27)*9%) -> 281728.66 | H40: =-(IF((H27)>240000,240000*15%+((+H27)-240000)*10%,(+H27)*15%)+(+H27)*9%) -> 281728.66 | I40: =-(IF((I27)>240000,240000*15%+((+I27)-240000)*10%,(+I27)*15%)+(+I27)*9%) -> 281728.66 | J40: =-(IF((J27)>240000,240000*15%+((+J27)-240000)*10%,(+J27)*15%)+(+J27)*9%) -> 281728.66 | K40: =-(IF((K27)>240000,240000*15%+((+K27)-240000)*10%,(+K27)*15%)+(+K27)*9%) -> 281728.66 | L40: =-(IF((L27)>240000,240000*15%+((+L27)-240000)*10%,(+L27)*15%)+(+L27)*9%) -> 281728.66 | M40: =-(IF((M27)>240000,240000*15%+((+M27)-240000)*10%,(+M27)*15%)+(+M27)*9%) -> 281728.66 | ... AN40: =-(IF((AN27)>240000,240000*15%+((+AN27)-240000)*10%,(+AN27)*15%)+(+AN27)*9%) -> 281728.66 | AO40: =SUM(F40:AN40) -> 9860503.2
B42: 5 - Reserva Legal | C42: =AO42 -> -23075775 | F42: =-IF(F23<0,0,F23*$J$14) -> 0 | G42: =-IF(G23<0,0,G23*$J$14) -> 0 | H42: =-IF(H23<0,0,H23*$J$14) -> 0 | I42: =-IF(I23<0,0,I23*$J$14) -> 0 | J42: =-IF(J23<0,0,J23*$J$14) -> 0 | K42: =-IF(K23<0,0,K23*$J$14) -> -162837.79 | L42: =-IF(L23<0,0,L23*$J$14) -> -182511.24 | M42: =-IF(M23<0,0,M23*$J$14) -> -505230.74 | ... AN42: =-IF(AN23<0,0,AN23*$J$14) -> -1001501.8 | AO42: =SUM(F42:AN42) -> -23075775
B45: Fluxo de Caixa do Acionista | D45: =MATCH(0,F45:AN45,1)+1 -> 25 | F45: =F22+F26+F33+F38+F42 -> 3306950.6 | G45: =G22+G26+G33+G38+G42 -> 168462.02 | H45: =H22+H26+H33+H38+H42 -> 903197.69 | I45: =I22+I26+I33+I38+I42 -> 1285503 | J45: =J22+J26+J33+J38+J42 -> -884580.58 | K45: =K22+K26+K33+K38+K42 -> 1563511.9 | L45: =L22+L26+L33+L38+L42 -> 1129228.8 | M45: =M22+M26+M33+M38+M42 -> 1084312.3 | ... AN45: =AN22+AN26+AN33+AN38+AN42 -> 16950299 | AO45: =SUM(F45:AN45) -> 53754841 | AP45: =AO45-D16 -> 0
B46: Fluxo de Caixa do Acionista Acumulado | D46: =MATCH(0,F46:AN46,1)+1 -> 32 | F46: =F45 -> 3306950.6 | G46: =F46+G45 -> 3475412.6 | H46: =G46+H45 -> 4378610.3 | I46: =H46+I45 -> 5664113.3 | J46: =I46+J45 -> 4779532.7 | K46: =J46+K45 -> 6343044.6 | L46: =K46+L45 -> 7472273.4 | M46: =L46+M45 -> 8556585.6 | N46: =M46+N45 -> 7526841.1 | ... AN46: =AM46+AN45 -> 53754841
B47: Fluxo de Caixa do Acionista Descontado | D47: =MATCH(0,F47:AN47,1)+1 -> 25 | F47: =F45/(1+$D$2)^F20 -> 2934955.7 | G47: =G45/(1+$D$2)^G20 -> 132693.51 | H47: =H45/(1+$D$2)^H20 -> 631399.67 | I47: =I45/(1+$D$2)^I20 -> 797569.37 | J47: =J45/(1+$D$2)^J20 -> -487087.08 | K47: =K45/(1+$D$2)^K20 -> 764089.53 | L47: =L45/(1+$D$2)^L20 -> 489777.5 | M47: =M45/(1+$D$2)^M20 -> 417392.95 | ... AN47: =AN45/(1+$D$2)^AN20 -> 260172.78 | AO47: =SUM(F47:AN47) -> 0.0047387446
B48: Fluxo de Caixa do Acionista Descontado Acumulado | D48: =IF(AN48>=0,35,MATCH(0,F48:AN48,1)+1) -> 35 | F48: =F47 -> 2934955.7 | G48: =F48+G47 -> 3067649.2 | H48: =G48+H47 -> 3699048.8 | I48: =H48+I47 -> 4496618.2 | J48: =I48+J47 -> 4009531.1 | K48: =J48+K47 -> 4773620.7 | L48: =K48+L47 -> 5263398.1 | M48: =L48+M47 -> 5680791.1 | N48: =M48+N47 -> 5328992.5 | ... AN48: =AM48+AN47 -> 0.0047387446
B50: TIR Financiamento | C50: =IRR(F33:AI33) -> 0.087505052 | AN50: =AN48 -> 0.0047387446
...

Sheet Matriz Tarifária
A1: Preenchimento | B1: Matriz Tarifária Proposta | AA1: TABELA 2 - TARIFAS PARA FORNECIMENTO DE ÁGUA, COLETA, AFASTAMENTO E TRATAMENTO E ESGOTO - AVULSO
A2: Fórmulas | B2: Categoria | C2: Faixa de consumo | D2: 0 | E2: Tarifa Água | F2: Tarifa Esgoto | I2: Matriz Tarifária Io | K2: Aumento | M2: Valor da Conta mensal de água e esgoto Dezembro de 2025 | AA2: Tarifas para fornecimento de água, coleta, afastamento e tratamento e esgoto - Avulso
A3: NÂO ALTERAR | B3: 0 | C3: Inferior | D3: Superior | E3: (R$/m³) | F3: (R$/m³) | M3: Categoria | N3: Conta | O3: Valor previsto no Projeto | R3: Valor praticado Samae 2025 | AA3: Item | AB3: Descrição | AC3: Unidade | AD3: Preço Unitário | AF3: Preço Unitário Io | AG3: Preço Unitário In
B4: Residencial Social Área constr. 0 a 50 m² | C4: TBO | D4: TBO | E4: =Histograma!F4 -> 2.6602587 | F4: =Histograma!G4 -> 2.6602587 | I4: 2.4232816 | J4: 2.4232816 | K4: =E4/I4-1 -> 0.097791798 | M4: 0 | N4: Vol mës | O4: Água | P4: Esgoto | Q4: Total | R4: Água | S4: Esgoto | T4: Total | U4: Diferença | V4: % | AA4: 1 | AB4: Fornecimento temporário de água e tratamento de esgoto domiciliar avulso para usuários cadastrados.
C5: 0.01 | D5: 10 | E5: =Histograma!F5 -> 1.392 | F5: =Histograma!G5 -> 1.392 | I5: 1.268 | J5: 1.268 | K5: =E5/I5-1 -> 0.097791798 | M5: Residencial Social Área constr. 0 a 50 m² | N5: 10 m³ | O5: =E4+10*(E5) -> 16.580259 | P5: =F4+10*(F5) -> 16.580259 | Q5: =SUM(O5:P5) -> 33.160517 | R5: =6.35+10*1.14 -> 17.75 | S5: =6.35+10*1.14 -> 17.75 | T5: =R5+S5 -> 35.5 | U5: =Q5-T5 -> -2.3394826 | V5: =U5/T5 -> -0.065900919 | AA5: 1.1 | AB5: Fornecimento de água em caminhão 6m³ até 15 km - Categoria Residencial | AC5: R$/m³ | AD5: =AG5 -> 79.94 | AF5: 72.85 | AG5: =TRUNC(AF5*'FCD PROJETO'!$S$19,2) -> 79.94
C6: 10.01 | D6: 15 | E6: =Histograma!F6 -> 2.088 | F6: =Histograma!G6 -> 2.088 | I6: 1.902 | J6: 1.902 | K6: =E6/I6-1 -> 0.097791798 | N6: 15 m³ | O6: =O5+5*E6 -> 27.020259 | P6: =P5+5*F6 -> 27.020259 | Q6: =SUM(O6:P6) -> 54.040517 | R6: =R5+5*2.02 -> 27.85 | S6: =S5+5*2.02 -> 27.85 | T6: =R6+S6 -> 55.7 | U6: =Q6-T6 -> -1.6594826 | V6: =U6/T6 -> -0.029793225 | AA6: 1.2 | AB6: Fornecimento de água em caminhão 6m³ até 15 km - Categoria Residencial Social | AC6: R$/m³ | AD6: =AG6 -> 71.24 | AF6: 64.92 | AG6: =TRUNC(AF6*'FCD PROJETO'!$S$19,2) -> 71.24
C7: 15.01 | D7: 20 | E7: =Histograma!F7 -> 2.784 | F7: =Histograma!G7 -> 2.784 | I7: 2.536 | J7: 2.536 | K7: =E7/I7-1 -> 0.097791798 | N7: 20 m³ | O7: =O6+5*E7 -> 40.940259 | P7: =P6+5*F7 -> 40.940259 | Q7: =SUM(O7:P7) -> 81.880517 | R7: =R6+5*2.02 -> 37.95 | S7: =S6+5*2.02 -> 37.95 | T7: =R7+S7 -> 75.9 | U7: =Q7-T7 -> 5.9805174 | V7: =U7/T7 -> 0.078794695 | AA7: 1.3 | AB7: Fornecimento de água em caminhão 6m³ até 15 km - Categoria Mista | AC7: R$/m³ | AD7: =AG7 -> 91.15 | AF7: 83.06 | AG7: =TRUNC(AF7*'FCD PROJETO'!$S$19,2) -> 91.15
C8: 20.01 | D8: 30 | E8: =Histograma!F8 -> 3.48 | F8: =Histograma!G8 -> 3.48 | I8: 3.17 | J8: 3.17 | K8: =E8/I8-1 -> 0.097791798 | N8: 25 m³ | O8: =O7+5*E8 -> 58.340259 | P8: =P7+5*F8 -> 58.340259 | Q8: =SUM(O8:P8) -> 116.68052 | R8: =R7+5*2.8 -> 51.95 | S8: =S7+5*2.8 -> 51.95 | T8: =R8+S8 -> 103.9 | U8: =Q8-T8 -> 12.780517 | V8: =U8/T8 -> 0.12300787 | AA8: 1.4 | AB8: Fornecimento de água em caminhão 6m³ até 15 km - Categoria Comercial / Industrial | AC8: R$/m³ | AD8: =AG8 -> 96.87 | AF8: 88.28 | AG8: =TRUNC(AF8*'FCD PROJETO'!$S$19,2) -> 96.87
C9: 30.01 | D9: 50 | E9: =Histograma!F9 -> 4.176 | F9: =Histograma!G9 -> 4.176 | I9: 3.804 | J9: 3.804 | K9: =E9/I9-1 -> 0.097791798 | N9: 30 m³ | O9: =O8+5*E8 -> 75.740259 | P9: =P8+5*F8 -> 75.740259 | Q9: =SUM(O9:P9) -> 151.48052 | R9: =R8+5*2.8 -> 65.95 | S9: =S8+5*2.8 -> 65.95 | T9: =R9+S9 -> 131.9 | U9: =Q9-T9 -> 19.580517 | V9: =U9/T9 -> 0.14844971 | AA9: 1.5 | AB9: Fornecimento de água em caminhão 6m³ até 15 km - Categoria Pública | AC9: R$/m³ | AD9: =AG9 -> 94.61 | AF9: 86.22 | AG9: =TRUNC(AF9*'FCD PROJETO'!$S$19,2) -> 94.61
C10: 50.01 | D10: 100 | E10: =Histograma!F10 -> 4.872 | F10: =Histograma!G10 -> 4.872 | I10: 4.438 | J10: 4.438 | K10: =E10/I10-1 -> 0.097791798 | N10: 40 m³ | O10: =O9+10*E9 -> 117.50026 | P10: =P9+10*F9 -> 117.50026 | Q10: =SUM(O10:P10) -> 235.00052 | R10: =R9+10*3.5 -> 100.95 | S10: =S9+10*3.5 -> 100.95 | T10: =R10+S10 -> 201.9 | U10: =Q10-T10 -> 33.100517 | V10: =U10/T10 -> 0.16394511 | AA10: 1.6 | AB10: Fornecimento de água tratada em caminhão 6m³ até 15 km - para abastecimento de piscina | AC10: R$/m³ | AD10: =AG10 -> 84.28 | AF10: 76.8 | AG10: =TRUNC(AF10*'FCD PROJETO'!$S$19,2) -> 84.28
C11: > 100 | D11: 0 | E11: =Histograma!F11 -> 8.352 | F11: =Histograma!G11 -> 8.352 | I11: 7.608 | J11: 7.608 | K11: =E11/I11-1 -> 0.097791798 | N11: 50 m³ | O11: =O10+10*E10 -> 166.22026 | P11: =P10+10*F10 -> 166.22026 | Q11: =SUM(O11:P11) -> 332.44052 | R11: =R10+10*3.5 -> 135.95 | S11: =S10+10*3.5 -> 135.95 | T11: =R11+S11 -> 271.9 | U11: =Q11-T11 -> 60.540517 | V11: =U11/T11 -> 0.22265729 | AA11: 1.7 | AB11: Fornecimento de água de reuso para irrigação em caminhão 6 m³ até 15 km | AC11: R$/m³ | AD11: =AG11 -> 64.28 | AF11: 58.58 | AG11: =TRUNC(AF11*'FCD PROJETO'!$S$19,2) -> 64.28
B12: Residencial | C12: TBO | D12: TBO | E12: =Histograma!F28 -> 17.4 | F12: =Histograma!G28 -> 17.4 | I12: 15.85 | J12: 15.85 | K12: =E12/I12-1 -> 0.097791798 | N12: Conta | O12: Água | P12: Esgoto | Q12: Total | R12: Água | S12: Esgoto | T12: Total | U12: Diferença | V12: % | AA12: 1.8 | AB12: Fornecimento de água de reuso para irrigação em veículo do interessado | AC12: R$/m³ | AD12: =AG12 -> 8.69 | AF12: 7.92 | AG12: =TRUNC(AF12*'FCD PROJETO'!$S$19,2) -> 8.69
C13: 0.01 | D13: 10 | E13: =Histograma!F29 -> 4.7328 | F13: =Histograma!G29 -> 4.7328 | I13: 4.3112 | J13: 4.3112 | K13: =E13/I13-1 -> 0.097791798 | M13: Residencial | N13: 10 m³ | O13: =E12+10*(E13) -> 64.728 | P13: =F12+10*(F13) -> 64.728 | Q13: =SUM(O13:P13) -> 129.456 | R13: =15.99+10*2.85 -> 44.49 | S13: =15.99+10*2.85 -> 44.49 | T13: =R13+S13 -> 88.98 | U13: =Q13-T13 -> 40.476 | V13: =U13/T13 -> 0.45488874 | AA13: 1.9 | AB13: Km rodado adicional acima de 15 Km | AC13: R$/Km | AD13: =AG13 -> 18.75 | AF13: 17.09 | AG13: =TRUNC(AF13*'FCD PROJETO'!$S$19,2) -> 18.75
C14: 10.01 | D14: 15 | E14: =Histograma!F30 -> 6.62592 | F14: =Histograma!G30 -> 6.62592 | I14: 6.03568 | J14: 6.03568 | K14: =E14/I14-1 -> 0.097791798 | N14: 15 m³ | O14: =O13+5*E14 -> 97.8576 | P14: =P13+5*F14 -> 97.8576 | Q14: =SUM(O14:P14) -> 195.7152 | R14: =R13+5*5.05 -> 69.74 | S14: =S13+5*5.05 -> 69.74 | T14: =R14+S14 -> 139.48 | U14: =Q14-T14 -> 56.2352 | V14: =U14/T14 -> 0.40317752 | AA14: 1.10 | AB14: Fornecimento de água tratada em veículo do interessado | AC14: R$/m³ | AD14: =AG14 -> 34.33 | AF14: 31.29 | AG14: =TRUNC(AF14*'FCD PROJETO'!$S$19,2) -> 34.33
C15: 15.01 | D15: 20 | E15: =Histograma!F31 -> 8.51904 | F15: =Histograma!G31 -> 8.51904 | I15: 7.76016 | J15: 7.76016 | K15: =E15/I15-1 -> 0.097791798 | N15: 20 m³ | O15: =O14+5*E15 -> 140.4528 | P15: =P14+5*F15 -> 140.4528 | Q15: =SUM(O15:P15) -> 280.9056 | R15: =R14+5*5.05 -> 94.99 | S15: =S14+5*5.05 -> 94.99 | T15: =R15+S15 -> 189.98 | U15: =Q15-T15 -> 90.9256 | V15: =U15/T15 -> 0.47860617 | AA15: 1.11 | AB15: Despejo avulso de efluente domiciliar em estação de tratamento de esgoto | AC15: R$/m³ | AD15: =AG15 -> 15.48 | AF15: 14.11 | AG15: =TRUNC(AF15*'FCD PROJETO'!$S$19,2) -> 15.48
C16: 20.01 | D16: 30 | E16: =Histograma!F32 -> 10.41216 | F16: =Histograma!G32 -> 10.41216 | I16: 9.48464 | J16: 9.48464 | K16: =E16/I16-1 -> 0.097791798 | N16: 25 m³ | O16: =O15+5*E16 -> 192.5136 | P16: =P15+5*F16 -> 192.5136 | Q16: =SUM(O16:P16) -> 385.0272 | R16: =R15+5*7.01 -> 130.04 | S16: =S15+5*7.01 -> 130.04 | T16: =R16+S16 -> 260.08 | U16: =Q16-T16 -> 124.9472 | V16: =U16/T16 -> 0.48041833 | AA16: 2 | AB16: Fornecimento temporário de água e tratamento de esgoto domiciliar avulso para usuários não cadastrados. | AG16: =TRUNC(AF16*'FCD PROJETO'!$S$19,2) -> 0
C17: 30.01 | D17: 50 | E17: =Histograma!F33 -> 13.25184 | F17: =Histograma!G33 -> 13.25184 | I17: 12.07136 | J17: 12.07136 | K17: =E17/I17-1 -> 0.097791798 | N17: 30 m³ | O17: =O16+5*E16 -> 244.5744 | P17: =P16+5*F16 -> 244.5744 | Q17: =SUM(O17:P17) -> 489.1488 | R17: =R16+5*7.01 -> 165.09 | S17: =S16+5*7.01 -> 165.09 | T17: =R17+S17 -> 330.18 | U17: =Q17-T17 -> 158.9688 | V17: =U17/T17 -> 0.48146102 | AA17: 2.1 | AB17: Fornecimento de água tratada em caminhão 6m³ até 15 km | AC17: R$/m³ | AD17: =AG17 -> 116.25 | AF17: 105.94 | AG17: =TRUNC(AF17*'FCD PROJETO'!$S$19,2) -> 116.25
C18: 50.01 | D18: 100 | E18: =Histograma!F34 -> 17.03808 | F18: =Histograma!G34 -> 17.03808 | I18: 15.52032 | J18: 15.52032 | K18: =E18/I18-1 -> 0.097791798 | N18: 40 m³ | O18: =O17+10*E17 -> 377.0928 | P18: =P17+10*F17 -> 377.0928 | Q18: =SUM(O18:P18) -> 754.1856 | R18: =R17+10*8.76 -> 252.69 | S18: =S17+10*8.76 -> 252.69 | T18: =R18+S18 -> 505.38 | U18: =Q18-T18 -> 248.8056 | V18: =U18/T18 -> 0.4923139 | AA18: 2.2 | AB18: Fornecimento de água de reuso para irrigação em caminhão 6 m³ até 15 km | AC18: R$/m³ | AD18: =AG18 -> 77.14 | AF18: 70.3 | AG18: =TRUNC(AF18*'FCD PROJETO'!$S$19,2) -> 77.14
C19: > 100 | D19: 0 | E19: =Histograma!F35 -> 22.71744 | F19: =Histograma!G35 -> 22.71744 | I19: 20.69376 | J19: 20.69376 | K19: =E19/I19-1 -> 0.097791798 | N19: 50 m³ | O19: =O18+10*E18 -> 547.4736 | P19: =P18+10*F18 -> 547.4736 | Q19: =SUM(O19:P19) -> 1094.9472 | R19: =R18+10*8.76 -> 340.29 | S19: =S18+10*8.76 -> 340.29 | T19: =R19+S19 -> 680.58 | U19: =Q19-T19 -> 414.3672 | V19: =U19/T19 -> 0.60884422 | AA19: 2.3 | AB19: Fornecimento de água de reuso para irrigação em veículo do interessado | AC19: R$/m³ | AD19: =AG19 -> 10.42 | AF19: 9.5 | AG19: =TRUNC(AF19*'FCD PROJETO'!$S$19,2) -> 10.42
B20: Comercial | C20: TBO | D20: TBO | E20: =Histograma!F52 -> 27.84 | F20: =Histograma!G52 -> 27.84 | I20: 25.36 | J20: 25.36 | K20: =E20/I20-1 -> 0.097791798 | N20: Conta | O20: Água | P20: Esgoto | Q20: Total | R20: Água | S20: Esgoto | T20: Total | U20: Diferença | V20: % | AA20: 2.4 | AB20: Km rodado adicional acima de 15 Km | AC20: R$/Km | AD20: =AG20 -> 18.75 | AF20: 17.09 | AG20: =TRUNC(AF20*'FCD PROJETO'!$S$19,2) -> 18.75
