Workbook

Sheet Resultados
B1: Resultados projetados
A3: Preenchimento | B3: Tarifa média de água calculada | C3: R$/m³ | D3: =Histograma!Y89 -> #DIV/0! | F3: Tarifa média de esgoto calculada | G3: R$/m³ | H3: =Histograma!Z89 -> #DIV/0!
A4: Fórmulas
A5: NÂO ALTERAR
B6: PRINCIPAIS RESULTADOS DO PROJETO | C6: Unid. | D6: Valor | F6: PRINCIPAIS RESULTADOS PARA ACIONISTA | G6: Unid. | H6: Valor
B7: TIR do Projeto | C7: % a.a | D7: ='FCD PROJETO'!D5 -> #VALUE! | F7: TIR do Acionista | G7: % a.a | H7: ='FCD Acionista'!D3 -> #VALUE!
B8: WACC | C8: % a.a | D8: ='FCD PROJETO'!J10 -> #DIV/0! | F8: Ke (Custo de Capital Próprio = TIR)) | G8: % a.a | H8: ='FCD Acionista'!H6 -> 0
B9: VPL (taxa de desconto real = WACC) | C9: R$ | D9: ='FCD PROJETO'!D6 -> #DIV/0! | F9: VPL (taxa de desconto real = Ke) | G9: R$ | H9: ='FCD Acionista'!D4 -> #DIV/0!
B10: PAYBACK Simples | C10: anos | D10: ='FCD PROJETO'!D7 -> #N/A | F10: PAYBACK Simples | G10: anos | H10: ='FCD Acionista'!D5 -> #N/A
B11: PAYBACK Descontado | C11: anos | D11: ='FCD PROJETO'!D8 -> #N/A | F11: PAYBACK Descontado | G11: anos | H11: ='FCD Acionista'!D6 -> #DIV/0!
B12: Investimentos (CAPEX) | C12: R$ | D12: =-'FCD PROJETO'!$AO$48 -> 0 | F12: Exposição Máxima | G12: R$ | H12: =MIN('FCD PROJETO'!$F$107:$AI$107) -> #DIV/0!
B13: Valor do Empréstimo do CAPEX | C13: R$ | D13: =SUM('Financiamento '!D96:AI96) -> 0 | F13: Despesas de Licitação | G13: R$ | H13: 0
B14: Contrapartida dos empréstimos do CAPEX | C14: R$ | D14: =IF('FCD PROJETO'!J18=0,0,SUM('Financiamento '!D97:AI97)) -> 0 | F14: Ressarcimento da Modelagem | G14: R$ | H14: 0
B15: Necessidade de Capital (Equity) | C15: R$ | D15: ='FCD PROJETO'!$AO$105 -> #DIV/0! | F15: Pagamento de Outorga Mínima | G15: R$ | H15: 0
B16: Faturamento Total (Valor do Contrato) | C16: R$ | D16: ='FCD PROJETO'!$AO$81 -> #DIV/0! | F16: Capital social a ser integralizado no contrato inicial | G16: R$ | H16: =-0.07*'FCD PROJETO'!AO48 -> 0

Sheet DADOS PARA CONTRATO
B1: Condições para Contrato
B3: Data Base do EVTE Dezembro/2025 | F3: Valor total de referência do Contrato Dez 2025= | H3: ='FCD PROJETO'!D10 -> #DIV/0!
B5: Obrigações | C5: Eventos | D5: Comprovação / Pagamento | E5: Aliquota | F5: Base de Cálculo | G5: Unid. | H5: Valor Dez 2025
B7: Garantia de proposta | C7: Proposta | D7: Até o 3° dia útil antes da data de entrega da proposta | E7: 0.01 | F7: Valor do Contrato de Referência | G7: R$ | H7: =H3*E7 -> #DIV/0! | J7: =H7*0.5% -> #DIV/0!
B8: Patrrimónio Líquido | C8: Proposta | D8: Data do encerramento do último exercicio social | E8: 0.016 | F8: Valor do Contrato de Referência | G8: R$ | H8: =H3*E8 -> #DIV/0!
B9: Valor mínimo do atestado de captação de recursos | C9: Proposta | D9: Até 15 anos anterior a data da entrega da proposta | E9: 0.15 | F9: Valor do Capex do EVTE | G9: R$ | H9: =-'FCD PROJETO'!AO48*E9 -> 0
B10: Valor mínimo para o somatório de atestados | C10: Proposta | D10: Até 15 anos anterior a data da entrega da proposta | E10: 0.2 | F10: Valor do Atestado | G10: R$ | H10: =E10*H9 -> 0
B11: ='[1]FCFF - Projeto'!G13 -> Pagamento de Indenizações e Bens Reversíveis | C11: Homologação e Adjudicação da Licitação | D11: Até o 5° dia após a Homologação e Adjudicação | E11: - | F11: Valor determinado no EVTE | G11: R$
B12: ='[1]FCFF - Projeto'!G14 -> Indenizações e Ressarecimentos de Modelagem | C12: Homologação e Adjudicação da Licitação | D12: Até o 5° dia após a Homologação e Adjudicação | E12: - | F12: Valor determinado no EVTE | G12: R$ | H12: 3711718.3
B13: ='[1]FCFE - Acionista'!F14 -> Despesas de Licitação | C13: Homologação e Adjudicação da Licitação | D13: Até o 5° dia após a Homologação e Adjudicação | E13: - | F13: Valor determinado no EVTE | G13: R$ | H13: 752662.36 | I13: B3
B14: Capital Social a ser integralizado no contrato inicial | C14: Assinatura do Contarto | D14: Até o 5° dia após a Homologação e Adjudicação | E14: - | F14: Valor determinado no EVTE | G14: R$ | H14: =Resultados!H16 -> 0
B15: ='[1]FCFF - Projeto'!G12 -> Pagamento de Outorga | C15: Assinatura do Contarto | D15: Até o 5° dia após a Homologação e Adjudicação | E15: - | F15: Valor determinado no EVTE | G15: R$
B16: Verificador/Certificador Independente | C16: Apoós assinatura do Contrato | D16: Anual | E16: - | F16: Valor determinado no EVTE | G16: R$ | H16: =-'FCD Acionista'!C27/35 -> #DIV/0!
B18: Mutações do Capital Social | C18: Periodo de vigência | D18: Integralização | E18: Aliquota | F18: Base de Cálculo | G18: Unid. | H18: =H5 -> Valor Dez 2025
B20: Capital Social Mínimo | C20: do 1 ao 8° ano do contrato | D20: Até 60 dias após a Homologação e Adjuducação | E20: - | F20: Valor determinado no EVTE | G20: R$ | H20: =Resultados!H16 -> 0
B21: Capital Social Mínimo | C21: no 8° ano do contrato | D21: Até o 5° dia util do mês de janeiro do 8° ano do contrato | E21: - | F21: Valor determinado no EVTE | G21: R$ | H21: =H20 -> 0
B22: Capital Social Mínimo | C22: no 9° ano do contrato | D22: Até o 5° dia util do mês de janeiro do 9° ano do contrato | E22: - | F22: Valor determinado no EVTE | G22: R$ | H22: =H21 -> 0
B23: Capital Social Mínimo | C23: no 10° ano do contrato | D23: Até o 5° dia util do mês de janeiro do 10° ano do contrato | E23: - | F23: Valor determinado no EVTE | G23: R$ | H23: =H22 -> 0
B24: Capital Social Mínimo | C24: no 11° ano do contrato | D24: Até o 5° dia util do mês de janeiro do 11° ano do contrato | E24: - | F24: Valor determinado no EVTE | G24: R$ | H24: =H23 -> 0
B25: Capital Social Mínimo | C25: no 12° ano do contrato | D25: Até o 5° dia util do mês de janeiro do 12° ano do contrato | E25: - | F25: Valor determinado no EVTE | G25: R$ | H25: =H24 -> 0
B26: Capital Social Mínimo | C26: no 13° ano do contrato | D26: Até o 5° dia util do mês de janeiro do 13° ano do contrato | E26: - | F26: Valor determinado no EVTE | G26: R$ | H26: =H25 -> 0
B27: Capital Social Mínimo | C27: no 14° ano do contrato | D27: Até o 5° dia util do mês de janeiro do 14° ano do contrato | E27: - | F27: Valor determinado no EVTE | G27: R$ | H27: =H26 -> 0
B28: Capital Social Mínimo | C28: no 15° ano do contrato | D28: Até o 5° dia util do mês de janeiro do 15° ano do contrato | E28: - | F28: Valor determinado no EVTE | G28: R$ | H28: =H27 -> 0
B29: Capital Social Mínimo | C29: do 16° ao 35° ano do contrato | D29: Até o 5° dia util do mês de janeiro do 16° ano do contrato | E29: - | F29: Valor determinado no EVTE | G29: R$ | H29: =H28 -> 0
B31: Seguros e Garantias Contratuais | C31: Periodo de vigência | D31: Pagamento | E31: Aliquota | F31: Base de Cálculo | G31: Unid. | H31: =H18 -> Valor Dez 2025
B33: Seguro de Risco de Engenharia | C33: Durante o Investimento | D33: Até o 5° dia util antes da assinatura do contrato | E33: ='[1]Seguros e Garantias'!D5 -> 1 | F33: Valor do Capex do EVTE | G33: R$ | H33: =-'FCD PROJETO'!AO48 -> 0
B34: Seguro de Responsabilidade Civil - Obras | C34: Durante o Investimento | D34: Até o 5° dia util antes da assinatura do contrato | E34: ='[1]Seguros e Garantias'!D6 -> 0.07 | F34: Valor do Capex do EVTE | G34: R$ | H34: =-'FCD PROJETO'!AO48*'DADOS PARA CONTRATO'!E34 -> 0
B35: Seguro de Responsabilidade Civil - Operação (Durante o Contrato) | C35: Durante o Contrato | D35: Até o 5° dia util antes da assinatura do contrato | E35: ='[1]Seguros e Garantias'!D7 -> 0.16 | F35: Valor do Opex do EVTE | G35: R$ | H35: =-'FCD PROJETO'!AO48*E35 -> 0
B36: Seguro Riscos Gerais - "All Risks" (Durante o Contrato) | C36: Durante o Contrato | D36: Até o 5° dia util antes da assinatura do contrato | E36: ='[1]Seguros e Garantias'!D8 -> 0.01 | F36: Valor do Contrato de Referência | G36: R$ | H36: =E36*H3 -> #DIV/0!
B37: Garantia de Execução do Contato | C37: do 1° ao 10° ano | D37: Até o 5° dia util antes da assinatura do contrato | E37: ='[1]Seguros e Garantias'!D9 -> 0.05 | F37: Valor do Contrato de Referência | G37: R$ | H37: =E37*H3 -> #DIV/0!
B38: Garantia de Execução do Contato | C38: do 10° ao 25° ano | D38: Até o 5° dia utíl antes do vencimento da apólice anterior | E38: ='[1]Seguros e Garantias'!D10 -> 0.02 | F38: Valor do Contrato de Referência | G38: R$ | H38: =E38*H3 -> #DIV/0!
B39: Garantia de Execução do Contato | C39: do 25° ao 35° ano | D39: Até o 5° dia utíl antes do vencimento da apólice anterior | E39: ='[1]Seguros e Garantias'!D11 -> 0.03 | F39: Valor do Contrato de Referência | G39: R$ | H39: =E39*H3 -> #DIV/0!

Sheet FCD PROJETO
A1: Preenchimento
A2: Fórmulas
A3: NÂO ALTERAR | B3: RESULTADO DO FLUXO DE CAIXA PROJETO- FCDP | G3: Cálculo das Taxas de Juros | K3: Para Alteração da Matriz Tarifária
B4: Taxa de desconto | D4: =H6 -> #DIV/0! | G4: SELIC no Ano Base | H4: ='Dados ME'!D8 -> 0 | I4: Inflação Ano Base | J4: ='Dados ME'!D6 -> 0
B5: TIR Calculada do projeto | D5: =IRR(F107:AN107) -> #VALUE! | G5: Taxa Juros Básica | H5: =(1+H4)/(1+J4)-1 -> 0 | I5: Rf | J5: ='Dados ME'!D12 -> 0
B6: VPL Calculado do projeto | D6: =ROUND(NPV(D4,F107:AN107),2) -> #DIV/0! | G6: Taxa de desconto | H6: =J10 -> #DIV/0! | I6: Beta Alavancado
B7: PAYBACK Simples | D7: =MATCH(0,F108:AN108,1) -> #N/A | G7: TMA | H7: =H5+J8 -> 0 | I7: Rm | J7: ='Dados ME'!D13 -> 0
B8: PAYBACK Descontado | D8: =MATCH(0,F110:AN110,1) -> #N/A | G8: ke (Capital Próprio) | H8: =H5+J6*(J7-J5)+J8 -> 0 | I8: Rc | J8: ='Dados ME'!D14 -> 0
B9: Item | D9: Valor Nominal | E9: VPL | G9: kd (Capital Terceiros) | H9: ='Financiamento '!C29+'Financiamento '!C30+'Financiamento '!C31 -> 0 | I9: TC = CSLL+IRPJ | J9: 0.34
B10: Faturamento | D10: =AO42 -> #DIV/0! | E10: =NPV(D4,F42:AN42) -> #DIV/0! | G10: WACCcalculado | J10: =(('FCD Acionista'!C53/('FCD Acionista'!C53+'FCD Acionista'!C54))*H8)+(('FCD Acionista'!C54/('FCD Acionista'!C53+'FCD Acionista'!C54))*H9*(1-J9)) -> #DIV/0!
B11: Arrecadação | D11: =AO43 -> #DIV/0! | E11: =NPV(D4,F43:AN43) -> #DIV/0!
B12: Despesas de Capital (CAPEX) | D12: =-AO48 -> 0 | E12: =-NPV(D4,F48:AN48) -> #DIV/0! | G12: Tarifa média calculada
B13: Despesas operacionais (OPEX) | D13: =-AO53 -> #DIV/0! | E13: =-NPV(D4,F53:AN53) -> #DIV/0! | G13: Tarifa média de Água calculada | J13: =Histograma!Y89 -> #DIV/0!
B14: Impostos | D14: =-AO93 -> #DIV/0! | E14: =-NPV(D4,F93:AN93) -> #DIV/0! | G14: Tarifa média de Esgoto calculada | J14: =Histograma!Y90 -> #DIV/0! | K14: Inicial Cálculo R/m³
B15: Equity | D15: =AO105 -> #DIV/0! | E15: =NPV(D4,F105:AN105) -> #DIV/0! | G15: Relação Tarifa de Esgoto / Tarifa de Água | J15: =Histograma!G85 -> 1
B16: EBITDA | D16: =(D11-D13)+AO95 -> #DIV/0! | E16: =(E11-E13)+NPV(D4,F95:AN95) -> #DIV/0! | G16: Administração Central (% da Arrecadação do Projeto) | K16: Valor Básico Inicial para a construção da matriz tarifária
B17: Margem EBITDA | D17: =D16/D11 -> #DIV/0! | E17: =E16/E11 -> #DIV/0! | G17: Taxa de Regulação
B18: EBIT | D18: =D16+AO88 -> #DIV/0! | E18: =E16+NPV(D4,F88:AN88) -> #DIV/0! | G18: % do CAPEX Financiado por terceiros
B19: Margem EBIT | D19: =D18/D11 -> #DIV/0! | E19: =E18/E11 -> #DIV/0!
G20: VPL Projeto = | H20: =D6 -> #DIV/0! | I20: VPL Acionista = | J20: ='FCD Acionista'!D4 -> #DIV/0!
B22: FLUXO DE CAIXA DO PROJETO
B23: =Cronograma!B1 -> ANO | D23: Base | E23: 0 | F23: =Cronograma!C1 -> 1 | G23: =Cronograma!D1 -> 2 | H23: =Cronograma!E1 -> 3 | I23: =Cronograma!F1 -> 4 | J23: =Cronograma!G1 -> 5 | K23: =Cronograma!H1 -> 6 | L23: =Cronograma!I1 -> 7 | M23: =Cronograma!J1 -> 8 | ... AN23: =Cronograma!AK1 -> 35
D24: 2025 | E24: 2026 | F24: =E24+1 -> 2027 | G24: =F24+1 -> 2028 | H24: =G24+1 -> 2029 | I24: =H24+1 -> 2030 | J24: =I24+1 -> 2031 | K24: =J24+1 -> 2032 | L24: =K24+1 -> 2033 | M24: =L24+1 -> 2034 | ... AN24: =AM24+1 -> 2061 | AO24: ACUMULADO
B25: 1 - RECEITAS
B27: 1.1 - Água
B28: 1.1.1 - Receita faturada Água | F28: =$J$13*'Base Física'!F63 -> #DIV/0! | G28: =$J$13*'Base Física'!G63 -> #DIV/0! | H28: =$J$13*'Base Física'!H63 -> #DIV/0! | I28: =$J$13*'Base Física'!I63 -> #DIV/0! | J28: =$J$13*'Base Física'!J63 -> #DIV/0! | K28: =$J$13*'Base Física'!K63 -> #DIV/0! | L28: =$J$13*'Base Física'!L63 -> #DIV/0! | M28: =$J$13*'Base Física'!M63 -> #DIV/0! | ... AN28: =$J$13*'Base Física'!AN63 -> #DIV/0! | AO28: =+SUM(F28:AN28) -> #DIV/0!
B29: 1.1.2 - Receitas faturada com serviços acessórios de Água | F29: =F28*$C29 -> #DIV/0! | G29: =G28*$C29 -> #DIV/0! | H29: =H28*$C29 -> #DIV/0! | I29: =I28*$C29 -> #DIV/0! | J29: =J28*$C29 -> #DIV/0! | K29: =K28*$C29 -> #DIV/0! | L29: =L28*$C29 -> #DIV/0! | M29: =M28*$C29 -> #DIV/0! | ... AN29: =AN28*$C29 -> #DIV/0! | AO29: =+SUM(F29:AN29) -> #DIV/0!
B30: 1.1.3 - Receita recebida Água | F30: =(F28+F29)*(1-'Base Física'!F44) -> #DIV/0! | G30: =(G28+G29)*(1-'Base Física'!G44) -> #DIV/0! | H30: =(H28+H29)*(1-'Base Física'!H44) -> #DIV/0! | I30: =(I28+I29)*(1-'Base Física'!I44) -> #DIV/0! | J30: =(J28+J29)*(1-'Base Física'!J44) -> #DIV/0! | K30: =(K28+K29)*(1-'Base Física'!K44) -> #DIV/0! | L30: =(L28+L29)*(1-'Base Física'!L44) -> #DIV/0! | M30: =(M28+M29)*(1-'Base Física'!M44) -> #DIV/0! | ... AN30: =(AN28+AN29)*(1-'Base Física'!AN44) -> #DIV/0! | AO30: =+SUM(F30:AN30) -> #DIV/0!
B31: 1.1.4 - Recuperação de receita de Água no ano | F31: =IF(E31<=0,(F28+F29-F30)*$C31,(E28+E29-E30)*(1-$C$31)+(F28+F29-F30)*$C31) -> #DIV/0! | G31: =IF(F31<=0,(G28+G29-G30)*$C31,(F28+F29-F30)*(1-$C$31)+(G28+G29-G30)*$C31) -> #DIV/0! | H31: =IF(G31<=0,(H28+H29-H30)*$C31,(G28+G29-G30)*(1-$C$31)+(H28+H29-H30)*$C31) -> #DIV/0! | I31: =IF(H31<=0,(I28+I29-I30)*$C31,(H28+H29-H30)*(1-$C$31)+(I28+I29-I30)*$C31) -> #DIV/0! | J31: =IF(I31<=0,(J28+J29-J30)*$C31,(I28+I29-I30)*(1-$C$31)+(J28+J29-J30)*$C31) -> #DIV/0! | K31: =IF(J31<=0,(K28+K29-K30)*$C31,(J28+J29-J30)*(1-$C$31)+(K28+K29-K30)*$C31) -> #DIV/0! | L31: =IF(K31<=0,(L28+L29-L30)*$C31,(K28+K29-K30)*(1-$C$31)+(L28+L29-L30)*$C31) -> #DIV/0! | M31: =IF(L31<=0,(M28+M29-M30)*$C31,(L28+L29-L30)*(1-$C$31)+(M28+M29-M30)*$C31) -> #DIV/0! | ... AN31: =IF(AM31<=0,(AN28+AN29-AN30)*$C31,(AM28+AM29-AM30)*(1-$C$31)+(AN28+AN29-AN30)*$C31) -> #DIV/0! | AO31: =+SUM(F31:AN31) -> #DIV/0!
B32: 1.1.5 - Perda de arrecadação efetiva | F32: =F31 -(F28+F29-F30) -> #DIV/0! | G32: =G31 -(G28+G29-G30) -> #DIV/0! | H32: =H31 -(H28+H29-H30) -> #DIV/0! | I32: =I31 -(I28+I29-I30) -> #DIV/0! | J32: =J31 -(J28+J29-J30) -> #DIV/0! | K32: =K31 -(K28+K29-K30) -> #DIV/0! | L32: =L31 -(L28+L29-L30) -> #DIV/0! | M32: =M31 -(M28+M29-M30) -> #DIV/0! | ... AN32: =AN31 -(AN28+AN29-AN30) -> #DIV/0! | AO32: =+SUM(F32:AN32) -> #DIV/0!
B34: 1.2 - Esgoto
B35: 1.2.1 - Receita faturada Esgoto | F35: =$J$14*'Base Física'!F65 -> #DIV/0! | G35: =$J$14*'Base Física'!G65 -> #DIV/0! | H35: =$J$14*'Base Física'!H65 -> #DIV/0! | I35: =$J$14*'Base Física'!I65 -> #DIV/0! | J35: =$J$14*'Base Física'!J65 -> #DIV/0! | K35: =$J$14*'Base Física'!K65 -> #DIV/0! | L35: =$J$14*'Base Física'!L65 -> #DIV/0! | M35: =$J$14*'Base Física'!M65 -> #DIV/0! | ... AN35: =$J$14*'Base Física'!AN65 -> #DIV/0! | AO35: =+SUM(F35:AN35) -> #DIV/0!
B36: 1.2.2 - Receitas faturada com serviços acessórios de Esgoto | F36: =F35*$C36 -> #DIV/0! | G36: =G35*$C36 -> #DIV/0! | H36: =H35*$C36 -> #DIV/0! | I36: =I35*$C36 -> #DIV/0! | J36: =J35*$C36 -> #DIV/0! | K36: =K35*$C36 -> #DIV/0! | L36: =L35*$C36 -> #DIV/0! | M36: =M35*$C36 -> #DIV/0! | ... AN36: =AN35*$C36 -> #DIV/0! | AO36: =+SUM(F36:AN36) -> #DIV/0!
B37: 1.2.3 - Receita recebida | F37: =(F35+F36)*(1-'Base Física'!F44) -> #DIV/0! | G37: =(G35+G36)*(1-'Base Física'!G44) -> #DIV/0! | H37: =(H35+H36)*(1-'Base Física'!H44) -> #DIV/0! | I37: =(I35+I36)*(1-'Base Física'!I44) -> #DIV/0! | J37: =(J35+J36)*(1-'Base Física'!J44) -> #DIV/0! | K37: =(K35+K36)*(1-'Base Física'!K44) -> #DIV/0! | L37: =(L35+L36)*(1-'Base Física'!L44) -> #DIV/0! | M37: =(M35+M36)*(1-'Base Física'!M44) -> #DIV/0! | ... AN37: =(AN35+AN36)*(1-'Base Física'!AN44) -> #DIV/0! | AO37: =+SUM(F37:AN37) -> #DIV/0!
B38: 1.2.4 - Recuperação de receita de esgoto | F38: =IF(E38<=0,(F35+F36-F37)*$C38,(E35+E36-E37)*(1-$C$31)+(F35+F36-F37)*$C38) -> #DIV/0! | G38: =IF(F38<=0,(G35+G36-G37)*$C38,(F35+F36-F37)*(1-$C$31)+(G35+G36-G37)*$C38) -> #DIV/0! | H38: =IF(G38<=0,(H35+H36-H37)*$C38,(G35+G36-G37)*(1-$C$31)+(H35+H36-H37)*$C38) -> #DIV/0! | I38: =IF(H38<=0,(I35+I36-I37)*$C38,(H35+H36-H37)*(1-$C$31)+(I35+I36-I37)*$C38) -> #DIV/0! | J38: =IF(I38<=0,(J35+J36-J37)*$C38,(I35+I36-I37)*(1-$C$31)+(J35+J36-J37)*$C38) -> #DIV/0! | K38: =IF(J38<=0,(K35+K36-K37)*$C38,(J35+J36-J37)*(1-$C$31)+(K35+K36-K37)*$C38) -> #DIV/0! | L38: =IF(K38<=0,(L35+L36-L37)*$C38,(K35+K36-K37)*(1-$C$31)+(L35+L36-L37)*$C38) -> #DIV/0! | M38: =IF(L38<=0,(M35+M36-M37)*$C38,(L35+L36-L37)*(1-$C$31)+(M35+M36-M37)*$C38) -> #DIV/0! | ... AN38: =IF(AM38<=0,(AN35+AN36-AN37)*$C38,(AM35+AM36-AM37)*(1-$C$31)+(AN35+AN36-AN37)*$C38) -> #DIV/0! | AO38: =+SUM(F38:AN38) -> #DIV/0!
B39: 1.2.5 - Perda de arrecadação efetiva | F39: =F38 -(F35+F36-F37) -> #DIV/0! | G39: =G38 -(G35+G36-G37) -> #DIV/0! | H39: =H38 -(H35+H36-H37) -> #DIV/0! | I39: =I38 -(I35+I36-I37) -> #DIV/0! | J39: =J38 -(J35+J36-J37) -> #DIV/0! | K39: =K38 -(K35+K36-K37) -> #DIV/0! | L39: =L38 -(L35+L36-L37) -> #DIV/0! | M39: =M38 -(M35+M36-M37) -> #DIV/0! | ... AN39: =AN38 -(AN35+AN36-AN37) -> #DIV/0! | AO39: =+SUM(F39:AN39) -> #DIV/0!
B42: 1.3 - Faturamento Bruto anual | F42: =F28+F29+F35+F36 -> #DIV/0! | G42: =G28+G29+G35+G36 -> #DIV/0! | H42: =H28+H29+H35+H36 -> #DIV/0! | I42: =I28+I29+I35+I36 -> #DIV/0! | J42: =J28+J29+J35+J36 -> #DIV/0! | K42: =K28+K29+K35+K36 -> #DIV/0! | L42: =L28+L29+L35+L36 -> #DIV/0! | M42: =M28+M29+M35+M36 -> #DIV/0! | ... AN42: =AN28+AN29+AN35+AN36 -> #DIV/0! | AO42: =+SUM(F42:AN42) -> #DIV/0!
B43: 1.4 - Arrecadação Bruta anual | F43: =F30+F31+F37+F38 -> #DIV/0! | G43: =G30+G31+G37+G38 -> #DIV/0! | H43: =H30+H31+H37+H38 -> #DIV/0! | I43: =I30+I31+I37+I38 -> #DIV/0! | J43: =J30+J31+J37+J38 -> #DIV/0! | K43: =K30+K31+K37+K38 -> #DIV/0! | L43: =L30+L31+L37+L38 -> #DIV/0! | M43: =M30+M31+M37+M38 -> #DIV/0! | ... AN43: =AN30+AN31+AN37+AN38 -> #DIV/0! | AO43: =+SUM(F43:AN43) -> #DIV/0!
B44: 1.5 - Perda de Receita | F44: =F43-(F28+F29+F35+F36) -> #DIV/0! | G44: =G43-(G28+G29+G35+G36) -> #DIV/0! | H44: =H43-(H28+H29+H35+H36) -> #DIV/0! | I44: =I43-(I28+I29+I35+I36) -> #DIV/0! | J44: =J43-(J28+J29+J35+J36) -> #DIV/0! | K44: =K43-(K28+K29+K35+K36) -> #DIV/0! | L44: =L43-(L28+L29+L35+L36) -> #DIV/0! | M44: =M43-(M28+M29+M35+M36) -> #DIV/0! | ... AN44: =AN43-(AN28+AN29+AN35+AN36) -> #DIV/0! | AO44: =+SUM(F44:AN44) -> #DIV/0!
B46: 2 - DESPESAS
...

Sheet DRE PROJETO
A1: Preenchimento
A2: Fórmulas | B2: DRE - Demonstração de Resultado do Exercício (R$) | C2: ='FCD Acionista'!D20 -> Base | D2: ='FCD Acionista'!E20 -> 0 | E2: ='FCD Acionista'!F20 -> 1 | F2: ='FCD Acionista'!G20 -> 2 | G2: ='FCD Acionista'!H20 -> 3 | H2: ='FCD Acionista'!I20 -> 4 | I2: ='FCD Acionista'!J20 -> 5 | J2: ='FCD Acionista'!K20 -> 6 | ... AM2: ='FCD Acionista'!AN20 -> 35 | AN2: ACUMULADO
C3: ='FCD Acionista'!D21 -> 2025 | D3: ='FCD Acionista'!E21 -> 2026 | E3: ='FCD Acionista'!F21 -> 2027 | F3: ='FCD Acionista'!G21 -> 2028 | G3: ='FCD Acionista'!H21 -> 2029 | H3: ='FCD Acionista'!I21 -> 2030 | I3: ='FCD Acionista'!J21 -> 2031 | J3: ='FCD Acionista'!K21 -> 2032 | ... AM3: ='FCD Acionista'!AN21 -> 2061
B4: Receita Operacional Bruta | E4: =SUM(E5:E7) -> #DIV/0! | F4: =SUM(F5:F7) -> #DIV/0! | G4: =SUM(G5:G7) -> #DIV/0! | H4: =SUM(H5:H7) -> #DIV/0! | I4: =SUM(I5:I7) -> #DIV/0! | J4: =SUM(J5:J7) -> #DIV/0! | K4: =SUM(K5:K7) -> #DIV/0! | L4: =SUM(L5:L7) -> #DIV/0! | ... AM4: =SUM(AM5:AM7) -> #DIV/0! | AN4: =SUM(E4:AM4) -> #DIV/0!
B5: Água | E5: =('FCD PROJETO'!F30+'FCD PROJETO'!F31) -> #DIV/0! | F5: =('FCD PROJETO'!G30+'FCD PROJETO'!G31) -> #DIV/0! | G5: =('FCD PROJETO'!H30+'FCD PROJETO'!H31) -> #DIV/0! | H5: =('FCD PROJETO'!I30+'FCD PROJETO'!I31) -> #DIV/0! | I5: =('FCD PROJETO'!J30+'FCD PROJETO'!J31) -> #DIV/0! | J5: =('FCD PROJETO'!K30+'FCD PROJETO'!K31) -> #DIV/0! | K5: =('FCD PROJETO'!L30+'FCD PROJETO'!L31) -> #DIV/0! | L5: =('FCD PROJETO'!M30+'FCD PROJETO'!M31) -> #DIV/0! | ... AM5: =('FCD PROJETO'!AN30+'FCD PROJETO'!AN31) -> #DIV/0! | AN5: =SUM(E5:AM5) -> #DIV/0!
B6: Esgoto | E6: =('FCD PROJETO'!F37+'FCD PROJETO'!F38) -> #DIV/0! | F6: =('FCD PROJETO'!G37+'FCD PROJETO'!G38) -> #DIV/0! | G6: =('FCD PROJETO'!H37+'FCD PROJETO'!H38) -> #DIV/0! | H6: =('FCD PROJETO'!I37+'FCD PROJETO'!I38) -> #DIV/0! | I6: =('FCD PROJETO'!J37+'FCD PROJETO'!J38) -> #DIV/0! | J6: =('FCD PROJETO'!K37+'FCD PROJETO'!K38) -> #DIV/0! | K6: =('FCD PROJETO'!L37+'FCD PROJETO'!L38) -> #DIV/0! | L6: =('FCD PROJETO'!M37+'FCD PROJETO'!M38) -> #DIV/0! | ... AM6: =('FCD PROJETO'!AN37+'FCD PROJETO'!AN38) -> #DIV/0! | AN6: =SUM(E6:AM6) -> #DIV/0!
B7: Receitas acessórias | E7: 0 | F7: 0 | G7: 0 | H7: 0 | I7: 0 | J7: 0 | K7: 0 | L7: 0 | M7: 0 | N7: 0 | O7: 0 | P7: 0 | Q7: 0 | R7: 0 | S7: 0 | T7: 0 | U7: 0 | V7: 0 | W7: 0 | X7: 0 | Y7: 0 | Z7: 0 | AA7: 0 | AB7: 0 | AC7: 0 | AD7: 0 | AE7: 0 | AF7: 0 | AG7: 0 | AH7: 0 | AI7: 0 | AJ7: 0 | AK7: 0 | AL7: 0 | AM7: 0 | AN7: =SUM(E7:AH7) -> 0
B9: Impostos Indiretos | E9: =SUM(E10:E11) -> #DIV/0! | F9: =SUM(F10:F11) -> #DIV/0! | G9: =SUM(G10:G11) -> #DIV/0! | H9: =SUM(H10:H11) -> #DIV/0! | I9: =SUM(I10:I11) -> #DIV/0! | J9: =SUM(J10:J11) -> #DIV/0! | K9: =SUM(K10:K11) -> #DIV/0! | L9: =SUM(L10:L11) -> #DIV/0! | ... AM9: =SUM(AM10:AM11) -> #DIV/0! | AN9: =SUM(E9:AM9) -> #DIV/0!
B10: PIS/COFINS | E10: =('FCD PROJETO'!F97+'FCD PROJETO'!F98) -> #DIV/0! | F10: =('FCD PROJETO'!G97+'FCD PROJETO'!G98) -> #DIV/0! | G10: =('FCD PROJETO'!H97+'FCD PROJETO'!H98) -> #DIV/0! | H10: =('FCD PROJETO'!I97+'FCD PROJETO'!I98) -> #DIV/0! | I10: =('FCD PROJETO'!J97+'FCD PROJETO'!J98) -> #DIV/0! | J10: =('FCD PROJETO'!K97+'FCD PROJETO'!K98) -> #DIV/0! | K10: =('FCD PROJETO'!L97+'FCD PROJETO'!L98) -> #DIV/0! | L10: =('FCD PROJETO'!M97+'FCD PROJETO'!M98) -> #DIV/0! | ... AM10: =('FCD PROJETO'!AN97+'FCD PROJETO'!AN98) -> #DIV/0! | AN10: =SUM(E10:AM10) -> #DIV/0!
B11: ISS | E11: ='FCD PROJETO'!F96 -> #DIV/0! | F11: ='FCD PROJETO'!G96 -> #DIV/0! | G11: ='FCD PROJETO'!H96 -> #DIV/0! | H11: ='FCD PROJETO'!I96 -> #DIV/0! | I11: ='FCD PROJETO'!J96 -> #DIV/0! | J11: ='FCD PROJETO'!K96 -> #DIV/0! | K11: ='FCD PROJETO'!L96 -> #DIV/0! | L11: ='FCD PROJETO'!M96 -> #DIV/0! | ... AM11: ='FCD PROJETO'!AN96 -> #DIV/0! | AN11: =SUM(E11:AM11) -> #DIV/0!
B13: Receita Operacional Líquida | E13: =E4+E9 -> #DIV/0! | F13: =F4+F9 -> #DIV/0! | G13: =G4+G9 -> #DIV/0! | H13: =H4+H9 -> #DIV/0! | I13: =I4+I9 -> #DIV/0! | J13: =J4+J9 -> #DIV/0! | K13: =K4+K9 -> #DIV/0! | L13: =L4+L9 -> #DIV/0! | ... AM13: =AM4+AM9 -> #DIV/0! | AN13: =SUM(E13:AM13) -> #DIV/0!
B15: Custos e Despesas | E15: =SUM(E16:E32) -> #DIV/0! | F15: =SUM(F16:F32) -> #DIV/0! | G15: =SUM(G16:G32) -> #DIV/0! | H15: =SUM(H16:H32) -> #DIV/0! | I15: =SUM(I16:I32) -> #DIV/0! | J15: =SUM(J16:J32) -> #DIV/0! | K15: =SUM(K16:K32) -> #DIV/0! | L15: =SUM(L16:L32) -> #DIV/0! | ... AM15: =SUM(AM16:AM32) -> #DIV/0! | AN15: =SUM(E15:AM15) -> #DIV/0!
B16: Pessoal e encargos sociais | E16: ='FCD PROJETO'!F55*'Mão de Obra'!D16+'FCD PROJETO'!F55*(1-'Mão de Obra'!D16) -> 0 | F16: ='FCD PROJETO'!G55*'Mão de Obra'!E16+'FCD PROJETO'!G55*(1-'Mão de Obra'!E16) -> 0 | G16: ='FCD PROJETO'!H55*'Mão de Obra'!F16+'FCD PROJETO'!H55*(1-'Mão de Obra'!F16) -> 0 | H16: ='FCD PROJETO'!I55*'Mão de Obra'!G16+'FCD PROJETO'!I55*(1-'Mão de Obra'!G16) -> 0 | I16: ='FCD PROJETO'!J55*'Mão de Obra'!H16+'FCD PROJETO'!J55*(1-'Mão de Obra'!H16) -> 0 | J16: ='FCD PROJETO'!K55*'Mão de Obra'!I16+'FCD PROJETO'!K55*(1-'Mão de Obra'!I16) -> 0 | K16: ='FCD PROJETO'!L55*'Mão de Obra'!J16+'FCD PROJETO'!L55*(1-'Mão de Obra'!J16) -> 0 | L16: ='FCD PROJETO'!M55*'Mão de Obra'!K16+'FCD PROJETO'!M55*(1-'Mão de Obra'!K16) -> 0 | ... AM16: ='FCD PROJETO'!AN55*'Mão de Obra'!AL16+'FCD PROJETO'!AN55*(1-'Mão de Obra'!AL16) -> 0 | AN16: =SUM(E16:AM16) -> 0
B17: Serviços e materiais p/ manut. de redes | E17: ='FCD PROJETO'!F56 -> 0 | F17: ='FCD PROJETO'!G56 -> 0 | G17: ='FCD PROJETO'!H56 -> 0 | H17: ='FCD PROJETO'!I56 -> 0 | I17: ='FCD PROJETO'!J56 -> 0 | J17: ='FCD PROJETO'!K56 -> 0 | K17: ='FCD PROJETO'!L56 -> 0 | L17: ='FCD PROJETO'!M56 -> 0 | ... AM17: ='FCD PROJETO'!AN56 -> 0 | AN17: =SUM(E17:AM17) -> 0
B18: Serviços e materiais p/ manut. de veículos | E18: ='FCD PROJETO'!F57 -> 0 | F18: ='FCD PROJETO'!G57 -> 0 | G18: ='FCD PROJETO'!H57 -> 0 | H18: ='FCD PROJETO'!I57 -> 0 | I18: ='FCD PROJETO'!J57 -> 0 | J18: ='FCD PROJETO'!K57 -> 0 | K18: ='FCD PROJETO'!L57 -> 0 | L18: ='FCD PROJETO'!M57 -> 0 | ... AM18: ='FCD PROJETO'!AN57 -> 0 | AN18: =SUM(E18:AM18) -> 0
B19: Serviços e manut. de equip eletromecânicos | E19: ='FCD PROJETO'!F58 -> #DIV/0! | F19: ='FCD PROJETO'!G58 -> #DIV/0! | G19: ='FCD PROJETO'!H58 -> #DIV/0! | H19: ='FCD PROJETO'!I58 -> #DIV/0! | I19: ='FCD PROJETO'!J58 -> #DIV/0! | J19: ='FCD PROJETO'!K58 -> #DIV/0! | K19: ='FCD PROJETO'!L58 -> #DIV/0! | L19: ='FCD PROJETO'!M58 -> #DIV/0! | ... AM19: ='FCD PROJETO'!AN58 -> #DIV/0! | AN19: =SUM(E19:AM19) -> #DIV/0!
B20: Reposição de ativos e equipamentos. | E20: ='FCD PROJETO'!F59 -> #DIV/0! | F20: ='FCD PROJETO'!G59 -> #DIV/0! | G20: ='FCD PROJETO'!H59 -> #DIV/0! | H20: ='FCD PROJETO'!I59 -> #DIV/0! | I20: ='FCD PROJETO'!J59 -> #DIV/0! | J20: ='FCD PROJETO'!K59 -> #DIV/0! | K20: ='FCD PROJETO'!L59 -> #DIV/0! | L20: ='FCD PROJETO'!M59 -> #DIV/0! | ... AM20: ='FCD PROJETO'!AN59 -> #DIV/0! | AN20: =SUM(E20:AM20) -> #DIV/0!
B21: Combustíveis e lubrificantes | E21: ='FCD PROJETO'!F60 -> 0 | F21: ='FCD PROJETO'!G60 -> 0 | G21: ='FCD PROJETO'!H60 -> 0 | H21: ='FCD PROJETO'!I60 -> 0 | I21: ='FCD PROJETO'!J60 -> 0 | J21: ='FCD PROJETO'!K60 -> 0 | K21: ='FCD PROJETO'!L60 -> 0 | L21: ='FCD PROJETO'!M60 -> 0 | ... AM21: ='FCD PROJETO'!AN60 -> 0 | AN21: =SUM(E21:AM21) -> 0
B22: Energia elétrica | E22: ='FCD PROJETO'!F61 -> 0 | F22: ='FCD PROJETO'!G61 -> 0 | G22: ='FCD PROJETO'!H61 -> 0 | H22: ='FCD PROJETO'!I61 -> 0 | I22: ='FCD PROJETO'!J61 -> 0 | J22: ='FCD PROJETO'!K61 -> 0 | K22: ='FCD PROJETO'!L61 -> 0 | L22: ='FCD PROJETO'!M61 -> 0 | ... AM22: ='FCD PROJETO'!AN61 -> 0 | AN22: =SUM(E22:AM22) -> 0
B23: Produtos Químicos | E23: ='FCD PROJETO'!F62 -> 0 | F23: ='FCD PROJETO'!G62 -> 0 | G23: ='FCD PROJETO'!H62 -> 0 | H23: ='FCD PROJETO'!I62 -> 0 | I23: ='FCD PROJETO'!J62 -> 0 | J23: ='FCD PROJETO'!K62 -> 0 | K23: ='FCD PROJETO'!L62 -> 0 | L23: ='FCD PROJETO'!M62 -> 0 | ... AM23: ='FCD PROJETO'!AN62 -> 0 | AN23: =SUM(E23:AM23) -> 0
B24: Despesas diversas | E24: ='FCD PROJETO'!F65 -> #DIV/0! | F24: ='FCD PROJETO'!G65 -> #DIV/0! | G24: ='FCD PROJETO'!H65 -> #DIV/0! | H24: ='FCD PROJETO'!I65 -> #DIV/0! | I24: ='FCD PROJETO'!J65 -> #DIV/0! | J24: ='FCD PROJETO'!K65 -> #DIV/0! | K24: ='FCD PROJETO'!L65 -> #DIV/0! | L24: ='FCD PROJETO'!M65 -> #DIV/0! | ... AM24: ='FCD PROJETO'!AN65 -> #DIV/0! | AN24: =SUM(E24:AM24) -> #DIV/0!
B25: Custeio administrativo e comercial | E25: ='FCD PROJETO'!F63 -> #DIV/0! | F25: ='FCD PROJETO'!G63 -> #DIV/0! | G25: ='FCD PROJETO'!H63 -> #DIV/0! | H25: ='FCD PROJETO'!I63 -> #DIV/0! | I25: ='FCD PROJETO'!J63 -> #DIV/0! | J25: ='FCD PROJETO'!K63 -> #DIV/0! | K25: ='FCD PROJETO'!L63 -> #DIV/0! | L25: ='FCD PROJETO'!M63 -> #DIV/0! | ... AM25: ='FCD PROJETO'!AN63 -> #DIV/0! | AN25: =SUM(E25:AM25) -> #DIV/0!
B26: Custeio legal e regulação | E26: ='FCD PROJETO'!F64 -> #DIV/0! | F26: ='FCD PROJETO'!G64 -> #DIV/0! | G26: ='FCD PROJETO'!H64 -> #DIV/0! | H26: ='FCD PROJETO'!I64 -> #DIV/0! | I26: ='FCD PROJETO'!J64 -> #DIV/0! | J26: ='FCD PROJETO'!K64 -> #DIV/0! | K26: ='FCD PROJETO'!L64 -> #DIV/0! | L26: ='FCD PROJETO'!M64 -> #DIV/0! | ... AM26: ='FCD PROJETO'!AN64 -> #DIV/0! | AN26: =SUM(E26:AM26) -> #DIV/0!
B27: Pagamento pelo uso de recursos hídricos | E27: ='FCD PROJETO'!F66 -> 0 | F27: ='FCD PROJETO'!G66 -> 0 | G27: ='FCD PROJETO'!H66 -> 0 | H27: ='FCD PROJETO'!I66 -> 0 | I27: ='FCD PROJETO'!J66 -> 0 | J27: ='FCD PROJETO'!K66 -> 0 | K27: ='FCD PROJETO'!L66 -> 0 | L27: ='FCD PROJETO'!M66 -> 0 | ... AM27: ='FCD PROJETO'!AN66 -> 0 | AN27: =SUM(E27:AM27) -> 0
B28: Reserva técnica de contingência e emergências | E28: ='FCD PROJETO'!F67 -> #DIV/0! | F28: ='FCD PROJETO'!G67 -> #DIV/0! | G28: ='FCD PROJETO'!H67 -> #DIV/0! | H28: ='FCD PROJETO'!I67 -> #DIV/0! | I28: ='FCD PROJETO'!J67 -> #DIV/0! | J28: ='FCD PROJETO'!K67 -> #DIV/0! | K28: ='FCD PROJETO'!L67 -> #DIV/0! | L28: ='FCD PROJETO'!M67 -> #DIV/0! | ... AM28: ='FCD PROJETO'!AN67 -> #DIV/0! | AN28: =SUM(E28:AM28) -> #DIV/0!
B29: Seguros | E29: =('FCD PROJETO'!F71+'FCD PROJETO'!F73+'FCD PROJETO'!F74) -> #DIV/0! | F29: =('FCD PROJETO'!G71+'FCD PROJETO'!G73+'FCD PROJETO'!G74) -> #DIV/0! | G29: =('FCD PROJETO'!H71+'FCD PROJETO'!H73+'FCD PROJETO'!H74) -> #DIV/0! | H29: =('FCD PROJETO'!I71+'FCD PROJETO'!I73+'FCD PROJETO'!I74) -> #DIV/0! | I29: =('FCD PROJETO'!J71+'FCD PROJETO'!J73+'FCD PROJETO'!J74) -> #DIV/0! | J29: =('FCD PROJETO'!K71+'FCD PROJETO'!K73+'FCD PROJETO'!K74) -> #DIV/0! | K29: =('FCD PROJETO'!L71+'FCD PROJETO'!L73+'FCD PROJETO'!L74) -> #DIV/0! | L29: =('FCD PROJETO'!M71+'FCD PROJETO'!M73+'FCD PROJETO'!M74) -> #DIV/0! | ... AM29: =('FCD PROJETO'!AN71+'FCD PROJETO'!AN73+'FCD PROJETO'!AN74) -> #DIV/0! | AN29: =SUM(E29:AM29) -> #DIV/0!
B30: Garantias | E30: ='FCD PROJETO'!F72 -> #DIV/0! | F30: ='FCD PROJETO'!G72 -> #DIV/0! | G30: ='FCD PROJETO'!H72 -> #DIV/0! | H30: ='FCD PROJETO'!I72 -> #DIV/0! | I30: ='FCD PROJETO'!J72 -> #DIV/0! | J30: ='FCD PROJETO'!K72 -> #DIV/0! | K30: ='FCD PROJETO'!L72 -> #DIV/0! | L30: ='FCD PROJETO'!M72 -> #DIV/0! | ... AM30: ='FCD PROJETO'!AN72 -> #DIV/0! | AN30: =SUM(E30:AM30) -> #DIV/0!
B31: Adm. Central | E31: ='FCD PROJETO'!F76 -> #DIV/0! | F31: ='FCD PROJETO'!G76 -> #DIV/0! | G31: ='FCD PROJETO'!H76 -> #DIV/0! | H31: ='FCD PROJETO'!I76 -> #DIV/0! | I31: ='FCD PROJETO'!J76 -> #DIV/0! | J31: ='FCD PROJETO'!K76 -> #DIV/0! | K31: ='FCD PROJETO'!L76 -> #DIV/0! | L31: ='FCD PROJETO'!M76 -> #DIV/0! | ... AM31: ='FCD PROJETO'!AN76 -> #DIV/0! | AN31: =SUM(E31:AM31) -> #DIV/0!
AN32: =SUM(E32:AH32) -> 0
E33: =E15-'FCD PROJETO'!F53 -> #DIV/0! | F33: =F15-'FCD PROJETO'!G53 -> #DIV/0! | G33: =G15-'FCD PROJETO'!H53 -> #DIV/0! | H33: =H15-'FCD PROJETO'!I53 -> #DIV/0! | I33: =I15-'FCD PROJETO'!J53 -> #DIV/0! | J33: =J15-'FCD PROJETO'!K53 -> #DIV/0! | K33: =K15-'FCD PROJETO'!L53 -> #DIV/0! | L33: =L15-'FCD PROJETO'!M53 -> #DIV/0! | ... AM33: =AM15-'FCD PROJETO'!AN53 -> #DIV/0!
B34: LAJIDA | E34: =E13+E15 -> #DIV/0! | F34: =F13+F15 -> #DIV/0! | G34: =G13+G15 -> #DIV/0! | H34: =H13+H15 -> #DIV/0! | I34: =I13+I15 -> #DIV/0! | J34: =J13+J15 -> #DIV/0! | K34: =K13+K15 -> #DIV/0! | L34: =L13+L15 -> #DIV/0! | ... AM34: =AM13+AM15 -> #DIV/0! | AN34: =SUM(E34:AM34) -> #DIV/0!
B35: Margem % | E35: =E34/E4 -> #DIV/0! | F35: =F34/F4 -> #DIV/0! | G35: =G34/G4 -> #DIV/0! | H35: =H34/H4 -> #DIV/0! | I35: =I34/I4 -> #DIV/0! | J35: =J34/J4 -> #DIV/0! | K35: =K34/K4 -> #DIV/0! | L35: =L34/L4 -> #DIV/0! | ... AN35: =AN34/AN4 -> #DIV/0!
B36: Amortização (deflacionada) | E36: ='FCD PROJETO'!F88 -> 0 | F36: ='FCD PROJETO'!G88 -> 0 | G36: ='FCD PROJETO'!H88 -> 0 | H36: ='FCD PROJETO'!I88 -> 0 | I36: ='FCD PROJETO'!J88 -> 0 | J36: ='FCD PROJETO'!K88 -> 0 | K36: ='FCD PROJETO'!L88 -> 0 | L36: ='FCD PROJETO'!M88 -> 0 | ... AM36: ='FCD PROJETO'!AN88 -> 0 | AN36: =SUM(E36:AM36) -> 0
B38: LAJIR | E38: =E34+E36 -> #DIV/0! | F38: =F34+F36 -> #DIV/0! | G38: =G34+G36 -> #DIV/0! | H38: =H34+H36 -> #DIV/0! | I38: =I34+I36 -> #DIV/0! | J38: =J34+J36 -> #DIV/0! | K38: =K34+K36 -> #DIV/0! | L38: =L34+L36 -> #DIV/0! | ... AM38: =AM34+AM36 -> #DIV/0! | AN38: =SUM(E38:AM38) -> #DIV/0!
B39: Margem % | E39: =E38/E4 -> #DIV/0! | F39: =F38/F4 -> #DIV/0! | G39: =G38/G4 -> #DIV/0! | H39: =H38/H4 -> #DIV/0! | I39: =I38/I4 -> #DIV/0! | J39: =J38/J4 -> #DIV/0! | K39: =K38/K4 -> #DIV/0! | L39: =L38/L4 -> #DIV/0! | ... AN39: =AN38/AN4 -> #DIV/0!
B40: Despesas Financeiras | AN40: =SUM(E40:AH40) -> 0
B42: LAIR | E42: =E38+E40 -> #DIV/0! | F42: =F38+F40 -> #DIV/0! | G42: =G38+G40 -> #DIV/0! | H42: =H38+H40 -> #DIV/0! | I42: =I38+I40 -> #DIV/0! | J42: =J38+J40 -> #DIV/0! | K42: =K38+K40 -> #DIV/0! | L42: =L38+L40 -> #DIV/0! | ... AM42: =AM38+AM40 -> #DIV/0! | AN42: =SUM(E42:AM42) -> #DIV/0!
B43: Impostos Diretos | E43: =IF(E42>0,-E42*'FCD PROJETO'!$C$102,0)+-IF(E42>0,IF(E42>240000,240000*'FCD PROJETO'!$C$103+(E42-(240000))*'FCD PROJETO'!$C$104,E42*'FCD PROJETO'!$C$103),0) -> #DIV/0! | F43: =IF(F42>0,-F42*'FCD PROJETO'!$C$102,0)+-IF(F42>0,IF(F42>240000,240000*'FCD PROJETO'!$C$103+(F42-(240000))*'FCD PROJETO'!$C$104,F42*'FCD PROJETO'!$C$103),0) -> #DIV/0! | G43: =IF(G42>0,-G42*'FCD PROJETO'!$C$102,0)+-IF(G42>0,IF(G42>240000,240000*'FCD PROJETO'!$C$103+(G42-(240000))*'FCD PROJETO'!$C$104,G42*'FCD PROJETO'!$C$103),0) -> #DIV/0! | H43: =IF(H42>0,-H42*'FCD PROJETO'!$C$102,0)+-IF(H42>0,IF(H42>240000,240000*'FCD PROJETO'!$C$103+(H42-(240000))*'FCD PROJETO'!$C$104,H42*'FCD PROJETO'!$C$103),0) -> #DIV/0! | I43: =IF(I42>0,-I42*'FCD PROJETO'!$C$102,0)+-IF(I42>0,IF(I42>240000,240000*'FCD PROJETO'!$C$103+(I42-(240000))*'FCD PROJETO'!$C$104,I42*'FCD PROJETO'!$C$103),0) -> #DIV/0! | J43: =IF(J42>0,-J42*'FCD PROJETO'!$C$102,0)+-IF(J42>0,IF(J42>240000,240000*'FCD PROJETO'!$C$103+(J42-(240000))*'FCD PROJETO'!$C$104,J42*'FCD PROJETO'!$C$103),0) -> #DIV/0! | K43: =IF(K42>0,-K42*'FCD PROJETO'!$C$102,0)+-IF(K42>0,IF(K42>240000,240000*'FCD PROJETO'!$C$103+(K42-(240000))*'FCD PROJETO'!$C$104,K42*'FCD PROJETO'!$C$103),0) -> #DIV/0! | L43: =IF(L42>0,-L42*'FCD PROJETO'!$C$102,0)+-IF(L42>0,IF(L42>240000,240000*'FCD PROJETO'!$C$103+(L42-(240000))*'FCD PROJETO'!$C$104,L42*'FCD PROJETO'!$C$103),0) -> #DIV/0! | ... AM43: =IF(AM42>0,-AM42*'FCD PROJETO'!$C$102,0)+-IF(AM42>0,IF(AM42>240000,240000*'FCD PROJETO'!$C$103+(AM42-(240000))*'FCD PROJETO'!$C$104,AM42*'FCD PROJETO'!$C$103),0) -> #DIV/0! | AN43: =SUM(E43:AM43) -> #DIV/0!
B45: Lucro Líquido | E45: =E42+E43 -> #DIV/0! | F45: =F42+F43 -> #DIV/0! | G45: =G42+G43 -> #DIV/0! | H45: =H42+H43 -> #DIV/0! | I45: =I42+I43 -> #DIV/0! | J45: =J42+J43 -> #DIV/0! | K45: =K42+K43 -> #DIV/0! | L45: =L42+L43 -> #DIV/0! | ... AM45: =AM42+AM43 -> #DIV/0! | AN45: =SUM(E45:AM45) -> #DIV/0!
B46: Margem Líquida % (Lucro Líquido/Receita Líquida) | E46: =E45/E13 -> #DIV/0! | F46: =F45/F13 -> #DIV/0! | G46: =G45/G13 -> #DIV/0! | H46: =H45/H13 -> #DIV/0! | I46: =I45/I13 -> #DIV/0! | J46: =J45/J13 -> #DIV/0! | K46: =K45/K13 -> #DIV/0! | L46: =L45/L13 -> #DIV/0! | ... AN46: =AN45/AN13 -> #DIV/0!
...

Sheet FCD Acionista
A1: Preenchimento | B1: RESULTADO DO FLUXO DE CAIXA ACIONISTA - FCA | G1: Cálculo das Taxas de Juros
A2: Fórmulas | B2: Taxa de desconto | D2: =H6 -> 0 | G2: SELIC no Ano Base | H2: ='FCD PROJETO'!H4 -> 0 | I2: Inflação Ano Base | J2: ='FCD PROJETO'!J4 -> 0
A3: NÂO ALTERAR | B3: TIR Calculada do Acionista | D3: =IRR(F45:AN45) -> #VALUE! | G3: Taxa Juros Básica | H3: ='FCD PROJETO'!H5 -> 0 | I3: Rf | J3: ='FCD PROJETO'!J5 -> 0
B4: VPL Calculado do Acionista | D4: =ROUND(NPV(D2,F45:AN45),2) -> #DIV/0! | G4: Taxa de desconto | H4: ='FCD PROJETO'!H6 -> #DIV/0! | I4: Beta | J4: ='FCD PROJETO'!J6 -> 0
B5: PAYBACK Simples | D5: =MATCH(0,F46:AN46,1) -> #N/A | G5: TMA | H5: ='FCD PROJETO'!H7 -> 0 | I5: Rm | J5: ='FCD PROJETO'!J7 -> 0
B6: PAYBACK Descontado | D6: =IF(AN48>=0,35,MATCH(0,F48:AN48,1)+1) -> #DIV/0! | G6: ke | H6: ='FCD PROJETO'!H8 -> 0 | I6: Rc | J6: ='FCD PROJETO'!J8 -> 0
B7: Item | D7: Valor Nominal | E7: VPL | G7: kd | H7: ='FCD PROJETO'!H9 -> 0 | I7: TC = CSLL+IRPJ | J7: ='FCD PROJETO'!J9 -> 0.34
B8: Dividendos | D8: =AO23 -> #DIV/0! | E8: =NPV(D2,F23:AN23) -> #DIV/0! | G8: WACC calculado | J8: ='FCD PROJETO'!J10 -> #DIV/0!
B9: Equity | D9: =AO24 -> #DIV/0! | E9: =NPV(D2,F24:AN24) -> #DIV/0!
B10: Despesas Operacionais | D10: =(AO26) -> #DIV/0! | E10: =NPV(D2,F26:AN26) -> #DIV/0!
B11: Financiamentos | D11: =(AO34) -> 0 | E11: =NPV(D2,F34:AN34) -> 0
B12: Juros sobre o financiamento | D12: =(AO35) -> 0 | E12: =NPV(D2,F35:AN35) -> 0
B13: Amortizações | D13: =AO36 -> 0 | E13: =NPV(D2,F36:AN36) -> 0
B14: Benefício Fiscal | D14: =AO38 -> #DIV/0! | E14: =NPV(D2,F38:AN38) -> #DIV/0! | G14: Reserva Legal
B15: Reserva legal | D15: =AO42 -> #DIV/0! | E15: =NPV(D2,F42:AN42) -> #DIV/0! | G15: Verificador Independente (% do total do Faturamento o) | J15: 0.00060215318
B16: Lucro Líquido | D16: =SUM(D8:D15) -> #DIV/0! | E16: =ROUND(SUM(E8:E15),2) -> #DIV/0!
B17: Margem Líquida | D17: =D16/D8 -> #DIV/0! | E17: =E16/E8 -> #DIV/0!
B19: FLUXO DE CAIXA DO ACIONISTA
B20: ANO | D20: ='FCD PROJETO'!D23 -> Base | E20: ='FCD PROJETO'!E23 -> 0 | F20: ='FCD PROJETO'!F23 -> 1 | G20: ='FCD PROJETO'!G23 -> 2 | H20: ='FCD PROJETO'!H23 -> 3 | I20: ='FCD PROJETO'!I23 -> 4 | J20: ='FCD PROJETO'!J23 -> 5 | K20: ='FCD PROJETO'!K23 -> 6 | ... AN20: ='FCD PROJETO'!AN23 -> 35
D21: ='FCD PROJETO'!D24 -> 2025 | E21: ='FCD PROJETO'!E24 -> 2026 | F21: ='FCD PROJETO'!F24 -> 2027 | G21: ='FCD PROJETO'!G24 -> 2028 | H21: ='FCD PROJETO'!H24 -> 2029 | I21: ='FCD PROJETO'!I24 -> 2030 | J21: ='FCD PROJETO'!J24 -> 2031 | K21: ='FCD PROJETO'!K24 -> 2032 | ... AN21: ='FCD PROJETO'!AN24 -> 2061 | AO21: ACUMULADO
B22: 1 - Fluxo de Caixa do Projeto | C22: =AO22 -> #DIV/0! | F22: ='FCD PROJETO'!F107 -> #DIV/0! | G22: ='FCD PROJETO'!G107 -> #DIV/0! | H22: ='FCD PROJETO'!H107 -> #DIV/0! | I22: ='FCD PROJETO'!I107 -> #DIV/0! | J22: ='FCD PROJETO'!J107 -> #DIV/0! | K22: ='FCD PROJETO'!K107 -> #DIV/0! | L22: ='FCD PROJETO'!L107 -> #DIV/0! | M22: ='FCD PROJETO'!M107 -> #DIV/0! | ... AN22: ='FCD PROJETO'!AN107 -> #DIV/0! | AO22: =SUM(F22:AN22) -> #DIV/0!
B23: 1.1 - Dividendos Anuais | C23: =AO23 -> #DIV/0! | F23: =IF(F22>0,F22,0) -> #DIV/0! | G23: =IF(G22>0,G22,0) -> #DIV/0! | H23: =IF(H22>0,H22,0) -> #DIV/0! | I23: =IF(I22>0,I22,0) -> #DIV/0! | J23: =IF(J22>0,J22,0) -> #DIV/0! | K23: =IF(K22>0,K22,0) -> #DIV/0! | L23: =IF(L22>0,L22,0) -> #DIV/0! | M23: =IF(M22>0,M22,0) -> #DIV/0! | ... AN23: =IF(AN22>0,AN22,0) -> #DIV/0! | AO23: =SUM(F23:AN23) -> #DIV/0!
B24: 1.2 - Equity | C24: =AO24 -> #DIV/0! | F24: =IF(F22<0,F22,0) -> #DIV/0! | G24: =IF(G22<0,G22,0) -> #DIV/0! | H24: =IF(H22<0,H22,0) -> #DIV/0! | I24: =IF(I22<0,I22,0) -> #DIV/0! | J24: =IF(J22<0,J22,0) -> #DIV/0! | K24: =IF(K22<0,K22,0) -> #DIV/0! | L24: =IF(L22<0,L22,0) -> #DIV/0! | M24: =IF(M22<0,M22,0) -> #DIV/0! | ... AN24: =IF(AN22<0,AN22,0) -> #DIV/0! | AO24: =SUM(F24:AN24) -> #DIV/0!
B26: 2 - Despesas operacionais | C26: =AO26 -> #DIV/0! | F26: =SUM(F27:F28) -> #DIV/0! | G26: =SUM(G27:G28) -> #DIV/0! | H26: =SUM(H27:H28) -> #DIV/0! | I26: =SUM(I27:I28) -> #DIV/0! | J26: =SUM(J27:J28) -> #DIV/0! | K26: =SUM(K27:K28) -> #DIV/0! | L26: =SUM(L27:L28) -> #DIV/0! | M26: =SUM(M27:M28) -> #DIV/0! | ... AN26: =SUM(AN27:AN28) -> #DIV/0! | AO26: =SUM(F26:AN26) -> #DIV/0!
B27: 2.1 - Verificador Independente | C27: =AO27 -> #DIV/0! | F27: =-$J$15*'FCD PROJETO'!$D$10 -> #DIV/0! | G27: =-$J$15*'FCD PROJETO'!$D$10 -> #DIV/0! | H27: =-$J$15*'FCD PROJETO'!$D$10 -> #DIV/0! | I27: =-$J$15*'FCD PROJETO'!$D$10 -> #DIV/0! | J27: =-$J$15*'FCD PROJETO'!$D$10 -> #DIV/0! | K27: =-$J$15*'FCD PROJETO'!$D$10 -> #DIV/0! | L27: =-$J$15*'FCD PROJETO'!$D$10 -> #DIV/0! | M27: =-$J$15*'FCD PROJETO'!$D$10 -> #DIV/0! | ... AN27: =-$J$15*'FCD PROJETO'!$D$10 -> #DIV/0! | AO27: =SUM(F27:AN27) -> #DIV/0!
B30: Saldo de caixa (1+2) | C30: =AO30 -> #DIV/0! | F30: =F23+F26 -> #DIV/0! | G30: =G23+G26 -> #DIV/0! | H30: =H23+H26 -> #DIV/0! | I30: =I23+I26 -> #DIV/0! | J30: =J23+J26 -> #DIV/0! | K30: =K23+K26 -> #DIV/0! | L30: =L23+L26 -> #DIV/0! | M30: =M23+M26 -> #DIV/0! | ... AN30: =AN23+AN26 -> #DIV/0! | AO30: =SUM(F30:AN30) -> #DIV/0!
B31: Saldo de Caixa Acumulado | F31: =F30 -> #DIV/0! | G31: =F31+G30 -> #DIV/0! | H31: =G31+H30 -> #DIV/0! | I31: =H31+I30 -> #DIV/0! | J31: =I31+J30 -> #DIV/0! | K31: =J31+K30 -> #DIV/0! | L31: =K31+L30 -> #DIV/0! | M31: =L31+M30 -> #DIV/0! | N31: =M31+N30 -> #DIV/0! | ... AN31: =AM31+AN30 -> #DIV/0!
B33: 3 - Financiamento | C33: =AO33 -> 0 | F33: =F34+F35+F36 -> 0 | G33: =G34+G35+G36 -> 0 | H33: =H34+H35+H36 -> 0 | I33: =I34+I35+I36 -> 0 | J33: =J34+J35+J36 -> 0 | K33: =K34+K35+K36 -> 0 | L33: =L34+L35+L36 -> 0 | M33: =M34+M35+M36 -> 0 | ... AN33: =AN34+AN35+AN36 -> 0 | AO33: =SUM(F33:AN33) -> 0
B34: 3.1 - Empréstimos | C34: =AO34 -> 0 | F34: ='Financiamento '!D96 -> 0 | G34: ='Financiamento '!E96 -> 0 | H34: ='Financiamento '!F96 -> 0 | I34: ='Financiamento '!G96 -> 0 | J34: ='Financiamento '!H96 -> 0 | K34: ='Financiamento '!I96 -> 0 | L34: ='Financiamento '!J96 -> 0 | M34: ='Financiamento '!K96 -> 0 | ... AN34: ='Financiamento '!AL96 -> 0 | AO34: =SUM(F34:AN34) -> 0
B35: 3.2 - Juros sobre os financiamentos | C35: =AO35 -> 0 | F35: =-('Financiamento '!D99+'Financiamento '!D100+'Financiamento '!D101) -> 0 | G35: =-('Financiamento '!E99+'Financiamento '!E100+'Financiamento '!E101) -> 0 | H35: =-('Financiamento '!F99+'Financiamento '!F100+'Financiamento '!F101) -> 0 | I35: =-('Financiamento '!G99+'Financiamento '!G100+'Financiamento '!G101) -> 0 | J35: =-('Financiamento '!H99+'Financiamento '!H100+'Financiamento '!H101) -> 0 | K35: =-('Financiamento '!I99+'Financiamento '!I100+'Financiamento '!I101) -> 0 | L35: =-('Financiamento '!J99+'Financiamento '!J100+'Financiamento '!J101) -> 0 | M35: =-('Financiamento '!K99+'Financiamento '!K100+'Financiamento '!K101) -> 0 | ... AN35: =-('Financiamento '!AL99+'Financiamento '!AL100+'Financiamento '!AL101) -> 0 | AO35: =SUM(F35:AN35) -> 0
B36: 3.2 - Amortizações | C36: =AO36 -> 0 | F36: =-'Financiamento '!D102 -> 0 | G36: =-'Financiamento '!E102 -> 0 | H36: =-'Financiamento '!F102 -> 0 | I36: =-'Financiamento '!G102 -> 0 | J36: =-'Financiamento '!H102 -> 0 | K36: =-'Financiamento '!I102 -> 0 | L36: =-'Financiamento '!J102 -> 0 | M36: =-'Financiamento '!K102 -> 0 | ... AN36: =-'Financiamento '!AL102 -> 0 | AO36: =SUM(F36:AN36) -> 0
B38: 4 - Benefício Fiscal | C38: =AO38 -> #DIV/0! | F38: =F39+F40 -> #DIV/0! | G38: =G39+G40 -> #DIV/0! | H38: =H39+H40 -> #DIV/0! | I38: =I39+I40 -> #DIV/0! | J38: =J39+J40 -> #DIV/0! | K38: =K39+K40 -> #DIV/0! | L38: =L39+L40 -> #DIV/0! | M38: =M39+M40 -> #DIV/0! | ... AN38: =AN39+AN40 -> #DIV/0! | AO38: =SUM(F38:AN38) -> #DIV/0!
B39: 4.1 - Benefício Fiscal Financiamentos | C39: =AO39 -> 0 | F39: =-(IF(F35>240000,240000*15%+(F35-240000)*10%,F35*15%)+F35*9%) -> 0 | G39: =-(IF(G35>240000,240000*15%+(G35-240000)*10%,G35*15%)+G35*9%) -> 0 | H39: =-(IF(H35>240000,240000*15%+(H35-240000)*10%,H35*15%)+H35*9%) -> 0 | I39: =-(IF(I35>240000,240000*15%+(I35-240000)*10%,I35*15%)+I35*9%) -> 0 | J39: =-(IF(J35>240000,240000*15%+(J35-240000)*10%,J35*15%)+J35*9%) -> 0 | K39: =-(IF(K35>240000,240000*15%+(K35-240000)*10%,K35*15%)+K35*9%) -> 0 | L39: =-(IF(L35>240000,240000*15%+(L35-240000)*10%,L35*15%)+L35*9%) -> 0 | M39: =-(IF(M35>240000,240000*15%+(M35-240000)*10%,M35*15%)+M35*9%) -> 0 | ... AN39: =-(IF(AN35>240000,240000*15%+(AN35-240000)*10%,AN35*15%)+AN35*9%) -> 0 | AO39: =SUM(F39:AN39) -> 0
B40: 4.2 - Beneficio Fiscal Ressarcimentos | C40: =AO40 -> #DIV/0! | F40: =-(IF((F27)>240000,240000*15%+((+F27)-240000)*10%,(+F27)*15%)+(+F27)*9%) -> #DIV/0! | G40: =-(IF((G27)>240000,240000*15%+((+G27)-240000)*10%,(+G27)*15%)+(+G27)*9%) -> #DIV/0! | H40: =-(IF((H27)>240000,240000*15%+((+H27)-240000)*10%,(+H27)*15%)+(+H27)*9%) -> #DIV/0! | I40: =-(IF((I27)>240000,240000*15%+((+I27)-240000)*10%,(+I27)*15%)+(+I27)*9%) -> #DIV/0! | J40: =-(IF((J27)>240000,240000*15%+((+J27)-240000)*10%,(+J27)*15%)+(+J27)*9%) -> #DIV/0! | K40: =-(IF((K27)>240000,240000*15%+((+K27)-240000)*10%,(+K27)*15%)+(+K27)*9%) -> #DIV/0! | L40: =-(IF((L27)>240000,240000*15%+((+L27)-240000)*10%,(+L27)*15%)+(+L27)*9%) -> #DIV/0! | M40: =-(IF((M27)>240000,240000*15%+((+M27)-240000)*10%,(+M27)*15%)+(+M27)*9%) -> #DIV/0! | ... AN40: =-(IF((AN27)>240000,240000*15%+((+AN27)-240000)*10%,(+AN27)*15%)+(+AN27)*9%) -> #DIV/0! | AO40: =SUM(F40:AN40) -> #DIV/0!
B42: 5 - Reserva Legal | C42: =AO42 -> #DIV/0! | F42: =-IF(F23<0,0,F23*$J$14) -> #DIV/0! | G42: =-IF(G23<0,0,G23*$J$14) -> #DIV/0! | H42: =-IF(H23<0,0,H23*$J$14) -> #DIV/0! | I42: =-IF(I23<0,0,I23*$J$14) -> #DIV/0! | J42: =-IF(J23<0,0,J23*$J$14) -> #DIV/0! | K42: =-IF(K23<0,0,K23*$J$14) -> #DIV/0! | L42: =-IF(L23<0,0,L23*$J$14) -> #DIV/0! | M42: =-IF(M23<0,0,M23*$J$14) -> #DIV/0! | ... AN42: =-IF(AN23<0,0,AN23*$J$14) -> #DIV/0! | AO42: =SUM(F42:AN42) -> #DIV/0!
B45: Fluxo de Caixa do Acionista | D45: =MATCH(0,F45:AN45,1)+1 -> #N/A | F45: =F22+F26+F33+F38+F42 -> #DIV/0! | G45: =G22+G26+G33+G38+G42 -> #DIV/0! | H45: =H22+H26+H33+H38+H42 -> #DIV/0! | I45: =I22+I26+I33+I38+I42 -> #DIV/0! | J45: =J22+J26+J33+J38+J42 -> #DIV/0! | K45: =K22+K26+K33+K38+K42 -> #DIV/0! | L45: =L22+L26+L33+L38+L42 -> #DIV/0! | M45: =M22+M26+M33+M38+M42 -> #DIV/0! | ... AN45: =AN22+AN26+AN33+AN38+AN42 -> #DIV/0! | AO45: =SUM(F45:AN45) -> #DIV/0! | AP45: =AO45-D16 -> #DIV/0!
B46: Fluxo de Caixa do Acionista Acumulado | D46: =MATCH(0,F46:AN46,1)+1 -> #N/A | F46: =F45 -> #DIV/0! | G46: =F46+G45 -> #DIV/0! | H46: =G46+H45 -> #DIV/0! | I46: =H46+I45 -> #DIV/0! | J46: =I46+J45 -> #DIV/0! | K46: =J46+K45 -> #DIV/0! | L46: =K46+L45 -> #DIV/0! | M46: =L46+M45 -> #DIV/0! | N46: =M46+N45 -> #DIV/0! | ... AN46: =AM46+AN45 -> #DIV/0!
B47: Fluxo de Caixa do Acionista Descontado | D47: =MATCH(0,F47:AN47,1)+1 -> #N/A | F47: =F45/(1+$D$2)^F20 -> #DIV/0! | G47: =G45/(1+$D$2)^G20 -> #DIV/0! | H47: =H45/(1+$D$2)^H20 -> #DIV/0! | I47: =I45/(1+$D$2)^I20 -> #DIV/0! | J47: =J45/(1+$D$2)^J20 -> #DIV/0! | K47: =K45/(1+$D$2)^K20 -> #DIV/0! | L47: =L45/(1+$D$2)^L20 -> #DIV/0! | M47: =M45/(1+$D$2)^M20 -> #DIV/0! | ... AN47: =AN45/(1+$D$2)^AN20 -> #DIV/0! | AO47: =SUM(F47:AN47) -> #DIV/0!
B48: Fluxo de Caixa do Acionista Descontado Acumulado | D48: =IF(AN48>=0,35,MATCH(0,F48:AN48,1)+1) -> #DIV/0! | F48: =F47 -> #DIV/0! | G48: =F48+G47 -> #DIV/0! | H48: =G48+H47 -> #DIV/0! | I48: =H48+I47 -> #DIV/0! | J48: =I48+J47 -> #DIV/0! | K48: =J48+K47 -> #DIV/0! | L48: =K48+L47 -> #DIV/0! | M48: =L48+M47 -> #DIV/0! | N48: =M48+N47 -> #DIV/0! | ... AN48: =AM48+AN47 -> #DIV/0!
B50: TIR Financiamento | C50: =IRR(F33:AI33) -> #NUM! | AN50: =ROUND(AN48,5) -> #DIV/0!
...

Sheet Matriz Tarifária
A1: Preenchimento | B1: Matriz Tarifária Proposta | V1: TABELA 2 - TARIFAS PARA FORNECIMENTO DE ÁGUA, COLETA, AFASTAMENTO E TRATAMENTO E ESGOTO - AVULSO
A2: Fórmulas | B2: Categoria | C2: Faixa de consumo | D2: 0 | E2: Tarifa Água | F2: Tarifa Esgoto | H2: Valor da Conta mensal de água e esgoto Dezembro de 2025 | V2: Tabela 2 - Tarifas para fornecimento de água, coleta, afastamento e tratamento e esgoto - Avulso
A3: NÂO ALTERAR | B3: 0 | C3: Inferior | D3: Superior | E3: (R$/m³) | F3: (R$/m³) | H3: Categoria | I3: Conta | J3: Valor previsto no Projeto | M3: Valor praticado Samae 2025 | V3: Item | W3: Descrição | X3: Unidade | Y3: Preço Unitário
B4: Residencial Social | C4: TBO | D4: TBO | E4: =Histograma!F4 -> 0 | F4: =Histograma!G4 -> 0 | H4: 0 | I4: Vol mës | J4: Água | K4: Esgoto | L4: Total | M4: Água | N4: Esgoto | O4: Total | P4: Diferença | Q4: % | V4: 1 | W4: Fornecimento temporário de água e tratamento de esgoto domiciliar avulso para usuários cadastrados.
C5: 0.01 | D5: 10 | E5: =Histograma!F5 -> 0 | F5: =Histograma!G5 -> 0 | H5: Residencial Social | I5: 10 m³ | J5: =E4+10*(E5) -> 0 | K5: =F4+10*(F5) -> 0 | L5: =SUM(J5:K5) -> 0 | M5: =6.35+10*1.14 -> 17.75 | N5: =6.35+10*1.14 -> 17.75 | O5: =M5+N5 -> 35.5 | P5: =L5-O5 -> -35.5 | Q5: =P5/O5 -> -1 | V5: 1.1 | W5: Fornecimento de água em caminhão 6m³ até 15 km - Categoria Residencial | X5: R$/m³ | Y5: 79.94
C6: 10.01 | D6: 15 | E6: =Histograma!F6 -> 0 | F6: =Histograma!G6 -> 0 | I6: 15 m³ | J6: =J5+5*E6 -> 0 | K6: =K5+5*F6 -> 0 | L6: =SUM(J6:K6) -> 0 | M6: =M5+5*2.02 -> 27.85 | N6: =N5+5*2.02 -> 27.85 | O6: =M6+N6 -> 55.7 | P6: =L6-O6 -> -55.7 | Q6: =P6/O6 -> -1 | V6: 1.2 | W6: Fornecimento de água em caminhão 6m³ até 15 km - Categoria Residencial Social | X6: R$/m³ | Y6: 71.24
C7: 15.01 | D7: 20 | E7: =Histograma!F7 -> 0 | F7: =Histograma!G7 -> 0 | I7: 20 m³ | J7: =J6+5*E7 -> 0 | K7: =K6+5*F7 -> 0 | L7: =SUM(J7:K7) -> 0 | M7: =M6+5*2.02 -> 37.95 | N7: =N6+5*2.02 -> 37.95 | O7: =M7+N7 -> 75.9 | P7: =L7-O7 -> -75.9 | Q7: =P7/O7 -> -1 | V7: 1.3 | W7: Fornecimento de água em caminhão 6m³ até 15 km - Categoria Mista | X7: R$/m³ | Y7: 91.15
C8: 20.01 | D8: 30 | E8: =Histograma!F8 -> 0 | F8: =Histograma!G8 -> 0 | I8: 25 m³ | J8: =J7+5*E8 -> 0 | K8: =K7+5*F8 -> 0 | L8: =SUM(J8:K8) -> 0 | M8: =M7+5*2.8 -> 51.95 | N8: =N7+5*2.8 -> 51.95 | O8: =M8+N8 -> 103.9 | P8: =L8-O8 -> -103.9 | Q8: =P8/O8 -> -1 | V8: 1.4 | W8: Fornecimento de água em caminhão 6m³ até 15 km - Categoria Comercial / Industrial | X8: R$/m³ | Y8: 96.87
C9: 30.01 | D9: 50 | E9: =Histograma!F9 -> 0 | F9: =Histograma!G9 -> 0 | I9: 30 m³ | J9: =J8+5*E8 -> 0 | K9: =K8+5*F8 -> 0 | L9: =SUM(J9:K9) -> 0 | M9: =M8+5*2.8 -> 65.95 | N9: =N8+5*2.8 -> 65.95 | O9: =M9+N9 -> 131.9 | P9: =L9-O9 -> -131.9 | Q9: =P9/O9 -> -1 | V9: 1.5 | W9: Fornecimento de água em caminhão 6m³ até 15 km - Categoria Pública | X9: R$/m³ | Y9: 94.61
C10: 50.01 | D10: 100 | E10: =Histograma!F10 -> 0 | F10: =Histograma!G10 -> 0 | I10: 40 m³ | J10: =J9+10*E9 -> 0 | K10: =K9+10*F9 -> 0 | L10: =SUM(J10:K10) -> 0 | M10: =M9+10*3.5 -> 100.95 | N10: =N9+10*3.5 -> 100.95 | O10: =M10+N10 -> 201.9 | P10: =L10-O10 -> -201.9 | Q10: =P10/O10 -> -1 | V10: 1.6 | W10: Fornecimento de água tratada em caminhão 6m³ até 15 km - para abastecimento de piscina | X10: R$/m³ | Y10: 84.28
C11: > 100 | D11: 0 | E11: =Histograma!F11 -> 0 | F11: =Histograma!G11 -> 0 | I11: 50 m³ | J11: =J10+10*E10 -> 0 | K11: =K10+10*F10 -> 0 | L11: =SUM(J11:K11) -> 0 | M11: =M10+10*3.5 -> 135.95 | N11: =N10+10*3.5 -> 135.95 | O11: =M11+N11 -> 271.9 | P11: =L11-O11 -> -271.9 | Q11: =P11/O11 -> -1 | V11: 1.7 | W11: Fornecimento de água de reuso para irrigação em caminhão 6 m³ até 15 km | X11: R$/m³ | Y11: 64.28
B12: Residencial | C12: TBO | D12: TBO | E12: =Histograma!F28 -> 0 | F12: =Histograma!G28 -> 0 | I12: Conta | J12: Água | K12: Esgoto | L12: Total | M12: Água | N12: Esgoto | O12: Total | P12: Diferença | Q12: % | V12: 1.8 | W12: Fornecimento de água de reuso para irrigação em veículo do interessado | X12: R$/m³ | Y12: 8.69
C13: 0.01 | D13: 10 | E13: =Histograma!F29 -> 0 | F13: =Histograma!G29 -> 0 | H13: Residencial | I13: 10 m³ | J13: =E12+10*(E13) -> 0 | K13: =F12+10*(F13) -> 0 | L13: =SUM(J13:K13) -> 0 | M13: =15.99+10*2.85 -> 44.49 | N13: =15.99+10*2.85 -> 44.49 | O13: =M13+N13 -> 88.98 | P13: =L13-O13 -> -88.98 | Q13: =P13/O13 -> -1 | V13: 1.9 | W13: Km rodado adicional acima de 15 Km | X13: R$/Km | Y13: 18.75
C14: 10.01 | D14: 15 | E14: =Histograma!F30 -> 0 | F14: =Histograma!G30 -> 0 | I14: 15 m³ | J14: =J13+5*E14 -> 0 | K14: =K13+5*F14 -> 0 | L14: =SUM(J14:K14) -> 0 | M14: =M13+5*5.05 -> 69.74 | N14: =N13+5*5.05 -> 69.74 | O14: =M14+N14 -> 139.48 | P14: =L14-O14 -> -139.48 | Q14: =P14/O14 -> -1 | V14: 1.10 | W14: Fornecimento de água tratada em veículo do interessado | X14: R$/m³ | Y14: 34.33
C15: 15.01 | D15: 20 | E15: =Histograma!F31 -> 0 | F15: =Histograma!G31 -> 0 | I15: 20 m³ | J15: =J14+5*E15 -> 0 | K15: =K14+5*F15 -> 0 | L15: =SUM(J15:K15) -> 0 | M15: =M14+5*5.05 -> 94.99 | N15: =N14+5*5.05 -> 94.99 | O15: =M15+N15 -> 189.98 | P15: =L15-O15 -> -189.98 | Q15: =P15/O15 -> -1 | V15: 1.11 | W15: Despejo avulso de efluente domiciliar em estação de tratamento de esgoto | X15: R$/m³ | Y15: 15.48
C16: 20.01 | D16: 30 | E16: =Histograma!F32 -> 0 | F16: =Histograma!G32 -> 0 | I16: 25 m³ | J16: =J15+5*E16 -> 0 | K16: =K15+5*F16 -> 0 | L16: =SUM(J16:K16) -> 0 | M16: =M15+5*7.01 -> 130.04 | N16: =N15+5*7.01 -> 130.04 | O16: =M16+N16 -> 260.08 | P16: =L16-O16 -> -260.08 | Q16: =P16/O16 -> -1 | V16: 2 | W16: Fornecimento temporário de água e tratamento de esgoto domiciliar avulso para usuários não cadastrados.
C17: 30.01 | D17: 50 | E17: =Histograma!F33 -> 0 | F17: =Histograma!G33 -> 0 | I17: 30 m³ | J17: =J16+5*E16 -> 0 | K17: =K16+5*F16 -> 0 | L17: =SUM(J17:K17) -> 0 | M17: =M16+5*7.01 -> 165.09 | N17: =N16+5*7.01 -> 165.09 | O17: =M17+N17 -> 330.18 | P17: =L17-O17 -> -330.18 | Q17: =P17/O17 -> -1 | V17: 2.1 | W17: Fornecimento de água tratada em caminhão 6m³ até 15 km | X17: R$/m³ | Y17: 116.25
C18: 50.01 | D18: 100 | E18: =Histograma!F34 -> 0 | F18: =Histograma!G34 -> 0 | I18: 40 m³ | J18: =J17+10*E17 -> 0 | K18: =K17+10*F17 -> 0 | L18: =SUM(J18:K18) -> 0 | M18: =M17+10*8.76 -> 252.69 | N18: =N17+10*8.76 -> 252.69 | O18: =M18+N18 -> 505.38 | P18: =L18-O18 -> -505.38 | Q18: =P18/O18 -> -1 | V18: 2.2 | W18: Fornecimento de água de reuso para irrigação em caminhão 6 m³ até 15 km | X18: R$/m³ | Y18: 77.14
C19: > 100 | D19: 0 | E19: =Histograma!F35 -> 0 | F19: =Histograma!G35 -> 0 | I19: 50 m³ | J19: =J18+10*E18 -> 0 | K19: =K18+10*F18 -> 0 | L19: =SUM(J19:K19) -> 0 | M19: =M18+10*8.76 -> 340.29 | N19: =N18+10*8.76 -> 340.29 | O19: =M19+N19 -> 680.58 | P19: =L19-O19 -> -680.58 | Q19: =P19/O19 -> -1 | V19: 2.3 | W19: Fornecimento de água de reuso para irrigação em veículo do interessado | X19: R$/m³ | Y19: 10.42
B20: Comercial | C20: TBO | D20: TBO | E20: =Histograma!F52 -> 0 | F20: =Histograma!G52 -> 0 | I20: Conta | J20: Água | K20: Esgoto | L20: Total | M20: Água | N20: Esgoto | O20: Total | P20: Diferença | Q20: % | V20: 2.4 | W20: Km rodado adicional acima de 15 Km | X20: R$/Km | Y20: 18.75
C21: 0.01 | D21: 10 | E21: =Histograma!F53 -> 0 | F21: =Histograma!G53 -> 0 | H21: Comercial | I21: 10 m³ | J21: =E20+10*(E21) -> 0 | K21: =F20+10*(F21) -> 0 | L21: =SUM(J21:K21) -> 0 | M21: =22.34+10*13.99 -> 162.24 | N21: =22.34+10*13.99 -> 162.24 | O21: =M21+N21 -> 324.48 | P21: =L21-O21 -> -324.48 | Q21: =P21/O21 -> -1 | V21: 2.5 | W21: Fornecimento de água tratada em veículo do interessado | X21: R$/m³ | Y21: 41.2
C22: 10.01 | D22: 15 | E22: =Histograma!F54 -> 0 | F22: =Histograma!G54 -> 0 | I22: 15 m³ | J22: =J21+5*E22 -> 0 | K22: =K21+5*F22 -> 0 | L22: =SUM(J22:K22) -> 0 | M22: =M21+5*7.06 -> 197.54 | N22: =N21+5*7.06 -> 197.54 | O22: =M22+N22 -> 395.08 | P22: =L22-O22 -> -395.08 | Q22: =P22/O22 -> -1 | V22: 2.6 | W22: Despejo avulso de efluente domiciliar em estação de tratamento de esgoto | X22: R$/m³ | Y22: 18.57
C23: 15.01 | D23: 20 | E23: =Histograma!F55 -> 0 | F23: =Histograma!G55 -> 0 | I23: 20 m³ | J23: =J22+5*E23 -> 0 | K23: =K22+5*F23 -> 0 | L23: =SUM(J23:K23) -> 0 | M23: =M22+5*7.06 -> 232.84 | N23: =N22+5*7.06 -> 232.84 | O23: =M23+N23 -> 465.68 | P23: =L23-O23 -> -465.68 | Q23: =P23/O23 -> -1
C24: 20.01 | D24: 30 | E24: =Histograma!F56 -> 0 | F24: =Histograma!G56 -> 0 | I24: 25 m³ | J24: =J23+5*E24 -> 0 | K24: =K23+5*F24 -> 0 | L24: =SUM(J24:K24) -> 0 | M24: =M23+5*9.81 -> 281.89 | N24: =N23+5*9.81 -> 281.89 | O24: =M24+N24 -> 563.78 | P24: =L24-O24 -> -563.78 | Q24: =P24/O24 -> -1 | V24: TABELA 3 - TARIFAS DE SERVIÇOS DE REDES E AMPLIAÇÃO DOS SISTEMAS DE ABASTECIMENTO DE ÁGUA E/OU COLETA, AFASTAMENTO E TRATAMENTO DE ESGOTO
C25: 30.01 | D25: 50 | E25: =Histograma!F57 -> 0 | F25: =Histograma!G57 -> 0 | I25: 30 m³ | J25: =J24+5*E24 -> 0 | K25: =K24+5*F24 -> 0 | L25: =SUM(J25:K25) -> 0 | M25: =M24+5*9.81 -> 330.94 | N25: =N24+5*9.81 -> 330.94 | O25: =M25+N25 -> 661.88 | P25: =L25-O25 -> -661.88 | Q25: =P25/O25 -> -1 | V25: Tabela 3 - Tarifas de serviços de redes e ampliação dos sistemas de abastecimento de água e/ou coleta, afastamento e tratamento de esgoto
C26: 50.01 | D26: 100 | E26: =Histograma!F58 -> 0 | F26: =Histograma!G58 -> 0 | I26: 40 m³ | J26: =J25+10*E25 -> 0 | K26: =K25+10*F25 -> 0 | L26: =SUM(J26:K26) -> 0 | M26: =M25+10*12.26 -> 453.54 | N26: =N25+10*12.26 -> 453.54 | O26: =M26+N26 -> 907.08 | P26: =L26-O26 -> -907.08 | Q26: =P26/O26 -> -1 | V26: Item | W26: Descrição | X26: Unidade | Y26: Preço Unitário
C27: > 100 | D27: 0 | E27: =Histograma!F59 -> 0 | F27: =Histograma!G59 -> 0 | I27: 50 m³ | J27: =J26+10*E26 -> 0 | K27: =K26+10*F26 -> 0 | L27: =SUM(J27:K27) -> 0 | M27: =M26+10*12.26 -> 576.14 | N27: =N26+10*12.26 -> 576.14 | O27: =M27+N27 -> 1152.28 | P27: =L27-O27 -> -1152.28 | Q27: =P27/O27 -> -1 | V27: 1 | W27: Serviços de redes
B28: Industrial | C28: TBO | D28: TBO | E28: =Histograma!F60 -> 0 | F28: =Histograma!G60 -> 0 | I28: Conta | J28: Água | K28: Esgoto | L28: Total | M28: Água | N28: Esgoto | O28: Total | P28: Diferença | Q28: % | V28: 1.2 | W28: Extensão de rede de água DN 50 mm | X28: R$/m | Y28: 355.84
C29: 0.01 | D29: 10 | E29: =Histograma!F61 -> 0 | F29: =Histograma!G61 -> 0 | H29: Industrial | I29: 10 m³ | J29: =E28+10*(E29) -> 0 | K29: =F28+10*(F29) -> 0 | L29: =SUM(J29:K29) -> 0 | M29: =22.34+10*13.99 -> 162.24 | N29: =22.34+10*13.99 -> 162.24 | O29: =M29+N29 -> 324.48 | P29: =L29-O29 -> -324.48 | Q29: =P29/O29 -> -1 | V29: 1.3 | W29: Extensão de rede de água DN 75 mm | X29: R$/m | Y29: 393.94
C30: 10.01 | D30: 15 | E30: =Histograma!F62 -> 0 | F30: =Histograma!G62 -> 0 | I30: 15 m³ | J30: =J29+5*E30 -> 0 | K30: =K29+5*F30 -> 0 | L30: =SUM(J30:K30) -> 0 | M30: =M29+5*7.06 -> 197.54 | N30: =N29+5*7.06 -> 197.54 | O30: =M30+N30 -> 395.08 | P30: =L30-O30 -> -395.08 | Q30: =P30/O30 -> -1 | V30: 1.4 | W30: Extensão de rede de água DN 100 mm | X30: R$/m | Y30: 437.14
C31: 15.01 | D31: 20 | E31: =Histograma!F63 -> 0 | F31: =Histograma!G63 -> 0 | I31: 20 m³ | J31: =J30+5*E31 -> 0 | K31: =K30+5*F31 -> 0 | L31: =SUM(J31:K31) -> 0 | M31: =M30+5*7.06 -> 232.84 | N31: =N30+5*7.06 -> 232.84 | O31: =M31+N31 -> 465.68 | P31: =L31-O31 -> -465.68 | Q31: =P31/O31 -> -1 | V31: 1.5 | W31: Extensão de rede de água DN 150 mm | X31: R$/m | Y31: 658.75
C32: 20.01 | D32: 30 | E32: =Histograma!F64 -> 0 | F32: =Histograma!G64 -> 0 | I32: 25 m³ | J32: =J31+5*E32 -> 0 | K32: =K31+5*F32 -> 0 | L32: =SUM(J32:K32) -> 0 | M32: =M31+5*9.81 -> 281.89 | N32: =N31+5*9.81 -> 281.89 | O32: =M32+N32 -> 563.78 | P32: =L32-O32 -> -563.78 | Q32: =P32/O32 -> -1 | V32: 1.6 | W32: Extensão de rede de água DN 200 mm | X32: R$/m | Y32: 988.13
C33: 30.01 | D33: 50 | E33: =Histograma!F65 -> 0 | F33: =Histograma!G65 -> 0 | I33: 30 m³ | J33: =J32+5*E32 -> 0 | K33: =K32+5*F32 -> 0 | L33: =SUM(J33:K33) -> 0 | M33: =M32+5*9.81 -> 330.94 | N33: =N32+5*9.81 -> 330.94 | O33: =M33+N33 -> 661.88 | P33: =L33-O33 -> -661.88 | Q33: =P33/O33 -> -1 | V33: 1.7 | W33: Extensão de rede de água DN 250 mm | X33: R$/m | Y33: 1119.88
C34: 50.01 | D34: 100 | E34: =Histograma!F66 -> 0 | F34: =Histograma!G66 -> 0 | I34: 40 m³ | J34: =J33+10*E33 -> 0 | K34: =K33+10*F33 -> 0 | L34: =SUM(J34:K34) -> 0 | M34: =M33+10*12.26 -> 453.54 | N34: =N33+10*12.26 -> 453.54 | O34: =M34+N34 -> 907.08 | P34: =L34-O34 -> -907.08 | Q34: =P34/O34 -> -1 | V34: 1.8 | W34: Extensão de rede de água DN 250 mm | X34: R$/m | Y34: 1317.5
C35: > 100 | D35: 0 | E35: =Histograma!F67 -> 0 | F35: =Histograma!G67 -> 0 | I35: 50 m³ | J35: =J34+10*E34 -> 0 | K35: =K34+10*F34 -> 0 | L35: =SUM(J35:K35) -> 0 | M35: =M34+10*12.26 -> 576.14 | N35: =N34+10*12.26 -> 576.14 | O35: =M35+N35 -> 1152.28 | P35: =L35-O35 -> -1152.28 | Q35: =P35/O35 -> -1 | V35: 1.9 | W35: Extensão de rede de esgoto DN 150 mm | X35: R$/m | Y35: 502.99
B36: Pública | C36: TBO | D36: TBO | E36: =Histograma!F68 -> 0 | F36: =Histograma!G68 -> 0 | I36: Conta | J36: Água | K36: Esgoto | L36: Total | M36: Água | N36: Esgoto | O36: Total | P36: Diferença | Q36: % | V36: 1.10 | W36: Extensão de rede de esgoto DN 200 mm | X36: R$/m | Y36: 779.64
C37: 0.01 | D37: 10 | E37: =Histograma!F69 -> 0 | F37: =Histograma!G69 -> 0 | H37: Pública | I37: 10 m³ | J37: =E36+10*(E37) -> 0 | K37: =F36+10*(F37) -> 0 | L37: =SUM(J37:K37) -> 0 | M37: =15.99+10*2.85 -> 44.49 | N37: =15.99+10*2.85 -> 44.49 | O37: =M37+N37 -> 88.98 | P37: =L37-O37 -> -88.98 | Q37: =P37/O37 -> -1 | V37: 1.11 | W37: Extensão de rede de esgoto DN 250 mm | X37: R$/m | Y37: 930.54
C38: 10.01 | D38: 15 | E38: =Histograma!F70 -> 0 | F38: =Histograma!G70 -> 0 | I38: 15 m³ | J38: =J37+5*E38 -> 0 | K38: =K37+5*F38 -> 0 | L38: =SUM(J38:K38) -> 0 | M38: =M37+5*5.05 -> 69.74 | N38: =N37+5*5.05 -> 69.74 | O38: =M38+N38 -> 139.48 | P38: =L38-O38 -> -139.48 | Q38: =P38/O38 -> -1 | V38: 1.12 | W38: Extensão de rede de esgoto DN 300 mm | X38: R$/m | Y38: 1257.48
C39: 15.01 | D39: 20 | E39: =Histograma!F71 -> 0 | F39: =Histograma!G71 -> 0 | I39: 20 m³ | J39: =J38+5*E39 -> 0 | K39: =K38+5*F39 -> 0 | L39: =SUM(J39:K39) -> 0 | M39: =M38+5*5.05 -> 94.99 | N39: =N38+5*5.05 -> 94.99 | O39: =M39+N39 -> 189.98 | P39: =L39-O39 -> -189.98 | Q39: =P39/O39 -> -1 | V39: 2 | W39: Execução de Poços de Visita
