Workbook
Name WeekStart: 'Custo Total Estimando'!#REF!
Name WeekStart: 'Pesquisa de Preços'!$C$5
Name WeekStart: 'Saneamento 1'!$C$5
Name WeekStart: 'Valores Aceitáveis'!$C$5
Name WeekStart: #REF!

Sheet Pesquisa de Preços
C2: MINISTÉRIO DAS CIDADES Secretaria Executiva Subsecretaria de Planejamento, Orçamento e Administração Coordenação-Geral de Tecnologia da Informação
C3: PLANILHA COM OS VALORES OBTIDOS NA PESQUISA DE PREÇOS
C5: Item | D5: CATMAT(SER) | E5: Descrição | F5: Parâmetro | G5: Fonte de consulta(Painel de Preços Portal Nacional de Contratações Públicas (PNCP).)... | H5: Data do Resultado | I5: Valor Unitário | J5: Média | K5: Mediana | L5: Desvio Padrão | M5: CV | N5: Limite Superior (Média + Desvio) | O5: Limite Inferior (Média - Desvio) | P5: Válidos dentro do Intervalo | Q5: Análise de Exequibilidade do Preços
C6: 1 | D6: 393273 | E6: Switch de Núcleo | F6: II | G6: 42000 - MINISTERIO DA CULTURA (Edital 14/2023) - Contrato 17/2025 - Item 2 | H6: 45831 | I6: 147635.82 | J6: =AVERAGEIF(I6:I11, ">0") -> 124600.65 | K6: =MEDIAN(I6:I11) -> 103677.29 | L6: =_xlfn.STDEV.S(I6:I11) -> 64210.293 | M6: =L6/J6 -> 0.51532871 | N6: =J6+L6 -> 188810.94 | O6: =J6-L6 -> 60390.358 | P6: =COUNTIFS((I6:I11),">="&O6,(I6:I11),"<="&N6) -> 5 | Q6: ACEITÁVEL
F7: II | G7: 530001 - MDR (Edital 90011/2025) - ARP 10/2025 - Itens 3 e 8 | H7: 46015 | I7: 84500 | Q7: ACEITÁVEL
F8: II | G8: 154003 - MEC-FUCAPES (Edital 90020/2025) - Contrato 34/2025 - Item 3 | H8: 45818 | I8: 120000 | Q8: ACEITÁVEL
F9: II | G9: 080007 - TRT da 5a Região (Edital 90018/2024) - Contrato 2/2026 - Itens 2 e 20 | H9: 46043 | I9: 66500 | Q9: ACEITÁVEL
F10: II | G10: 070018 - TRE de SP (Edital 90097/2024) - ARP 73/2025 - Itens 3 e 8 | H10: 45791 | I10: 87354.59 | Q10: ACEITÁVEL
F11: II | G11: 12000 - JUSTICA FEDERAL - 90006 - JUSTICA FEDERAL DE 1a INSTANCIA - CE (Edital 90025/2024) - ARP 35/2024 - Itens 1 e 8 | H11: 45973 | I11: 241613.5 | Q11: EXCESSIVAMENTE ELEVADO
C12: 2 | D12: 393274 | E12: Switch de Acesso | F12: II | G12: 42000 - MINISTERIO DA CULTURA (Edital 14/2023) - Contrato 17/2025 - Item 5 | H12: 45831 | I12: 40152.78 | J12: =AVERAGEIF(I12:I16, ">0") -> 37496.632 | K12: =MEDIAN(I12:I16) -> 40152.78 | L12: =_xlfn.STDEV.S(I12:I16) -> 10225.698 | M12: =L12/J12 -> 0.27270976 | N12: =J12+L12 -> 47722.33 | O12: =J12-L12 -> 27270.934 | P12: =COUNTIFS((I12:I16),">="&O12,(I12:I16),"<="&N12) -> 3 | Q12: ACEITÁVEL
F13: II | G13: 530001 - MDR (Edital 90011/2025) - ARP 10/2025 - Itens 4 e 14 | H13: 45818 | I13: 25200 | Q13: INEXEQUÍVEL
F14: II | G14: 154003 - MEC-FUCAPES (Edital 90020/2025) - Contrato 34/2025 - Item 2 | H14: 45818 | I14: 29000 | Q14: ACEITÁVEL
F15: II | G15: 080007 - TRT da 5a Região (Edital 90018/2024) - Contrato 2/2026 - Itens 3 e 21 | H15: 46043 | I15: 43150 | Q15: ACEITÁVEL
F16: II | G16: 070018 - TRE de SP (Edital 90097/2024) - ARP 73/2025 - Itens 5 e 8 | H16: 45791 | I16: 49980.38 | Q16: EXCESSIVAMENTE ELEVADO
C17: 3 | D17: 404260 | E17: Ponto de Acesso | F17: II | G17: 42000 - MINISTERIO DA CULTURA (Edital 14/2023) - Contrato 17/2025 - Item 9 | H17: 45831 | I17: 8128.96 | J17: =AVERAGEIF(I17:I20, ">0") -> 7743.49 | K17: =MEDIAN(I17:I20) -> 8004.48 | L17: =_xlfn.STDEV.S(I17:I20) -> 641.62974 | M17: =L17/J17 -> 0.082860537 | N17: =J17+L17 -> 8385.1197 | O17: =J17-L17 -> 7101.8603 | P17: =COUNTIFS((I17:I20),">="&O17,(I17:I20),"<="&N17) -> 3 | Q17: ACEITÁVEL
F18: II | G18: 530001 - MDR (Edital 90011/2025) - ARP 10/2025 - Itens 6 e 16 | H18: 45818 | I18: 7880 | Q18: ACEITÁVEL
F19: II | G19: 102301 - UNESP (Edital 90019/2025) - ARP 3/2025 - Item 5 | H19: 45847 | I19: 8165 | Q19: ACEITÁVEL
F20: II | G20: 154003 - MEC-FUCAPES (Edital 90020/2025) - Contrato 34/2025 - Item 12 | H20: 45818 | I20: 6800 | Q20: ACEITÁVEL
C21: 4 | D21: 618351 | E21: Transceiver SFP+ 10G | F21: II | G21: 530001 - MDR (Edital 90011/2025) - ARP 10/2025 - Item 10 | H21: 45818 | I21: 1200 | J21: =AVERAGEIF(I21:I26, ">0") -> 872.5 | K21: =MEDIAN(I21:I26) -> 845 | L21: =_xlfn.STDEV.S(I21:I26) -> 294.01888 | M21: =L21/J21 -> 0.33698439 | N21: =J21+L21 -> 1166.5189 | O21: =J21-L21 -> 578.48112 | P21: =COUNTIFS((I21:I26),">="&O21,(I21:I26),"<="&N21) -> 3 | Q21: EXCESSIVAMENTE ELEVADO
F22: II | G22: 255000 - FUNASA (Edital 90002/2026) - ARP 07/2026 - Item 8 | H22: 46079 | I22: 738 | Q22: ACEITÁVEL
F23: II | G23: 102301 - UNESP (Edital 90019/2025) - ARP 3/2025 - Item 12 | H23: 45847 | I23: 1210 | Q23: EXCESSIVAMENTE ELEVADO
F24: II | G24: 154003 - MEC-FUCAPES (Edital 90020/2025) - Contrato 34/2025 - Item 7 | H24: 45818 | I24: 585 | Q24: ACEITÁVEL
F25: II | G25: 154003 - MEC-FUCAPES (Edital 90020/2025) - Contrato 34/2025 - Item 7 | H25: 46043 | I25: 550 | Q25: INEXEQUÍVEL
F26: II | G26: 070018 - TRE de SP (Edital 90097/2024) - ARP 73/2025 - Item 7 | H26: 45791 | I26: 952 | Q26: ACEITÁVEL
C27: 5 | D27: 27014 | E27: Solução de Gerenciamento | F27: II | G27: 530001 - MDR (Edital 90011/2025) - ARP 10/2025 - Itens 5 e 15 | H27: 45818 | I27: 560000 | J27: =AVERAGEIF(I27:I30, ">0") -> 544408.75 | K27: =MEDIAN(I27:I30) -> 472425 | L27: =_xlfn.STDEV.S(I27:I30) -> 248855.73 | M27: =L27/J27 -> 0.45711193 | N27: =J27+L27 -> 793264.48 | O27: =J27-L27 -> 295553.02 | P27: =COUNTIFS((I27:I30),">="&O27,(I27:I30),"<="&N27) -> 3 | Q27: ACEITÁVEL
F28: II | G28: 154003 - MEC-FUCAPES (Edital 90020/2025) - Contrato 34/2025 - Itens 4, 14 e 15 | H28: 45818 | I28: 890000 | Q28: EXCESSIVAMENTE ELEVADO
F29: II | G29: 102301 - UNESP (Edital 90019/2025) - ARP 3/2025 - Item 7 | H29: 45847 | I29: 342785 | Q29: ACEITÁVEL
F30: II | G30: 925538 - SEAD/RN (Edital 90021/2025) - ARP 13/2025 - Item 18 | H30: 45796 | I30: 384850 | Q30: ACEITÁVEL
C31: 6 | D31: 27022 | E31: Plataforma de Controle de Acesso (NAC) | F31: II | G31: 530001 - MDR (Edital 90011/2025) - ARP 10/2025 - Item 17 | H31: 45818 | I31: 450000 | J31: =AVERAGEIF(I31:I34, ">0") -> 612221.25 | K31: =MEDIAN(I31:I34) -> 557500 | L31: =_xlfn.STDEV.S(I31:I34) -> 216316.04 | M31: =L31/J31 -> 0.35332984 | N31: =J31+L31 -> 828537.29 | O31: =J31-L31 -> 395905.21 | P31: =COUNTIFS((I31:I34),">="&O31,(I31:I34),"<="&N31) -> 3 | Q31: ACEITÁVEL
F32: II | G32: 154003 - MEC-FUCAPES (Edital 90020/2025) - Contrato 34/2025 - Itens 5 e 16 | H32: 45818 | I32: 665000 | Q32: ACEITÁVEL
F33: II | G33: 925538 - SEAD/RN (Edital 90021/2025) - ARP 13/2025 - Item 19 | H33: 45796 | I33: 437500 | Q33: ACEITÁVEL
F34: II | G34: 12000 - JUSTICA FEDERAL - 90006 - JUSTICA FEDERAL DE 1a INSTANCIA - CE (Edital 90025/2024) - ARP 35/2024 - Itens 6 e 10 | H34: 45973 | I34: 896385 | Q34: EXCESSIVAMENTE ELEVADO

Sheet Saneamento 1
C2: MINISTÉRIO DAS CIDADES Secretaria Executiva Subsecretaria de Planejamento, Orçamento e Administração Coordenação-Geral de Tecnologia da Informação
C3: PLANILHA COM OS VALORES OBTIDOS NA PESQUISA DE PREÇOS
C5: Item | D5: CATMAT(SER) | E5: Descrição | F5: Parâmetro | G5: Fonte de consulta(Painel de Preços Portal Nacional de Contratações Públicas (PNCP).)... | H5: Data do Resultado | I5: Valor Unitário | J5: Média | K5: Mediana | L5: Desvio Padrão | M5: CV | N5: Limite Superior (Média + Desvio) | O5: Limite Inferior (Média - Desvio) | P5: Válidos dentro do Intervalo | Q5: Análise de Exequibilidade do Preços
C6: 1 | D6: 393273 | E6: Switch de Núcleo | F6: II | G6: 42000 - MINISTERIO DA CULTURA (Edital 14/2023) - Contrato 17/2025 - Item 2 | H6: 45831 | I6: 147635.82 | J6: =AVERAGEIF(I6:I10, ">0") -> 101198.08 | K6: =MEDIAN(I6:I10) -> 87354.59 | L6: =_xlfn.STDEV.S(I6:I10) -> 32343.472 | M6: =L6/J6 -> 0.31960558 | N6: =J6+L6 -> 133541.55 | O6: =J6-L6 -> 68854.61 | P6: =COUNTIFS((I6:I10),">="&O6,(I6:I10),"<="&N6) -> 3 | Q6: EXCESSIVAMENTE ELEVADO
F7: II | G7: 530001 - MDR (Edital 90011/2025) - ARP 10/2025 - Itens 3 e 8 | H7: 46015 | I7: 84500 | Q7: ACEITÁVEL
F8: II | G8: 154003 - MEC-FUCAPES (Edital 90020/2025) - Contrato 34/2025 - Item 3 | H8: 45818 | I8: 120000 | Q8: ACEITÁVEL
F9: II | G9: 080007 - TRT da 5a Região (Edital 90018/2024) - Contrato 2/2026 e Contrato 188/2025 - Itens 2, 18 e 20 | H9: 21/01/2026 e 17/11/2025 | I9: 66500 | Q9: INEXEQUÍVEL
F10: II | G10: 070018 - TRE de SP (Edital 90097/2024) - ARP 73/2025 - Itens 3 e 8 | H10: 45791 | I10: 87354.59 | Q10: ACEITÁVEL
C11: 2 | D11: 393274 | E11: Switch de Acesso | F11: II | G11: 42000 - MINISTERIO DA CULTURA (Edital 14/2023) - Contrato 17/2025 - Item 5 | H11: 45831 | I11: 40152.78 | J11: =AVERAGEIF(I11:I13, ">0") -> 37434.26 | K11: =MEDIAN(I11:I13) -> 40152.78 | L11: =_xlfn.STDEV.S(I11:I13) -> 7456.4327 | M11: =L11/J11 -> 0.19918739 | N11: =J11+L11 -> 44890.693 | O11: =J11-L11 -> 29977.827 | P11: =COUNTIFS((I11:I13),">="&O11,(I11:I13),"<="&N11) -> 2 | Q11: ACEITÁVEL
F12: II | G12: 154003 - MEC-FUCAPES (Edital 90020/2025) - Contrato 34/2025 - Item 2 | H12: 45818 | I12: 29000 | Q12: ACEITÁVEL
F13: II | G13: 080007 - TRT da 5a Região (Edital 90018/2024) - Contrato 2/2026 e Contrato 188/2025 - Itens 3, 18 e 21 | H13: 21/01/2026 e 17/11/2025 | I13: 43150 | Q13: ACEITÁVEL
C14: 3 | D14: 404260 | E14: Ponto de Acesso | F14: II | G14: 42000 - MINISTERIO DA CULTURA (Edital 14/2023) - Contrato 17/2025 - Item 9 | H14: 45831 | I14: 8128.96 | J14: =AVERAGEIF(I14:I17, ">0") -> 7743.49 | K14: =MEDIAN(I14:I17) -> 8004.48 | L14: =_xlfn.STDEV.S(I14:I17) -> 641.62974 | M14: =L14/J14 -> 0.082860537 | N14: =J14+L14 -> 8385.1197 | O14: =J14-L14 -> 7101.8603 | P14: =COUNTIFS((I14:I17),">="&O14,(I14:I17),"<="&N14) -> 3 | Q14: ACEITÁVEL
F15: II | G15: 530001 - MDR (Edital 90011/2025) - ARP 10/2025 - Itens 6 e 16 | H15: 45818 | I15: 7880 | Q15: ACEITÁVEL
F16: II | G16: 102301 - UNESP (Edital 90019/2025) - ARP 3/2025 - Item 5 | H16: 45847 | I16: 8165 | Q16: ACEITÁVEL
F17: II | G17: 154003 - MEC-FUCAPES (Edital 90020/2025) - Contrato 34/2025 - Item 12 | H17: 45818 | I17: 6800 | Q17: ACEITÁVEL
C18: 4 | D18: 618351 | E18: Transceiver SFP+ 10G | F18: II | G18: 255000 - FUNASA (Edital 90002/2026) - ARP 07/2026 - Item 8 | H18: 46079 | I18: 738 | J18: =AVERAGEIF(I18:I20, ">0") -> 758.33333 | K18: =MEDIAN(I18:I20) -> 738 | L18: =_xlfn.STDEV.S(I18:I20) -> 184.34298 | M18: =L18/J18 -> 0.24308964 | N18: =J18+L18 -> 942.67631 | O18: =J18-L18 -> 573.99036 | P18: =COUNTIFS((I18:I20),">="&O18,(I18:I20),"<="&N18) -> 2 | Q18: ACEITÁVEL
F19: II | G19: 154003 - MEC-FUCAPES (Edital 90020/2025) - Contrato 34/2025 - Item 7 | H19: 45818 | I19: 585 | Q19: ACEITÁVEL
F20: II | G20: 070018 - TRE de SP (Edital 90097/2024) - ARP 43/2025 - Item 7 | H20: 45791 | I20: 952 | Q20: ACEITÁVEL
C21: 5 | D21: 27014 | E21: Solução de Gerenciamento | F21: II | G21: 530001 - MDR (Edital 90011/2025) - ARP 10/2025 - Itens 5 e 15 | H21: 45818 | I21: 560000 | J21: =AVERAGEIF(I21:I23, ">0") -> 429211.67 | K21: =MEDIAN(I21:I23) -> 384850 | L21: =_xlfn.STDEV.S(I21:I23) -> 115202.24 | M21: =L21/J21 -> 0.26840427 | N21: =J21+L21 -> 544413.91 | O21: =J21-L21 -> 314009.42 | P21: =COUNTIFS((I21:I23),">="&O21,(I21:I23),"<="&N21) -> 2 | Q21: ACEITÁVEL
F22: II | G22: 102301 - UNESP (Edital 90019/2025) - ARP 3/2025 - Item 7 | H22: 45847 | I22: 342785 | Q22: ACEITÁVEL
F23: II | G23: 925538 - SEAD/RN (Edital 90021/2025) - ARP 13/2025 - Item 18 | H23: 45796 | I23: 384850 | Q23: ACEITÁVEL
C24: 6 | D24: 27022 | E24: Plataforma de Controle de Acesso (NAC) | F24: II | G24: 530001 - MDR (Edital 90011/2025) - ARP 10/2025 - Item 17 | H24: 45818 | I24: 450000 | J24: =AVERAGEIF(I24:I26, ">0") -> 517500 | K24: =MEDIAN(I24:I26) -> 450000 | L24: =_xlfn.STDEV.S(I24:I26) -> 127891.56 | M24: =L24/J24 -> 0.24713344 | N24: =J24+L24 -> 645391.56 | O24: =J24-L24 -> 389608.44 | P24: =COUNTIFS((I24:I26),">="&O24,(I24:I26),"<="&N24) -> 2 | Q24: ACEITÁVEL
F25: II | G25: 154003 - MEC-FUCAPES (Edital 90020/2025) - Contrato 34/2025 - Itens 5 e 16 | H25: 45818 | I25: 665000 | Q25: ACEITÁVEL
F26: II | G26: 925538 - SEAD/RN (Edital 90021/2025) - ARP 13/2025 - Item 19 | H26: 45796 | I26: 437500 | Q26: ACEITÁVEL

Sheet Valores Aceitáveis
C2: MINISTÉRIO DAS CIDADES Secretaria Executiva Subsecretaria de Planejamento, Orçamento e Administração Coordenação-Geral de Tecnologia da Informação
C3: PLANILHA COM OS VALORES OBTIDOS NA PESQUISA DE PREÇOS
C5: Item | D5: CATMAT(SER) | E5: Descrição | F5: Parâmetro | G5: Fonte de consulta(Painel de Preços Portal Nacional de Contratações Públicas (PNCP).)... | H5: Data do Resultado | I5: Valor Unitário | J5: Média | K5: Mediana | L5: Desvio Padrão | M5: CV | N5: Menor Preço | O5: Critério Escolhido
C6: 1 | D6: 393273 | E6: Switch de Núcleo | F6: II | G6: 530001 - MDR (Edital 90011/2025) - ARP 10/2025 - Itens 3 e 8 | H6: 46015 | I6: 84500 | J6: =AVERAGEIF(I6:I8, ">0") -> 97284.863 | K6: =MEDIAN(I6:I8) -> 87354.59 | L6: =_xlfn.STDEV.S(I6:I8) -> 19723.596 | M6: =L6/J6 -> 0.20274065 | N6: 84500 | O6: Média
F7: II | G7: 154003 - MEC-FUCAPES (Edital 90020/2025) - Contrato 34/2025 - Item 3 | H7: 45818 | I7: 120000
F8: II | G8: 070018 - TRE de SP (Edital 90097/2024) - ARP 43/2025 - Itens 3 e 8 | H8: 45791 | I8: 87354.59
C9: 2 | D9: 393274 | E9: Switch de Acesso | F9: II | G9: 42000 - MINISTERIO DA CULTURA (Edital 14/2023) - Contrato 17/2025 - Item 5 | H9: 45831 | I9: 40152.78 | J9: =AVERAGEIF(I9:I11, ">0") -> 37434.26 | K9: =MEDIAN(I9:I11) -> 40152.78 | L9: =_xlfn.STDEV.S(I9:I11) -> 7456.4327 | M9: =L9/J9 -> 0.19918739 | N9: 29000 | O9: Média
F10: II | G10: 154003 - MEC-FUCAPES (Edital 90020/2025) - Contrato 34/2025 - Item 2 | H10: 45818 | I10: 29000
F11: II | G11: 080007 - TRT da 5a Região (Edital 90018/2024) - Contrato 2/2026 e Contrato 188/2025 - Itens 3, 18 e 21 | H11: 21/01/2026 e 17/11/2025 | I11: 43150
C12: 3 | D12: 404260 | E12: Ponto de Acesso | F12: II | G12: 42000 - MINISTERIO DA CULTURA (Edital 14/2023) - Contrato 17/2025 - Item 9 | H12: 45831 | I12: 8128.96 | J12: =AVERAGEIF(I12:I15, ">0") -> 7743.49 | K12: =MEDIAN(I12:I15) -> 8004.48 | L12: =_xlfn.STDEV.S(I12:I15) -> 641.62974 | M12: =L12/J12 -> 0.082860537 | N12: 6800 | O12: Média
F13: II | G13: 530001 - MDR (Edital 90011/2025) - ARP 10/2025 - Itens 6 e 16 | H13: 45818 | I13: 7880
F14: II | G14: 102301 - UNESP (Edital 90019/2025) - ARP 3/2025 - Item 5 | H14: 45847 | I14: 8165
F15: II | G15: 154003 - MEC-FUCAPES (Edital 90020/2025) - Contrato 34/2025 - Item 12 | H15: 45818 | I15: 6800
C16: 4 | D16: 618351 | E16: Transceiver SFP+ 10G | F16: II | G16: 255000 - FUNASA (Edital 90002/2026) - ARP 07/2026 - Item 8 | H16: 46079 | I16: 738 | J16: =AVERAGEIF(I16:I18, ">0") -> 758.33333 | K16: =MEDIAN(I16:I18) -> 738 | L16: =_xlfn.STDEV.S(I16:I18) -> 184.34298 | M16: =L16/J16 -> 0.24308964 | N16: 585 | O16: Média
F17: II | G17: 154003 - MEC-FUCAPES (Edital 90020/2025) - Contrato 34/2025 - Item 7 | H17: 45818 | I17: 585
F18: II | G18: 070018 - TRE de SP (Edital 90097/2024) - ARP 43/2025 - Item 7 | H18: 45791 | I18: 952
C19: 5 | D19: 27014 | E19: Solução de Gerenciamento | F19: II | G19: 530001 - MDR (Edital 90011/2025) - ARP 10/2025 - Itens 5 e 15 | H19: 45818 | I19: 560000 | J19: =AVERAGEIF(I19:I21, ">0") -> 429211.67 | K19: =MEDIAN(I19:I21) -> 384850 | L19: =_xlfn.STDEV.S(I19:I21) -> 115202.24 | M19: =L19/J19 -> 0.26840427 | N19: 342785 | O19: Mediana
F20: II | G20: 102301 - UNESP (Edital 90019/2025) - ARP 3/2025 - Item 7 | H20: 45847 | I20: 342785
F21: II | G21: 925538 - SEAD/RN (Edital 90021/2025) - ARP 13/2025 - Item 18 | H21: 45796 | I21: 384850
C22: 6 | D22: 27022 | E22: Plataforma de Controle de Acesso (NAC) | F22: II | G22: 530001 - MDR (Edital 90011/2025) - ARP 10/2025 - Item 17 | H22: 45818 | I22: 450000 | J22: =AVERAGEIF(I22:I24, ">0") -> 517500 | K22: =MEDIAN(I22:I24) -> 450000 | L22: =_xlfn.STDEV.S(I22:I24) -> 127891.56 | M22: =L22/J22 -> 0.24713344 | N22: 437500 | O22: Média
F23: II | G23: 154003 - MEC-FUCAPES (Edital 90020/2025) - Contrato 34/2025 - Itens 5 e 16 | H23: 45818 | I23: 665000
F24: II | G24: 925538 - SEAD/RN (Edital 90021/2025) - ARP 13/2025 - Item 19 | H24: 45796 | I24: 437500

Sheet Custo Total Estimando
C2: MINISTÉRIO DAS CIDADES Secretaria Executiva Subsecretaria de Planejamento, Orçamento e Administração Coordenação-Geral de Tecnologia da Informação
C3: Custo Total Estimado - Solução de conectividade LAN/WLAN
C5: Item | D5: CATMAT(SER) | E5: Descrição | F5: Unidade de Medida | G5: Quantidade | H5: Valor | I5: Valor Total
C6: 1 | D6: 393273 | E6: Switch de Núcleo | F6: Unidade | G6: 4 | H6: ='Valores Aceitáveis'!J6 -> 97284.863 | I6: =SUM(G6*H6) -> 389139.45
C7: 2 | D7: 393274 | E7: Switch de Acesso | F7: Unidade | G7: 50 | H7: ='Valores Aceitáveis'!J9 -> 37434.26 | I7: =SUM(G7*H7) -> 1871713
C8: 3 | D8: 404260 | E8: Ponto de Acesso | F8: Unidade | G8: 125 | H8: ='Valores Aceitáveis'!J12 -> 7743.49 | I8: =SUM(G8*H8) -> 967936.25
C9: 4 | D9: 618351 | E9: Transceiver SFP+ 10G | F9: Unidade | G9: 100 | H9: ='Valores Aceitáveis'!J16 -> 758.33333 | I9: =SUM(G9*H9) -> 75833.333
C10: 5 | D10: 27014 | E10: Solução de Gerenciamento | F10: Unidade | G10: 1 | H10: ='Valores Aceitáveis'!K19 -> 384850 | I10: =SUM(G10*H10) -> 384850
C11: 6 | D11: 27022 | E11: Plataforma de Controle de Acesso (NAC) | F11: Unidade | G11: 1 | H11: ='Valores Aceitáveis'!J22 -> 517500 | I11: =SUM(G11*H11) -> 517500
C12: VALOR GLOBAL ESTIMADO | I12: =SUM(I6:I11) -> 4206972
