Workbook
Name _EST10: [1]Mem_calc!#REF!
Name _EST10: [1]dados!#REF!
Name _EST5: [1]Mem_calc!#REF!
Name _EST5: [1]dados!#REF!
Name AGETOP: [1]Orçamento!$A:$F
Name AGETOP: [1]AGETOP!$A:$F
Name AMPL: [2]Orçamento!#REF!
Name AMPL: #REF!
Name BARR: [1]Mem_calc!#REF!
Name BARR: [1]dados!#REF!
Name bBL: [1]Mem_calc!#REF!
Name bBL: [1]dados!#REF!
Name BLq: [1]Mem_calc!#REF!
Name BLq: [1]dados!#REF!
Name Bpil: [1]Mem_calc!#REF!
Name Bpil: [1]dados!#REF!
Name Bvb: [1]Mem_calc!#REF!
Name Bvb: [1]dados!#REF!
Name Bvc: [1]Mem_calc!#REF!
Name Bvc: [1]dados!#REF!
Name Dest: [1]Mem_calc!#REF!
Name Dest: [1]dados!#REF!
Name duto: [2]Orçamento!#REF!
Name duto: #REF!
Name encD: [3]dados!$L$48
Name encD: [3]dados!$L$48
Name Excel_BuiltIn__FilterDatabase_3: #REF!
Name Excel_BuiltIn__FilterDatabase_3: #REF!
Name Excel_BuiltIn__FilterDatabase_3: #REF!
Name Excel_BuiltIn_Print_Area_1_1: #REF!
Name Excel_BuiltIn_Print_Area_1_1: #REF!
Name Excel_BuiltIn_Print_Area_1_1: #REF!
Name Excel_BuiltIn_Print_Area_4: #REF!
Name Excel_BuiltIn_Print_Area_4: #REF!
Name Excel_BuiltIn_Print_Area_4: #REF!
Name Excel_BuiltIn_Print_Area_5_1: #REF!
Name Excel_BuiltIn_Print_Area_5_1: #REF!
Name Excel_BuiltIn_Print_Area_5_1: #REF!
Name FERest: [1]Mem_calc!#REF!
Name FERest: [1]dados!#REF!
Name func: [1]Mem_calc!#REF!
Name func: [1]dados!#REF!
Name FUND10: [1]Mem_calc!#REF!
Name FUND10: [1]dados!#REF!
Name FUND5: [1]Mem_calc!#REF!
Name FUND5: [1]dados!#REF!
Name FUND8: [1]Mem_calc!#REF!
Name FUND8: [1]dados!#REF!
Name hBL: [1]Mem_calc!#REF!
Name hBL: [1]dados!#REF!
Name Hest: [1]Mem_calc!#REF!
Name Hest: [1]dados!#REF!
Name Hpil: [1]Mem_calc!#REF!
Name Hpil: [1]dados!#REF!
Name Hvb: [1]Mem_calc!#REF!
Name Hvb: [1]dados!#REF!
Name Hvc: [1]Mem_calc!#REF!
Name Hvc: [1]dados!#REF!
Name insumos: #REF!
Name insumos: #REF!

Sheet MEMÓRIA DE CÁLCULO
B8: =ORÇAMENTO!B9 -> OBRA: | C8: =ORÇAMENTO!C9 -> REFORMA CENTRO DE ATENÇÃO PSICOSSOCIAL RADION JOAQUIM DE CARVALHO
B9: =ORÇAMENTO!B10 -> ENDEREÇO: | C9: =ORÇAMENTO!C10 -> AV. FREDERICO SARAIVA, N° 700 - BAIRRO OLIMPIA
B10: =ORÇAMENTO!B11 -> REFERENCIA: | C10: =ORÇAMENTO!C11 -> SINAPI - SISTEMA NACIONAL DE PESQUISA DE CUSTOS E ÍNDICES DA CONSTRUÇÃO CIVIL (SI) - SETEMBRO/2024
B11: =ORÇAMENTO!B12 -> DATA BASE: | C11: =ORÇAMENTO!C12 -> 45536
B12: =ORÇAMENTO!B13 -> REFERENCIA: | C12: =ORÇAMENTO!C13 -> GOINFRA - TABELA DE CUSTOS DE OBRAS CIVIS - T259 - JUN/2024 (GO) - SEM DESONERAÇÃO
B13: =ORÇAMENTO!B14 -> DATA BASE: | C13: =ORÇAMENTO!C14 -> 45444
B14: =ORÇAMENTO!B15 -> MODALIDADE: | C14: =ORÇAMENTO!C15 -> TERCERIZÇÃO GLOBAL
B15: =ORÇAMENTO!B16 -> BDI: | C15: =ORÇAMENTO!C16 -> 0.23339528
A20: MEMÓRIA DE CÁLCULO
A21: Item | B21: DESCRIÇÃO | M21: QTD. | N21: UND.
A22: =ORÇAMENTO!B20 -> 01 | B22: =ORÇAMENTO!E20 -> ADMINISTRAÇÃO - MENSALISTAS
A23: 1.2 | B23: =ORÇAMENTO!E21 -> ADMINISTRATIVO DE OBRAS - (OBRAS CIVIS )
B24: Quatro horas semanais, durante 4 semanas | J24: 4 | K24: 4 | L24: = | M24: =K24*J24 -> 16
K25: TOTAL | L25: = | M25: =M24 -> 16
A26: =ORÇAMENTO!B22 -> 02 | B26: =ORÇAMENTO!E22 -> SERVIÇOS PRELIMINARES
A27: =ORÇAMENTO!B23 -> 2.1 | B27: =ORÇAMENTO!E23 -> DEMOLIÇÃO MANUAL ALVENARIA TIJOLO SEM REAPROVEITAMENTO COM TRANSPORTE ATE CAÇAMBA E CARGA | P27: V3 | Q27: 2.65
B28: Demolição da parede do consultório para colocar externo o banheiro | J28: 1 | K28: 3 | L28: = | M28: =K28*J28 -> 3 | P28: V4 | Q28: 8.28
B29: desconto da porta | J29: -0.8 | K29: 2.1 | L29: = | M29: =K29*J29 -> -1.68
K30: TOTAL | L30: = | M30: =SUM(M28:M29) -> 1.32 | P30: V5 | Q30: 4.1
A31: =ORÇAMENTO!B24 -> 2.2 | B31: =ORÇAMENTO!E24 -> REMOÇÃO MANUAL DE JANELA OU PORTAL COM TRANSPORTE ATÉ CAÇAMBA E CARGA | P31: V6 | Q31: 2.5
B32: Porta da entrada | I32: 2.5 | J32: 2.1 | K32: 2 | L32: = | M32: =I32*J32*K32 -> 10.5 | P32: V7 | Q32: 12.83
B33: Portas da cozinha | I33: 0.9 | J33: 2.1 | K33: 2 | L33: = | M33: =I33*J33*K33 -> 3.78
B34: Porta do consultório | I34: 0.8 | J34: 2.1 | K34: 1 | L34: = | M34: =I34*J34*K34 -> 1.68
B35: Janela do consultório | I35: 2 | J35: 1.5 | K35: 1 | L35: = | M35: =I35*J35*K35 -> 3
K36: TOTAL | L36: = | M36: =SUM(M32:M35) -> 18.96 | P36: V8 | Q36: 6.96
A37: =ORÇAMENTO!B25 -> 2.3 | B37: =ORÇAMENTO!E25 -> DEMOLIÇÃO MANUAL DE REVESTIMENTOS COM AZULEJO COM TRANSPORTE ATE CAÇAMBA E CARGA | P37: V6 | Q37: 2.5
B38: Revestimento solto da cozinha | I38: 3.93 | J38: 3 | K38: 1 | L38: = | M38: =I38*J38*K38 -> 11.79 | P38: V7 | Q38: 12.83
B39: Desconto j02 | I39: 1.5 | J39: 1.5 | K39: -1 | L39: = | M39: =I39*J39*K39 -> -2.25
K40: TOTAL | L40: = | M40: =SUM(M38:M39) -> 9.54 | P40: V8 | Q40: 6.96
A41: =ORÇAMENTO!B26 -> 03 | B41: =ORÇAMENTO!E26 -> ALVENARIAS E DIVISÓRIAS
A42: =ORÇAMENTO!B27 -> 3.1 | B42: =ORÇAMENTO!E27 -> ALVENARIA DE TIJOLO FURADO 1/2 VEZ 14X29X9 - 6 FUROS - ARG. (1CALH:4ARML+100KG DE CI/M3)
B43: Alvenaria de deslocamento da porta do consultório | I43: 1 | J43: 3 | K43: 1 | L43: = | M43: =K43*J43*I43 -> 3
B44: Alvenaria de diferença das areas das janelas | I44: =2-1.5 -> 0.5 | J44: 1 | K44: 1 | L44: = | M44: =K44*J44*I44 -> 0.5
B45: Desconto Porta do consultório | I45: 0.9 | J45: 2.1 | K45: -1 | L45: = | M45: =K45*J45*I45 -> -1.89
K46: TOTAL | L46: = | M46: =SUM(M43:M45) -> 1.61
A47: =ORÇAMENTO!B28 -> 04 | B47: =ORÇAMENTO!E28 -> REVESTIMENTO DE PAREDES
A48: =ORÇAMENTO!B29 -> 4.1 | B48: =ORÇAMENTO!E29 -> CHAPISCO ROLADO - (1COLA:10CI:30 ARML)
B49: Área = área de alvenaria c/ descontos de esquadrias x 2 | J49: =M46 -> 1.61 | K49: 2 | L49: = | M49: =K49*J49 -> 3.22
K50: TOTAL | L50: = | M50: =SUM(M49:M49) -> 3.22
A51: =ORÇAMENTO!B30 -> 4.2 | B51: =ORÇAMENTO!E30 -> REBOCO (1 CALH:4 ARFC+100kgCI/M3)
...

Sheet ORÇAMENTO
B9: OBRA: | C9: REFORMA CENTRO DE ATENÇÃO PSICOSSOCIAL RADION JOAQUIM DE CARVALHO
B10: ENDEREÇO: | C10: AV. FREDERICO SARAIVA, N° 700 - BAIRRO OLIMPIA
B11: REFERENCIA: | C11: SINAPI - SISTEMA NACIONAL DE PESQUISA DE CUSTOS E ÍNDICES DA CONSTRUÇÃO CIVIL (SI) - SETEMBRO/2024
B12: DATA BASE: | C12: 45536
B13: REFERENCIA: | C13: GOINFRA - TABELA DE CUSTOS DE OBRAS CIVIS - T259 - JUN/2024 (GO) - SEM DESONERAÇÃO
B14: DATA BASE: | C14: 45444
B15: MODALIDADE: | C15: TERCERIZÇÃO GLOBAL
B16: BDI: | C16: =BDI!P38 -> 0.23339528 | M16: Bom Jesus-GO, 15 de outubro de 2024.
B18: PLANILHA ORÇAMENTÁRIA
B19: ITEM | C19: CÓDIGO | D19: TAB. | E19: DISCRIMINAÇÃO | F19: UN. | G19: QTD. | H19: CUSTO MAT. | I19: CUSTO M.O. | J19: VALOR UNIT. | K19: VALOR UNITARIO C/ BDI | L19: VALOR TOTAL | M19: VALOR TOTAL C/ BDI
B20: 01 | C20: 187 | E20: ADMINISTRAÇÃO - MENSALISTAS | L20: =SUM(L21) -> 352 | M20: =SUM(M21) -> 434.15514 | O20: =L20*(1+$C$16) -> 434.15514
B21: 1.2 | C21: 250112 | D21: GO | E21: ADMINISTRATIVO DE OBRAS - (OBRAS CIVIS ) | F21: h | G21: ='MEMÓRIA DE CÁLCULO'!M25 -> 16 | H21: 0 | I21: 22 | J21: =I21+H21 -> 22 | K21: =J21*(1+$C$16) -> 27.134696 | L21: =G21*J21 -> 352 | M21: =K21*G21 -> 434.15514
B22: 02 | C22: 164 | E22: SERVIÇOS PRELIMINARES | L22: =SUM(L23:L25) -> 224.6814 | M22: =SUM(M23:M25) -> 277.12098 | O22: =L22*(1+$C$16) -> 277.12098
B23: 2.1 | C23: 20118 | D23: GO | E23: DEMOLIÇÃO MANUAL ALVENARIA TIJOLO SEM REAPROVEITAMENTO COM TRANSPORTE ATE CAÇAMBA E CARGA | F23: m² | G23: ='MEMÓRIA DE CÁLCULO'!M30 -> 1.32 | H23: 0 | I23: 42.4 | J23: =I23+H23 -> 42.4 | K23: =J23*(1+$C$16) -> 52.29596 | L23: =G23*J23 -> 55.968 | M23: =K23*G23 -> 69.030667
B24: 2.2 | C24: 20106 | D24: GO | E24: REMOÇÃO MANUAL DE JANELA OU PORTAL COM TRANSPORTE ATÉ CAÇAMBA E CARGA | F24: m² | G24: ='MEMÓRIA DE CÁLCULO'!M36 -> 18.96 | H24: 0 | I24: 6.77 | J24: =I24+H24 -> 6.77 | K24: =J24*(1+$C$16) -> 8.350086 | L24: =G24*J24 -> 128.3592 | M24: =K24*G24 -> 158.31763
B25: 2.3 | C25: 20115 | D25: GO | E25: DEMOLIÇÃO MANUAL DE REVESTIMENTOS COM AZULEJO COM TRANSPORTE ATE CAÇAMBA E CARGA | F25: m² | G25: ='MEMÓRIA DE CÁLCULO'!M40 -> 9.54 | H25: 0 | I25: 4.23 | J25: =I25+H25 -> 4.23 | K25: =J25*(1+$C$16) -> 5.217262 | L25: =G25*J25 -> 40.3542 | M25: =K25*G25 -> 49.77268
B26: 03 | C26: 172 | E26: ALVENARIAS E DIVISÓRIAS | L26: =L27 -> 87.66 | M26: =M27 -> 108.12 | O26: =L26*(1+$C$16) -> 108.11943
B27: 3.1 | C27: 100160 | D27: GO | E27: ALVENARIA DE TIJOLO FURADO 1/2 VEZ 14X29X9 - 6 FUROS - ARG. (1CALH:4ARML+100KG DE CI/M3) | F27: m² | G27: ='MEMÓRIA DE CÁLCULO'!M46 -> 1.61 | H27: 24.61 | I27: 29.84 | J27: =I27+H27 -> 54.45 | K27: =J27*(1+$C$16) -> 67.158373 | L27: =ROUND(G27*J27,2) -> 87.66 | M27: =ROUND(G27*K27,2) -> 108.12
B28: 04 | C28: 182 | E28: REVESTIMENTO DE PAREDES | L28: =SUM(L29:L31) -> 707.9694 | M28: =SUM(M29:M31) -> 873.20611 | O28: =L28*(1+$C$16) -> 873.20611
B29: 4.1 | C29: 200150 | D29: GO | E29: CHAPISCO ROLADO - (1COLA:10CI:30 ARML) | F29: m² | G29: ='MEMÓRIA DE CÁLCULO'!M50 -> 3.22 | H29: 3.67 | I29: 1.29 | J29: =I29+H29 -> 4.96 | K29: =J29*(1+$C$16) -> 6.1176406 | L29: =J29*G29 -> 15.9712 | M29: =G29*K29 -> 19.698803
B30: 4.2 | C30: 200403 | D30: GO | E30: REBOCO (1 CALH:4 ARFC+100kgCI/M3) | F30: m² | G30: ='MEMÓRIA DE CÁLCULO'!M52 -> 3.22 | H30: 2.93 | I30: 16.11 | J30: =I30+H30 -> 19.04 | K30: =J30*(1+$C$16) -> 23.483846 | L30: =J30*G30 -> 61.3088 | M30: =G30*K30 -> 75.617984
B31: 4.3 | C31: 87273 | D31: SI | E31: REVESTIMENTO CERÂMICO PARA PAREDES INTERNAS COM PLACAS TIPO ESMALTADA EXTRA DE DIMENSÕES 33X45 CM APLICADAS NA ALTURA INTEIRA DAS PAREDES. AF_02/2023_PE | F31: m² | G31: ='MEMÓRIA DE CÁLCULO'!M55 -> 10.494 | H31: 39.21 | I31: 20.89 | J31: =I31+H31 -> 60.1 | K31: =J31*(1+$C$16) -> 74.127056 | L31: =J31*G31 -> 630.6894 | M31: =G31*K31 -> 777.88933
B32: 05 | C32: 179 | E32: ESQUADRIAS DE MADEIRAS | L32: =SUM(L33) -> 1596.36 | M32: =SUM(M33) -> 1968.9429 | O32: =L32*(1+$C$16) -> 1968.9429
B33: 5.1 | C33: 170110 | D33: GO | E33: PORTA LISA 90X210 COM PORTAL E ALISAR SEM FERRAGENS | F33: un | G33: ='MEMÓRIA DE CÁLCULO'!M59 -> 2 | H33: 636.19 | I33: 161.99 | J33: =I33+H33 -> 798.18 | K33: =J33*(1+$C$16) -> 984.47144 | L33: =J33*G33 -> 1596.36 | M33: =K33*G33 -> 1968.9429
B34: 06 | C34: 180 | E34: ESQUADRIAS METÁLICAS | L34: =SUM(L35:L39) -> 6072.584 | M34: =SUM(M35:M39) -> 7489.8964 | O34: =L34*(1+$C$16) -> 7489.8964
B35: 6.1 | C35: 180507 | D35: GO | E35: PORTA DE CORRER DE 02 OU 04 FOLHAS DE VIDRO (METADE FIXA/METADE MÓVEL) C/BASCULA SUPERIOR PF-7/PF-8 C/ FERRAGENS | F35: m² | G35: ='MEMÓRIA DE CÁLCULO'!M62 -> 5.25 | H35: 300.59 | I35: 48.74 | J35: =I35+H35 -> 349.33 | K35: =J35*(1+$C$16) -> 430.86197 | L35: =J35*G35 -> 1833.9825 | M35: =K35*G35 -> 2262.0254
B36: 6.2 | C36: 180113 | D36: GO | E36: PORTA DE ABRIR EM ALUMÍNIO ANODIZADO, 01 FOLHA COM VIDRO, COM FERRAGENS (M.O.FAB.INC.MAT.) | F36: m² | G36: ='MEMÓRIA DE CÁLCULO'!M65 -> 1.89 | H36: 728.32 | I36: 45.03 | J36: =I36+H36 -> 773.35 | K36: =J36*(1+$C$16) -> 953.84624 | L36: =J36*G36 -> 1461.6315 | M36: =K36*G36 -> 1802.7694
B37: 6.3 | C37: 230202 | D37: GO | E37: DOBRADICA 3" X 3 1/2" CROMADA | F37: un | G37: ='MEMÓRIA DE CÁLCULO'!M68 -> 9 | H37: 8.61 | I37: 9.86 | J37: =I37+H37 -> 18.47 | K37: =J37*(1+$C$16) -> 22.780811 | L37: =J37*G37 -> 166.23 | M37: =K37*G37 -> 205.0273
B38: 6.4 | C38: 230102 | D38: GO | E38: FECH.(ALAV.) LAFONTE 6236 I /8766- I18 IMAB OU EQUIV. | F38: un | G38: ='MEMÓRIA DE CÁLCULO'!M70 -> 4 | H38: 141.28 | I38: 23.41 | J38: =I38+H38 -> 164.69 | K38: =J38*(1+$C$16) -> 203.12787 | L38: =J38*G38 -> 658.76 | M38: =K38*G38 -> 812.51147
B39: 6.5 | C39: 180112 | D39: GO | E39: JANELA DE CORRER EM ALUMINIO ANODIZADO COM 03 FOLHAS (01 VIDRO E 02 VENEZIANAS) C/FERRAGENS (M.O.FAB.INC.MAT.) | F39: m² | G39: ='MEMÓRIA DE CÁLCULO'!M73 -> 1.5 | H39: 1253.32 | I39: 48 | J39: =I39+H39 -> 1301.32 | K39: =J39*(1+$C$16) -> 1605.0419 | L39: =J39*G39 -> 1951.98 | M39: =K39*G39 -> 2407.5629
B40: 07 | C40: 188 | E40: PINTURA | L40: =SUM(L41:L47) -> 34506.52 | M40: =SUM(M41:M47) -> 42560.179 | O40: =L40*(1+$C$16) -> 42560.179
B41: 7.1 | C41: 260104 | D41: GO | E41: REMOCAO DE PINTURA ANTIGA A LATEX | F41: m² | G41: ='MEMÓRIA DE CÁLCULO'!M77 -> 885.082 | H41: 0 | I41: 5.84 | J41: =I41+H41 -> 5.84 | K41: =J41*(1+$C$16) -> 7.2030284 | L41: =J41*G41 -> 5168.8789 | M41: =K41*G41 -> 6375.2708
B42: 7.2 | C42: 260105 | D42: GO | E42: REMOCAO DE PINTURA ANTIGA A OLEO OU ESMALTE | F42: m² | G42: ='MEMÓRIA DE CÁLCULO'!M80 -> 45.91 | H42: 1.75 | I42: 7.31 | J42: =I42+H42 -> 9.06 | K42: =J42*(1+$C$16) -> 11.174561 | L42: =J42*G42 -> 415.9446 | M42: =K42*G42 -> 513.02411
B43: 7.3 | C43: 261300 | D43: GO | E43: EMASSAMENTO COM MASSA PVA DUAS DEMAOS, INCLUSIVE TETO | F43: m² | G43: ='MEMÓRIA DE CÁLCULO'!M83 -> 885.082 | H43: 2.41 | I43: 10.22 | J43: =I43+H43 -> 12.63 | K43: =J43*(1+$C$16) -> 15.577782 | L43: =J43*G43 -> 11178.586 | M43: =K43*G43 -> 13787.615
B44: 7.4 | C44: 261000 | D44: GO | E44: PINTURA LATEX ACRILICA 2 DEMAOS C/SELADOR | F44: m² | G44: ='MEMÓRIA DE CÁLCULO'!M181 -> 1106.3525 | H44: 4.93 | I44: 8.38 | J44: =I44+H44 -> 13.31 | K44: =J44*(1+$C$16) -> 16.416491 | L44: =J44*G44 -> 14725.552 | M44: =K44*G44 -> 18162.426
B45: 7.5 | C45: 261602 | D45: GO | E45: PINTURA TINTA ESMALTE PARA ESQUADRIAS DE FERRO C FUNDO ANTICORROSIVO | F45: m² | G45: ='MEMÓRIA DE CÁLCULO'!M191 -> 91.82 | H45: 10.52 | I45: 15.66 | J45: =I45+H45 -> 26.18 | K45: =J45*(1+$C$16) -> 32.290288 | L45: =J45*G45 -> 2403.8476 | M45: =K45*G45 -> 2964.8943
B46: 7.6 | C46: 260901 | D46: GO | E46: PINTURA VERNIZ EM MADEIRA 2 DEMAOS | F46: m² | G46: ='MEMÓRIA DE CÁLCULO'!M195 -> 21.84 | H46: 17.59 | I46: 7.01 | J46: =I46+H46 -> 24.6 | K46: =J46*(1+$C$16) -> 30.341524 | L46: =J46*G46 -> 537.264 | M46: =K46*G46 -> 662.65888
B47: 7.7 | C47: 261703 | D47: GO | E47: PINTURA TINTA POLIESPORTIVA - 2 DEMÃOS (PISOS E CIMENTADOS) | F47: m² | G47: ='MEMÓRIA DE CÁLCULO'!M198 -> 5.94 | H47: 3.46 | I47: 9.41 | J47: =I47+H47 -> 12.87 | K47: =J47*(1+$C$16) -> 15.873797 | L47: =J47*G47 -> 76.4478 | M47: =K47*G47 -> 94.290356
B48: 08 | C48: 189 | E48: DIVERSOS | L48: =SUM(L49:L50) -> 8067.305 | M48: =SUM(M49:M50) -> 9950.1759 | O48: =L48*(1+$C$16) -> 9950.1759
B49: 8.1 | C49: 270501 | D49: GO | E49: LIMPEZA FINAL DE OBRA - (OBRAS CIVIS) | F49: m² | G49: ='MEMÓRIA DE CÁLCULO'!M201 -> 400 | H49: 1.91 | I49: 2.19 | J49: =I49+H49 -> 4.1 | K49: =J49*(1+$C$16) -> 5.0569206 | L49: =J49*G49 -> 1640 | M49: =K49*G49 -> 2022.7683
...

Sheet BDI
H3: ESTADO DE GOIÁS
H5: MUNICÍPIO DE BOM JESUS
C7: COMPOSIÇÃO DA PARCELA DE BDI
C8: PLANILHA ANALÍTICA DE BONIFICAÇÃO E DESPESAS INDIRETAS
C9: (SEM DESONERAÇÃO DA MÃO DE OBRA)
C10: 1.0 | D10: DESPESAS INDIRETAS | P10: % sobre Preço de Venda
C11: 1.1 | D11: ADMINISTRAÇÃO DA OBRA | P11: =P12+P13+P14+P15 -> 5.65
C12: A | D12: Administração Central | P12: 4 | R12: =P12/100 -> 0.04
C13: B | D13: Despesas Financeiras | P13: 0.56 | R13: =P13/100 -> 0.0056
C14: C | D14: Risco | P14: 0.97 | R14: =P14/100 -> 0.0097
C15: D | D15: Seguros e Garantias | P15: 0.12 | R15: =P15/100 -> 0.0012
C16: 1.2 | D16: TRIBUTO | P16: =P17+P18+P19+P20 -> 8.15 | R16: =R17+R18+R19+R20 -> 0.0815
C17: E | D17: PIS | P17: 0.65 | R17: =P17/100 -> 0.0065
C18: F | D18: COFINS | P18: 3 | R18: =P18/100 -> 0.03
C19: G | D19: ISS | P19: 0 | R19: =P19/100 -> 0
C20: H | D20: CPRB | P20: 4.5 | R20: =P20/100 -> 0.045
C21: 2.0 | D21: LUCRO | P21: =P22 -> 7.2
C22: I | D22: Lucro | P22: 7.2 | R22: =P22/100 -> 0.072
D24: BDI = | F24: (1+AC+S+R+G)*(1+DF)*(1+L)
F25: ________________________ | K25: -1
H26: (1-l)
D27: SENDO:
D28: AC: | F28: taxa de administração central;
D29: S: | F29: taxa de seguros;
D30: R: | F30: taxa de riscos;
D31: G: | F31: taxa de garantias;
D32: DF: | F32: taxa de despesas financeiras;
D33: L: | F33: taxa de lucro/remuneração;
D34: l: | F34: taxa de incidência de impostos (PIS, COFINS,ISS,CPRB).
D35: BDI: | K35: (((1+0,0380+0,0032+0,0050)*(1+0,0102)*(1+0,0664))/(1-(0,0065+0,0300+0,0400+0,0450)))-1
D36: BDI: | E36: =(((1+R12+R14+R15)*(1+R13)*(1+R22))/(1-R16))-1 -> 0.23339528
H37: ___________________________
D38: TAXA ANALÍTICA DE BDI (%) | P38: =E36 -> 0.23339528
C39: Observações:
C40: I - | D40: Portaria n° 545, de 11 de junho de 2012, publicada no Diário Oficial de União de 12 de junho de 2012 e Lei n° 12.546/11, incluído pela Lei n° 12.844/13, publicada em Edição Extra do DOU de 19/07/2103;
C41: II - | D41: O percentual total apurado do BDI deverá incidir de forma direta sobre o somatório dos custos totais de cada item de serviço;
C42: III - | D42: Os tributos IRPJ e CSLL não deverão integrar o calculo do BDI, nem tampouco a planilha de custo direto, por se constituirem em tributos de natureza direta e personalística, que oneram pessoalmente o contratado, não devendo ser repassado à contratante, conforme Súmula/TCU n° 254/2010;
C43: IV - | D43: A inserção do item "I" decorre das alterações promovidas pela Lei n° 12.844/2013, conforme orientação do Acórdão TCU n° 2.293/2013-Plenário.
P44: =ORÇAMENTO!M16 -> Bom Jesus-GO, 15 de outubro de 2024.
I47: __________________________________________
...

Sheet CRONOGRAMA
E4: ESTADO DE GOIÁS
E6: MUNICÍPIO DE BOM JESUS
C8: =ORÇAMENTO!B9 -> OBRA: | D8: =ORÇAMENTO!C9 -> REFORMA CENTRO DE ATENÇÃO PSICOSSOCIAL RADION JOAQUIM DE CARVALHO
C9: =ORÇAMENTO!B10 -> ENDEREÇO: | D9: =ORÇAMENTO!C10 -> AV. FREDERICO SARAIVA, N° 700 - BAIRRO OLIMPIA
C10: =ORÇAMENTO!B11 -> REFERENCIA: | D10: =ORÇAMENTO!C11 -> SINAPI - SISTEMA NACIONAL DE PESQUISA DE CUSTOS E ÍNDICES DA CONSTRUÇÃO CIVIL (SI) - SETEMBRO/2024
C11: =ORÇAMENTO!B12 -> DATA BASE: | D11: =ORÇAMENTO!C12 -> 45536
C12: =ORÇAMENTO!B13 -> REFERENCIA: | D12: =ORÇAMENTO!C13 -> GOINFRA - TABELA DE CUSTOS DE OBRAS CIVIS - T259 - JUN/2024 (GO) - SEM DESONERAÇÃO
C13: =ORÇAMENTO!B14 -> DATA BASE: | D13: =ORÇAMENTO!C14 -> 45444
C14: =ORÇAMENTO!B15 -> MODALIDADE: | D14: =ORÇAMENTO!C15 -> TERCERIZÇÃO GLOBAL
C15: =ORÇAMENTO!B16 -> BDI: | D15: =ORÇAMENTO!C16 -> 0.23339528
C17: CRONOGRAMA FÍSICO - FINANCEIRO
C18: ITEM | D18: SERVIÇOS | E18: VALOR | F18: % | G18: MÊS 01
C19: =[4]ORÇAMENTO!B18 -> 1 | D19: =ORÇAMENTO!E20 -> ADMINISTRAÇÃO - MENSALISTAS | E19: =ORÇAMENTO!L20 -> 352 | F19: =E19/$E$44 -> 0.0068197124 | G19: =G21/$E$44 -> 0.0068197124
G21: =$E$19*100% -> 352
C22: =[4]ORÇAMENTO!B24 -> 2 | D22: =ORÇAMENTO!E22 -> SERVIÇOS PRELIMINARES | E22: =ORÇAMENTO!L22 -> 224.6814 | F22: =E22/$E$44 -> 0.0043530185 | G22: =G24/$E$44 -> 0.0043530185
G24: =E22 -> 224.6814
C25: =[4]ORÇAMENTO!B27 -> 3 | D25: =ORÇAMENTO!E26 -> ALVENARIAS E DIVISÓRIAS | E25: =ORÇAMENTO!L26 -> 87.66 | F25: =E25/$E$44 -> 0.0016983409 | G25: =G27/$E$44 -> 0.0016983409
G27: =E25 -> 87.66
C28: =[4]ORÇAMENTO!B30 -> 4 | D28: =ORÇAMENTO!E28 -> REVESTIMENTO DE PAREDES | E28: =ORÇAMENTO!L28 -> 707.9694 | F28: =E28/$E$44 -> 0.013716329 | G28: =G30/$E$44 -> 0.013716329
G30: =E28 -> 707.9694
C31: =[5]ORÇAMENTO!B37 -> 5 | D31: =ORÇAMENTO!E32 -> ESQUADRIAS DE MADEIRAS | E31: =ORÇAMENTO!L32 -> 1596.36 | F31: =E31/$E$44 -> 0.030928171 | G31: =G33/$E$44 -> 0.030928171
G33: =E31 -> 1596.36
C34: =[5]ORÇAMENTO!B40 -> 6 | D34: =ORÇAMENTO!E34 -> ESQUADRIAS METÁLICAS | E34: =ORÇAMENTO!L34 -> 6072.584 | F34: =E34/$E$44 -> 0.11765135 | G34: =G36/$E$44 -> 0.11765135
G36: =E34 -> 6072.584
C37: =[5]ORÇAMENTO!B44 -> 7 | D37: =ORÇAMENTO!E40 -> PINTURA | E37: =ORÇAMENTO!L40 -> 34506.52 | F37: =E37/$E$44 -> 0.66853563 | G37: =G39/$E$44 -> 0.66853563
G39: =E37 -> 34506.52
C40: =[5]ORÇAMENTO!B53 -> 8 | D40: =ORÇAMENTO!E48 -> DIVERSOS | E40: =ORÇAMENTO!L48 -> 8067.305 | F40: =E40/$E$44 -> 0.15629744 | G40: =G42/$E$44 -> 0.15629744
G42: =E40 -> 8067.305
D43: VALOR TOTAL MENSAL S/BDI | G43: =G33+G30+G27+G24+G21+G42+G39+G36 -> 51615.08
D44: VALOR TOTAL ACUMULADO S/ BDI | E44: =E40+E37+E34+E31+E28+E25+E22+E19 -> 51615.08 | G44: =G43 -> 51615.08
D45: VALOR TOTAL MENSAL C/ BDI (28,29%) | G45: =G43*(1+D15) -> 63661.796
D46: VALOR TOTAL ACUMULADO C/ BDI (27,70%) | E46: =E44*(1+D15) -> 63661.796 | G46: =G45 -> 63661.796
D47: PERCENTUAL TOTAL MENSAL | G47: =G28+G31+G25+G22+G19+G40+G37+G34 -> 1
D48: PERCENTUAL TOTAL ACUMULADO | F48: =SUM(F19:F42) -> 1 | G48: =G47 -> 1
G49: =BDI!P44 -> Bom Jesus-GO, 15 de outubro de 2024.
E51: _______________________________________________
E52: =ORÇAMENTO!B58 -> Yanne Duarte Gonzaga
E53: =ORÇAMENTO!B59 -> Engenheira Civil CREA-GO 1022369989/AP
