Workbook
Name CONCATENAR: CONCATENATE(#REF!," ",#REF!)
Name CONCATENAR: CONCATENATE(#REF!," ",#REF!)
Name CONCATENAR: CONCATENATE([2]Banco!$B1," ",[2]Banco!$C1)
Name Cot.LP.Banco: #REF!
Name Cot.LP.Banco: #REF!
Name Cot.LP.Cot: #REF!
Name Cot.LP.Cot: #REF!
Name Cot.LP.Cotacao: #REF!
Name Cot.LP.Cotacao: #REF!
Name Cot.LP.Empresa: #REF!
Name Cot.LP.Indice: #REF!
Name DescForms: #REF!
Name DescForms: #REF!
Name EMPRESAS: OFFSET(#REF!,1,0):OFFSET(#REF!,-1,0)
Name EMPRESAS: OFFSET([3]Cotações!#REF!,1,0):OFFSET([3]Cotações!#REF!,-1,0)
Name EMPRESAS: OFFSET(#REF!,1,0):OFFSET(#REF!,-1,0)
Name EMPRESAS: OFFSET([4]Cotações!#REF!,1,0):OFFSET([4]Cotações!#REF!,-1,0)
Name FiltroCot: #REF!
Name FiltroCot: #REF!
Name INDICES: OFFSET(#REF!,1,0):OFFSET(#REF!,-1,0)
Name INDICES: OFFSET([3]Cotações!#REF!,1,0):OFFSET([3]Cotações!#REF!,-1,0)
Name INDICES: OFFSET(#REF!,1,0):OFFSET(#REF!,-1,0)
Name INDICES: OFFSET([4]Cotações!#REF!,1,0):OFFSET([4]Cotações!#REF!,-1,0)
Name JR_PAGE_ANCHOR_0_1: #REF!
Name JR_PAGE_ANCHOR_0_1: #REF!
Name JR_PAGE_ANCHOR_0_1: #REF!
Name JR_PAGE_ANCHOR_0_1: #REF!
Name JR_PAGE_ANCHOR_0_1: #REF!
Name NCOMPOSICOES: 27
Name NCOTACOES: 19
Name NEMPRESAS: 33
Name NINDICES: 3
Name NRELATORIOS: COUNTA(#REF!)-2
Name NRELATORIOS: COUNTA(#REF!)-2
Name NRELATORIOS: COUNTA([2]Relatórios!$A:$A)-2
Name NumerEmpresa: 33
Name NumerIndice: 3
Name Objeto: "Referência"
Name OQUE: #REF!
Name OQUE: #REF!
Name PLANOS: #REF!
Name PLANOS: #REF!
Name PLANOS.: #REF!
Name PLANOS.: #REF!
Name RelatoriosFontes: OFFSET(#REF!,1,0,ANALÍTICO!NRELATORIOS)
Name RelatoriosFontes: OFFSET([2]Relatórios!$A$5,1,0,NRELATORIOS)
Name RelatoriosFontes: OFFSET([2]Relatórios!$A$5,1,0,NRELATORIOS)
Name RelatoriosFontes: OFFSET(#REF!,1,0,CRONOGRAMA!NRELATORIOS)
Name RelatoriosFontes: OFFSET([2]Relatórios!$A$5,1,0,NRELATORIOS)
Name RelatoriosFontes: OFFSET([2]Relatórios!$A$5,1,0,NRELATORIOS)

Sheet DADOS
A1: DADOS INICIAIS
A3: DADOS DO MUNICÍPIO
A4: Proponente/Tomador: | B4: PREFEITURA MUNICIPAL DE SÃO FELIPE/BA | E4: PREENCHER CAMPOS AMARELOS
A5: Município/UF: | B5: SÃO FELIPE/BA
A7: DADOS DO EMPREENDIMENTO E ORÇAMENTO
A8: Nome/Objeto: | B8: CONSTRUÇÃO DE SUBESTAÇÃO EM CRECHE TIPO I, PADRÃO FNDE, NO MUNICÍPIO DE SÃO FELIPE/BA
A9: Data-Base do Orçamento:
A10: Valor do BDI (%): | B10: 0.25
A11: BDI INSUMO (%):
A13: RESPONSÁVEL PELO ORÇAMENTO
A14: Nome: | B14: Cindy Oliveira de Souza
A15: Título: | B15: Engenheira Civil
A16: CREA/CAU: | B16: CREA-BA 052237185-0
A17: Data do Preenchimento: | B17: =TODAY() -> 45867
A19: RESPONSÁVEL PELO TOMADOR (PREFEITO)
A20: Nome:
A21: Cargo: | B21: Prefeito Municipal
A24: PROCESSO LICITATÓRIO
A26: LICITAÇÃO
A27: Nome da Empresa
A28: CNPJ:
A29: Nº do Contrato:
A32: ACOMPANHAMENTO DO EMPREENDIMENTO
A34: DADOS DA OBRA
A35: Data de Início da Obra:
A36: Data do Fechamento do BM:
A38: RESPONSÁVEL PELA FISCALIZAÇÃO
A39: Nome:
A40: Título:
A41: CREA/CAU:

Sheet BDI
E1: MIN | F1: MED | G1: MAX | N1: ="Quadro de Composição do BDI "&MID(CELL("nome.arquivo",N1),5+FIND("BDI (",CELL("nome.arquivo",N1)),1) -> #VALUE!
A2: Construção e Reforma de Edifícios | B2: AC | C2: =CONCATENATE(A2,"-",B2) -> Construção e Reforma de Edifícios-AC | E2: 0.03 | F2: 0.04 | G2: 0.055
A3: =A2 -> Construção e Reforma de Edifícios | B3: SG | C3: =CONCATENATE(A3,"-",B3) -> Construção e Reforma de Edifícios-SG | E3: 0.008 | F3: 0.008 | G3: 0.01
A4: =A3 -> Construção e Reforma de Edifícios | B4: R | C4: =CONCATENATE(A4,"-",B4) -> Construção e Reforma de Edifícios-R | E4: 0.0097 | F4: 0.0127 | G4: 0.0127 | I4: Nº TC/CR | K4: PROPONENTE / TOMADOR
A5: =A4 -> Construção e Reforma de Edifícios | B5: DF | C5: =CONCATENATE(A5,"-",B5) -> Construção e Reforma de Edifícios-DF | E5: 0.0059 | F5: 0.0123 | G5: 0.0139 | I5: 1039250-00 | K5: Prefeitura Municipal
I6: QUADRO DE COMPOSIÇÃO DE BDI
A7: =A5 -> Construção e Reforma de Edifícios | B7: L | C7: =CONCATENATE(A7,"-",B7) -> Construção e Reforma de Edifícios-L | E7: 0.0616 | F7: 0.074 | G7: 0.0896
A8: =A7 -> Construção e Reforma de Edifícios | B8: BDI PAD | C8: =CONCATENATE(A8,"-",B8) -> Construção e Reforma de Edifícios-BDI PAD | E8: 0.2034 | F8: 0.2212 | G8: 0.25 | I8: OBJETO
A9: Construção de Praças Urbanas, Rodovias, Ferrovias e recapeamento e pavimentação de vias urbanas | B9: AC | C9: =CONCATENATE(A9,"-",B9) -> Construção de Praças Urbanas, Rodovias, Ferrovias e recapeamento e pavimentação de vias urbanas-AC | E9: 0.038 | F9: 0.0401 | G9: 0.0467 | I9: PROJETO DE SINALIZAÇÃO E ADEQUAÇÃO DO CANTEIRO
A10: Construção de Praças Urbanas, Rodovias, Ferrovias e recapeamento e pavimentação de vias urbanas | B10: SG | C10: =CONCATENATE(A10,"-",B10) -> Construção de Praças Urbanas, Rodovias, Ferrovias e recapeamento e pavimentação de vias urbanas-SG | E10: 0.0032 | F10: 0.004 | G10: 0.0074
I11: PREFEITURA MUNICIPAL DE SÃO FELIPE
I15: =DADOS!B8 -> CONSTRUÇÃO DE SUBESTAÇÃO EM CRECHE TIPO I, PADRÃO FNDE, NO MUNICÍPIO DE SÃO FELIPE/BA | O15: BDI : | P15: =N41 -> 0.25
N17: Fonte
N18: SINAPI | O18: 2025/01 | P18: SEM DESONERAÇÃO
N19: ORSE | O19: 2025/01 | P19: SEM DESONERAÇÃO
N20: PRÓPRIA | O20: PRÓPRIA | P20: SEM DESONERAÇÃO
I23: QUADRO DE COMPOSIÇÃO DE BDI
A25: Construção de Praças Urbanas, Rodovias, Ferrovias e recapeamento e pavimentação de vias urbanas | B25: R | C25: =CONCATENATE(A25,"-",B25) -> Construção de Praças Urbanas, Rodovias, Ferrovias e recapeamento e pavimentação de vias urbanas-R | E25: 0.005 | F25: 0.0056 | G25: 0.0097 | I25: TIPO DE OBRA DO EMPREENDIMENTO | Q25: DESONERAÇÃO
A26: Construção de Praças Urbanas, Rodovias, Ferrovias e recapeamento e pavimentação de vias urbanas | B26: DF | C26: =CONCATENATE(A26,"-",B26) -> Construção de Praças Urbanas, Rodovias, Ferrovias e recapeamento e pavimentação de vias urbanas-DF | E26: 0.0102 | F26: 0.0111 | G26: 0.0121 | I26: Construção e Reforma de Edifícios | Q26: Não
A27: Construção de Praças Urbanas, Rodovias, Ferrovias e recapeamento e pavimentação de vias urbanas | B27: L | C27: =CONCATENATE(A27,"-",B27) -> Construção de Praças Urbanas, Rodovias, Ferrovias e recapeamento e pavimentação de vias urbanas-L | E27: 0.0664 | F27: 0.073 | G27: 0.0869
A28: Construção de Praças Urbanas, Rodovias, Ferrovias e recapeamento e pavimentação de vias urbanas | B28: BDI PAD | C28: =CONCATENATE(A28,"-",B28) -> Construção de Praças Urbanas, Rodovias, Ferrovias e recapeamento e pavimentação de vias urbanas-BDI PAD | E28: 0.196 | F28: 0.2097 | G28: 0.2423 | I28: Conforme legislação tributária municipal, definir estimativa de percentual da base de cálculo para o ISS: | Q28: 0.5
A29: Construção de Redes de Abastecimento de Água, Coleta de Esgoto | B29: AC | C29: =CONCATENATE(A29,"-",B29) -> Construção de Redes de Abastecimento de Água, Coleta de Esgoto-AC | E29: 0.0343 | F29: 0.0493 | G29: 0.0671 | I29: Sobre a base de cálculo, definir a respectiva alíquota do ISS (entre 2% e 5%): | Q29: 0.05
A30: =A29 -> Construção de Redes de Abastecimento de Água, Coleta de Esgoto | B30: SG | C30: =CONCATENATE(A30,"-",B30) -> Construção de Redes de Abastecimento de Água, Coleta de Esgoto-SG | E30: 0.0028 | F30: 0.0049 | G30: 0.0075
I31: Itens | M31: Siglas | N31: % Adotado | O31: Situação | P31: 1º Quartil | Q31: Médio | R31: 3º Quartil | T31: =IF(V42,"Para BDI fora do intervalo estatístico, deve ser apresentado Relatório Técnico Circunstanciado justificando a adoção do percentual de cada parcela do BDI.","")
A32: =A30 -> Construção de Redes de Abastecimento de Água, Coleta de Esgoto | B32: R | C32: =CONCATENATE(A32,"-",B32) -> Construção de Redes de Abastecimento de Água, Coleta de Esgoto-R | E32: 0.01 | F32: 0.0139 | G32: 0.0174
A33: =A32 -> Construção de Redes de Abastecimento de Água, Coleta de Esgoto | B33: DF | C33: =CONCATENATE(A33,"-",B33) -> Construção de Redes de Abastecimento de Água, Coleta de Esgoto-DF | E33: 0.0094 | F33: 0.0099 | G33: 0.0117 | I33: =IF($I$26=$A$79,"Encargos Sociais incidentes sobre a mão de obra","Administração Central") -> Administração Central | M33: =IF($I$26=$A$79,"K1","AC") -> AC | N33: 0.043 | O33: - | P33: =VLOOKUP(CONCATENATE(I$26,"-",M33),$C$2:$G$56,3,FALSE) -> 0.03 | Q33: =VLOOKUP(CONCATENATE(I$26,"-",M33),$C$2:$G$56,4,FALSE) -> 0.04 | R33: =VLOOKUP(CONCATENATE(I$26,"-",M33),$C$2:$G$56,5,FALSE) -> 0.055
A34: =A33 -> Construção de Redes de Abastecimento de Água, Coleta de Esgoto | B34: L | C34: =CONCATENATE(A34,"-",B34) -> Construção de Redes de Abastecimento de Água, Coleta de Esgoto-L | E34: 0.0674 | F34: 0.0804 | G34: 0.094 | I34: =IF($I$26=$A$79,"Administração Central da empresa ou consultoria - overhead","Seguro e Garantia") -> Seguro e Garantia | M34: =IF($I$26=$A$79,"K2","SG") -> SG | N34: 0.01 | O34: - | P34: =VLOOKUP(CONCATENATE(I$26,"-",M34),$C$2:$G$56,3,FALSE) -> 0.008 | Q34: =VLOOKUP(CONCATENATE(I$26,"-",M34),$C$2:$G$56,4,FALSE) -> 0.008 | R34: =VLOOKUP(CONCATENATE(I$26,"-",M34),$C$2:$G$56,5,FALSE) -> 0.01
A35: =A34 -> Construção de Redes de Abastecimento de Água, Coleta de Esgoto | B35: BDI PAD | C35: =CONCATENATE(A35,"-",B35) -> Construção de Redes de Abastecimento de Água, Coleta de Esgoto-BDI PAD | E35: 0.2076 | F35: 0.2418 | G35: 0.2644 | I35: =IF($I$26=$A$79,"","Risco") -> Risco | M35: =IF($I$26=$A$79,"","R") -> R | N35: 0.0127 | O35: - | P35: =VLOOKUP(CONCATENATE(I$26,"-",M35),$C$2:$G$56,3,FALSE) -> 0.0097 | Q35: =VLOOKUP(CONCATENATE(I$26,"-",M35),$C$2:$G$56,4,FALSE) -> 0.0127 | R35: =VLOOKUP(CONCATENATE(I$26,"-",M35),$C$2:$G$56,5,FALSE) -> 0.0127
A36: Construção e Manutenção de Estações e Redes de Distribuição de Energia Elétrica | B36: AC | C36: =CONCATENATE(A36,"-",B36) -> Construção e Manutenção de Estações e Redes de Distribuição de Energia Elétrica-AC | E36: 0.0529 | F36: 0.0592 | G36: 0.0793 | I36: =IF($I$26=$A$79,"","Despesas Financeiras") -> Despesas Financeiras | M36: =IF($I$26=$A$79,"","DF") -> DF | N36: 0.0139 | O36: - | P36: =VLOOKUP(CONCATENATE(I$26,"-",M36),$C$2:$G$56,3,FALSE) -> 0.0059 | Q36: =VLOOKUP(CONCATENATE(I$26,"-",M36),$C$2:$G$56,4,FALSE) -> 0.0123 | R36: =VLOOKUP(CONCATENATE(I$26,"-",M36),$C$2:$G$56,5,FALSE) -> 0.0139
A37: =A36 -> Construção e Manutenção de Estações e Redes de Distribuição de Energia Elétrica | B37: SG | C37: =CONCATENATE(A37,"-",B37) -> Construção e Manutenção de Estações e Redes de Distribuição de Energia Elétrica-SG | E37: 0.0025 | F37: 0.0051 | G37: 0.0056 | I37: =IF($I$26=$A$79,"Margem bruta da empresa de consultoria","Lucro") -> Lucro | M37: =IF($I$26=$A$79,"K3","L") -> L | N37: 0.0857 | O37: - | P37: =VLOOKUP(CONCATENATE(I$26,"-",M37),$C$2:$G$56,3,FALSE) -> 0.0616 | Q37: =VLOOKUP(CONCATENATE(I$26,"-",M37),$C$2:$G$56,4,FALSE) -> 0.074 | R37: =VLOOKUP(CONCATENATE(I$26,"-",M37),$C$2:$G$56,5,FALSE) -> 0.0896
A38: =A37 -> Construção e Manutenção de Estações e Redes de Distribuição de Energia Elétrica | B38: R | C38: =CONCATENATE(A38,"-",B38) -> Construção e Manutenção de Estações e Redes de Distribuição de Energia Elétrica-R | E38: 0.01 | F38: 0.0148 | G38: 0.0197 | I38: Tributos (impostos COFINS 3%, e PIS 0,65%) | M38: CP | N38: 0.0365 | O38: - | P38: 0.0365 | Q38: 0.0365 | R38: 0.0365
A39: =A38 -> Construção e Manutenção de Estações e Redes de Distribuição de Energia Elétrica | B39: DF | C39: =CONCATENATE(A39,"-",B39) -> Construção e Manutenção de Estações e Redes de Distribuição de Energia Elétrica-DF | E39: 0.0101 | F39: 0.0107 | G39: 0.0111 | I39: Tributos (ISS, variável de acordo com o município) | M39: ISS | N39: =IF($I$26<>$A$78,Q29*Q28,0) -> 0.025 | O39: - | P39: 0 | Q39: 0.025 | R39: 0.05
A40: =A39 -> Construção e Manutenção de Estações e Redes de Distribuição de Energia Elétrica | B40: L | C40: =CONCATENATE(A40,"-",B40) -> Construção e Manutenção de Estações e Redes de Distribuição de Energia Elétrica-L | E40: 0.08 | F40: 0.0831 | G40: 0.0951 | I40: Tributos (Contribuição Previdenciária sobre a Receita Bruta - 0% ou 4,5% - Desoneração) | M40: CPRB | N40: =IF(AND($I$26<>$A$78,Q26="Sim"),4.5%,0%) -> 0 | O40: =IF(AND(N40>=P40, N40<=R40), "OK", "Não OK") -> OK | P40: 0 | Q40: 0.045 | R40: 0.045
A41: =A40 -> Construção e Manutenção de Estações e Redes de Distribuição de Energia Elétrica | B41: BDI PAD | C41: =CONCATENATE(A41,"-",B41) -> Construção e Manutenção de Estações e Redes de Distribuição de Energia Elétrica-BDI PAD | E41: 0.24 | F41: 0.2584 | G41: 0.2786 | I41: BDI SEM desoneração (Fórmula Acórdão TCU) | M41: BDI PAD | N41: =IF($I$26=$A$78,0,ROUND((((1+N33+N34+N35)*(1+N36)*(1+N37)/(1-(N38+N39)))-1),4)) -> 0.25 | O41: =IF(OR($I$26=$A$79,$I$26=$A$78,AND(N41>=P41, N41<=R41)), "OK", "FORA DO INTERVALO") -> OK | P41: =IF($I$26=$A$78,0,VLOOKUP(CONCATENATE($I$26,"-",$M41),$C$2:$G$56,3,FALSE)) -> 0.2034 | Q41: =IF($I$26=$A$78,0,VLOOKUP(CONCATENATE($I$26,"-",$M41),$C$2:$G$56,4,FALSE)) -> 0.2212 | R41: =IF($I$26=$A$78,0,VLOOKUP(CONCATENATE($I$26,"-",$M41),$C$2:$G$56,5,FALSE)) -> 0.25
A42: Obras Portuárias, Marítimas e Fluviais | B42: AC | C42: =CONCATENATE(A42,"-",B42) -> Obras Portuárias, Marítimas e Fluviais-AC | E42: 0.04 | F42: 0.0552 | G42: 0.0785 | I42: BDI COM desoneração | M42: BDI DES | N42: =IF($I$26=$A$78,0,ROUND((((1+N33+N34+N35)*(1+N36)*(1+N37)/(1-(N38+N39+N40)))-1),4)) -> 0.25 | O42: =IF(Q26<>"Sim","",O41) | V42: =AND(COUNTA(N33:N38)=6,O41<>"ok",NOT(V44)) -> FALSE | W42: pedir anexo
A43: =A42 -> Obras Portuárias, Marítimas e Fluviais | B43: SG | C43: =CONCATENATE(A43,"-",B43) -> Obras Portuárias, Marítimas e Fluviais-SG | E43: 0.0081 | F43: 0.0122 | G43: 0.0199
A44: =A43 -> Obras Portuárias, Marítimas e Fluviais | B44: R | C44: =CONCATENATE(A44,"-",B44) -> Obras Portuárias, Marítimas e Fluviais-R | E44: 0.0146 | F44: 0.0232 | G44: 0.0316 | I44: =IF(V44,"X","") | J44: Anexo: Relatório Técnico Circunstanciado justificando a adoção do percentual de cada parcela do BDI. | V44: FALSE | W44: anexo apresentado
I46: Os valores de BDI foram calculados com o emprego da fórmula:
A47: =A44 -> Obras Portuárias, Marítimas e Fluviais | B47: DF | C47: =CONCATENATE(A47,"-",B47) -> Obras Portuárias, Marítimas e Fluviais-DF | E47: 0.0094 | F47: 0.0102 | G47: 0.0133 | L47: =IF(Q26="Sim","BDI.DES =","BDI.PAD =") -> BDI.PAD = | M47: =IF($I$26=$A$79,"(1+K1+K2)*(1+K3)","(1+AC + S + R + G)*(1 + DF)*(1+L)") -> (1+AC + S + R + G)*(1 + DF)*(1+L) | P47: - 1
A48: =A47 -> Obras Portuárias, Marítimas e Fluviais | B48: L | C48: =CONCATENATE(A48,"-",B48) -> Obras Portuárias, Marítimas e Fluviais-L | E48: 0.0714 | F48: 0.084 | G48: 0.1043 | M48: =IF(Q26="Sim","(1-CP-ISS-CRPB)","(1-CP-ISS)") -> (1-CP-ISS)
...

Sheet BA
A1: PREFEITURA MUNICIPAL DE SÃO FELIPE
L4: 1.25
A5: OBRA: CONSTRUÇÃO DE SUBESTAÇÃO EM CRECHE TIPO I, PADRÃO FNDE, NO MUNICÍPIO DE SÃO FELIPE/BA - opção 110V | G5: BDI : | I5: 0.25
F7: Fonte
F8: SINAPI | G8: 2025/01 | I8: SEM DESONERAÇÃO
F9: ORSE | G9: 2025/01 | I9: SEM DESONERAÇÃO
F10: PRÓPRIA | G10: PRÓPRIA | I10: SEM DESONERAÇÃO
A12: Subestação da Creche Pré-Escola Tipo 1
A14: ITEM | B14: CÓDIGO | C14: DESCRIÇÃO | D14: FONTE | E14: UND | F14: QUANTIDADE | G14: PREÇO UNITÁRIO R$ | H14: PREÇO UNITÁRIO C/ BDI R$ | I14: PREÇO TOTAL COM BDI R$
A15: 1 | B15: SUBESTAÇÃO | I15: =SUM(I16:I38) -> 78639.22
A16: 1.1 | B16: 95727 | C16: ELETRODUTO RÍGIDO SOLDÁVEL, PVC, DN 25 MM (3/4"), APARENTE - FORNECIMENTO E INSTALAÇÃO. AF_10/2022 | D16: SINAPI | E16: M | F16: 10 | G16: 21.05 | H16: =ROUND(G16*L$4,2) -> 26.31 | I16: =ROUND(F16*H16,2) -> 263.1
A17: 1.2 | B17: 95728 | C17: ELETRODUTO RÍGIDO SOLDÁVEL, PVC, DN 32 MM (1"), APARENTE - FORNECIMENTO E INSTALAÇÃO. AF_10/2022 | D17: SINAPI | E17: M | F17: 10 | G17: 27.25 | H17: =ROUND(G17*L$4,2) -> 34.06 | I17: =ROUND(F17*H17,2) -> 340.6
A18: 1.3 | B18: LLES 1291 | C18: ELETRODUTO AÇO GALVANIZADO DN 100 MM (4") - FORNECIMENTO E INSTALAÇÃO | D18: PRÓPRIO | E18: M | F18: 12 | G18: 155.16 | H18: =ROUND(G18*L$4,2) -> 193.95 | I18: =ROUND(F18*H18,2) -> 2327.4
A19: 1.4 | B19: LLES 1286 | C19: Copia da ORSE (3998) - Cabeçote de alumínio de 4" - Fornecimento e instalação | D19: PRÓPRIO | E19: UN | F19: 3 | G19: 47.72 | H19: =ROUND(G19*L$4,2) -> 59.65 | I19: =ROUND(F19*H19,2) -> 178.95
A20: 1.5 | B20: LLES 1285 | C20: Copia da SINAPI (100612) - ASSENTAMENTO DE POSTE DE CONCRETO COM COMPRIMENTO NOMINAL DE 11 M, CARGA NOMINAL DE 600 DAN, ENGASTAMENTO BASE CONCRETADA COM 1 M DE CONCRETO E 0,7 M DE SOLO (INCLUI FORNECIMENTO) | D20: PRÓPRIO | E20: UN | F20: 1 | G20: 2819.89 | H20: =ROUND(G20*L$4,2) -> 3524.86 | I20: =ROUND(F20*H20,2) -> 3524.86
A21: 1.6 | B21: LLES 1885 | C21: Adapatada da ORSE (4141) e SBC (078631) - Cruzeta de concreto tipo T 2400 mm 400 Kgf, fornecimento e instalação | D21: PRÓPRIO | E21: UN | F21: 2 | G21: 346.73 | H21: =ROUND(G21*L$4,2) -> 433.41 | I21: =ROUND(F21*H21,2) -> 866.82
A22: 1.7 | B22: LLES 1877 | C22: Adapatada da ORSE (2905) e (759) - Fornecimento e instalação de mão francesa plana 726mm | D22: PRÓPRIO | E22: UN | F22: 1 | G22: 31.72 | H22: =ROUND(G22*L$4,2) -> 39.65 | I22: =ROUND(F22*H22,2) -> 39.65
A23: 1.8 | B23: LLES 1884 | C23: Adaptada da SINAPI (105973) - ESTRUTURA DE ESTAIAMENTO PARA POSTES DE CONCRETO CRUZETA A POSTE (INCLUI SELA, CINTA, PARAFUSOS, ISOLADOR, MANILHA SAPATILHA, ALÇA PRÉ-FORMADA E PORCA OLHA)- FORNECIMENTO E INSTALAÇÃO. AF_04/2025 | D23: PRÓPRIO | E23: UN | F23: 1 | G23: 518.61 | H23: =ROUND(G23*L$4,2) -> 648.26 | I23: =ROUND(F23*H23,2) -> 648.26
A24: 1.9 | B24: 96973 | C24: CORDOALHA DE COBRE NU 35 MM², NÃO ENTERRADA, COM ISOLADOR - FORNECIMENTO E INSTALAÇÃO. AF_08/2023 | D24: SINAPI | E24: M | F24: 10 | G24: 71.47 | H24: =ROUND(G24*L$4,2) -> 89.34 | I24: =ROUND(F24*H24,2) -> 893.4
A25: 1.10 | B25: 96977 | C25: CORDOALHA DE COBRE NU 50 MM², ENTERRADA - FORNECIMENTO E INSTALAÇÃO. AF_08/2023 | D25: SINAPI | E25: M | F25: 12 | G25: 57.12 | H25: =ROUND(G25*L$4,2) -> 71.4 | I25: =ROUND(F25*H25,2) -> 856.8
A26: 1.11 | B26: LLES 728 | C26: ESCAVAÇÃO E REATERRO MANUAL DE VALA COM PICARETA PARA ASSENTAMENTO DE ELETRODUTO NO SOLO, SEÇÃO 10X70 CM | D26: PRÓPRIO | E26: M | F26: 12 | G26: 7.63 | H26: =ROUND(G26*L$4,2) -> 9.54 | I26: =ROUND(F26*H26,2) -> 114.48
A27: 1.12 | B27: LLES 1827 | C27: Copia da ORSE (9379) - Haste cobreada copperweld p/aterramento d= 5/8" x 2,40m | D27: PRÓPRIO | E27: UN | F27: 4 | G27: 46.62 | H27: =ROUND(G27*L$4,2) -> 58.28 | I27: =ROUND(F27*H27,2) -> 233.12
A28: 1.13 | B28: LLES 1886 | C28: Adaptada da ORSE (4137) e SBC (065100) - Fornecimento e instalação de pára-raio de distribuição polimérico, ZnO, 10KA | D28: PRÓPRIO | E28: UN | F28: 3 | G28: 487.51 | H28: =ROUND(G28*L$4,2) -> 609.39 | I28: =ROUND(F28*H28,2) -> 1828.17
A29: 1.14 | B29: LLES 1899 | C29: Adaptada da CPOS (37.15.150) - Fornecimento e instalação de chave fusível 15kv - 300A | D29: PRÓPRIO | E29: UN | F29: 3 | G29: 470.79 | H29: =ROUND(G29*L$4,2) -> 588.49 | I29: =ROUND(F29*H29,2) -> 1765.47
A30: 1.15 | B30: 102106 | C30: TRANSFORMADOR DE DISTRIBUIÇÃO, 150 KVA, TRIFÁSICO, 60 HZ, CLASSE 15 KV, IMERSO EM ÓLEO MINERAL, INSTALAÇÃO EM POSTE (NÃO INCLUSO SUPORTE) - FORNECIMENTO E INSTALAÇÃO. AF_12/2020 | D30: SINAPI | E30: UN | F30: 1 | G30: 26141.76 | H30: =ROUND(G30*L$4,2) -> 32677.2 | I30: =ROUND(F30*H30,2) -> 32677.2
A31: 1.16 | B31: 102110 | C31: SUPORTE PARA TRANSFORMADOR EM POSTE DE CONCRETO DUPLO T - FORNECIMENTO E INSTALAÇÃO. AF_12/2020 | D31: SINAPI | E31: UN | F31: 1 | G31: 302.49 | H31: =ROUND(G31*L$4,2) -> 378.11 | I31: =ROUND(F31*H31,2) -> 378.11
A32: 1.17 | B32: LLES 1878 | C32: Adaptada da ORSE (12915) - Caixa de concreto pre moldado para aterramento, com tampa, 30 x 30 x 30, e = 5cm | D32: PRÓPRIO | E32: UN | F32: 4 | G32: 144.07 | H32: =ROUND(G32*L$4,2) -> 180.09 | I32: =ROUND(F32*H32,2) -> 720.36
A33: 1.18 | B33: LLES 1880 | C33: Copia da ORSE (8072) - Cabo de cobre isolado em EPR flexível unipolar 120mm² - 0,6Kv/1Kv/90° | D33: PRÓPRIO | E33: M | F33: 15 | G33: 163.28 | H33: =ROUND(G33*L$4,2) -> 204.1 | I33: =ROUND(F33*H33,2) -> 3061.5
A34: 1.19 | B34: LLES 1881 | C34: Copia da ORSE (9464) - Cabo de cobre isolado em EPR flexível unipolar 240mm² - 0,6Kv/1Kv/90° | D34: PRÓPRIO | E34: M | F34: 60 | G34: 299.84 | H34: =ROUND(G34*L$4,2) -> 374.8 | I34: =ROUND(F34*H34,2) -> 22488
A35: 1.20 | B35: 97884 | C35: CAIXA ENTERRADA ELÉTRICA RETANGULAR, EM CONCRETO PRÉ-MOLDADO, FUNDO COM BRITA, DIMENSÕES INTERNAS: 0,8X0,8X0,5 M. AF_12/2020 | D35: SINAPI | E35: UN | F35: 2 | G35: 883.53 | H35: =ROUND(G35*L$4,2) -> 1104.41 | I35: =ROUND(F35*H35,2) -> 2208.82
A36: 1.21 | B36: LLES 1882 | C36: Copia da ORSE (6415) - Tampa de concreto para caixas de passagem 0,80x0,80mx0,07m | D36: PRÓPRIO | E36: UN | F36: 2 | G36: 99.18 | H36: =ROUND(G36*L$4,2) -> 123.98 | I36: =ROUND(F36*H36,2) -> 247.96
A37: 1.22 | B37: LLES 1298 | C37: CAIXA PARA MEDIÇÃO COM TRANSFORMADOR DE CORRENTE 1500X1300X400 MM | D37: PRÓPRIO | E37: UN | F37: 1 | G37: 1079.49 | H37: =ROUND(G37*L$4,2) -> 1349.36 | I37: =ROUND(F37*H37,2) -> 1349.36
A38: 1.23 | B38: 101898 | C38: DISJUNTOR TERMOMAGNÉTICO TRIPOLAR, CORRENTE NOMINAL DE 400A - FORNECIMENTO E INSTALAÇÃO. AF_10/2020 | D38: SINAPI | E38: UN | F38: 1 | G38: 1301.46 | H38: =ROUND(G38*L$4,2) -> 1626.83 | I38: =ROUND(F38*H38,2) -> 1626.83
F39: VALOR TOTAL: | I39: =I15 -> 78639.22
A41: =DADOS!B5 -> SÃO FELIPE/BA | F41: =DADOS!B17 -> 45867
A42: Local | F42: Data
A47: Responsável Técnico
A48: Nome: | B48: =DADOS!B14 -> Cindy Oliveira de Souza
A49: Título: | B49: =DADOS!B15 -> Engenheira Civil
A50: CREA: | B50: =DADOS!B16 -> CREA-BA 052237185-0

Sheet CRONOGRAMA
A1: PREFEITURA MUNICIPAL DE SÃO FELIPE
A5: =DADOS!B8 -> CONSTRUÇÃO DE SUBESTAÇÃO EM CRECHE TIPO I, PADRÃO FNDE, NO MUNICÍPIO DE SÃO FELIPE/BA | G5: BDI : | H5: 0.25
F7: Fonte
F8: SINAPI | G8: 2025/01 | H8: SEM DESONERAÇÃO
F9: ORSE | G9: 2025/01 | H9: SEM DESONERAÇÃO
F10: PRÓPRIA | G10: PRÓPRIA | H10: SEM DESONERAÇÃO
A12: Edificação principal da Creche Tipo 1 - BIM
A16: CRONOGRAMA FÍSICO-FINANCEIRO
A18: Item | B18: Descrição | C18: =SUM(C19:C20) -> 78639.22 | D18: 1º mês | E18: 2º mês | F18: 3º mês | G18: 4º mês | H18: 5º mês | I18: 6º mês | J18: 7º mês | K18: 8º mês | L18: 9º mês | M18: 10º mês
A19: 1 | B19: =BA!B15 -> SUBESTAÇÃO | C19: =BA!I15 -> 78639.22 | I19: 0.3 | J19: 0.3 | K19: 0.4
D20: =D19*$C19 -> 0 | E20: =E19*$C19 -> 0 | F20: =F19*$C19 -> 0 | G20: =G19*$C19 -> 0 | H20: =H19*$C19 -> 0 | I20: =I19*$C19 -> 23591.766 | J20: =J19*$C19 -> 23591.766 | K20: =K19*$C19 -> 31455.688 | ... M20: =M19*$C19 -> 0
B22: Custo Mensal | D22: =SUM(D20) -> 0 | E22: =SUM(E20) -> 0 | F22: =SUM(F20) -> 0 | G22: =SUM(G20) -> 0 | H22: =SUM(H20) -> 0 | I22: =SUM(I20) -> 23591.766 | J22: =SUM(J20) -> 23591.766 | K22: =SUM(K20) -> 31455.688 | ... M22: =SUM(M20) -> 0
B23: % mensal | D23: =D22/$C$18 -> 0 | E23: =E22/$C$18 -> 0 | F23: =F22/$C$18 -> 0 | G23: =G22/$C$18 -> 0 | H23: =H22/$C$18 -> 0 | I23: =I22/$C$18 -> 0.3 | J23: =J22/$C$18 -> 0.3 | K23: =K22/$C$18 -> 0.4 | ... M23: =M22/$C$18 -> 0
B25: Custo Acumulado | D25: =D22 -> 0 | E25: =E22+D25 -> 0 | F25: =F22+E25 -> 0 | G25: =G22+F25 -> 0 | H25: =H22+G25 -> 0 | I25: =I22+H25 -> 23591.766 | J25: =J22+I25 -> 47183.532 | K25: =K22+J25 -> 78639.22 | L25: =L22+K25 -> 78639.22 | M25: =M22+L25 -> 78639.22
B26: % acumulado | D26: =D25/$C$18 -> 0 | E26: =E25/$C$18 -> 0 | F26: =F25/$C$18 -> 0 | G26: =G25/$C$18 -> 0 | H26: =H25/$C$18 -> 0 | I26: =I25/$C$18 -> 0.3 | J26: =J25/$C$18 -> 0.6 | K26: =K25/$C$18 -> 1 | ... M26: =M25/$C$18 -> 1
A29: =[5]DADOS!B5 -> SÃO FELIPE/BA | F29: =[5]DADOS!B17 -> 45769
A30: Local | F30: Data
A35: Responsável Técnico
A36: Nome: | B36: =[5]DADOS!B14 -> Cindy Oliveira de Souza
A37: Título: | B37: =[5]DADOS!B15 -> Engenheira Civil
A38: CREA/CAU: | B38: =[5]DADOS!B16 -> CREA-BA 052237185-0

Sheet COTAÇÕES
A1: PREFEITURA MUNICIPAL DE SÃO FELIPE
A6: 01 – NOME DA PREFEITURA PROPONENTE: | D6: 02 – DESCRIÇÃO:
A7: =DADOS!B4 -> PREFEITURA MUNICIPAL DE SÃO FELIPE/BA | D7: =DADOS!B8 -> CONSTRUÇÃO DE SUBESTAÇÃO EM CRECHE TIPO I, PADRÃO FNDE, NO MUNICÍPIO DE SÃO FELIPE/BA
A8: 03 –LOCALIDADE: | D8: 04 –DATA:
A9: =DADOS!B5 -> SÃO FELIPE/BA | D9: =DADOS!B17 -> 45867
E11: BDI : | F11: =DADOS!B10 -> 0.25
A12: =BA!A5 -> OBRA: CONSTRUÇÃO DE SUBESTAÇÃO EM CRECHE TIPO I, PADRÃO FNDE, NO MUNICÍPIO DE SÃO FELIPE/BA - opção 110V
D13: Fonte
D14: SINAPI | E14: 2025/01 | F14: SEM DESONERAÇÃO
D15: ORSE | E15: 2025/01 | F15: SEM DESONERAÇÃO
D16: PRÓPRIA | E16: PRÓPRIA | F16: SEM DESONERAÇÃO
A19: COTAÇÕES DE MERCADO
B21: ELETRODUTO RÍGIDO AÇO GALVANIZADO ø4" - 1 M
B22: EMPRESA | C22: VALOR | D22: FRETE | E22: TOTAL
B23: Loja Elétrica LTDA | C23: =478.32/3 -> 159.44 | D23: 0 | E23: =C23+D23 -> 159.44
B24: 17.155.342/0011-55
B25: Eletrorastro Comércio de Materiais Elétricos Ltda | C25: =391.46/3 -> 130.48667 | D25: 0 | E25: =C25+D25 -> 130.48667
B26: 85.014.793/0007-46
B27: Ebazar.com.br LTDA | C27: =402.8/3 -> 134.26667 | D27: 0 | E27: =C27+D27 -> 134.26667
B28: 03.007.331/0001-41
B29: MEDIANA: | E29: =MEDIAN(E23:E28) -> 134.26667
B31: CHAVE FUSÍVEL DISTRIBUIÇÃO 15KV 300A
B32: EMPRESA | C32: VALOR | D32: FRETE | E32: TOTAL
B33: Polo Comercio e Instalacoes Eletricas LTDA | C33: 360 | D33: 0 | E33: =C33+D33 -> 360
B34: 14.780.667/0001-69
B35: Ebazar.com.br LTDA | C35: 390 | D35: 0 | E35: =C35+D35 -> 390
B36: 03.007.331/0001-41
B37: Magazine Luiza S/A | C37: 655.06 | D37: 0 | E37: =C37+D37 -> 655.06
B38: 47.960.950/1088-36
B39: MEDIANA: | E39: =MEDIAN(E33:E38) -> 390
A42: =DADOS!B5 -> SÃO FELIPE/BA | D42: =DADOS!B17 -> 45867
A43: Local | D43: Data
A51: Responsável Técnico
A52: Nome: | B52: =DADOS!B14 -> Cindy Oliveira de Souza
A53: Título: | B53: =DADOS!B15 -> Engenheira Civil
A54: CREA/CAU: | B54: =DADOS!B16 -> CREA-BA 052237185-0

Sheet ANALÍTICO
A1: PREFEITURA MUNICIPAL DE SÃO FELIPE
A5: =DADOS!B8 -> CONSTRUÇÃO DE SUBESTAÇÃO EM CRECHE TIPO I, PADRÃO FNDE, NO MUNICÍPIO DE SÃO FELIPE/BA | G5: BDI : | H5: 0.25
F7: Fonte
F8: SINAPI | G8: 2025/01 | H8: SEM DESONERAÇÃO
F9: ORSE | G9: 2025/01 | H9: SEM DESONERAÇÃO
F10: PRÓPRIA | G10: PRÓPRIA | H10: SEM DESONERAÇÃO
A12: Edificação principal da Creche Tipo 1 - BIM
A16: Composições Analíticas com Preço Unitário
A18: 1.1 | B18: Código | C18: Banco | D18: Descrição | E18: Tipo | G18: Und | H18: Quant. | I18: Valor Unit | J18: Total
A19: Composição | B19: 95727 | C19: SINAPI | D19: ELETRODUTO RÍGIDO SOLDÁVEL, PVC, DN 25 MM (3/4"), APARENTE - FORNECIMENTO E INSTALAÇÃO. AF_10/2022_PA | E19: Instalações Elétricas - Eletrodutos, Conexões e Conduletes Aparentes | G19: M | H19: 1 | I19: 21.05 | J19: 21.05
A20: Composição Auxiliar | B20: 88247 | C20: SINAPI | D20: AUXILIAR DE ELETRICISTA COM ENCARGOS COMPLEMENTARES | E20: Livro SINAPI: Cálculos e Parâmetros | G20: H | H20: 0.122 | I20: 25.23 | J20: 3.07806
A21: Composição Auxiliar | B21: 88264 | C21: SINAPI | D21: ELETRICISTA COM ENCARGOS COMPLEMENTARES | E21: Livro SINAPI: Cálculos e Parâmetros | G21: H | H21: 0.122 | I21: 32.65 | J21: 3.9833
A22: Composição Auxiliar | B22: 91170 | C22: SINAPI | D22: FIXAÇÃO DE TUBOS HORIZONTAIS DE PVC ÁGUA, PVC ESGOTO, PVC ÁGUA PLUVIAL, CPVC, PPR, COBRE OU AÇO, DIÂMETROS MENORES OU IGUAIS A 40 MM, COM ABRAÇADEIRA METÁLICA RÍGIDA TIPO U PERFIL 1 1/4", FIXADA EM PERFILADO EM LAJE. AF_09/2023_PS | E22: Rasgos e Fixações | G22: M | H22: 1 | I22: 11.22 | J22: 11.22
A23: Insumo | B23: 00002678 | C23: SINAPI | D23: ELETRODUTO DE PVC RIGIDO SOLDAVEL, CLASSE B, DE 25 MM | E23: Material | G23: M | H23: 1.0538 | I23: 2.63 | J23: 2.771494
E24: MO sem LS => | F24: 10.54 | G24: LS => | H24: 0 | I24: MO com LS => | J24: 10.54
E25: Valor do BDI => | F25: 5.2625 | H25: Valor com BDI => | J25: 26.31
A27: 1.2 | B27: Código | C27: Banco | D27: Descrição | E27: Tipo | G27: Und | H27: Quant. | I27: Valor Unit | J27: Total
A28: Composição | B28: 95728 | C28: SINAPI | D28: ELETRODUTO RÍGIDO SOLDÁVEL, PVC, DN 32 MM (1"), APARENTE - FORNECIMENTO E INSTALAÇÃO. AF_10/2022_PA | E28: Instalações Elétricas - Eletrodutos, Conexões e Conduletes Aparentes | G28: M | H28: 1 | I28: 27.25 | J28: 27.25
A29: Composição Auxiliar | B29: 88247 | C29: SINAPI | D29: AUXILIAR DE ELETRICISTA COM ENCARGOS COMPLEMENTARES | E29: Livro SINAPI: Cálculos e Parâmetros | G29: H | H29: 0.203 | I29: 25.23 | J29: 5.12169
A30: Composição Auxiliar | B30: 88264 | C30: SINAPI | D30: ELETRICISTA COM ENCARGOS COMPLEMENTARES | E30: Livro SINAPI: Cálculos e Parâmetros | G30: H | H30: 0.203 | I30: 32.65 | J30: 6.62795
A31: Composição Auxiliar | B31: 91170 | C31: SINAPI | D31: FIXAÇÃO DE TUBOS HORIZONTAIS DE PVC ÁGUA, PVC ESGOTO, PVC ÁGUA PLUVIAL, CPVC, PPR, COBRE OU AÇO, DIÂMETROS MENORES OU IGUAIS A 40 MM, COM ABRAÇADEIRA METÁLICA RÍGIDA TIPO U PERFIL 1 1/4", FIXADA EM PERFILADO EM LAJE. AF_09/2023_PS | E31: Rasgos e Fixações | G31: M | H31: 1 | I31: 11.22 | J31: 11.22
A32: Insumo | B32: 00002679 | C32: SINAPI | D32: ELETRODUTO DE PVC RIGIDO SOLDAVEL, CLASSE B, DE 32 MM | E32: Material | G32: M | H32: 1.0538 | I32: 4.06 | J32: 4.278428
E33: MO sem LS => | F33: 13.76 | G33: LS => | H33: 0 | I33: MO com LS => | J33: 13.76
E34: Valor do BDI => | F34: 6.8125 | H34: Valor com BDI => | J34: 34.06
A36: 1.3 | B36: Código | C36: Banco | D36: Descrição | E36: Tipo | G36: Und | H36: Quant. | I36: Valor Unit | J36: Total
A37: Composição | B37: LLES 1291 | C37: Próprio | D37: ELETRODUTO AÇO GALVANIZADO DN 100 MM (4") - FORNECIMENTO E INSTALAÇÃO | E37: INEL - INSTALAÇÃO ELÉTRICA/ELETRIFICAÇÃO E ILUMINAÇÃO EXTERNA | G37: M | H37: 1 | I37: 155.16 | J37: 155.16
A38: Composição Auxiliar | B38: 88264 | C38: SINAPI | D38: ELETRICISTA COM ENCARGOS COMPLEMENTARES | E38: Livro SINAPI: Cálculos e Parâmetros | G38: H | H38: 0.25 | I38: 32.65 | J38: 8.1625
A39: Composição Auxiliar | B39: 88316 | C39: SINAPI | D39: SERVENTE COM ENCARGOS COMPLEMENTARES | E39: Livro SINAPI: Cálculos e Parâmetros | G39: H | H39: 0.25 | I39: 24.07 | J39: 6.0175
A40: Insumo | B40: COTAÇÃO 352 | C40: Próprio | D40: ELETRODUTO RÍGIDO AÇO GALVANIZADO ø4" - 1 M | E40: Material | G40: M | H40: 1.05 | I40: 134.27 | J40: 140.9835
E41: MO sem LS => | F41: 9.71 | G41: LS => | H41: 0 | I41: MO com LS => | J41: 9.71
E42: Valor do BDI => | F42: 38.79 | H42: Valor com BDI => | J42: 193.95
A44: 1.4 | B44: Código | C44: Banco | D44: Descrição | E44: Tipo | G44: Und | H44: Quant. | I44: Valor Unit | J44: Total
A45: Composição | B45: LLES 1286 | C45: Próprio | D45: Copia da ORSE (3998) - Cabeçote de alumínio de 4" - Fornecimento e instalação | E45: 86 | G45: Un | H45: 1 | I45: 47.72 | J45: 47.72
A46: Composição Auxiliar | B46: 88264 | C46: SINAPI | D46: ELETRICISTA COM ENCARGOS COMPLEMENTARES | E46: Livro SINAPI: Cálculos e Parâmetros | G46: H | H46: 0.27 | I46: 32.65 | J46: 8.8155
A47: Insumo | B47: 3154 | C47: ORSE | D47: Cabeçote de alumínio de 4" | E47: Material | G47: Un | H47: 1 | I47: 38.9 | J47: 38.9
E48: MO sem LS => | F48: 6.39 | G48: LS => | H48: 0 | I48: MO com LS => | J48: 6.39
E49: Valor do BDI => | F49: 11.93 | H49: Valor com BDI => | J49: 59.65
A51: 1.5 | B51: Código | C51: Banco | D51: Descrição | E51: Tipo | G51: Und | H51: Quant. | I51: Valor Unit | J51: Total
A52: Composição | B52: LLES 1285 | C52: Próprio | D52: Copia da SINAPI (100612) - ASSENTAMENTO DE POSTE DE CONCRETO COM COMPRIMENTO NOMINAL DE 11 M, CARGA NOMINAL DE 600 DAN, ENGASTAMENTO BASE CONCRETADA COM 1 M DE CONCRETO E 0,7 M DE SOLO (INCLUI FORNECIMENTO) | E52: INEL - INSTALAÇÃO ELÉTRICA/ELETRIFICAÇÃO E ILUMINAÇÃO EXTERNA | G52: UN | H52: 1 | I52: 2819.89 | J52: 2819.89
A53: Composição Auxiliar | B53: 5928 | C53: SINAPI | D53: GUINDAUTO HIDRÁULICO, CAPACIDADE MÁXIMA DE CARGA 6200 KG, MOMENTO MÁXIMO DE CARGA 11,7 TM, ALCANCE MÁXIMO HORIZONTAL 9,70 M, INCLUSIVE CAMINHÃO TOCO PBT 16.000 KG, POTÊNCIA DE 189 CV - CHP DIURNO. AF_06/2014 | E53: Custos Horários Produtivo e Improdutivo dos Equipamentos | G53: CHP | H53: 0.079 | I53: 289.5 | J53: 22.8705
...
