Workbook
Name \z: '[1]PLANILHA-1.666.666'!#REF!
Name \z: '[1]PLANILHA-1.666.666'!#REF!
Name \z: '[1]PLANILHA-1.666.666'!#REF!
Name \z: '[1]PLANILHA-1.666.666'!#REF!
Name \z: '[1]PLANILHA-1.666.666'!#REF!
Name ee: #REF!
Name eee: '[1]PLANILHA-1.666.666'!#REF!
Name eee: '[1]PLANILHA-1.666.666'!#REF!
Name eee: '[1]PLANILHA-1.666.666'!#REF!
Name Excel_BuiltIn_Print_Titles_3: #REF!
Name Excel_BuiltIn_Print_Titles_3: #REF!
Name Excel_BuiltIn_Print_Titles_3: #REF!
Name Excel_BuiltIn_Print_Titles_3: #REF!
Name Excel_BuiltIn_Print_Titles_4: #REF!
Name Excel_BuiltIn_Print_Titles_4: #REF!
Name Excel_BuiltIn_Print_Titles_4: #REF!
Name Excel_BuiltIn_Print_Titles_4: #REF!
Name INDICE: '[2]ÍNDICES DE REAJUST'!$A$2:$A$15
Name JR_PAGE_ANCHOR_0_1: #REF!
Name JR_PAGE_ANCHOR_0_1: #REF!
Name TAB: #REF!
Name TAB: #REF!
Name TAB: #REF!
Name TAB: #REF!

Sheet ORÇ
A1: PREFEITURA DE SÃO LUÍS
A2: INSTITUTO MUNICIPAL DA PAISAGEM URBANA
A3: OBJETO | C3: FUTURA E EVENTUAL CONTRATAÇÃO, ATRAVÉS DE ATA DE REGISTRO DE PREÇOS, DE EMPRESA ESPECIALIZADA NA PRESTAÇÃO DE SERVIÇOS DE MANUTENÇÃO PAISAGÍSTICA, DENTRO DO MUNICÍPIO DE SÃO LUÍS, EM ATENDIMENTO AS NECESSIDADES DO INSTITUTO MUNICIPAL DA PAISAGEM URBANA/IMPUR. | F3: REFERÊNCIAS: | J3: DATA BASE: 07/2026
A4: LOCALIZAÇÃO | C4: SÃO LUÍS/MA | F4: ORSE: 02/2026; SINAPI: 03/2026 SCO: 03/2026; EMBASA: 06/2026 | J4: BDI | K4: ='BDI '!G25 -> 0.2236
A5: ORIGEM SOLICITAÇÃO | C5: SUPERINTENDÊNCIA DE INTERVENÇÕES PAISAGÍSTICAS URBANAS/SUIPU | J5: NÃO DESONERADO
A6: ORÇAMENTO | C6: =J55 -> 10616711
A7: MANUTENÇÃO PAISAGÍSTICA
A8: ITEM | B8: FONTE | C8: CÓD. | D8: CATMAT CATSERV | E8: ORÇAMENTO
E9: DESCRIÇÃO | F9: UND. | G9: QUANT. | H9: CUSTO UNIT. | I9: PREÇO UNIT. | J9: SUBTOTAL | K9: PESO
A10: 1 | E10: ADMINISTRAÇÃO LOCAL | J10: =TRUNC(SUM(J11:J13),2) -> 167148.12 | K10: =J10/$J$55 -> 0.01574387
A11: 1.1 | B11: SINAPI | C11: 100321 | D11: 17825 | E11: TÉCNICO EM SEGURANÇA DO TRABALHO COM ENCARGOS COMPLEMENTARES | F11: MÊS | G11: =TRUNC(MC!O12,2) -> 12 | H11: =CPU!J6 -> 9023.49 | I11: =TRUNC(H11*(1+$K$4),2) -> 11041.14 | J11: =TRUNC(G11*I11,2) -> 132493.68 | K11: =J11/$J$55 -> 0.012479729
A12: 1.2 | B12: PRÓPRIA | C12: COMP-001.3 | D12: 15318 | E12: ASSISTÊNCIA TÉCNICA COM ENGENHEIRO AGRÔNOMO (1/MÊS) | F12: MÊS | G12: =TRUNC(MC!O13,2) -> 12 | H12: =CPU!J19 -> 2074.56 | I12: =TRUNC(H12*(1+$K$4),2) -> 2538.43 | J12: =TRUNC(G12*I12,2) -> 30461.16 | K12: =J12/$J$55 -> 0.002869171
A13: 1.3 | B13: PRÓPRIA | C13: COMP-001.2 | D13: 4014 | E13: TAXA CREA/MA | F13: UN | G13: =TRUNC(MC!O14,2) -> 12 | H13: =CPU!J26 -> 285.59 | I13: =TRUNC(H13*(1+$K$4),2) -> 349.44 | J13: =TRUNC(G13*I13,2) -> 4193.28 | K13: =J13/$J$55 -> 0.00039496978
A14: 2 | E14: JARDINAGEM E MANUTENÇÃO PAISAGÍSTICA | J14: =TRUNC(SUM(J15:J44),2) -> 7018695 | K14: =J14/$J$55 -> 0.66109881
A15: 2.1 | B15: PRÓPRIA | C15: COMP-002.2 | D15: 24252 | E15: CAPINA MECANIZADA | F15: M2 | G15: =TRUNC(MC!O16,2) -> 450000 | H15: =CPU!J34 -> 1.03 | I15: =TRUNC(H15*(1+$K$4),2) -> 1.26 | J15: =TRUNC(G15*I15,2) -> 567000 | K15: =J15/$J$55 -> 0.05340637
A16: 2.2 | B16: SINAPI | C16: COMP-002.7 | D16: 24252 | E16: CAPINA MANUAL | F16: M2 | G16: =TRUNC(MC!O17,2) -> 180000 | H16: =CPU!J43 -> 1.77 | I16: =TRUNC(H16*(1+$K$4),2) -> 2.16 | J16: =TRUNC(G16*I16,2) -> 388800 | K16: =J16/$J$55 -> 0.036621511
A17: 2.3 | B17: SINAPI | C17: COMP-002.8 | D17: 24252 | E17: PODA DE PLANTAS ORNAMENTAIS | F17: M2 | G17: =TRUNC(MC!O18,2) -> 12000 | H17: =CPU!J50 -> 5.8 | I17: =TRUNC(H17*(1+$K$4),2) -> 7.09 | J17: =TRUNC(G17*I17,2) -> 85080 | K17: =J17/$J$55 -> 0.0080137812
A18: 2.4 | B18: SINAPI | C18: 98504 | D18: 24252 | E18: PLANTIO DE GRAMA EM PLACAS. AF_05/2018 | F18: M2 | G18: =TRUNC(MC!O19,2) -> 12000 | H18: =CPU!J57 -> 17.96 | I18: =TRUNC(H18*(1+$K$4),2) -> 21.97 | J18: =TRUNC(G18*I18,2) -> 263640 | K18: =J18/$J$55 -> 0.024832549
A19: 2.5 | B19: SINAPI | C19: COMP-002.9 | D19: 24252 | E19: RETIRADA DE GRAMA EM PLACAS | F19: M2 | G19: =TRUNC(MC!O20,2) -> 4000 | H19: =CPU!J66 -> 5.56 | I19: =TRUNC(H19*(1+$K$4),2) -> 6.8 | J19: =TRUNC(G19*I19,2) -> 27200 | K19: =J19/$J$55 -> 0.0025619987
A20: 2.6 | B20: SINAPI | C20: COMP-002.10 | D20: 24252 | E20: PODA E LIMPEZA DE ARBUSTO TIPO CERCA VIVA | F20: M2 | G20: =TRUNC(MC!O21,2) -> 4800 | H20: =CPU!J73 -> 5.8 | I20: =TRUNC(H20*(1+$K$4),2) -> 7.09 | J20: =TRUNC(G20*I20,2) -> 34032 | K20: =J20/$J$55 -> 0.0032055125
A21: 2.7 | B21: SINAPI | C21: 98526 | D21: 24252 | E21: REMOÇÃO DE RAÍZES REMANESCENTES DE TRONCO DE ÁRVORE COM DIÂMETRO MAIOR OU IGUAL A 0,20 M E MENOR QUE 0,40 M.AF_05/2018 | F21: UN | G21: =TRUNC(MC!O22,2) -> 40 | H21: =CPU!J80 -> 126.69 | I21: =TRUNC(H21*(1+$K$4),2) -> 155.01 | J21: =TRUNC(G21*I21,2) -> 6200.4 | K21: =J21/$J$55 -> 0.00058402267
A22: 2.8 | B22: SINAPI | C22: 98527 | D22: 24252 | E22: REMOÇÃO DE RAÍZES REMANESCENTES DE TRONCO DE ÁRVORE COM DIÂMETRO MAIOR OU IGUAL A 0,40 M E MENOR QUE 0,60 M.AF_05/2018 | F22: UN | G22: =TRUNC(MC!O23,2) -> 40 | H22: =CPU!J90 -> 210.27 | I22: =TRUNC(H22*(1+$K$4),2) -> 257.28 | J22: =TRUNC(G22*I22,2) -> 10291.2 | K22: =J22/$J$55 -> 0.00096933974
A23: 2.9 | B23: SINAPI | C23: 98528 | D23: 24252 | E23: REMOÇÃO DE RAÍZES REMANESCENTES DE TRONCO DE ÁRVORE COM DIÂMETRO MAIOR OU IGUAL A 0,60 M.AF_05/2018 | F23: UN | G23: =TRUNC(MC!O24,2) -> 40 | H23: =CPU!J100 -> 277.13 | I23: =TRUNC(H23*(1+$K$4),2) -> 339.09 | J23: =TRUNC(G23*I23,2) -> 13563.6 | K23: =J23/$J$55 -> 0.0012775708
A24: 2.10 | B24: SINAPI | C24: 98529 | D24: 24252 | E24: CORTE RASO E RECORTE DE ÁRVORE COM DIÂMETRO DE TRONCO MAIOR OU IGUAL A 0,20 M E MENOR QUE 0,40 M.AF_05/2018 | F24: UN | G24: =TRUNC(MC!O25,2) -> 40 | H24: =CPU!J110 -> 75 | I24: =TRUNC(H24*(1+$K$4),2) -> 91.77 | J24: =TRUNC(G24*I24,2) -> 3670.8 | K24: =J24/$J$55 -> 0.0003457568
A25: 2.11 | B25: SINAPI | C25: 98530 | D25: 24252 | E25: CORTE RASO E RECORTE DE ÁRVORE COM DIÂMETRO DE TRONCO MAIOR OU IGUAL A 0,40 M E MENOR QUE 0,60 M.AF_05/2018 | F25: UN | G25: =TRUNC(MC!O26,2) -> 40 | H25: =CPU!J118 -> 147.21 | I25: =TRUNC(H25*(1+$K$4),2) -> 180.12 | J25: =TRUNC(G25*I25,2) -> 7204.8 | K25: =J25/$J$55 -> 0.00067862824
A26: 2.12 | B26: SINAPI | C26: 98531 | D26: 24252 | E26: CORTE RASO E RECORTE DE ÁRVORE COM DIÂMETRO DE TRONCO MAIOR OU IGUAL A 0,60 M.AF_05/2018 | F26: UN | G26: =TRUNC(MC!O27,2) -> 40 | H26: =CPU!J126 -> 386.68 | I26: =TRUNC(H26*(1+$K$4),2) -> 473.14 | J26: =TRUNC(G26*I26,2) -> 18925.6 | K26: =J26/$J$55 -> 0.0017826236
A27: 2.13 | B27: SINAPI | C27: 98532 | D27: 24252 | E27: PODA DAS ÁRVORES, PALMEIRAS E DEMAIS ESPÉCIES ARBÓREAS (DIÂMETRO ATÉ 20CM) | F27: UN | G27: =TRUNC(MC!O28,2) -> 400 | H27: =CPU!J136 -> 32.67 | I27: =TRUNC(H27*(1+$K$4),2) -> 39.97 | J27: =TRUNC(G27*I27,2) -> 15988 | K27: =J27/$J$55 -> 0.0015059278
A28: 2.14 | B28: SINAPI | C28: 98533 | D28: 24252 | E28: PODA DAS ÁRVORES, PALMEIRAS E DEMAIS ESPÉCIES ARBÓREAS (DIÂMETRO ATÉ 20CM À 40CM) | F28: UN | G28: =TRUNC(MC!O29,2) -> 800 | H28: =CPU!J146 -> 122.03 | I28: =TRUNC(H28*(1+$K$4),2) -> 149.31 | J28: =TRUNC(G28*I28,2) -> 119448 | K28: =J28/$J$55 -> 0.011250942
A29: 2.15 | B29: SINAPI | C29: 98534 | D29: 24252 | E29: PODA DAS ÁRVORES, PALMEIRAS E DEMAIS ESPÉCIES ARBÓREAS (DIÂMETRO ATÉ 40CM À 60CM) | F29: UN | G29: =TRUNC(MC!O30,2) -> 600 | H29: =CPU!J156 -> 337.9 | I29: =TRUNC(H29*(1+$K$4),2) -> 413.45 | J29: =TRUNC(G29*I29,2) -> 248070 | K29: =J29/$J$55 -> 0.023365993
A30: 2.16 | B30: SINAPI | C30: 98535 | D30: 24252 | E30: PODA DAS ÁRVORES, PALMEIRAS E DEMAIS ESPÉCIES ARBÓREAS (DIÂMETRO ACIMA DE 60CM) | F30: UN | G30: =TRUNC(MC!O31,2) -> 400 | H30: =CPU!J166 -> 704.91 | I30: =TRUNC(H30*(1+$K$4),2) -> 862.52 | J30: =TRUNC(G30*I30,2) -> 345008 | K30: =J30/$J$55 -> 0.032496693
A31: 2.17 | B31: PRÓPRIA | C31: COMP-002.3 | D31: 24252 | E31: FORNECIMENTO E ESPALHAMENTO DE TERRA PRETA | F31: M3 | G31: =TRUNC(MC!O32,2) -> 768 | H31: =CPU!J176 -> 367.72 | I31: =TRUNC(H31*(1+$K$4),2) -> 449.94 | J31: =TRUNC(G31*I31,2) -> 345553.92 | K31: =J31/$J$55 -> 0.032548114
A32: 2.18 | B32: PRÓPRIA | C32: COMP-002.4 | D32: 24252 | E32: FORNECIMENTO E ESPALHAMENTO DE ADUBO MINERAL - NPK 10-10-10 | F32: M2 | G32: =TRUNC(MC!O33,2) -> 24000 | H32: =CPU!J184 -> 5.31 | I32: =TRUNC(H32*(1+$K$4),2) -> 6.49 | J32: =TRUNC(G32*I32,2) -> 155760 | K32: =J32/$J$55 -> 0.01467121
A33: 2.19 | B33: SINAPI | C33: 98509 | D33: 24252 | E33: PLANTIO DE ARBUSTO OU CERCA VIVA. | F33: UN | G33: =TRUNC(MC!O34,2) -> 4000 | H33: =CPU!J192 -> 126.16 | I33: =TRUNC(H33*(1+$K$4),2) -> 154.36 | J33: =TRUNC(G33*I33,2) -> 617440 | K33: =J33/$J$55 -> 0.058157371
A34: 2.20 | B34: SINAPI | C34: 98510 | D34: 24252 | E34: PLANTIO DE ÁRVORE ORNAMENTAL COM ALTURA DE MUDA MENOR OU IGUAL A 2,00 M. | F34: UN | G34: =TRUNC(MC!O35,2) -> 2800 | H34: =CPU!J201 -> 177.29 | I34: =TRUNC(H34*(1+$K$4),2) -> 216.93 | J34: =TRUNC(G34*I34,2) -> 607404 | K34: =J34/$J$55 -> 0.057212068
A35: 2.21 | B35: SINAPI | C35: 98511 | D35: 24252 | E35: PLANTIO DE ÁRVORE ORNAMENTAL COM ALTURA DE MUDA MAIOR QUE 2,00 M E MENOR OU IGUAL A 4,00 M. | F35: UN | G35: =TRUNC(MC!O36,2) -> 1600 | H35: =CPU!J210 -> 338.27 | I35: =TRUNC(H35*(1+$K$4),2) -> 413.9 | J35: =TRUNC(G35*I35,2) -> 662240 | K35: =J35/$J$55 -> 0.062377133
A36: 2.22 | B36: SINAPI | C36: 98516 | D36: 24252 | E36: PLANTIO DE PALMEIRA COM ALTURA DE MUDA MENOR OU IGUAL A 2,00 M. | F36: UN | G36: =TRUNC(MC!O37,2) -> 400 | H36: =CPU!J219 -> 505.76 | I36: =TRUNC(H36*(1+$K$4),2) -> 618.84 | J36: =TRUNC(G36*I36,2) -> 247536 | K36: =J36/$J$55 -> 0.023315695
A37: 2.23 | B37: SINAPI | C37: 98520 | D37: 24252 | E37: APLICAÇÃO DE ADUBO EM SOLO. | F37: M2 | G37: =TRUNC(MC!O38,2) -> 32000 | H37: =CPU!J230 -> 8.88 | I37: =TRUNC(H37*(1+$K$4),2) -> 10.86 | J37: =TRUNC(G37*I37,2) -> 347520 | K37: =J37/$J$55 -> 0.032733301
A38: 2.24 | B38: SINAPI | C38: 98521 | D38: 24252 | E38: APLICAÇÃO DE CALCÁRIO PARA CORREÇÃO DO PH DO SOLO. | F38: M2 | G38: =TRUNC(MC!O39,2) -> 8000 | H38: =CPU!J240 -> 0.33 | I38: =TRUNC(H38*(1+$K$4),2) -> 0.4 | J38: =TRUNC(G38*I38,2) -> 3200 | K38: =J38/$J$55 -> 0.00030141161
A39: 2.25 | B39: PRÓPRIA | C39: COMP-002.5 | D39: 24252 | E39: TRATAMENTO FITOSSANITÁRIO COM UTILIZAÇÃO DE PRODUTOS QUÍMICOS - INSETICIDAS E FUNGICIDAS | F39: M2 | G39: =TRUNC(MC!O40,2) -> 60000 | H39: =CPU!J249 -> 9.1 | I39: =TRUNC(H39*(1+$K$4),2) -> 11.13 | J39: =TRUNC(G39*I39,2) -> 667800 | K39: =J39/$J$55 -> 0.062900836
A40: 2.26 | B40: SINAPI | C40: COMP-002.11 | D40: 15032 | E40: CARGA MANUAL DE ENTULHO EM CAMINHAO BASCULANTE 6 M3 | F40: M3 | G40: =TRUNC(MC!O41,2) -> 288 | H40: =CPU!J257 -> 31.58 | I40: =TRUNC(H40*(1+$K$4),2) -> 38.64 | J40: =TRUNC(G40*I40,2) -> 11128.32 | K40: =J40/$J$55 -> 0.001048189
...

Sheet MC
B1: PREFEITURA DE SÃO LUÍS
B2: INSTITUTO MUNICIPAL DA PAISAGEM URBANA
C5: MEMÓRIA DE CÁLCULO
C9: ITEM | D9: CONTRATO | F9: Nº | G9: E | H9: M | I9: H | J9: C | K9: L | L9: A | M9: M² | N9: M³ | O9: Subtotal
D10: DESCRIÇÃO | E10: UND. | F10: REPETIÇÕES | G10: EQUIPE | H10: MÊS | I10: HORA | J10: COMPRIMENTO | K10: LARGURA | L10: ALTURA | M10: Nº*C*L | N10: Nº*C*L*A
C11: 1 | D11: ADMINISTRAÇÃO LOCAL
C12: 1.1 | D12: =VLOOKUP(C12,ORÇ!A11:F49,5,FALSE) -> TÉCNICO EM SEGURANÇA DO TRABALHO COM ENCARGOS COMPLEMENTARES | E12: =VLOOKUP(C12,ORÇ!A11:F49,6,FALSE) -> MÊS | F12: 12 | O12: =F12 -> 12
C13: 1.2 | D13: =VLOOKUP(C13,ORÇ!A12:F50,5,FALSE) -> ASSISTÊNCIA TÉCNICA COM ENGENHEIRO AGRÔNOMO (1/MÊS) | E13: =VLOOKUP(C13,ORÇ!A12:F50,6,FALSE) -> MÊS | F13: 12 | O13: =F13 -> 12
C14: 1.3 | D14: =VLOOKUP(C14,ORÇ!A13:F51,5,FALSE) -> TAXA CREA/MA | E14: =VLOOKUP(C14,ORÇ!A13:F51,6,FALSE) -> UN | F14: 12 | O14: =F14 -> 12
C15: 2 | D15: JARDINAGEM E MANUTENÇÃO PAISAGÍSTICA
C16: 2.1 | D16: =VLOOKUP(C16,ORÇ!A15:F53,5,FALSE) -> CAPINA MECANIZADA | E16: =VLOOKUP(C16,ORÇ!A15:F53,6,FALSE) -> M2 | F16: 180 | J16: 50 | K16: 50 | M16: =K16*J16*F16 -> 450000 | O16: =M16 -> 450000
C17: 2.2 | D17: =VLOOKUP(C17,ORÇ!A16:F54,5,FALSE) -> CAPINA MANUAL | E17: =VLOOKUP(C17,ORÇ!A16:F54,6,FALSE) -> M2 | F17: =O17/(J17*K17) -> 180 | J17: 40 | K17: 25 | M17: =K17*J17*F17 -> 180000 | O17: =O16*0.4 -> 180000
C18: 2.3 | D18: =VLOOKUP(C18,ORÇ!A17:F55,5,FALSE) -> PODA DE PLANTAS ORNAMENTAIS | E18: =VLOOKUP(C18,ORÇ!A17:F55,6,FALSE) -> M2 | F18: =O18/(J18*K18) -> 750 | J18: 4 | K18: 4 | M18: =K18*J18*F18 -> 12000 | O18: 12000
C19: 2.4 | D19: =VLOOKUP(C19,ORÇ!A18:F56,5,FALSE) -> PLANTIO DE GRAMA EM PLACAS. AF_05/2018 | E19: =VLOOKUP(C19,ORÇ!A18:F56,6,FALSE) -> M2 | F19: =O19/(J19*K19) -> 120 | J19: 10 | K19: 10 | M19: 35000 | O19: 12000
C20: 2.5 | D20: =VLOOKUP(C20,ORÇ!A19:F56,5,FALSE) -> RETIRADA DE GRAMA EM PLACAS | E20: =VLOOKUP(C20,ORÇ!A19:F56,6,FALSE) -> M2 | F20: =O20/(J20*K20) -> 40 | J20: 10 | K20: 10 | M20: =K20*J20*F20 -> 4000 | O20: 4000
C21: 2.6 | D21: =VLOOKUP(C21,ORÇ!A20:F57,5,FALSE) -> PODA E LIMPEZA DE ARBUSTO TIPO CERCA VIVA | E21: =VLOOKUP(C21,ORÇ!A20:F57,6,FALSE) -> M2 | F21: =O21/(J21*K21) -> 480 | J21: 10 | K21: 1 | M21: =K21*J21*F21 -> 4800 | O21: 4800
C22: 2.7 | D22: =VLOOKUP(C22,ORÇ!A21:F58,5,FALSE) -> REMOÇÃO DE RAÍZES REMANESCENTES DE TRONCO DE ÁRVORE COM DIÂMETRO MAIOR OU IGUAL A 0,20 M E MENOR QUE 0,40 M.AF_05/2018 | E22: =VLOOKUP(C22,ORÇ!A21:F58,6,FALSE) -> UN | F22: =O22 -> 40 | O22: 40
C23: 2.8 | D23: =VLOOKUP(C23,ORÇ!A22:F59,5,FALSE) -> REMOÇÃO DE RAÍZES REMANESCENTES DE TRONCO DE ÁRVORE COM DIÂMETRO MAIOR OU IGUAL A 0,40 M E MENOR QUE 0,60 M.AF_05/2018 | E23: =VLOOKUP(C23,ORÇ!A22:F59,6,FALSE) -> UN | F23: =O23 -> 40 | O23: 40
C24: 2.9 | D24: =VLOOKUP(C24,ORÇ!A23:F60,5,FALSE) -> REMOÇÃO DE RAÍZES REMANESCENTES DE TRONCO DE ÁRVORE COM DIÂMETRO MAIOR OU IGUAL A 0,60 M.AF_05/2018 | E24: =VLOOKUP(C24,ORÇ!A23:F60,6,FALSE) -> UN | F24: =O24 -> 40 | O24: 40
C25: 2.10 | D25: =VLOOKUP(C25,ORÇ!A24:F61,5,FALSE) -> CORTE RASO E RECORTE DE ÁRVORE COM DIÂMETRO DE TRONCO MAIOR OU IGUAL A 0,20 M E MENOR QUE 0,40 M.AF_05/2018 | E25: =VLOOKUP(C25,ORÇ!A24:F61,6,FALSE) -> UN | F25: =O25 -> 40 | O25: 40
C26: 2.11 | D26: =VLOOKUP(C26,ORÇ!A25:F62,5,FALSE) -> CORTE RASO E RECORTE DE ÁRVORE COM DIÂMETRO DE TRONCO MAIOR OU IGUAL A 0,40 M E MENOR QUE 0,60 M.AF_05/2018 | E26: =VLOOKUP(C26,ORÇ!A25:F62,6,FALSE) -> UN | F26: =O26 -> 40 | O26: 40
C27: 2.12 | D27: =VLOOKUP(C27,ORÇ!A26:F63,5,FALSE) -> CORTE RASO E RECORTE DE ÁRVORE COM DIÂMETRO DE TRONCO MAIOR OU IGUAL A 0,60 M.AF_05/2018 | E27: =VLOOKUP(C27,ORÇ!A26:F63,6,FALSE) -> UN | F27: =O27 -> 40 | O27: 40
C28: 2.13 | D28: =VLOOKUP(C28,ORÇ!A27:F64,5,FALSE) -> PODA DAS ÁRVORES, PALMEIRAS E DEMAIS ESPÉCIES ARBÓREAS (DIÂMETRO ATÉ 20CM) | E28: =VLOOKUP(C28,ORÇ!A27:F64,6,FALSE) -> UN | F28: =O28 -> 400 | O28: 400
C29: 2.14 | D29: =VLOOKUP(C29,ORÇ!A28:F65,5,FALSE) -> PODA DAS ÁRVORES, PALMEIRAS E DEMAIS ESPÉCIES ARBÓREAS (DIÂMETRO ATÉ 20CM À 40CM) | E29: =VLOOKUP(C29,ORÇ!A28:F65,6,FALSE) -> UN | F29: =O29 -> 800 | O29: 800
C30: 2.15 | D30: =VLOOKUP(C30,ORÇ!A29:F66,5,FALSE) -> PODA DAS ÁRVORES, PALMEIRAS E DEMAIS ESPÉCIES ARBÓREAS (DIÂMETRO ATÉ 40CM À 60CM) | E30: =VLOOKUP(C30,ORÇ!A29:F66,6,FALSE) -> UN | F30: =O30 -> 600 | O30: 600
C31: 2.16 | D31: =VLOOKUP(C31,ORÇ!A30:F67,5,FALSE) -> PODA DAS ÁRVORES, PALMEIRAS E DEMAIS ESPÉCIES ARBÓREAS (DIÂMETRO ACIMA DE 60CM) | E31: =VLOOKUP(C31,ORÇ!A30:F67,6,FALSE) -> UN | F31: =O31 -> 400 | O31: 400
C32: 2.17 | D32: =VLOOKUP(C32,ORÇ!A31:F68,5,FALSE) -> FORNECIMENTO E ESPALHAMENTO DE TERRA PRETA | E32: =VLOOKUP(C32,ORÇ!A31:F68,6,FALSE) -> M3 | F32: =O32/(J32*K32) -> 64 | J32: 4 | K32: 3 | L32: 1 | N32: =F32*(L32*K32*J32) -> 768 | O32: 768
C33: 2.18 | D33: =VLOOKUP(C33,ORÇ!A32:F69,5,FALSE) -> FORNECIMENTO E ESPALHAMENTO DE ADUBO MINERAL - NPK 10-10-10 | E33: =VLOOKUP(C33,ORÇ!A32:F69,6,FALSE) -> M2 | F33: =O33/(J33*K33) -> 240 | J33: 10 | K33: 10 | M33: =K33*J33*F33 -> 24000 | O33: 24000
C34: 2.19 | D34: =VLOOKUP(C34,ORÇ!A33:F70,5,FALSE) -> PLANTIO DE ARBUSTO OU CERCA VIVA. | E34: =VLOOKUP(C34,ORÇ!A33:F70,6,FALSE) -> UN | F34: =O34 -> 4000 | O34: 4000
C35: 2.20 | D35: =VLOOKUP(C35,ORÇ!A34:F71,5,FALSE) -> PLANTIO DE ÁRVORE ORNAMENTAL COM ALTURA DE MUDA MENOR OU IGUAL A 2,00 M. | E35: =VLOOKUP(C35,ORÇ!A34:F71,6,FALSE) -> UN | F35: =O35 -> 2800 | O35: 2800
C36: 2.21 | D36: =VLOOKUP(C36,ORÇ!A35:F72,5,FALSE) -> PLANTIO DE ÁRVORE ORNAMENTAL COM ALTURA DE MUDA MAIOR QUE 2,00 M E MENOR OU IGUAL A 4,00 M. | E36: =VLOOKUP(C36,ORÇ!A35:F72,6,FALSE) -> UN | F36: =O36 -> 1600 | O36: 1600
C37: 2.22 | D37: =VLOOKUP(C37,ORÇ!A36:F73,5,FALSE) -> PLANTIO DE PALMEIRA COM ALTURA DE MUDA MENOR OU IGUAL A 2,00 M. | E37: =VLOOKUP(C37,ORÇ!A36:F73,6,FALSE) -> UN | F37: =O37 -> 400 | O37: 400
C38: 2.23 | D38: =VLOOKUP(C38,ORÇ!A37:F74,5,FALSE) -> APLICAÇÃO DE ADUBO EM SOLO. | E38: =VLOOKUP(C38,ORÇ!A37:F74,6,FALSE) -> M2 | F38: =O38/(J38*K38) -> 320 | J38: 10 | K38: 10 | M38: =K38*J38*F38 -> 32000 | O38: 32000
C39: 2.24 | D39: =VLOOKUP(C39,ORÇ!A38:F75,5,FALSE) -> APLICAÇÃO DE CALCÁRIO PARA CORREÇÃO DO PH DO SOLO. | E39: =VLOOKUP(C39,ORÇ!A38:F75,6,FALSE) -> M2 | F39: =O39/(J39*K39) -> 320 | J39: 5 | K39: 5 | M39: =K39*J39*F39 -> 8000 | O39: 8000
C40: 2.25 | D40: =VLOOKUP(C40,ORÇ!A39:F76,5,FALSE) -> TRATAMENTO FITOSSANITÁRIO COM UTILIZAÇÃO DE PRODUTOS QUÍMICOS - INSETICIDAS E FUNGICIDAS | E40: =VLOOKUP(C40,ORÇ!A39:F76,6,FALSE) -> M2 | F40: =O40/(J40*K40) -> 2400 | J40: 5 | K40: 5 | M40: =K40*J40*F40 -> 60000 | O40: 60000
C41: 2.26 | D41: =VLOOKUP(C41,ORÇ!A40:F77,5,FALSE) -> CARGA MANUAL DE ENTULHO EM CAMINHAO BASCULANTE 6 M3 | E41: =VLOOKUP(C41,ORÇ!A40:F77,6,FALSE) -> M3 | F41: =O41/(J41*K41) -> 57.6 | J41: 2.5 | K41: 2 | L41: 1 | N41: =L41*K41*J41*F41 -> 288 | O41: 288
C42: 2.27 | D42: =VLOOKUP(C42,ORÇ!A41:F78,5,FALSE) -> TRANSPORTE COM CAMINHÃO BASCULANTE DE 6 M3, EM VIA URBANA EM LEITO NATURAL (UNIDADE: M3XKM). AF_01/2018 | E42: =VLOOKUP(C42,ORÇ!A41:F78,6,FALSE) -> M3XKM | F42: =O42/(J42*K42) -> 352 | J42: 2.5 | K42: 2 | L42: 1 | N42: =L42*K42*J42*F42 -> 1760 | O42: 1760
C43: 2.28 | D43: =VLOOKUP(C43,ORÇ!A42:F79,5,FALSE) -> IRRIGAÇÃO DIÁRIA | E43: =VLOOKUP(C43,ORÇ!A42:F79,6,FALSE) -> M2xD | F43: =O43/(J43*K43) -> 200000 | J43: 5 | K43: 5 | O43: 5000000
C44: 2.29 | D44: =VLOOKUP(C44,ORÇ!A43:F80,5,FALSE) -> LIMPEZA (VARRIÇÃO E REMOÇÃO DE ENTULHO) | E44: =VLOOKUP(C44,ORÇ!A43:F80,6,FALSE) -> M2 | F44: =O44/(J44*K44) -> 16000 | J44: 10 | K44: 1.5 | M44: =K44*J44*F44 -> 240000 | O44: 240000
C45: 2.30 | D45: =VLOOKUP(C45,ORÇ!A44:F81,5,FALSE) -> FORNECIMENTO E PLANTIO DE FORRAÇÃO/RASTEIRA | E45: =VLOOKUP(C45,ORÇ!A44:F81,6,FALSE) -> UND | F45: =O45 -> 28000 | O45: 28000
...

Sheet CPU
C1: Obra | E1: Bancos | G1: B.D.I. | I1: Encargos Sociais
C2: FUTURA E EVENTUAL CONTRATAÇÃO, ATRAVÉS DE ATA DE REGISTRO DE PREÇOS, DE EMPRESA DE ENGENHARIA ESPECIALIZADA NA PRESTAÇÃO DE SERVIÇOS DE MANUTENÇÃO, CONSERVAÇÃO E MODERNIZAÇÃO DE VIAS, DO MUNICÍPIO DE SÃO LUÍS, PARA ATENDER ÀS NECESSIDADES DA SECRETARIA MUNICIPAL DE OBRAS E SERVIÇOS PÚBLICOS/SEMOSP. | E2: SINAPI - 03/2026 - Maranhão ORSE - 02/2026 - Sergipe SCO - 03/2026 - Rio de Janeiro EMBASA - 06/2026 - Bahia | G2: 0.2236 | I2: Não Desonerado: 0,00%
A3: Composição de Preços Unitários
A4: 1 | D4: ADMINISTRAÇÃO LOCAL | J4: 214750.68
A5: 1.1 | B5: Código | C5: Banco | D5: Descrição | E5: Tipo | G5: Und | H5: Quant. | I5: Valor Unit | J5: Total
A6: Composição | B6: 100321 | C6: SINAPI | D6: TÉCNICO EM SEGURANÇA DO TRABALHO COM ENCARGOS COMPLEMENTARES | E6: Livro SINAPI: Cálculos e Parâmetros | G6: MES | H6: 1 | I6: 9023.49 | J6: 9023.49
A7: Insumo | B7: 00040863 | C7: SINAPI | D7: EXAMES - MENSALISTA (COLETADO CAIXA - ENCARGOS COMPLEMENTARES) | E7: Encargos Complementares | G7: MES | H7: 1 | I7: 227.2 | J7: 227.2
A8: Insumo | B8: 00043494 | C8: SINAPI | D8: EPI - FAMILIA ALMOXARIFE - MENSALISTA (ENCARGOS COMPLEMENTARES - COLETADO CAIXA) | E8: Encargos Complementares | G8: MES | H8: 1 | I8: 112.41 | J8: 112.41
A9: Insumo | B9: 00040944 | C9: SINAPI | D9: TECNICO EM SEGURANCA DO TRABALHO (MENSALISTA) | E9: Mão de Obra | G9: MES | H9: 1 | I9: 8201.31 | J9: 8201.31
A10: Insumo | B10: 00043470 | C10: SINAPI | D10: FERRAMENTAS - FAMILIA ALMOXARIFE - MENSALISTA (ENCARGOS COMPLEMENTARES - COLETADO CAIXA) | E10: Encargos Complementares | G10: MES | H10: 1 | I10: 9.79 | J10: 9.79
A11: Insumo | B11: 00040864 | C11: SINAPI | D11: SEGURO - MENSALISTA (COLETADO CAIXA - ENCARGOS COMPLEMENTARES) | E11: Encargos Complementares | G11: MES | H11: 1 | I11: 18.28 | J11: 18.28
A12: Insumo | B12: 00040861 | C12: SINAPI | D12: TRANSPORTE - MENSALISTA (COLETADO CAIXA - ENCARGOS COMPLEMENTARES) | E12: Encargos Complementares | G12: MES | H12: 1 | I12: 86.09 | J12: 86.09
A13: Insumo | B13: 00040862 | C13: SINAPI | D13: ALIMENTACAO - MENSALISTA (COLETADO CAIXA - ENCARGOS COMPLEMENTARES) | E13: Encargos Complementares | G13: MES | H13: 1 | I13: 368.41 | J13: 368.41
E14: MO sem LS => | F14: 8201.31 | G14: LS => | H14: 0 | I14: MO com LS => | J14: 8201.31
E15: Valor do BDI => | F15: 2017.65 | H15: Valor com BDI => | J15: 11041.14
G16: Quant. => | H16: 12,00 | I16: Preço Total => | J16: 132493.68
A18: 1.2 | B18: Código | C18: Banco | D18: Descrição | E18: Tipo | G18: Und | H18: Quant. | I18: Valor Unit | J18: Total
A19: Composição | B19: COMP-001.3 | C19: Próprio | D19: ASSISTÊNCIA TÉCNICA COM ENGENHEIRO AGRÔNOMO | E19: SERT - SERVIÇOS TÉCNICOS | G19: MES | H19: 1 | I19: 2074.56 | J19: 2074.56
A20: Insumo | B20: B559000001 | C20: EMBASA | D20: ENG. FLORESTAL / AGRONOMO | E20: Mão de Obra | G20: H | H20: 32 | I20: 64.83 | J20: 2074.56
E21: MO sem LS => | F21: 2074.56 | G21: LS => | H21: 0 | I21: MO com LS => | J21: 2074.56
E22: Valor do BDI => | F22: 463.87 | H22: Valor com BDI => | J22: 2538.43
G23: Quant. => | H23: 12,00 | I23: Preço Total => | J23: 30461.16
A25: 1.3 | B25: Código | C25: Banco | D25: Descrição | E25: Tipo | G25: Und | H25: Quant. | I25: Valor Unit | J25: Total
A26: Composição | B26: COMP-001.2 | C26: Próprio | D26: TAXA CREA/MA | E26: SERT - SERVIÇOS TÉCNICOS | G26: UN | H26: 1 | I26: 285.59 | J26: 285.59
A27: Insumo | B27: INS-83096580 | C27: Próprio | D27: TAXA CREA ACIMA DE 15.000,00 | E27: Taxas | G27: UN | H27: 1 | I27: 285.59 | J27: 285.59
E28: MO sem LS => | F28: 0 | G28: LS => | H28: 0 | I28: MO com LS => | J28: 0
E29: Valor do BDI => | F29: 63.85 | H29: Valor com BDI => | J29: 349.44
G30: Quant. => | H30: 12,00 | I30: Preço Total => | J30: 4193.28
A32: 2 | D32: JARDINAGEM E MANUTENÇÃO PAISAGÍSTICA | J32: 7078755
A33: 2.1 | B33: Código | C33: Banco | D33: Descrição | E33: Tipo | G33: Und | H33: Quant. | I33: Valor Unit | J33: Total
A34: Composição | B34: COMP-002.2 | C34: Próprio | D34: CAPINA MECANIZADA | E34: SEOP - SERVIÇOS OPERACIONAIS | G34: m² | H34: 1 | I34: 1.03 | J34: 1.03
A35: Composição Auxiliar | B35: CCU-71 | C35: Próprio | D35: ROÇADEIRA COSTAL | E35: FOMA - FORNECIMENTO DE MATERIAIS E EQUIPAMENTOS | G35: H | H35: 0.017 | I35: 16.08 | J35: 0.27
A36: Composição Auxiliar | B36: 88316 | C36: SINAPI | D36: SERVENTE COM ENCARGOS COMPLEMENTARES | E36: Livro SINAPI: Cálculos e Parâmetros | G36: H | H36: 0.017 | I36: 22.24 | J36: 0.37
A37: Composição Auxiliar | B37: 88441 | C37: SINAPI | D37: JARDINEIRO COM ENCARGOS COMPLEMENTARES | E37: Livro SINAPI: Cálculos e Parâmetros | G37: H | H37: 0.017 | I37: 23.22 | J37: 0.39
E38: MO sem LS => | F38: 0.55 | G38: LS => | H38: 0 | I38: MO com LS => | J38: 0.55
E39: Valor do BDI => | F39: 0.23 | H39: Valor com BDI => | J39: 1.26
G40: Quant. => | H40: 625.000,00 | I40: Preço Total => | J40: 787500
A42: 2.2 | B42: Código | C42: Banco | D42: Descrição | E42: Tipo | G42: Und | H42: Quant. | I42: Valor Unit | J42: Total
A43: Composição | B43: COMP-002.7 | C43: Próprio | D43: CAPINA E LIMPEZA MANUAL DE TERRENO | E43: SERP - SERVIÇOS PRELIMINARES | G43: m² | H43: 1 | I43: 1.77 | J43: 1.77
A44: Composição Auxiliar | B44: 88316 | C44: SINAPI | D44: SERVENTE COM ENCARGOS COMPLEMENTARES | E44: Livro SINAPI: Cálculos e Parâmetros | G44: H | H44: 0.08 | I44: 22.24 | J44: 1.77
...

Sheet BDI 
A1: PREFEITURA DE SÃO LUÍS
A2: INSTITUTO MUNICIPAL DA PAISAGEM URBANA
A3: OBJETO | F3: FUTURA E EVENTUAL CONTRATAÇÃO, ATRAVÉS DE ATA DE REGISTRO DE PREÇOS, DE EMPRESA ESPECIALIZADA NA PRESTAÇÃO DE SERVIÇOS DE MANUTENÇÃO PAISAGÍSTICA, DENTRO DO MUNICÍPIO DE SÃO LUÍS, EM ATENDIMENTO AS NECESSIDADES DO INSTITUTO MUNICIPAL DE PAISAGEM URBANA/IMPUR.
A4: DATA BASE | F4: JUL/2026
A5: BDI | F5: NÃO DESONERADO
E8: BDI SERVIÇOS
E12: ITEM | F12: DESCRIÇÃO | G12: %
E13: 1 | F13: ADMINISTRAÇÃO | G13: 0.03
E14: 2 | F14: DESPESAS FINANCEIRAS | G14: 0.0062
E15: 3 | F15: SEGURO/GARANTIA/RISCO | G15: =SUM(G16:G17) -> 0.018
E16: 3.1 | F16: RISCOS | G16: 0.01
E17: 3.2 | F17: SEGUROS+GARANTIA | G17: 0.008
E18: 4 | F18: LUCRO BRUTO | G18: 0.06
E19: 5 | F19: TRIBUTOS | G19: =SUM(G20:G23) -> 0.0865
E20: 5.1 | F20: ISS | G20: 0.05
E21: 5.2 | F21: PIS | G21: 0.0065
E22: 5.3 | F22: COFINS | G22: 0.03
E23: 5.4 | F23: CPRB
E25: BDI | G25: =TRUNC(((1+(G13+G15))*(1+G14)*(1+G18)/(1-G19))-1,4) -> 0.2236

Sheet CURVA ABC DE SERVIÇOS
A1: PREFEITURA DE SÃO LUÍS
A2: INSTITUTO MUNICIPAL DA PAISAGEM URBANA
A3: CURVA ABC DE SERVIÇOS
A4: ITEM | B4: DESCRIÇÃO | C4: UND. | D4: QUANT. | E4: CUSTO UNIT. COM BDI | F4: SUBTOTAL | G4: PESO | H4: PESO ACUMULADO | I4: CLASSIFICAÇÃO
A5: 3.2 | B5: =VLOOKUP(A5,ORÇ!$A$11:$I$49,5,FALSE) -> SERVENTE COM ENCARGOS COMPLEMENTARES | C5: =VLOOKUP(A5,ORÇ!$A$11:$I$49,6,FALSE) -> MÊS | D5: =VLOOKUP(A5,ORÇ!$A$11:$I$49,7,FALSE) -> 240 | E5: =VLOOKUP(A5,ORÇ!$A$11:$I$49,9,FALSE) -> 4658.26 | F5: =TRUNC(D5*E5,2) -> 1117982.4 | G5: =F5/$F$42 -> 0.10530402 | H5: =G5 -> 0.10530402 | I5: =IF(H5<50%,"A",IF(AND(H5>50%,H5<80%),"B","C")) -> A
A6: 3.4 | B6: =VLOOKUP(A6,ORÇ!$A$11:$I$49,5,FALSE) -> LOCAÇÃO DE CAMINHÃO MUNCK DE 18 T, INCLUSIVE COMBUSTIVEL, MANUTENÇÃO, OPERADOR E SMARTPHONE | C6: =VLOOKUP(A6,ORÇ!$A$11:$I$49,6,FALSE) -> H | D6: =VLOOKUP(A6,ORÇ!$A$11:$I$49,7,FALSE) -> 2112 | E6: =VLOOKUP(A6,ORÇ!$A$11:$I$49,9,FALSE) -> 435.99 | F6: =TRUNC(D6*E6,2) -> 920810.88 | G6: =F6/$F$42 -> 0.086732216 | H6: =G6+H5 -> 0.19203624
A7: 3.3 | B7: =VLOOKUP(A7,ORÇ!$A$11:$I$49,5,FALSE) -> EQUIPE ORNAMENTAÇÃO (1/MÊS) | C7: =VLOOKUP(A7,ORÇ!$A$11:$I$49,6,FALSE) -> MÊS | D7: =VLOOKUP(A7,ORÇ!$A$11:$I$49,7,FALSE) -> 24 | E7: =VLOOKUP(A7,ORÇ!$A$11:$I$49,9,FALSE) -> 38318.11 | F7: =TRUNC(D7*E7,2) -> 919634.64 | G7: =F7/$F$42 -> 0.086621425 | H7: =G7+H6 -> 0.27865767
A8: 2.25 | B8: =VLOOKUP(A8,ORÇ!$A$11:$I$49,5,FALSE) -> TRATAMENTO FITOSSANITÁRIO COM UTILIZAÇÃO DE PRODUTOS QUÍMICOS - INSETICIDAS E FUNGICIDAS | C8: =VLOOKUP(A8,ORÇ!$A$11:$I$49,6,FALSE) -> M2 | D8: =VLOOKUP(A8,ORÇ!$A$11:$I$49,7,FALSE) -> 60000 | E8: =VLOOKUP(A8,ORÇ!$A$11:$I$49,9,FALSE) -> 11.13 | F8: =TRUNC(D8*E8,2) -> 667800 | G8: =F8/$F$42 -> 0.062900836 | H8: =H7+G8 -> 0.3415585 | K8: Faixa A | L8: =COUNTA(G4:G8) -> 5 | M8: =L8/$L$11 -> #DIV/0! | N8: =SUM(M8:M8) -> #DIV/0!
A9: 2.21 | B9: =VLOOKUP(A9,ORÇ!$A$11:$I$49,5,FALSE) -> PLANTIO DE ÁRVORE ORNAMENTAL COM ALTURA DE MUDA MAIOR QUE 2,00 M E MENOR OU IGUAL A 4,00 M. | C9: =VLOOKUP(A9,ORÇ!$A$11:$I$49,6,FALSE) -> UN | D9: =VLOOKUP(A9,ORÇ!$A$11:$I$49,7,FALSE) -> 1600 | E9: =VLOOKUP(A9,ORÇ!$A$11:$I$49,9,FALSE) -> 413.9 | F9: =TRUNC(D9*E9,2) -> 662240 | G9: =F9/$F$42 -> 0.062377133 | H9: =H8+G9 -> 0.40393563
A10: 2.19 | B10: =VLOOKUP(A10,ORÇ!$A$11:$I$49,5,FALSE) -> PLANTIO DE ARBUSTO OU CERCA VIVA. | C10: =VLOOKUP(A10,ORÇ!$A$11:$I$49,6,FALSE) -> UN | D10: =VLOOKUP(A10,ORÇ!$A$11:$I$49,7,FALSE) -> 4000 | E10: =VLOOKUP(A10,ORÇ!$A$11:$I$49,9,FALSE) -> 154.36 | F10: =TRUNC(D10*E10,2) -> 617440 | G10: =F10/$F$42 -> 0.058157371 | H10: =H9+G10 -> 0.462093
A11: 2.20 | B11: =VLOOKUP(A11,ORÇ!$A$11:$I$49,5,FALSE) -> PLANTIO DE ÁRVORE ORNAMENTAL COM ALTURA DE MUDA MENOR OU IGUAL A 2,00 M. | C11: =VLOOKUP(A11,ORÇ!$A$11:$I$49,6,FALSE) -> UN | D11: =VLOOKUP(A11,ORÇ!$A$11:$I$49,7,FALSE) -> 2800 | E11: =VLOOKUP(A11,ORÇ!$A$11:$I$49,9,FALSE) -> 216.93 | F11: =TRUNC(D11*E11,2) -> 607404 | G11: =F11/$F$42 -> 0.057212068 | H11: =H10+G11 -> 0.51930507 | I11: =IF(H11<50%,"A",IF(AND(H11>50%,H11<80%),"B","C")) -> B
A12: 2.28 | B12: =VLOOKUP(A12,ORÇ!$A$11:$I$49,5,FALSE) -> IRRIGAÇÃO DIÁRIA | C12: =VLOOKUP(A12,ORÇ!$A$11:$I$49,6,FALSE) -> M2xD | D12: =VLOOKUP(A12,ORÇ!$A$11:$I$49,7,FALSE) -> 5000000 | E12: =VLOOKUP(A12,ORÇ!$A$11:$I$49,9,FALSE) -> 0.12 | F12: =TRUNC(D12*E12,2) -> 600000 | G12: =F12/$F$42 -> 0.056514677 | H12: =H11+G12 -> 0.57581975
A13: 2.1 | B13: =VLOOKUP(A13,ORÇ!$A$11:$I$49,5,FALSE) -> CAPINA MECANIZADA | C13: =VLOOKUP(A13,ORÇ!$A$11:$I$49,6,FALSE) -> M2 | D13: =VLOOKUP(A13,ORÇ!$A$11:$I$49,7,FALSE) -> 450000 | E13: =VLOOKUP(A13,ORÇ!$A$11:$I$49,9,FALSE) -> 1.26 | F13: =TRUNC(D13*E13,2) -> 567000 | G13: =F13/$F$42 -> 0.05340637 | H13: =H12+G13 -> 0.62922612
A14: 3.1 | B14: =VLOOKUP(A14,ORÇ!$A$11:$I$49,5,FALSE) -> JARDINEIRO COM ENCARGOS COMPLEMENTARES | C14: =VLOOKUP(A14,ORÇ!$A$11:$I$49,6,FALSE) -> MÊS | D14: =VLOOKUP(A14,ORÇ!$A$11:$I$49,7,FALSE) -> 96 | E14: =VLOOKUP(A14,ORÇ!$A$11:$I$49,9,FALSE) -> 4921.25 | F14: =TRUNC(D14*E14,2) -> 472440 | G14: =F14/$F$42 -> 0.044499657 | H14: =H13+G14 -> 0.67372578
A15: 2.30 | B15: =VLOOKUP(A15,ORÇ!$A$11:$I$49,5,FALSE) -> FORNECIMENTO E PLANTIO DE FORRAÇÃO/RASTEIRA | C15: =VLOOKUP(A15,ORÇ!$A$11:$I$49,6,FALSE) -> UND | D15: =VLOOKUP(A15,ORÇ!$A$11:$I$49,7,FALSE) -> 28000 | E15: =VLOOKUP(A15,ORÇ!$A$11:$I$49,9,FALSE) -> 15.8 | F15: =TRUNC(D15*E15,2) -> 442400 | G15: =F15/$F$42 -> 0.041670155 | H15: =H14+G15 -> 0.71539593
A16: 2.2 | B16: =VLOOKUP(A16,ORÇ!$A$11:$I$49,5,FALSE) -> CAPINA MANUAL | C16: =VLOOKUP(A16,ORÇ!$A$11:$I$49,6,FALSE) -> M2 | D16: =VLOOKUP(A16,ORÇ!$A$11:$I$49,7,FALSE) -> 180000 | E16: =VLOOKUP(A16,ORÇ!$A$11:$I$49,9,FALSE) -> 2.16 | F16: =TRUNC(D16*E16,2) -> 388800 | G16: =F16/$F$42 -> 0.036621511 | H16: =H15+G16 -> 0.75201744
A17: 2.23 | B17: =VLOOKUP(A17,ORÇ!$A$11:$I$49,5,FALSE) -> APLICAÇÃO DE ADUBO EM SOLO. | C17: =VLOOKUP(A17,ORÇ!$A$11:$I$49,6,FALSE) -> M2 | D17: =VLOOKUP(A17,ORÇ!$A$11:$I$49,7,FALSE) -> 32000 | E17: =VLOOKUP(A17,ORÇ!$A$11:$I$49,9,FALSE) -> 10.86 | F17: =TRUNC(D17*E17,2) -> 347520 | G17: =F17/$F$42 -> 0.032733301 | H17: =H16+G17 -> 0.78475074
A18: 2.17 | B18: =VLOOKUP(A18,ORÇ!$A$11:$I$49,5,FALSE) -> FORNECIMENTO E ESPALHAMENTO DE TERRA PRETA | C18: =VLOOKUP(A18,ORÇ!$A$11:$I$49,6,FALSE) -> M3 | D18: =VLOOKUP(A18,ORÇ!$A$11:$I$49,7,FALSE) -> 768 | E18: =VLOOKUP(A18,ORÇ!$A$11:$I$49,9,FALSE) -> 449.94 | F18: =TRUNC(D18*E18,2) -> 345553.92 | G18: =F18/$F$42 -> 0.032548114 | H18: =H17+G18 -> 0.81729886 | I18: =IF(H18<50%,"A",IF(AND(H18>50%,H18<80%),"B","C")) -> C | K18: Faixa C | L18: =COUNTA(G27:G48) -> 15 | M18: =L18/$L$11 -> #DIV/0! | N18: =M18 -> #DIV/0!
A19: 2.16 | B19: =VLOOKUP(A19,ORÇ!$A$11:$I$49,5,FALSE) -> PODA DAS ÁRVORES, PALMEIRAS E DEMAIS ESPÉCIES ARBÓREAS (DIÂMETRO ACIMA DE 60CM) | C19: =VLOOKUP(A19,ORÇ!$A$11:$I$49,6,FALSE) -> UN | D19: =VLOOKUP(A19,ORÇ!$A$11:$I$49,7,FALSE) -> 400 | E19: =VLOOKUP(A19,ORÇ!$A$11:$I$49,9,FALSE) -> 862.52 | F19: =TRUNC(D19*E19,2) -> 345008 | G19: =F19/$F$42 -> 0.032496693 | H19: =H18+G19 -> 0.84979555
A20: 2.4 | B20: =VLOOKUP(A20,ORÇ!$A$11:$I$49,5,FALSE) -> PLANTIO DE GRAMA EM PLACAS. AF_05/2018 | C20: =VLOOKUP(A20,ORÇ!$A$11:$I$49,6,FALSE) -> M2 | D20: =VLOOKUP(A20,ORÇ!$A$11:$I$49,7,FALSE) -> 12000 | E20: =VLOOKUP(A20,ORÇ!$A$11:$I$49,9,FALSE) -> 21.97 | F20: =TRUNC(D20*E20,2) -> 263640 | G20: =F20/$F$42 -> 0.024832549 | H20: =H19+G20 -> 0.8746281 | K20: Total | L20: =SUM(L17:L19) -> 15 | M20: =SUM(M17:M19) -> #DIV/0! | N20: =SUM(N17:N19) -> #DIV/0!
A21: 2.15 | B21: =VLOOKUP(A21,ORÇ!$A$11:$I$49,5,FALSE) -> PODA DAS ÁRVORES, PALMEIRAS E DEMAIS ESPÉCIES ARBÓREAS (DIÂMETRO ATÉ 40CM À 60CM) | C21: =VLOOKUP(A21,ORÇ!$A$11:$I$49,6,FALSE) -> UN | D21: =VLOOKUP(A21,ORÇ!$A$11:$I$49,7,FALSE) -> 600 | E21: =VLOOKUP(A21,ORÇ!$A$11:$I$49,9,FALSE) -> 413.45 | F21: =TRUNC(D21*E21,2) -> 248070 | G21: =F21/$F$42 -> 0.023365993 | H21: =H20+G21 -> 0.89799409
A22: 2.22 | B22: =VLOOKUP(A22,ORÇ!$A$11:$I$49,5,FALSE) -> PLANTIO DE PALMEIRA COM ALTURA DE MUDA MENOR OU IGUAL A 2,00 M. | C22: =VLOOKUP(A22,ORÇ!$A$11:$I$49,6,FALSE) -> UN | D22: =VLOOKUP(A22,ORÇ!$A$11:$I$49,7,FALSE) -> 400 | E22: =VLOOKUP(A22,ORÇ!$A$11:$I$49,9,FALSE) -> 618.84 | F22: =TRUNC(D22*E22,2) -> 247536 | G22: =F22/$F$42 -> 0.023315695 | H22: =H21+G22 -> 0.92130979
A23: 2.18 | B23: =VLOOKUP(A23,ORÇ!$A$11:$I$49,5,FALSE) -> FORNECIMENTO E ESPALHAMENTO DE ADUBO MINERAL - NPK 10-10-10 | C23: =VLOOKUP(A23,ORÇ!$A$11:$I$49,6,FALSE) -> M2 | D23: =VLOOKUP(A23,ORÇ!$A$11:$I$49,7,FALSE) -> 24000 | E23: =VLOOKUP(A23,ORÇ!$A$11:$I$49,9,FALSE) -> 6.49 | F23: =TRUNC(D23*E23,2) -> 155760 | G23: =F23/$F$42 -> 0.01467121 | H23: =H22+G23 -> 0.935981
A24: 2.29 | B24: =VLOOKUP(A24,ORÇ!$A$11:$I$49,5,FALSE) -> LIMPEZA (VARRIÇÃO E REMOÇÃO DE ENTULHO) | C24: =VLOOKUP(A24,ORÇ!$A$11:$I$49,6,FALSE) -> M2 | D24: =VLOOKUP(A24,ORÇ!$A$11:$I$49,7,FALSE) -> 240000 | E24: =VLOOKUP(A24,ORÇ!$A$11:$I$49,9,FALSE) -> 0.61 | F24: =TRUNC(D24*E24,2) -> 146400 | G24: =F24/$F$42 -> 0.013789581 | H24: =H23+G24 -> 0.94977058
A25: 1.1 | B25: =VLOOKUP(A25,ORÇ!$A$11:$I$49,5,FALSE) -> TÉCNICO EM SEGURANÇA DO TRABALHO COM ENCARGOS COMPLEMENTARES | C25: =VLOOKUP(A25,ORÇ!$A$11:$I$49,6,FALSE) -> MÊS | D25: =VLOOKUP(A25,ORÇ!$A$11:$I$49,7,FALSE) -> 12 | E25: =VLOOKUP(A25,ORÇ!$A$11:$I$49,9,FALSE) -> 11041.14 | F25: =TRUNC(D25*E25,2) -> 132493.68 | G25: =F25/$F$42 -> 0.012479729 | H25: =H24+G25 -> 0.96225031
A26: 2.14 | B26: =VLOOKUP(A26,ORÇ!$A$11:$I$49,5,FALSE) -> PODA DAS ÁRVORES, PALMEIRAS E DEMAIS ESPÉCIES ARBÓREAS (DIÂMETRO ATÉ 20CM À 40CM) | C26: =VLOOKUP(A26,ORÇ!$A$11:$I$49,6,FALSE) -> UN | D26: =VLOOKUP(A26,ORÇ!$A$11:$I$49,7,FALSE) -> 800 | E26: =VLOOKUP(A26,ORÇ!$A$11:$I$49,9,FALSE) -> 149.31 | F26: =TRUNC(D26*E26,2) -> 119448 | G26: =F26/$F$42 -> 0.011250942 | H26: =H25+G26 -> 0.97350125
A27: 2.3 | B27: =VLOOKUP(A27,ORÇ!$A$11:$I$49,5,FALSE) -> PODA DE PLANTAS ORNAMENTAIS | C27: =VLOOKUP(A27,ORÇ!$A$11:$I$49,6,FALSE) -> M2 | D27: =VLOOKUP(A27,ORÇ!$A$11:$I$49,7,FALSE) -> 12000 | E27: =VLOOKUP(A27,ORÇ!$A$11:$I$49,9,FALSE) -> 7.09 | F27: =TRUNC(D27*E27,2) -> 85080 | G27: =F27/$F$42 -> 0.0080137812 | H27: =H26+G27 -> 0.98151503
A28: 2.6 | B28: =VLOOKUP(A28,ORÇ!$A$11:$I$49,5,FALSE) -> PODA E LIMPEZA DE ARBUSTO TIPO CERCA VIVA | C28: =VLOOKUP(A28,ORÇ!$A$11:$I$49,6,FALSE) -> M2 | D28: =VLOOKUP(A28,ORÇ!$A$11:$I$49,7,FALSE) -> 4800 | E28: =VLOOKUP(A28,ORÇ!$A$11:$I$49,9,FALSE) -> 7.09 | F28: =TRUNC(D28*E28,2) -> 34032 | G28: =F28/$F$42 -> 0.0032055125 | H28: =H27+G28 -> 0.98472054
A29: 1.2 | B29: =VLOOKUP(A29,ORÇ!$A$11:$I$49,5,FALSE) -> ASSISTÊNCIA TÉCNICA COM ENGENHEIRO AGRÔNOMO (1/MÊS) | C29: =VLOOKUP(A29,ORÇ!$A$11:$I$49,6,FALSE) -> MÊS | D29: =VLOOKUP(A29,ORÇ!$A$11:$I$49,7,FALSE) -> 12 | E29: =VLOOKUP(A29,ORÇ!$A$11:$I$49,9,FALSE) -> 2538.43 | F29: =TRUNC(D29*E29,2) -> 30461.16 | G29: =F29/$F$42 -> 0.002869171 | H29: =H28+G29 -> 0.98758972
A30: 2.5 | B30: =VLOOKUP(A30,ORÇ!$A$11:$I$49,5,FALSE) -> RETIRADA DE GRAMA EM PLACAS | C30: =VLOOKUP(A30,ORÇ!$A$11:$I$49,6,FALSE) -> M2 | D30: =VLOOKUP(A30,ORÇ!$A$11:$I$49,7,FALSE) -> 4000 | E30: =VLOOKUP(A30,ORÇ!$A$11:$I$49,9,FALSE) -> 6.8 | F30: =TRUNC(D30*E30,2) -> 27200 | G30: =F30/$F$42 -> 0.0025619987 | H30: =H29+G30 -> 0.99015171
A31: 2.12 | B31: =VLOOKUP(A31,ORÇ!$A$11:$I$49,5,FALSE) -> CORTE RASO E RECORTE DE ÁRVORE COM DIÂMETRO DE TRONCO MAIOR OU IGUAL A 0,60 M.AF_05/2018 | C31: =VLOOKUP(A31,ORÇ!$A$11:$I$49,6,FALSE) -> UN | D31: =VLOOKUP(A31,ORÇ!$A$11:$I$49,7,FALSE) -> 40 | E31: =VLOOKUP(A31,ORÇ!$A$11:$I$49,9,FALSE) -> 473.14 | F31: =TRUNC(D31*E31,2) -> 18925.6 | G31: =F31/$F$42 -> 0.0017826236 | H31: =H30+G31 -> 0.99193434
A32: 2.13 | B32: =VLOOKUP(A32,ORÇ!$A$11:$I$49,5,FALSE) -> PODA DAS ÁRVORES, PALMEIRAS E DEMAIS ESPÉCIES ARBÓREAS (DIÂMETRO ATÉ 20CM) | C32: =VLOOKUP(A32,ORÇ!$A$11:$I$49,6,FALSE) -> UN | D32: =VLOOKUP(A32,ORÇ!$A$11:$I$49,7,FALSE) -> 400 | E32: =VLOOKUP(A32,ORÇ!$A$11:$I$49,9,FALSE) -> 39.97 | F32: =TRUNC(D32*E32,2) -> 15988 | G32: =F32/$F$42 -> 0.0015059278 | H32: =H31+G32 -> 0.99344027
... A41: 2.24 | B41: =VLOOKUP(A41,ORÇ!$A$11:$I$49,5,FALSE) -> APLICAÇÃO DE CALCÁRIO PARA CORREÇÃO DO PH DO SOLO. | C41: =VLOOKUP(A41,ORÇ!$A$11:$I$49,6,FALSE) -> M2 | D41: =VLOOKUP(A41,ORÇ!$A$11:$I$49,7,FALSE) -> 8000 | E41: =VLOOKUP(A41,ORÇ!$A$11:$I$49,9,FALSE) -> 0.4 | F41: =TRUNC(D41*E41,2) -> 3200 | G41: =F41/$F$42 -> 0.00030141161 | H41: =H40+G41 -> 1
A42: TOTAL GERAL | F42: =SUM(F5:F41) -> 10616711 | H42: =H40 -> 0.99969859

Sheet  CRONO
A1: PREFEITURA DE SÃO LUÍS
A2: INSTITUTO MUNICIPAL DA PAISAGEM URBANA
A3: CRONOGRAMA DE DESEMBOLSO
A4: DATA BASE: | B4: JUL/2026
A5: REFERÊNCIA DE PREÇO | B5: ORSE: 02/2026; SINAPI: 03/2026 SCO: 03/2026; EMBASA: 06/2026
A7: ITEM | B7: SERVIÇOS | C7: 30 DIAS | D7: 60 DIAS | E7: 90 DIAS | F7: 120 DIAS | G7: 150 DIAS | H7: 180 DIAS | I7: 210 DIAS | J7: 240 DIAS | K7: 270 DIAS | L7: 300 DIAS | M7: 330 DIAS | N7: 360 DIAS | O7: VALOR
A8: 1 | B8: =ORÇ!E10 -> ADMINISTRAÇÃO LOCAL | C8: 0.0834 | D8: 0.0833 | E8: 0.0834 | F8: 0.0833 | G8: 0.0833 | H8: 0.0834 | I8: 0.0833 | J8: 0.0834 | K8: 0.0833 | L8: 0.0833 | M8: 0.0833 | N8: 0.0833 | O8: =ORÇ!J10 -> 167148.12
C9: =C8*$O$8 -> 13940.153 | D9: =D8*$O$8 -> 13923.438 | E9: =E8*$O$8 -> 13940.153 | F9: =F8*$O$8 -> 13923.438 | G9: =G8*$O$8 -> 13923.438 | H9: =H8*$O$8 -> 13940.153 | I9: =I8*$O$8 -> 13923.438 | J9: =J8*$O$8 -> 13940.153 | ... N9: =N8*$O$8 -> 13923.438
A10: 2 | B10: =ORÇ!E14 -> JARDINAGEM E MANUTENÇÃO PAISAGÍSTICA | C10: 0.13095983 | D10: 0.13095983 | E10: 0.13095983 | F10: 0.13095983 | G10: 0.13095983 | H10: 0.13095983 | I10: 0.035706837 | J10: 0.035706837 | K10: 0.035706837 | L10: 0.035706837 | M10: 0.035706837 | N10: 0.035706837 | O10: =ORÇ!J14 -> 7018695
C11: =C10*$O$10 -> 919167.11 | D11: =D10*$O$10 -> 919167.11 | E11: =E10*$O$10 -> 919167.11 | F11: =F10*$O$10 -> 919167.11 | G11: =G10*$O$10 -> 919167.11 | H11: =H10*$O$10 -> 919167.11 | I11: =I10*$O$10 -> 250615.4 | J11: =J10*$O$10 -> 250615.4 | ... N11: =N10*$O$10 -> 250615.4
A12: 3 | B12: =ORÇ!E44 -> FORNECIMENTO E PLANTIO DE FORRAÇÃO/RASTEIRA | C12: 0.0833 | D12: 0.0834 | E12: 0.0833 | F12: 0.0834 | G12: 0.0833 | H12: 0.0834 | I12: 0.0833 | J12: 0.0834 | K12: 0.0833 | L12: 0.0833 | M12: 0.0833 | N12: 0.0833 | O12: =ORÇ!J53 -> 3430867.9
C13: =C12*$O$12 -> 285791.3 | D13: =D12*$O$12 -> 286134.38 | E13: =E12*$O$12 -> 285791.3 | F13: =F12*$O$12 -> 286134.38 | G13: =G12*$O$12 -> 285791.3 | H13: =H12*$O$12 -> 286134.38 | I13: =I12*$O$12 -> 285791.3 | J13: =J12*$O$12 -> 286134.38 | ... N13: =N12*$O$12 -> 285791.3
A14: VALOR SIMPLES | C14: =SUM(C9,C11,C13) -> 1218898.6 | D14: =SUM(D9,D11,D13) -> 1219224.9 | E14: =SUM(E9,E11,E13) -> 1218898.6 | F14: =SUM(F9,F11,F13) -> 1219224.9 | G14: =SUM(G9,G11,G13) -> 1218881.8 | H14: =SUM(H9,H11,H13) -> 1219241.6 | I14: =SUM(I9,I11,I13) -> 550330.13 | J14: =SUM(J9,J11,J13) -> 550689.94 | ... N14: =SUM(N9,N11,N13) -> 550330.13 | O14: =SUM(O3:O13) -> 10616711
A15: PERCENTUAL SIMPLES | C15: =C14/$O$14 -> 0.11480943 | D15: =D14/$O$14 -> 0.11484017 | E15: =E14/$O$14 -> 0.11480943 | F15: =F14/$O$14 -> 0.11484017 | G15: =G14/$O$14 -> 0.11480786 | H15: =H14/$O$14 -> 0.11484175 | I15: =I14/$O$14 -> 0.051836217 | J15: =J14/$O$14 -> 0.051870107 | ... N15: =N14/$O$14 -> 0.051836217
A16: VALOR ACUMULADO | C16: =C14 -> 1218898.6 | D16: =C16+D14 -> 2438123.5 | E16: =D16+E14 -> 3657022.1 | F16: =E16+F14 -> 4876247 | G16: =F16+G14 -> 6095128.8 | H16: =G16+H14 -> 7314370.5 | I16: =H16+I14 -> 7864700.6 | J16: =I16+J14 -> 8415390.5 | K16: =J16+K14 -> 8965720.7 | ... N16: =M16+N14 -> 10616711
D94: 9495888.2 | E94: =D94*D96 -> 791957.08 | H94: =SUM(C11:H11) -> 5515002.7
D95: 1243579.9 | H95: =F100/H94 -> 0.16400931 | K95: =100%-SUM(C10:H10) -> 0.21424102
D96: 0.0834 | E96: =D95/D94 -> 0.13095983 | K96: =K95/6 -> 0.035706837
D100: 4068817.6 | E100: =D100/12 -> 339068.13 | F100: =E110-E100 -> 904511.78
D103: 92324.326
D105: 218002.03
D107: 594185.42
E110: =SUM(D103:D107,E100) -> 1243579.9

Sheet ENC SOCIAIS 
A1: PREFEITURA DE SÃO LUÍS
A2: SECRETARIA MUNICIPAL DE OBRAS E SERVIÇOS PÚBLICOS
A3: ENCARGOS SOCIAIS SOBRE PREÇOS DA MÃO DE OBRA HORISTA E MENSALISTA
A6: CÓDIGO | B6: DESCRIÇÃO | C6: SEM DESONERAÇÃO
C7: HORISTA % | D7: MENSALISTA %
A8: GRUPO A
A9: A1 | B9: INSS | C9: 0.2 | D9: 0.2
A10: A2 | B10: SESI | C10: 0.015 | D10: 0.015
A11: A3 | B11: SENAI | C11: 0.01 | D11: 0.01
A12: A4 | B12: INCRA | C12: 0.002 | D12: 0.002
A13: A5 | B13: SEBRAE | C13: 0.006 | D13: 0.006
A14: A6 | B14: SALÁRIO EDUCAÇÃO | C14: 0.025 | D14: 0.025
A15: A7 | B15: SEGURO CONTRA ACIDENTES DE TRABALHO | C15: 0.03 | D15: 0.03
A16: A8 | B16: FGTS | C16: 0.08 | D16: 0.08
A17: A9 | B17: SECONCI | C17: 0 | D17: 0
A18: A | B18: TOTAL DOS ENCARGOS SOCIAIS BÁSICOS | C18: =SUM(C9:C17) -> 0.368 | D18: =SUM(D9:D17) -> 0.368
A19: GRUPO B
A20: B1 | B20: REPOUSO SEMANAL REMUNERADO | C20: 0.1788 | D20: 0
A21: B2 | B21: FERIADOS | C21: 0.0395 | D21: 0
A22: B3 | B22: AUXÍLIO ENFERMIDADE | C22: 0.0086 | D22: 0.0065
A23: B4 | B23: 13º SALÁRIO | C23: 0.1097 | D23: 0.0833
A24: B5 | B24: LICENÇA PATERNIDADE | C24: 0.0007 | D24: 0.0005
A25: B6 | B25: FALTAS JUSTIFICADAS | C25: 0.0073 | D25: 0.0056
A26: B7 | B26: DIAS DE CHUVAS | C26: 0.0156 | D26: 0
A27: B8 | B27: AUXÍLIO ACIDENTE DE TRABALHO | C27: 0.001 | D27: 0.0007
A28: B9 | B28: FÉRIAS GOZADAS | C28: 0.1116 | D28: 0.0848
A29: B10 | B29: SALÁRIO MATERNIDADE | C29: 0.0003 | D29: 0.0003
A30: B | B30: TOTAL DOS ENCARGOS SOCIAIS QUE RECEBEM INCIDÊNCIAS DE A | C30: =SUM(C20:C29) -> 0.4731 | D30: =SUM(D20:D29) -> 0.1817
A31: GRUPO C
A32: C1 | B32: AVISO PRÉVIO INDENIZADO | C32: 0.0455 | D32: 0.0346
A33: C2 | B33: AVISO PRÉVIO TRABALHADO | C33: 0.0011 | D33: 0.0008
A34: C3 | B34: FÉRIAS (INDENIZADAS) | C34: 0.0317 | D34: 0.0241
A35: C4 | B35: DEPÓSITO RESCISÃO SEM JUSTA CAUSA | C35: 0.026 | D35: 0.0198
A36: C5 | B36: INDENIZAÇÃO ADICIONAL | C36: 0.0038 | D36: 0.0029
A37: C | B37: TOTAL DOS ENCARGOS SOCIAIS QUE NÃO RECEBEM INCIDÊNCIAS GLOBAIS DE A | C37: =SUM(C32:C36) -> 0.1081 | D37: =SUM(D32:D36) -> 0.0822
A38: GRUPO D
A39: D1 | B39: REINCIDÊNCIA DE GRUPO A SOBRE GRUPO B | C39: 0.1741 | D39: 0.0669
A40: D2 | B40: REINCIDÊNCIA DE GRUPO A SOBRE AVISO PRÉVIO TRABALHADO E REINCIDÊNCIA DO FGTS SOBRE AVISO PRÉVIO INDENIZADO | C40: 0.004 | D40: 0.0031
A41: D | B41: TOTAL DAS TAXAS INCIDÊNCIAS E REINCIDÊNCIAS | C41: =SUM(C39:C40) -> 0.1781 | D41: =SUM(D39:D40) -> 0.07
A42: TOTAL (A+B+C+D) | C42: =SUM(C18,C30,C37,C41) -> 1.1273 | D42: =SUM(D18,D30,D37,D41) -> 0.7019

Sheet COTAÇÕES 
C5: ACARICIDA 500 ML
C6: LEROY MERLIN | D6: 23.9
C7: AMAZON | D7: 25.8
C8: COBASI | D8: 48.9
C9: MÉDIA | D9: =AVERAGE(D6:D8) -> 32.866667

Sheet Planilha1
B4: FRANCESES | C4: =SUM(C5:C29) -> 40035 | E4: AFRICANOS | F4: =SUM(F5:F29) -> 30719.4 | H4: TRECHO SÃO FRANCISCO | I4: =SUM(I5:I8) -> 10120 | K4: AV. DOS PORTUGUESES | L4: =SUM(L5:L16) -> 22054 | N4: AV. GETULIO VARGAS | O4: =SUM(O5:O16) -> 5214.5
B5: ÁREA 01 | C5: 488 | E5: ÁREA 01 | F5: 2110 | H5: ÁREA 01 | I5: 5000 | K5: ÁREA 01 | L5: 1406 | N5: ÁREA 01 | O5: 469
B6: ÁREA 02 | C6: 119 | E6: ÁREA 02 | F6: 3358 | H6: ÁREA 02 | I6: 1700 | K6: ÁREA 02 | L6: 5058 | N6: ÁREA 02 | O6: 628
B7: ÁREA 03 | C7: 3449 | E7: ÁREA 03 | F7: 1126 | H7: ÁREA 03 | I7: 2380 | K7: ÁREA 03 | L7: 433 | N7: ÁREA 03 | O7: 195
B8: ÁREA 04 | C8: 3025 | E8: ÁREA 04 | F8: 1318 | H8: ÁREA 04 | I8: 1040 | K8: ÁREA 04 | L8: 1305 | N8: ÁREA 04 | O8: 1126
B9: ÁREA 05 | C9: 5113 | E9: ÁREA 05 | F9: 545 | K9: ÁREA 05 | L9: 638 | N9: ÁREA 05 | O9: 203
B10: ÁREA 06 | C10: 1446 | E10: ÁREA 06 | F10: 1807 | H10: COHAFUMA | I10: =I11 -> 1040 | K10: ÁREA 06 | L10: 1297 | N10: ÁREA 06 | O10: 163
B11: ÁREA 07 | C11: 4476 | E11: ÁREA 07 | F11: 96.1 | H11: ÁREA 01 | I11: 1040 | K11: ÁREA 07 | L11: 2412 | N11: ÁREA 07 | O11: 1825
B12: ÁREA 08 | C12: 850 | E12: ÁREA 08 | F12: 1255 | K12: ÁREA 08 | L12: 2670 | N12: ÁREA 08 | O12: 537
B13: ÁREA 09 | C13: 12620 | E13: ÁREA 09 | F13: 714 | H13: ROTATÓRIA SÃO FRANCISCO | I13: =I14 -> 3480 | K13: ÁREA 09 | L13: 4332 | N13: ÁREA 09 | O13: 68.5
B14: ÁREA 10 | C14: 2300 | E14: ÁREA 10 | F14: 2217 | H14: ÁREA 01 | I14: 3480 | K14: ÁREA 10 | L14: 1199 | N14: ÁREA 10
B15: ÁREA 11 | C15: 89.6 | E15: ÁREA 11 | F15: 17.7 | K15: ÁREA 11 | L15: 835 | N15: ÁREA 11
B16: ÁREA 12 | C16: 623 | E16: ÁREA 12 | F16: 733 | H16: AV. CASTELO BRANCO | I16: =SUM(I17:I19) -> 3235 | K16: ÁREA 12 | L16: 469 | N16: ÁREA 12
B17: ÁREA 13 | C17: 524 | E17: ÁREA 13 | F17: 2122 | H17: ÁREA 01 | I17: 1110
B18: ÁREA 14 | C18: 506 | E18: ÁREA 14 | F18: 2827 | H18: ÁREA 02 | I18: 1054
B19: ÁREA 15 | C19: 130 | E19: ÁREA 15 | F19: 28.6 | H19: ÁREA 03 | I19: 1071
B20: ÁREA 16 | C20: 1519 | E20: ÁREA 16 | F20: 4131
B21: ÁREA 17 | C21: 81.4 | E21: ÁREA 17 | F21: 253 | H21: INÍCIO AV. ANA JANSEN | I21: =I22 -> 980
B22: ÁREA 18 | C22: 1134 | E22: ÁREA 18 | F22: 3023 | H22: ÁREA 01 | I22: 980
B23: ÁREA 19 | C23: 1041 | E23: ÁREA 19 | F23: 744
B24: ÁREA 20 | C24: 168 | E24: ÁREA 20 | F24: 451
B25: ÁREA 21 | C25: 190 | E25: ÁREA 21 | F25: 1843
B26: ÁREA 22 | C26: 143 | E26: ÁREA 22
