Workbook

Sheet REFORMA UELMA
A1: REFORMA UNIDADE ESCOLAR LUIS MARTINS DE ARAÚJO
A4: PLANILHA ORÇAMENTÁRIA SINTÉTICA
A5: BANCO | B5: CÓDIGO | C5: ITEM | D5: DESCRIMINAÇÃO | E5: UNIDADE | F5: QUANTIDADE | G5: CUSTO UNITÁRIO | H5: PREÇO UNITÁRIO | I5: PREÇO TOTAL
C7: 1.0 | D7: DEMOLIÇÃO
A8: SEINFRA | B8: C1043 | C8: 1.1 | D8: DEMOLIÇÃO DE ALVENARIA DE TIJOLOS S/ REAPROVEITAMENTO | E8: M3 | F8: =O8 -> 3.36525 | G8: 68.84 | H8: =G8*(1+(23.67/100)) -> 85.134428 | I8: =H8*F8 -> 286.49863 | K8: =SUM(I8:I10) -> 578.19953 | O8: =2.08*3.5*0.15*2+2.25*3.5*0.15 -> 3.36525
A9: SEINFRA | B9: C1048 | C9: 1.2 | D9: DEMOLIÇÃO DE CONCRETO ARMADO C/MARTELETE PNEUMÁTICO | E9: M3 | F9: =3.8*4*0.15*0.15 -> 0.342 | G9: 599.49 | H9: =G9*(1+(23.67/100)) -> 741.38928 | I9: =H9*F9 -> 253.55513
A10: SEINFRA | B10: C2210 | C10: 1.3 | D10: RETIRADA DE PORTAS E JANELAS, INCLUSIVE BATENTES | E10: M2 | F10: =0.8*2.1 -> 1.68 | G10: 18.36 | H10: =G10*(1+(23.67/100)) -> 22.705812 | I10: =H10*F10 -> 38.145764
C11: 2.0 | D11: REVESTIMENTO/PAVIMENTAÇÃO
A12: SINAPI | B12: 87531 | C12: 2.1 | D12: EMBOÇO, EM ARGAMASSA TRAÇO 1:2:8, PREPARO MECÂNICO, APLICADO MANUALMENTE EM PAREDES INTERNAS DE AMBIENTES COM ÁREA ENTRE 5M² E 10M², E = 17,5MM, COM TALISCAS. AF_03/2024 | E12: M2 | F12: =N22+O12+3.5*2.3*8 -> 533.2954 | G12: 39.85 | H12: =G12*(1+(23.67/100)) -> 49.282495 | I12: =H12*F12 -> 26282.128 | K12: =SUM(I12:I15) -> 40720.835 | O12: =0.45*4.5/2*2+4.5*2.6*2+1.6*2.6*2+2.6*1.6*2+2.6*4.5*2 -> 65.465
A13: SINAPI | B13: 94991 | C13: 2.2 | D13: EXECUÇÃO DE PASSEIO (CALÇADA) OU PISO DE CONCRETO COM CONCRETO MOLDADO IN LOCO, USINADO C20, ACABAMENTO CONVENCIONAL, NÃO ARMADO. AF_08/2022 | E13: M3 | F13: =(25*1.7*0.05+1.5*0.1*1.7+6.42*2*0.1*1.5) -> 4.306 | G13: 821.75 | H13: =G13*(1+(23.67/100)) -> 1016.2582 | I13: =H13*F13 -> 4376.0079
A14: SINAPI | B14: 88648 | C14: 2.3 | D14: RODAPÉ CERÂMICO DE 7CM DE ALTURA COM PLACAS TIPO ESMALTADA DE DIMENSÕES 35X35CM. AF_02/2023 | E14: M | F14: =6.55*4+6.42*4+1.5+6.42*4+1.6*2+4.5*2 -> 91.26 | G14: 8.39 | H14: =G14*(1+(23.67/100)) -> 10.375913 | I14: =H14*F14 -> 946.90582
A15: SINAPI | B15: 87247 | C15: 2.4 | D15: REVESTIMENTO CERÂMICO PARA PISO COM PLACAS TIPO ESMALTADA DE DIMENSÕES 35X35 CM APLICADA EM AMBIENTES DE ÁREA ENTRE 5 M2 E 10 M2. AF_02/2023_PE | E15: M2 | F15: =42.1*2+1.5*(6.42*2)+1.6*4.5 -> 110.66 | G15: 66.61 | H15: =G15*(1+(23.67/100)) -> 82.376587 | I15: =H15*F15 -> 9115.7931 | O15: =39.62+38.25+16.8+6.09 -> 100.76
C16: 3.0 | D16: SUPRAESTRUTURA/INFRAESTRUTURA
A17: SEINFRA | B17: C0054 | C17: 3.1 | D17: ALVENARIA DE EMBASAMENTO DE PEDRA ARGAMASSADA | E17: M3 | F17: =N17+O17+P17 -> 7.1217 | G17: 576.31 | H17: =G17*(1+(23.67/100)) -> 712.72258 | I17: =H17*F17 -> 5075.7964 | N17: =0.3*(8.05+1.5)*0.3+0.3*0.3*(12.84+1.2)*2+8.05*0.3*0.3*2 -> 4.8357 | O17: =2.8*0.3*0.3*4 -> 1.008 | P17: =5*0.3*0.3*2+2.1*0.3*0.3*2 -> 1.278
A18: SINAPI | B18: 103669 | C18: 3.2 | D18: CONCRETAGEM DE PILARES E VIGAS, FCK = 25 MPA, COM USO DE BALDES - LANÇAMENTO, ADENSAMENTO E ACABAMENTO. AF_02/2022 | E18: M3 | F18: =N18+O18+P18+Q18 -> 7.621 | G18: 1056.51 | H18: =G18*(1+(23.67/100)) -> 1306.5859 | I18: =H18*F18 -> 9957.4913 | K18: =SUM(I17:I20) -> 35971.482 | N18: =0.15*0.2*7*(3.76+0.5)+6.55*0.2*0.2*2+(12.84+0.4)*4*0.2*0.2+(8.05+0.4)*4*0.2*0.2+O18+P18 -> 5.592 | O18: =0.15*0.15*4*4 -> 0.36 | P18: =0.35*0.35*0.35*8 -> 0.343 | Q18: =0.2*0.2*4.8*4+1.8*4*0.2*0.2+0.15*0.15*4*3 -> 1.326
A19: SINAPI | B19: 92883 | C19: 3.3 | D19: ARMAÇÃO UTILIZANDO AÇO CA-25 DE 8,0 MM - MONTAGEM. AF_06/2022 | E19: KG | F19: =N19+O19+P19+Q19 -> 204.5688 | G19: 12.29 | H19: =G19*(1+(23.67/100)) -> 15.199043 | I19: =H19*F19 -> 3109.25 | N19: =0.395*4*(3.76+0.5)*7+8.05*0.395*2+(12.84+0.4)*4*0.395+(6.55+0.4)*4*0.395 -> 85.3753 | O19: =4*0.395*4*2.7+4*4*0.395*4 -> 42.344 | P19: =0.3*6*8 -> 14.4 | Q19: =4.8*0.395*4*4+1.8*0.395*4*4+0.395*4*4*3+0.395*0.3*3*4+0.395*3*0.3 -> 62.4495
A20: SINAPI | B20: 103322 | C20: 3.4 | D20: ALVENARIA DE VEDAÇÃO DE BLOCOS CERÂMICOS FURADOS NA VERTICAL DE 9X19X39 CM (ESPESSURA 9 CM) E ARGAMASSA DE ASSENTAMENTO COM PREPARO EM BETONEIRA. AF_08/2026 | E20: M2 | F20: =0.96*12.84/2*2+2.8*12.84*2+2.8*8.05+6.55*2.8+6.55*2.8+3.5*2.3*4+6.55*0.96/2+0.45*4.5/2*2+2.6*4.5*2+2.6*1.6*2 -> 212.5394 | G20: 67.83 | H20: =G20*(1+(23.67/100)) -> 83.885361 | I20: =H20*F20 -> 17828.944
C21: 4.0 | D21: PINTURA INTERNA/EXTERNA
A22: SINAPI | B22: 88485 | C22: 4.1 | D22: FUNDO SELADOR ACRÍLICO, APLICAÇÃO MANUAL EM PAREDE, UMA DEMÃO. AF_04/2023 | E22: M2 | F22: =N22+O12+3.5*2.3*8 -> 533.2954 | G22: 4.11 | H22: =G22*(1+(23.67/100)) -> 5.082837 | I22: =H22*F22 -> 2710.6536 | N22: =2.8*12.84*3+1.5*2.8+2.8*8.05*6+6.42*8*2.8+(0.96*12.84/2)*2 -> 403.4304
A23: SEINFRA | B23: C1279 | C23: 4.2 | D23: ESMALTE DUAS DEMÃOS EM ESQUADRIAS DE FERRO | E23: M2 | F23: =1*2.1*2*3 -> 12.6 | G23: 48.18 | H23: =G23*(1+(23.67/100)) -> 59.584206 | I23: =H23*F23 -> 750.761
A24: SINAPI | B24: 88489 | C24: 4.3 | D24: PINTURA LÁTEX ACRÍLICA PREMIUM, APLICAÇÃO MANUAL EM PAREDES, DUAS DEMÃOS. AF_04/2023 | E24: M2 | F24: =N22+O12+3.5*8*2.3 -> 533.2954 | G24: 14.22 | H24: =G24*(1+(23.67/100)) -> 17.585874 | I24: =H24*F24 -> 9378.4657 | K24: =SUM(I22:I24) -> 12839.88
C25: 5.0 | D25: COBERTURA
A26: SINAPI | B26: 90695 | C26: 5.1 | D26: TUBO DE PVC PARA REDE COLETORA DE ESGOTO DE PAREDE MACIÇA, DN 150 MM, JUNTA ELÁSTICA - FORNECIMENTO E ASSENTAMENTO. AF_01/2021 | E26: M | F26: 8 | G26: 95.64 | H26: =G26*(1+(23.67/100)) -> 118.27799 | I26: =H26*F26 -> 946.2239 | K26: =SUM(I26:I31) -> 36604.415
A27: SINAPI | B27: 96486 | C27: 5.2 | D27: FORRO EM RÉGUAS DE PVC, LISO, PARA AMBIENTES COMERCIAIS, INCLUSIVE ESTRUTURA BIDIRECIONAL DE FIXAÇÃO. AF_08/2023_PS | E27: M2 | F27: =R27 -> 100.76 | G27: 77.25 | H27: =G27*(1+(23.67/100)) -> 95.535075 | I27: =H27*F27 -> 9626.1142 | R27: =39.62+38.25+16.8+6.09 -> 100.76
A28: SEINFRA | B28: C4827 | C28: 5.3 | D28: TELHA DE ALUMÍNIO ONDULADA, ESP.=0,7MM | E28: M2 | F28: =R29 -> 184.3 | G28: =77.85 -> 77.85 | H28: =G28*(1+(23.67/100)) -> 96.277095 | I28: =H28*F28 -> 17743.869
A29: SINAPI | B29: 92543 | C29: 5.4 | D29: TRAMA DE MADEIRA COMPOSTA POR TERÇAS PARA TELHADOS DE ATÉ 2 ÁGUAS PARA TELHA ONDULADA DE FIBROCIMENTO, METÁLICA, PLÁSTICA OU TERMOACÚSTICA, INCLUSO TRANSPORTE VERTICAL. AF_10/2025 | E29: M2 | F29: =F28 -> 184.3 | G29: 22.38 | H29: =G29*(1+(23.67/100)) -> 27.677346 | I29: =H29*F29 -> 5100.9349 | R29: =184.3 -> 184.3
A30: SINAPI | B30: 92255 | C30: 5.5 | D30: INSTALAÇÃO DE TESOURA (INTEIRA OU MEIA), EM AÇO, PARA VÃOS MAIORES OU IGUAIS A 3,0 M E MENORES QUE 6,0 M, INCLUSO IÇAMENTO, EXCLUSIVE PINTURA. AF_10/2025_PE | E30: UN | F30: 8 | G30: 187.79 | H30: =G30*(1+(23.67/100)) -> 232.23989 | I30: =H30*F30 -> 1857.9191
A31: SINAPI | B31: 94229 | C31: 5.6 | D31: CALHA EM CHAPA DE AÇO GALVANIZADO NÚMERO 24, DESENVOLVIMENTO DE 100 CM, INCLUSO TRANSPORTE VERTICAL. AF_06/2026 | E31: M | F31: 6.55 | G31: 164.11 | H31: =G31*(1+(23.67/100)) -> 202.95484 | I31: =H31*F31 -> 1329.3542
C32: 6.0 | D32: INSTALAÇÕES ELÉTRICAS
A33: SINAPI | B33: 91831 | C33: 6.1 | D33: ELETRODUTO FLEXÍVEL CORRUGADO, PVC, DN 20 MM (1/2"), PARA CIRCUITOS TERMINAIS, INSTALADO EM FORRO - FORNECIMENTO E INSTALAÇÃO. AF_03/2023_PA | E33: M | F33: =F34+F39 -> 49 | G33: 18.06 | H33: =G33*(1+(23.67/100)) -> 22.334802 | I33: =H33*F33 -> 1094.4053 | K33: =SUM(I33:I39) -> 2884.7759
A34: SINAPI | B34: 91926 | C34: 6.2 | D34: CABO DE COBRE FLEXÍVEL ISOLADO, 2,5 MM², ANTI-CHAMA 450/750 V, PARA CIRCUITOS TERMINAIS - FORNECIMENTO E INSTALAÇÃO. AF_03/2023 | E34: M | F34: =2*4+1*6 -> 14 | G34: 5.64 | H34: =G34*(1+(23.67/100)) -> 6.974988 | I34: =H34*F34 -> 97.649832
A35: SINAPI | B35: 92027 | C35: 6.3 | D35: INTERRUPTOR SIMPLES (2 MÓDULOS) COM 1 TOMADA DE EMBUTIR 2P+T 10 A, INCLUINDO SUPORTE E PLACA - FORNECIMENTO E INSTALAÇÃO. AF_03/2023 | E35: UN | F35: 3 | G35: 73.53 | H35: =G35*(1+(23.67/100)) -> 90.934551 | I35: =H35*F35 -> 272.80365
A36: SINAPI | B36: 91993 | C36: 6.4 | D36: TOMADA ALTA DE EMBUTIR (1 MÓDULO), 2P+T 20 A, INCLUINDO SUPORTE E PLACA - FORNECIMENTO E INSTALAÇÃO. AF_03/2023 | E36: UN | F36: 4 | G36: 52 | H36: =G36*(1+(23.67/100)) -> 64.3084 | I36: =H36*F36 -> 257.2336
A37: SINAPI | B37: 92004 | C37: 6.5 | D37: TOMADA MÉDIA DE EMBUTIR (2 MÓDULOS), 2P+T 10 A, INCLUINDO SUPORTE E PLACA - FORNECIMENTO E INSTALAÇÃO. AF_03/2023 | E37: UN | F37: 10 | G37: 61.97 | H37: =G37*(1+(23.67/100)) -> 76.638299 | I37: =H37*F37 -> 766.38299
A38: SINAPI | B38: 103782 | C38: 6.6 | D38: LUMINÁRIA TIPO PLAFON CIRCULAR, DE SOBREPOR, COM LED DE 12/13 W - FORNECIMENTO E INSTALAÇÃO. AF_09/2024 | E38: UN | F38: 6 | G38: 30.95 | H38: =G38*(1+(23.67/100)) -> 38.275865 | I38: =H38*F38 -> 229.65519
A39: SINAPI | B39: 91924 | C39: 6.7 | D39: CABO DE COBRE FLEXÍVEL ISOLADO, 1,5 MM², ANTI-CHAMA 450/750 V, PARA CIRCUITOS TERMINAIS - FORNECIMENTO E INSTALAÇÃO. AF_03/2023 | E39: M | F39: 35 | G39: 3.85 | H39: =G39*(1+(23.67/100)) -> 4.761295 | I39: =H39*F39 -> 166.64532
C40: 7.0 | D40: INSTALAÇÕES HIDROSSANITÁRIAS
A41: SEINFRA | B41: C2593 | C41: 7.1 | D41: TUBO PVC BRANCO P/ESGOTO D=100MM (4') | E41: M | F41: =15+6*2 -> 27 | G41: 44.59 | H41: =G41*(1+(23.67/100)) -> 55.144453 | I41: =H41*F41 -> 1488.9002 | K41: =SUM(I41:I49) -> 11404
A42: SEINFRA | B42: C2625 | C42: 7.2 | D42: TUBO PVC SOLD. MARROM INCL.CONEXÕES D= 25mm(3/4") | E42: M | F42: =4*1.5+23.84+2 -> 31.84 | G42: 25.91 | H42: =G42*(1+(23.67/100)) -> 32.042897 | I42: =H42*F42 -> 1020.2458
A43: SEINFRA | B43: C2381 | C43: 7.3 | D43: TÊ PVC SOLD. MARROM D= 25mm (3/4") | E43: UN | F43: 3 | G43: 11.08 | H43: =G43*(1+(23.67/100)) -> 13.702636 | I43: =H43*F43 -> 41.107908
...

Sheet CRONOGRAMA
A1: REFORMA UNIDADE ESCOLAR LUIS MARTINS DE ARAUJO | Q1: ='REFORMA UELMA'!K8 -> 578.19953
B2: CRONOGRAMA FÍSICO E FINANCEIRO | Q2: ='REFORMA UELMA'!K12 -> 40720.835 | R2: =Q2/2 -> 20360.417
A3: Item | B3: Descrição | C3: Total Por Etapa | D3: 15 DIAS | E3: 30 DIAS | F3: 45 DIAS | I3: 60 DIAS | Q3: ='REFORMA UELMA'!K18 -> 35971.482 | R3: =Q3/2 -> 17985.741
A4: 1 | B4: ='REFORMA UELMA'!D7 -> DEMOLIÇÃO | C4: 100,00% 578,20 | D4: =C4 -> 100,00% 578,20 | Q4: ='REFORMA UELMA'!K24 -> 12839.88
A5: 2 | B5: ='REFORMA UELMA'!D11 -> REVESTIMENTO/PAVIMENTAÇÃO | C5: 100,00% 40720,83 | E5: 50,00% 20360,4 | F5: =E5 -> 50,00% 20360,4 | Q5: ='REFORMA UELMA'!K26 -> 36604.415 | R5: =Q5/2 -> 18302.207
A6: 3 | B6: ='REFORMA UELMA'!D16 -> SUPRAESTRUTURA/INFRAESTRUTURA | C6: 100,00% 35971,48 | E6: 50,00% 17985,7 | F6: =E6 -> 50,00% 17985,7 | Q6: ='REFORMA UELMA'!K33 -> 2884.7759
A7: 4 | B7: ='REFORMA UELMA'!D21 -> PINTURA INTERNA/EXTERNA | C7: 100,00% 12839,88 | I7: =C7 -> 100,00% 12839,88 | Q7: ='REFORMA UELMA'!K41 -> 11404 | R7: =Q7*0.2 -> 2280.7999 | S7: =Q7*0.3 -> 3421.1999
A8: 5 | B8: ='REFORMA UELMA'!D25 -> COBERTURA | C8: 100,00% 36604,41 | F8: 50,00% 18302,2 | I8: =F8 -> 50,00% 18302,2 | Q8: ='REFORMA UELMA'!K51 -> 8998.9038 | R8: =0.3*Q8 -> 2699.6711 | S8: =0.2*Q8 -> 1799.7808
A9: 6 | B9: ='REFORMA UELMA'!D32 -> INSTALAÇÕES ELÉTRICAS | C9: 100,00% 2884,78 | F9: =C9 -> 100,00% 2884,78 | Q9: ='REFORMA UELMA'!K60 -> 28844.293 | R9: =0.3*Q9 -> 8653.2879 | S9: =0.2*Q9 -> 5768.8586
A10: 7 | B10: ='REFORMA UELMA'!D40 -> INSTALAÇÕES HIDROSSANITÁRIAS | C10: 100,00% 11404,00 | D10: 20,00% 2280,8 | E10: 30,00% 3421,2 | F10: =E10 -> 30,00% 3421,2 | I10: =D10 -> 20,00% 2280,8 | Q10: =SUM(Q1:Q9) -> 178846.78
A11: 8 | B11: ='REFORMA UELMA'!D50 -> ESQUADRIAS | C11: 100,00% 8998,90 | D11: 20,00% 1879,26 | E11: 30,00% 2818,88 | F11: =E11 -> 30,00% 2818,88 | I11: =D11 -> 20,00% 1879,26
A12: 9 | B12: ='REFORMA UELMA'!D54 -> SERVIÇOS DIVERSOS | C12: 100,00% 28844,29 | D12: 20,00% 5768,86 | E12: 30,00% 8653,29 | F12: =E12 -> 30,00% 8653,29 | I12: =D12 -> 20,00% 5768,86
A13: Custo Acumulado | C13: =SUM(D13:K13) -> 178846.78 | D13: =SUM(Q1,S7,S8,S9) -> 11568.039 | E13: =SUM(R2:R3,R7,R8,R9) -> 51979.917 | F13: =SUM(R2:R3,R5,R7,R8,R9)+Q6 -> 73166.901 | I13: =SUM(Q4,R5,S7,S8,S9) -> 42131.927

Sheet BDI
A1: BDI
A3: ITEM | B3: PERCENTUAL (%)
A4: ADMINISTRAÇÃO CENTRAL | B4: 0.03
A5: CUSTO FINANCEIRO | B5: 0.0123
A6: SEGURO | B6: 0.006
A7: GARANTIAS | B7: 0.002
A8: MARGEM DE INCERTEZA | B8: 0.0127
A9: TRIBUTOS MUNICIPAIS (ISS) | B9: 0.03
A10: TRIBUTOS ESTADUAIS | B10: 0
A11: TRIBUTOS FEDERAIS (PIS E CONFINS) | B11: 0.0365
A12: MARGEM DE CONTRIBUIÇÃO | B12: 0.074
A14: VALOR DO BDI: | B14: 0.2367

Sheet ENCARGOS
