Workbook

Sheet Rotas complementares
A1: Lote | B1: Item | C1: Código BBM | D1: Código Próprio | E1: Descrição Produto | F1: Descrição Técnica Produto | G1: Quant. | H1: Descrição unidade | I1: Preço de Referência do km | J1: Valor Total do dia | K1: Valor Total Mês | L1: Valor total
A2: 01 | B2: 1 | C2: 0 | D2: 2202601 | E2: ÔNIBUS, COM MOTORISTA, DOTADO DE TODOS OS EQUIPAMENTOS DE SEGURANÇA OBRIGATÓRIOS POR LEI, DESTINADO AO TRANSPORTE ESCOLAR | F2: Rota Ovelha | G2: 70 | H2: Quilome tro-KM | I2: ='Rota 01'!I134 -> 18.342364 | J2: =I2*G2 -> 1283.9655 | K2: =J2*22 -> 28247.24 | L2: =K2*10 -> 282472.4
A3: 02 | B3: 1 | C3: 0 | D3: 2202602 | E3: ÔNIBUS, COM MOTORISTA, DOTADO DE TODOS OS EQUIPAMENTOS DE SEGURANÇA OBRIGATÓRIOS POR LEI, DESTINADO AO TRANSPORTE ESCOLAR | F3: Rota Bom Gosto | G3: 100 | H3: Quilome tro-KM | I3: ='Rota 02'!I134 -> 14.134841 | J3: =I3*G3 -> 1413.4841 | K3: =J3*22 -> 31096.65 | L3: =K3*10 -> 310966.5
A4: 03 | D4: 2202603 | E4: ÔNIBUS, COM MOTORISTA, DOTADO DE TODOS OS EQUIPAMENTOS DE SEGURANÇA OBRIGATÓRIOS POR LEI, DESTINADO AO TRANSPORTE ESCOLAR | F4: Rota Prata | G4: 70 | H4: Quilome tro-KM | I4: ='Rota 03'!I134 -> 18.342364 | J4: =I4*G4 -> 1283.9655 | K4: =J4*22 -> 28247.24 | L4: =K4*10 -> 282472.4
A5: 04 | D5: 2202604 | E5: ÔNIBUS, COM MOTORISTA, DOTADO DE TODOS OS EQUIPAMENTOS DE SEGURANÇA OBRIGATÓRIOS POR LEI, DESTINADO AO TRANSPORTE ESCOLAR | F5: Rota Motanhas | G5: 80 | H5: Quilome tro-KM | I5: ='Rota 04'!I134 -> 16.589233 | J5: =I5*G5 -> 1327.1386 | K5: =J5*22 -> 29197.05 | L5: =K5*10 -> 291970.5
A6: 05 | D6: 2202605 | E6: ÔNIBUS, COM MOTORISTA, DOTADO DE TODOS OS EQUIPAMENTOS DE SEGURANÇA OBRIGATÓRIOS POR LEI, DESTINADO AO TRANSPORTE ESCOLAR | F6: Centro/Sul | G6: 40 | H6: Quilome tro-KM | I6: ='Rota 05 a 08'!I134 -> 28.86117 | J6: =I6*G6 -> 1154.4468 | K6: =J6*22 -> 25397.83 | L6: =K6*10 -> 253978.3
A7: 06 | D7: 2202606 | E7: ÔNIBUS, COM MOTORISTA, DOTADO DE TODOS OS EQUIPAMENTOS DE SEGURANÇA OBRIGATÓRIOS POR LEI, DESTINADO AO TRANSPORTE ESCOLAR | F7: Centor/Norte | G7: 40 | H7: Quilome tro-KM | I7: ='Rota 05 a 08'!I134 -> 28.86117 | J7: =I7*G7 -> 1154.4468 | K7: =J7*22 -> 25397.83 | L7: =K7*10 -> 253978.3
A8: 07 | D8: 2202607 | E8: ÔNIBUS, COM MOTORISTA, DOTADO DE TODOS OS EQUIPAMENTOS DE SEGURANÇA OBRIGATÓRIOS POR LEI, DESTINADO AO TRANSPORTE ESCOLAR | F8: Centro/Oeste | G8: 40 | H8: Quilome tro-KM | I8: ='Rota 05 a 08'!I134 -> 28.86117 | J8: =I8*G8 -> 1154.4468 | K8: =J8*22 -> 25397.83 | L8: =K8*10 -> 253978.3
A9: 08 | B9: 1 | C9: 0 | D9: 2202608 | E9: ÔNIBUS, COM MOTORISTA, DOTADO DE TODOS OS EQUIPAMENTOS DE SEGURANÇA OBRIGATÓRIOS POR LEI, DESTINADO AO TRANSPORTE ESCOLAR | F9: Centro/Leste | G9: 40 | H9: Quilome tro-KM | I9: ='Rota 05 a 08'!I134 -> 28.86117 | J9: =I9*G9 -> 1154.4468 | K9: =J9*22 -> 25397.83 | L9: =K9*10 -> 253978.3
A10: VALOR TOTAL GLOBAL 200 DIAS | G10: =SUM(G2:G9) -> 480 | I10: =SUM(I2:I9) -> 182.85348 | J10: =SUM(J2:J9) -> 9926.3409 | K10: =SUM(K2:K9) -> 218379.5 | L10: =SUM(L2:L9) -> 2183795

Sheet Rota 01
A1: PALNILHA DE COMPOSIÇÃO DE CUSTOS ÔNIBUS | L1: MEMÓRIAS DE CÁLCULO
A2: MOTORISTAS | L2: UNIFORME - MOTORISTA
A3: Discriminação dos Serviços | L3: descrição | M3: und | N3: qutd | O3: periodicidade | P3: v. unt | Q3: v. anual | R3: custo mensal
B4: ORGÃO LICITANTE | E4: SECRETARIA MUNICIPAL DE EDUCAÇÃO | L4: Camisa | M4: un | N4: 2 | O4: anual | P4: 155 | Q4: =P4*N4 -> 310 | R4: =Q4/10 -> 31
B5: PROCESSO N° | L5: calça | M5: un | N5: 2 | O5: anual | P5: 199.5 | Q5: =P5*N5 -> 399 | R5: =Q5/10 -> 39.9
B6: LICITAÇÃO N° | L6: VALOR TOTAL MENSAL | N6: =SUM(R4:R5) -> 70.9 | O6: UNIFORMES
A7: Discriminação dos Serviços
A8: A | B8: Data de apresentação da proposta | Q8: Custo de Depreciação da Frota mensal da forta
A9: B | B9: Município | H9: Altos - PI | L9: DEPRECIAÇÃO | Q9: coeficiente
A10: C | B10: Ano do Acordo, Convenção ou Dissídio Coletivo | H10: 2026 | L10: VIDA ÚTIL | O10: 15 | Q10: J | R10: 1
A11: D | B11: Nº de meses de execução contratual | H11: 1 | I11: =11 -> 11 | L11: VALOR: | O11: 585900 | Q11: VU | R11: 10
A12: Identificação do Serviço | L12: Valor Residual | O12: =O11*0.15 -> 87885 | Q12: VR | R12: 0.15
A13: Tipo de Serviço | C13: Unidade de Medida | E13: funcioonário/mês | L13: Depreciação mensal unitária | O13: =R22 -> 8100.2928
A14: MOTORISTA | C14: UND | E14: 1 | L14: Depreciação mensal toal | O14: =O13*E14 -> 8100.2928 | Q14: VU-j | R14: 9 | S14: X | T14: 1 | U14: =R12 -> 0.15
A15: Dados para composição dos custos referentes à mão-de-obra | L15: TOTAL X QUANTIDADE DE VEICULOS | O15: =O14 -> 8100.2928 | R15: =1+2+3+4+5+6+7+8+9+10+10 -> 65 | U15: 100
A16: 1 | B16: Tipo de serviço (mesmo serviço com características distintas) | H16: Motorista
A17: 2 | B17: Salário Nominativo da Categoria Profissional Motorista CBO - 7824-10 | H17: 1829.64 | R17: =R14/R15 -> 0.13846154 | S17: X | T17: =T14-U17 -> 0.9985 | U17: =U14/U15 -> 0.0015
A18: 4 | B18: Data base da categoria (dia/mês/ano) | H18: 46054 | L18: CUSTOS COM COMBUSTÍVEIS (R$/km) | Q18: coeficiente | R18: =R17*T17 -> 0.13825385
L19: KM RODADO MENSAL | O19: ='Rotas complementares'!G2*22 -> 1540
A20: MÓDULO 1 - COMPOSIÇÃO DA REMUNERAÇÃO | L20: MEDIA DE CONSUMO DE KM/L | O20: 3 | Q20: cdf | R20: =R18 -> 0.13825385
A21: 1.1 | B21: COMPOSIÇÃO DA REMUNERAÇÃO MOTORISTA | H21: % | I21: VALOR (R$) | L21: PREÇO DO LITRO DE DIESEL | O21: 7.5 | Q21: Pvrs | R21: =O11 -> 585900
A22: A | B22: Salário Base | I22: 1829.64 | L22: COEFICIENTE DE CONSUMO | O22: =1/O20 -> 0.33333333 | Q22: Cduf | R22: =(R20*R21)/10 -> 8100.2928
A23: B | B23: Adicional Periculosidade | I23: 0 | L23: Custo de combustivel (R$/km) | O23: =O21*O22 -> 2.5
A24: C | B24: Adicional Insalubridade | I24: =H24*I22 -> 0 | L24: TOTAL | O24: =O23*O19 -> 3850
A25: D | B25: Adicional Noturno | I25: 0
A26: E | B26: Adicional de Hora Noturna Reduzida | I26: 0 | L26: MEMORIA DE CALCULO MANUTENÇÃO
A27: F | B27: Adicional de Hora Extra no Feriado Trabalhado | I27: 0 | L27: 1- ÓLEOS E LUBRIFICANTES
A28: G | B28: Outros (especificar) | I28: 0 | L28: KM RODADO | O28: =O19 -> 1540
A29: Valor Remuneração | I29: =SUM(I22:I28) -> 1829.64 | L29: COEFICIENTE DE CONSUMO | O29: 0.08
A30: TOTAL DO MÓDULO 1 | I30: =I29 -> 1829.64 | L30: PREÇO DO LITRO DE DIESEL | O30: 6.44
A31: MÓDULO 2 – ENCARGOS E BENEFÍCIOS ANUAIS, MENSAIS E DIÁRIOS | L31: Sub total | O31: =O30*O29 -> 0.5152
A32: Submódulo 2.1 - 13º Salário, Férias e Adicional de Férias | H32: % | I32: VALOR (R$) | L32: 2- RODAGEM
A33: A | B33: 13 (Décimo-terceiro) salário | H33: 0.0833 | I33: =TRUNC(($I$30*H33),2) -> 152.4 | L33: PREÇO PNEU (PN) | O33: 4950
A34: B | B34: Férias e Adicional de Férias | H34: 0.1111 | I34: =TRUNC(($I$30*H34),2) -> 203.27 | L34: QTD PNEUS (QP) | O34: 6
A35: TOTAL SUBMÓDULO 2.1 | H35: =TRUNC(SUM(H33:H34),4) -> 0.1944 | I35: =TRUNC(SUM(I33:I34),2) -> 355.67 | L35: PREÇO RECAPAGEM (PR) | O35: 789
L36: QTD RECAPAGEM (QR) | O36: 3
A37: Submódulo 2.2 - GPS, FGTS e Outras Contribuições | H37: % | I37: VALOR (R$) | L37: VIDA UTIL PNEU (VU) | O37: 125000
A38: A | B38: INSS | H38: 0.2 | I38: =($I$30+$I$35)*H38 -> 437.062 | L38: Sub total | O38: =((O33*O34)+(O35*O36*O34))/O37 -> 0.351216 | Q38: coeficiente | R38: 1
A39: B | B39: Salário Educação | H39: 0.025 | I39: =($I$30+$I$35)*H39 -> 54.63275 | L39: 3-PEÇAS | Q39: J | R39: 10
A40: C | B40: SAT (Seguro Acidente de Trabalho) = RAT X FAP | H40: 0.03 | I40: =($I$30+$I$35)*H40 -> 65.5593 | L40: KM MENSAL (QM) | O40: =O28 -> 1540 | Q40: VU | R40: 1.5
...

Sheet Rota 02
A1: PALNILHA DE COMPOSIÇÃO DE CUSTOS ÔNIBUS | L1: MEMÓRIAS DE CÁLCULO
A2: MOTORISTAS | L2: UNIFORME - MOTORISTA
A3: Discriminação dos Serviços | L3: descrição | M3: und | N3: qutd | O3: periodicidade | P3: v. unt | Q3: v. anual | R3: custo mensal
B4: ORGÃO LICITANTE | E4: SECRETARIA MUNICIPAL DE EDUCAÇÃO | L4: Camisa | M4: un | N4: 2 | O4: anual | P4: 155 | Q4: =P4*N4 -> 310 | R4: =Q4/10 -> 31
B5: PROCESSO N° | L5: calça | M5: un | N5: 2 | O5: anual | P5: 199.5 | Q5: =P5*N5 -> 399 | R5: =Q5/10 -> 39.9
B6: LICITAÇÃO N° | L6: VALOR TOTAL MENSAL | N6: =SUM(R4:R5) -> 70.9 | O6: UNIFORMES
A7: Discriminação dos Serviços
A8: A | B8: Data de apresentação da proposta | Q8: Custo de Depreciação da Frota mensal da forta
A9: B | B9: Município | H9: Altos - PI | L9: DEPRECIAÇÃO | Q9: coeficiente
A10: C | B10: Ano do Acordo, Convenção ou Dissídio Coletivo | H10: 2026 | L10: VIDA ÚTIL | O10: 15 | Q10: J | R10: 1
A11: D | B11: Nº de meses de execução contratual | H11: 1 | I11: =11 -> 11 | L11: VALOR: | O11: 585900 | Q11: VU | R11: 10
A12: Identificação do Serviço | L12: Valor Residual | O12: =O11*0.15 -> 87885 | Q12: VR | R12: 0.15
A13: Tipo de Serviço | C13: Unidade de Medida | E13: funcioonário/mês | L13: Depreciação mensal unitária | O13: =R22 -> 8100.2928
A14: MOTORISTA | C14: UND | E14: 1 | L14: Depreciação mensal toal | O14: =O13*E14 -> 8100.2928 | Q14: VU-j | R14: 9 | S14: X | T14: 1 | U14: =R12 -> 0.15
A15: Dados para composição dos custos referentes à mão-de-obra | L15: TOTAL X QUANTIDADE DE VEICULOS | O15: =O14 -> 8100.2928 | R15: =1+2+3+4+5+6+7+8+9+10+10 -> 65 | U15: 100
A16: 1 | B16: Tipo de serviço (mesmo serviço com características distintas) | H16: Motorista
A17: 2 | B17: Salário Nominativo da Categoria Profissional Motorista CBO - 7824-10 | H17: 1829.64 | R17: =R14/R15 -> 0.13846154 | S17: X | T17: =T14-U17 -> 0.9985 | U17: =U14/U15 -> 0.0015
A18: 4 | B18: Data base da categoria (dia/mês/ano) | H18: 46054 | L18: CUSTOS COM COMBUSTÍVEIS (R$/km) | Q18: coeficiente | R18: =R17*T17 -> 0.13825385
L19: KM RODADO MENSAL | O19: ='Rotas complementares'!G3*22 -> 2200
A20: MÓDULO 1 - COMPOSIÇÃO DA REMUNERAÇÃO | L20: MEDIA DE CONSUMO DE KM/L | O20: 3 | Q20: cdf | R20: =R18 -> 0.13825385
A21: 1.1 | B21: COMPOSIÇÃO DA REMUNERAÇÃO MOTORISTA | H21: % | I21: VALOR (R$) | L21: PREÇO DO LITRO DE DIESEL | O21: 7.5 | Q21: Pvrs | R21: =O11 -> 585900
A22: A | B22: Salário Base | I22: 1829.64 | L22: COEFICIENTE DE CONSUMO | O22: =1/O20 -> 0.33333333 | Q22: Cduf | R22: =(R20*R21)/10 -> 8100.2928
A23: B | B23: Adicional Periculosidade | I23: 0 | L23: Custo de combustivel (R$/km) | O23: =O21*O22 -> 2.5
A24: C | B24: Adicional Insalubridade | I24: =H24*I22 -> 0 | L24: TOTAL | O24: =O23*O19 -> 5500
A25: D | B25: Adicional Noturno | I25: 0
A26: E | B26: Adicional de Hora Noturna Reduzida | I26: 0 | L26: MEMORIA DE CALCULO MANUTENÇÃO
A27: F | B27: Adicional de Hora Extra no Feriado Trabalhado | I27: 0 | L27: 1- ÓLEOS E LUBRIFICANTES
A28: G | B28: Outros (especificar) | I28: 0 | L28: KM RODADO | O28: =O19 -> 2200
A29: Valor Remuneração | I29: =SUM(I22:I28) -> 1829.64 | L29: COEFICIENTE DE CONSUMO | O29: 0.08
A30: TOTAL DO MÓDULO 1 | I30: =I29 -> 1829.64 | L30: PREÇO DO LITRO DE DIESEL | O30: 6.44
A31: MÓDULO 2 – ENCARGOS E BENEFÍCIOS ANUAIS, MENSAIS E DIÁRIOS | L31: Sub total | O31: =O30*O29 -> 0.5152
A32: Submódulo 2.1 - 13º Salário, Férias e Adicional de Férias | H32: % | I32: VALOR (R$) | L32: 2- RODAGEM
A33: A | B33: 13 (Décimo-terceiro) salário | H33: 0.0833 | I33: =TRUNC(($I$30*H33),2) -> 152.4 | L33: PREÇO PNEU (PN) | O33: 4950
A34: B | B34: Férias e Adicional de Férias | H34: 0.1111 | I34: =TRUNC(($I$30*H34),2) -> 203.27 | L34: QTD PNEUS (QP) | O34: 6
A35: TOTAL SUBMÓDULO 2.1 | H35: =TRUNC(SUM(H33:H34),4) -> 0.1944 | I35: =TRUNC(SUM(I33:I34),2) -> 355.67 | L35: PREÇO RECAPAGEM (PR) | O35: 789
L36: QTD RECAPAGEM (QR) | O36: 3
A37: Submódulo 2.2 - GPS, FGTS e Outras Contribuições | H37: % | I37: VALOR (R$) | L37: VIDA UTIL PNEU (VU) | O37: 125000
A38: A | B38: INSS | H38: 0.2 | I38: =($I$30+$I$35)*H38 -> 437.062 | L38: Sub total | O38: =((O33*O34)+(O35*O36*O34))/O37 -> 0.351216 | Q38: coeficiente | R38: 1
A39: B | B39: Salário Educação | H39: 0.025 | I39: =($I$30+$I$35)*H39 -> 54.63275 | L39: 3-PEÇAS | Q39: J | R39: 10
A40: C | B40: SAT (Seguro Acidente de Trabalho) = RAT X FAP | H40: 0.03 | I40: =($I$30+$I$35)*H40 -> 65.5593 | L40: KM MENSAL (QM) | O40: =O28 -> 2200 | Q40: VU | R40: 1.5
...

Sheet Rota 03
A1: PALNILHA DE COMPOSIÇÃO DE CUSTOS ÔNIBUS | L1: MEMÓRIAS DE CÁLCULO
A2: MOTORISTAS | L2: UNIFORME - MOTORISTA
A3: Discriminação dos Serviços | L3: descrição | M3: und | N3: qutd | O3: periodicidade | P3: v. unt | Q3: v. anual | R3: custo mensal
B4: ORGÃO LICITANTE | E4: SECRETARIA MUNICIPAL DE EDUCAÇÃO | L4: Camisa | M4: un | N4: 2 | O4: anual | P4: 155 | Q4: =P4*N4 -> 310 | R4: =Q4/10 -> 31
B5: PROCESSO N° | L5: calça | M5: un | N5: 2 | O5: anual | P5: 199.5 | Q5: =P5*N5 -> 399 | R5: =Q5/10 -> 39.9
B6: LICITAÇÃO N° | L6: VALOR TOTAL MENSAL | N6: =SUM(R4:R5) -> 70.9 | O6: UNIFORMES
A7: Discriminação dos Serviços
A8: A | B8: Data de apresentação da proposta | Q8: Custo de Depreciação da Frota mensal da forta
A9: B | B9: Município | H9: Altos - PI | L9: DEPRECIAÇÃO | Q9: coeficiente
A10: C | B10: Ano do Acordo, Convenção ou Dissídio Coletivo | H10: 2026 | L10: VIDA ÚTIL | O10: 15 | Q10: J | R10: 1
A11: D | B11: Nº de meses de execução contratual | H11: 1 | I11: =11 -> 11 | L11: VALOR: | O11: 585900 | Q11: VU | R11: 10
A12: Identificação do Serviço | L12: Valor Residual | O12: =O11*0.15 -> 87885 | Q12: VR | R12: 0.15
A13: Tipo de Serviço | C13: Unidade de Medida | E13: funcioonário/mês | L13: Depreciação mensal unitária | O13: =R22 -> 8100.2928
A14: MOTORISTA | C14: UND | E14: 1 | L14: Depreciação mensal toal | O14: =O13*E14 -> 8100.2928 | Q14: VU-j | R14: 9 | S14: X | T14: 1 | U14: =R12 -> 0.15
A15: Dados para composição dos custos referentes à mão-de-obra | L15: TOTAL X QUANTIDADE DE VEICULOS | O15: =O14 -> 8100.2928 | R15: =1+2+3+4+5+6+7+8+9+10+10 -> 65 | U15: 100
A16: 1 | B16: Tipo de serviço (mesmo serviço com características distintas) | H16: Motorista
A17: 2 | B17: Salário Nominativo da Categoria Profissional Motorista CBO - 7824-10 | H17: 1829.64 | R17: =R14/R15 -> 0.13846154 | S17: X | T17: =T14-U17 -> 0.9985 | U17: =U14/U15 -> 0.0015
A18: 4 | B18: Data base da categoria (dia/mês/ano) | H18: 46054 | L18: CUSTOS COM COMBUSTÍVEIS (R$/km) | Q18: coeficiente | R18: =R17*T17 -> 0.13825385
L19: KM RODADO MENSAL | O19: ='Rotas complementares'!G4*22 -> 1540
A20: MÓDULO 1 - COMPOSIÇÃO DA REMUNERAÇÃO | L20: MEDIA DE CONSUMO DE KM/L | O20: 3 | Q20: cdf | R20: =R18 -> 0.13825385
A21: 1.1 | B21: COMPOSIÇÃO DA REMUNERAÇÃO MOTORISTA | H21: % | I21: VALOR (R$) | L21: PREÇO DO LITRO DE DIESEL | O21: 7.5 | Q21: Pvrs | R21: =O11 -> 585900
A22: A | B22: Salário Base | I22: 1829.64 | L22: COEFICIENTE DE CONSUMO | O22: =1/O20 -> 0.33333333 | Q22: Cduf | R22: =(R20*R21)/10 -> 8100.2928
A23: B | B23: Adicional Periculosidade | I23: 0 | L23: Custo de combustivel (R$/km) | O23: =O21*O22 -> 2.5
A24: C | B24: Adicional Insalubridade | I24: =H24*I22 -> 0 | L24: TOTAL | O24: =O23*O19 -> 3850
A25: D | B25: Adicional Noturno | I25: 0
A26: E | B26: Adicional de Hora Noturna Reduzida | I26: 0 | L26: MEMORIA DE CALCULO MANUTENÇÃO
A27: F | B27: Adicional de Hora Extra no Feriado Trabalhado | I27: 0 | L27: 1- ÓLEOS E LUBRIFICANTES
A28: G | B28: Outros (especificar) | I28: 0 | L28: KM RODADO | O28: =O19 -> 1540
A29: Valor Remuneração | I29: =SUM(I22:I28) -> 1829.64 | L29: COEFICIENTE DE CONSUMO | O29: 0.08
A30: TOTAL DO MÓDULO 1 | I30: =I29 -> 1829.64 | L30: PREÇO DO LITRO DE DIESEL | O30: 6.44
A31: MÓDULO 2 – ENCARGOS E BENEFÍCIOS ANUAIS, MENSAIS E DIÁRIOS | L31: Sub total | O31: =O30*O29 -> 0.5152
A32: Submódulo 2.1 - 13º Salário, Férias e Adicional de Férias | H32: % | I32: VALOR (R$) | L32: 2- RODAGEM
A33: A | B33: 13 (Décimo-terceiro) salário | H33: 0.0833 | I33: =TRUNC(($I$30*H33),2) -> 152.4 | L33: PREÇO PNEU (PN) | O33: 4950
A34: B | B34: Férias e Adicional de Férias | H34: 0.1111 | I34: =TRUNC(($I$30*H34),2) -> 203.27 | L34: QTD PNEUS (QP) | O34: 6
A35: TOTAL SUBMÓDULO 2.1 | H35: =TRUNC(SUM(H33:H34),4) -> 0.1944 | I35: =TRUNC(SUM(I33:I34),2) -> 355.67 | L35: PREÇO RECAPAGEM (PR) | O35: 789
L36: QTD RECAPAGEM (QR) | O36: 3
A37: Submódulo 2.2 - GPS, FGTS e Outras Contribuições | H37: % | I37: VALOR (R$) | L37: VIDA UTIL PNEU (VU) | O37: 125000
A38: A | B38: INSS | H38: 0.2 | I38: =($I$30+$I$35)*H38 -> 437.062 | L38: Sub total | O38: =((O33*O34)+(O35*O36*O34))/O37 -> 0.351216 | Q38: coeficiente | R38: 1
A39: B | B39: Salário Educação | H39: 0.025 | I39: =($I$30+$I$35)*H39 -> 54.63275 | L39: 3-PEÇAS | Q39: J | R39: 10
A40: C | B40: SAT (Seguro Acidente de Trabalho) = RAT X FAP | H40: 0.03 | I40: =($I$30+$I$35)*H40 -> 65.5593 | L40: KM MENSAL (QM) | O40: =O28 -> 1540 | Q40: VU | R40: 1.5
...

Sheet Rota 04
A1: PALNILHA DE COMPOSIÇÃO DE CUSTOS ÔNIBUS | L1: MEMÓRIAS DE CÁLCULO
A2: MOTORISTAS | L2: UNIFORME - MOTORISTA
A3: Discriminação dos Serviços | L3: descrição | M3: und | N3: qutd | O3: periodicidade | P3: v. unt | Q3: v. anual | R3: custo mensal
B4: ORGÃO LICITANTE | E4: SECRETARIA MUNICIPAL DE EDUCAÇÃO | L4: Camisa | M4: un | N4: 2 | O4: anual | P4: 155 | Q4: =P4*N4 -> 310 | R4: =Q4/10 -> 31
B5: PROCESSO N° | L5: calça | M5: un | N5: 2 | O5: anual | P5: 199.5 | Q5: =P5*N5 -> 399 | R5: =Q5/10 -> 39.9
B6: LICITAÇÃO N° | L6: VALOR TOTAL MENSAL | N6: =SUM(R4:R5) -> 70.9 | O6: UNIFORMES
A7: Discriminação dos Serviços
A8: A | B8: Data de apresentação da proposta | Q8: Custo de Depreciação da Frota mensal da forta
A9: B | B9: Município | H9: Altos - PI | L9: DEPRECIAÇÃO | Q9: coeficiente
A10: C | B10: Ano do Acordo, Convenção ou Dissídio Coletivo | H10: 2026 | L10: VIDA ÚTIL | O10: 15 | Q10: J | R10: 1
A11: D | B11: Nº de meses de execução contratual | H11: 1 | I11: =11 -> 11 | L11: VALOR: | O11: 585900 | Q11: VU | R11: 10
A12: Identificação do Serviço | L12: Valor Residual | O12: =O11*0.15 -> 87885 | Q12: VR | R12: 0.15
A13: Tipo de Serviço | C13: Unidade de Medida | E13: funcioonário/mês | L13: Depreciação mensal unitária | O13: =R22 -> 8100.2928
A14: MOTORISTA | C14: UND | E14: 1 | L14: Depreciação mensal toal | O14: =O13*E14 -> 8100.2928 | Q14: VU-j | R14: 9 | S14: X | T14: 1 | U14: =R12 -> 0.15
A15: Dados para composição dos custos referentes à mão-de-obra | L15: TOTAL X QUANTIDADE DE VEICULOS | O15: =O14 -> 8100.2928 | R15: =1+2+3+4+5+6+7+8+9+10+10 -> 65 | U15: 100
A16: 1 | B16: Tipo de serviço (mesmo serviço com características distintas) | H16: Motorista
A17: 2 | B17: Salário Nominativo da Categoria Profissional Motorista CBO - 7824-10 | H17: 1829.64 | R17: =R14/R15 -> 0.13846154 | S17: X | T17: =T14-U17 -> 0.9985 | U17: =U14/U15 -> 0.0015
A18: 4 | B18: Data base da categoria (dia/mês/ano) | H18: 46054 | L18: CUSTOS COM COMBUSTÍVEIS (R$/km) | Q18: coeficiente | R18: =R17*T17 -> 0.13825385
L19: KM RODADO MENSAL | O19: ='Rotas complementares'!G5*22 -> 1760
A20: MÓDULO 1 - COMPOSIÇÃO DA REMUNERAÇÃO | L20: MEDIA DE CONSUMO DE KM/L | O20: 3 | Q20: cdf | R20: =R18 -> 0.13825385
A21: 1.1 | B21: COMPOSIÇÃO DA REMUNERAÇÃO MOTORISTA | H21: % | I21: VALOR (R$) | L21: PREÇO DO LITRO DE DIESEL | O21: 7.5 | Q21: Pvrs | R21: =O11 -> 585900
A22: A | B22: Salário Base | I22: 1829.64 | L22: COEFICIENTE DE CONSUMO | O22: =1/O20 -> 0.33333333 | Q22: Cduf | R22: =(R20*R21)/10 -> 8100.2928
A23: B | B23: Adicional Periculosidade | I23: 0 | L23: Custo de combustivel (R$/km) | O23: =O21*O22 -> 2.5
A24: C | B24: Adicional Insalubridade | I24: =H24*I22 -> 0 | L24: TOTAL | O24: =O23*O19 -> 4400
A25: D | B25: Adicional Noturno | I25: 0
A26: E | B26: Adicional de Hora Noturna Reduzida | I26: 0 | L26: MEMORIA DE CALCULO MANUTENÇÃO
A27: F | B27: Adicional de Hora Extra no Feriado Trabalhado | I27: 0 | L27: 1- ÓLEOS E LUBRIFICANTES
A28: G | B28: Outros (especificar) | I28: 0 | L28: KM RODADO | O28: =O19 -> 1760
A29: Valor Remuneração | I29: =SUM(I22:I28) -> 1829.64 | L29: COEFICIENTE DE CONSUMO | O29: 0.08
A30: TOTAL DO MÓDULO 1 | I30: =I29 -> 1829.64 | L30: PREÇO DO LITRO DE DIESEL | O30: 6.44
A31: MÓDULO 2 – ENCARGOS E BENEFÍCIOS ANUAIS, MENSAIS E DIÁRIOS | L31: Sub total | O31: =O30*O29 -> 0.5152
A32: Submódulo 2.1 - 13º Salário, Férias e Adicional de Férias | H32: % | I32: VALOR (R$) | L32: 2- RODAGEM
A33: A | B33: 13 (Décimo-terceiro) salário | H33: 0.0833 | I33: =TRUNC(($I$30*H33),2) -> 152.4 | L33: PREÇO PNEU (PN) | O33: 4950
A34: B | B34: Férias e Adicional de Férias | H34: 0.1111 | I34: =TRUNC(($I$30*H34),2) -> 203.27 | L34: QTD PNEUS (QP) | O34: 6
A35: TOTAL SUBMÓDULO 2.1 | H35: =TRUNC(SUM(H33:H34),4) -> 0.1944 | I35: =TRUNC(SUM(I33:I34),2) -> 355.67 | L35: PREÇO RECAPAGEM (PR) | O35: 789
L36: QTD RECAPAGEM (QR) | O36: 3
A37: Submódulo 2.2 - GPS, FGTS e Outras Contribuições | H37: % | I37: VALOR (R$) | L37: VIDA UTIL PNEU (VU) | O37: 125000
A38: A | B38: INSS | H38: 0.2 | I38: =($I$30+$I$35)*H38 -> 437.062 | L38: Sub total | O38: =((O33*O34)+(O35*O36*O34))/O37 -> 0.351216 | Q38: coeficiente | R38: 1
A39: B | B39: Salário Educação | H39: 0.025 | I39: =($I$30+$I$35)*H39 -> 54.63275 | L39: 3-PEÇAS | Q39: J | R39: 10
A40: C | B40: SAT (Seguro Acidente de Trabalho) = RAT X FAP | H40: 0.03 | I40: =($I$30+$I$35)*H40 -> 65.5593 | L40: KM MENSAL (QM) | O40: =O28 -> 1760 | Q40: VU | R40: 1.5
...

Sheet Rota 05 a 08
A1: PALNILHA DE COMPOSIÇÃO DE CUSTOS ÔNIBUS | L1: MEMÓRIAS DE CÁLCULO
A2: MOTORISTAS | L2: UNIFORME - MOTORISTA
A3: Discriminação dos Serviços | L3: descrição | M3: und | N3: qutd | O3: periodicidade | P3: v. unt | Q3: v. anual | R3: custo mensal
B4: ORGÃO LICITANTE | E4: SECRETARIA MUNICIPAL DE EDUCAÇÃO | L4: Camisa | M4: un | N4: 2 | O4: anual | P4: 155 | Q4: =P4*N4 -> 310 | R4: =Q4/10 -> 31
B5: PROCESSO N° | L5: calça | M5: un | N5: 2 | O5: anual | P5: 199.5 | Q5: =P5*N5 -> 399 | R5: =Q5/10 -> 39.9
B6: LICITAÇÃO N° | L6: VALOR TOTAL MENSAL | N6: =SUM(R4:R5) -> 70.9 | O6: UNIFORMES
A7: Discriminação dos Serviços
A8: A | B8: Data de apresentação da proposta | Q8: Custo de Depreciação da Frota mensal da forta
A9: B | B9: Município | H9: Altos - PI | L9: DEPRECIAÇÃO | Q9: coeficiente
A10: C | B10: Ano do Acordo, Convenção ou Dissídio Coletivo | H10: 2026 | L10: VIDA ÚTIL | O10: 15 | Q10: J | R10: 1
A11: D | B11: Nº de meses de execução contratual | H11: 1 | I11: =11 -> 11 | L11: VALOR: | O11: 585900 | Q11: VU | R11: 10
A12: Identificação do Serviço | L12: Valor Residual | O12: =O11*0.15 -> 87885 | Q12: VR | R12: 0.15
A13: Tipo de Serviço | C13: Unidade de Medida | E13: funcioonário/mês | L13: Depreciação mensal unitária | O13: =R22 -> 8100.2928
A14: MOTORISTA | C14: UND | E14: 1 | L14: Depreciação mensal toal | O14: =O13*E14 -> 8100.2928 | Q14: VU-j | R14: 9 | S14: X | T14: 1 | U14: =R12 -> 0.15
A15: Dados para composição dos custos referentes à mão-de-obra | L15: TOTAL X QUANTIDADE DE VEICULOS | O15: =O14 -> 8100.2928 | R15: =1+2+3+4+5+6+7+8+9+10+10 -> 65 | U15: 100
A16: 1 | B16: Tipo de serviço (mesmo serviço com características distintas) | H16: Motorista
A17: 2 | B17: Salário Nominativo da Categoria Profissional Motorista CBO - 7824-10 | H17: 1829.64 | R17: =R14/R15 -> 0.13846154 | S17: X | T17: =T14-U17 -> 0.9985 | U17: =U14/U15 -> 0.0015
A18: 4 | B18: Data base da categoria (dia/mês/ano) | H18: 46054 | L18: CUSTOS COM COMBUSTÍVEIS (R$/km) | Q18: coeficiente | R18: =R17*T17 -> 0.13825385
L19: KM RODADO MENSAL | O19: ='Rotas complementares'!G6*22 -> 880
A20: MÓDULO 1 - COMPOSIÇÃO DA REMUNERAÇÃO | L20: MEDIA DE CONSUMO DE KM/L | O20: 3 | Q20: cdf | R20: =R18 -> 0.13825385
A21: 1.1 | B21: COMPOSIÇÃO DA REMUNERAÇÃO MOTORISTA | H21: % | I21: VALOR (R$) | L21: PREÇO DO LITRO DE DIESEL | O21: 7.5 | Q21: Pvrs | R21: =O11 -> 585900
A22: A | B22: Salário Base | I22: 1829.64 | L22: COEFICIENTE DE CONSUMO | O22: =1/O20 -> 0.33333333 | Q22: Cduf | R22: =(R20*R21)/10 -> 8100.2928
A23: B | B23: Adicional Periculosidade | I23: 0 | L23: Custo de combustivel (R$/km) | O23: =O21*O22 -> 2.5
A24: C | B24: Adicional Insalubridade | I24: =H24*I22 -> 0 | L24: TOTAL | O24: =O23*O19 -> 2200
A25: D | B25: Adicional Noturno | I25: 0
A26: E | B26: Adicional de Hora Noturna Reduzida | I26: 0 | L26: MEMORIA DE CALCULO MANUTENÇÃO
A27: F | B27: Adicional de Hora Extra no Feriado Trabalhado | I27: 0 | L27: 1- ÓLEOS E LUBRIFICANTES
A28: G | B28: Outros (especificar) | I28: 0 | L28: KM RODADO | O28: =O19 -> 880
A29: Valor Remuneração | I29: =SUM(I22:I28) -> 1829.64 | L29: COEFICIENTE DE CONSUMO | O29: 0.08
A30: TOTAL DO MÓDULO 1 | I30: =I29 -> 1829.64 | L30: PREÇO DO LITRO DE DIESEL | O30: 6.44
A31: MÓDULO 2 – ENCARGOS E BENEFÍCIOS ANUAIS, MENSAIS E DIÁRIOS | L31: Sub total | O31: =O30*O29 -> 0.5152
A32: Submódulo 2.1 - 13º Salário, Férias e Adicional de Férias | H32: % | I32: VALOR (R$) | L32: 2- RODAGEM
A33: A | B33: 13 (Décimo-terceiro) salário | H33: 0.0833 | I33: =TRUNC(($I$30*H33),2) -> 152.4 | L33: PREÇO PNEU (PN) | O33: 4950
A34: B | B34: Férias e Adicional de Férias | H34: 0.1111 | I34: =TRUNC(($I$30*H34),2) -> 203.27 | L34: QTD PNEUS (QP) | O34: 6
A35: TOTAL SUBMÓDULO 2.1 | H35: =TRUNC(SUM(H33:H34),4) -> 0.1944 | I35: =TRUNC(SUM(I33:I34),2) -> 355.67 | L35: PREÇO RECAPAGEM (PR) | O35: 789
L36: QTD RECAPAGEM (QR) | O36: 3
A37: Submódulo 2.2 - GPS, FGTS e Outras Contribuições | H37: % | I37: VALOR (R$) | L37: VIDA UTIL PNEU (VU) | O37: 125000
A38: A | B38: INSS | H38: 0.2 | I38: =($I$30+$I$35)*H38 -> 437.062 | L38: Sub total | O38: =((O33*O34)+(O35*O36*O34))/O37 -> 0.351216 | Q38: coeficiente | R38: 1
A39: B | B39: Salário Educação | H39: 0.025 | I39: =($I$30+$I$35)*H39 -> 54.63275 | L39: 3-PEÇAS | Q39: J | R39: 10
A40: C | B40: SAT (Seguro Acidente de Trabalho) = RAT X FAP | H40: 0.03 | I40: =($I$30+$I$35)*H40 -> 65.5593 | L40: KM MENSAL (QM) | O40: =O28 -> 880 | Q40: VU | R40: 1.5
...
