Workbook
Name __xlfn_COUNTIFS: NA()
Name __xlfn_CUBESETCOUNT: NA()
Name BDI: Resumo!$K$7
Name CPA: Resumo!$K$9
Name LSO: Resumo!$K$8
Name OGU: Resumo!$K$10
Name TOTAL: Resumo!$K$11
Name TotalEventos: SUM(TotalPorEvento)

Sheet Resumo
G6: REFERÊNCIAS:
B7: OBJETO: CONSTRUÇÃO DE PORTAL DE ENTRADA | G7: SINAPI: DEZEMBRO/2023
B8: LOCAL: ZONA URBANA - DEMERVAL LOBÃO | G8: ORSE: DEZEMBRO./2023
G9: TABELAS S/ DESONERAÇÃO
G10: BDI: 21,99% ; LSO: 114,54 %
B13: RESUMO DO ORÇAMENTO
B15: ÍTEM | C15: D I S C R I M I N A Ç Ã O | D15: UNID. | E15: QUANT. | F15: V. UNIT. (R$) | G15: V. TOTAL (R$) | H15: REFERÊNCIA
B17: 1.0 | C17: ELABORAÇÃO DO PROJETO | D17: un | E17: 0 | F17: 8520.57 | G17: 0 | H17: Proposta SICONV
B18: 1.0 | C18: PLACA DA OBRA | D18: m² | E18: 1 | F18: 1420.41 | G18: =E18*F18 -> 1420.41 | H18: Composição 01
B19: 2.0 | C19: ADMINISTRAÇÃO LOCAL | D19: mês | E19: 3 | F19: =Composições!I49 -> 6696.3971 | G19: =E19*F19 -> 20089.191 | H19: Composição 02
B20: 3.0 | C20: CONSTRUÇÃO DE PRAÇA PÚBLICA | D20: un | E20: 1 | F20: 0 | G20: 0 | H20: Planilha em Anexa
B21: 4.0 | C21: CONSTRUÇÃO DE PORTAL DE ENTRADA | D21: un | E21: 1 | F21: ='Orç Portal'!G106 -> 490154.3 | G21: =E21*F21 -> 490154.3 | H21: Planilha em Anexa
B23: TOTAL GERAL (R$) | G23: =G18+G19+G21 -> 511663.9

Sheet Orç Portal
B7: OBJETO: CONSTRUÇÃO DE PORTAL DE ENTRADA | G7: REFERÊNCIAS:
B8: LOCAL: ZONA URBANA - DEMERVAL LOBÃO | G8: SINAPI: DEZEMBRO/2023
G9: ORSE: DEZEMBRO./2023
G10: TABELAS S/ DESONERAÇÃO
G11: BDI: 21,99% ; LSO: 114,54 %
B13: PLANILHA ORÇAMENTÁRIA - PORTAL
B15: ÍTEM | C15: D I S C R I M I N A Ç Ã O | D15: UNID. | E15: QUANT. | F15: V. UNIT. | G15: V. TOTAL | H15: REFERÊNCIA SINAPI
B17: 1.0 | C17: SERVIÇOS PRELIMINARES
B18: 1.1 | C18: Tapume de proteção em tela de polietileno h=2,20 com bloco de concreto | D18: m | E18: ='Mem. Portal'!P16 -> 42.1432 | F18: =Composições!I67 -> 45.204858 | G18: =E18*F18 -> 1905.0774 | H18: Composição 03
B19: 1.2 | C19: Limpeza do terreno | D19: m² | E19: ='Mem. Portal'!P17 -> 50.15 | F19: 3.61 | G19: =E19*F19 -> 181.0415 | H19: 98524
B20: 1.3 | C20: Locação da obra com gabarito de madeira | D20: m² | E20: ='Mem. Portal'!P18 -> 50.15 | F20: 1.88 | G20: =E20*F20 -> 94.282 | H20: Composição 04
G21: =SUM(G18:G20) -> 2180.4009
B22: 2.0 | C22: MOVIMENTO DE TERRA
B23: 2.1 | C23: Escavação manual de valas p/ fundação de blocos em concreto ciclópico | D23: m³ | E23: 0 | F23: 97.48 | G23: 0 | H23: 93358
B24: 2.1 | C24: Escavação manual de valas p/ fundação de sapatas em concreto armado fck=25 MPa | D24: m³ | E24: ='Mem. Portal'!P22 -> 69.36 | F24: 97.48 | G24: =E24*F24 -> 6761.2128 | H24: 93358
B25: 2.2 | C25: Apiloamento manual do fundo de valas | D25: m² | E25: ='Mem. Portal'!P24 -> 46.24 | F25: 7.25 | G25: =E25*F25 -> 335.24 | H25: 101616
B26: 2.3 | C26: Reaterro de vala com compactação manual | D26: m³ | E26: ='Mem. Portal'!P25 -> 34.68 | F26: 29.24 | G26: =E26*F26 -> 1014.0432 | H26: 93382
B27: 2.4 | C27: Escavação e carga de material de jazida p/ aterro | D27: m³ | E27: ='Mem. Portal'!P26 -> 39.15 | F27: 17.05 | G27: =E27*F27 -> 667.5075 | H27: 101125
B28: 2.5 | C28: Transporte de material de jazida DMT= 4,9 km em rodovia pavimentada | D28: m³ | E28: ='Mem. Portal'!P27 -> 58.26 | F28: 2.56 | G28: =E28*F28 -> 149.1456 | H28: 95876
B29: 2.6 | C29: Execução e compactação de aterro com solo predominantemente argiloso | D29: m³ | E29: ='Mem. Portal'!P28 -> 67.45 | F29: 14.13 | G29: =E29*F29 -> 953.0685 | H29: 96385
G30: =SUM(G24:G29) -> 9880.2176
B31: 3.0 | C31: INFRAESTRUTURA
B32: 3.1 | C32: Fundação em pedra argamassada | D32: m³ | E32: 0
B33: 3.1 | C33: Base em concreto simples p/blocos em concreto ciclópico e=5,0 cm | D33: m² | E33: 0 | F33: 45.42 | G33: 0 | H33: 95241
B34: 3.1 | C34: Lastro de concreto magro, aplicado sobre solo e=0,5cm | D34: m³ | E34: ='Mem. Portal'!P33 -> 4.624 | F34: 45.42 | G34: =E34*F34 -> 210.02208 | H34: 95241
B35: 3.3 | C35: Bloco de concreto ciclópico dos pilares | D35: m130 | E35: 0 | F35: 898.49 | G35: 0 | H35: 102487
B36: 3.2 | C36: Concreto fck=25 MPa p/sapata em concreto armado | D36: m³ | E36: ='Mem. Portal'!P35 -> 47.21 | F36: 798.05 | G36: =E36*F36 -> 37675.94 | H36: 94965
B37: 3.3 | C37: Lançamento de concreto fck=25 MPa p/sapata de concreto armado | D37: m³ | E37: ='Mem. Portal'!P36 -> 47.21 | F37: 47.48 | G37: =E37*F37 -> 2241.5308 | H37: 103673
B38: 3.5 | C38: Armação de estrutura de concreto armado aço CA-60 de 5,0 mm - montagem | D38: kg | E38: 0 | F38: 20.54 | G38: 0 | H38: 96544
B39: 3.6 | C39: Armação de estrutura de concreto armado aço CA-50 de 10,0 mm - montagem | D39: kg | E39: 0 | F39: 16.88 | G39: 0 | H39: 96546
B40: 3.4 | C40: Forma plana para sapata em concreto armado, em madeira maciça, 04 usos, inclusive escoramento | D40: m² | E40: ='Mem. Portal'!P39 -> 15.5 | F40: 82.4 | G40: =E40*F40 -> 1277.2 | H40: Composição 15
G41: =SUM(G34:G40) -> 41404.693
B42: 4.0 | C42: SUPERESTRUTURA
B43: 4.1 | C43: Concreto fck=25 MPa p/ vigas | D43: m³ | E43: ='Mem. Portal'!P42 -> 6.75 | F43: 761.23 | G43: =E43*F43 -> 5138.3025 | H43: 94964
B44: 4.2 | C44: Concreto fck=25 MPa p/pilar | D44: m³ | E44: ='Mem. Portal'!P43 -> 18.56 | F44: 798.05 | G44: =E44*F44 -> 14811.808 | H44: 94965
B45: 4.3 | C45: Lançamento de concreto fck=25 MPa p/vigas | D45: m³ | E45: ='Mem. Portal'!P44 -> 6.75 | F45: 339.44 | G45: =E45*F45 -> 2291.22 | H45: 103670
B46: 4.4 | C46: Lançamento de concreto fck=25 MPa p/pilar | D46: m³ | E46: ='Mem. Portal'!P45 -> 18.56 | F46: 339.44 | G46: =E46*F46 -> 6300.0064 | H46: 103670
B47: 4.5 | C47: Armação de estrutura de concreto armado aço CA-60 de 5,0 mm - montagem | D47: kg | E47: ='Mem. Portal'!P46 -> 656.24 | F47: 18.04 | G47: =E47*F47 -> 11838.57 | H47: 92759
B48: 4.14 | C48: Armação de estrutura de concreto armado aço CA-50 de 6,3 mm - montagem | D48: KG | E48: ='Mem. Portal'!P48 -> 729.45 | F48: 17.29 | G48: =E48*F48 -> 12612.191 | H48: 92760
B49: 4.7 | C49: Armação de estrutura de concreto armado aço CA-50 de 8,0 mm - montagem | D49: kg | E49: ='Mem. Portal'!P49 -> 655.16 | F49: 16.44 | G49: =E49*F49 -> 10770.83 | H49: 92761
...

Sheet Mem. Portal
O4: REFERÊNCIAS:
B5: OBJETO: CONSTRUÇÃO DE PORTAL DE ENTRADA | O5: SINAPI: DEZEMBRO/2023
B6: LOCAL: ZONA URBANA - DEMERVAL LOBÃO | O6: ORSE: DEZEMBRO./2023
O7: TABELAS S/ DESONERAÇÃO
O8: BDI: 21,99% ; LSO: 114,54 %
B11: MEMÓRIA DE CÁLCULO - PORTAL
B13: ÍTEM | C13: SERVIÇOS | D13: LOCAL | E13: TRECHO | F13: UNID. | G13: TIPO | H13: QUANT. | I13: COMPR. (m) | J13: LARGURA (m) | K13: ALTURA (m) | L13: ÁREA (m²) | M13: VOLUME (m³) | N13: SUBTRAIR | O13: TOTAL | P13: TOTAL ÍTEM | Q13: OBSERVAÇÃO
B15: 1.0 | C15: SERVIÇOS PRELIMINARES
B16: 1.1 | C16: Tapume de proteção em tela de polietileno h=2,20 com bloco de concreto | E16: 1 | F16: m | G16: dem1 | H16: 1 | I16: 19.156 | K16: 2.2 | L16: =H16*I16*K16 -> 42.1432 | M16: 0 | N16: 0 | O16: =L16 -> 42.1432 | P16: =O16 -> 42.1432 | Q16: Perímetro da Área de Construção
B17: 1.2 | C17: Limpeza do terreno | E17: 1 | F17: m² | G17: loc1 | H17: 1 | I17: 50.15 | J17: 1 | L17: =H17*I17*J17 -> 50.15 | M17: 0 | N17: 0 | O17: =L17 -> 50.15 | P17: =L17 -> 50.15 | Q17: Área de Construção
B18: 1.3 | C18: Locação da obra com gabarito de madeira | E18: 1 | F18: m² | G18: loc1 | H18: 1 | I18: 50.15 | J18: 1 | L18: =H18*I18*J18 -> 50.15 | M18: 0 | N18: 0 | O18: =L18 -> 50.15 | P18: =O18 -> 50.15 | Q18: Área de Construção
B20: 2.0 | C20: MOVIMENTO DE TERRA
B21: 2.1 | C21: Escavação manual de valas p/ fundação de blocos em concreto ciclópico | E21: 1 | F21: m³ | G21: esc2 | H21: 0 | I21: 0 | J21: 0 | K21: 0 | L21: 0 | M21: 0 | N21: 0 | O21: 0 | P21: 0 | Q21: Quadro Resumo de Bloco de Concreto Ciclópico
B22: 2.1 | C22: Escavação manual de valas p/ fundação de sapatas em concreto armado fck=25 MPa | E22: 1 | F22: m³ | G22: esc2 | H22: 2 | I22: 6.8 | J22: 6.8 | K22: 1.5 | L22: =I22*J22 -> 46.24 | M22: =L22*K22 -> 69.36 | N22: 0 | O22: =M22 -> 69.36 | P22: =O22 -> 69.36 | Q22: Quadro Resumo de Sapata de Concreto Armado
B23: 2.3 | C23: Apiloamento manual do fundo de valas | D23: Área Blocos | E23: 1 | F23: m² | G23: api1 | H23: 0 | I23: 0 | J23: 0 | L23: 0 | M23: 0 | N23: 0 | O23: 0 | Q23: Área do Fundo das Valas de Fundação
B24: 2.2 | C24: Apiloamento manual do fundo de valas | D24: Área Blocos | E24: 1 | F24: m² | G24: api1 | H24: 2 | I24: 6.8 | J24: 6.8 | L24: =I24*J24 -> 46.24 | M24: 0 | N24: 0 | O24: =L24 -> 46.24 | P24: =L24 -> 46.24 | Q24: Área do Fundo das Valas de Fundação
B25: 2.3 | C25: Reaterro de vala com compactação manual | D25: Esc. Blocos | E25: 1 | F25: m³ | G25: ate1 | H25: 2 | I25: 6.8 | J25: 6.8 | K25: 0.75 | L25: =I25*J25 -> 46.24 | M25: =L25*K25 -> 34.68 | N25: 0 | O25: =M25 -> 34.68 | P25: =O25 -> 34.68 | Q25: Reaterro p/ vala da sapata de Conc. Armado
B26: 2.4 | C26: Escavação e carga de material de jazida p/ aterro | D26: Esc. Blocos | E26: 1 | F26: m³ | G26: ate1 | H26: 1 | I26: 39.15 | J26: 1 | K26: 1 | L26: =I26*J26 -> 39.15 | M26: =L26*K26 -> 39.15 | N26: 0 | O26: =M26 -> 39.15 | P26: =M26 -> 39.15 | Q26: Relátorio de volumes
B27: 2.5 | C27: Transporte de material de jazida DMT= 4,9 km em rodovia pavimentada | D27: Esc. Blocos | E27: 1 | F27: m³ | G27: ate1 | H27: 1 | I27: 58.26 | J27: 1 | K27: 1 | L27: =I27*J27 -> 58.26 | M27: =K27*L27 -> 58.26 | N27: 0 | O27: =M27 -> 58.26 | P27: =M27 -> 58.26 | Q27: Relátorio de volumes
B28: 2.6 | C28: Execução e compactação de aterro com solo predominantemente argiloso | D28: Esc. Blocos | E28: 1 | F28: m³ | G28: ate1 | H28: 1 | I28: 67.45 | J28: 1 | K28: 1 | L28: =I28*J28 -> 67.45 | M28: =K28*L28 -> 67.45 | N28: 0 | O28: =M28 -> 67.45 | P28: =O28 -> 67.45 | Q28: Relátorio de volumes
B30: 3.0 | C30: INFRAESTRUTURA
B31: 3.1 | C31: Fundação em pedra argamassada | D31: - | E31: 1 | F31: m³ | G31: fun1 | H31: 0 | I31: 2.7 | J31: 1.7 | K31: 0.5 | L31: 4.59 | M31: 2.3 | N31: 0 | O31: 0 | P31: 0 | Q31: Volume de Escavação da Vala de Fundação
B32: 3.1 | C32: Base em concreto simples p/blocos em concreto ciclópico e=5,0 cm | E32: 1 | F32: m² | G32: bas1 | H32: 0 | I32: 0 | J32: 0 | L32: 0 | M32: 0 | N32: 0 | O32: 0 | P32: 0 | Q32: Área de Projeção do Bloco de Concreto Ciclópico
B33: 3.1 | C33: Lastro de concreto magro, aplicado sobre solo e=0,5cm | E33: 1 | F33: m³ | G33: bas1 | H33: 2 | I33: 6.8 | J33: 6.8 | K33: 0.1 | L33: =I33*J33 -> 46.24 | M33: =L33*K33 -> 4.624 | N33: 0 | O33: =M33 -> 4.624 | P33: =O33 -> 4.624 | Q33: Área de Projeção da sapata de Concreto Armado
B34: 3.3 | C34: Bloco de concreto ciclópico dos pilares | D34: Estrutural | E34: 1 | F34: m130 | G34: blc1 | H34: 0 | I34: 0 | J34: 0 | K34: 0 | L34: 0 | M34: 0 | N34: 0 | O34: 0 | P34: 0 | Q34: Concretagem do Bloco de Concreto Ciclopico
B35: 3.2 | C35: Concreto fck=25 MPa p/sapata em concreto armado | D35: Estrutural | E35: 1 | F35: m³ | G35: blc1 | H35: 1 | I35: 47.21 | J35: 1 | K35: 1 | L35: =I35*J35 -> 47.21 | M35: =L35*K35 -> 47.21 | N35: 0 | O35: =M35 -> 47.21 | P35: =O35 -> 47.21 | Q35: Quadro Resumo do Volume de Concreto
B36: 3.3 | C36: Lançamento de concreto fck=25 MPa p/sapata de concreto armado | D36: Estrutural | E36: 1 | F36: m³ | G36: est8 | H36: 1 | I36: 47.21 | J36: 1 | K36: 1 | L36: =I36*J36 -> 47.21 | M36: =L36*K36 -> 47.21 | N36: 0 | O36: =M36 -> 47.21 | P36: =O36 -> 47.21 | Q36: Quadro Resumo do Volume de Concreto
B37: 3.5 | C37: Armação de estrutura de concreto armado aço CA-60 de 5,0 mm - montagem | D37: Estrutural | E37: 1 | F37: kg | G37: est14 | H37: 0 | L37: 0 | M37: 0 | N37: 0 | O37: 0 | P37: 0 | Q37: Quadro Resumo das Ferragens
B38: 3.6 | C38: Armação de estrutura de concreto armado aço CA-50 de 10,0 mm - montagem | D38: Estrutural | E38: 1 | F38: kg | G38: est18 | H38: 0 | L38: 0 | M38: 0 | N38: 0 | O38: 0 | P38: 0 | Q38: Quadro Resumo das Ferragens
B39: 3.4 | C39: Forma plana para sapata em concreto armado, em madeira maciça, 04 usos, inclusive escoramento | D39: Estrutural | E39: 1 | F39: m² | G39: est19 | H39: 1 | I39: 15.5 | J39: 1 | L39: =I39*J39 -> 15.5 | M39: 0 | N39: 0 | O39: =L39 -> 15.5 | P39: =O39 -> 15.5 | Q39: Quadro Resumo das Formas
B41: 4.0 | C41: SUPERESTRUTURA
B42: 4.1 | C42: Concreto fck=25 MPa p/ vigas | D42: Estrutural | E42: 1 | F42: m³ | G42: est6 | H42: 1 | I42: 6.75 | J42: 1 | K42: 1 | L42: =I42*J42 -> 6.75 | M42: =L42*K42 -> 6.75 | N42: 0 | O42: =M42 -> 6.75 | P42: =O42 -> 6.75 | Q42: Quadro Resumo do Volume de Concreto
B43: 4.2 | C43: Concreto fck=25 MPa p/pilar | D43: Estrutural | E43: 1 | F43: m³ | G43: est7 | H43: 1 | I43: 18.56 | J43: 1 | K43: 1 | L43: =I43*J43 -> 18.56 | M43: =L43*K43 -> 18.56 | N43: 0 | O43: =M43 -> 18.56 | P43: =O43 -> 18.56 | Q43: Quadro Resumo do Volume de Concreto
B44: 4.3 | C44: Lançamento de concreto fck=25 MPa p/vigas | D44: Estrutural | E44: 1 | F44: m³ | G44: est12 | H44: 6.75 | I44: 1 | J44: 1 | K44: 1 | L44: =H44*I44 -> 6.75 | M44: 1 | N44: 0 | O44: =L44 -> 6.75 | P44: =O44 -> 6.75 | Q44: Quadro Resumo do Volume de Concreto
B45: 4.4 | C45: Lançamento de concreto fck=25 MPa p/pilar | D45: Estrutural | E45: 1 | F45: m³ | G45: est13 | H45: 18.56 | I45: 1 | J45: 1 | K45: 1 | L45: 1 | M45: 1 | N45: 0 | O45: =H45*I45 -> 18.56 | P45: =O45 -> 18.56 | Q45: Quadro Resumo do Volume de Concreto
B46: 4.5 | C46: Armação de estrutura de concreto armado aço CA-60 de 5,0 mm - montagem | D46: Estrutural | E46: 1 | F46: kg | G46: est14 | H46: 656.24 | L46: 0 | M46: 0 | N46: 0 | O46: =H46 -> 656.24 | P46: =O46 -> 656.24 | Q46: Quadro Resumo de aço
B47: 4.14 | C47: Armação de estrutura de concreto armado aço CA-50 de 6,3 mm - montagem | D47: Estrutural | E47: 1 | F47: kg | G47: est15 | H47: 0 | L47: 0 | M47: 0 | N47: 0 | O47: 0 | P47: 0 | Q47: Quadro Resumo de aço
B48: 4.6 | C48: Armação de estrutura de concreto armado aço CA-50 de 6.3 mm - montagem | D48: Estrutural | E48: 1 | F48: kg | G48: est16 | H48: 729.45 | L48: 0 | M48: 0 | N48: 0 | O48: =H48 -> 729.45 | P48: =O48 -> 729.45 | Q48: Quadro Resumo de aço
B49: 4.7 | C49: Armação de estrutura de concreto armado aço CA-50 de 8,0 mm - montagem | D49: Estrutural | E49: 1 | F49: kg | G49: est16 | H49: 655.16 | L49: 0 | M49: 0 | N49: 0 | O49: =H49 -> 655.16 | P49: =O49 -> 655.16 | Q49: Quadro Resumo de aço
B50: 4.8 | C50: Armação de estrutura de concreto armado aço CA-50 de 10,0 mm - montagem | D50: Estrutural | E50: 1 | F50: kg | G50: est17 | H50: 591.42 | L50: 0 | M50: 0 | N50: 0 | O50: =H50 -> 591.42 | P50: =H50 -> 591.42 | Q50: Quadro Resumo de aço
...

Sheet F-Fin-G
G6: REFERÊNCIAS:
B7: OBJETO: CONSTRUÇÃO DE PORTAL DE ENTRADA | G7: SINAPI: DEZEMBRO/2023
B8: LOCAL: ZONA URBANA - DEMERVAL LOBÃO | G8: ORSE: DEZEMBRO./2023
G9: #REF!
G10: TABELAS S/ DESONERAÇÃO
G11: BDI: 21,99% ; LSO: 114,54 %
B13: CRONOGRAMA FÍSICO-FINANCEIRO - GLOBAL
D15: PESO | E15: VALOR DAS | F15: MESES
B16: ITEM | C16: DISCRIMINAÇÃO DOS | D16: % | E16: OBRAS E | F16: 1 | G16: 2 | H16: 3
C17: SERVIÇOS | E17: SERVIÇOS R$ | F17: R$ | G17: R$ | H17: R$
B19: 1.0 | C19: PLACA DA OBRA | D19: =E19/E27 -> 0.0027760606 | E19: =Resumo!G18 -> 1420.41 | F19: =E19 -> 1420.41
B20: 2.0 | C20: ADMINISTRAÇÃO LOCAL | D20: =E20/E27 -> 0.039262475 | E20: =Resumo!G19 -> 20089.191 | F20: =Resumo!F19 -> 6696.3971 | G20: =F20 -> 6696.3971 | H20: =F20 -> 6696.3971
B21: 3.0 | C21: CONSTRUÇÃO DE PRAÇA PÚBLICA | D21: 0 | E21: 0
B22: 4.0 | C22: CONSTRUÇÃO DE PORTAL DE ENTRADA | D22: =E22/E27 -> 0.95796146 | E22: ='Orç Portal'!G106 -> 490154.3 | F22: =E22/3 -> 163384.77 | G22: =E22/3 -> 163384.77 | H22: =E22/3 -> 163384.77
B24: TOTAL | C24: SIMPLES | D24: 100 | E24: 230420.93 | F24: =(F19+F20+F22)/E27 -> 0.33518404 | G24: =(G20+G22)/E27 -> 0.33240798 | H24: =(H20+H22)/E27 -> 0.33240798
C25: ACUMULADO | E25: 230420.93 | F25: =F24 -> 0.33518404 | G25: =G24+F25 -> 0.66759202 | H25: =H24+G25 -> 1
C27: VALOR TOTAL (R$) | D27: 100 | E27: =Resumo!G23 -> 511663.9 | F27: =F19+F20+F22 -> 171501.57 | G27: =G20+G22 -> 170081.16 | H27: =H20+H22 -> 170081.16
E28: 230420.93

Sheet Composições
H6: REFERÊNCIAS:
B7: OBJETO: CONSTRUÇÃO DE PORTAL DE ENTRADA | H7: SINAPI: DEZEMBRO/2023
B8: LOCAL: ZONA URBANA - DEMERVAL LOBÃO | H8: ORSE: DEZEMBRO./2023
H9: #REF!
H10: TABELAS S/ DESONERAÇÃO
H11: BDI: 21,99% ; LSO: 114,54 %
B13: COMPOSIÇÕES DE CUSTO UNITÁRIO ELABORADAS
B15: Aquisição e assentamento de placa da obra em chapa de aço galvanizado - COMPOSIÇÃO 01 | H15: Produção da equipe [1]
H16: 1 | I16: m²
B17: Mão-de-obra | C17: Quant. | D17: Unid. | E17: Referência | H17: Salário hora | I17: Custo horário
B18: Carpinteiro de formas com enc. complementares | C18: 5.5 | D18: H | E18: SINAPI | F18: 88262 | G18: C | H18: 25.64 | I18: 141.02
B19: Servente com encargos complementares | C19: 8.6448 | D19: H | E19: SINAPI | F19: 88316 | G19: C | H19: 20.2 | I19: 174.62
B20: Custo unitário total de mão de obra | I20: 315.64
B22: Materiais e/ou serviços | C22: Quant. | D22: Unid. | E22: Referência | H22: Valor R$ | I22: Custo unitário
B23: Placa de obra em chapa de aço 2,4 x 1,20 m | C23: 2.88 | D23: M² | E23: SINAPI | F23: 4813 | G23: I | H23: 250 | I23: 720
B24: Peça de madeira de lei 1ª qualidade 2,5x7,5 cm | C24: 2.88 | D24: M | E24: SINAPI | F24: 4417 | G24: I | H24: 3.81 | I24: 10.97
B25: Peça de madeira 3ª qualidade 7,5x7,5 cm | C25: 11.52 | D25: M | E25: SINAPI | F25: 4491 | G25: I | H25: 9.44 | I25: 108.75
B26: Prego 18x30 | C26: 0.432 | D26: KG | E26: SINAPI | F26: 5075 | G26: I | H26: 20.85 | I26: 9.01
B27: Custo unitário total dos materiais e/ou serviços | I27: 848.73
B29: CUSTO UNITÁRIO TOTAL | I29: 1164.37
B30: B.D.I. = 21,99% | I30: 256.04
B31: PREÇO UNITÁRIO TOTAL | I31: 1420.41
B32: FONTE: COMPOSIÇÃO ADAPTADA COM REFERÊNCIA NO SERVIÇO 00051/ORSE
B34: Administração local da obra - COMPOSIÇÃO 02 | H34: Produção da equipe [1]
H35: 1 | I35: mês
B36: Mão-de-obra | C36: Quant. | D36: Unid. | E36: Referência | H36: Salário hora | I36: Custo horário
B37: Engenheiro | C37: 25 | D37: H | E37: SINAPI | F37: 2706 | G37: I | H37: 109.41 | I37: =C37*H37 -> 2735.25
B38: Encarregado geral | C38: 30 | D38: H | E38: SINAPI | F38: 4083 | G38: I | H38: 28.1 | I38: =C38*H38 -> 843
B39: Apontador | C39: 45 | D39: H | E39: SINAPI | F39: 6122 | G39: I | H39: 19.09 | I39: =C39*H39 -> 859.05
B40: Auxiliar de Engenharia | C40: 50 | D40: H | E40: SINAPI | F40: 532 | G40: I | H40: 21.04 | I40: =C40*H40 -> 1052
B41: Custo unitário total de mão de obra | I41: =SUM(I37:I40) -> 5489.3
B43: Materiais e/ou serviços | C43: Quant. | D43: Unid. | E43: Referência | H43: Valor R$ | I43: Custo unitário
I44: 0
B45: Custo unitário total dos materiais e/ou serviços | I45: 0
B47: CUSTO UNITÁRIO TOTAL | I47: =I41 -> 5489.3
B48: B.D.I. = 21,99% | I48: =I47*0.2199 -> 1207.0971
B49: PREÇO UNITÁRIO TOTAL | I49: =I47+I48 -> 6696.3971
B50: FONTE: REVISTA GUIA DA CONSTRUÇÃO EDITORA PINI - JULHO/2009 (ADAPTADO)
B52: Tapume de proteção em tela de polietileno h=1,20 com bloco de concreto- COMPOSIÇÃO 03 | H52: Produção da equipe [1]
H53: 1 | I53: m
...

Sheet LSO
D6: REFERÊNCIAS:
B7: OBJETO: CONSTRUÇÃO DE PORTAL DE ENTRADA | D7: SINAPI: DEZEMBRO/2023
B8: LOCAL: ZONA URBANA - DEMERVAL LOBÃO | D8: ORSE: DEZEMBRO./2023
D9: #REF!
D10: TABELAS S/ DESONERAÇÃO
D11: BDI: 21,99% ; LSO: 114,54 %
B13: ENCARGOS SOCIAIS SOBRE A MÃO-DE-OBRA SEM DESONERAÇÃO
B15: CÓDIGO | C15: DESCRIÇÃO | D15: HORISTA (%) | E15: MENSALISTA (%)
B17: GRUPO A
B18: A1 | C18: INSS | D18: 0.2 | E18: 0.2
B19: A2 | C19: SESI | D19: 0.015 | E19: 0.015
B20: A3 | C20: SENAI | D20: 0.01 | E20: 0.01
B21: A4 | C21: INCRA | D21: 0.002 | E21: 0.002
B22: A5 | C22: SEBRAE | D22: 0.006 | E22: 0.006
B23: A6 | C23: SALÁRIO EDUCAÇÃO | D23: 0.025 | E23: 0.025
B24: A7 | C24: SEGURO CONTRA ACIDENTES NO TRABALHO | D24: 0.03 | E24: 0.03
B25: A8 | C25: FGTS | D25: 0.08 | E25: 0.08
B26: A9 | C26: SECONCI | D26: 0 | E26: 0
B27: A | C27: TOTAL DOS ENCARGOS SOCIAIS BÁSICOS | D27: 0.368 | E27: 0.368
B28: GRUPO B
B29: B1 | C29: REPOUSO SEMANAL REMUNERADO | D29: 0.1782 | E29: 0
B30: B2 | C30: FERIADOS | D30: 0.0395 | E30: 0
B31: B3 | C31: AUXILIO ENFERMIDADE | D31: 0.0085 | E31: 0.0064
B32: B4 | C32: 13º SALÁRIO | D32: 0.1109 | E32: 0.0833
B33: B5 | C33: LICENÇA PATERNIDADE | D33: 0.0006 | E33: 0.0004
B34: B6 | C34: FALTAS JUSTIFICADAS | D34: 0.0074 | E34: 0.0056
B35: B7 | C35: DIAS DE CHUVAS | D35: 0.0118 | E35: 0
B36: B8 | C36: AUXILIO ACIDENTE DE TRABALHO | D36: 0.001 | E36: 0.0008
B37: B9 | C37: FÉRIAS GOZADAS | D37: 0.1376 | E37: 0.1034
B38: B10 | C38: SALARIO MATERNIDADE | D38: 0.0004 | E38: 0.0003
B39: B | C39: TOTAL DOS ENCARGOS SOCIAIS QUE RECEBEM INCIDÊNCIAS DE A | D39: 0.4959 | E39: 0.2002
B40: GRUPO C
B41: C1 | C41: AVISO PREVIO IDENIZADO | D41: 0.0536 | E41: 0.0403
B42: C2 | C42: AVISO PREVIO TRABALHO | D42: 0.0013 | E42: 0.0009
B43: C3 | C43: FÉRIAS INDENIZADAS | D43: 0.0096 | E43: 0.0072
B44: C4 | C44: DEPOSITO RECISAO SEM JUSTA CAUSA | D44: 0.0252 | E44: 0.0189
B45: C5 | C45: IDENIZAÇÃO ADICIONAL | D45: 0.0045 | E45: 0.0034
B46: C | C46: TOTAL DOS ENCARGOS SOCIAIS QUE NÃO RECEBEM AS INCIDÊNCIAS GLOBAIS DE A | D46: 0.0942 | E46: 0.0707
B47: GRUPO D
B48: D1 | C48: REINCIDÊNCIA DE GRUPO A SOBRE GRUPO B | D48: 0.1825 | E48: 0.0737
...

Sheet BDI
F6: REFERÊNCIAS:
B7: OBJETO: CONSTRUÇÃO DE PORTAL DE ENTRADA | F7: SINAPI: DEZEMBRO/2023
B8: LOCAL: ZONA URBANA - DEMERVAL LOBÃO | F8: ORSE: DEZEMBRO./2023
F9: #REF!
F10: TABELAS S/ DESONERAÇÃO
F11: BDI: 21,99% ; LSO: 114,54 %
A13: CÁLCULO DO BDI - BONIFICAÇÕES E DESPESAS INDIRETAS
B15: ITEM | C15: DESCRIÇÃO | E15: ÍNDICE (%) | F15: DENOMINAÇÃO
B16: 1.0 | C16: Taxa de administração central | E16: 4.4 | F16: AC
B17: 2.0 | C17: Taxa de seguro e garantia | E17: 0.8 | F17: S+G
B18: 3.0 | C18: Taxa da margem de incerteza (risco) do empreendimento | E18: 1.02 | F18: R
B19: 4.0 | C19: Taxas de despesas financeiros | E19: 1.11 | F19: DF
B20: 5.0 | C20: Taxa de margem de contribuição (benefício, lucro ou remuneração ) | E20: 7.17 | F20: L
B21: 6.0 | C21: Taxa de custos tributários (municipais, estaduais e federais) | E21: 5.65 | F21: I
B22: 6.1 | C22: COFINS - Contribuição para o Financiamento da Seguridade Social | E22: 3
B23: 6.2 | C23: PIS - Programa de Integração Social | E23: 0.65
B24: 6.3 | C24: ISS - Imposto Sobre Serviço | E24: 2
B25: 6.4 | C25: CPRB - Contribuição Previdênciária sobre a Receita Bruta | E25: 0
C27: FÓRMULA DE CÁLCULO DO BDI :
C29: BDI = { [ (1+AC+S+G+R) * (1+DF) * (1+L) ] / (1-I) } - 1
C31: BDI = 21,99% (SEM DESONERAÇÃO)
C32: *BDI SEM O ITEM 6.4- CPRB = 21,99%
B34: OBSERVAÇÕES:
B36: 1) A análise dos BDIs apresentados pelas empresas terá seu critério regido pelo ACÓRDÃO do TCU nº 2622/2013 - Plenário, que gerou a tabela abaixo com os limites para BDI para Construção de Edifícios:
B39: DESCRIÇÃO | D39: MÍNIMO | E39: MÉDIA | F39: MÁXIMO
B40: Administração Central | D40: 3 | E40: 4 | F40: 5.5
B41: Seguro e Garantia | D41: 0.8 | E41: 0.8 | F41: 1
B42: Risco | D42: 0.97 | E42: 1.27 | F42: 1.27
B43: Despesas Financeiras | D43: 0.59 | E43: 1.23 | F43: 1.39
B44: Lucro | D44: 6.16 | E44: 7.4 | F44: 8.96
B45: Tributos | D45: 5.65 | E45: 6.65 | F45: 8.65
B46: COFINS | D46: 3 | E46: 3 | F46: 3
B47: PIS | D47: 0.65 | E47: 0.65 | F47: 0.65
B48: ISS | D48: 2 | E48: 3 | F48: 5
B49: CPRB | D49: 0 | E49: 0 | F49: 0
B50: BDI | D50: 20.34 | E50: 22.12 | F50: 25
B51: * LIMITE PARA VERIFICAÇÃO DOS PERCENTUAIS MÍNIMO, MÉDIO E MÁXIMO PARA O BDI SEM A CPRB
B53: 2) Os tributos IRPJ e CSLL não devem integrar o cálculo do BDI, nem tampouco a planilha de custo direto, por se constituírem em tributos de natureza direta e personalística, que oneram pessoalmente o contratado, não devendo o ônus tributário ser repassado à contratante.
B56: 3) O tributo ISS para obra de engenharia deve ser considerado entre 2,0 a 5,0% conforme legislação tributária municipal. Para a Prefeitura Municipal de DEMERVAL LOBÃO, a alíquota cobrada é de 5% sobre a mão-de-obra de 40%, sendo cobrado no final 2% do valor total.
B58: 4) Foi inserido nos tributos a Contribuição Previdênciária sobre a Receita Bruta - CPRB de 0,00% de acordo com a Lei nº 12.844/13, alterada pela Lei nº 13.161/15 e Acórdão 2293-TCU-Plenário.
...

Sheet Orç_Pav4
A1: =#REF! -> #REF! | I1: ESTADO | J1: =EST -> #NAME? | K1: TOTAL GERAL | L1: =TOT -> #NAME? | M1: =#REF! -> #REF! | N1: TIPO
A2: =#REF! -> #REF! | I2: PREFEITURA MUNICIPAL DE | J2: =PREF -> #NAME? | K2: TOTAL IDEAL | L2: =OGU+CPA -> 0 | M2: =#REF! -> #REF! | N2: =#REF! -> #REF!
I3: RECURSO OGU | J3: =OGU -> 0 | K3: DIFERENÇA | L3: =TID-TOT -> #NAME? | N3: =#REF! -> #REF!
A4: =#REF! -> #REF! | F4: =#REF! -> #REF! | I4: CONTRAPARTIDA | J4: =CPA -> 0 | K4: OBRA: | M4: =N2&N3&J2&M2 -> #REF!
A5: =#REF! -> #REF! | F5: =#REF! -> #REF! | I5: FATOR DE CPA | J5: =1-CPA/OGU -> #DIV/0! | K5: POPULAÇÃO | L5: =#REF! -> #REF!
A6: =#REF! -> #REF! | F6: =#REF! -> #REF! | I6: PROGRAMA | J6: =#REF! -> #REF! | K6: C. DE REPASSE | L6: =#REF! -> #REF!
I7: SINAPI | J7: =#REF! -> #REF! | K7: =#REF! -> #REF!
A8: =UPPER(L4&M4) -> #REF! | I8: DNIT | J8: =#REF! -> #REF! | K8: =#REF! -> #REF!
A10: ="PLANILHA ORÇAMENTÁRIA - "&#REF! -> #REF!
A12: ÍTEM | B12: D I S C R I M I N A Ç Ã O | C12: UNID. | D12: QUANT. | E12: V. UNIT. | F12: V. TOTAL | G12: FONTE | H12: CÓDIGO
A14: =#REF! -> #REF! | B14: =#REF! -> #REF!
A15: =#REF! -> #REF! | B15: =#REF! -> #REF! | C15: =#REF! -> #REF! | D15: =#REF! -> #REF! | E15: =#REF! -> #REF! | F15: =ROUND(D15*E15,2) -> #REF! | G15: ="DNIT-"&$K$8 -> #REF! | H15: 1 A 01 100 01 PI
A16: =#REF! -> #REF! | B16: =#REF! -> #REF! | C16: =#REF! -> #REF! | D16: =#REF! -> #REF! | E16: =#REF! -> #REF! | F16: =ROUND(D16*E16,2) -> #REF! | G16: ="DNIT-"&$K$8 -> #REF! | H16: 1 A 01 105 01 PI | J16: =2.8/0.08333 -> 33.601344
A17: =#REF! -> #REF! | B17: =#REF! -> #REF! | C17: =#REF! -> #REF! | D17: =#REF! -> #REF! | E17: =#REF! -> #REF! | F17: =ROUND(D17*E17,2) -> #REF! | G17: ="DNIT-"&$K$8 -> #REF! | H17: 2 S 01 100 01 PI
A18: =#REF! -> #REF! | B18: =#REF! -> #REF! | C18: =#REF! -> #REF! | D18: =#REF! -> #REF! | E18: =#REF! -> #REF! | F18: =ROUND(D18*E18,2) -> #REF! | G18: ="DNIT-"&$K$8 -> #REF! | H18: 1 A 01 120 01 PI
A19: =#REF! -> #REF! | B19: =#REF! -> #REF! | C19: =#REF! -> #REF! | D19: =#REF! -> #REF! | E19: =#REF! -> #REF! | F19: =ROUND(D19*E19,2) -> #REF! | G19: ="DNIT-"&$K$8 -> #REF! | H19: 3 S 09 001 00 PI
A20: =#REF! -> #REF! | B20: =#REF! -> #REF! | C20: =#REF! -> #REF! | D20: =#REF! -> #REF! | E20: =#REF! -> #REF! | F20: =ROUND(D20*E20,2) -> #REF! | G20: ="DNIT-"&$K$8 -> #REF! | H20: 2 S 01 511 00 PI
A21: =#REF! -> #REF! | B21: =#REF! -> #REF! | C21: =#REF! -> #REF! | D21: =#REF! -> #REF! | E21: =#REF! -> #REF! | F21: =ROUND(D21*E21,2) -> #REF! | G21: M. LOCAL | H21: SCS
F22: =SUM(F15:F21) -> #REF!
A23: =#REF! -> #REF! | B23: =#REF! -> #REF!
A24: =#REF! -> #REF! | B24: =#REF! -> #REF! | C24: =#REF! -> #REF! | D24: =#REF! -> #REF! | E24: =#REF! -> #REF! | F24: =ROUND(D24*E24,2) -> #REF! | G24: ="SINAPI-"&$K$7 -> #REF! | H24: 72799
A25: =#REF! -> #REF! | B25: =#REF! -> #REF! | C25: =#REF! -> #REF! | D25: =#REF! -> #REF! | E25: =#REF! -> #REF! | F25: =ROUND(D25*E25,2) -> #REF! | G25: ="SINAPI-"&$K$7 -> #REF! | H25: 72971
F26: =SUM(F24:F25) -> #REF!
A27: =#REF! -> #REF! | B27: =#REF! -> #REF!
A28: =#REF! -> #REF! | B28: =#REF! -> #REF! | C28: =#REF! -> #REF! | D28: =#REF! -> #REF! | E28: =#REF! -> #REF! | F28: =ROUND(D28*E28,2) -> #REF! | G28: ="SINAPI-"&$K$7 -> #REF! | H28: 79472
A29: =#REF! -> #REF! | B29: =#REF! -> #REF! | C29: =#REF! -> #REF! | D29: =#REF! -> #REF! | E29: =#REF! -> #REF! | F29: =ROUND(D29*E29,2) -> #REF! | G29: ="SINAPI-"&$K$7 -> #REF! | H29: 72799
A30: =#REF! -> #REF! | B30: =#REF! -> #REF! | C30: =#REF! -> #REF! | D30: =#REF! -> #REF! | E30: =#REF! -> #REF! | F30: =ROUND(D30*E30,2) -> #REF! | G30: ="SINAPI-"&$K$7 -> #REF! | H30: 72971
A31: =#REF! -> #REF! | B31: =#REF! -> #REF! | C31: =#REF! -> #REF! | D31: =#REF! -> #REF! | E31: =#REF! -> #REF! | F31: =ROUND(D31*E31,2) -> #REF! | G31: ="SINAPI-"&$K$7 -> #REF! | H31: 74223/001
A32: =#REF! -> #REF! | B32: =#REF! -> #REF! | C32: =#REF! -> #REF! | D32: =#REF! -> #REF! | E32: =#REF! -> #REF! | F32: =ROUND(D32*E32,2) -> #REF! | G32: ="SINAPI-"&$K$7 -> #REF! | H32: 74223/001
F33: =SUM(F28:F32) -> #REF!
A34: =#REF! -> #REF! | B34: =#REF! -> #REF!
A35: =#REF! -> #REF! | B35: =#REF! -> #REF! | C35: =#REF! -> #REF! | D35: =#REF! -> #REF! | E35: =#REF! -> #REF! | F35: =ROUND(D35*E35,2) -> #REF! | G35: ="SINAPI-"&$K$7 -> #REF! | H35: 74223/001
A36: =#REF! -> #REF! | B36: =#REF! -> #REF! | C36: =#REF! -> #REF! | D36: =#REF! -> #REF! | E36: =#REF! -> #REF! | F36: =ROUND(D36*E36,2) -> #REF! | G36: ="SINAPI-"&$K$7 -> #REF! | H36: 74223/001
A37: =#REF! -> #REF! | B37: =#REF! -> #REF! | C37: =#REF! -> #REF! | D37: =#REF! -> #REF! | E37: =#REF! -> #REF! | F37: =ROUND(D37*E37,2) -> #REF! | G37: ="SINAPI-"&$K$7 -> #REF! | H37: SCS
F38: =SUM(F35:F37) -> #REF!
A39: =#REF! -> #REF! | B39: =#REF! -> #REF!
A40: =#REF! -> #REF! | B40: =#REF! -> #REF! | C40: =#REF! -> #REF! | D40: =#REF! -> #REF! | E40: =#REF! -> #REF! | F40: =ROUND(D40*E40,2) -> #REF! | G40: ="SINAPI-"&$K$7 -> #REF! | H40: SCS
F41: =SUM(F40:F40) -> #REF!
A43: TOTAL GERAL (R$) | F43: =SUM(F14:F41)/2 -> #REF! | I43: =IF((F22+F26+F33+F38+F41)=F43,"OK","CORRIGIR") -> #REF!
B45: ="Observações: Preços coletados na Tabela SINAPI "&#REF!&" - Teresina e Mercado Local." -> #REF!
...
