Workbook

Sheet Orçamento
B1: INSERIR LOGO DA EMPRESA
B3: Proponente:
B4: Endereço:
B5: CONTRATAÇÃO DE EMPRESA PARA EXECUÇÃO DOS SERVIÇOS DE IMPLANTAÇÃO, MANUTENÇÃO, MONITORAMENTO E CONSOLIDAÇÃO DA RESTAURAÇÃO ECOLÓGICA DA FUTURA ÁREA DE PRESERVAÇÃO PERMANENTE (APP) DO RESERVATÓRIO DA BARRAGEM DO RIBEIRÃO PIRAÍ, COM ATENDIMENTO ÀS OBRIGAÇÕES AMBIENTAIS APLICÁVEIS, ELABORAÇÃO DE RELATÓRIOS TÉCNICOS E ATUALIZAÇÃO DAS INFORMAÇÕES NO SARE
B6: PLANILHA DE ORÇAMENTO - PROPONENTE
B7: ITEM | C7: D E S C R I Ç Ã O | E7: UNID. | F7: QUANT. | G7: P. UNIT. (R$) | H7: P. TOTAL (R$)
B9: 1 | C9: Plano de Trabalho
B10: 1.1 | C10: Plano de Trabalho (COMP. 001) | E10: un. | F10: 1 | H10: =ROUND(F10*G10,2) -> 0
D11: TOTAL DO ITEM 1 | E11: R$ | H11: =SUM(H10:H10) -> 0
B13: 2 | C13: Execução da Restauração Ecológica
B14: 2.1 | C14: ETAPA 01.A = 30,71 hectares
B15: 2.1.1 | C15: Isolamento da Área (COMP. 002) | E15: m | F15: =706.5+762.2+180.54+312.91+14.6+145.82+364.2+7.24+400.2+86.89 -> 2981.1 | H15: =ROUND(F15*G15,2) -> 0
B16: 2.1.2 | C16: Implantação da Restauração Ecológica - com limpeza mecanizada (COMP. 003) | E16: ha | F16: 26.24 | H16: =ROUND(F16*G16,2) -> 0
B17: 2.1.3 | C17: Implantação da Restauração Ecológica - com limpeza manual (COMP. 004) | E17: ha | F17: 4.47 | H17: =ROUND(F17*G17,2) -> 0
B18: 2.1.4 | C18: Monitoramento e consolidação - manutenção de plantio (DER 30.01.40.02.99) | E18: ha x mês | F18: 399.23 | H18: =ROUND(F18*G18,2) -> 0
D19: TOTAL DO ITEM 2.1 | E19: R$ | H19: =SUM(H15:H18) -> 0
B20: 2.2 | C20: ETAPA 01.B = 32,40 hectares
B21: 2.2.1 | C21: Isolamento da Área (COMP. 002) | E21: m | F21: =54.95+507.75+285.41+1002.17+180.82+469.25+86.25+667.76 -> 3254.36 | H21: =ROUND(F21*G21,2) -> 0
B22: 2.2.2 | C22: Implantação da Restauração Ecológica - com limpeza mecanizada (COMP. 003) | E22: ha | F22: 27.69 | H22: =ROUND(F22*G22,2) -> 0
B23: 2.2.3 | C23: Implantação da Restauração Ecológica - com limpeza manual (COMP. 004) | E23: ha | F23: 4.71 | H23: =ROUND(F23*G23,2) -> 0
B24: 2.2.4 | C24: Monitoramento e consolidação - manutenção de plantio (DER 30.01.40.02.99) | E24: ha x mês | F24: 388.8 | H24: =ROUND(F24*G24,2) -> 0
D25: TOTAL DO ITEM 2.2 | E25: R$ | H25: =SUM(H21:H24) -> 0
B26: 2.3 | C26: ETAPA 02 = 18,05 hectares
B27: 2.3.1 | C27: Isolamento da Área (COMP. 002) | E27: m | F27: =421.41+73.2+657.06+195.26+23.85+14.19+59.32+192.16+7+18.5 -> 1661.95 | H27: =ROUND(F27*G27,2) -> 0
B28: 2.3.2 | C28: Implantação da Restauração Ecológica - com limpeza mecanizada (COMP. 003) | E28: ha | F28: 15.42 | H28: =ROUND(F28*G28,2) -> 0
B29: 2.3.3 | C29: Implantação da Restauração Ecológica - com limpeza manual (COMP. 004) | E29: ha | F29: 2.63 | H29: =ROUND(F29*G29,2) -> 0
B30: 2.3.4 | C30: Monitoramento e consolidação - manutenção de plantio (DER 30.01.40.02.99) | E30: ha x mês | F30: 198.55 | H30: =ROUND(F30*G30,2) -> 0
D31: TOTAL DO ITEM 2.3 | E31: R$ | H31: =SUM(H27:H30) -> 0
B32: 2.4 | C32: ETAPA 03 = 15,19 hectares
B33: 2.4.1 | C33: Isolamento da Área (COMP. 002) | E33: m | F33: =102.43+142.96+36.44+45.9+525.03+148.73+35.5+324.47+35.05 -> 1396.51 | H33: =ROUND(F33*G33,2) -> 0
B34: 2.4.2 | C34: Implantação da Restauração Ecológica - com limpeza mecanizada (COMP. 003) | E34: ha | F34: 12.98 | H34: =ROUND(F34*G34,2) -> 0
B35: 2.4.3 | C35: Implantação da Restauração Ecológica - com limpeza manual (COMP. 004) | E35: ha | F35: 2.21 | H35: =ROUND(F35*G35,2) -> 0
B36: 2.4.4 | C36: Monitoramento e consolidação - manutenção de plantio (DER 30.01.40.02.99) | E36: ha x mês | F36: 151.9 | H36: =ROUND(F36*G36,2) -> 0
D37: TOTAL DO ITEM 2.4 | E37: R$ | H37: =SUM(H33:H36) -> 0
B39: 2.5 | C39: Ações de mobilização e engajamento com a comunidade do entorno (COMP. 005) | E39: un. | F39: 10 | H39: =ROUND(F39*G39,2) -> 0
B41: 2.6 | C41: Relatórios TCRA Nº 117372/2024 (COMP. 006) | E41: un. | F41: 5 | H41: =ROUND(F41*G41,2) -> 0
D43: TOTAL DO ITEM 2 | E43: R$ | H43: =H19+H25+H31+H37+H39+H41 -> 0
B45: 3 | C45: Relatórios destinados à CETESB
B46: 3.1 | C46: Relatórios destinados à CETESB (vinculados ao Programa de Manejo e Conservação de Flora; Subprograma de Monitoramento da Mata de Interflúvio; Subprograma de coleta de banco de solo, sementes e mudas) - (COMP. 006) | E46: un. | F46: 15 | H46: =ROUND(F46*G46,2) -> 0
D47: TOTAL DO ITEM 3 | E47: R$ | H47: =SUM(H45:H46) -> 0
...

Sheet Cronograma 
B3: CRONOGRAMA FÍSICO - FINANCEIRO
B4: =[1]Orçamento!B3 -> CONIRPI - Consórcio Intermunicial do Ribeirão Piraí
B5: =[1]Orçamento!B4 -> Endereço: Av. Tranquillo Gianinni, 861, 5º andar - Dist. Ind. Santos Dumont, Cep: 13329-600, Salto/SP
B7: =[1]Orçamento!B5 -> CONTRATAÇÃO DE EMPRESA PARA EXECUÇÃO DOS SERVIÇOS DE IMPLANTAÇÃO, MANUTENÇÃO, MONITORAMENTO E CONSOLIDAÇÃO DA RESTAURAÇÃO ECOLÓGICA DA FUTURA ÁREA DE PRESERVAÇÃO PERMANENTE (APP) DO RESERVATÓRIO DA BARRAGEM DO RIBEIRÃO PIRAÍ, COM ATENDIMENTO ÀS OBRIGAÇÕES AMBIENTAIS APLICÁVEIS, ELABORAÇÃO DE RELATÓRIOS TÉCNICOS E ATUALIZAÇÃO DAS INFORMAÇÕES NO SARE
H8: 46327
H10: 1º ANO | T10: 2º ANO | AF10: 3º ANO | AR10: 4º ANO | BD10: 5º ANO
B11: ITEM | C11: D E S C R I Ç Ã O D O S S E R V I Ç O S | F11: UNID. | G11: QUANT. | H11: 0-6 meses | N11: 6-12 meses | T11: 12-18 meses | Z11: 18-24 meses | AF11: 24-30 meses | AL11: 30-36 meses | AR11: 36-42 meses | AX11: 42-48 meses | BD11: 48-54 meses | BJ11: 54-60 meses | BP11: T O T A L | BR11: VALORES UNITÁRIOS
B13: =[1]Orçamento!B9 -> 1 | C13: =[1]Orçamento!C9 -> Plano de Trabalho
B14: =[1]Orçamento!B10 -> 1.1 | C14: =[1]Orçamento!C10 -> Plano de Trabalho | F14: =[1]Orçamento!F10 -> un. | G14: =Orçamento!F10 -> 1 | BP14: =Orçamento!H10 -> 0 | BR14: =BP14 -> 0
B16: =[1]Orçamento!B13 -> 2 | C16: =[1]Orçamento!C13 -> Execução da Restauração Ecológica
B17: =[1]Orçamento!B14 -> 2.1 | C17: =[1]Orçamento!C14 -> ETAPA 01.A = 30,71 hectares
B18: =[1]Orçamento!B15 -> 2.1.1 | C18: =[1]Orçamento!C15 -> Isolamento da Área | F18: =[1]Orçamento!F15 -> m | G18: =Orçamento!F15 -> 2981.1 | BP18: =Orçamento!H15 -> 0 | BR18: =BP18/G18 -> 0
B19: =[1]Orçamento!B16 -> 2.1.2 | C19: =[1]Orçamento!C16 -> Implantação da Restauração Ecológica - com limpeza mecanizada | F19: =[1]Orçamento!F16 -> ha | G19: =Orçamento!F16 -> 26.24 | BP19: =Orçamento!H16 -> 0 | BR19: =BP19/G19 -> 0
B20: =[1]Orçamento!B17 -> 2.1.3 | C20: =[1]Orçamento!C17 -> Implantação da Restauração Ecológica - com limpeza manual | F20: =[1]Orçamento!F17 -> ha | G20: =Orçamento!F17 -> 4.47 | BP20: =Orçamento!H17 -> 0 | BR20: =BP20/G20 -> 0
B21: =[1]Orçamento!B18 -> 2.1.4 | C21: =[1]Orçamento!C18 -> Monitoramento e consolidação - manutenção de plantio | F21: =[1]Orçamento!F18 -> ha x mês | G21: =Orçamento!F18 -> 399.23 | BP21: =Orçamento!H18 -> 0 | BR21: =BP21/13 -> 0
B23: =[1]Orçamento!B20 -> 2.2 | C23: =[1]Orçamento!C20 -> ETAPA 01.B = 32,40 hectares | BP23: =[1]Orçamento!I20 -> 0
B24: =[1]Orçamento!B21 -> 2.2.1 | C24: =[1]Orçamento!C21 -> Isolamento da Área | F24: =[1]Orçamento!F21 -> m | G24: =Orçamento!F21 -> 3254.36 | BP24: =Orçamento!H21 -> 0 | BR24: =BP24/G24 -> 0
B25: =[1]Orçamento!B22 -> 2.2.2 | C25: =[1]Orçamento!C22 -> Implantação da Restauração Ecológica - com limpeza mecanizada | F25: =[1]Orçamento!F22 -> ha | G25: =Orçamento!F22 -> 27.69 | BP25: =Orçamento!H22 -> 0 | BR25: =BP25/G25 -> 0
B26: =[1]Orçamento!B23 -> 2.2.3 | C26: =[1]Orçamento!C23 -> Implantação da Restauração Ecológica - com limpeza manual | F26: =[1]Orçamento!F23 -> ha | G26: =Orçamento!F23 -> 4.71 | BP26: =Orçamento!H23 -> 0 | BR26: =BP26/G26 -> 0
B27: =[1]Orçamento!B24 -> 2.2.4 | C27: =[1]Orçamento!C24 -> Monitoramento e consolidação - manutenção de plantio | F27: =[1]Orçamento!F24 -> ha x mês | G27: =Orçamento!F24 -> 388.8 | BP27: =Orçamento!H24 -> 0 | BR27: =BP27/12 -> 0
B29: =[1]Orçamento!B26 -> 2.3 | C29: =[1]Orçamento!C26 -> ETAPA 02 = 18,05 hectares | BP29: =[1]Orçamento!I26 -> 0
B30: =[1]Orçamento!B27 -> 2.3.1 | C30: =[1]Orçamento!C27 -> Isolamento da Área | F30: =[1]Orçamento!F27 -> m | G30: =Orçamento!F27 -> 1661.95 | BP30: =Orçamento!H27 -> 0 | BR30: =BP30/G30 -> 0
B31: =[1]Orçamento!B28 -> 2.3.2 | C31: =[1]Orçamento!C28 -> Implantação da Restauração Ecológica - com limpeza mecanizada | F31: =[1]Orçamento!F28 -> ha | G31: =Orçamento!F28 -> 15.42 | BP31: =Orçamento!H28 -> 0 | BR31: =BP31/G31 -> 0
B32: =[1]Orçamento!B29 -> 2.3.3 | C32: =[1]Orçamento!C29 -> Implantação da Restauração Ecológica - com limpeza manual | F32: =[1]Orçamento!F29 -> ha | G32: =Orçamento!F29 -> 2.63 | BP32: =Orçamento!H29 -> 0 | BR32: =BP32/G32 -> 0
B33: =[1]Orçamento!B30 -> 2.3.4 | C33: =[1]Orçamento!C30 -> Monitoramento e consolidação - manutenção de plantio | F33: =[1]Orçamento!F30 -> ha x mês | G33: =Orçamento!F30 -> 198.55 | BP33: =Orçamento!H30 -> 0 | BR33: =BP33/11 -> 0
B35: =[1]Orçamento!B32 -> 2.4 | C35: =[1]Orçamento!C32 -> ETAPA 03 = 15,19 hectares | BP35: =[1]Orçamento!I32 -> 0
B36: =[1]Orçamento!B33 -> 2.4.1 | C36: =[1]Orçamento!C33 -> Isolamento da Área | F36: =[1]Orçamento!F33 -> m | G36: =Orçamento!F33 -> 1396.51 | BP36: =Orçamento!H33 -> 0 | BR36: =BP36/G36 -> 0
B37: =[1]Orçamento!B34 -> 2.4.2 | C37: =[1]Orçamento!C34 -> Implantação da Restauração Ecológica - com limpeza mecanizada | F37: =[1]Orçamento!F34 -> ha | G37: =Orçamento!F34 -> 12.98 | BP37: =Orçamento!H34 -> 0 | BR37: =BP37/G37 -> 0
B38: =[1]Orçamento!B35 -> 2.4.3 | C38: =[1]Orçamento!C35 -> Implantação da Restauração Ecológica - com limpeza manual | F38: =[1]Orçamento!F35 -> ha | G38: =Orçamento!F35 -> 2.21 | BP38: =Orçamento!H35 -> 0 | BR38: =BP38/G38 -> 0
B39: =[1]Orçamento!B36 -> 2.4.4 | C39: =[1]Orçamento!C36 -> Monitoramento e consolidação - manutenção de plantio | F39: =[1]Orçamento!F36 -> ha x mês | G39: =Orçamento!F36 -> 151.9 | BP39: =Orçamento!H36 -> 0 | BR39: =BP39/9 -> 0
B41: =[1]Orçamento!B39 -> 2.5 | C41: =[1]Orçamento!C39 -> Ações de mobilização e engajamento com a comunidade do entorno | F41: =[1]Orçamento!F39 -> un. | G41: =Orçamento!F39 -> 10 | BP41: =Orçamento!H39 -> 0 | BR41: =BP41/G41 -> 0
B43: =[1]Orçamento!B41 -> 2.6 | C43: =[1]Orçamento!C41 -> Relatórios TCRA Nº 117372/2024 | F43: =[1]Orçamento!F41 -> un. | G43: =Orçamento!F41 -> 5 | BP43: =Orçamento!H41 -> 0 | BR43: =BP43/G43 -> 0
B45: =[1]Orçamento!B45 -> 3 | C45: =[1]Orçamento!C45 -> Relatórios destinados à CETESB
B46: =[1]Orçamento!B46 -> 3.1 | C46: =[1]Orçamento!C46 -> Relatórios destinados à CETESB (vinculados ao Programa de Manejo e Conservação de Flora; Subprograma de Monitoramento da Mata de Interflúvio; Subprograma de coleta de banco de solo, sementes e mudas) | F46: =[1]Orçamento!F46 -> un. | G46: =Orçamento!F46 -> 15 | BP46: =Orçamento!H46 -> 0 | BR46: =BP46/G46 -> 0
G49: SEMESTRAL | H49: =BP14+BP18+BP19+BP20+BR21+BR41+BR46 -> 0 | N49: =BR21*2+BP24+BP25+BP26+BR27+BR41+BR43+BR46*2 -> 0 | T49: =BR21*2+BR27*2+BP30+BP31+BP32+BR41+BR46 -> 0 | Z49: =BR21*2+BR27*2+BR33*2+BR43+BR46*2+BR41 -> 0 | AF49: =BR21+BR27*2+BR33*2+BP36+BP37+BP38+BR39+BR41+BR46 -> 0 | AL49: =BR21+BR27+BR33*2+BR39*2+BR41+BR43+BR46*2 -> 0 | AR49: =BR21+BR27+BR33*2+BR39*2+BR41+BR46 -> 0 | AX49: =BR21+BR27+BR33+BR39*2+BR41+BR43+BR46*2 -> 0 | BD49: =BR21+BR27+BR33+BR39+BR41+BR46 -> 0 | BJ49: =BR21+BR27+BR33+BR39+BR41+BR43+BR46*2 -> 0 | BP49: =SUM(BP13:BP47) -> 0
G50: MENSAL | H50: =H49/6 -> 0 | N50: =N49/6 -> 0 | T50: =T49/6 -> 0 | Z50: =Z49/6 -> 0 | AF50: =AF49/6 -> 0 | AL50: =AL49/6 -> 0 | AR50: =AR49/6 -> 0 | AX50: =AX49/6 -> 0 | BD50: =BD49/6 -> 0 | BJ50: =BJ49/6 -> 0
BP51: =SUM(H49:BO49) -> 0
BP52: =BP49-BP51 -> 0
