Workbook

Sheet Resumo
A1: ANEXO I-B – PLANILHA DE CUSTOS E FORMAÇÃO DE PREÇOS – VALORES REFERENCIAIS DO SEBRAE/CE (MEMÓRIA DE CÁLCULO DO VALOR ESTIMADO)
A2: SERVIÇO DE APOIO ÀS MICRO E PEQUENAS EMPRESAS DO ESTADO DO CEARÁ – SEBRAE/CE
A5: PLANILHA RESUMO DE FORMAÇÃO DE CUSTO
A8: LOCAL | B8: POSTOS | C8: LOTE | D8: CATEGORIA | E8: VALOR POSTO | F8: VALOR MENSAL | G8: VALOR PARA 12 MESES
A9: FORTALEZA | B9: 1 | D9: SUPERVISOR DE MANUTENÇÃO PREDIAL | E9: ='Sup. Manut. Predial'!I110 -> 14076.146 | F9: ='Sup. Manut. Predial'!I114 -> 14076.146 | G9: =F9*12 -> 168913.76
A10: FORTALEZA | B10: 2 | D10: AUXILIAR OPERACIONAL DE MANUTENÇÃO PREDIAL | E10: ='Aux. Op. Manut. Predial'!I110 -> 9789.17 | F10: =E10*B10 -> 19578.34 | G10: =F10*12 -> 234940.08
A11: FORTALEZA | B11: 2 | D11: ELETRICISTA | E11: =Eletricista!I110 -> 14081.882 | F11: =E11*B11 -> 28163.764 | G11: =F11*12 -> 337965.17
A13: TOTAL | E13: =SUM(E9:E12) -> 37947.198 | F13: =SUM(F9:F12) -> 61818.251 | G13: =SUM(G9:G12) -> 741819.01
C16: HORAS EXTRAS – SOB DEMANDA (2 h/mês por empregado)
A17: LOCAL | B17: POSTOS | C17: CATEGORIA | D17: REFERÊNCIA | E17: VALOR UNITÁRIO | F17: VALOR MENSAL | G17: VALOR PARA 12 MESES
A18: FORTALEZA | B18: 1 | C18: SUPERVISOR DE MANUTENÇÃO PREDIAL | D18: 2 horas/mês | E18: ='Horas Extras Sup. Manut'!I115 -> 143.23927 | F18: =E18*B18 -> 143.23927 | G18: =F18*12 -> 1718.8712
A19: FORTALEZA | B19: 2 | C19: AUXILIAR OPERACIONAL DE MANUTENÇÃO PREDIAL | D19: 2 horas/mês por empregado | E19: ='Horas Extras Aux. Op. Manut.'!I114 -> 76.499212 | F19: =E19*B19 -> 152.99842 | G19: =F19*12 -> 1835.9811
A20: FORTALEZA | B20: 2 | C20: ELETRICISTA | D20: 2 horas/mês por empregado | E20: ='Horas Extras Eletricista'!I114 -> 130.55236 | F20: =E20*B20 -> 261.10472 | G20: =F20*12 -> 3133.2566
A22: TOTAL | E22: =SUM(E18:E21) -> 350.29084 | F22: =SUM(F18:F21) -> 557.34241 | G22: =SUM(G18:G21) -> 6688.1089
C24: REEMBOLSO DE DESPESAS DE DESLOCAMENTO SEM PERNOITE
A25: LOCAL | B25: QUANT. MENSAL | C25: QUANT. ANUAL | D25: DESCRIÇÃO | E25: VALOR UNITÁRIO | F25: VALOR MENSAL | G25: VALOR PARA 12 MESES
A26: FORTALEZA | B26: 11 | C26: 132 | D26: REEMBOLSO DE DESLOCAMENTO – SOB DEMANDA | E26: ='Reembolso Deslocamento'!I110 -> 673.46939 | F26: =E26*B26 -> 7408.1633 | G26: =F26*12 -> 88897.959
A31: TOTAL | E31: =E26 -> 673.46939 | F31: =F26 -> 7408.1633 | G31: =G26 -> 88897.959
A34: VALOR GLOBAL | E34: =E13+E22+E31 -> 38970.959 | F34: =F13+F22+F31 -> 69783.756 | G34: =G13+G22+G31 -> 837405.07

Sheet Sup. Manut. Predial
A1: ANEXO I-B – PLANILHA DE CUSTOS E FORMAÇÃO DE PREÇOS – VALORES REFERENCIAIS DO SEBRAE/CE (MEMÓRIA DE CÁLCULO DO VALOR ESTIMADO)
A2: SERVIÇO DE APOIO AS MICRO E PEQUENAS EMPRESAS DO ESTADO DO CEARÁ - SEBRAE/CE
A4: CIDADE DE FORTALEZA
A5: PLANILHA DE CUSTOS E FORMAÇÃO DE PREÇOS POR EMPREGADO
A6: Discriminação dos Serviços (dados referentes à contratação)
A7: A | B7: Data de referência da estimativa (dia/mês/ano) | G7: 46112
A8: B | B8: Município/UF | G8: Fortaleza
A9: C | B9: Ano Acordo, Convenção ou Sentença Normativa em Dissídio Coletivo | G9: SEACEC
A10: D | B10: Nº de meses de execução contratual | G10: 12
A11: Identificação do Serviço
A12: Tipo de Serviço | D12: Unidade de Medida | G12: Quantidade total a contratar (em função da unidade de medida)
A13: Contratação de empresa especializada de mão de obra, para o cargo de Supervisor de Manutenção Predial. | D13: POSTO | G13: 1
A14: Mão de obra
A15: Mão-de-obra vinculada à execução contratual
A16: Dados complementares para composição dos custos referente à mão-de-obra
A17: 1 | B17: Tipo de serviço (mesmo serviço com características distintas) | I17: SUP. MANUT. PREDIAL
A18: 2 | B18: Salário Normativo da Categoria Profissional | I18: 4550
A19: 3 | B19: Categoria profissional (vinculada à execução contratual)
A20: 4 | B20: Data base da categoria (dia/mês/ano) | I20: 46023
A21: MÓDULO 1 : COMPOSIÇÃO DA REMUNERAÇÃO
A22: 1 | B22: Composição da Remuneração | I22: Valor (R$)
A23: A | B23: Salário Base | I23: =I18 -> 4550
A24: B | B24: Adicional de periculosidade
A25: C | B25: Adicional de insalubridade
A26: D | B26: Adicional noturno
A27: E | B27: Hora noturna adicional
A28: F | B28: Adicional de Hora Extra
A29: G | B29: Intervalo Intrajornada
A30: Total da Remuneração | I30: =SUM(I23:J29) -> 4550
A31: MÓDULO 2: BENEFÍCIOS MENSAIS E DIÁRIOS
A32: 2 | B32: Benefícios Mensais e Diários | I32: Valor (R$)
A33: A | B33: Transporte (5,40*2*22 dias trabalhados) - 6% de desconto sobre o salário base (Cláusula Décima Sexta)
A34: B | B34: Auxílio-Refeição/Alimentação (R$ 28,80*22 dias) - 1% de desconto (Cláusula Décima Quinta CCT) | I34: =633.6-6.33 -> 627.27 | K34: R$ 633,60*1% = 6,33
A35: C | B35: Plano de Saúde (Cláusula Décima Setima da CCT) | I35: 325
A36: D | B36: Seguro de vida, invalidez e funeral (Cláusula Décima Oitava da CCT) | I36: 42.5
A37: E | B37: Cesta Básica (Cláusula Décima Quarta da CCT) | I37: 310
A38: F | B38: Auxilio Creche (Cláusula Décima Nona da CCT) | I38: 134.91
A39: G | B39: Cesta Natalina (Conforme Edital) | I39: 0 | K39: R$ 110,52*2 = 221,04/12 = 18,42(valor mensal)
A40: Total de Benefícios mensais e diários | I40: =SUM(I33:J39) -> 1439.68
A41: MÓDULO 3: INSUMOS DIVERSOS
...

Sheet Horas Extras Sup. Manut
A1: ANEXO I-B – PLANILHA DE CUSTOS E FORMAÇÃO DE PREÇOS – VALORES REFERENCIAIS DO SEBRAE/CE (MEMÓRIA DE CÁLCULO DO VALOR ESTIMADO)
A2: SERVIÇO DE APOIO AS MICRO E PEQUENAS EMPRESAS DO ESTADO DO CEARÁ - SEBRAE/CE
A4: CIDADE DE FORTALEZA
A5: PLANILHA DE CUSTOS E FORMAÇÃO DE PREÇOS POR EMPREGADO
A6: Discriminação dos Serviços (dados referentes à contratação)
A7: A | B7: Data de referência da estimativa (dia/mês/ano) | G7: 46112
A8: B | B8: Município/UF | G8: Fortaleza
A9: C | B9: Ano Acordo, Convenção ou Sentença Normativa em Dissídio Coletivo | G9: SEACEC
A10: D | B10: Nº de meses de execução contratual | G10: 12
A11: Identificação do Serviço
A12: Tipo de Serviço | D12: Unidade de Medida | G12: Quantidade total a contratar (em função da unidade de medida)
A13: Contratação de empresa especializada de mão de obra, para o cargo de Supervisor de Manutenção Predial. | D13: POSTO | G13: 1
A14: Mão de obra
A15: Mão-de-obra vinculada à execução contratual
A16: Dados complementares para composição dos custos referente à mão-de-obra
A17: 1 | B17: Tipo de serviço (mesmo serviço com características distintas) | I17: SUP. MANUT. PREDIAL
A18: 2 | B18: Salário Normativo da Categoria Profissional | I18: 4550
A19: 3 | B19: Categoria profissional (vinculada à execução contratual)
A20: 4 | B20: Data base da categoria (dia/mês/ano) | I20: 46023
A21: MÓDULO 1 : COMPOSIÇÃO DA REMUNERAÇÃO
A22: 1 | B22: Composição da Remuneração | I22: Valor (R$)
A23: A | B23: Salário Base | I23: 0
A24: B | B24: Adicional de periculosidade
A25: C | B25: Adicional de insalubridade
A26: D | B26: Adicional noturno
A27: E | B27: Hora noturna adicional
A28: F | B28: Adicional de Hora Extra (50%) | I28: =SUM((I18/220)*1.5*1) -> 31.022727
A29: G | B29: Intervalo Intrajornada
A30: Total da Remuneração | I30: =SUM(I23:J29) -> 31.022727
A31: MÓDULO 2: BENEFÍCIOS MENSAIS E DIÁRIOS
A32: 2 | B32: Benefícios Mensais e Diários | I32: Valor (R$)
A33: A | B33: Transporte (5,40*2*22 dias trabalhados) - 6% de desconto sobre o salário base (Cláusula Décima Sexta)
A34: B | B34: Auxílio-Refeição/Alimentação (R$ 28,80*22 dias) - 1% de desconto (Cláusula Décima Quinta CCT) | I34: 0
A35: C | B35: Plano de Saúde (Cláusula Décima Setima da CCT) | I35: 0
A36: D | B36: Seguro de vida, invalidez e funeral (Cláusula Décima Oitava da CCT) | I36: 0
A37: E | B37: Cesta Básica (Cláusula Décima Quarta da CCT) | I37: 0
A38: F | B38: Auxilio Creche (Cláusula Décima Nona da CCT) | I38: 0
A39: G | B39: Cesta Natalina (Conforme Edital) | I39: 0
A40: Total de Benefícios mensais e diários | I40: =SUM(I33:J39) -> 0
A41: MÓDULO 3: INSUMOS DIVERSOS
...

Sheet Aux. Op. Manut. Predial
A1: ANEXO I-B – PLANILHA DE CUSTOS E FORMAÇÃO DE PREÇOS – VALORES REFERENCIAIS DO SEBRAE/CE (MEMÓRIA DE CÁLCULO DO VALOR ESTIMADO)
A2: SERVIÇO DE APOIO AS MICRO E PEQUENAS EMPRESAS DO ESTADO DO CEARÁ - SEBRAE/CE
A4: CIDADE DE FORTALEZA
A5: PLANILHA DE CUSTOS E FORMAÇÃO DE PREÇOS POR EMPREGADO
A6: Discriminação dos Serviços (dados referentes à contratação)
A7: A | B7: Data de referência da estimativa (dia/mês/ano) | G7: ='Sup. Manut. Predial'!G7 -> 46112
A8: B | B8: Município/UF | G8: Fortaleza
A9: C | B9: Ano Acordo, Convenção ou Sentença Normativa em Dissídio Coletivo | G9: SEACEC
A10: D | B10: Nº de meses de execução contratual | G10: 12
A11: Identificação do Serviço
A12: Tipo de Serviço | D12: Unidade de Medida | G12: Quantidade total a contratar (em função da unidade de medida)
A13: Contratação de empresa especializada de mão de obra, para o cargo de Auxiliar Operacional de Manutenção Predial | D13: POSTO | G13: 2
A14: Mão de obra
A15: Mão-de-obra vinculada à execução contratual
A16: Dados complementares para composição dos custos referente à mão-de-obra
A17: 1 | B17: Tipo de serviço (mesmo serviço com características distintas) | I17: AUX. OP. MANUT. PREDIAL
A18: 2 | B18: Salário Normativo da Categoria Profissional | I18: 2430
A19: 3 | B19: Categoria profissional (vinculada à execução contratual)
A20: 4 | B20: Data base da categoria (dia/mês/ano) | I20: ='Sup. Manut. Predial'!I20 -> 46023
A21: MÓDULO 1 : COMPOSIÇÃO DA REMUNERAÇÃO
A22: 1 | B22: Composição da Remuneração | I22: Valor (R$)
A23: A | B23: Salário Base | I23: =I18 -> 2430
A24: B | B24: Adicional de periculosidade
A25: C | B25: Adicional de insalubridade
A26: D | B26: Adicional noturno
A27: E | B27: Hora noturna adicional
A28: F | B28: Adicional de Hora Extra
A29: G | B29: Intervalo Intrajornada
A30: Total da Remuneração | I30: =SUM(I23:J29) -> 2430
A31: MÓDULO 2: BENEFÍCIOS MENSAIS E DIÁRIOS
A32: 2 | B32: Benefícios Mensais e Diários | I32: Valor (R$)
A33: A | B33: Transporte (5,40*2*22 dias trabalhados) - 6% de desconto sobre o salário base (Cláusula Décima Sexta) | I33: =SUM((5.4*2*22)-K33) -> 91.8 | K33: =I30*6% -> 145.8
A34: B | B34: Auxílio-Refeição/Alimentação (R$ 28,80*22 dias) - 1% de desconto (Cláusula Décima Quinta CCT) | I34: ='Sup. Manut. Predial'!I34 -> 627.27 | K34: ='Sup. Manut. Predial'!K34 -> R$ 633,60*1% = 6,33
A35: C | B35: Plano de Saúde (Cláusula Décima Setima da CCT) | I35: ='Sup. Manut. Predial'!I35 -> 325
A36: D | B36: Seguro de vida, invalidez e funeral (Cláusula Décima Oitava da CCT) | I36: 42.5
A37: E | B37: Cesta Básica (Cláusula Décima Quarta da CCT) | I37: ='Sup. Manut. Predial'!I37 -> 310
A38: F | B38: Auxilio Creche (Cláusula Décima Nona da CCT) | I38: ='Sup. Manut. Predial'!I38 -> 134.91 | K38: ='Sup. Manut. Predial'!K38 -> 0
A39: G | B39: Cesta Natalina (Conforme Edital) | I39: ='Sup. Manut. Predial'!I39 -> 0 | K39: ='Sup. Manut. Predial'!K39 -> R$ 110,52*2 = 221,04/12 = 18,42(valor mensal)
A40: Total de Benefícios mensais e diários | I40: =SUM(I33:J39) -> 1531.48
A41: MÓDULO 3: INSUMOS DIVERSOS
...

Sheet Horas Extras Aux. Op. Manut.
A1: ANEXO I-B – PLANILHA DE CUSTOS E FORMAÇÃO DE PREÇOS – VALORES REFERENCIAIS DO SEBRAE/CE (MEMÓRIA DE CÁLCULO DO VALOR ESTIMADO)
A2: SERVIÇO DE APOIO AS MICRO E PEQUENAS EMPRESAS DO ESTADO DO CEARÁ - SEBRAE/CE
A4: CIDADE DE FORTALEZA
A5: PLANILHA DE CUSTOS E FORMAÇÃO DE PREÇOS POR EMPREGADO
A6: Discriminação dos Serviços (dados referentes à contratação)
A7: A | B7: Data de referência da estimativa (dia/mês/ano) | G7: 46112
A8: B | B8: Município/UF | G8: Fortaleza
A9: C | B9: Ano Acordo, Convenção ou Sentença Normativa em Dissídio Coletivo | G9: SEACEC
A10: D | B10: Nº de meses de execução contratual | G10: 12
A11: Identificação do Serviço
A12: Tipo de Serviço | D12: Unidade de Medida | G12: Quantidade total a contratar (em função da unidade de medida)
A13: Contratação de empresa especializada de mão de obra, para o cargo de Auxiliar Operacional de Manutenção Predial | D13: POSTO | G13: 2
A14: Mão de obra
A15: Mão-de-obra vinculada à execução contratual
A16: Dados complementares para composição dos custos referente à mão-de-obra
A17: 1 | B17: Tipo de serviço (mesmo serviço com características distintas) | I17: AUX. OP. MANUT. PREDIAL
A18: 2 | B18: Salário Normativo da Categoria Profissional | I18: 2430
A19: 3 | B19: Categoria profissional (vinculada à execução contratual)
A20: 4 | B20: Data base da categoria (dia/mês/ano) | I20: ='Sup. Manut. Predial'!I20 -> 46023
A21: MÓDULO 1 : COMPOSIÇÃO DA REMUNERAÇÃO
A22: 1 | B22: Composição da Remuneração | I22: Valor (R$)
A23: A | B23: Salário Base | I23: 0
A24: B | B24: Adicional de periculosidade
A25: C | B25: Adicional de insalubridade
A26: D | B26: Adicional noturno
A27: E | B27: Hora noturna adicional
A28: F | B28: Adicional de Hora Extra (50%) | I28: =SUM((I18/220)*1.5*1) -> 16.568182
A29: G | B29: Intervalo Intrajornada
A30: Total da Remuneração | I30: =SUM(I23:J29) -> 16.568182
A31: MÓDULO 2: BENEFÍCIOS MENSAIS E DIÁRIOS
A32: 2 | B32: Benefícios Mensais e Diários | I32: Valor (R$)
A33: A | B33: Transporte (5,40*2*22 dias trabalhados) - 6% de desconto sobre o salário base (Cláusula Décima Sexta)
A34: B | B34: Auxílio-Refeição/Alimentação (R$ 28,80*22 dias) - 1% de desconto (Cláusula Décima Quinta CCT) | I34: 0
A35: C | B35: Plano de Saúde (Cláusula Décima Setima da CCT) | I35: 0
A36: D | B36: Seguro de vida, invalidez e funeral (Cláusula Décima Oitava da CCT) | I36: 0
A37: E | B37: Cesta Básica (Cláusula Décima Quarta da CCT) | I37: 0
A38: F | B38: Auxilio Creche (Cláusula Décima Nona da CCT) | I38: 0
A39: G | B39: Cesta Natalina (Conforme Edital) | I39: 0
A40: Total de Benefícios mensais e diários | I40: =SUM(I33:J39) -> 0
A41: MÓDULO 3: INSUMOS DIVERSOS
...

Sheet Eletricista
A1: ANEXO I-B – PLANILHA DE CUSTOS E FORMAÇÃO DE PREÇOS – VALORES REFERENCIAIS DO SEBRAE/CE (MEMÓRIA DE CÁLCULO DO VALOR ESTIMADO)
A2: SERVIÇO DE APOIO AS MICRO E PEQUENAS EMPRESAS DO ESTADO DO CEARÁ - SEBRAE/CE
A4: CIDADE DE FORTALEZA
A5: PLANILHA DE CUSTOS E FORMAÇÃO DE PREÇOS POR EMPREGADO
A6: Discriminação dos Serviços (dados referentes à contratação)
A7: A | B7: Data de referência da estimativa (dia/mês/ano) | G7: ='Sup. Manut. Predial'!G7 -> 46112
A8: B | B8: Município/UF | G8: Fortaleza
A9: C | B9: Ano Acordo, Convenção ou Sentença Normativa em Dissídio Coletivo | G9: SEACEC
A10: D | B10: Nº de meses de execução contratual | G10: 12
A11: Identificação do Serviço
A12: Tipo de Serviço | D12: Unidade de Medida | G12: Quantidade total a contratar (em função da unidade de medida)
A13: Contratação de empresa especializada de mão de obra, para o cargo de Eletricista | D13: POSTO | G13: 2
A14: Mão de obra
A15: Mão-de-obra vinculada à execução contratual
A16: Dados complementares para composição dos custos referente à mão-de-obra
A17: 1 | B17: Tipo de serviço (mesmo serviço com características distintas) | I17: ELETRICISTA
A18: 2 | B18: Salário Normativo da Categoria Profissional | I18: 3190
A19: 3 | B19: Categoria profissional (vinculada à execução contratual)
A20: 4 | B20: Data base da categoria (dia/mês/ano) | I20: ='Sup. Manut. Predial'!I20 -> 46023
A21: MÓDULO 1 : COMPOSIÇÃO DA REMUNERAÇÃO
A22: 1 | B22: Composição da Remuneração | I22: Valor (R$)
A23: A | B23: Salário Base | I23: =I18 -> 3190
A24: B | B24: Adicional de periculosidade | I24: =I23*30% -> 957
A25: C | B25: Adicional de insalubridade
A26: D | B26: Adicional noturno
A27: E | B27: Hora noturna adicional
A28: F | B28: Adicional de Hora Extra
A29: G | B29: Intervalo Intrajornada
A30: Total da Remuneração | I30: =SUM(I23:J29) -> 4147
A31: MÓDULO 2: BENEFÍCIOS MENSAIS E DIÁRIOS
A32: 2 | B32: Benefícios Mensais e Diários | I32: Valor (R$)
A33: A | B33: Transporte (5,40*2*22 dias trabalhados) - 6% de desconto sobre o salário base (Cláusula Décima Sexta) | I33: =SUM((5.4*2*22)-K33) -> 46.2 | K33: =I23*6% -> 191.4
A34: B | B34: Auxílio-Refeição/Alimentação (R$ 28,80*22 dias) - 1% de desconto (Cláusula Décima Quinta CCT) | I34: ='Sup. Manut. Predial'!I34 -> 627.27 | K34: ='Sup. Manut. Predial'!K34 -> R$ 633,60*1% = 6,33
A35: C | B35: Plano de Saúde (Cláusula Décima Setima da CCT) | I35: ='Sup. Manut. Predial'!I35 -> 325
A36: D | B36: Seguro de vida, invalidez e funeral (Cláusula Décima Oitava da CCT) | I36: 42.5
A37: E | B37: Cesta Básica (Cláusula Décima Quarta da CCT) | I37: ='Sup. Manut. Predial'!I37 -> 310
A38: F | B38: Auxilio Creche (Cláusula Décima Nona da CCT) | I38: ='Sup. Manut. Predial'!I38 -> 134.91 | K38: ='Sup. Manut. Predial'!K38 -> 0
A39: G | B39: Cesta Natalina (Conforme Edital) | I39: ='Sup. Manut. Predial'!I39 -> 0 | K39: ='Sup. Manut. Predial'!K39 -> R$ 110,52*2 = 221,04/12 = 18,42(valor mensal)
A40: Total de Benefícios mensais e diários | I40: =SUM(I33:J39) -> 1485.88
A41: MÓDULO 3: INSUMOS DIVERSOS
...

Sheet Horas Extras Eletricista
A1: ANEXO I-B – PLANILHA DE CUSTOS E FORMAÇÃO DE PREÇOS – VALORES REFERENCIAIS DO SEBRAE/CE (MEMÓRIA DE CÁLCULO DO VALOR ESTIMADO)
A2: SERVIÇO DE APOIO AS MICRO E PEQUENAS EMPRESAS DO ESTADO DO CEARÁ - SEBRAE/CE
A4: CIDADE DE FORTALEZA
A5: PLANILHA DE CUSTOS E FORMAÇÃO DE PREÇOS POR EMPREGADO
A6: Discriminação dos Serviços (dados referentes à contratação)
A7: A | B7: Data de referência da estimativa (dia/mês/ano) | G7: 46112
A8: B | B8: Município/UF | G8: Fortaleza
A9: C | B9: Ano Acordo, Convenção ou Sentença Normativa em Dissídio Coletivo | G9: SEACEC
A10: D | B10: Nº de meses de execução contratual | G10: 12
A11: Identificação do Serviço
A12: Tipo de Serviço | D12: Unidade de Medida | G12: Quantidade total a contratar (em função da unidade de medida)
A13: Contratação de empresa especializada de mão de obra, para o cargo de Eletricista | D13: POSTO | G13: 2
A14: Mão de obra
A15: Mão-de-obra vinculada à execução contratual
A16: Dados complementares para composição dos custos referente à mão-de-obra
A17: 1 | B17: Tipo de serviço (mesmo serviço com características distintas) | I17: ELETRICISTA
A18: 2 | B18: Salário Normativo da Categoria Profissional (R$ 3.190,00) + Adicional Periculosidade 30% (R$ 957,00) | I18: =3190+957 -> 4147
A19: 3 | B19: Categoria profissional (vinculada à execução contratual)
A20: 4 | B20: Data base da categoria (dia/mês/ano) | I20: ='Sup. Manut. Predial'!I20 -> 46023
A21: MÓDULO 1 : COMPOSIÇÃO DA REMUNERAÇÃO
A22: 1 | B22: Composição da Remuneração | I22: Valor (R$)
A23: A | B23: Salário Base
A24: B | B24: Adicional de periculosidade
A25: C | B25: Adicional de insalubridade
A26: D | B26: Adicional noturno
A27: E | B27: Hora noturna adicional
A28: F | B28: Adicional de Hora Extra (50%) | I28: =SUM((I18/220)*1.5*1) -> 28.275
A29: G | B29: Intervalo Intrajornada
A30: Total da Remuneração | I30: =SUM(I23:J29) -> 28.275
A31: MÓDULO 2: BENEFÍCIOS MENSAIS E DIÁRIOS
A32: 2 | B32: Benefícios Mensais e Diários | I32: Valor (R$)
A33: A | B33: Transporte (5,40*2*22 dias trabalhados) - 6% de desconto sobre o salário base (Cláusula Décima Sexta)
A34: B | B34: Auxílio-Refeição/Alimentação (R$ 28,80*22 dias) - 1% de desconto (Cláusula Décima Quinta CCT) | I34: 0
A35: C | B35: Plano de Saúde (Cláusula Décima Setima da CCT) | I35: 0
A36: D | B36: Seguro de vida, invalidez e funeral (Cláusula Décima Oitava da CCT) | I36: 0
A37: E | B37: Cesta Básica (Cláusula Décima Quarta da CCT) | I37: 0
A38: F | B38: Auxilio Creche (Cláusula Décima Nona da CCT) | I38: 0
A39: G | B39: Cesta Natalina (Conforme Edital) | I39: 0
A40: Total de Benefícios mensais e diários | I40: =SUM(I33:J39) -> 0
A41: MÓDULO 3: INSUMOS DIVERSOS
...

Sheet Reembolso Deslocamento
A1: ANEXO I-B – PLANILHA DE CUSTOS E FORMAÇÃO DE PREÇOS – VALORES REFERENCIAIS DO SEBRAE/CE (MEMÓRIA DE CÁLCULO DO VALOR ESTIMADO)
A2: SERVIÇO DE APOIO AS MICRO E PEQUENAS EMPRESAS DO ESTADO DO CEARÁ - SEBRAE/CE
A4: CIDADE DE FORTALEZA
A5: PLANILHA DE CUSTOS E FORMAÇÃO DE PREÇOS POR EMPREGADO
A6: Discriminação dos Serviços (dados referentes à contratação)
A7: A | B7: Data de referência da estimativa (dia/mês/ano) | G7: ='Sup. Manut. Predial'!G7 -> 46112
A8: B | B8: Município/UF | G8: Fortaleza
A9: C | B9: Ano Acordo, Convenção ou Sentença Normativa em Dissídio Coletivo | G9: SEACEC
A10: D | B10: Nº de meses de execução contratual | G10: 12
A11: Identificação do Serviço
A12: Tipo de Serviço | D12: Unidade de Medida | G12: Quantidade mensal estimada de deslocamentos
A13: Reembolso de despesas de deslocamento sem pernoite aos Escritórios Regionais (Supervisor, Auxiliares e Eletricistas) – item 4.4.3 do TR | D13: DESLOCAMENTO | G13: 11
A14: Mão de obra
A15: Mão-de-obra vinculada à execução contratual
A16: Dados complementares para composição dos custos referente à mão-de-obra
A17: 1 | B17: Tipo de serviço (mesmo serviço com características distintas) | I17: Reembolso de deslocamento
A18: 2 | B18: Valor líquido máximo por deslocamento (transporte e alimentação) – item 4.4.3.4 do TR | I18: 500
A19: 3
A20: 4
A21: MÓDULO 1 : COMPOSIÇÃO DA REMUNERAÇÃO
A22: 1 | B22: Composição da Remuneração | I22: Valor (R$)
A23: A | B23: Valor líquido máximo por deslocamento | I23: =I18 -> 500
A24: B
A25: C
A26: D
A27: E
A28: F
A29: G
A30: Total da Remuneração | I30: =SUM(I23:J29) -> 500
A31: MÓDULO 2: BENEFÍCIOS MENSAIS E DIÁRIOS
A32: 2 | B32: Benefícios Mensais e Diários | I32: Valor (R$)
A33: A | B33: Transporte (5,40*2*22 dias trabalhados) - 6% de desconto sobre o salário base (Cláusula Décima Sexta) | I33: 0
A34: B | B34: Auxílio-Refeição/Alimentação (R$ 28,80*22 dias) - 1% de desconto (Cláusula Décima Quinta CCT) | I34: 0
A35: C | B35: Plano de Saúde (Cláusula Décima Setima da CCT) | I35: 0
A36: D | B36: Seguro de vida, invalidez e funeral (Cláusula Décima Oitava da CCT) | I36: 0
A37: E | B37: Cesta Básica (Cláusula Décima Quarta da CCT) | I37: 0
A38: F | B38: Auxilio Creche (Cláusula Décima Nona da CCT) | I38: 0
A39: G | B39: Cesta Natalina (Conforme Edital) | I39: ='Sup. Manut. Predial'!I39 -> 0 | K39: ='Sup. Manut. Predial'!K39 -> R$ 110,52*2 = 221,04/12 = 18,42(valor mensal)
A40: Total de Benefícios mensais e diários | I40: =SUM(I33:J39) -> 0
A41: MÓDULO 3: INSUMOS DIVERSOS
...
