Workbook
Name Excel_BuiltIn_Print_Area_13_1: #REF!
Name Excel_BuiltIn_Print_Area_13_1: #REF!
Name Excel_BuiltIn_Print_Area_13_1: #REF!
Name Excel_BuiltIn_Print_Area_13_1: #REF!
Name Excel_BuiltIn_Print_Area_13_1: #REF!
Name Excel_BuiltIn_Print_Area_15: #REF!
Name Excel_BuiltIn_Print_Area_15: #REF!
Name Excel_BuiltIn_Print_Area_15: #REF!
Name Excel_BuiltIn_Print_Area_15: #REF!
Name Excel_BuiltIn_Print_Area_15: #REF!
Name Excel_BuiltIn_Print_Area_2_1: #REF!
Name Excel_BuiltIn_Print_Area_2_1: #REF!
Name Excel_BuiltIn_Print_Area_2_1: #REF!
Name Excel_BuiltIn_Print_Area_2_1: #REF!
Name Excel_BuiltIn_Print_Area_2_1_1: #REF!
Name Excel_BuiltIn_Print_Area_2_1_1: #REF!
Name Excel_BuiltIn_Print_Area_2_1_1: #REF!
Name Excel_BuiltIn_Print_Area_2_1_1: #REF!
Name Excel_BuiltIn_Print_Area_4_1: #REF!
Name Excel_BuiltIn_Print_Area_4_1: #REF!
Name Excel_BuiltIn_Print_Area_4_1: #REF!
Name Excel_BuiltIn_Print_Area_4_1: #REF!
Name Excel_BuiltIn_Print_Area_6_1: #REF!
Name Excel_BuiltIn_Print_Area_6_1: #REF!
Name Excel_BuiltIn_Print_Area_6_1: #REF!
Name Excel_BuiltIn_Print_Area_6_1: #REF!
Name Excel_BuiltIn_Print_Area_6_1: #REF!
Name Excel_BuiltIn_Print_Area_6_1_1: #REF!
Name Excel_BuiltIn_Print_Area_6_1_1: #REF!
Name Excel_BuiltIn_Print_Area_6_1_1: #REF!
Name Excel_BuiltIn_Print_Area_6_1_1: #REF!
Name Excel_BuiltIn_Print_Area_6_1_1: #REF!
Name Excel_BuiltIn_Print_Area_7_1: #REF!
Name Excel_BuiltIn_Print_Area_7_1: #REF!
Name Excel_BuiltIn_Print_Area_7_1: #REF!
Name Excel_BuiltIn_Print_Area_7_1: #REF!
Name Excel_BuiltIn_Print_Area_8: #REF!
Name Excel_BuiltIn_Print_Area_8: #REF!
Name Excel_BuiltIn_Print_Area_8: #REF!
Name Excel_BuiltIn_Print_Area_8: #REF!
Name Excel_BuiltIn_Print_Titles_13: #REF!
Name Excel_BuiltIn_Print_Titles_13: #REF!
Name Excel_BuiltIn_Print_Titles_13: #REF!
Name Excel_BuiltIn_Print_Titles_13: #REF!

Sheet ORÇAMENTO QUANT
B3: SUPERVISÃO DAS OBRAS DA BARRAGEM BERÉ, NO MUNICÍPIO JARDIM - CE
B4: 1. | C4: MÃO DE OBRA
B5: DESCRIÇÃO | H5: Código | I5: Unidade
B6: (A) | C6: Pessoal
B7: A1 | C7: PROFISSIONAIS NÍVEL SUPERIOR
B8: Engenheiro Senior (Coordenador ) | H8: P8067 | I8: mês
B9: Engenheiro Pleno (Residente) | H9: P8066 | I9: mês
B10: Engenheiro Júnior | H10: P8065 | I10: mês
B11: Especialista em Meio Ambiente - Pleno | H11: P8058 | I11: mês
B12: Arqueólogo / Paleontólogo - Pleno | H12: P8196 | I12: mês
B13: Engenheiro Florestal - Pleno | H13: P8069 | I13: mês
B14: Geólogo - Pleno | H14: P8081 | I14: mês
B15: Consultor Especial - Sênior | H15: P8060 | I15: mês
B16: A2 | C16: PROFISSIONAIS NÍVEL MÉDIO
B17: Inspetor de Campo (Técnico de Obra) | H17: P8147 | I17: mês
B18: Técnico de Meio Ambiente (Programa de Educação Ambiental) | H18: P8143 | I18: mês
B19: Técnico Auxiliar de Arqueologia/Paleontologia | H19: P8143 | I19: mês
B20: Técnico de Segurança do Trabalho | H20: P8151 | I20: mês
B21: Projetista Cadista (Técnico em Geoprocessamento) | H21: P8155 | I21: mês
B22: Topógrafo | H22: P8163 | I22: mês
B23: Auxiliar de Topógrafo | H23: P8028 | I23: mês
B24: Laboratorista | H24: P8098 | I24: mês
B25: A3 | C25: PROFISSIONAIS ADMINISTRATIVOS
B26: Chefe de Escritório | H26: P8038 | I26: mês
B27: Motorista de Veículo Leve | H27: P8113 | I27: mês
B28: Auxiliar Serviços Gerais | H28: P8025 | I28: mês
B29: B | C29: DESPESAS DE CUSTOS INDIRETOS
B30: DESCRIÇÃO | H30: Código | I30: Unidade
B32: B.1 | C32: VEÍCULOS
B33: Veículo leve - tipo hatch | H33: E8889 | I33: mês
B34: Veículo leve - tipo pick up 4x4 | H34: E8891 | I34: mês
B35: DESCRIÇÃO | H35: Código | I35: Unidade
B37: B.2 | C37: IMÓVEIS
B38: Residencial | H38: B8952 | I38: mês
B39: DESCRIÇÃO | H39: Código | I39: Unidade
B41: B.3 | C41: MOBILIÁRIO, DIVERSOS E INSTALAÇÕES
B42: Mobiliário Escritório | H42: B8953 | I42: mês
B43: Mobiliário Residencial | H43: B8954 | I43: mês
B44: Diversos Escritório | H44: B8959 | I44: mês
B45: Diversos Residencial | H45: B8960 | I45: mês
...

Sheet ORÇAMENTO
B4: PLANILHA DE CUSTOS
B5: SUPERVISÃO DAS OBRAS DA BARRAGEM BERÉ, NO MUNICÍPIO JARDIM - CE | N5: DATA BASE: OUTUBRO/2025 DNIT - CONSULT.
B6: 1. | C6: MÃO DE OBRA
B7: DESCRIÇÃO | H7: Código | I7: Unidade | J7: Qtd | K7: Prazo (meses) | L7: Qtd Total (meses) | M7: Preço Unitário (R$/mês) | N7: Preço Total (R$)
B8: (A) | C8: Pessoal | J8: a | K8: b | L8: c=a*b | M8: d | N8: e=c*d
B9: A1 | C9: PROFISSIONAIS NÍVEL SUPERIOR
B10: Engenheiro Senior (Coordenador ) | H10: P8067 | I10: mês | J10: 1 | K10: 8 | L10: =J10*K10 -> 8 | M10: =VLOOKUP(H10,'M DE OBRA'!B1:Z101,25,0) -> 31479.07 | N10: =ROUND(L10*M10,2) -> 251832.56
B11: Engenheiro Pleno (Residente) | H11: P8066 | I11: mês | J11: 1 | K11: 18 | L11: =J11*K11 -> 18 | M11: =VLOOKUP(H11,'M DE OBRA'!B2:Z102,25,0) -> 27311.8 | N11: =ROUND(L11*M11,2) -> 491612.4
B12: Engenheiro Júnior | H12: P8065 | I12: mês | J12: 1 | K12: 18 | L12: =J12*K12 -> 18 | M12: =VLOOKUP(H12,'M DE OBRA'!B2:Z102,25,0) -> 23144.52 | N12: =ROUND(L12*M12,2) -> 416601.36
B13: Especialista em Meio Ambiente - Pleno | H13: P8058 | I13: mês | J13: 1 | K13: 8 | L13: =J13*K13 -> 8 | M13: =VLOOKUP(H13,'M DE OBRA'!B3:Z103,25,0) -> 27630.64 | N13: =ROUND(L13*M13,2) -> 221045.12
B14: Arqueólogo / Paleontólogo - Pleno | H14: P8196 | I14: mês | J14: 1 | K14: 6 | L14: =J14*K14 -> 6 | M14: =VLOOKUP(H14,'M DE OBRA'!B4:Z104,25,0) -> 9631.56 | N14: =ROUND(L14*M14,2) -> 57789.36
B15: Engenheiro Florestal - Pleno | H15: P8069 | I15: mês | J15: 1 | K15: 6 | L15: =J15*K15 -> 6 | M15: =VLOOKUP(H15,'M DE OBRA'!B5:Z105,25,0) -> 26758.46 | N15: =ROUND(L15*M15,2) -> 160550.76
B16: Geólogo - Pleno | H16: P8081 | I16: mês | J16: 1 | K16: 6 | L16: =J16*K16 -> 6 | M16: =VLOOKUP(H16,'M DE OBRA'!B6:Z106,25,0) -> 26740.63 | N16: =ROUND(L16*M16,2) -> 160443.78
B17: Consultor Especial - Sênior | H17: P8060 | I17: mês | J17: 1 | K17: 8 | L17: =J17*K17 -> 8 | M17: =VLOOKUP(H17,'M DE OBRA'!B6:Z106,25,0) -> 42928.71 | N17: =ROUND(L17*M17,2) -> 343429.68
B18: Subtotal | N18: =SUM(N10:N17) -> 2103305
B19: A2 | C19: PROFISSIONAIS NÍVEL MÉDIO
B20: Inspetor de Campo (Técnico de Obra) | H20: P8147 | I20: mês | J20: 1 | K20: 18 | L20: =J20*K20 -> 18 | M20: =VLOOKUP(H20,'M DE OBRA'!B7:Z107,25,0) -> 7126.18 | N20: =ROUND(L20*M20,2) -> 128271.24
B21: Técnico de Meio Ambiente (Programa de Educação Ambiental) | H21: P8143 | I21: mês | J21: 1 | K21: 8 | L21: =J21*K21 -> 8 | M21: =VLOOKUP(H21,'M DE OBRA'!B8:Z108,25,0) -> 6617 | N21: =ROUND(L21*M21,2) -> 52936
B22: Técnico Auxiliar de Arqueologia/Paleontologia | H22: P8143 | I22: mês | J22: 1 | K22: 6 | L22: =J22*K22 -> 6 | M22: =VLOOKUP(H22,'M DE OBRA'!B9:Z109,25,0) -> 6617 | N22: =ROUND(L22*M22,2) -> 39702
B23: Técnico de Segurança do Trabalho | H23: P8151 | I23: mês | J23: 1 | K23: 8 | L23: =J23*K23 -> 8 | M23: =VLOOKUP(H23,'M DE OBRA'!B10:Z110,25,0) -> 9309.38 | N23: =ROUND(L23*M23,2) -> 74475.04
B24: Projetista Cadista (Técnico em Geoprocessamento) | H24: P8155 | I24: mês | J24: 1 | K24: 18 | L24: =J24*K24 -> 18 | M24: =VLOOKUP(H24,'M DE OBRA'!B9:Z109,25,0) -> 6445.47 | N24: =ROUND(L24*M24,2) -> 116018.46
B25: Topógrafo | H25: P8163 | I25: mês | J25: 1 | K25: 18 | L25: =J25*K25 -> 18 | M25: =VLOOKUP(H25,'M DE OBRA'!B10:Z110,25,0) -> 5940.72 | N25: =ROUND(L25*M25,2) -> 106932.96
B26: Auxiliar de Topógrafo | H26: P8028 | I26: mês | J26: 1 | K26: 18 | L26: =J26*K26 -> 18 | M26: =VLOOKUP(H26,'M DE OBRA'!B11:Z111,25,0) -> 4352.89 | N26: =ROUND(L26*M26,2) -> 78352.02
B27: Laboratorista | H27: P8098 | I27: mês | J27: 1 | K27: 18 | L27: =J27*K27 -> 18 | M27: =VLOOKUP(H27,'M DE OBRA'!B12:Z112,25,0) -> 5764.85 | N27: =ROUND(L27*M27,2) -> 103767.3
B28: Subtotal | N28: =SUM(N20:N27) -> 700455.02
B29: A3 | C29: PROFISSIONAIS ADMINISTRATIVOS
B30: Chefe de Escritório | H30: P8038 | I30: mês | J30: 1 | K30: 18 | L30: =J30*K30 -> 18 | M30: =VLOOKUP(H30,'M DE OBRA'!B15:Z115,25,0) -> 7914.28 | N30: =ROUND(L30*M30,2) -> 142457.04
B31: Motorista de Veículo Leve | H31: P8113 | I31: mês | J31: 2 | K31: 18 | L31: =J31*K31 -> 36 | M31: =VLOOKUP(H31,'M DE OBRA'!B16:Z116,25,0) -> 5216.53 | N31: =ROUND(L31*M31,2) -> 187795.08
B32: Auxiliar Serviços Gerais | H32: P8025 | I32: mês | J32: 1 | K32: 18 | L32: =J32*K32 -> 18 | M32: =VLOOKUP(H32,'M DE OBRA'!B17:Z117,25,0) -> 4365.52 | N32: =ROUND(L32*M32,2) -> 78579.36
B33: Subtotal | N33: =SUM(N30:N32) -> 408831.48
B34: TOTAL (A) | N34: =N33+N28+N18 -> 3212591.5
B35: B | C35: DESPESAS DE CUSTOS INDIRETOS
B36: DESCRIÇÃO | D36: Código | E36: Unidade | F36: Qtd | G36: Prazo (meses) | H36: Qtd Mensal (h) | J36: Custo Horário (R$) | L36: Qtd Total (meses) | M36: Preço Unitário (R$/mês) | N36: Preço Total (R$)
H37: Operativo | I37: Improdutivo | J37: Operativo | K37: Improdutivo
F38: a | G38: b | H38: c | I38: d | J38: e | K38: f | L38: g=a*b | M38: h=((c*e)+(d*f) | N38: i=(g*h)
B39: B.1 | C39: VEÍCULOS
B40: Veículo leve - tipo hatch | D40: E8889 | E40: mês | F40: 4 | G40: 18 | H40: 66 | I40: 116.49 | J40: 35.76 | K40: 6.55 | L40: =F40*G40 -> 72 | M40: =((H40*J40)+(I40*K40)) -> 3123.1695 | N40: =ROUND(L40*M40,2) -> 224868.2
B41: Veículo leve - tipo pick up 4x4 | D41: E8891 | E41: mês | F41: 1 | G41: 18 | H41: 66 | I41: 116.49 | J41: 79.47 | K41: 23.99 | L41: =F41*G41 -> 18 | M41: =((H41*J41)+(I41*K41)) -> 8039.6151 | N41: =ROUND(L41*M41,2) -> 144713.07
B42: Subtotal | N42: =SUM(N40:N41) -> 369581.27
B43: DESCRIÇÃO | G43: Código | H43: Unidade | I43: Quantidade (pessoas) | J43: Área Calculada (m²) | K43: Preço Unitário (R$/m² x mês) | L43: Qtd Total (meses) | M43: Preço Unitário (R$/mês) | N43: Preço Total (R$)
...

Sheet PRODUTOS PREÇOS QUANT
A4: SUPERVISÃO DAS OBRAS DA BARRAGEM BERÉ, NO MUNICÍPIO JARDIM - CE
A7: PRODUTOS / RELATÓRIOS
A8: SEGMENTOS DOS SERVIÇOS | C8: QUANTIDADE | D8: FREQUÊNCIA | E8: UNIDADE | F8: PERCENTUAL (%) | G8: VALORES (R$) | H8: BDI (%) | I8: VALOR TOTAL (R$)
A9: 1 | B9: RELATÓRIO DE SITUAÇÃO E PLANO DE TRABALHO | C9: 2 | D9: INÍCIO DO CONTRATO | E9: RELATÓRIO | F9: 0.0255 | G9: =F9*$G$22 -> 102963.52 | H9: 0.4511 | I9: =G9*(H9+1) -> 149410.36
A10: 2 | B10: RELATÓRIO DE ANDAMENTO E ACOMPANHAMENTO TÉCNICO DAS ATIVIDADES | C10: 18 | D10: MENSAL | E10: RELATÓRIO | F10: 0.368 | G10: =F10*$G$22 -> 1485904.9 | H10: 0.4511 | I10: =G10*(H10+1) -> 2156196.6
A11: 3 | B11: RELATÓRIO DE PLANEJAMENTO, MEDIÇÕES, CONTROLE FÍSICO-FINANCEIRO E GEOMÉTRICO | C11: 18 | D11: MENSAL | E11: RELATÓRIO | F11: 0.3373 | G11: =F11*$G$22 -> 1361944.9 | H11: 0.4511 | I11: =G11*(H11+1) -> 1976318.3
A12: 4 | B12: RELATÓRIO AMBIENTAL, GEOLÓGICO, ARQUEOLÓGICO/PALEONTOLÓGICO, SEGURANÇA DO TRABALHO E SAÚDE OCUPACIONAL | C12: 18 | D12: MENSAL | E12: RELATÓRIO | F12: 0.195 | G12: =F12*$G$22 -> 787368.09 | H12: 0.4511 | I12: =G12*(H12+1) -> 1142549.8
A13: 5 | B13: RELATÓRIO FINAL E AS BUILT | C13: 5 | D13: FIM DO CONTRATO | E13: RELATÓRIO | F13: 0.0332 | G13: =F13*$G$22 -> 134054.47 | H13: 0.4511 | I13: =G13*(H13+1) -> 194526.43
A14: 6 | B14: RELATÓRIO DO PLANO DE SEGURANÇA DE BARRAGENS | C14: 5 | D14: FIM DO CONTRATO | E14: RELATÓRIO | F14: 0.041 | G14: =F14*$G$22 -> 165549.19 | H14: 0.4511 | I14: =G14*(H14+1) -> 240228.43
A15: SUBTOTAL | C15: =SUM(C9:C14) -> 66 | F15: =SUM(F9:F14) -> 1 | G15: =SUM(G9:G14) -> 4037785.1 | I15: =SUM(I9:I14) -> 5859230
G22: =ORÇAMENTO!N60 -> 4037785.1

Sheet PRODUTOS PREÇOS
A4: SUPERVISÃO DAS OBRAS DA BARRAGEM BERÉ, NO MUNICÍPIO JARDIM - CE
A7: PRODUTOS / RELATÓRIOS
A8: SEGMENTOS DOS SERVIÇOS | C8: QUANTIDADE | D8: FREQUÊNCIA | E8: UNIDADE | F8: PERCENTUAL (%) | G8: VALORES (R$)
A9: 1 | B9: RELATÓRIO DE SITUAÇÃO E PLANO DE TRABALHO | C9: 2 | D9: INÍCIO DO CONTRATO | E9: RELATÓRIO | F9: 0.0255 | G9: =F9*ORÇAMENTO!$N$62 -> 149410.36
A10: 2 | B10: RELATÓRIO DE ANDAMENTO E ACOMPANHAMENTO TÉCNICO DAS ATIVIDADES | C10: 18 | D10: MENSAL | E10: RELATÓRIO | F10: 0.368 | G10: =F10*ORÇAMENTO!$N$62 -> 2156196.6
A11: 3 | B11: RELATÓRIO DE PLANEJAMENTO, MEDIÇÕES, CONTROLE FÍSICO-FINANCEIRO E GEOMÉTRICO | C11: 18 | D11: MENSAL | E11: RELATÓRIO | F11: 0.3373 | G11: =F11*ORÇAMENTO!$N$62 -> 1976318.3
A12: 4 | B12: RELATÓRIO AMBIENTAL, GEOLÓGICO, ARQUEOLÓGICO/PALEONTOLÓGICO, SEGURANÇA DO TRABALHO E SAÚDE OCUPACIONAL | C12: 18 | D12: MENSAL | E12: RELATÓRIO | F12: 0.195 | G12: =F12*ORÇAMENTO!$N$62 -> 1142549.8
A13: 5 | B13: RELATÓRIO FINAL E AS BUILT | C13: 5 | D13: FIM DO CONTRATO | E13: RELATÓRIO | F13: 0.0332 | G13: =F13*ORÇAMENTO!$N$62 -> 194526.43
A14: 6 | B14: PLANO DE SEGURANÇA DE BARRAGENS | C14: 5 | D14: FIM DO CONTRATO | E14: RELATÓRIO | F14: 0.041 | G14: =F14*ORÇAMENTO!$N$62 -> 240228.43
A15: SUBTOTAL | C15: =SUM(C9:C14) -> 66 | F15: =SUM(F9:F14) -> 1 | G15: =SUM(G9:G14) -> 5859230

Sheet CRONOGRAMA
A1: SUPERVISÃO DAS OBRAS DA BARRAGEM BERÉ, NO MUNICÍPIO JARDIM - CE
A3: CRONOGRAMA DE DESEMBOLSO FÍSICO-FINANCEIRO
A4: ITEM | B4: PRODUTO | C4: VALOR (R$) | D4: MESES
E5: Mês 1 | F5: Mês 2 | G5: Mês 3 | H5: Mês 4 | I5: Mês 5 | J5: Mês 6 | K5: Mês 7 | L5: Mês 8 | M5: Mês 9 | N5: Mês 10 | O5: Mês 11 | P5: Mês 12 | Q5: Mês 13 | R5: Mês 14 | S5: Mês 15 | T5: Mês 16 | U5: Mês 17 | V5: Mês 18
A6: 1 | B6: RELATÓRIO DE SITUAÇÃO E PLANO DE TRABALHO | C6: ='PRODUTOS PREÇOS'!G9 -> 149410.36 | D6: FÍSICO | E6: =1/2 -> 0.5 | F6: =1/2 -> 0.5
D7: FINANCEIRO | E7: =E6*$C$6 -> 74705.182 | F7: =F6*$C$6 -> 74705.182
A8: 2 | B8: RELATÓRIO DE ANDAMENTO E ACOMPANHAMENTO TÉCNICO DAS ATIVIDADES | C8: ='PRODUTOS PREÇOS'!G10 -> 2156196.6 | D8: FÍSICO | E8: =1/18 -> 0.055555556 | F8: =1/18 -> 0.055555556 | G8: =1/18 -> 0.055555556 | H8: =1/18 -> 0.055555556 | I8: =1/18 -> 0.055555556 | J8: =1/18 -> 0.055555556 | K8: =1/18 -> 0.055555556 | L8: =1/18 -> 0.055555556 | ... V8: =1/18 -> 0.055555556
D9: FINANCEIRO | E9: =E8*$C$8 -> 119788.7 | F9: =F8*$C$8 -> 119788.7 | G9: =G8*$C$8 -> 119788.7 | H9: =H8*$C$8 -> 119788.7 | I9: =I8*$C$8 -> 119788.7 | J9: =J8*$C$8 -> 119788.7 | K9: =K8*$C$8 -> 119788.7 | L9: =L8*$C$8 -> 119788.7 | ... V9: =V8*$C$8 -> 119788.7
A10: 3 | B10: RELATÓRIO DE PLANEJAMENTO, MEDIÇÕES, CONTROLE FÍSICO-FINANCEIRO E GEOMÉTRICO | C10: ='PRODUTOS PREÇOS'!G11 -> 1976318.3 | D10: FÍSICO | E10: =1/18 -> 0.055555556 | F10: =1/18 -> 0.055555556 | G10: =1/18 -> 0.055555556 | H10: =1/18 -> 0.055555556 | I10: =1/18 -> 0.055555556 | J10: =1/18 -> 0.055555556 | K10: =1/18 -> 0.055555556 | L10: =1/18 -> 0.055555556 | ... V10: =1/18 -> 0.055555556
D11: FINANCEIRO | E11: =E10*$C$10 -> 109795.46 | F11: =F10*$C$10 -> 109795.46 | G11: =G10*$C$10 -> 109795.46 | H11: =H10*$C$10 -> 109795.46 | I11: =I10*$C$10 -> 109795.46 | J11: =J10*$C$10 -> 109795.46 | K11: =K10*$C$10 -> 109795.46 | L11: =L10*$C$10 -> 109795.46 | ... V11: =V10*$C$10 -> 109795.46
A12: 4 | B12: RELATÓRIO AMBIENTAL, GEOLÓGICO, ARQUEOLÓGICO/PALEONTOLÓGICO, SEGURANÇA DO TRABALHO E SAÚDE OCUPACIONAL | C12: ='PRODUTOS PREÇOS'!G12 -> 1142549.8 | D12: FÍSICO | E12: =1/18 -> 0.055555556 | F12: =1/18 -> 0.055555556 | G12: =1/18 -> 0.055555556 | H12: =1/18 -> 0.055555556 | I12: =1/18 -> 0.055555556 | J12: =1/18 -> 0.055555556 | K12: =1/18 -> 0.055555556 | L12: =1/18 -> 0.055555556 | ... V12: =1/18 -> 0.055555556
D13: FINANCEIRO | E13: =$C$12*E12 -> 63474.991 | F13: =$C$12*F12 -> 63474.991 | G13: =$C$12*G12 -> 63474.991 | H13: =$C$12*H12 -> 63474.991 | I13: =$C$12*I12 -> 63474.991 | J13: =$C$12*J12 -> 63474.991 | K13: =$C$12*K12 -> 63474.991 | L13: =$C$12*L12 -> 63474.991 | ... V13: =$C$12*V12 -> 63474.991
A14: 5 | B14: RELATÓRIO FINAL E AS BUILT | C14: ='PRODUTOS PREÇOS'!G13 -> 194526.43 | D14: FÍSICO | R14: =1/5 -> 0.2 | S14: =1/5 -> 0.2 | T14: =1/5 -> 0.2 | U14: =1/5 -> 0.2 | V14: =1/5 -> 0.2
D15: FINANCEIRO | R15: =R14*$C$14 -> 38905.287 | S15: =S14*$C$14 -> 38905.287 | T15: =T14*$C$14 -> 38905.287 | U15: =U14*$C$14 -> 38905.287 | V15: =V14*$C$14 -> 38905.287
A16: 6 | B16: RELATÓRIO DO PLANO DE SEGURANÇA DE BARRAGENS | C16: ='PRODUTOS PREÇOS'!G14 -> 240228.43 | D16: FÍSICO | R16: =1/5 -> 0.2 | S16: =1/5 -> 0.2 | T16: =1/5 -> 0.2 | U16: =1/5 -> 0.2 | V16: =1/5 -> 0.2
D17: FINANCEIRO | R17: =R16*$C$16 -> 48045.686 | S17: =S16*$C$16 -> 48045.686 | T17: =T16*$C$16 -> 48045.686 | U17: =U16*$C$16 -> 48045.686 | V17: =V16*$C$16 -> 48045.686
A18: TOTAL MENSAL (R$) | E18: =SUM(E7,E9,E11,E13,E15) -> 367764.33 | F18: =SUM(F7,F9,F11,F13,F15) -> 367764.33 | G18: =SUM(G7,G9,G11,G13,G15) -> 293059.15 | H18: =SUM(H7,H9,H11,H13,H15) -> 293059.15 | I18: =SUM(I7,I9,I11,I13,I15) -> 293059.15 | J18: =SUM(J7,J9,J11,J13,J15) -> 293059.15 | K18: =SUM(K7,K9,K11,K13,K15) -> 293059.15 | L18: =SUM(L7,L9,L11,L13,L15) -> 293059.15 | M18: =SUM(M7,M9,M11,M13,M17,M15) -> 293059.15 | N18: =SUM(N7,N9,N11,N13,N17,N15) -> 293059.15 | O18: =SUM(O7,O9,O11,O13,O17,O15) -> 293059.15 | P18: =SUM(P7,P9,P11,P13,P17,P15) -> 293059.15 | Q18: =SUM(Q7,Q9,Q11,Q13,Q17,Q15) -> 293059.15 | R18: =SUM(R7,R9,R11,R13,R17,R15) -> 380010.12 | S18: =SUM(S7,S9,S11,S13,S17,S15) -> 380010.12 | T18: =SUM(T7,T9,T11,T13,T17,T15) -> 380010.12 | ... V18: =SUM(V7,V9,V11,V13,V17,V15) -> 380010.12
A19: TOTAL ACUMULADO (R$) | E19: =E18 -> 367764.33 | F19: =E19+F18 -> 735528.67 | G19: =F19+G18 -> 1028587.8 | H19: =G19+H18 -> 1321647 | I19: =H19+I18 -> 1614706.1 | J19: =I19+J18 -> 1907765.3 | K19: =J19+K18 -> 2200824.4 | L19: =K19+L18 -> 2493883.6 | M19: =L19+M18 -> 2786942.7 | ... V19: =U19+V18 -> 5859230

Sheet M DE OBRA
B1: Código | C1: Categoria | D1: Unid. | E1: Salário | F1: Encargos Sociais | H1: Encargos Complementares | R1: Encargos Adicionais | X1: Encargos Totais | Z1: Valor Total
H2: Alimentação | J2: EPI | L2: Ferramenta | N2: Transporte | P2: Exame Ocupacional | R2: Cesta Básica | T2: Assistência Médica | V2: Seguro de Vida
E3: R$ | F3: % | G3: R$ | H3: % | I3: R$ | J3: % | K3: R$ | L3: % | M3: R$ | N3: % | O3: R$ | P3: % | Q3: R$ | R3: % | S3: R$ | T3: % | U3: R$ | V3: % | W3: R$ | X3: % | Y3: R$ | Z3: R$
B5: P8001 | C5: Advogado júnior | D5: mês | E5: 5012.84 | F5: 76.83 | G5: 3851.37 | H5: 15.49 | I5: 776.57 | J5: 0.53 | K5: 26.62 | L5: 0 | M5: 0 | N5: 0 | O5: 0 | P5: 0.06 | Q5: 2.77 | R5: 0 | S5: 0 | T5: 6.15 | U5: 308.35 | V5: 0.2 | W5: 9.98 | X5: 99.2581 | Y5: 4975.65 | Z5: 9988.5
B6: P8002 | C6: Advogado pleno | D6: mês | E6: 6683.79 | F6: 76.83 | G6: 5135.16 | H6: 11.62 | I6: 776.57 | J6: 0.4 | K6: 26.62 | L6: 0 | M6: 0 | N6: 0 | O6: 0 | P6: 0.04 | Q6: 2.77 | R6: 0 | S6: 0 | T6: 4.61 | U6: 308.35 | V6: 0.15 | W6: 9.98 | X6: 93.6511 | Y6: 6259.44 | Z6: 12943.23
B7: P8003 | C7: Advogado sênior | D7: mês | E7: 11951.52 | F7: 76.83 | G7: 9182.35 | H7: 6.5 | I7: 776.57 | J7: 0.22 | K7: 26.62 | L7: 0 | M7: 0 | N7: 0 | O7: 0 | P7: 0.02 | Q7: 2.77 | R7: 0 | S7: 0 | T7: 2.58 | U7: 308.35 | V7: 0.08 | W7: 9.98 | X7: 86.2371 | Y7: 10306.64 | Z7: 22258.16
B8: P8007 | C8: Analista de desenvolvimento de sistemas júnior | D8: mês | E8: 4264.56 | F8: 76.87 | G8: 3278.17 | H8: 18.21 | I8: 776.57 | J8: 0 | K8: 0 | L8: 0 | M8: 0 | N8: 0 | O8: 0 | P8: 0.07 | Q8: 2.9 | R8: 0 | S8: 0 | T8: 7.23 | U8: 308.35 | V8: 0.23 | W8: 9.98 | X8: 102.6123 | Y8: 4375.96 | Z8: 8640.52
B9: P8008 | C9: Analista de desenvolvimento de sistemas pleno | D9: mês | E9: 5686.08 | F9: 76.87 | G9: 4370.89 | H9: 13.66 | I9: 776.57 | J9: 0 | K9: 0 | L9: 0 | M9: 0 | N9: 0 | O9: 0 | P9: 0.05 | Q9: 2.9 | R9: 0 | S9: 0 | T9: 5.42 | U9: 308.35 | V9: 0.18 | W9: 9.98 | X9: 96.1767 | Y9: 5468.68 | Z9: 11154.76
B10: P8009 | C10: Analista de desenvolvimento de sistemas sênior | D10: mês | E10: 10167.67 | F10: 76.87 | G10: 7815.89 | H10: 7.64 | I10: 776.57 | J10: 0 | K10: 0 | L10: 0 | M10: 0 | N10: 0 | O10: 0 | P10: 0.03 | Q10: 2.9 | R10: 0 | S10: 0 | T10: 3.03 | U10: 308.35 | V10: 0.1 | W10: 9.98 | X10: 87.6669 | Y10: 8913.68 | Z10: 19081.35
B11: P8013 | C11: Arquiteto júnior | D11: mês | E11: 12443.57 | F11: 76.8 | G11: 9556.66 | H11: 6.24 | I11: 776.57 | J11: 0.21 | K11: 26.62 | L11: 0 | M11: 0 | N11: 0 | O11: 0 | P11: 0.02 | Q11: 2.65 | R11: 0 | S11: 0 | T11: 2.48 | U11: 308.35 | V11: 0.08 | W11: 9.98 | X11: 85.8341 | Y11: 10680.83 | Z11: 23124.4
B12: P8014 | C12: Arquiteto pleno | D12: mês | E12: 14673 | F12: 76.8 | G12: 11268.86 | H12: 5.29 | I12: 776.57 | J12: 0.18 | K12: 26.62 | L12: 0 | M12: 0 | N12: 0 | O12: 0 | P12: 0.02 | Q12: 2.65 | R12: 0 | S12: 0 | T12: 2.1 | U12: 308.35 | V12: 0.07 | W12: 9.98 | X12: 84.4615 | Y12: 12393.03 | Z12: 27066.03
B13: P8015 | C13: Arquiteto sênior | D13: mês | E13: 16902.43 | F13: 76.8 | G13: 12981.06 | H13: 4.59 | I13: 776.57 | J13: 0.16 | K13: 26.62 | L13: 0 | M13: 0 | N13: 0 | O13: 0 | P13: 0.02 | Q13: 2.65 | R13: 0 | S13: 0 | T13: 1.82 | U13: 308.35 | V13: 0.06 | W13: 9.98 | X13: 83.4509 | Y13: 14105.23 | Z13: 31007.66
B14: P8019 | C14: Assistente social júnior | D14: mês | E14: 3336.06 | F14: 77.43 | G14: 2583.11 | H14: 23.28 | I14: 776.57 | J14: 0.8 | K14: 26.62 | L14: 0 | M14: 0 | N14: 1.46 | O14: 48.74 | P14: 0.12 | Q14: 4.03 | R14: 0 | S14: 0 | T14: 9.24 | U14: 308.35 | V14: 0.3 | W14: 9.98 | X14: 112.6298 | Y14: 3757.4 | Z14: 7093.46
B15: P8020 | C15: Assistente social pleno | D15: mês | E15: 4448.08 | F15: 77.43 | G15: 3444.15 | H15: 17.46 | I15: 776.57 | J15: 0.6 | K15: 26.62 | L15: 0 | M15: 0 | N15: 0 | O15: 0 | P15: 0.09 | Q15: 4.03 | R15: 0 | S15: 0 | T15: 6.93 | U15: 308.35 | V15: 0.22 | W15: 9.98 | X15: 102.7342 | Y15: 4569.7 | Z15: 9017.78
B16: P8021 | C16: Assistente social sênior | D16: mês | E16: 7572.66 | F16: 77.43 | G16: 5863.51 | H16: 10.25 | I16: 776.57 | J16: 0.35 | K16: 26.62 | L16: 0 | M16: 0 | N16: 0 | O16: 0 | P16: 0.05 | Q16: 4.03 | R16: 0 | S16: 0 | T16: 4.07 | U16: 308.35 | V16: 0.13 | W16: 9.98 | X16: 92.2934 | Y16: 6989.06 | Z16: 14561.72
... B104: P8264 | C104: Motorista de veículo leve - horista | D104: h | E104: 10.2 | F104: 110.54 | G104: 11.27 | H104: 41.73 | I104: 4.26 | J104: 1.74 | K104: 0.18 | L104: 0 | M104: 0 | N104: 6.14 | O104: 0.63 | P104: 0.18 | Q104: 0.02 | R104: 0 | S104: 0 | T104: 16.57 | U104: 1.69 | V104: 0.54 | W104: 0.05 | X104: 177.4424 | Y104: 18.09 | Z104: 28.29
B105: Fonte: FGV IBRE

Sheet CUSTOS GERAIS
A1: Tabela 1 - Custos de veículos
A2: Item | B2: Código | C2: Tipo | E2: Custo Produtivo (R$/h) | F2: Custo Improdutivo (R$/h)
A4: Veículos | B4: E8889 | C4: Veículo leve - 53 kW (sem motorista) | E4: 35.76 | F4: 6.55
B5: E8890 | C5: Veículo leve - 53 kW (com motorista) | E5: 64.05 | F5: 34.84
B6: E8891 | C6: Veículo leve picape 4 x 4 com capacidade de 1,10 t - 147 kW (sem motorista) | E6: 79.47 | F6: 23.99
B7: E8888 | C7: Veículo tipo van furgão com capacidade de 1,38 t - 100 kW (sem motorista) | E7: 56.96 | F7: 18.39
B8: E8887 | C8: Veículo tipo van furgão com capacidade de 1,38 t - 100 kW (com motorista) | E8: 85.25 | F8: 46.68
A10: Tabela 2 - Custos de imóveis, mobiliário, cestas de instalações e custos diversos
A11: Item | B11: Código | C11: Tipo | E11: Unidade | F11: Custo unitário (R$/un)
A12: Imóveis | B12: B8951 | C12: Comercial (2,55% do CMCC - SINAPI) | E12: m² x mês | F12: 51.03
B13: B8952 | C13: Residencial (2,45% do CMCC - SINAPI) | E13: m² x mês | F13: 49.02
A14: Mobiliário | B14: B8953 | C14: Escritório | E14: ocupante x mês | F14: 481.81
B15: B8954 | C15: Residência | E15: ocupante x mês | F15: 42.6
A16: Cesta das Instalações | B16: B8955 | C16: Laboratório de asfalto | E16: mês | F16: 5810.71
B17: B8956 | C17: Laboratório de concreto | E17: mês | F17: 4743.14
B18: B8957 | C18: Laboratório de solos | E18: mês | F18: 3681.8
B19: B8958 | C19: Topografia | E19: mês | F19: 5831.58
B20: B8961 | C20: Topografia por VANT | E20: mês | F20: 866.31
A21: Custos Diversos | B21: B8959 | C21: Escritório | E21: ocupante x mês | F21: 197.1
B22: B8960 | C22: Residência | E22: ocupante x mês | F22: 255.57

Sheet BDI CONSULTORIA
