Workbook

Sheet ORÇAMENTO GLOBAL
B3: PREFEITURA MUNICIPAL DE EQUADOR
B7: OBRA: Pavimentação - Rua Damiana Ernestina, Rua Neuza Marcelino de Oliveira, Rua Nicolau Bezerra da Trindade, Rua Edite Gomes, Rua Projetada 01 e Rua Projetada 02. MUNICÍPIO: Equador-RN | H7: DATA BASE: | J7: SINAPI RN FEV/26
H8: DATA BASE: | J8: ORSE JAN/26
H10: BDI: | J10: =BDI!O14 -> 0.196
B12: PLANILHA ORÇAMENTÁRIA - NÃO DESONERADA - GLOBAL
B14: ITEM | C14: REF. SINAPI | D14: DESCRIÇÃO DOS SERVIÇOS | E14: UNID. | F14: QUANT. | G14: VALOR UNIT. | H14: VALOR UNIT. + BDI | I14: VALOR TOTAL | J14: %
B15: 1.0 | D15: SERVIÇOS PRELIMINARES | I15: =ROUND(SUM(I16:I17),2) -> 6797.11
B16: 1.1 | C16: 00051/ORSE | D16: Placa de obra em chapa aço galvanizado, instalada | E16: m² | F16: ='MEMÓRIA DE CÁLCULO GLOBAL'!N19 -> 8 | G16: 363.61 | H16: =ROUND((1+$J$10)*G16,2) -> 434.88 | I16: =ROUND(H16*F16,2) -> 3479.04 | J16: =I16/J$27 -> 0.0069930452
B17: 1.2 | C17: 09164/ORSE | D17: Locação topográfica com nivelamento de seções transversais de serviços de terraplenagem, inclusive conferências | E17: m | F17: ='MEMÓRIA DE CÁLCULO GLOBAL'!N30 -> 597.85 | G17: 4.64 | H17: =ROUND((1+$J$10)*G17,2) -> 5.55 | I17: =ROUND(H17*F17,2) -> 3318.07 | J17: =I17/J$27 -> 0.0066694874
B18: 2.0 | D18: MOVIMENTO DE TERRA | I18: =ROUND(SUM(I19),2) -> 6422.5
B19: 2.1 | C19: 100577 | D19: Regularização e compactação de subleito de solo predominantemente arenoso. | E19: m² | F19: ='MEMÓRIA DE CÁLCULO GLOBAL'!N42 -> 3628.53 | G19: 1.48 | H19: =ROUND((1+$J$10)*G19,2) -> 1.77 | I19: =ROUND(H19*F19,2) -> 6422.5 | J19: =I19/J$27 -> 0.012909548
B20: 3.0 | D20: PAVIMENTAÇÃO | I20: =ROUND(SUM(I21:I23),2) -> 483566.66
B21: 3.1 | C21: 101169 | D21: Execução de pavimento em paralelepípedos, rejuntamento com argamassa traço 1:3 (cimento e areia). | E21: m² | F21: ='MEMÓRIA DE CÁLCULO GLOBAL'!N54 -> 3628.53 | G21: 99.48 | H21: =ROUND((1+$J$10)*G21,2) -> 118.98 | I21: =ROUND(H21*F21,2) -> 431722.5 | J21: =I21/J$27 -> 0.86778391
B22: 3.2 | C22: 94263 | D22: Guia (meio-fio) concreto, moldada in loco em trecho reto com extrusora, 13 cm base x 22 cm altura. | E22: m | F22: ='MEMÓRIA DE CÁLCULO GLOBAL'!N65 -> 1123.37 | G22: 37.39 | H22: =ROUND((1+$J$10)*G22,2) -> 44.72 | I22: =ROUND(H22*F22,2) -> 50237.11 | J22: =I22/J$27 -> 0.10097911
B23: 3.3 | C23: 94264 | D23: Guia (meio-fio) concreto, moldada in loco em trecho curvo com extrusora, 13 cm base x 22 cm altura. | E23: m | F23: ='MEMÓRIA DE CÁLCULO GLOBAL'!N75 -> 31.61 | G23: 42.51 | H23: =ROUND((1+$J$10)*G23,2) -> 50.84 | I23: =ROUND(H23*F23,4) -> 1607.0524 | J23: =I23/J$27 -> 0.003230256
B24: 4.0 | D24: PINTURA | I24: =ROUND(SUM(I25),4) -> 713.7348
B25: 4.1 | C25: 102498 | D25: Pintura de meio-fio com tinta branca a base de cal (caiação). | E25: m² | F25: ='MEMÓRIA DE CÁLCULO GLOBAL'!N87 -> 346.49 | G25: 1.7223 | H25: =ROUND((1+$J$10)*G25,4) -> 2.0599 | I25: =ROUND(H25*F25,4) -> 713.7348 | J25: =I25/J$27 -> 0.0014346428
H27: CUSTO TOTAL DA OBRA | J27: =ROUND(I15+I18+I20+I24,4) -> 497500 | N27: 497500

Sheet MEMÓRIA DE CÁLCULO GLOBAL
B4: PREFEITURA MUNICIPAL DE EQUADOR
B9: ='ORÇAMENTO GLOBAL'!B7 -> OBRA: Pavimentação - Rua Damiana Ernestina, Rua Neuza Marcelino de Oliveira, Rua Nicolau Bezerra da Trindade, Rua Edite Gomes, Rua Projetada 01 e Rua Projetada 02. MUNICÍPIO: Equador-RN
B13: MEMÓRIA DE CÁLCULO
B15: 1.0 | C15: ='ORÇAMENTO GLOBAL'!D15 -> SERVIÇOS PRELIMINARES
B16: 1.1 | C16: ='ORÇAMENTO GLOBAL'!D16 -> Placa de obra em chapa aço galvanizado, instalada
J17: Comp.(m) | L17: Larg. (m) | N17: Área(m²)
J18: 2 | K18: x | L18: 4 | M18: = | N18: =ROUND(J18*L18,2) -> 8
M19: Total= | N19: =ROUND(SUM(N18:N18),2) -> 8 | O19: m²
B21: 1.2 | C21: ='ORÇAMENTO GLOBAL'!D17 -> Locação topográfica com nivelamento de seções transversais de serviços de terraplenagem, inclusive conferências
H22: Comprimento Levantado em AUTO CAD | N22: Comp.(m)
D23: Rua Projetada 01 | J23: 2*20+15,05 | M23: = | N23: =ROUND(2*20+15.05,2) -> 55.05 | O23: +
D24: Rua Damiana Ernestina | J24: 6*20+9,67 | M24: = | N24: =ROUND(6*20+9.67,2) -> 129.67 | O24: +
D25: Rua Projetada 02 | J25: 2*20+4,41 | M25: = | N25: =ROUND(2*20+4.41,2) -> 44.41 | O25: +
D26: Rua Neuza Marcelino de Oliveira | J26: 9*20+14,97 | M26: = | N26: =ROUND(9*20+14.97,2) -> 194.97 | O26: +
D27: Rua Nicolau Bezerra da Trindade | J27: 4*20+4,00 | M27: = | N27: =ROUND(4*20+4,2) -> 84 | O27: +
D28: Rua Edite Gomes - Parte 01 | J28: 1*20+12,00 | M28: = | N28: =ROUND(1*20+12,2) -> 32 | O28: +
D29: Rua Edite Gomes - Parte 02 | J29: 2*20+17,75 | M29: = | N29: =ROUND(2*20+17.75,2) -> 57.75 | O29: +
M30: Total= | N30: =ROUND(SUM(N23:N29),2) -> 597.85 | O30: m
B32: 2.0 | C32: ='ORÇAMENTO GLOBAL'!D18 -> MOVIMENTO DE TERRA
B33: 2.1 | C33: ='ORÇAMENTO GLOBAL'!D19 -> Regularização e compactação de subleito de solo predominantemente arenoso.
I34: Área(m²) Levantada em AUTO CAD | N34: Área(m²)
D35: Rua Projetada 01 | J35: 338.75 | M35: = | N35: =J35 -> 338.75 | O35: +
D36: Rua Damiana Ernestina | J36: 779.18 | M36: = | N36: =J36 -> 779.18 | O36: +
D37: Rua Projetada 02 | J37: 286.52 | M37: = | N37: =J37 -> 286.52 | O37: +
D38: Rua Neuza Marcelino de Oliveira | J38: 1071.98 | M38: = | N38: =J38 -> 1071.98 | O38: +
D39: Rua Nicolau Bezerra da Trindade | J39: 566.49 | M39: = | N39: =J39 -> 566.49 | O39: +
D40: Rua Edite Gomes - Parte 01 | J40: 209.09 | M40: = | N40: =J40 -> 209.09 | O40: +
D41: Rua Edite Gomes - Parte 02 | J41: 376.52 | M41: = | N41: =J41 -> 376.52 | O41: +
M42: Total= | N42: =ROUND(SUM(N35:N41),2) -> 3628.53 | O42: m²
B44: 3.0 | C44: ='ORÇAMENTO GLOBAL'!D20 -> PAVIMENTAÇÃO
B45: 3.1 | C45: ='ORÇAMENTO GLOBAL'!D21 -> Execução de pavimento em paralelepípedos, rejuntamento com argamassa traço 1:3 (cimento e areia).
I46: Área(m²) Levantada em AUTO CAD | N46: Área(m²)
D47: Rua Projetada 01 | J47: =N35 -> 338.75 | M47: = | N47: =J47 -> 338.75 | O47: +
D48: Rua Damiana Ernestina | J48: 779.18 | M48: = | N48: =J48 -> 779.18 | O48: +
D49: Rua Projetada 02 | J49: 286.52 | M49: = | N49: =J49 -> 286.52 | O49: +
D50: Rua Neuza Marcelino de Oliveira | J50: 1071.98 | M50: = | N50: =J50 -> 1071.98 | O50: +
D51: Rua Nicolau Bezerra da Trindade | J51: 566.49 | M51: = | N51: =J51 -> 566.49 | O51: +
D52: Rua Edite Gomes - Parte 01 | J52: 209.09 | M52: = | N52: =J52 -> 209.09 | O52: +
D53: Rua Edite Gomes - Parte 02 | J53: =J41 -> 376.52 | M53: = | N53: =J53 -> 376.52 | O53: +
M54: Total= | N54: =ROUND(SUM(N47:N53),2) -> 3628.53 | O54: m²
...

Sheet BDI
B3: PREFEITURA MUNICIPAL DE EQUADOR
B8: ='ORÇAMENTO GLOBAL'!B7 -> OBRA: Pavimentação - Rua Damiana Ernestina, Rua Neuza Marcelino de Oliveira, Rua Nicolau Bezerra da Trindade, Rua Edite Gomes, Rua Projetada 01 e Rua Projetada 02. MUNICÍPIO: Equador-RN
B11: COMPOSIÇÃO DO BDI DE SERVIÇOS
B13: ITEM | D13: % PORCENTAGEM | G13: CÁLCULO DO BDI
B14: Administração Central (AC) | D14: 3.8 | G14: FÓRMULA UTILIZADA | N14: B.D.I.= | O14: =ROUND(((1+(D14+D15+D16)/100)*((1+D17/100)*(1+D18/100))/(1-D19/100))-1,4) -> 0.196
B15: Seguros (S) E Garantia (G) | D15: 0.32
B16: Riscos ( C ) | D16: 0.5 | Q16: ='ORÇAMENTO GLOBAL'!J27 -> 497500
B17: Despesas Financeiras (DF) | D17: 1.02
B18: Lucro (L) | D18: 6.77 | Q18: =400000 -> 400000
B19: Impostos (I) - PIS, CONFINS, ISSQN | D19: =D27 -> 5.65
G20: VALORES DE B.D.I. POR TIPO DE OBRA
G21: Tipo de Obra | M21: 1ºQ | N21: Médio | O21: 3º Q | Q21: =Q18-Q16 -> -97500.005
G22: Construção de Edifícios | M22: 20.34 | N22: 22.12 | O22: 25
B23: CÁLCULO DE IMPOSTO (I) | G23: Construção de Rodovias e Ferrovias - Infra Urbana, praças, etc. | M23: 19.6 | N23: 20.97 | O23: 24.23
B24: ISSQN | D24: 2 | G24: Rede de Abastecimento de Água, Coleta de Esgotos | M24: 20.76 | N24: 24.18 | O24: 26.44
B25: PIS | D25: 0.65 | G25: Estações e Redes de Distribuição de Energia Elétrica | M25: 24 | N25: 25.84 | O25: 27.86
B26: CONFINS | D26: 3 | G26: Obras Portuárias, Marítimas e Fluviais | M26: 22.8 | N26: 27.48 | O26: 30.95
B27: TOTAL | D27: =SUM(D24:E26) -> 5.65 | G27: Fornecimento de Materiais e Equipamentos | M27: 11.1 | N27: 14.02 | O27: 16.8
B29: Observações sobre os % informados no cálculo do BDI, neste caso:
B30: OBRA DE CONSTRUÇÃO DE EDIFÍCIOS
B31: OS VALORES % INFORMADO ENQUADRAM-SE NOS LIMITES DO ACÓRDÃO 2622/2013-TCU-PLENÁRIO
B32: OS VALORES % INFORMADO DE AC,DF E L ESTÃO NOS VALORES MÁXIMOS DOS LIMITES DO ACÓRDÃO 2622/2013-TCU-PLENÁRIO
B33: OS VALORES % INFORMADO DE S+G E R FORAM CONSIDERADOS ZERADOS OU SEJA, ABAIXO DO MÍNIMO DOS LIMITES DO ACÓRDÃO 2622/2013-TCU-PLENÁRIO

Sheet CRONOGRAMA 
B3: PREFEITURA MUNICIPAL DE EQUADOR
B8: ='ORÇAMENTO GLOBAL'!B7 -> OBRA: Pavimentação - Rua Damiana Ernestina, Rua Neuza Marcelino de Oliveira, Rua Nicolau Bezerra da Trindade, Rua Edite Gomes, Rua Projetada 01 e Rua Projetada 02. MUNICÍPIO: Equador-RN
B12: CRONOGRAMA FÍSICO-FINANCEIRO - global
B14: META | C14: DESCRIÇÃO DA META | D14: ETAPA | E14: DESCRIÇÃO DA ETAPA | F14: MÊS 1 | G14: MÊS 2 | H14: MÊS 3 | I14: MÊS 4 | J14: TOTAL
B15: 1 | C15: ='ORÇAMENTO GLOBAL'!D15 -> SERVIÇOS PRELIMINARES | D15: ='ORÇAMENTO GLOBAL'!B16 -> 1.1 | E15: ='ORÇAMENTO GLOBAL'!D16 -> Placa de obra em chapa aço galvanizado, instalada | F15: ='ORÇAMENTO GLOBAL'!I16 -> 3479.04 | J15: =ROUND(SUM(F15:H15),2) -> 3479.04
D16: ='ORÇAMENTO GLOBAL'!B17 -> 1.2 | E16: ='ORÇAMENTO GLOBAL'!D17 -> Locação topográfica com nivelamento de seções transversais de serviços de terraplenagem, inclusive conferências | F16: ='ORÇAMENTO GLOBAL'!I17 -> 3318.07 | J16: =ROUND(SUM(F16:H16),2) -> 3318.07
B17: 2 | C17: ='ORÇAMENTO GLOBAL'!D18 -> MOVIMENTO DE TERRA | D17: 2.1 | E17: ='ORÇAMENTO GLOBAL'!D25 -> Pintura de meio-fio com tinta branca a base de cal (caiação). | F17: ='ORÇAMENTO GLOBAL'!I19 -> 6422.5 | J17: =ROUND(SUM(F17:H17),2) -> 6422.5
B18: 3 | C18: ='ORÇAMENTO GLOBAL'!D20 -> PAVIMENTAÇÃO | D18: 3.1 | E18: ='ORÇAMENTO GLOBAL'!D21 -> Execução de pavimento em paralelepípedos, rejuntamento com argamassa traço 1:3 (cimento e areia). | F18: 92038 | G18: 100000 | H18: 100000 | I18: ='ORÇAMENTO GLOBAL'!I21-G18-F18-H18 -> 139684.5 | J18: =ROUND(SUM(F18:H18),2) -> 292038
D19: 3.2 | E19: ='ORÇAMENTO GLOBAL'!D22 -> Guia (meio-fio) concreto, moldada in loco em trecho reto com extrusora, 13 cm base x 22 cm altura. | I19: ='ORÇAMENTO GLOBAL'!I22 -> 50237.11 | J19: =ROUND(SUM(F19:I19),2) -> 50237.11
D20: 3.3 | E20: ='ORÇAMENTO GLOBAL'!D23 -> Guia (meio-fio) concreto, moldada in loco em trecho curvo com extrusora, 13 cm base x 22 cm altura. | I20: ='ORÇAMENTO GLOBAL'!I23 -> 1607.0524 | J20: =ROUND(SUM(F20:I20),2) -> 1607.05
B21: 4 | C21: ='ORÇAMENTO GLOBAL'!D24 -> PINTURA | D21: 4.1 | E21: ='ORÇAMENTO GLOBAL'!D25 -> Pintura de meio-fio com tinta branca a base de cal (caiação). | I21: ='ORÇAMENTO GLOBAL'!I25 -> 713.7348 | J21: =ROUND(SUM(F21:I21),2) -> 713.73
B22: TOTAL MÊS COM BDI | F22: =SUM(F15:F21) -> 105257.61 | G22: =SUM(G15:G21) -> 100000 | H22: =SUM(H15:H21) -> 100000 | I22: =SUM(I15:I21) -> 192242.4 | J22: 497500
B23: PERCENTUAL | F23: =F22/J22 -> 0.21157309 | G23: =G22/J22 -> 0.20100503 | H23: =H22/J22 -> 0.20100503 | I23: =I22/J22 -> 0.38641688
B24: PERCENTUAL ACUMULADO | F24: =F23 -> 0.21157309 | G24: =G23+F24 -> 0.41257811 | H24: =H23+G24 -> 0.61358314 | I24: =I23+H24 -> 1
B26: CUSTO TOTAL DA OBRA
B27: NOTAS
B28: 1.Utilizar os mesmos itens do memorial de cálculo dos quantitativos; 2. Anexar cópias das tabelas de referência SINAPI/SICRO utilizadas para a composição dos custos; 3.Anexar cópias das cotações de mercado utilizadas para composição do custo.
B32: Declaração de compatibilidade com os custos SINAPI/SICRO e/ou com as cotações de mercado:
B33: Eu, CAYO FARIAS PEREIRA, declaro sob as penas da Lei, que, de acordo com a 'Lei das Diretrizes Orçamentárias, os quantitativos da Planilha Orçamentária Global acima apresentada estão compatíveis com o projeto de engenharia proposto. Atesto ainda que os custos unitários utilizados para a composição do orçamento estão compatíveis com seus correspondentes nas tabelas de referência do SINAPI/SICRO indicada e/ou com as cotações de mercado apresentadas em anexo.
