Workbook

Sheet ELETROTÉCNICO SINDLIMP
A1: PLANILHA DE CUSTOS E FORMAÇÃO DE PREÇOS
A2: MODELO PARA A CONSOLIDAÇÃO E APRESENTAÇÃO DE PROPOSTAS
A3: Categoria profissional: ELETROTÉCNICO
A5: Discriminação dos Serviços
A6: A | B6: Município | H6: Mossoró
A7: B | B7: Ano do Acordo, Convenção ou Dissídio Coletivo | H7: SINDLIMP CCT RN000009/2025
A8: C | B8: Nº de meses de execução contratual | H8: 12
A10: Dados para composição dos custos referentes à mão-de-obra
A11: 1 | B11: Tipo de serviço (mesmo serviço com características distintas) | H11: Seviços de Eletrotécnico
A12: 2 | B12: Classificação Brasileira de Ocupações (CBO) | H12: 3131-05
A13: 3 | B13: Salário Nominativo da Categoria Profissional | H13: 4080.65
A14: 4 | B14: Categoria profissional (vinculada à execução contratual) | H14: Eletrotécnico - Carga horária de 44 horas semanais
A15: 5 | B15: Data base da categoria (dia/mês/ano) | H15: 45658
A17: MÓDULO 1 - COMPOSIÇÃO DA REMUNERAÇÃO
A18: 1 | B18: COMPOSIÇÃO DA REMUNERAÇÃO | H18: % | I18: VALOR (R$)
A19: A | B19: Salário Base | I19: 4080.65
A20: B | B20: Adicional Periculosidade (Art.193 CLT, Súmula 191 TST e Lei 12.740/2012) | H20: 0.3 | I20: =I19*H20 -> 1224.195
A21: C | B21: Adicional Insalubridade | I21: 0
A22: D | B22: Adicional Noturno | I22: 0
A23: E | B23: Adicional de Hora Noturna Reduzida | I23: 0
A24: F | B24: Adicional de Hora Extra no Feriado Trabalhado | I24: 0
A25: G | B25: Outros (especificar) | I25: 0
A26: TOTAL DO MÓDULO 1 | I26: =TRUNC(SUM(I19:I25),2) -> 5304.84
A28: MÓDULO 2 – ENCARGOS E BENEFÍCIOS ANUAIS, MENSAIS E DIÁRIOS
A29: Submódulo 2.1 - 13º Salário, Férias e Adicional de Férias | H29: % | I29: VALOR (R$)
A30: A | B30: 13 (Décimo-terceiro) salário -Cálculo: 1/12*100 ( Art.7º, VIII, CF/88, Anexo VII-D da IN nº 05/2017) | H30: 0.0833 | I30: =$I$26*H30 -> 441.89317
A31: B | B31: Férias e Adicional de Férias - Cálculo: 1/11x100+1/3x1/11 x100 (% Conta Vinculada- Anexo XII da IN nº 05/2017) | H31: 0.121 | I31: =H31*I26 -> 641.88564
A32: TOTAL SUBMÓDULO 2.1 | H32: =TRUNC(SUM(H30:H31),4) -> 0.2043 | I32: =TRUNC(SUM(I30:I31),2) -> 1083.77
A34: Submódulo 2.2 - GPS, FGTS e Outras Contribuições | H34: % | I34: VALOR (R$)
A35: A | B35: INSS (Art. 22, Inciso I da Lei 8.212/91) | H35: 0.2 | I35: =H35*($I$26+I32) -> 1277.722
A36: B | B36: Salário Educação (Art.3º, Inciso I, Decreto 87.043/82) | H36: 0.025 | I36: =H36*($I$26+I32) -> 159.71525
A37: C | B37: SAT (Seguro Acidente de Trabalho) (RATxFAP – Fundamentação: art. 22, inciso II, alíneas ‘b’ e ‘c’, da Lei nº 8.212/91. Conforme GFIP do mês anterior à data da proposta – Para estimativa, foi considerado o maior valor possível). A empresa deve comprovar a alíquota efetiva que utiliza | H37: 0.03 | I37: =H37*($I$26+I32) -> 191.6583
A38: D | B38: SESC ou SESI (Art.3º, da lei 8036/90) | H38: 0.015 | I38: =H38*($I$26+I32) -> 95.82915
A39: E | B39: SENAI - SENAC (Decreto 2.318/86) | H39: 0.01 | I39: =H39*($I$26+I32) -> 63.8861
A40: F | B40: SEBRAE (Art.8º, Lei 8029/90 e Lei 8154/90) | H40: 0.006 | I40: =H40*($I$26+I32) -> 38.33166
A41: G | B41: INCRA (Dec.Lei 1146/70) | H41: 0.002 | I41: =H41*($I$26+I32) -> 12.77722
A42: H | B42: FGTS (Art.15, da Lei 8036/90 e Art.7º III, CF) | H42: 0.08 | I42: =H42*($I$26+I32) -> 511.0888
A43: TOTAL SUBMÓDULO 2.2 | H43: =SUM(H35:H42) -> 0.368 | I43: =TRUNC(SUM(I35:I42),2) -> 2351
A45: Submódulo 2.3 - Benefícios Mensais e Diários | I45: VALOR (R$)
A46: A | B46: Transporte - Cálculo: Valor V.T. x nº de passagens por mês – (6% x S.B.) - (Cláusula 16ª da CCT RN000009/2025) | H46: - | I46: =IF(ROUND((H47*H48)-(I19*0.06),2)<0,0,ROUND((H47*H48)-(I19*0.06),2)) -> 0
...

Sheet ELETRICISTA SINDLIMP
A1: PLANILHA DE CUSTOS E FORMAÇÃO DE PREÇOS
A2: MODELO PARA A CONSOLIDAÇÃO E APRESENTAÇÃO DE PROPOSTAS
A3: Categoria profissional: ELETRICISTA
A5: Discriminação dos Serviços
A6: A | B6: Município | H6: Mossoró
A7: B | B7: Ano do Acordo, Convenção ou Dissídio Coletivo | H7: SINDLIMP CCT RN000009/2025
A8: C | B8: Nº de meses de execução contratual | H8: 12
A10: Dados para composição dos custos referentes à mão-de-obra
A11: 1 | B11: Tipo de serviço (mesmo serviço com características distintas) | H11: Seviços de Eletricista
A12: 2 | B12: Classificação Brasileira de Ocupações (CBO) | H12: 9511-05
A13: 3 | B13: Salário Nominativo da Categoria Profissional | H13: 2276.01
A14: 4 | B14: Categoria profissional (vinculada à execução contratual) | H14: Eletricista - Carga horária de 44 horas semanais
A15: 5 | B15: Data base da categoria (dia/mês/ano) | H15: 45658
A17: MÓDULO 1 - COMPOSIÇÃO DA REMUNERAÇÃO
A18: 1 | B18: COMPOSIÇÃO DA REMUNERAÇÃO | H18: % | I18: VALOR (R$)
A19: A | B19: Salário Base | I19: 2276.01
A20: B | B20: Adicional Periculosidade (Art.193 CLT, Súmula 191 TST e Lei 12.740/2012) | H20: 0.3 | I20: =I19*H20 -> 682.803
A21: C | B21: Adicional Insalubridade
A22: D | B22: Adicional Noturno
A23: E | B23: Adicional de Hora Noturna Reduzida
A24: F | B24: Adicional de Hora Extra no Feriado Trabalhado
A25: G | B25: Outros (especificar) | I25: 0
A26: TOTAL DO MÓDULO 1 | I26: =TRUNC(SUM(I19:I25),2) -> 2958.81
A28: MÓDULO 2 – ENCARGOS E BENEFÍCIOS ANUAIS, MENSAIS E DIÁRIOS
A29: Submódulo 2.1 - 13º Salário, Férias e Adicional de Férias | H29: % | I29: VALOR (R$)
A30: A | B30: 13 (Décimo-terceiro) salário -Cálculo: 1/12*100 ( Art.7º, VIII, CF/88, Anexo VII-D da IN nº 05/2017) | H30: 0.0833 | I30: =$I$26*H30 -> 246.46887
A31: B | B31: Férias e Adicional de Férias - Cálculo: 1/11x100+1/3x1/11 x100 (% Conta Vinculada- Anexo XII da IN nº 05/2017) | H31: 0.121 | I31: =H31*I26 -> 358.01601
A32: TOTAL SUBMÓDULO 2.1 | H32: =TRUNC(SUM(H30:H31),4) -> 0.2043 | I32: =TRUNC(SUM(I30:I31),2) -> 604.48
A34: Submódulo 2.2 - GPS, FGTS e Outras Contribuições | H34: % | I34: VALOR (R$)
A35: A | B35: INSS (Art. 22, Inciso I da Lei 8.212/91) | H35: 0.2 | I35: =H35*($I$26+I32) -> 712.658
A36: B | B36: Salário Educação (Art.3º, Inciso I, Decreto 87.043/82) | H36: 0.025 | I36: =H36*($I$26+I32) -> 89.08225
A37: C | B37: SAT (Seguro Acidente de Trabalho) (RATxFAP – Fundamentação: art. 22, inciso II, alíneas ‘b’ e ‘c’, da Lei nº 8.212/91. Conforme GFIP do mês anterior à data da proposta – Para estimativa, foi considerado o maior valor possível). A empresa deve comprovar a alíquota efetiva que utiliza | H37: 0.03 | I37: =H37*($I$26+I32) -> 106.8987
A38: D | B38: SESC ou SESI (Art.3º, da lei 8036/90) | H38: 0.015 | I38: =H38*($I$26+I32) -> 53.44935
A39: E | B39: SENAI - SENAC (Decreto 2.318/86) | H39: 0.01 | I39: =H39*($I$26+I32) -> 35.6329
A40: F | B40: SEBRAE (Art.8º, Lei 8029/90 e Lei 8154/90) | H40: 0.006 | I40: =H40*($I$26+I32) -> 21.37974
A41: G | B41: INCRA (Dec.Lei 1146/70) | H41: 0.002 | I41: =H41*($I$26+I32) -> 7.12658
A42: H | B42: FGTS (Art.15, da Lei 8036/90 e Art.7º III, CF) | H42: 0.08 | I42: =H42*($I$26+I32) -> 285.0632
A43: TOTAL SUBMÓDULO 2.2 | H43: =SUM(H35:H42) -> 0.368 | I43: =TRUNC(SUM(I35:I42),2) -> 1311.29
A45: Submódulo 2.3 - Benefícios Mensais e Diários | I45: VALOR (R$)
A46: A | B46: Transporte - Cálculo: Valor V.T. x nº de passagens por mês – (6% x S.B.) - (Cláusula 16ª da CCT RN000009/2025) | H46: - | I46: =IF(ROUND((H47*H48)-(I19*0.06),2)<0,0,ROUND((H47*H48)-(I19*0.06),2)) -> 35.04
...

Sheet AUXILIAR ELETRICISTA SINDLIMP
A1: PLANILHA DE CUSTOS E FORMAÇÃO DE PREÇOS
A2: MODELO PARA A CONSOLIDAÇÃO E APRESENTAÇÃO DE PROPOSTAS
A3: Categoria profissional: AUXILIAR DE ELETRICISTA
A5: Discriminação dos Serviços
A6: A | B6: Município | H6: Mossoró
A7: B | B7: Ano do Acordo, Convenção ou Dissídio Coletivo | H7: SINDLIMP CCT RN000009/2025
A8: C | B8: Nº de meses de execução contratual | H8: 12
A10: Dados para composição dos custos referentes à mão-de-obra
A11: 1 | B11: Tipo de serviço (mesmo serviço com características distintas) | H11: Auxiliar de Eletricista
A12: 2 | B12: Classificação Brasileira de Ocupações (CBO) | H12: 7156-15
A13: 3 | B13: Salário Nominativo da Categoria Profissional | H13: 1607.81
A14: 4 | B14: Categoria profissional (vinculada à execução contratual) | H14: Auxiliar de Eletricista -Carga horária de 44 horas semanais
A15: 5 | B15: Data base da categoria (dia/mês/ano) | H15: 45658
A17: MÓDULO 1 - COMPOSIÇÃO DA REMUNERAÇÃO
A18: 1 | B18: COMPOSIÇÃO DA REMUNERAÇÃO | H18: % | I18: VALOR (R$)
A19: A | B19: Salário Base | I19: 1607.81
A20: B | B20: Adicional Periculosidade (Art.193 CLT, Súmula 191 TST e Lei 12.740/2012) | H20: 0.3 | I20: =I19*H20 -> 482.343
A21: C | B21: Adicional Insalubridade
A22: D | B22: Adicional Noturno
A23: E | B23: Adicional de Hora Noturna Reduzida
A24: F | B24: Adicional de Hora Extra no Feriado Trabalhado
A25: G | B25: Outros (especificar) | I25: 0
A26: TOTAL DO MÓDULO 1 | I26: =TRUNC(SUM(I19:I25),2) -> 2090.15
A28: MÓDULO 2 – ENCARGOS E BENEFÍCIOS ANUAIS, MENSAIS E DIÁRIOS
A29: Submódulo 2.1 - 13º Salário, Férias e Adicional de Férias | H29: % | I29: VALOR (R$)
A30: A | B30: 13 (Décimo-terceiro) salário -Cálculo: 1/12*100 ( Art.7º, VIII, CF/88, Anexo VII-D da IN nº 05/2017) | H30: 0.0833 | I30: =$I$26*H30 -> 174.1095
A31: B | B31: Férias e Adicional de Férias - Cálculo: 1/11x100+1/3x1/11 x100 (% Conta Vinculada- Anexo XII da IN nº 05/2017) | H31: 0.121 | I31: =H31*I26 -> 252.90815
A32: TOTAL SUBMÓDULO 2.1 | H32: =TRUNC(SUM(H30:H31),4) -> 0.2043 | I32: =TRUNC(SUM(I30:I31),2) -> 427.01
A34: Submódulo 2.2 - GPS, FGTS e Outras Contribuições | H34: % | I34: VALOR (R$)
A35: A | B35: INSS (Art. 22, Inciso I da Lei 8.212/91) | H35: 0.2 | I35: =H35*($I$26+I32) -> 503.432
A36: B | B36: Salário Educação (Art.3º, Inciso I, Decreto 87.043/82) | H36: 0.025 | I36: =H36*($I$26+I32) -> 62.929
A37: C | B37: SAT (Seguro Acidente de Trabalho) (RATxFAP – Fundamentação: art. 22, inciso II, alíneas ‘b’ e ‘c’, da Lei nº 8.212/91. Conforme GFIP do mês anterior à data da proposta – Para estimativa, foi considerado o maior valor possível). A empresa deve comprovar a alíquota efetiva que utiliza | H37: 0.03 | I37: =H37*($I$26+I32) -> 75.5148
A38: D | B38: SESC ou SESI (Art.3º, da lei 8036/90) | H38: 0.015 | I38: =H38*($I$26+I32) -> 37.7574
A39: E | B39: SENAI - SENAC (Decreto 2.318/86) | H39: 0.01 | I39: =H39*($I$26+I32) -> 25.1716
A40: F | B40: SEBRAE (Art.8º, Lei 8029/90 e Lei 8154/90) | H40: 0.006 | I40: =H40*($I$26+I32) -> 15.10296
A41: G | B41: INCRA (Dec.Lei 1146/70) | H41: 0.002 | I41: =H41*($I$26+I32) -> 5.03432
A42: H | B42: FGTS (Art.15, da Lei 8036/90 e Art.7º III, CF) | H42: 0.08 | I42: =H42*($I$26+I32) -> 201.3728
A43: TOTAL SUBMÓDULO 2.2 | H43: =SUM(H35:H42) -> 0.368 | I43: =TRUNC(SUM(I35:I42),2) -> 926.31
A45: Submódulo 2.3 - Benefícios Mensais e Diários | I45: VALOR (R$)
A46: A | B46: Transporte - Cálculo: Valor V.T. x nº de passagens por mês – (6% x S.B.) - (Cláusula 16ª da CCT RN000009/2025) | H46: - | I46: =IF(ROUND((H47*H48)-(I19*0.06),2)<0,0,ROUND((H47*H48)-(I19*0.06),2)) -> 75.13
...

Sheet MOTORISTA CAT. B SINTRO
A1: PLANILHA DE CUSTOS E FORMAÇÃO DE PREÇOS
A2: MODELO PARA A CONSOLIDAÇÃO E APRESENTAÇÃO DE PROPOSTAS
A3: Categoria profissional: MOTORISTA DE VEÍCULO LEVE
A5: Discriminação dos Serviços
A6: A | B6: Município | H6: Mossoró
A7: B | B7: Ano do Acordo, Convenção ou Dissídio Coletivo | H7: SINTROCERN CCT RN000278/2023
A8: C | B8: Nº de meses de execução contratual | H8: 12
A10: Dados para composição dos custos referentes à mão-de-obra
A11: 1 | B11: Tipo de serviço (mesmo serviço com características distintas) | H11: Motorista
A12: 2 | B12: Classificação Brasileira de Ocupações (CBO) | H12: 7823-05
A13: 3 | B13: Salário Nominativo da Categoria Profissional | H13: 2181.42
A14: 4 | B14: Categoria profissional (vinculada à execução contratual) | H14: Motorista - Veículo Leve - Carga horária de 44 horas semanais
A15: 5 | B15: Data base da categoria (dia/mês/ano) | H15: 45047
A17: MÓDULO 1 - COMPOSIÇÃO DA REMUNERAÇÃO
A18: 1 | B18: COMPOSIÇÃO DA REMUNERAÇÃO | H18: % | I18: VALOR (R$)
A19: A | B19: Salário Base | I19: 2181.42
A20: B | B20: Adicional Periculosidade | I20: 0
A21: C | B21: Adicional Insalubridade
A22: D | B22: Adicional Noturno
A23: E | B23: Adicional de Hora Noturna Reduzida
A24: F | B24: Adicional de Hora Extra no Feriado Trabalhado
A25: G | B25: Outros (especificar) | I25: 0
A26: TOTAL DO MÓDULO 1 | I26: =TRUNC(SUM(I19:I25),2) -> 2181.42
A28: MÓDULO 2 – ENCARGOS E BENEFÍCIOS ANUAIS, MENSAIS E DIÁRIOS
A29: Submódulo 2.1 - 13º Salário, Férias e Adicional de Férias | H29: % | I29: VALOR (R$)
A30: A | B30: 13 (Décimo-terceiro) salário -Cálculo: 1/12*100 ( Art.7º, VIII, CF/88, Anexo VII-D da IN nº 05/2017) | H30: 0.0833 | I30: =$I$26*H30 -> 181.71229
A31: B | B31: Férias e Adicional de Férias - Cálculo: 1/11x100+1/3x1/11 x100 (% Conta Vinculada- Anexo XII da IN nº 05/2017) | H31: 0.121 | I31: =H31*I26 -> 263.95182
A32: TOTAL SUBMÓDULO 2.1 | H32: =TRUNC(SUM(H30:H31),4) -> 0.2043 | I32: =TRUNC(SUM(I30:I31),2) -> 445.66
A34: Submódulo 2.2 - GPS, FGTS e Outras Contribuições | H34: % | I34: VALOR (R$)
A35: A | B35: INSS (Art. 22, Inciso I da Lei 8.212/91) | H35: 0.2 | I35: =H35*($I$26+I32) -> 525.416
A36: B | B36: Salário Educação (Art.3º, Inciso I, Decreto 87.043/82) | H36: 0.025 | I36: =H36*($I$26+I32) -> 65.677
A37: C | B37: SAT (Seguro Acidente de Trabalho) (RATxFAP – Fundamentação: art. 22, inciso II, alíneas ‘b’ e ‘c’, da Lei nº 8.212/91. Conforme GFIP do mês anterior à data da proposta – Para estimativa, foi considerado o maior valor possível). A empresa deve comprovar a alíquota efetiva que utiliza. | H37: 0.03 | I37: =H37*($I$26+I32) -> 78.8124
A38: D | B38: SESC ou SESI (Art.3º, da lei 8036/90) | H38: 0.015 | I38: =H38*($I$26+I32) -> 39.4062
A39: E | B39: SENAI - SENAC (Decreto 2.318/86) | H39: 0.01 | I39: =H39*($I$26+I32) -> 26.2708
A40: F | B40: SEBRAE (Art.8º, Lei 8029/90 e Lei 8154/90) | H40: 0.006 | I40: =H40*($I$26+I32) -> 15.76248
A41: G | B41: INCRA (Dec.Lei 1146/70) | H41: 0.002 | I41: =H41*($I$26+I32) -> 5.25416
A42: H | B42: FGTS (Art.15, da Lei 8036/90 e Art.7º III, CF) | H42: 0.08 | I42: =H42*($I$26+I32) -> 210.1664
A43: TOTAL SUBMÓDULO 2.2 | H43: =SUM(H35:H42) -> 0.368 | I43: =TRUNC(SUM(I35:I42),2) -> 966.76
A45: Submódulo 2.3 - Benefícios Mensais e Diários | I45: VALOR (R$)
A46: A | B46: Transporte - Cálculo: Valor V.T. x nº de passagens por dia x nº de dias trabalhados – (6% x S.B.) (Decreto nº 10.854/2021) | H46: - | I46: =IF(ROUND((H47*H48*H49)-(I19*0.06),2)<0,0,ROUND((H47*H48*H49)-(I19*0.06),2)) -> 14.31
...

Sheet MOTORISTA CAMINHÃO SINTROCERN
A1: PLANILHA DE CUSTOS E FORMAÇÃO DE PREÇOS
A2: MODELO PARA A CONSOLIDAÇÃO E APRESENTAÇÃO DE PROPOSTAS
A3: Categoria profissional: MOTORISTA DE CAMINHÃO TOCO (MUNCK)
A5: Discriminação dos Serviços
A6: A | B6: Município | H6: Mossoró
A7: B | B7: Ano do Acordo, Convenção ou Dissídio Coletivo | H7: SINTROCERN CCT RN000354/2024
A8: C | B8: Nº de meses de execução contratual | H8: 12
A10: Dados para composição dos custos referentes à mão-de-obra
A11: 1 | B11: Tipo de serviço (mesmo serviço com características distintas) | H11: Motorista
A12: 2 | B12: Classificação Brasileira de Ocupações (CBO) | H12: 7825-15
A13: 3 | B13: Salário Nominativo da Categoria Profissional | H13: 2204
A14: 4 | B14: Categoria profissional (vinculada à execução contratual) | H14: Motorista de caminhão toco (munck)- Carga horária de 44 horas semanais
A15: 5 | B15: Data base da categoria (dia/mês/ano) | H15: 45413
A17: MÓDULO 1 - COMPOSIÇÃO DA REMUNERAÇÃO
A18: 1 | B18: COMPOSIÇÃO DA REMUNERAÇÃO | H18: % | I18: VALOR (R$)
A19: A | B19: Salário Base | I19: 2204
A20: B | B20: Adicional Periculosidade | H20: 0.3 | I20: =I19*30/100 -> 661.2
A21: C | B21: Adicional Insalubridade
A22: D | B22: Adicional Noturno
A23: E | B23: Adicional de Hora Noturna Reduzida
A24: F | B24: Adicional de Hora Extra no Feriado Trabalhado
A25: G | B25: Outros (especificar) | I25: 0
A26: TOTAL DO MÓDULO 1 | I26: =TRUNC(SUM(I19:I25),2) -> 2865.2
A28: MÓDULO 2 – ENCARGOS E BENEFÍCIOS ANUAIS, MENSAIS E DIÁRIOS
A29: Submódulo 2.1 - 13º Salário, Férias e Adicional de Férias | H29: % | I29: VALOR (R$)
A30: A | B30: 13 (Décimo-terceiro) salário -Cálculo: 1/12*100 ( Art.7º, VIII, CF/88, Anexo VII-D da IN nº 05/2017) | H30: 0.0833 | I30: =$I$26*H30 -> 238.67116
A31: B | B31: Férias e Adicional de Férias - Cálculo: 1/11x100+1/3x1/11 x100 (% Conta Vinculada- Anexo XII da IN nº 05/2017) | H31: 0.121 | I31: =H31*I26 -> 346.6892
A32: TOTAL SUBMÓDULO 2.1 | H32: =TRUNC(SUM(H30:H31),4) -> 0.2043 | I32: =TRUNC(SUM(I30:I31),2) -> 585.36
A34: Submódulo 2.2 - GPS, FGTS e Outras Contribuições | H34: % | I34: VALOR (R$)
A35: A | B35: INSS (Art. 22, Inciso I da Lei 8.212/91) | H35: 0.2 | I35: =H35*($I$26+I32) -> 690.112
A36: B | B36: Salário Educação (Art.3º, Inciso I, Decreto 87.043/82) | H36: 0.025 | I36: =H36*($I$26+I32) -> 86.264
A37: C | B37: SAT (Seguro Acidente de Trabalho) (RATxFAP – Fundamentação: art. 22, inciso II, alíneas ‘b’ e ‘c’, da Lei nº 8.212/91. Conforme GFIP do mês anterior à data da proposta – Para estimativa, foi considerado o maior valor possível). A empresa deve comprovar a alíquota efetiva que utiliza. | H37: 0.03 | I37: =H37*($I$26+I32) -> 103.5168
A38: D | B38: SESC ou SESI (Art.3º, da lei 8036/90) | H38: 0.015 | I38: =H38*($I$26+I32) -> 51.7584
A39: E | B39: SENAI - SENAC (Decreto 2.318/86) | H39: 0.01 | I39: =H39*($I$26+I32) -> 34.5056
A40: F | B40: SEBRAE (Art.8º, Lei 8029/90 e Lei 8154/90) | H40: 0.006 | I40: =H40*($I$26+I32) -> 20.70336
A41: G | B41: INCRA (Dec.Lei 1146/70) | H41: 0.002 | I41: =H41*($I$26+I32) -> 6.90112
A42: H | B42: FGTS (Art.15, da Lei 8036/90 e Art.7º III, CF) | H42: 0.08 | I42: =H42*($I$26+I32) -> 276.0448
A43: TOTAL SUBMÓDULO 2.2 | H43: =SUM(H35:H42) -> 0.368 | I43: =TRUNC(SUM(I35:I42),2) -> 1269.8
A45: Submódulo 2.3 - Benefícios Mensais e Diários | I45: VALOR (R$)
A46: A | B46: Transporte - Cálculo: Valor V.T. x nº de passagens por dia x nº de dias trabalhados – (6% x S.B.) (Decreto nº 10.854/2021) | H46: - | I46: =IF(ROUND((H47*H48*H49)-(I19*0.06),2)<0,0,ROUND((H47*H48*H49)-(I19*0.06),2)) -> 12.96
...

Sheet DEMONSTRATIVO FINAL
A1: DEMONSTRATIVO DO VALOR TOTAL DA PROPOSTA FORMAÇÃO DE PREÇO
A2: Planilha de Custo dos Postos
A4: Item | B4: Tipo do Posto(A) | C4: Base Salarial de acordo com a CCT e aditivos | D4: Valor por empregado(B) | E4: Quant De empregados por posto(C) | F4: Valor por posto (D)=(BxC) | G4: Quant De Postos(E) | H4: Valor total serviço(F)=(DxE) | I4: Quant. De Postos para 12 meses/(G) | J4: Valor Total Anual Serviço(H)=(GxD)
A5: 1 | B5: Eletrotécnico | C5: ='ELETROTÉCNICO SINDLIMP'!I19 -> 4080.65 | D5: ='ELETROTÉCNICO SINDLIMP'!I131 -> 12217.72 | E5: 1 | F5: =D5*E5 -> 12217.72 | G5: 3 | H5: =F5*G5 -> 36653.16 | I5: =12*G5 -> 36 | J5: =I5*F5 -> 439837.92
A6: 2 | B6: Eletricista | C6: ='ELETRICISTA SINDLIMP'!I19 -> 2276.01 | D6: ='ELETRICISTA SINDLIMP'!I131 -> 7096.74 | E6: 1 | F6: =D6*E6 -> 7096.74 | G6: 8 | H6: =F6*G6 -> 56773.92 | I6: =12*G6 -> 96 | J6: =I6*F6 -> 681287.04
A7: 3 | B7: Auxiliar de Eletricista | C7: ='AUXILIAR ELETRICISTA SINDLIMP'!I19 -> 1607.81 | D7: ='AUXILIAR ELETRICISTA SINDLIMP'!I130 -> 5170.03 | E7: 1 | F7: =D7*E7 -> 5170.03 | G7: 8 | H7: =F7*G7 -> 41360.24 | I7: =12*G7 -> 96 | J7: =I7*F7 -> 496322.88
A8: 4 | B8: Motorista de Veículo Leve | C8: ='MOTORISTA CAT. B SINTRO'!I19 -> 2181.42 | D8: ='MOTORISTA CAT. B SINTRO'!I132 -> 5842.85 | E8: 1 | F8: =D8*E8 -> 5842.85 | G8: 1 | H8: =F8*G8 -> 5842.85 | I8: =12*G8 -> 12 | J8: =I8*F8 -> 70114.2
A9: 5 | B9: Motorista de Caminhão Toco (Munck) | C9: ='MOTORISTA CAMINHÃO SINTROCERN'!I19 -> 2204 | D9: ='MOTORISTA CAMINHÃO SINTROCERN'!I130 -> 7555.84 | E9: 1 | F9: =D9*E9 -> 7555.84 | G9: 1 | H9: =F9*G9 -> 7555.84 | I9: =12*G9 -> 12 | J9: =I9*F9 -> 90670.08
A10: TOTAL DE POSTOS | G10: =SUM(G5:G9) -> 21 | I10: =SUM(I5:I9) -> 252
A11: VALOR TOTAL MENSAL | H11: =SUM(H5:H9) -> 148186.01 | I11: P/12 meses | J11: =12*H11 -> 1778232.1
A12: 5% PARA PROVISIONAMENTO DE DIÁRIAS E HORAS EXTRAS (POR DEMANDA) | H12: =H11*5% -> 7409.3005 | I12: P/12 meses | J12: =12*H12 -> 88911.606
A13: TOTAL GLOBAL MENSAL | H13: =H11+H12 -> 155595.31
A14: TOTAL ANUAL | H14: =12*H13 -> 1867143.7

Sheet DEMONSTRAT. TERMO DE REFERÊNCIA
A2: Planilha de Custo dos Postos
A4: Item | B4: Cargos | C4: Valor Unitário do Posto | D4: Quantidade mensal | E4: Valor Mensal | F4: Quantidade anual | G4: Valor Anual | H4: Valor por empregado(B) | I4: Quant De empregados por posto(C)
A5: 1 | B5: Eletrotécnico | C5: =H5*I5 -> 12217.72 | D5: 3 | E5: =C5*D5 -> 36653.16 | F5: =12*D5 -> 36 | G5: =C5*F5 -> 439837.92 | H5: ='ELETROTÉCNICO SINDLIMP'!I131 -> 12217.72 | I5: 1
A6: 2 | B6: Eletricista | C6: =H6*I6 -> 7096.74 | D6: 8 | E6: =C6*D6 -> 56773.92 | F6: =12*D6 -> 96 | G6: =C6*F6 -> 681287.04 | H6: ='ELETRICISTA SINDLIMP'!I131 -> 7096.74 | I6: 1
A7: 3 | B7: Auxiliar de Eletricista | C7: =H7*I7 -> 5170.03 | D7: 8 | E7: =C7*D7 -> 41360.24 | F7: =12*D7 -> 96 | G7: =C7*F7 -> 496322.88 | H7: ='AUXILIAR ELETRICISTA SINDLIMP'!I130 -> 5170.03 | I7: 1
A8: 4 | B8: Motorista de Veículo Leve | C8: =H8*I8 -> 5842.85 | D8: 1 | E8: =C8*D8 -> 5842.85 | F8: =12*D8 -> 12 | G8: =C8*F8 -> 70114.2 | H8: ='MOTORISTA CAT. B SINTRO'!I132 -> 5842.85 | I8: 1
A9: 5 | B9: Motorista de Caminhão Toco (Munck) | C9: =H9*I9 -> 7555.84 | D9: 1 | E9: =C9*D9 -> 7555.84 | F9: =12*D9 -> 12 | G9: =C9*F9 -> 90670.08 | H9: ='MOTORISTA CAMINHÃO SINTROCERN'!I130 -> 7555.84 | I9: 1
A10: TOTAL DE POSTOS | D10: =SUM(D5:D9) -> 21 | F10: =SUM(F5:F9) -> 252
A11: VALOR TOTAL MENSAL | E11: =SUM(E5:E9) -> 148186.01 | F11: P/12 meses | G11: =SUM(G5:G9) -> 1778232.1
A12: 5% PARA PROVISIONAMENTO DE DIÁRIAS E HORAS EXTRAS (POR DEMANDA) | E12: =5%*E11 -> 7409.3005 | F12: P/12 meses | G12: =12*E12 -> 88911.606
A13: TOTAL GLOBAL MENSAL | E13: =E11+E12 -> 155595.31
A14: TOTAL ANUAL | E14: =G11+G12 -> 1867143.7
