Workbook

Sheet Custo por trabalhador
B4: PLANILHA DE CUSTOS E FORMAÇÃO DE PREÇOS
B5: MODELO DE FORMAÇÃO DE CUSTO MENSAL PARA UM EMPREGADO
B7: MÓDULO 1 - REMUNERAÇÃO
B8: * A remuneração é definida no art. 457 da Consolidação das Leis do Trabalho. * É composta por Salário Base, Adicionais (noturno, de insalubridade ou periculosidade) e gratificações, quando houver.
B10: SALÁRIO BASE
B11: * O Salário Base vem definido na Convenção Coletiva de Trabalho da categoria profissional a ser contratada para o objeto da prestação de serviço. * O contratante deverá observar se a CCT abrange o município de prestação de serviço e se está vigente.
B13: SALÁRIO BASE
B14: Eletricista | C14: 1899.04
B15: Auxiliar | C15: 1282.27
B16: Motorista | C16: 1899.04
B17: Motorista de Caminhão Munck | C17: 1899.04
B18: Eletrotécnico | C18: 3404.77
B19: Coordenador | C19: 5000
B21: GRATIFICAÇÃO DE FUNÇÃO
B22: * Gratificação de função, quando houver, virá informada na Convenção Coletiva de Trabalho da categoria profissional a ser contratada. * O órgão contrantante deverá observar, além da existência de gratificação, se esta incidirá sobre os adicionais, devendo adaptar a planilha ao caso em concreto. * Para o presente modelo foi considerada gratificação como percentual sobre o salário base e sem incidência sobre os adicionais (noturno, periculosidade ou insalubridade).
B24: GRATIFICAÇÃO DE FUNÇÃO
B25: Categoria | C25: Base de cálculo | D25: Percentual
B26: Eletricista | C26: =C14 -> 1899.04 | D26: 0 | E26: =C26*D26 -> 0
B27: =B15 -> Auxiliar | C27: =C15 -> 1282.27 | D27: 0 | E27: =C27*D27 -> 0
B28: =B16 -> Motorista | C28: =C16 -> 1899.04 | D28: 0 | E28: =C28*D28 -> 0
B29: Motorista de Caminhão Munck | C29: =C17 -> 1899.04 | D29: 0 | E29: =C29*D29 -> 0
B30: =B18 -> Eletrotécnico | C30: =C18 -> 3404.77 | D30: 0 | E30: =C30*D30 -> 0
B31: =B19 -> Coordenador | C31: =C19 -> 5000 | D31: 0 | E31: =C31*D31 -> 0
B33: ADICIONAIS (periculosidade ou insalubridade, se houver)
B34: * Os adicionais de periculosidade ou insalubridade, em conformidade com os art. 192 e 193 da CLT, dependem da natureza do serviço a ser prestado. * O órgão contrantante deverá observar, além da existência de previsão em CLT, se há informações na Convenção Coletiva de Trabalho acerca dos adicionais, bem como seu percentual e a base de cálculo, devendo adaptar a planilha ao caso em concreto.
B36: ADICIONAL DE PERICULOSIDADE
B37: Categoria | C37: Base de cálculo | D37: Percentual | E37: Valor
B38: Eletricista (44h semanais) | C38: =C26 -> 1899.04 | D38: 0.3 | E38: =C38*D38 -> 569.712
B39: Auxiliar (44h semanais) | C39: =C27 -> 1282.27 | D39: =D38 -> 0.3 | E39: =C39*D39 -> 384.681
B40: Motorista (44h semanais) | C40: =C28 -> 1899.04 | D40: 0 | E40: =C40*D40 -> 0
B41: Motorista de Caminhão Munck (44h semanais) | C41: =C29 -> 1899.04 | D41: 0.3 | E41: =C41*D41 -> 569.712
B42: Eletrotécnico (44h semanais) | C42: =ROUND(C30,2) -> 3404.77 | D42: 0.3 | E42: =ROUND(C42*D42,2) -> 1021.43
B43: Coordenador (44h semanais) | C43: =C31 -> 5000 | D43: 0 | E43: =C43*D43 -> 0
B47: MÓDULO 1 - REMUNERAÇÃO
B48: Este quadro totaliza a remuneração devida ao trabalhador, conforme previsão da Consolidação das Leis do Trabalho e valores disponíveis na Convenção Coletiva para a categoria
B50: MÓDULO 1 - REMUNERAÇÃO
B51: Categoria | C51: Salário Base | D51: Gratificação de função | E51: Adicional de Periculosidade ou Insalubridade | F51: Adicional Noturno | G51: Adicional XXX | H51: Total
B52: Eletricista | C52: =C14 -> 1899.04 | D52: =E26 -> 0 | E52: =E38 -> 569.712 | F52: 0 | G52: 0 | H52: =SUM(C52:G52) -> 2468.752
B53: Auxiliar | C53: =C15 -> 1282.27 | D53: =E26 -> 0 | E53: =E39 -> 384.681 | F53: 0 | G53: 0 | H53: =SUM(C53:G53) -> 1666.951
B54: Motorista | C54: =C16 -> 1899.04 | D54: =E26 -> 0 | E54: =E40 -> 0 | F54: 0 | G54: 0 | H54: =SUM(C54:G54) -> 1899.04
...

Sheet PC- ELETRICISTA
A2: PLANILHA DE CUSTOS E FORMAÇÃO DE PREÇOS
A3: ELETRICISTA
A4: Com ajustes após publicação da Lei n° 13.467, de 2017.
A6: Módulo 1 - Composição da Remuneração
A8: 1 | B8: Composição da Remuneração | C8: Valor (R$)
A9: A | B9: Salário-Base | C9: 1899.04
A10: B | B10: Adicional de Periculosidade | C10: =ROUND(C9*0.3,2) -> 569.71
A11: C | B11: Adicional de Insalubridade | C11: 0
A12: D | B12: Adicional Noturno | C12: 0
A13: E | B13: Adicional de Hora Noturna Reduzida | C13: 0
A15: G | B15: Outros (especificar) | C15: 0
A16: Total | C16: =C9+C10 -> 2468.75
A19: Módulo 2 - Encargos e Benefícios Anuais, Mensais e Diários
A21: Submódulo 2.1 - 13º (décimo terceiro) Salário, Férias e Adicional de Férias
A23: 2.1 | B23: 13º (décimo terceiro) Salário, Férias e Adicional de Férias | C23: Valor (R$)
A24: A | B24: 13º (décimo terceiro) Salário | C24: 205.73
A25: B | B25: Férias e Adicional de Férias | C25: =205.73+68.58 -> 274.31
A26: Total | C26: =C24+C25 -> 480.04
A29: Submódulo 2.2 - Encargos Previdenciários (GPS), Fundo de Garantia por Tempo de Serviço (FGTS) e outras contribuições.
A31: 2.2 | B31: GPS, FGTS e outras contribuições | C31: Percentual (%) | D31: Valor (R$)
A32: A | B32: INSS | C32: 0.2 | D32: =C32*$C$16 -> 493.75
A33: B | B33: Salário Educação | C33: 0.025 | D33: =C33*$C$16 -> 61.71875
A34: C | B34: SAT | C34: 0.06 | D34: =C34*$C$16 -> 148.125
A35: D | B35: SESC ou SESI | C35: 0.015 | D35: =C35*$C$16 -> 37.03125
A36: E | B36: SENAI - SENAC | C36: 0.01 | D36: =C36*$C$16 -> 24.6875
A37: F | B37: SEBRAE | C37: 0.006 | D37: =C37*$C$16 -> 14.8125
A38: G | B38: INCRA | C38: 0.002 | D38: =C38*$C$16 -> 4.9375
A39: H | B39: FGTS | C39: 0.08 | D39: =C39*$C$16 -> 197.5
A40: Total | C40: =SUM(C32:C39) -> 0.398 | D40: =SUM(D32:D39) -> 982.5625
A43: Submódulo 2.3 - Benefícios Mensais e Diários.
A45: 2.3 | B45: Benefícios Mensais e Diários | C45: Valor (R$)
A46: A | B46: Transporte | C46: =ROUND('Custo por trabalhador'!E165,2) -> 57.66
A47: B | B47: Auxílio-Refeição/Alimentação | C47: ='Custo por trabalhador'!E194 -> 0
A48: C | B48: Benefício Auxílio Saúde | C48: =ROUND('Custo por trabalhador'!E205,2) -> 110.16
A49: D | B49: Outros (especificar)
A50: Total | C50: =SUM(C46:C49) -> 167.82
A53: Quadro-Resumo do Módulo 2 - Encargos e Benefícios anuais, mensais e diários
A55: 2 | B55: Encargos e Benefícios Anuais, Mensais e Diários | C55: Valor (R$)
A56: 2.1 | B56: 13º (décimo terceiro) Salário, Férias e Adicional de Férias | C56: =ROUND('Custo por trabalhador'!C236,2) -> 480.04
A57: 2.2 | B57: GPS, FGTS e outras contribuições | C57: =ROUND('Custo por trabalhador'!D236,2) -> 1173.62
...

Sheet PC - Axiliar
A2: PLANILHA DE CUSTOS E FORMAÇÃO DE PREÇOS
A3: AUXILIAR DE ELETRICISTA
A4: Com ajustes após publicação da Lei n° 13.467, de 2017.
A6: Módulo 1 - Composição da Remuneração
A8: 1 | B8: Composição da Remuneração | C8: Valor (R$)
A9: A | B9: Salário-Base | C9: ='Custo por trabalhador'!C15 -> 1282.27
A10: B | B10: Adicional de Periculosidade | C10: =ROUND(C9*0.3,2) -> 384.68
A11: C | B11: Adicional de Insalubridade | C11: 0
A12: D | B12: Adicional Noturno | C12: 0
A13: E | B13: Adicional de Hora Noturna Reduzida | C13: 0
A15: G | B15: Outros (especificar) | C15: 0
A16: Total | C16: =C9+C10 -> 1666.95
A19: Módulo 2 - Encargos e Benefícios Anuais, Mensais e Diários
A21: Submódulo 2.1 - 13º (décimo terceiro) Salário, Férias e Adicional de Férias
A23: 2.1 | B23: 13º (décimo terceiro) Salário, Férias e Adicional de Férias | C23: Valor (R$)
A24: A | B24: 13º (décimo terceiro) Salário | C24: =ROUND('Custo por trabalhador'!E66,2) -> 138.91
A25: B | B25: Férias e Adicional de Férias | C25: =ROUND('Custo por trabalhador'!E75+'Custo por trabalhador'!F84,2) -> 185.22
A26: Total | C26: =C24+C25 -> 324.13
A29: Submódulo 2.2 - Encargos Previdenciários (GPS), Fundo de Garantia por Tempo de Serviço (FGTS) e outras contribuições.
A31: 2.2 | B31: GPS, FGTS e outras contribuições | C31: Percentual (%) | D31: Valor (R$)
A32: A | B32: INSS | C32: 0.2 | D32: =C32*($C$16+$C$26) -> 398.216
A33: B | B33: Salário Educação | C33: 0.025 | D33: =C33*($C$16+$C$26) -> 49.777
A34: C | B34: SAT | C34: 0.06 | D34: =C34*($C$16+$C$26) -> 119.4648
A35: D | B35: SESC ou SESI | C35: 0.015 | D35: =C35*($C$16+$C$26) -> 29.8662
A36: E | B36: SENAI - SENAC | C36: 0.01 | D36: =C36*($C$16+$C$26) -> 19.9108
A37: F | B37: SEBRAE | C37: 0.006 | D37: =C37*($C$16+$C$26) -> 11.94648
A38: G | B38: INCRA | C38: 0.002 | D38: =C38*($C$16+$C$26) -> 3.98216
A39: H | B39: FGTS | C39: 0.08 | D39: =C39*($C$16+$C$26) -> 159.2864
A40: Total | C40: =SUM(C32:C39) -> 0.398 | D40: =SUM(D32:D39) -> 792.44984
A43: Submódulo 2.3 - Benefícios Mensais e Diários.
A45: 2.3 | B45: Benefícios Mensais e Diários | C45: Valor (R$)
A46: A | B46: Transporte | C46: =ROUND('Custo por trabalhador'!E166,2) -> 94.66
A47: B | B47: Auxílio-Refeição/Alimentação | C47: ='Custo por trabalhador'!E195 -> 0
A48: C | B48: Benefício Auxílio Saúde | C48: =ROUND('Custo por trabalhador'!E206,2) -> 110.16
A49: D | B49: Outros (especificar)
A50: Total | C50: =SUM(C46:C49) -> 204.82
A53: Quadro-Resumo do Módulo 2 - Encargos e Benefícios anuais, mensais e diários
A55: 2 | B55: Encargos e Benefícios Anuais, Mensais e Diários | C55: Valor (R$)
A56: 2.1 | B56: 13º (décimo terceiro) Salário, Férias e Adicional de Férias | C56: =ROUND(C26,2) -> 324.13
A57: 2.2 | B57: GPS, FGTS e outras contribuições | C57: =ROUND(D40,2) -> 792.45
...

Sheet PC - MOTORISTA
A2: PLANILHA DE CUSTOS E FORMAÇÃO DE PREÇOS
A3: MOTORISTA
A4: Com ajustes após publicação da Lei n° 13.467, de 2017.
B6: MOTORISTA
A7: Módulo 1 - Composição da Remuneração
A9: 1 | B9: Composição da Remuneração | C9: Valor (R$)
A10: A | B10: Salário-Base | C10: ='Custo por trabalhador'!C16 -> 1899.04
A11: B | B11: Adicional de Periculosidade | C11: 0
A12: C | B12: Adicional de Insalubridade | C12: 0
A13: D | B13: Adicional Noturno | C13: 0
A14: E | B14: Adicional de Hora Noturna Reduzida | C14: 0
A16: G | B16: Outros (especificar) | C16: 0
A17: Total | C17: =C10+C11 -> 1899.04
A20: Módulo 2 - Encargos e Benefícios Anuais, Mensais e Diários
A22: Submódulo 2.1 - 13º (décimo terceiro) Salário, Férias e Adicional de Férias
A24: 2.1 | B24: 13º (décimo terceiro) Salário, Férias e Adicional de Férias | C24: Valor (R$)
A25: A | B25: 13º (décimo terceiro) Salário | C25: =ROUND('Custo por trabalhador'!E67,2) -> 158.25
A26: B | B26: Férias e Adicional de Férias | C26: =ROUND('Custo por trabalhador'!E76+'Custo por trabalhador'!F85,2) -> 211
A27: Total | C27: =C25+C26 -> 369.25
A30: Submódulo 2.2 - Encargos Previdenciários (GPS), Fundo de Garantia por Tempo de Serviço (FGTS) e outras contribuições.
A32: 2.2 | B32: GPS, FGTS e outras contribuições | C32: Percentual (%) | D32: Valor (R$)
A33: A | B33: INSS | C33: 0.2 | D33: =C33*($C$17+$C$27) -> 453.658
A34: B | B34: Salário Educação | C34: 0.025 | D34: =C34*($C$17+$C$27) -> 56.70725
A35: C | B35: SAT | C35: 0.06 | D35: =C35*($C$17+$C$27) -> 136.0974
A36: D | B36: SESC ou SESI | C36: 0.015 | D36: =C36*($C$17+$C$27) -> 34.02435
A37: E | B37: SENAI - SENAC | C37: 0.01 | D37: =C37*($C$17+$C$27) -> 22.6829
A38: F | B38: SEBRAE | C38: 0.006 | D38: =C38*($C$17+$C$27) -> 13.60974
A39: G | B39: INCRA | C39: 0.002 | D39: =C39*($C$17+$C$27) -> 4.53658
A40: H | B40: FGTS | C40: 0.08 | D40: =C40*($C$17+$C$27) -> 181.4632
A41: Total | C41: =SUM(C33:C40) -> 0.398 | D41: =ROUND(SUM(D33:D40),2) -> 902.78
A44: Submódulo 2.3 - Benefícios Mensais e Diários.
A46: 2.3 | B46: Benefícios Mensais e Diários | C46: Valor (R$)
A47: A | B47: Transporte | C47: =ROUND('Custo por trabalhador'!E167,2) -> 57.66
A48: B | B48: Auxílio-Refeição/Alimentação | C48: ='Custo por trabalhador'!E196 -> 0
A49: C | B49: Benefício Auxílio Saúde | C49: =ROUND('Custo por trabalhador'!E207,2) -> 110.16
A50: D | B50: Outros (especificar)
A51: Total | C51: =ROUND(SUM(C47:C50),2) -> 167.82
A54: Quadro-Resumo do Módulo 2 - Encargos e Benefícios anuais, mensais e diários
A56: 2 | B56: Encargos e Benefícios Anuais, Mensais e Diários | C56: Valor (R$)
A57: 2.1 | B57: 13º (décimo terceiro) Salário, Férias e Adicional de Férias | C57: =ROUND(C27,2) -> 369.25
...

Sheet PC - MOTORISTA CM
A2: PLANILHA DE CUSTOS E FORMAÇÃO DE PREÇOS
A3: MOTORISTA CAMINHÃO MUNCK
A4: Com ajustes após publicação da Lei n° 13.467, de 2017.
B6: MOTORISTA CAMINHÃO MUNCK
A7: Módulo 1 - Composição da Remuneração
A9: 1 | B9: Composição da Remuneração | C9: Valor (R$)
A10: A | B10: Salário-Base | C10: ='Custo por trabalhador'!C17 -> 1899.04
A11: B | B11: Adicional de Periculosidade | C11: =C10*30% -> 569.712
A12: C | B12: Adicional de Insalubridade | C12: 0
A13: D | B13: Adicional Noturno | C13: 0
A14: E | B14: Adicional de Hora Noturna Reduzida | C14: 0
A16: G | B16: Outros (especificar) | C16: 0
A17: Total | C17: =C10+C11 -> 2468.752
A20: Módulo 2 - Encargos e Benefícios Anuais, Mensais e Diários
A22: Submódulo 2.1 - 13º (décimo terceiro) Salário, Férias e Adicional de Férias
A24: 2.1 | B24: 13º (décimo terceiro) Salário, Férias e Adicional de Férias | C24: Valor (R$)
A25: A | B25: 13º (décimo terceiro) Salário | C25: =ROUND('Custo por trabalhador'!E68,2) -> 205.73
A26: B | B26: Férias e Adicional de Férias | C26: =ROUND('Custo por trabalhador'!E77+'Custo por trabalhador'!F86,2) -> 274.31
A27: Total | C27: =C25+C26 -> 480.04
A30: Submódulo 2.2 - Encargos Previdenciários (GPS), Fundo de Garantia por Tempo de Serviço (FGTS) e outras contribuições.
A32: 2.2 | B32: GPS, FGTS e outras contribuições | C32: Percentual (%) | D32: Valor (R$)
A33: A | B33: INSS | C33: 0.2 | D33: =C33*($C$17+$C$27) -> 589.7584
A34: B | B34: Salário Educação | C34: 0.025 | D34: =C34*($C$17+$C$27) -> 73.7198
A35: C | B35: SAT | C35: 0.06 | D35: =C35*($C$17+$C$27) -> 176.92752
A36: D | B36: SESC ou SESI | C36: 0.015 | D36: =C36*($C$17+$C$27) -> 44.23188
A37: E | B37: SENAI - SENAC | C37: 0.01 | D37: =C37*($C$17+$C$27) -> 29.48792
A38: F | B38: SEBRAE | C38: 0.006 | D38: =C38*($C$17+$C$27) -> 17.692752
A39: G | B39: INCRA | C39: 0.002 | D39: =C39*($C$17+$C$27) -> 5.897584
A40: H | B40: FGTS | C40: 0.08 | D40: =C40*($C$17+$C$27) -> 235.90336
A41: Total | C41: =SUM(C33:C40) -> 0.398 | D41: =ROUND(SUM(D33:D40),2) -> 1173.62
A44: Submódulo 2.3 - Benefícios Mensais e Diários.
A46: 2.3 | B46: Benefícios Mensais e Diários | C46: Valor (R$)
A47: A | B47: Transporte | C47: =ROUND('Custo por trabalhador'!E168,2) -> 57.66
A48: B | B48: Auxílio-Refeição/Alimentação | C48: ='Custo por trabalhador'!E196 -> 0
A49: C | B49: Benefício Auxílio Saúde | C49: =ROUND('Custo por trabalhador'!E208,2) -> 110.16
A50: D | B50: Outros (especificar)
A51: Total | C51: =ROUND(SUM(C47:C50),2) -> 167.82
A54: Quadro-Resumo do Módulo 2 - Encargos e Benefícios anuais, mensais e diários
A56: 2 | B56: Encargos e Benefícios Anuais, Mensais e Diários | C56: Valor (R$)
A57: 2.1 | B57: 13º (décimo terceiro) Salário, Férias e Adicional de Férias | C57: =ROUND(C27,2) -> 480.04
...

Sheet PC - ELETROTÉCNICO
A2: PLANILHA DE CUSTOS E FORMAÇÃO DE PREÇOS
A3: ELETROTÉCNICO
A4: Com ajustes após publicação da Lei n° 13.467, de 2017.
B6: ELETROTÉCNICO
A7: Módulo 1 - Composição da Remuneração
A9: 1 | B9: Composição da Remuneração | C9: Valor (R$)
A10: A | B10: Salário-Base | C10: ='Custo por trabalhador'!C18 -> 3404.77
A11: B | B11: Adicional de Periculosidade | C11: =C10*0.3 -> 1021.431
A12: C | B12: Adicional de Insalubridade | C12: 0
A13: D | B13: Adicional Noturno | C13: 0
A14: E | B14: Adicional de Hora Noturna Reduzida | C14: 0
A16: G | B16: Outros (especificar) | C16: 0
A17: Total | C17: =ROUND(C10+C11,2) -> 4426.2
A20: Módulo 2 - Encargos e Benefícios Anuais, Mensais e Diários
A22: Submódulo 2.1 - 13º (décimo terceiro) Salário, Férias e Adicional de Férias
A24: 2.1 | B24: 13º (décimo terceiro) Salário, Férias e Adicional de Férias | C24: Valor (R$)
A25: A | B25: 13º (décimo terceiro) Salário | C25: =ROUND('Custo por trabalhador'!E69,2) -> 368.85
A26: B | B26: Férias e Adicional de Férias | C26: =ROUND('Custo por trabalhador'!E78+'Custo por trabalhador'!F87,2) -> 491.8
A27: Total | C27: =C25+C26 -> 860.65
A30: Submódulo 2.2 - Encargos Previdenciários (GPS), Fundo de Garantia por Tempo de Serviço (FGTS) e outras contribuições.
A32: 2.2 | B32: GPS, FGTS e outras contribuições | C32: Percentual (%) | D32: Valor (R$)
A33: A | B33: INSS | C33: 0.2 | D33: =C33*($C$17+$C$27) -> 1057.37
A34: B | B34: Salário Educação | C34: 0.025 | D34: =C34*($C$17+$C$27) -> 132.17125
A35: C | B35: SAT | C35: 0.06 | D35: =C35*($C$17+$C$27) -> 317.211
A36: D | B36: SESC ou SESI | C36: 0.015 | D36: =C36*($C$17+$C$27) -> 79.30275
A37: E | B37: SENAI - SENAC | C37: 0.01 | D37: =C37*($C$17+$C$27) -> 52.8685
A38: F | B38: SEBRAE | C38: 0.006 | D38: =C38*($C$17+$C$27) -> 31.7211
A39: G | B39: INCRA | C39: 0.002 | D39: =C39*($C$17+$C$27) -> 10.5737
A40: H | B40: FGTS | C40: 0.08 | D40: =C40*($C$17+$C$27) -> 422.948
A41: Total | C41: =SUM(C33:C40) -> 0.398 | D41: =ROUND(SUM(D33:D40),2) -> 2104.17
A44: Submódulo 2.3 - Benefícios Mensais e Diários.
A46: 2.3 | B46: Benefícios Mensais e Diários | C46: Valor (R$)
A47: A | B47: Transporte | C47: =ROUND('Custo por trabalhador'!E169,2) -> 0
A48: B | B48: Auxílio-Refeição/Alimentação | C48: ='Custo por trabalhador'!E198 -> 0
A49: C | B49: Benefício Auxílio Saúde | C49: =ROUND('Custo por trabalhador'!E209,2) -> 110.16
A50: D | B50: Outros (especificar)
A51: Total | C51: =ROUND(SUM(C47:C50),2) -> 110.16
A54: Quadro-Resumo do Módulo 2 - Encargos e Benefícios anuais, mensais e diários
A56: 2 | B56: Encargos e Benefícios Anuais, Mensais e Diários | C56: Valor (R$)
A57: 2.1 | B57: 13º (décimo terceiro) Salário, Férias e Adicional de Férias | C57: =ROUND(C27,2) -> 860.65
...

Sheet PC - COORDENADOR
A2: PLANILHA DE CUSTOS E FORMAÇÃO DE PREÇOS
A3: COORDENADOR
A4: Com ajustes após publicação da Lei n° 13.467, de 2017.
B6: COORDENADOR
A7: Módulo 1 - Composição da Remuneração
A9: 1 | B9: Composição da Remuneração | C9: Valor (R$)
A10: A | B10: Salário-Base | C10: 5000
A11: B | B11: Adicional de Periculosidade | C11: 0
A12: C | B12: Adicional de Insalubridade | C12: 0
A13: D | B13: Adicional Noturno | C13: 0
A14: E | B14: Adicional de Hora Noturna Reduzida | C14: 0
A16: G | B16: Outros (especificar) | C16: 0
A17: Total | C17: =ROUND(C10+C11,2) -> 5000
A20: Módulo 2 - Encargos e Benefícios Anuais, Mensais e Diários
A22: Submódulo 2.1 - 13º (décimo terceiro) Salário, Férias e Adicional de Férias
A24: 2.1 | B24: 13º (décimo terceiro) Salário, Férias e Adicional de Férias | C24: Valor (R$)
A25: A | B25: 13º (décimo terceiro) Salário | C25: =ROUND('Custo por trabalhador'!E70,2) -> 416.67
A26: B | B26: Férias e Adicional de Férias | C26: =ROUND('Custo por trabalhador'!E79+'Custo por trabalhador'!F88,2) -> 555.56
A27: Total | C27: =C25+C26 -> 972.23
A30: Submódulo 2.2 - Encargos Previdenciários (GPS), Fundo de Garantia por Tempo de Serviço (FGTS) e outras contribuições.
A32: 2.2 | B32: GPS, FGTS e outras contribuições | C32: Percentual (%) | D32: Valor (R$)
A33: A | B33: INSS | C33: 0.2 | D33: =C33*($C$17+$C$27) -> 1194.446
A34: B | B34: Salário Educação | C34: 0.025 | D34: =C34*($C$17+$C$27) -> 149.30575
A35: C | B35: SAT | C35: 0.06 | D35: =C35*($C$17+$C$27) -> 358.3338
A36: D | B36: SESC ou SESI | C36: 0.015 | D36: =C36*($C$17+$C$27) -> 89.58345
A37: E | B37: SENAI - SENAC | C37: 0.01 | D37: =C37*($C$17+$C$27) -> 59.7223
A38: F | B38: SEBRAE | C38: 0.006 | D38: =C38*($C$17+$C$27) -> 35.83338
A39: G | B39: INCRA | C39: 0.002 | D39: =C39*($C$17+$C$27) -> 11.94446
A40: H | B40: FGTS | C40: 0.08 | D40: =C40*($C$17+$C$27) -> 477.7784
A41: Total | C41: =SUM(C33:C40) -> 0.398 | D41: =ROUND(SUM(D33:D40),2) -> 2376.95
A44: Submódulo 2.3 - Benefícios Mensais e Diários.
A46: 2.3 | B46: Benefícios Mensais e Diários | C46: Valor (R$)
A47: A | B47: Transporte | C47: =ROUND('Custo por trabalhador'!E170,2) -> 0
A48: B | B48: Auxílio-Refeição/Alimentação | C48: ='Custo por trabalhador'!E199 -> 0
A49: C | B49: Benefício Auxílio Saúde | C49: =ROUND('Custo por trabalhador'!E210,2) -> 110.16
A50: D | B50: Outros (especificar)
A51: Total | C51: =ROUND(SUM(C47:C50),2) -> 110.16
A54: Quadro-Resumo do Módulo 2 - Encargos e Benefícios anuais, mensais e diários
A56: 2 | B56: Encargos e Benefícios Anuais, Mensais e Diários | C56: Valor (R$)
A57: 2.1 | B57: 13º (décimo terceiro) Salário, Férias e Adicional de Férias | C57: =ROUND(C27,2) -> 972.23
...
